{"text_format":"1","workbook":"xlsx","n_sheets":15,"sheets":["API and About","SEMrush","Majestic","Google Scraper","Url Stripper","Page Title Scraper and Language","Share Of Search Input","Share Of Search Analysis","To Dos & Bugs","ShareOfSearch_SERPS","ShareOfSearch_Calculations","ShareOfSearch_CTR","ShareOfSearch_Volume","Data validation","tests"],"not_rendered":{"charts":0,"images":14,"macros":1,"external_links":0,"defined_names":57,"comments":5,"pivot_tables":1},"unopened":[],"bounds":{"document_bytes":16777216,"sheet_cells":100000,"rows_first":2000,"rows_last":500,"rows_between":2000,"halvings":0,"cell_chars":16384,"cell_head_chars":4096},"cells_cut":0,"cells_raw":0,"read":"whole","date_system":"1900"}

{"sheet":"API and About","index":0,"n_rows":20,"n_cols":3,"rows_kept":20,"cut":false,"hidden":false,"merged":[]}
[null,null,"IMPORTANT: This is a free tool and in Beta. That means we hope its works really well for you, stuff might be broken or not work like it should. If you find a bug or want an addon, can you email us on datagrabber@90digital.com so we can fix ASAP. Thanks 90 Digital"]
[]
[null,"MajesticSEO Platinum key:"]
[null,"MajesticSEO Access Token"]
[null,"Use Majestic testing environment","No"]
[]
[null,"Use this url to get the access token:","http://www.majesticseo.com/apps/GA884FAK"]
[]
[null,"SemRush key:"]
[]
[]
[]
[null,"Idea by:","Nick Garner <nick.garner@90digital.com>"]
[null,null,"Gillis Van Den Broeke"]
[]
[null,"Implemented by:","Valera Shylin <valera.shylin@90digital.com>"]
[]
[null,"Send feedback to:","datagrabber@90digital.com"]
[]
[null,"Version",1]

{"sheet":"SEMrush","index":1,"n_rows":27,"n_cols":12,"rows_kept":27,"cut":false,"hidden":false,"merged":[[0,3,0,5]]}
[null,"Powered By:",null,"To make this tool work - get your copy of the SEMRUSH API. If you don’t have a paid for SEMRUSH account, just  follow the link and sign up for the $15 USD option. It's an affiliate link, so 100% of the revenue goes into developing datagrabber.",null,null,null,"http://www.semrush.com/sem.html?ref=14266693"]
["Items: Paste Domain list below:","Keyword Info. Paste Below:",null,"Credits",649110,null,null,"Sample reports below",null,null,"NOTES: ","Paste list in column 'A'"]
["tools.seobook.com","test"," ","Market: ","uk",null,null,"Keyword Info: Single Keyword",null,null,null,"Go to 'Ranks for domain', set max keywords as '10'"]
["http://155008.com","testing"," ","Date: ",null,null,null,null,null,null,null,"Gto to 'Ranks for Domain' set market for relevant country"]
["testing.com","tester"," ",null,null,null,null,null,null,null,null,"Copy the resulting data into the master template sheet"]
["tester.com","tested"," "]
["tested.com",null," ","Market: ","us"]
["www.google.com",null," ",null,null,null,null," "]
["http://tools.seobook.com/",null," "]
[null,null," "]
[null,null," ","All Country Databases: ","No"]
[null,null,null,"Market: ","us",null,null,"Domain Info: Current Ranking | All Databases"]
[null,null," ","History: ","No","Display limit: ",5,"Domain Info: Domain Ranking History "]
[null,null," ","Date: "]
[null,null," "]
[null,null," ","Market: ","us","Max Keywords: ",10]
[null,null," ","Date: ",null,"Display offset: ",null,"Organic URL report"]
[null,null," "]
[null,null," "]
[null,null," ","Market: ","uk","Max Keywords: ",10]
[null,null," ","Date: ",null,"Display offset: ",null,"Ranks for Domain"]
[null,null," ","Sort: ","traffic ascending","Display positions: ","current"]
[null,null," ","Filter"]
[null,null," "]
[null,null," ","Market: ","uk","Max Competitors",10]
[null,null,null,"Date: ",null,"Display offset: ",null,"Competitors in search"]
[null,null,null,"Sort: ","commom keywords"]

{"sheet":"Majestic","index":2,"n_rows":29,"n_cols":10,"rows_kept":29,"cut":false,"hidden":false,"merged":[[1,1,1,2]]}
[null,null,null,"API Usage: ",100000000]
["Items Paste List Below: ","Mouse over the cells with red triangles for more information",null,null,null,null,null,null,"Example Data","NOTES: "]
["www.majestic.com"," ","Database","Historic",null,null,null,null,"Item Info: Fresh"]
["https://www.majesticseo.com/plans-pricing "," "," ",null,null,null,null,null,"Item Info Historic"]
[null," "," "]
[null," "]
[null," "]
[null," ","Database","Fresh",null,null,null,null,"Link Profile: Fresh Datatype: Links"]
[null," ","Datatype","Domains",null,null,null,null,"Link Profile: Fresh Datatype: Domains"]
[null," "]
[null," "]
[null," "]
[null," ","Database","Fresh",null,null,null,null,"Backlink Hist: Fresh"]
[null," "," ",null," ",null,null,null,"Backlink Hist: Historic"]
[null," "]
[null," "]
[null," "]
[null," ","Database","Fresh","Filter Anchors?","Phrase",null,null,"Database Fresh | Nr of Anchors: 10 | Clean Anchors: Yes / Mode: Backlinks "]
[null," ","Nr of anchors",100,"Anchor to filter","Keyword"]
[null," ","Clean Anchors?","Yes"]
[null," ","Mode","Anchors","Domain to filter"]
[null," "]
[null," ","Database","Fresh","Include domain info?","Yes",null,null,"Top Backlinks: Database: Fresh | Include deleted? No | Include Domain Info? No "]
[null," ","Nr of Links",100,"MAX URLs per domain?",10,null,null,"Top Backlinks:  Database: Fresh | Include deleted? No | Include Domain Info? Yes"]
[null," ","include deleted?","No","MAX links per page?",10]
[null," "]
[null," "]
[null," ","Database","Fresh",null,null,null,null,"Top Pages: Database Fresh "]
[null,null,"URLs",100]

{"sheet":"Google Scraper","index":3,"n_rows":41,"n_cols":12,"rows_kept":41,"cut":false,"hidden":false,"merged":[]}
["Google Scraper"]
["Keywords (below) & Variables ->","Google (tld)","Location","Language","Search language","Number (column necessary, but its values are ignored)",null,null,"Min pause (sec)",16,"max pause (sec)",25]
["testing","co.uk","uk","en","en",10,null," ","No. of results",10]
["Chauffeur","ca","ca","fr","fr",10,null," ","Method","HTTP Request"]
["Chauffeur","ca","ca","en","en",10,null," "]
["Chauffeur","ca","uk","en","fr",10,null," ","Example data"]
[null,null,null,null,null,10,null," ","Example Sheet: Google Search Multiple Country Variables"]
[null,null,null,null,null,10]
[null,null,null,null,null,10]
[null,null,null,null,null,10]
[null,null,null,null,null,10]
[null,null,null,null,null,10]
[null,null,null,null,null,10]
[null,null,null,null,null,10]
[null,null,null,null,null,10]
[null,null,null,null,null,10]
[null,null,null,null,null,10]
[null,null,null,null,null,10]
[null,null,null,null,null,10]
[null,null,null,null,null,10]
[null,null,null,null,null,10]
[null,null,null,null,null,10]
[null,null,null,null,null,10]
[null,null,null,null,null,10]
[null,null,null,null,null,10]
[null,null,null,null,null,10]
[null,null,null,null,null,10]
[null,null,null,null,null,10]
[null,null,null,null,null,10]
[null,null,null,null,null,10]
[null,null,null,null,null,10]
[null,null,null,null,null,10]
[null,null,null,null,null,10]
[null,null,null,null,null,10]
[null,null,null,null,null,10]
[null,null,null,null,null,10]
[null,null,null,null,null,10]
[null,null,null,null,null,10]
[null,null,null,null,null,10]
[null,null,null,null,null,10]
[null,null,null,null,null,10]

{"sheet":"Url Stripper","index":4,"n_rows":13,"n_cols":4,"rows_kept":13,"cut":false,"hidden":false,"merged":[]}
["URL Stripper"]
["Paste URLs","Modified urls"]
["https://www.test.com","test.com",null,"NOTES: You can paste up to 10,000 lines in Column 'A' "]
["www.test.com","test.com",null,"Tip: Big lists, paste the column of data in 'A'"]
["test.com","test.com"]
["http://www.test.com/mypage.html","test.com"]
["https://www.test.com/mypage.html","test.com"]
["http://subdomain.test.com/mypage.html","subdomain.test.com"]
["https://subdomain.test.com/mypage.html","subdomain.test.com"]
["http://subdomain.test.co.uk/mypage.html","subdomain.test.co.uk"]
["https://subdomain.test.co.uk/mypage.html","subdomain.test.co.uk"]
["subdomain.test.co.uk/mypage.html","subdomain.test.co.uk"]
["subdomain.test.co.uk ","subdomain.test.co.uk"]

{"sheet":"Page Title Scraper and Language","index":5,"n_rows":8,"n_cols":12,"rows_kept":8,"cut":false,"hidden":false,"merged":[]}
["Page title scraper / Language categorisation "]
["Paste URL Below ",null,null,null,null,null,null,null,null,null,"To do's "]
["www.google.com",null," ",null,null,null,null,null,null,null,null,"Min and Max pause to follow in next release "]
["www.pravda.com.ua",null," ",null,"Language data example"]
[null,null," "]
[null,null," "]
[null,null," "]
[null,null,null,null,"Page title data example"]

{"sheet":"Share Of Search Input","index":6,"n_rows":20,"n_cols":11,"rows_kept":20,"cut":false,"hidden":false,"merged":[]}
["Keyword","TLD","Location","Lan1","lan2","num","Semrush mkt","Search volume",null,null,"Notes"]
["seo","co.uk","uk",null,null,20,"uk",2210999.9999999995,null,null,"Never cut (ctrl x). You will mess up formula references"]
["search engine optimization","co.uk","uk",null,null,20,"uk",447700,null,null,"* Copy and paste are fine"]
["seo services","co.uk","uk",null,null,20,"uk",225743,null,null,"* Make sure search volume in column H matches keywords in column A.  "]
["seo company","co.uk","uk",null,null,20,"uk",222219.99999999997,null,null,"* Press get search volume button to get SEMrush data. If semrush does not support the keyword, get it manually"]
["search optimization","co.uk","uk",null,null,20,"uk",216800,null,null,"* Supports up to 60 keywords 50 serps deep"]
["search engine optimization seo","co.uk","uk",null,null,20,"uk",177505,null,null,"* lan1. lan2 and geolocation are optional"]
["seo tools","co.uk","uk",null,null,20,"uk",126773,null,null,"* You can copy/paste SERPS in the serps tab. Then manually refresh pivot table."]
["search engine optimisation","co.uk","uk",null,null,20,"uk",101898,null,null,"    If you do this, make sure search volume in column H and keywords in column A are correct"]
["what is search engine optimization","co.uk","uk",null,null,20,"uk",98790,null,null,"* Verify in Volume and Calculation tabs that all the data is correct. "]
["seo companies","co.uk","uk",null,null,20,"uk",71412,null,null,"* If you have any problems open the orginal version of this tool and try again"]
["what is seo","co.uk","uk",null,null,20,"uk",59052]
["best seo company","co.uk","uk",null,null,20,"uk",59022]
["seo marketing","co.uk","uk",null,null,20,"uk",53055]
["best seo","co.uk","uk",null,null,20,"uk",49032]
["seo optimization","co.uk","uk",null,null,20,"uk",44946]
["seo search engine optimization","co.uk","uk",null,null,20,"uk",38232]
["seo check","co.uk","uk",null,null,20,"uk",30789]
["seo sem","co.uk","uk",null,null,20,"uk",28908]
["website optimization","co.uk","uk",null,null,20,"uk",27956]

{"sheet":"Share Of Search Analysis","index":7,"n_rows":75,"n_cols":4,"rows_kept":75,"cut":false,"hidden":false,"merged":[]}
[]
["RANK","(Multiple Items)"]
[]
["Row Labels","Ranking","Share of Search ","Traffic "]
["wikipedia.org",1,0.23992417941377819,444111.98099999997]
["searchengineland.com",1,8.8567629541259019E-2,163943.23199999999]
["google.co.uk",2,8.3414450567085019E-2,154404.43300000002]
["searchenginewatch.com",1,7.1486961488270329E-2,132326.03800000003]
["rebootonline.com",1,6.5180455256625303E-2,120652.37099999998]
["getmanic.co.uk",1,5.7146318959262588E-2,105780.772]
["google.com",3,4.3317549312529346E-2,80183.009000000005]
["webopedia.com",2,3.0341551785243E-2,56163.771000000008]
["screamingfrog.co.uk",4,2.767384246067682E-2,51225.704000000005]
["moz.com",3,2.6427698762352552E-2,48919.027999999998]
["seobook.com",1,2.5511440560398922E-2,47222.986999999994]
["forbes.com",1,2.2606514696564033E-2,41845.819999999992]
["seoconsultancyltd.com",3,2.0731937871610765E-2,38375.881999999991]
["hobo-web.co.uk",3,1.7157084624831346E-2,31758.645]
["uwpgroup.co.uk",4,1.6800145854407051E-2,31097.932999999997]
["jointplan.co.uk",2,1.5244241979086727E-2,28217.875]
["majesticseo.com",4,1.4791716450311155E-2,27380.227000000003]
["http://www.majesticseo.com/",4,1.1230391191142362E-2,20788.031000000003]
["http://www.majesticseo.com/webmaster-tools",9,2.0546107264435343E-3,3803.19]
["http://www.majesticseo.com/support/tools",10,1.5067145327252586E-3,2789.0059999999999]
["redevolution.com",3,1.4544353245042571E-2,26922.344999999998]
["smallseotools.com",2,8.5608780268480612E-3,15846.625]
["adjuice.co.uk",5,6.9875780919035216E-3,12934.366]
["seositecheckup.com",1,6.0545029606606749E-3,11207.196]
["10bestseo.com",3,5.5455673280423333E-3,10265.130000000001]
["oreilly.com",1,5.4974076705391487E-3,10175.984]
["microsoft.com",4,5.4104749129679748E-3,10015.067000000001]
["howstuffworks.com",7,5.3005065980421704E-3,9811.51]
["theguardian.com",4,5.2964834790079325E-3,9804.0630000000001]
["mainstreethost.com",6,5.0001113691404463E-3,9255.4629999999997]
["webconfs.com",6,4.9391568209152395E-3,9142.6329999999998]
["bruceclay.com",7,4.0898994607588869E-3,7570.6139999999996]
["seoservicepros.co.uk",9,3.6586180749808147E-3,6772.29]
["upstream.co.uk",9,3.6015207940987603E-3,6666.5999999999985]
["branded3.com",4,3.3677088064822313E-3,6233.8019999999997]
["websiteoptimization.com",2,3.3226090316445401E-3,6150.32]
["traffictravis.com",2,3.3110912529672257E-3,6129]
["submitexpress.com",7,2.6025069201618101E-3,4817.3739999999998]
["found.co.uk",5,2.4806361802914199E-3,4591.7849999999999]
["seotoolset.com",8,2.3970458475174572E-3,4437.0550000000003]
["www.inc.com",4,2.2643050689619706E-3,4191.3450000000003]
["powermapper.com",2,2.0791562364906166E-3,3848.625]
["outspokenmedia.com",5,1.9450254370844391E-3,3600.3420000000001]
["kdweb.co.uk",6,1.5817454055853674E-3,2927.8920000000003]
["woorank.com",3,1.5801587397328686E-3,2924.9549999999999]
["entrepreneur.com",7,1.5435519760858931E-3,2857.194]
["raisemyrank.com",3,1.4836217106173558E-3,2746.26]
["businessinsider.com",5,1.4811614871606724E-3,2741.7060000000001]
["whatisseo.com",6,1.3079766662553508E-3,2421.1320000000001]
["huffingtonpost.co.uk",6,1.3073121790239672E-3,2419.902]
["weidert.com",4,1.2337485804081168E-3,2283.732]
["vanillacircus.co.uk",9,1.1573746870136834E-3,2142.36]
["bestseocompanies.com",8,1.1159982016058258E-3,2065.77]
["wordtracker.com",6,1.0860379309732501E-3,2010.3120000000001]
["toptenreviews.com",7,1.0065717409020365E-3,1863.2159999999999]
["findthebest.com",9,9.5656988709070764E-4,1770.6599999999999]
["reliablesoft.net",5,9.5264130892272307E-4,1763.3879999999999]
["123ranking.co.uk",9,8.5986268441593807E-4,1591.6499999999999]
["webimax.co.uk",10,7.0148458386651898E-4,1298.4839999999999]
["pluginseo.com",6,6.8196324556892235E-4,1262.3490000000002]
["envoc.com",6,6.4029989616117455E-4,1185.2280000000001]
["seoworkers.com",7,6.3206349589314738E-4,1169.982]
["wikihow.com",6,6.1921350135193715E-4,1146.1960000000001]
["seoworks.com",10,5.8275206052223172E-4,1078.704]
["gtmetrix.com",7,5.7390519637496608E-4,1062.328]
["visualscope.com",8,5.4659747233271007E-4,1011.7800000000001]
["chkme.com",9,4.9899749675774794E-4,923.67]
["strategic-ranking.com",9,4.6851211914232288E-4,867.24]
["webpagetest.org",9,4.5308304976971001E-4,838.68]
["webseoanalytics.com",10,3.659314976223485E-4,677.35799999999995]
["Grand Total",1,1,1851051.37]

{"sheet":"To Dos & Bugs","index":8,"n_rows":0,"n_cols":0,"rows_kept":0,"cut":false,"hidden":false,"merged":[]}

{"sheet":"ShareOfSearch_SERPS","index":9,"n_rows":381,"n_cols":11,"rows_kept":381,"cut":false,"hidden":true,"merged":[]}
["INDEX","PAGEIND","KEYWORD","TLD","LOCATION","LANG","URL","HOSTNAME","LINK VALUE","DESCRIPTION","DOMAIN"]
[1,1,"seo","co.uk","uk","","http://en.wikipedia.org/wiki/Search_engine_optimization","en.wikipedia.org","Search engine optimization - Wikipedia, the free encyclopedia","Search engine optimization (SEO) is the process of affecting the visibility of a  website or a web page in a search engine's \"natural\" or un-paid (\"organic\")  search ...","wikipedia.org"]
[2,1,"seo","co.uk","uk","","http://en.wikipedia.org/wiki/SEO_(disambiguation)","en.wikipedia.org","SEO (disambiguation) - Wikipedia, the free encyclopedia","SEO refers to search engine  optimization: the process of improving  the ranking ...","wikipedia.org"]
[3,1,"seo","co.uk","uk","","http://www.majesticseo.com/","www.majesticseo.com","Majestic SEO : Backlink Checker & Site Explorer","Majestic SEO - Link intelligence tools for SEO and Internet PR and Marketing.  Site Explorer shows inbound link and site summary data.","majesticseo.com"]
[4,1,"seo","co.uk","uk","","http://searchengineland.com/guide/what-is-seo","searchengineland.com","What Is SEO / Search Engine Optimization? - Search Engine Land","Get started learning all about SEO from the industry's most trusted source, Search  Engine Land. Review basics of search engine optimization, ranking factors ...","searchengineland.com"]
[5,1,"seo","co.uk","uk","","http://www.screamingfrog.co.uk/seo-spider/","www.screamingfrog.co.uk","Screaming Frog SEO Spider Tool & Crawler Software | Screaming ...","The Screaming Frog SEO Spider is a small desktop program (PC or Mac) which  crawls websites' links, images, CSS, script and apps from an SEO perspective.","screamingfrog.co.uk"]
[6,1,"seo","co.uk","uk","","http://www.theguardian.com/technology/seo","www.theguardian.com","SEO | Technology | The Guardian","Latest news and comment on SEO from the Guardian.","theguardian.com"]
[7,1,"seo","co.uk","uk","","http://www.theguardian.com/small-business-network/2014/jan/16/what-is-seo-how-website-google-visibility","www.theguardian.com","What is SEO and how can it help my website's Google visibility ...","7 Jul 2014 ... Learning how to improve your site's SEO can significantly improve your business'  prominence in online search results.","theguardian.com"]
[8,1,"seo","co.uk","uk","","http://www.seo-london.com/","www.seo-london.com","Welcome To SEO London","SEO Careers Programmes Applications are STILL open! Please click here to  make an application for internships and graduate roles in banking, corporate law,  ...","seo-london.com"]
[9,1,"seo","co.uk","uk","","https://support.google.com/webmasters/answer/35291%3Fhl%3Den","support.google.com","Do you need an SEO? - Webmaster Tools Help - Google Help","SEO is an acronym for \"search engine optimization\" or \"search engine optimizer.\"  Deciding to hire an SEO is a big decision that can potentially improve your site ...","google.com"]
[10,2,"seo","co.uk","uk","","http://www.brightonseo.com/","www.brightonseo.com","BrightonSEO « a free search marketing conference in Brighton","As the owner of a small business I have spent the past year trying to navigate the  world of SEO myself with no experience or budget to invest in paying an ...","brightonseo.com"]
[11,2,"seo","co.uk","uk","","https://www.highposition.com/","www.highposition.com","SEO & Digital Marketing Services by High Position UK","High Position specialises in SEO, PPC, Content, Analytics and CRO - delivering  innovative digital marketing strategies for clients since 1997. Meet our team of ...","highposition.com"]
[12,2,"seo","co.uk","uk","","http://www.analyticsseo.com/","www.analyticsseo.com","SEO Software | Online SEO & Social Marketing Platform | SEO ...","FREE accounts available! Our SEO Software & Online Marketing tools will help  you measure any SEO and Social Marketing campaign. Track. Measure. Improve  ...","analyticsseo.com"]
[13,2,"seo","co.uk","uk","","http://www.attacat.co.uk/seo","www.attacat.co.uk","SEO (Search Engine Optimisation) | Attacat of Edinburgh","SEO & Search Engine Optimisation services including consultancy & training  from Edinburgh based Attacat.","attacat.co.uk"]
[14,2,"seo","co.uk","uk","","http://www.ihaveawebsite-nowwhat.co.uk/","www.ihaveawebsite-nowwhat.co.uk","Search Engine Optimisation (SEO) is a flair not a science.","Offers search engine optimization, free keyword checking, and SEO strategies for  unlisted UK websites.","ihaveawebsite-nowwhat.co.uk"]
[15,2,"seo","co.uk","uk","","http://skyrocketseo.com/","skyrocketseo.com","Skyrocket SEO - Content Creation & Content Promotion","We devise and produce world-class content to connect clients with authoritative  publishers, bloggers and webmasters on a daily basis.","skyrocketseo.com"]
[16,2,"seo","co.uk","uk","","http://www.redevolution.com/seo-explained/","www.redevolution.com","SEO Explained, Our Super Hero SEO Man Gives You The Low ...","Our SEO super hero SEO Man explains all about search engine optimisation in  simple language.","redevolution.com"]
[17,2,"seo","co.uk","uk","","http://www.latitudegroup.com/our-services/channel-by-channel/seo","www.latitudegroup.com","SEO Services from Latitude Digital Marketing","At Latitude we provide SEO products that are tailored specifically to your  business needs that include a technical, content and outreach approach.","latitudegroup.com"]
[18,2,"seo","co.uk","uk","","http://www.news24.com/MyNews24/SEO-explained-20-quick-current-factors-20140907","www.news24.com","SEO explained - 20 quick current factors | News24","8 Sep 2014 ... What is the most important SEO for any website owner but more particular for  small and medium businesses?","news24.com"]
[19,2,"seo","co.uk","uk","","http://www.linkdex.com/resources/r/seo-now-2014-ebook/","www.linkdex.com","SEO Now. 2014 | Linkdex","Welcome to SEO Now The ultimate barometer of where SEO is in 2014 if you're a  brand wanting to be found, develop relationships with customers, and of...","linkdex.com"]
[20,3,"seo","co.uk","uk","","http://www.goup.co.uk/","www.goup.co.uk","Go Up: SEO London | London SEO Agency | Web Design","Go Up is a digital agency providing the best web design, inbound marketing,  online PR and SEO London has to offer. We invite your company to Go Up online !","goup.co.uk"]
[1,1,"search engine optimization","co.uk","uk","","http://en.wikipedia.org/wiki/Search_engine_optimization","en.wikipedia.org","Search engine optimization - Wikipedia, the free encyclopedia","Search engine optimization (SEO) is the process of affecting the visibility of a  website or a web page in a search engine's \"natural\" or un-paid (\"organic\")  search ...","wikipedia.org"]
[2,1,"search engine optimization","co.uk","uk","","http://www.google.co.uk/webmasters/docs/search-engine-optimization-starter-guide.pdf","www.google.co.uk","Search Engine Optimization Starter Guide - Google","the topic of search engine optimization and wish to improve their ... Even though  this guide's title contains the words \"search engine\", we'd like to say that you ...","google.co.uk"]
[3,1,"search engine optimization","co.uk","uk","","http://searchengineland.com/guide/what-is-seo","searchengineland.com","What Is SEO / Search Engine Optimization? - Search Engine Land","Get started learning all about SEO from the industry's most trusted source, Search  Engine Land. Review basics of search engine optimization, ranking factors ...","searchengineland.com"]
[4,1,"search engine optimization","co.uk","uk","","https://support.google.com/webmasters/answer/35291%3Fhl%3Den","support.google.com","Do you need an SEO? - Webmaster Tools Help - Google Help","SEO is an acronym for \"search engine optimization\" or \"search engine optimizer.\"  Deciding to hire an SEO is a big decision that can potentially improve your site ...","google.com"]
[5,1,"search engine optimization","co.uk","uk","","http://searchenginewatch.com/article/2259693/SEO-Basics-8-Essentials-When-Optimizing-Your-Site","searchenginewatch.com","SEO Basics: 8 Essentials When Optimizing Your Site - SEW","31 Dec 2013 ... Basic search engine optimization (SEO) is fundamental. And essential. SEO will  help you position your website properly to be found at the most ...","searchenginewatch.com"]
[6,1,"search engine optimization","co.uk","uk","","http://www.majesticseo.com/","www.majesticseo.com","Majestic SEO : Backlink Checker & Site Explorer","Majestic SEO - Link intelligence tools for SEO and Internet PR and Marketing.  Site Explorer shows inbound link and site summary data.","majesticseo.com"]
[7,1,"search engine optimization","co.uk","uk","","http://www.webopedia.com/TERM/S/SEO.html","www.webopedia.com","What is Search Engine Optimization (SEO)? Webopedia","SEO is strategies, techniques and tactics to increase the number of visitors to a  website by obtaining a high-ranking placement in search results.","webopedia.com"]
[8,1,"search engine optimization","co.uk","uk","","http://www.hobo-web.co.uk/seo-tutorial/","www.hobo-web.co.uk","Google SEO Tutorial for Beginners | How To SEO A Website Step By ...","2 Apr 2013 ... Here are some free search engine optimisation tips for you to help you create a  successful site, based on over 10 years experience making ...","hobo-web.co.uk"]
[9,1,"search engine optimization","co.uk","uk","","http://www.screamingfrog.co.uk/search-engine-optimisation/","www.screamingfrog.co.uk","Search Engine Optimisation (SEO) Services Agency | Screaming Frog","Find out how Screaming Frog can help you leap to the top of the search engines  with our innovative & transparent search engine optimisation (SEO) services.","screamingfrog.co.uk"]
[10,2,"search engine optimization","co.uk","uk","","http://moz.com/beginners-guide-to-seo","moz.com","SEO: The Free Beginner's Guide From Moz","1 Mar 2013 ... New to SEO? Need to polish up your knowledge? The Beginner's Guide to SEO  has been read over 1 million times and provides the ...","moz.com"]
[11,2,"search engine optimization","co.uk","uk","","http://www.redevolution.com/what-is-seo/","www.redevolution.com","What is SEO? Here's A Simple Plain English Answer, SEO in a ...","Wondering what search engine optimisation is all about. Here's a simple  explanation of SEO. A straightforward answer to the question, what is SEO?","redevolution.com"]
[12,2,"search engine optimization","co.uk","uk","","http://computer.howstuffworks.com/search-engine-optimization.htm","computer.howstuffworks.com","HowStuffWorks \"How Search Engine Optimization (SEO) Works\"","Search engine optimization (SEO) is a collection of techniques used to increase  a Web site's ranking in search engine results pages. Learn about SEO.","howstuffworks.com"]
[13,2,"search engine optimization","co.uk","uk","","http://www.bruceclay.com/eu/seo/search-engine-optimization.htm","www.bruceclay.com","Bruce Clay EU - Search Engine Optimization Training and SEO ...","Free step-by-step SEO tutorial with tools and advice. Search Engine Optimization  services, classroom SEO training, SEO tools, site Assessments, free tips, ...","bruceclay.com"]
[14,2,"search engine optimization","co.uk","uk","","https://econsultancy.com/reports/seo-best-practice-guide","econsultancy.com","Search Engine Optimization (SEO) Best Practice Guide | Econsultancy","Built on the foundations of our previous, highly-renowned report, Econsultancy's  SEO Best Practice Guide contains everything you need to know about search ...","econsultancy.com"]
[15,2,"search engine optimization","co.uk","uk","","http://www.entrepreneur.com/seo/","www.entrepreneur.com","SEO | Search Engine Optimization - Entrepreneur","The latest SEO news, tips, and tools for growing your business online. Search  engine optimization strategies to get more traffic and sales from Entrepreneur.","entrepreneur.com"]
[16,2,"search engine optimization","co.uk","uk","","http://www.submitexpress.com/","www.submitexpress.com","Search Engine Marketing & Search Engine Optimization Services","... search engine optimization (SEO) marketing services & placement since 1998.  Ranked the #1 Search Engine Optimization (SEO) Firm by Website Magazine.","submitexpress.com"]
[17,2,"search engine optimization","co.uk","uk","","http://www.searchenginejournal.com/55-quick-seo-tips-even-your-mother-would-love/","www.searchenginejournal.com","55 Quick SEO Tips Even Your Mother Would Love - Search Engine ...","55 quick SEO tips to help your rank your site higher.","searchenginejournal.com"]
[18,2,"search engine optimization","co.uk","uk","","http://www.searchenginejournal.com/category/search-engine-optimization/","www.searchenginejournal.com","SEO Archives - Search Engine Journal","SEJ brings you updates and how-to's from search marketing's best known  experts on the world of SEO, paid search, social, analytics and tools.","searchenginejournal.com"]
[19,2,"search engine optimization","co.uk","uk","","http://www.seochat.com/","www.seochat.com","SEO Chat | Search Engine Optimization News and Talk","Welcome to Seochat, a community dedicated to helping beginners and  professionals alike in improving their Search Engine Optimization knowledge.  Join Now","seochat.com"]
[20,3,"search engine optimization","co.uk","uk","","http://www.seobook.com/","www.seobook.com","SEO Book.com ~ SEO Training Made Easy","\"Aaron Wall's SEO Book is the best guide I have found for getting serious web  visibility.\" - Professor J. Michael Steele, The Wharton School. And now you can ...","seobook.com"]
[1,1,"seo services","co.uk","uk","","http://www.getmanic.co.uk/","www.getmanic.co.uk","SEO Services | Social Media Marketing | Website Design UK","Get Manic SEO & social media marketing UK. We specialise in local and national  SEO services and website design to drive more traffic to your website.","getmanic.co.uk"]
[2,1,"seo services","co.uk","uk","","http://www.jointplan.co.uk/local-seo-expert","www.jointplan.co.uk","UK Local SEO Expert Services | Affordable SEO - Joint Plan","Affordable SEO from the SEO Company from Bradford supporting local and  national small businesses in SEO.","jointplan.co.uk"]
[3,1,"seo services","co.uk","uk","","http://en.wikipedia.org/wiki/Search_engine_optimization","en.wikipedia.org","Search engine optimization - Wikipedia, the free encyclopedia","Search engine optimization (SEO) is the process of affecting the visibility of a ....  Wired magazine reported that the same company sued blogger and SEO Aaron ...","wikipedia.org"]
[4,1,"seo services","co.uk","uk","","http://www.screamingfrog.co.uk/search-engine-optimisation/","www.screamingfrog.co.uk","Search Engine Optimisation (SEO) Services Agency | Screaming Frog","Find out how Screaming Frog can help you leap to the top of the search engines  with our innovative & transparent search engine optimisation (SEO) services.","screamingfrog.co.uk"]
[5,1,"seo services","co.uk","uk","","http://www.rebootonline.com/","www.rebootonline.com","SEO Services and Online Marketing From Reboot Online","We do not offer anything else but ethical and organic SEO services. Being a  small team means we have no need for “account managers” or other go  betweens ...","rebootonline.com"]
[6,1,"seo services","co.uk","uk","","http://www.mainstreethost.com/","www.mainstreethost.com","Mainstreethost: Affordable SEO & Search Engine Marketing ...","Mainstreethost specializes in search engine optimization (SEO), paid search  marketing, website design, ... See exactly what our services have done for you.","mainstreethost.com"]
[7,1,"seo services","co.uk","uk","","http://www.adjuice.co.uk/","www.adjuice.co.uk","Surrey SEO & PPC Specialist | AdJuice SEO Services","Our SEO services & PPC management expertise make website marketing easy  for companies in Surrey, Berkshire, Hampshire and the South East.","adjuice.co.uk"]
[8,1,"seo services","co.uk","uk","","http://www.uwpgroup.co.uk/service/seo-london/","www.uwpgroup.co.uk","UWP: London's No. 1 SEO company - UWP Group","Our great value SEO has never failed. We'll get your site to the top of Google. If  we don't, you don't pay. All kinds of clients – always the same outcome.","uwpgroup.co.uk"]
[9,1,"seo services","co.uk","uk","","http://www.seoservicepros.co.uk/","www.seoservicepros.co.uk","Professional SEO services | Internet marketing consultants","At SEO Service Pros, we believe every company is unique. This is why we don't  offer you off-the-shelf SEO packages. Instead, we deliver only the services you ...","seoservicepros.co.uk"]
[10,1,"seo services","co.uk","uk","","http://www.seoconsultancyltd.com/","www.seoconsultancyltd.com","SEO Consultancy Ltd a SEO Company That Gets Results","SEO Consultancy Ltd, an Internationally Recognized SEO Company.  Specializing in Local and National SEO services with Top SEO Consultants in UK  and ...","seoconsultancyltd.com"]
[11,2,"seo services","co.uk","uk","","http://www.123ranking.co.uk/","www.123ranking.co.uk","Cheap SEO Services - Low cost & highly rated SEO company in ...","123 Ranking Based in Leicester. We offer cheap SEO marketing services for  SME companies in the UK.","123ranking.co.uk"]
[12,2,"seo services","co.uk","uk","","http://www.seoconsultancyltd.com/choosing-right-seo-services/","www.seoconsultancyltd.com","SEO Services - A SEO Company That Delivers - SEO Consultancy Ltd","SEO Consultancy Ltd, one of the best SEO Services Company in UK and USA.  We deliver consistent rankings in some of the most difficult sectors, we can help!","seoconsultancyltd.com"]
[13,2,"seo services","co.uk","uk","","http://www.expertseobournemouth.co.uk/","www.expertseobournemouth.co.uk","SEO Bournemouth - SEO Services Bournemouth - Expert Company ...","Expert SEO Bournemouth. The leading SEO Company in Bournemouth. Cutting  edge SEO Services Bournemouth that produce results. Search Engine ...","expertseobournemouth.co.uk"]
[14,2,"seo services","co.uk","uk","","http://www.found.co.uk/","www.found.co.uk","Found: SEO Services and PPC Management Agency London","Found. London-based award-winning online performance marketing agency. We  only earn when our clients earn. PPC. SEO, Social, Mobile.","found.co.uk"]
[15,2,"seo services","co.uk","uk","","http://www.found.co.uk/services/natural-search-seo/","www.found.co.uk","SEO Services London / Search Engine Optimisation Agency | Found","Increase traffic to your website with Search Engine Optimisation from London  online marketing and SEO services agency Found.","found.co.uk"]
[16,2,"seo services","co.uk","uk","","http://searchenginewatch.com/article/2267471/How-Much-Should-You-Spend-on-SEO-Services","searchenginewatch.com","How Much Should You Spend on SEO Services? - SEW","27 Dec 2013 ... Contract services at fixed prices: Nearly all SEO agencies sell contract services.  Often, before a client is ready to engage a monthly retainer, ...","searchenginewatch.com"]
[17,2,"seo services","co.uk","uk","","http://www.creode.co.uk/services/seo-services","www.creode.co.uk","SEO Services Leeds | Creode Digital Marketing Agency","We provide high yielding SEO Services in Leeds & London through a wide range  of Digital Marketing channels. Search engine optimisation is here to stay!","creode.co.uk"]
[18,2,"seo services","co.uk","uk","","http://www.rankno1.co.uk/","www.rankno1.co.uk","SEO Company UK, Rank no1, SEO Drives Traffic, Leads and Sales","SEO company UK Rank No1, FREE Advice and FREE SEO Report From Leading  Experts, Search Engine Optimization Drives Traffic, Leads and Sales. ... Read ...","rankno1.co.uk"]
[19,2,"seo services","co.uk","uk","","http://www.hobo-web.co.uk/","www.hobo-web.co.uk","Hobo SEO Agency | PPC & SEO Services in Glasgow | Scotland | UK","I've been a reader of the blog for a fair while and check most days for new posts. I' ve also downloaded your seo and link building ebooks. I found you through ...","hobo-web.co.uk"]
[20,2,"seo services","co.uk","uk","","http://www.seoperspective.com/","www.seoperspective.com","SEO Services UK | London SEO Agency | London SEO Consultants","SEO Perspective : SEO services company UK offers exclusive website  optimization service by London SEO experts.Call 0203 199 4421 to get started  TODAY.","seoperspective.com"]
[1,1,"seo company","co.uk","uk","","http://www.rebootonline.com/","www.rebootonline.com","SEO Services and Online Marketing From Reboot Online","Here at REBOOT we do not claim to be the largest internet marketing or SEO  company. In fact, we are proud to be a small 5 person team consisting of Shai, ...","rebootonline.com"]
[2,1,"seo company","co.uk","uk","","http://maps.google.co.uk/maps?hl=&gl=uk&lr=&num=10&um=1&ie=UTF-8&fb=1&q=seo%2Bcompany&hq=seo%2Bcompany&hnear=0x48768014e63fc7d3:0xb682f981a1a3f622,Crowthorne,+Bracknell+Forest","maps.google.co.uk","Local business results for seo+company near Crowthorne, Bracknell Forest","Here at REBOOT we do not claim to be the largest internet marketing or SEO  company. In fact, we are proud to be a small 5 person team consisting of Shai, ...","google.co.uk"]
[3,1,"seo company","co.uk","uk","","http://www.getmanic.co.uk/","www.getmanic.co.uk","SEO Services | Social Media Marketing | Website Design UK","Get Manic SEO & social media marketing UK. We specialise in local and national  SEO services and website design to drive more traffic to your website.","getmanic.co.uk"]
[4,1,"seo company","co.uk","uk","","http://www.uwpgroup.co.uk/service/seo-london/","www.uwpgroup.co.uk","UWP: London's No. 1 SEO company - UWP Group","Our great value SEO has never failed. We'll get your site to the top of Google. If  we don't, you don't pay. All kinds of clients – always the same outcome.","uwpgroup.co.uk"]
[5,1,"seo company","co.uk","uk","","http://www.seoconsultancyltd.com/choosing-right-seo-services/","www.seoconsultancyltd.com","SEO Services - A SEO Company That Delivers - SEO Consultancy Ltd","SEO Consultancy Ltd, one of the best SEO Services Company in UK and USA.  We deliver consistent rankings in some of the most difficult sectors, we can help!","seoconsultancyltd.com"]
[6,1,"seo company","co.uk","uk","","http://www.seoconsultancyltd.com/","www.seoconsultancyltd.com","SEO Consultancy Ltd a SEO Company That Gets Results","SEO Consultancy Ltd, an Internationally Recognized SEO Company.  Specializing in Local and National SEO services with Top SEO Consultants in UK  and ...","seoconsultancyltd.com"]
[7,1,"seo company","co.uk","uk","","http://www.forbes.com/sites/joshsteimle/2013/09/23/4-tips-for-hiring-the-right-seo-firm/","www.forbes.com","4 Tips For Hiring The Right SEO Firm - Forbes","23 Sep 2013 ... You've got a problem. You've been tasked with hiring an search engine  optimization (SEO) firm to provide various online marketing services to ...","forbes.com"]
[8,1,"seo company","co.uk","uk","","http://en.wikipedia.org/wiki/Search_engine_optimization","en.wikipedia.org","Search engine optimization - Wikipedia, the free encyclopedia","Search engine optimization (SEO) is the process of affecting the visibility of a ....  Wired magazine reported that the same company sued blogger and SEO Aaron ...","wikipedia.org"]
[9,1,"seo company","co.uk","uk","","http://www.upstream.co.uk/","www.upstream.co.uk","Upstream Multilingual SEO Company in Brighton, UK| PPC & Social ...","Upstream is a UK-based SEO Company. We are passionate about Internet  Marketing and have achieved thousands of number one rankings for our clients.","upstream.co.uk"]
[10,1,"seo company","co.uk","uk","","http://www.hobo-web.co.uk/","www.hobo-web.co.uk","Hobo SEO Agency | PPC & SEO Services in Glasgow | Scotland | UK","I've been a reader of the blog for a fair while and check most days for new posts. I' ve also downloaded your seo and link building ebooks. I found you through ...","hobo-web.co.uk"]
[11,1,"seo company","co.uk","uk","","http://www.vanillacircus.co.uk/","www.vanillacircus.co.uk","Vanilla Circus SEO Company run by one of the UK's leading SEO ...","Best of Breed: VC is one of the most progressive SEO companies in the UK.  Through our technology and insight, we offer long term, high volume web traffic ...","vanillacircus.co.uk"]
[12,2,"seo company","co.uk","uk","","http://www.seoco.co.uk/","www.seoco.co.uk","The SEO Company – UK Search Engine Optimisation","The SEO Company, a Morecambe based social media & search engine  optimisation specialist. SMO & SEO services, news articles and resources.","seoco.co.uk"]
[13,2,"seo company","co.uk","uk","","http://www.adjuice.co.uk/","www.adjuice.co.uk","Surrey SEO & PPC Specialist | AdJuice SEO Services","Our SEO services & PPC management expertise make website marketing easy  for companies in Surrey, Berkshire, Hampshire and the South East.","adjuice.co.uk"]
[14,2,"seo company","co.uk","uk","","http://www.risedigital.com/","www.risedigital.com","Rise Digital: SEO Company London - Quality Search Engine ...","Hello and welcome to Rise. Our London based agency offers a full complement  of search marketing services, ensuring your website receives all the attention it ...","risedigital.com"]
[15,2,"seo company","co.uk","uk","","http://www.kdweb.co.uk/seo.htm","www.kdweb.co.uk","SEO Company - Web Designers","KD Web is one of the UK's top SEO and digital internet marketing agency  employing only the top SEO Developers and web designers trained in the latest  search ...","kdweb.co.uk"]
[16,2,"seo company","co.uk","uk","","http://www.branded3.com/blogs/top-25-most-visible-seo-agencies-in-the-uk-according-to-searchmetrics/","www.branded3.com","Top 25 Most Visible SEO Agencies in the UK According to ...","10 Jul 2013 ... Most people in the industry know not to judge an SEO company by their own  rankings but there are still a lot of clients out there that choose an ...","branded3.com"]
[17,2,"seo company","co.uk","uk","","http://www.rankno1.co.uk/","www.rankno1.co.uk","SEO Company UK, Rank no1, SEO Drives Traffic, Leads and Sales","SEO company UK Rank No1, FREE Advice and FREE SEO Report From Leading  Experts, Search Engine Optimization Drives Traffic, Leads and Sales. ... Read ...","rankno1.co.uk"]
[18,2,"seo company","co.uk","uk","","http://www.seosilly.co.uk/search-engine-optimisation/","www.seosilly.co.uk","#1 SEO Company in Birmingham/Sutton Coldfield - World Class ...","We are the Number #1 SEO Company in Birmingham, We let our results do the  talking. Based in The Royal Town of Sutton Coldfield, we are search specialists.","seosilly.co.uk"]
[19,2,"seo company","co.uk","uk","","http://www.varnmedia.co.uk/seo-bath/","www.varnmedia.co.uk","Search Engine Optimisation (SEO) Specialist Agency in Bath","With proven results we are an experienced SEO agency & certified Google ...  Varn Media is a local company and recognises how important it is to include ...","varnmedia.co.uk"]
[20,2,"seo company","co.uk","uk","","http://www.expertseobournemouth.co.uk/","www.expertseobournemouth.co.uk","SEO Bournemouth - SEO Services Bournemouth - Expert Company ...","Expert SEO Bournemouth. The leading SEO Company in Bournemouth. Cutting  edge SEO Services Bournemouth that produce results. Search Engine ...","expertseobournemouth.co.uk"]
[1,1,"search optimization","co.uk","uk","","http://en.wikipedia.org/wiki/Search_engine_optimization","en.wikipedia.org","Search engine optimization - Wikipedia, the free encyclopedia","Search engine optimization (SEO) is the process of affecting the visibility of a  website or a web page in a search engine's \"natural\" or un-paid (\"organic\")  search ...","wikipedia.org"]
[2,1,"search optimization","co.uk","uk","","http://www.google.co.uk/webmasters/docs/search-engine-optimization-starter-guide.pdf","www.google.co.uk","Search Engine Optimization Starter Guide - Google","the topic of search engine optimization and wish to improve their sites' interaction  with ... outlined below will make it easier for search engines to crawl, index.","google.co.uk"]
[3,1,"search optimization","co.uk","uk","","http://searchenginewatch.com/article/2259693/SEO-Basics-8-Essentials-When-Optimizing-Your-Site","searchenginewatch.com","SEO Basics: 8 Essentials When Optimizing Your Site - SEW","31 Dec 2013 ... Basic search engine optimization (SEO) is fundamental. And essential. SEO will  help you position your website properly to be found at the most ...","searchenginewatch.com"]
[4,1,"search optimization","co.uk","uk","","http://searchengineland.com/guide/what-is-seo","searchengineland.com","What Is SEO / Search Engine Optimization? - Search Engine Land","Get started learning all about SEO from the industry's most trusted source, Search  Engine Land. Review basics of search engine optimization, ranking factors ...","searchengineland.com"]
[5,1,"search optimization","co.uk","uk","","https://support.google.com/webmasters/answer/35291%3Fhl%3Den","support.google.com","Do you need an SEO? - Webmaster Tools Help - Google Help","SEO is an acronym for \"search engine optimization\" or \"search engine optimizer.\"  Deciding to hire an SEO is a big decision that can potentially improve your site ...","google.com"]
[6,1,"search optimization","co.uk","uk","","http://www.webopedia.com/TERM/S/SEO.html","www.webopedia.com","What is Search Engine Optimization (SEO)? Webopedia","SEO is strategies, techniques and tactics to increase the number of visitors to a  website by obtaining a high-ranking placement in search results.","webopedia.com"]
[7,1,"search optimization","co.uk","uk","","http://computer.howstuffworks.com/search-engine-optimization.htm","computer.howstuffworks.com","HowStuffWorks \"How Search Engine Optimization (SEO) Works\"","Search engine optimization (SEO) is a collection of techniques used to increase  a Web site's ranking in search engine results pages. Learn about SEO.","howstuffworks.com"]
[8,1,"search optimization","co.uk","uk","","http://moz.com/beginners-guide-to-seo","moz.com","SEO: The Free Beginner's Guide From Moz","1 Mar 2013 ... Search Engine Optimization isn't just about \"engines.\" It's about making your site  better for people too. At Moz we believe these principles go ...","moz.com"]
[9,1,"search optimization","co.uk","uk","","http://www.redevolution.com/what-is-seo/","www.redevolution.com","What is SEO? Here's A Simple Plain English Answer, SEO in a ...","Wondering what search engine optimisation is all about. Here's a simple  explanation of SEO. A straightforward answer to the question, what is SEO?","redevolution.com"]
[10,2,"search optimization","co.uk","uk","","http://www.screamingfrog.co.uk/search-engine-optimisation/","www.screamingfrog.co.uk","Search Engine Optimisation (SEO) Services Agency | Screaming Frog","Find out how Screaming Frog can help you leap to the top of the search engines  with our innovative & transparent search engine optimisation (SEO) services.","screamingfrog.co.uk"]
[11,2,"search optimization","co.uk","uk","","http://www.screamingfrog.co.uk/","www.screamingfrog.co.uk","Screaming Frog: SEO, Search Engine Optimisation & Marketing","Offers search engine optimisation and marketing services throughout the UK.  Situated in Henley-on-Thames, Oxfordshire.","screamingfrog.co.uk"]
[12,2,"search optimization","co.uk","uk","","http://www.hobo-web.co.uk/seo-tutorial/","www.hobo-web.co.uk","Google SEO Tutorial for Beginners | How To SEO A Website Step By ...","2 Apr 2013 ... Here are some free search engine optimisation tips for you to help you create a  successful site, based on over 10 years experience making ...","hobo-web.co.uk"]
[13,2,"search optimization","co.uk","uk","","http://www.businessinsider.com/10-basic-seo-tips-everyone-should-know-2010-1%3Fop%3D1","www.businessinsider.com","10 Basic SEO Tips To Get You Started - Business Insider","13 Jan 2010 ... Every business with a Web site should make Search Engine Optimization -- trying  to get your site as high up as possible on Google and Bing ...","businessinsider.com"]
[14,2,"search optimization","co.uk","uk","","http://www.huffingtonpost.com/loolwa-khazzoom/three-steps-to-optimizing_b_4153411.html","www.huffingtonpost.com","5 Steps to Optimizing Your Website for Search Engines | Loolwa ...","24 Oct 2013 ... There are many helpful books and websites dedicated to the philosophy, science , and art of Search Engine Optimization (SEO). While these ...","huffingtonpost.com"]
[15,2,"search optimization","co.uk","uk","","http://www.searchenginejournal.com/55-quick-seo-tips-even-your-mother-would-love/","www.searchenginejournal.com","55 Quick SEO Tips Even Your Mother Would Love - Search Engine ...","Here are 55 quick tips for search engine optimization that even your mother could  ... are a household name, your business name will probably get few searches.","searchenginejournal.com"]
[16,2,"search optimization","co.uk","uk","","http://www.entrepreneur.com/seo/","www.entrepreneur.com","SEO | Search Engine Optimization - Entrepreneur","The latest SEO news, tips, and tools for growing your business online. Search  engine optimization strategies to get more traffic and sales from Entrepreneur.","entrepreneur.com"]
[17,2,"search optimization","co.uk","uk","","http://www.bruceclay.com/eu/seo/search-engine-optimization.htm","www.bruceclay.com","Bruce Clay EU - Search Engine Optimization Training and SEO ...","Free step-by-step SEO tutorial with tools and advice. Search Engine Optimization  services, classroom SEO training, SEO tools, site Assessments, free tips, ...","bruceclay.com"]
[18,2,"search optimization","co.uk","uk","","http://www.youtube.com/watch%3Fv%3DhF515-0Tduk","www.youtube.com","What Is Search Engine Optimization / SEO - YouTube","12 Sep 2011 - 4 min - Uploaded by Search Engine Land Don't know what search engine optimization is? Know someone who needs easy to ...","youtube.com"]
[19,2,"search optimization","co.uk","uk","","http://www.inc.com/magazine/20100701/how-to-optimize-your-site-for-search.html","www.inc.com","How to Optimize Your Site for Search | Inc.com","1 Jul 2010 ... But every company, big or small, can draw more Google traffic by using search- engine optimization -- SEO, for short. Traffic is directly related to ...","www.inc.com"]
[20,3,"search optimization","co.uk","uk","","http://www.youtube.com/watch%3Fv%3DhF515-0Tduk","www.youtube.com","What Is Search Engine Optimization / SEO - YouTube","12 Sep 2011 - 4 min - Uploaded by Search Engine Land Don't know what search engine optimization is? Know someone who needs easy to ...","youtube.com"]
[1,1,"search engine optimization seo","co.uk","uk","","http://en.wikipedia.org/wiki/Search_engine_optimization","en.wikipedia.org","Search engine optimization - Wikipedia, the free encyclopedia","Search engine optimization (SEO) is the process of affecting the visibility of a  website or a web page in a search engine's \"natural\" or un-paid (\"organic\")  search ...","wikipedia.org"]
[2,1,"search engine optimization seo","co.uk","uk","","http://searchengineland.com/guide/what-is-seo","searchengineland.com","What Is SEO / Search Engine Optimization? - Search Engine Land","Get started learning all about SEO from the industry's most trusted source, Search  Engine Land. Review basics of search engine optimization, ranking factors ...","searchengineland.com"]
[3,1,"search engine optimization seo","co.uk","uk","","https://support.google.com/webmasters/answer/35291%3Fhl%3Den","support.google.com","Do you need an SEO? - Webmaster Tools Help - Google Help","SEO is an acronym for \"search engine optimization\" or \"search engine optimizer.\"  Deciding to hire an SEO is a big decision that can potentially improve your site ...","google.com"]
[4,1,"search engine optimization seo","co.uk","uk","","http://www.google.co.uk/webmasters/docs/search-engine-optimization-starter-guide.pdf","www.google.co.uk","Search Engine Optimization Starter Guide - Google","every day, every night, non stop. From here on, I'll be explaining various points  on search engine optimization (SEO)! SEO Basics. Create unique, accurate page  ...","google.co.uk"]
[5,1,"search engine optimization seo","co.uk","uk","","http://www.webopedia.com/TERM/S/SEO.html","www.webopedia.com","What is Search Engine Optimization (SEO)? Webopedia","SEO is short for search engine optimization or search engine optimizer. Search  engine optimization is a methodology of strategies, techniques and tactics used ...","webopedia.com"]
[6,1,"search engine optimization seo","co.uk","uk","","http://moz.com/beginners-guide-to-seo","moz.com","SEO: The Free Beginner's Guide From Moz","1 Mar 2013 ... What is Search Engine Optimization (SEO)? SEO is the practice of improving and  promoting a web site in order to increase the number of ...","moz.com"]
[7,1,"search engine optimization seo","co.uk","uk","","http://searchenginewatch.com/seo","searchenginewatch.com","SEO: Search Engine Optimization, Link Building & Social Marketing ...","Search Engine Optimization (SEO) tactics, tools, and news on website crawling,  indexing and ranking; link building; algorithm changes; keyword research, and ...","searchenginewatch.com"]
[8,1,"search engine optimization seo","co.uk","uk","","http://searchenginewatch.com/article/2259693/SEO-Basics-8-Essentials-When-Optimizing-Your-Site","searchenginewatch.com","SEO Basics: 8 Essentials When Optimizing Your Site - SEW","31 Dec 2013 ... Basic search engine optimization (SEO) is fundamental. And essential. SEO will  help you position your website properly to be found at the most ...","searchenginewatch.com"]
[9,1,"search engine optimization seo","co.uk","uk","","http://www.bruceclay.com/eu/seo/search-engine-optimization.htm","www.bruceclay.com","Bruce Clay EU - Search Engine Optimization Training and SEO ...","Free step-by-step SEO tutorial with tools and advice. Search Engine Optimization  services, classroom SEO training, SEO tools, site Assessments, free tips, ...","bruceclay.com"]
[10,2,"search engine optimization seo","co.uk","uk","","http://www.screamingfrog.co.uk/search-engine-optimisation/","www.screamingfrog.co.uk","Search Engine Optimisation (SEO) Services Agency | Screaming Frog","Find out how Screaming Frog can help you leap to the top of the search engines  with our innovative & transparent search engine optimisation (SEO) services.","screamingfrog.co.uk"]
[11,2,"search engine optimization seo","co.uk","uk","","http://www.screamingfrog.co.uk/","www.screamingfrog.co.uk","Screaming Frog: SEO, Search Engine Optimisation & Marketing","Screaming Frog are an innovative search engine marketing agency offering  search engine optimisation (SEO) and pay-per-click (PPC) advertising services.","screamingfrog.co.uk"]
[12,2,"search engine optimization seo","co.uk","uk","","http://computer.howstuffworks.com/search-engine-optimization.htm","computer.howstuffworks.com","HowStuffWorks \"How Search Engine Optimization (SEO) Works\"","Search engine optimization (SEO) is a collection of techniques used to increase  a Web site's ranking in search engine results pages. Learn about SEO.","howstuffworks.com"]
[13,2,"search engine optimization seo","co.uk","uk","","http://www.techterms.com/definition/seo","www.techterms.com","SEO (Search Engine Optimization) Definition","Stands for \"Search Engine Optimization.\" Just about every Webmaster wants his  or her site to appear in the top listings of all the major search engines. Say, for ...","techterms.com"]
[14,2,"search engine optimization seo","co.uk","uk","","http://www.mainstreethost.com/services/search-engine-optimization.html","www.mainstreethost.com","Search Engine Optimization | Affordable SEO Services at ...","Looking for an established search engine optimization company? ... Our SEO  services give you long-lasting results that extend beyond a quick, temporary  boost ...","mainstreethost.com"]
[15,2,"search engine optimization seo","co.uk","uk","","http://www.searchenginejournal.com/55-quick-seo-tips-even-your-mother-would-love/","www.searchenginejournal.com","55 Quick SEO Tips Even Your Mother Would Love - Search Engine ...","55 quick SEO tips to help your rank your site higher. ... Here are 55 quick tips for  search engine optimization that even your mother could use to get cooking. Well  ...","searchenginejournal.com"]
[16,2,"search engine optimization seo","co.uk","uk","","http://www.entrepreneur.com/seo/","www.entrepreneur.com","SEO | Search Engine Optimization - Entrepreneur","The latest SEO news, tips, and tools for growing your business online. Search  engine optimization strategies to get more traffic and sales from Entrepreneur.","entrepreneur.com"]
[17,2,"search engine optimization seo","co.uk","uk","","http://www.youtube.com/watch%3Fv%3DhF515-0Tduk","www.youtube.com","What Is Search Engine Optimization / SEO - YouTube","12 Sep 2011 - 4 min - Uploaded by Search Engine Land Don't know what search engine optimization is? Know someone who needs easy to ...","youtube.com"]
[18,2,"search engine optimization seo","co.uk","uk","","http://www.hobo-web.co.uk/seo-tutorial/","www.hobo-web.co.uk","Google SEO Tutorial for Beginners | How To SEO A Website Step By ...","2 Apr 2013 ... There are a lot of definitions of SEO (spelled Search engine optimisation in the  UK, or search engine optimization in the US) but lets face it, ...","hobo-web.co.uk"]
[19,2,"search engine optimization seo","co.uk","uk","","http://www.iis.net/downloads/microsoft/search-engine-optimization-toolkit","www.iis.net","Search Engine Optimization Toolkit : The Official Microsoft IIS Site","The IIS Search Engine Optimization (SEO) Toolkit helps Web developers, hosting  providers, and Web server administrators to improve their Web site's relevance ...","www.iis.net"]
[20,3,"search engine optimization seo","co.uk","uk","","http://www.businessinsider.com/10-basic-seo-tips-everyone-should-know-2010-1%3Fop%3D1","www.businessinsider.com","10 Basic SEO Tips To Get You Started - Business Insider","13 Jan 2010 ... Every business with a Web site should make Search Engine Optimization -- trying  to get your site as high up as possible on Google and Bing ...","businessinsider.com"]
[1,1,"seo tools","co.uk","uk","","http://tools.seobook.com/","tools.seobook.com","Free SEO Tools & Search Engine Optimization Software","We offer a wide array of free and paid SEO tools to SEO professionals and DIY  webmasters. Below you will find some of our most popular SEO tools sorted by ...","seobook.com"]
[2,1,"seo tools","co.uk","uk","","http://smallseotools.com/","smallseotools.com","100% Free SEO Tools - online SEO tools","100% Free SEO tools. Let's use and feeling. Unique content checker, unique  content rewriter, keyword position, online ping website tool.","smallseotools.com"]
[3,1,"seo tools","co.uk","uk","","http://moz.com/tools","moz.com","The Best Free SEO Tools in the Search Industry - Moz - Moz","Explore free Moz tools for SEO, Twitter analytics, rank tracking, and moreâ  plus advanced SEO and marketing tools in a Moz Pro subscription.","moz.com"]
[4,1,"seo tools","co.uk","uk","","http://www.microsoft.com/web/seo/","www.microsoft.com","Free SEO Toolkit - Microsoft","The SEO Toolkit with its detailed analysis and search engine friendly suggestions  ... Use SEO recommendations to improve traffic and increase your revenue  stream. ... Blogs; Web Platform Team Blog · IIS Team Blog · Web Tools Team  Blog ...","microsoft.com"]
[5,1,"seo tools","co.uk","uk","","http://searchenginewatch.com/article/2303494/21-Best-FREE-SEO-Tools-for-On-Page-Optimization","searchenginewatch.com","21 Best FREE SEO Tools for On-Page Optimization - SEW","29 Oct 2013 ... To reach the top of the SERPs and stay there, your website must deserve to be  there. It needs to be the best in class. It must offer the best user ...","searchenginewatch.com"]
[6,1,"seo tools","co.uk","uk","","http://www.webconfs.com/","www.webconfs.com","SEO Tools - Search Engine Optimization Tools","Duplicate content validation tool and search engine spider simulators.","webconfs.com"]
[7,1,"seo tools","co.uk","uk","","http://www.submitexpress.com/tools.html","www.submitexpress.com","Search Engine Optimization Tools, Free Webmaster Tools, SEO Tools","Submit Express offers a wide range of search engine optimization tools for Web  site owners, webmasters and other online marketing experts. Use our SEO tools  ...","submitexpress.com"]
[8,1,"seo tools","co.uk","uk","","http://www.seotoolset.com/tools/free_tools.html","www.seotoolset.com","SEOToolSet - Free SEO Tools - Try Free Search Engine ...","free SEO tools to test, analyze and boost your SEO strategy here. To gain access  to more powerful reports, try our SEOToolSet® in a 30-day trial period -- cancel ...","seotoolset.com"]
[9,1,"seo tools","co.uk","uk","","http://www.majesticseo.com/webmaster-tools","www.majesticseo.com","Webmaster Tools - Majestic SEO","This tool allows you to verify ownership of your websites, and generate ... You  can also import your pre-verified sites over from Google® Webmaster Tools,  giving ...","majesticseo.com"]
[10,1,"seo tools","co.uk","uk","","http://www.majesticseo.com/support/tools","www.majesticseo.com","Link Intelligence Tools - Majestic SEO","Our Backlink History tool allows SEOs to determine the number of backlinks  detected by our sophisticated web robots for given domains, subdomains or  URLs.","majesticseo.com"]
[11,2,"seo tools","co.uk","uk","","http://raventools.com/marketing-software/seo/","raventools.com","SEO Software Tools: Site Audits, Link Building & More - Raven","Perform site audits and conduct link building outreach with SEO software  research and reporting tools from Raven. Loved by SEO obsessives and clients  alike.","raventools.com"]
[12,2,"seo tools","co.uk","uk","","https://yoast.com/tools/seo/","yoast.com","SEO Tools • Yoast","19 Aug 2014 ... Over the years I've created quite a few SEO tools, some of which quite a few  people have been using. Have fun with them! Search plugin which ...","yoast.com"]
[13,2,"seo tools","co.uk","uk","","http://www.found.co.uk/seo-tool/","www.found.co.uk","FOUND SEO Audit Tool - Free Online Canonicalisation & Link ...","Founds Free Online SEO Audit Tool gives your URL a scan for technical issues.  Fantastic canonicalisation error checks and more.","found.co.uk"]
[14,2,"seo tools","co.uk","uk","","http://seositecheckup.com/","seositecheckup.com","SeoSiteCheckup.com: SEO Tools, Software and Articles","Find comprehensive search engine optimization (SEO) tools for your site.","seositecheckup.com"]
[15,2,"seo tools","co.uk","uk","","http://www.seotools.com/","www.seotools.com","Free SEO Tools","Looking for the best free SEO Tools for Search Engine Optimization? Check out  the free tool versions from Bruce Clay Inc.","seotools.com"]
[16,2,"seo tools","co.uk","uk","","http://www.seocompany.ca/tool/seo-tools.html","www.seocompany.ca","140 SEO Tools - SEO Company","SEO Tool Logo This SEO Tools page has links to the best SEO Tools on the  internet and these tools will help you to optimize your website and move your  search ...","seocompany.ca"]
[17,2,"seo tools","co.uk","uk","","http://www.wordstream.com/seo-tools","www.wordstream.com","SEO tools - WordStream","SEO tools from WordStream give you more keywords and more data power to  improve overall search performance. Try WordStream's SEO tools free.","wordstream.com"]
[18,2,"seo tools","co.uk","uk","","http://www.screamingfrog.co.uk/seo-spider/","www.screamingfrog.co.uk","Screaming Frog SEO Spider Tool & Crawler Software | Screaming ...","The Screaming Frog SEO Spider is a small desktop program (PC or Mac) which  crawls websites' links, images, CSS, script and apps from an SEO perspective.","screamingfrog.co.uk"]
[19,2,"seo tools","co.uk","uk","","http://www.woorank.com/","www.woorank.com","WooRank.com: Website Review - SEO Tool","WooRank is the most popular Website Review and SEO Tool. Run a free Review.  Then create an Advanced Review to track and optimize your website.","woorank.com"]
[20,2,"seo tools","co.uk","uk","","https://support.google.com/webmasters/answer/35291%3Fhl%3Den","support.google.com","Do you need an SEO? - Webmaster Tools Help - Google Help","SEO is an acronym for \"search engine optimization\" or \"search engine optimizer.  ... Free resources such as Webmaster Tools, the official Webmaster Central ...","google.com"]
[1,1,"search engine optimisation","co.uk","uk","","http://en.wikipedia.org/wiki/Search_engine_optimization","en.wikipedia.org","Search engine optimization - Wikipedia, the free encyclopedia","Search engine optimization (SEO) is the process of affecting the visibility of a  website or a web page in a search engine's \"natural\" or un-paid (\"organic\")  search ...","wikipedia.org"]
[2,1,"search engine optimisation","co.uk","uk","","http://www.google.co.uk/webmasters/docs/search-engine-optimization-starter-guide.pdf","www.google.co.uk","Search Engine Optimization Starter Guide - Google","the topic of search engine optimization and wish to improve their ... Even though  this guide's title contains the words \"search engine\", we'd like to say that you ...","google.co.uk"]
[3,1,"search engine optimisation","co.uk","uk","","http://searchengineland.com/guide/what-is-seo","searchengineland.com","What Is SEO / Search Engine Optimization? - Search Engine Land","Get started learning all about SEO from the industry's most trusted source, Search  Engine Land. Review basics of search engine optimization, ranking factors ...","searchengineland.com"]
[4,1,"search engine optimisation","co.uk","uk","","http://www.screamingfrog.co.uk/search-engine-optimisation/","www.screamingfrog.co.uk","Search Engine Optimisation (SEO) Services Agency | Screaming Frog","Find out how Screaming Frog can help you leap to the top of the search engines  with our innovative & transparent search engine optimisation (SEO) services.","screamingfrog.co.uk"]
[5,1,"search engine optimisation","co.uk","uk","","http://searchenginewatch.com/article/2259693/SEO-Basics-8-Essentials-When-Optimizing-Your-Site","searchenginewatch.com","SEO Basics: 8 Essentials When Optimizing Your Site - SEW","31 Dec 2013 ... Basic search engine optimization (SEO) is fundamental. And essential. SEO will  help you position your website properly to be found at the most ...","searchenginewatch.com"]
[6,1,"search engine optimisation","co.uk","uk","","https://support.google.com/webmasters/answer/35291%3Fhl%3Den","support.google.com","Do you need an SEO? - Webmaster Tools Help - Google Help","SEO is an acronym for \"search engine optimization\" or \"search engine optimizer.\"  Deciding to hire an SEO is a big decision that can potentially improve your site ...","google.com"]
[7,1,"search engine optimisation","co.uk","uk","","http://www.hobo-web.co.uk/seo-tutorial/","www.hobo-web.co.uk","Google SEO Tutorial for Beginners | How To SEO A Website Step By ...","2 Apr 2013 ... Here are some free search engine optimisation tips for you to help you create a  successful site, based on over 10 years experience making ...","hobo-web.co.uk"]
[8,1,"search engine optimisation","co.uk","uk","","http://www.redevolution.com/what-is-seo/","www.redevolution.com","What is SEO? Here's A Simple Plain English Answer, SEO in a ...","Wondering what search engine optimisation is all about. Here's a simple  explanation of SEO. A straightforward answer to the question, what is SEO?","redevolution.com"]
[9,1,"search engine optimisation","co.uk","uk","","http://moz.com/beginners-guide-to-seo","moz.com","SEO: The Free Beginner's Guide From Moz","1 Mar 2013 ... New to SEO? Need to polish up your knowledge? The Beginner's Guide to SEO  has been read over 1 million times and provides the ...","moz.com"]
[10,1,"search engine optimisation","co.uk","uk","","http://www.webopedia.com/TERM/S/SEO.html","www.webopedia.com","What is Search Engine Optimization (SEO)? Webopedia","SEO is strategies, techniques and tactics to increase the number of visitors to a  website by obtaining a high-ranking placement in search results.","webopedia.com"]
[11,2,"search engine optimisation","co.uk","uk","","http://computer.howstuffworks.com/search-engine-optimization.htm","computer.howstuffworks.com","HowStuffWorks \"How Search Engine Optimization (SEO) Works\"","Search engine optimization (SEO) is a collection of techniques used to increase  a Web site's ranking in search engine results pages. Learn about SEO.","howstuffworks.com"]
[12,2,"search engine optimisation","co.uk","uk","","http://www.youtube.com/watch%3Fv%3DhF515-0Tduk","www.youtube.com","What Is Search Engine Optimization / SEO - YouTube","12 Sep 2011 - 4 min - Uploaded by Search Engine Land Don't know what search engine optimization is? Know someone who needs easy to ...","youtube.com"]
[13,2,"search engine optimisation","co.uk","uk","","http://www.theguardian.com/small-business-network/2014/jan/16/what-is-seo-how-website-google-visibility","www.theguardian.com","What is SEO and how can it help my website's Google visibility ...","7 Jul 2014 ... Learning how to improve your site's SEO can significantly improve your business'  prominence in online search results.","theguardian.com"]
[14,2,"search engine optimisation","co.uk","uk","","https://econsultancy.com/reports/seo-best-practice-guide","econsultancy.com","Search Engine Optimization (SEO) Best Practice Guide | Econsultancy","Built on the foundations of our previous, highly-renowned report, Econsultancy's  SEO Best Practice Guide contains everything you need to know about search ...","econsultancy.com"]
[15,2,"search engine optimisation","co.uk","uk","","http://www.telegraph.co.uk/technology/internet/8663964/What-is-Search-Engine-Optimisation.html","www.telegraph.co.uk","What is Search Engine Optimisation? - Telegraph","27 Jul 2011 ... SEO, or Search Engine Optimisation, is a marketing technique for making a web  page appear more frequently above others in a list of results ...","telegraph.co.uk"]
[16,2,"search engine optimisation","co.uk","uk","","http://www.attacat.co.uk/seo","www.attacat.co.uk","SEO (Search Engine Optimisation) | Attacat of Edinburgh","SEO & Search Engine Optimisation services including consultancy & training  from Edinburgh based Attacat.","attacat.co.uk"]
[17,2,"search engine optimisation","co.uk","uk","","http://www.bbc.co.uk/blogs/internet/posts/search_engine_optimisation_in","www.bbc.co.uk","BBC - Blogs - Internet blog - Search Engine Optimisation in BBC News","6 Sep 2012 ... This is the third and final in a series of posts about Search Engine Optimisation,  following Duncan Bloor and Oliver Bartlett writing about ...","www.bbc.co.uk"]
[18,2,"search engine optimisation","co.uk","uk","","http://www.hallaminternet.com/internet-services/seo/","www.hallaminternet.com","Search Engine Optimisation Agency: SEO Company | Hallam ...","Ethical SEO Services from a company you can trust. Established in 1999, Hallam  works for some of the UK's leading companies, as well as a wide range of ...","hallaminternet.com"]
[19,2,"search engine optimisation","co.uk","uk","","http://www.123live.co.uk/optimising-your-website-for-search-engines.htm","www.123live.co.uk","How to optimise your website for search engines - 123Live","How to optimise your website for search engines. More SEO resources can be  found at: www.organicseo.org. Search engine optimisation (SEO) is often seen  as ...","123live.co.uk"]
[20,2,"search engine optimisation","co.uk","uk","","http://googlewebmastercentral.blogspot.com/2008/11/googles-seo-starter-guide.html","googlewebmastercentral.blogspot.com","Official Google Webmaster Central Blog: Google's SEO Starter Guide","12 Nov 2008 ... There are lots of possible answers to this question, and a wealth of search  engine optimization information on the web, so much that it can be ...","blogspot.com"]
[1,1,"what is search engine optimization","co.uk","uk","","http://searchengineland.com/guide/what-is-seo","searchengineland.com","What Is SEO / Search Engine Optimization? - Search Engine Land","Get started learning all about SEO from the industry's most trusted source, Search  Engine Land. Review basics of search engine optimization, ranking factors ...","searchengineland.com"]
[2,1,"what is search engine optimization","co.uk","uk","","http://en.wikipedia.org/wiki/Search_engine_optimization","en.wikipedia.org","Search engine optimization - Wikipedia, the free encyclopedia","Search engine optimization (SEO) is the process of affecting the visibility of a  website or a web page in a search engine's \"natural\" or un-paid (\"organic\")  search ...","wikipedia.org"]
[3,1,"what is search engine optimization","co.uk","uk","","http://www.redevolution.com/what-is-seo/","www.redevolution.com","What is SEO? Here's A Simple Plain English Answer, SEO in a ...","Wondering what search engine optimisation is all about. Here's a simple  explanation of SEO. A straightforward answer to the question, what is SEO?","redevolution.com"]
[4,1,"what is search engine optimization","co.uk","uk","","http://www.webopedia.com/TERM/S/SEO.html","www.webopedia.com","What is Search Engine Optimization (SEO)? Webopedia","SEO is strategies, techniques and tactics to increase the number of visitors to a  website by obtaining a high-ranking placement in search results.","webopedia.com"]
[5,1,"what is search engine optimization","co.uk","uk","","http://searchenginewatch.com/article/2259693/SEO-Basics-8-Essentials-When-Optimizing-Your-Site","searchenginewatch.com","SEO Basics: 8 Essentials When Optimizing Your Site - SEW","31 Dec 2013 ... Basic search engine optimization (SEO) is fundamental. And essential. SEO will  help you position your website properly to be found at the most ...","searchenginewatch.com"]
[6,1,"what is search engine optimization","co.uk","uk","","http://www.google.co.uk/webmasters/docs/search-engine-optimization-starter-guide.pdf","www.google.co.uk","Search Engine Optimization Starter Guide - Google","the topic of search engine optimization and wish to improve their ... Even though  this guide's title contains the words \"search engine\", we'd like to say that you ...","google.co.uk"]
[7,1,"what is search engine optimization","co.uk","uk","","https://support.google.com/webmasters/answer/35291%3Fhl%3Den","support.google.com","Do you need an SEO? - Webmaster Tools Help - Google Help","SEO is an acronym for \"search engine optimization\" or \"search engine optimizer.\"  Deciding to hire an SEO is a big decision that can potentially improve your site ...","google.com"]
[8,1,"what is search engine optimization","co.uk","uk","","http://moz.com/beginners-guide-to-seo","moz.com","SEO: The Free Beginner's Guide From Moz","1 Mar 2013 ... New to SEO? Need to polish up your knowledge? The Beginner's Guide to SEO  has been read over 1 million times and provides the ...","moz.com"]
[9,1,"what is search engine optimization","co.uk","uk","","http://www.theguardian.com/small-business-network/2014/jan/16/what-is-seo-how-website-google-visibility","www.theguardian.com","What is SEO and how can it help my website's Google visibility ...","7 Jul 2014 ... Learning how to improve your site's SEO can significantly improve your business'  prominence in online search results.","theguardian.com"]
[10,2,"what is search engine optimization","co.uk","uk","","http://www.webconfs.com/seo-tutorial/introduction-to-seo.php","www.webconfs.com","What Is SEO - WebConfs","Whenever you enter a query in a search engine and hit 'enter' you get a list of  web results that contain that query term. Users normally tend to visit websites that  ...","webconfs.com"]
[11,2,"what is search engine optimization","co.uk","uk","","http://www.youtube.com/watch%3Fv%3DhF515-0Tduk","www.youtube.com","What Is Search Engine Optimization / SEO - YouTube","12 Sep 2011 - 4 min - Uploaded by Search Engine Land Don't know what search engine optimization is? Know someone who needs easy to ...","youtube.com"]
[12,2,"what is search engine optimization","co.uk","uk","","http://www.hobo-web.co.uk/what-is-seo-a-guide-for-beginners/","www.hobo-web.co.uk","What Is SEO in 2014? - Hobo","31 Jul 2014 ... What is SEO - Search engine optimisation. a beginners guide to the craft of  Google SEO in 2014.","hobo-web.co.uk"]
[13,2,"what is search engine optimization","co.uk","uk","","http://computer.howstuffworks.com/search-engine-optimization.htm","computer.howstuffworks.com","HowStuffWorks \"How Search Engine Optimization (SEO) Works\"","Search engine optimization (SEO) is a collection of techniques used to increase  a Web site's ranking in search engine results pages. Learn about SEO.","howstuffworks.com"]
[14,2,"what is search engine optimization","co.uk","uk","","http://www.whatisseo.com/","www.whatisseo.com","What is SEO | whatisseo.com","Information about what search engine optimization is, and how to avoid the  pitfalls of using SEO.","whatisseo.com"]
[15,2,"what is search engine optimization","co.uk","uk","","http://www.bruceclay.com/eu/seo/search-engine-optimization.htm","www.bruceclay.com","Bruce Clay EU - Search Engine Optimization Training and SEO ...","Free step-by-step SEO tutorial with tools and advice. Search Engine Optimization  services, classroom SEO training, SEO tools, site Assessments, free tips, ...","bruceclay.com"]
[16,2,"what is search engine optimization","co.uk","uk","","http://www.entrepreneur.com/seo/","www.entrepreneur.com","SEO | Search Engine Optimization - Entrepreneur","The latest SEO news, tips, and tools for growing your business online. Search  engine optimization strategies to get more traffic and sales from Entrepreneur.","entrepreneur.com"]
[17,2,"what is search engine optimization","co.uk","uk","","http://www.telegraph.co.uk/technology/internet/8663964/What-is-Search-Engine-Optimisation.html","www.telegraph.co.uk","What is Search Engine Optimisation? - Telegraph","27 Jul 2011 ... SEO, or Search Engine Optimisation, is a marketing technique for making a web  page appear more frequently above others in a list of results ...","telegraph.co.uk"]
[18,2,"what is search engine optimization","co.uk","uk","","http://www.screamingfrog.co.uk/search-engine-optimisation/","www.screamingfrog.co.uk","Search Engine Optimisation (SEO) Services Agency | Screaming Frog","Find out how Screaming Frog can help you leap to the top of the search engines  with our innovative & transparent search engine optimisation (SEO) services.","screamingfrog.co.uk"]
[19,2,"what is search engine optimization","co.uk","uk","","http://pointblankseo.com/what-is-seo/","pointblankseo.com","What Is SEO and Why Should I Care? - Point Blank SEO","Search Engine Optimization (SEO) • is the process of affecting the visibility of a  website in a search engine's “natural” or “organic” (not paid for) search results.","pointblankseo.com"]
[20,3,"what is search engine optimization","co.uk","uk","","http://www.searchenginejournal.com/55-quick-seo-tips-even-your-mother-would-love/","www.searchenginejournal.com","55 Quick SEO Tips Even Your Mother Would Love - Search Engine ...","55 quick SEO tips to help your rank your site higher.","searchenginejournal.com"]
[1,1,"seo companies","co.uk","uk","","http://www.rebootonline.com/services/seo-services","www.rebootonline.com","Seo Services Provided by Reboot Online Marketing","Many would have you believe SEO to be some form of black magic. Voodoo even . In reality nothing could be further from the truth. Yes, years of observing, ...","rebootonline.com"]
[2,1,"seo companies","co.uk","uk","","http://www.forbes.com/sites/joshsteimle/2013/09/23/4-tips-for-hiring-the-right-seo-firm/","www.forbes.com","4 Tips For Hiring The Right SEO Firm - Forbes","23 Sep 2013 ... You've got a problem. You've been tasked with hiring an search engine  optimization (SEO) firm to provide various online marketing services to ...","forbes.com"]
[3,1,"seo companies","co.uk","uk","","http://www.seoconsultancyltd.com/","www.seoconsultancyltd.com","SEO Consultancy Ltd a SEO Company That Gets Results","SEO Consultancy Ltd, an Internationally Recognized SEO Company.  Specializing in Local and National SEO services with Top SEO Consultants in UK  and ...","seoconsultancyltd.com"]
[4,1,"seo companies","co.uk","uk","","http://www.uwpgroup.co.uk/service/seo-london/","www.uwpgroup.co.uk","UWP: London's No. 1 SEO company - UWP Group","Our great value SEO has never failed. We'll get your site to the top of Google. If  we don't, you don't pay. All kinds of clients – always the same outcome.","uwpgroup.co.uk"]
[5,1,"seo companies","co.uk","uk","","http://www.adjuice.co.uk/","www.adjuice.co.uk","Surrey SEO & PPC Specialist | AdJuice SEO Services","Our SEO services & PPC management expertise make website marketing easy  for companies in Surrey, Berkshire, Hampshire and the South East.","adjuice.co.uk"]
[6,1,"seo companies","co.uk","uk","","http://www.kdweb.co.uk/seo.htm","www.kdweb.co.uk","SEO Company - Web Designers","KD Web is one of the UK's top SEO and digital internet marketing agency  employing only the top SEO Developers and web designers trained in the latest  search ...","kdweb.co.uk"]
[7,1,"seo companies","co.uk","uk","","http://www.found.co.uk/","www.found.co.uk","Found: SEO Services and PPC Management Agency London","Found. London-based award-winning online performance marketing agency. We  only earn when our clients earn. PPC. SEO, Social, Mobile.","found.co.uk"]
[8,1,"seo companies","co.uk","uk","","http://www.getmanic.co.uk/","www.getmanic.co.uk","SEO Services | Social Media Marketing | Website Design UK","Get Manic SEO & social media marketing UK. We specialise in local and national  SEO services and website design to drive more traffic to your website.","getmanic.co.uk"]
[9,1,"seo companies","co.uk","uk","","http://www.vanillacircus.co.uk/","www.vanillacircus.co.uk","Vanilla Circus SEO Company run by one of the UK's leading SEO ...","Best of Breed: VC is one of the most progressive SEO companies in the UK.  Through our technology and insight, we offer long term, high volume web traffic ...","vanillacircus.co.uk"]
[10,1,"seo companies","co.uk","uk","","http://www.branded3.com/blogs/top-25-most-visible-seo-agencies-in-the-uk-according-to-searchmetrics/","www.branded3.com","Top 25 Most Visible SEO Agencies in the UK According to ...","10 Jul 2013 ... Most people in the industry know not to judge an SEO company by their own  rankings but there are still a lot of clients out there that choose an ...","branded3.com"]
[11,2,"seo companies","co.uk","uk","","http://www.seo-london.com/about-us/seo-firms","www.seo-london.com","SEO Firms - SEO London","Students applying through SEO can gain access to both graduate and internship  opportunities at the following firms: Banking Firms. Bank of America Merrill ...","seo-london.com"]
[12,2,"seo companies","co.uk","uk","","http://en.wikipedia.org/wiki/Search_engine_optimization","en.wikipedia.org","Search engine optimization - Wikipedia, the free encyclopedia","Search engine optimization (SEO) is the process of affecting the visibility of a ....  Wired magazine reported that the same company sued blogger and SEO Aaron ...","wikipedia.org"]
[13,2,"seo companies","co.uk","uk","","http://www.hobo-web.co.uk/","www.hobo-web.co.uk","Hobo SEO Agency | PPC & SEO Services in Glasgow | Scotland | UK","I've been a reader of the blog for a fair while and check most days for new posts. I' ve also downloaded your seo and link building ebooks. I found you through ...","hobo-web.co.uk"]
[14,2,"seo companies","co.uk","uk","","http://www.rankno1.co.uk/","www.rankno1.co.uk","SEO Company UK, Rank no1, SEO Drives Traffic, Leads and Sales","SEO company UK Rank No1, FREE Advice and FREE SEO Report From Leading  Experts, Search Engine Optimization Drives Traffic, Leads and Sales. ... Read ...","rankno1.co.uk"]
[15,2,"seo companies","co.uk","uk","","http://searchenginewatch.com/article/2267471/How-Much-Should-You-Spend-on-SEO-Services","searchenginewatch.com","How Much Should You Spend on SEO Services? - SEW","27 Dec 2013 ... Contract services at fixed prices: Nearly all SEO agencies sell contract services.  Often, before a client is ready to engage a monthly retainer, ...","searchenginewatch.com"]
[16,2,"seo companies","co.uk","uk","","http://www.reviewcentre.com/products3098.html","www.reviewcentre.com","SEO Companies - User Reviews of 2013 & 2014 at Review Centre","Here at Review Centre you can find and compare SEO companies here at  Review Centre, we have many SEO sites from the UK and abroad giving you the  ...","reviewcentre.com"]
[17,2,"seo companies","co.uk","uk","","http://www.mainstreethost.com/","www.mainstreethost.com","Mainstreethost: Affordable SEO & Search Engine Marketing ...","Mainstreethost specializes in search engine optimization (SEO), paid search ...  We take time to understand how your company works and what your goals are, ...","mainstreethost.com"]
[18,2,"seo companies","co.uk","uk","","http://www.expertseobournemouth.co.uk/","www.expertseobournemouth.co.uk","SEO Bournemouth - SEO Services Bournemouth - Expert Company ...","Expert SEO Bournemouth. The leading SEO Company in Bournemouth. Cutting  edge SEO Services Bournemouth that produce results. Search Engine ...","expertseobournemouth.co.uk"]
[19,2,"seo companies","co.uk","uk","","http://www.smart-traffic.co.uk/","www.smart-traffic.co.uk","Smart Traffic - The UK's Largest SEO Company - Exceptional SEO ...","The UK's largest SEO Company, providing Brand Management, SEO, PPC and  Social Media Services to over 400 clients. Call today on 0845 331 3512.","smart-traffic.co.uk"]
[20,2,"seo companies","co.uk","uk","","http://www.risedigital.com/","www.risedigital.com","Rise Digital: SEO Company London - Quality Search Engine ...","Hello and welcome to Rise. Our London based agency offers a full complement  of search marketing services, ensuring your website receives all the attention it ...","risedigital.com"]
[1,1,"what is seo","co.uk","uk","","http://searchengineland.com/guide/what-is-seo","searchengineland.com","What Is SEO / Search Engine Optimization? - Search Engine Land","Get started learning all about SEO from the industry's most trusted source, Search  Engine Land. Review basics of search engine optimization, ranking factors ...","searchengineland.com"]
[2,1,"what is seo","co.uk","uk","","http://en.wikipedia.org/wiki/Search_engine_optimization","en.wikipedia.org","Search engine optimization - Wikipedia, the free encyclopedia","Search engine optimization (SEO) is the process of affecting the visibility of a  website or a web page in a search engine's \"natural\" or un-paid (\"organic\")  search ...","wikipedia.org"]
[3,1,"what is seo","co.uk","uk","","http://www.redevolution.com/what-is-seo/","www.redevolution.com","What is SEO? Here's A Simple Plain English Answer, SEO in a ...","Wondering what search engine optimisation is all about. Here's a simple  explanation of SEO. A straightforward answer to the question, what is SEO?","redevolution.com"]
[4,1,"what is seo","co.uk","uk","","http://www.theguardian.com/small-business-network/2014/jan/16/what-is-seo-how-website-google-visibility","www.theguardian.com","What is SEO and how can it help my website's Google visibility ...","7 Jul 2014 ... Learning how to improve your site's SEO can significantly improve your business'  prominence in online search results.","theguardian.com"]
[5,1,"what is seo","co.uk","uk","","http://searchenginewatch.com/article/2259693/SEO-Basics-8-Essentials-When-Optimizing-Your-Site","searchenginewatch.com","SEO Basics: 8 Essentials When Optimizing Your Site - SEW","31 Dec 2013 ... Basic search engine optimization (SEO) is fundamental. And essential. SEO will  help you position your website properly to be found at the most ...","searchenginewatch.com"]
[6,1,"what is seo","co.uk","uk","","http://www.whatisseo.com/","www.whatisseo.com","What is SEO | whatisseo.com","Information about what search engine optimization is, and how to avoid the  pitfalls of using SEO.","whatisseo.com"]
[7,1,"what is seo","co.uk","uk","","http://www.webopedia.com/TERM/S/SEO.html","www.webopedia.com","What is Search Engine Optimization (SEO)? Webopedia","SEO is strategies, techniques and tactics to increase the number of visitors to a  website by obtaining a high-ranking placement in search results.","webopedia.com"]
[8,1,"what is seo","co.uk","uk","","https://support.google.com/webmasters/answer/35291%3Fhl%3Den","support.google.com","Do you need an SEO? - Webmaster Tools Help - Google Help","SEO is an acronym for \"search engine optimization\" or \"search engine optimizer.\"  Deciding to hire an SEO is a big decision that can potentially improve your site ...","google.com"]
[9,1,"what is seo","co.uk","uk","","http://www.webconfs.com/seo-tutorial/introduction-to-seo.php","www.webconfs.com","What Is SEO - WebConfs","SEO is a technique which helps search engines find and rank your site higher  than the millions of other sites in response to a search query. SEO thus helps you  ...","webconfs.com"]
[10,1,"what is seo","co.uk","uk","","http://www.hobo-web.co.uk/what-is-seo-a-guide-for-beginners/","www.hobo-web.co.uk","What Is SEO in 2014? - Hobo","31 Jul 2014 ... What is SEO - Search engine optimisation. a beginners guide to the craft of  Google SEO in 2014.","hobo-web.co.uk"]
[11,2,"what is seo","co.uk","uk","","http://www.youtube.com/watch%3Fv%3DhF515-0Tduk","www.youtube.com","What Is Search Engine Optimization / SEO - YouTube","12 Sep 2011 - 4 min - Uploaded by Search Engine Land Don't know what search engine optimization is? Know someone who needs easy to ...","youtube.com"]
[12,2,"what is seo","co.uk","uk","","http://pointblankseo.com/what-is-seo/","pointblankseo.com","What Is SEO and Why Should I Care? - Point Blank SEO","Search Engine Optimization (SEO) • is the process of affecting the visibility of a  website in a search engine's “natural” or “organic” (not paid for) search results.","pointblankseo.com"]
[13,2,"what is seo","co.uk","uk","","http://moz.com/blog/what-is-seo-now","moz.com","What Is SEO Now that Everything Is (Not Provided)? - Moz","8 Oct 2013 ... My response to the \"is SEO dead\" question is always the same: The Internet isn't  going away, and neither is selling stuff. It's a pretty safe bet ...","moz.com"]
[14,2,"what is seo","co.uk","uk","","http://moz.com/beginners-guide-to-seo","moz.com","SEO: The Free Beginner's Guide From Moz","1 Mar 2013 ... New to SEO? Need to polish up your knowledge? The Beginner's Guide to SEO  has been read over 1 million times and provides the ...","moz.com"]
[15,2,"what is seo","co.uk","uk","","http://blog.hubspot.com/marketing/what-is-seo-faq-ht","blog.hubspot.com","What Is SEO? [FAQs] - Inbound Hub - HubSpot","27 Feb 2014 ... Learn about SEO in 2014, and how it can be used to improve your marketing.","hubspot.com"]
[16,2,"what is seo","co.uk","uk","","http://www.telegraph.co.uk/technology/internet/8663964/What-is-Search-Engine-Optimisation.html","www.telegraph.co.uk","What is Search Engine Optimisation? - Telegraph","27 Jul 2011 ... SEO, or Search Engine Optimisation, is a marketing technique for making a web  page appear more frequently above others in a list of results ...","telegraph.co.uk"]
[17,2,"what is seo","co.uk","uk","","http://www.blindfiveyearold.com/what-is-seo","www.blindfiveyearold.com","What is SEO? The Definition of SEO for 2012 - Blind Five Year Old","4 Feb 2012 ... The goal of SEO is not to increase traffic willy-nilly. You increase traffic by 30%  but it makes no difference to the bottom line. Who cares!","blindfiveyearold.com"]
[18,2,"what is seo","co.uk","uk","","http://www.internetslang.com/SEO-meaning-definition.asp","www.internetslang.com","Meaning of SEO - InternetSlang.com","This Internet Slang page is designed to explain what the meaning of SEO is. The  slang word / acronym / abbreviation SEO means... . Internet Slang. A list of ...","internetslang.com"]
[19,2,"what is seo","co.uk","uk","","https://ecommerce.shopify.com/guides/ecommerce-seo-101/what-is-seo-marketing-tutorial","ecommerce.shopify.com","What is SEO Marketing and How it Works. -- Ecommerce University","In this seo tutorial we examine exactly what ecommerce SEO is and how it can  help your business.","shopify.com"]
[20,2,"what is seo","co.uk","uk","","http://www.wordstream.com/blog/ws/2012/01/17/seo-content-beginners-guide","www.wordstream.com","What Is SEO Content? A Beginner's Guide to Creating Content for ...","17 Jan 2012 ... SEO Content 101: Learn what SEO content is, the different types of SEO content,  and how to develop an SEO content strategy.","wordstream.com"]
[1,1,"best seo company","co.uk","uk","","http://www.forbes.com/sites/joshsteimle/2013/09/23/4-tips-for-hiring-the-right-seo-firm/","www.forbes.com","4 Tips For Hiring The Right SEO Firm - Forbes","23 Sep 2013 ... A nice-looking website does not a good SEO firm make. ... But if you're only  looking for top-notch SEO, some of the best firms have websites ...","forbes.com"]
[2,1,"best seo company","co.uk","uk","","http://searchenginewatch.com/article/2267471/How-Much-Should-You-Spend-on-SEO-Services","searchenginewatch.com","How Much Should You Spend on SEO Services? - SEW","27 Dec 2013 ... SEO agencies typically offer four main forms of services and payment: ... most  common payment model, because it provides the greatest ROI.","searchenginewatch.com"]
[3,1,"best seo company","co.uk","uk","","http://www.10bestseo.com/agencies/","www.10bestseo.com","SEO Agencies - 10 Best SEO","10 Best SEO is the internet's fastest growing awards organization for online  marketing companies. The search engine optimization firms here are good...","10bestseo.com"]
[4,1,"best seo company","co.uk","uk","","http://www.branded3.com/blogs/top-25-most-visible-seo-agencies-in-the-uk-according-to-searchmetrics/","www.branded3.com","Top 25 Most Visible SEO Agencies in the UK According to ...","10 Jul 2013 ... Most people in the industry know not to judge an SEO company by their own  rankings but there are still a lot of clients out there that choose an ...","branded3.com"]
[5,1,"best seo company","co.uk","uk","","http://outspokenmedia.com/seo/how-to-choose-a-seo-company-ignore-top-seo-lists/","outspokenmedia.com","How to Choose an SEO Company: Ignore Top SEO Lists ...","22 Feb 2012 ... Finding a SEO company can be hard work! The process of hiring a SEO vendor  or consultant in a sea of spam and fake merits has to be ...","outspokenmedia.com"]
[6,1,"best seo company","co.uk","uk","","http://www.huffingtonpost.co.uk/jonathan-guy/seo-for-business_b_3912515.html","www.huffingtonpost.co.uk","How to Find a Good SEO Company | Jonathan Guy - Huffington Post","12 Sep 2013 ... To help you make something of a more informed choice, here are my top five  pointers for choosing your next SEO firm....","huffingtonpost.co.uk"]
[7,1,"best seo company","co.uk","uk","","http://www.seoconsultancyltd.com/","www.seoconsultancyltd.com","SEO Consultancy Ltd a SEO Company That Gets Results","SEO Consultancy Ltd, an Internationally Recognized SEO Company.  Specializing in Local and National SEO services with Top SEO Consultants in UK  and ...","seoconsultancyltd.com"]
[8,1,"best seo company","co.uk","uk","","http://www.bestseocompanies.com/","www.bestseocompanies.com","Best SEO Companies | Rankings of the Top SEO Firms of 2014","View our rankings of the best SEO companies of 2014 and find the search engine  optimization firm right for you. We assign a rating to each SEO company.","bestseocompanies.com"]
[9,1,"best seo company","co.uk","uk","","http://seo-firms.findthebest.com/","seo-firms.findthebest.com","Top SEO Companies - Compare Best SEO Services & Reviews","Find the top SEO companies and online marketing services by reviews and  features, such as local marketing, pay per click management, and content ...","findthebest.com"]
[10,1,"best seo company","co.uk","uk","","http://www.webimax.co.uk/","www.webimax.co.uk","Webimax.co.uk: SEO Company UK | Expert SEO Services UK","Welcome to WebiMax, the top-rated search engine optimisation (SEO) firm in the  U.S., Australia, and throughout Europe. We know we're perfect for your ...","webimax.co.uk"]
[11,2,"best seo company","co.uk","uk","","http://www.webimax.com/","www.webimax.com","An Internet Marketing Company | SEO Services | WebiMax™","Industry Leading SEO Services; Dedicated Project Managers; Results Driven ...  the internet are scrambling to secure their position in Google's good graces.","webimax.com"]
[12,2,"best seo company","co.uk","uk","","http://moz.com/community/recommended","moz.com","Recommended List of SEO, Social Media, Content, Hosting, and - Moz","Looking for help doing better marketing? The companies on our hand-curated list  are our recommended providers of SEO, social media, content, and more.","moz.com"]
[13,2,"best seo company","co.uk","uk","","http://www.smart-traffic.co.uk/","www.smart-traffic.co.uk","Smart Traffic - The UK's Largest SEO Company - Exceptional SEO ...","Smart Traffic is focused on delivering the highest-quality SEO services, and  delivering the best possible results and rankings for every one of our clients.","smart-traffic.co.uk"]
[14,2,"best seo company","co.uk","uk","","http://www.hobo-web.co.uk/","www.hobo-web.co.uk","Hobo SEO Agency | PPC & SEO Services in Glasgow | Scotland | UK","I'm sure you hear this all the time but I have to say this is the best SEO blog I have  ever seen. I have started my small design company recently and your site/blog ...","hobo-web.co.uk"]
[15,2,"best seo company","co.uk","uk","","http://www.inc.com/guides/2010/06/choosing-seo-firm.html","www.inc.com","How to Choose the Best SEO Firm for Your Business | Inc.com","21 Jun 2010 ... They practice what they preach, so they must be good right? Yes, good and  pricey. \"Some of the largest SEO firms have $50,000 a month ...","www.inc.com"]
[16,2,"best seo company","co.uk","uk","","http://www.vanillacircus.co.uk/","www.vanillacircus.co.uk","Vanilla Circus SEO Company run by one of the UK's leading SEO ...","Best of Breed: VC is one of the most progressive SEO companies in the UK.  Through our technology and insight, we offer long term, high volume web traffic ...","vanillacircus.co.uk"]
[17,2,"best seo company","co.uk","uk","","http://seo-firms.findthebest.com/d/b/Small-Business","seo-firms.findthebest.com","Best Small Business SEO Firms | Compare Reviews and Ratings","Find SEO firms for Small Businesses. Compare by industry expertise, services  offered, SEO statistics, support features, ratings, and more.","findthebest.com"]
[18,2,"best seo company","co.uk","uk","","http://www.youtube.com/watch%3Fv%3DVkrU-JIshIs","www.youtube.com","Best SEO Company Canada | EMethod | Calgary Search Engine ...","19 Feb 2014 - 2 min - Uploaded by Dave Vass http://www.emethod.ca/calgary-seo - We are one of the best SEO companies in Canada. If you ...","youtube.com"]
[19,2,"best seo company","co.uk","uk","","http://www.brandingwithseo.com/","www.brandingwithseo.com","SEO Company | 45 Day SEO Services Trial | Top Rated SEO Firm","BrandWithSEO is one of the premier national nyc SEO companies, offering it's  groundbreaking 45 DAY SEO services trial. To learn more, click here now.","brandingwithseo.com"]
[20,2,"best seo company","co.uk","uk","","http://en.wikipedia.org/wiki/Search_engine_optimization","en.wikipedia.org","Search engine optimization - Wikipedia, the free encyclopedia","Wired magazine reported that the same company sued blogger and SEO Aaron  .... the site being penalised however do not act in producing the best content for ...","wikipedia.org"]
[1,1,"seo marketing","co.uk","uk","","http://en.wikipedia.org/wiki/Search_engine_optimization","en.wikipedia.org","Search engine optimization - Wikipedia, the free encyclopedia","As an Internet marketing strategy, SEO considers how search engines work, what  people search for, the actual search terms or keywords typed into search ...","wikipedia.org"]
[2,1,"seo marketing","co.uk","uk","","http://searchengineland.com/guide/what-is-seo","searchengineland.com","What Is SEO / Search Engine Optimization? - Search Engine Land","Also well worth checking out is Moz's “Beginner's Guide To SEO,” which you'll  find here, and the SEO Success Pyramid from Small Business Search Marketing.","searchengineland.com"]
[3,1,"seo marketing","co.uk","uk","","http://www.hobo-web.co.uk/what-is-seo-a-guide-for-beginners/","www.hobo-web.co.uk","What Is SEO? Marketing, Content Writing & Strategy For Beginners ...","31 Jul 2014 ... What is SEO - Search engine optimisation. a beginners guide to the craft of  Google SEO in 2014.","hobo-web.co.uk"]
[4,1,"seo marketing","co.uk","uk","","http://www.inc.com/michael-mothner/seo-marketing-myths.html","www.inc.com","SEO Marketing 6 Things to Understand | Inc.com","19 Sep 2012 ... In the world of online marketing, misinformation abounds--and it ... you think you  know (but don't) about search-engine optimization, or SEO, ...","www.inc.com"]
[5,1,"seo marketing","co.uk","uk","","http://www.screamingfrog.co.uk/","www.screamingfrog.co.uk","Screaming Frog: SEO, Search Engine Optimisation & Marketing","Screaming Frog are an innovative search engine marketing agency offering  search engine optimisation (SEO) and pay-per-click (PPC) advertising services.","screamingfrog.co.uk"]
[6,1,"seo marketing","co.uk","uk","","http://www.theguardian.com/media/2014/jul/28/google-seo-social-media-search-marketing-panda-penguin-hummingbird","www.theguardian.com","Google search changes will push SEO firms and social media ...","28 Jul 2014 ... \"Yes, SEO is dead (technically) in the way we used to be able to build links,\" says  Matt Wilkinson, account director at Pinnacle Marketing ...","theguardian.com"]
[7,1,"seo marketing","co.uk","uk","","http://www.entrepreneur.com/article/225379","www.entrepreneur.com","5 Deadly Sins of SEO and Online Marketing - Entrepreneur","2 Jan 2013 ... It's up to business owners, and the marketing and search engine optimization ( SEO) professionals they might hire, to figure out what works and ...","entrepreneur.com"]
[8,1,"seo marketing","co.uk","uk","","http://www.redevolution.com/what-is-seo/","www.redevolution.com","What is SEO? Here's A Simple Plain English Answer, SEO in a ...","Wondering what search engine optimisation is all about. Here's a simple  explanation of SEO. A straightforward answer to the question, what is SEO?","redevolution.com"]
[9,1,"seo marketing","co.uk","uk","","http://www.123ranking.co.uk/","www.123ranking.co.uk","Cheap SEO Services - Low cost & highly rated SEO company in ...","123 Ranking Based in Leicester. We offer cheap SEO marketing services for  SME companies in the UK.","123ranking.co.uk"]
[10,1,"seo marketing","co.uk","uk","","http://searchenginewatch.com/article/2259693/SEO-Basics-8-Essentials-When-Optimizing-Your-Site","searchenginewatch.com","SEO Basics: 8 Essentials When Optimizing Your Site - SEW","31 Dec 2013 ... Skipping the basics of SEO will leave your site's foundation a mess and prevent  you from fully ... The Original Search Marketing Event is Back!","searchenginewatch.com"]
[11,2,"seo marketing","co.uk","uk","","http://searchenginewatch.com/seo","searchenginewatch.com","SEO: Search Engine Optimization, Link Building & Social Marketing ...","Search Engine Optimization (SEO) tactics, tools, and news on website crawling,  indexing and ranking; link building; algorithm changes; keyword research, and ...","searchenginewatch.com"]
[12,2,"seo marketing","co.uk","uk","","http://www.jellyfish.co.uk/seo-social/","www.jellyfish.co.uk","SEO & Social Media Marketing Services by Jellyfish UK","SEO & social media marketing services; we advocate better organic visibility and  engagement toward short term and long term search engine optimisation ...","jellyfish.co.uk"]
[13,2,"seo marketing","co.uk","uk","","https://econsultancy.com/training/courses/seo-training","econsultancy.com","Search Engine Optimization (SEO) Marketing Training | Econsultancy","Our SEO training course will enable you to build an organic search marketing  strategy that will bring more of the right kind of visitors to your website, boost  online ...","econsultancy.com"]
[14,2,"seo marketing","co.uk","uk","","http://moz.com/learn/seo","moz.com","Learn SEO and Social Media - Moz","There's no better way to begin your SEO education. Check out the Beginner's  Guide to SEO and unleash the power of SEO on your web marketing campaigns.","moz.com"]
[15,2,"seo marketing","co.uk","uk","","http://www.mainstreethost.com/","www.mainstreethost.com","Mainstreethost: Affordable SEO & Search Engine Marketing ...","Get your website found and start converting traffic into business! Mainstreethost  specializes in search engine optimization (SEO), paid search marketing, website  ...","mainstreethost.com"]
[16,2,"seo marketing","co.uk","uk","","http://www.hallaminternet.com/","www.hallaminternet.com","Digital Marketing Agency | Hallam Internet Ltd","Our clients trust us to deliver ethical digital marketing services including SEO,  Social Media campaigns, Email Marketing, and PPC. Give us a call for a chat.","hallaminternet.com"]
[17,2,"seo marketing","co.uk","uk","","https://support.google.com/webmasters/answer/35291%3Fhl%3Den","support.google.com","Do you need an SEO? - Webmaster Tools Help - Google Help","SEO is an acronym for \"search engine optimization\" or \"search engine optimizer.  ... Do you offer any online marketing services or advice to complement your ...","google.com"]
[18,2,"seo marketing","co.uk","uk","","http://www.theidm.com/marketing-training/courses/search-engine-optimisation-seo-training-course/","www.theidm.com","SEO (Search Engine Optimisation) Training Course","This practical one-day SEO course demystifies search engine marketing, helps ...","theidm.com"]
[19,2,"seo marketing","co.uk","uk","","http://www.theidm.com/marketing-training/courses/search-marketing-seo-ppc-training-course/","www.theidm.com","Search Marketing: SEO and PPC Training Course","This two-day training course covers everything you need to know about ...","theidm.com"]
[20,2,"seo marketing","co.uk","uk","","http://www.brightonseo.com/","www.brightonseo.com","BrightonSEO « a free search marketing conference in Brighton","BrightonSEO is a free one-day search marketing conference and series of ... to  navigate the world of SEO myself with no experience or budget to invest in  paying ...","brightonseo.com"]
[1,1,"best seo","co.uk","uk","","http://searchenginewatch.com/article/2303494/21-Best-FREE-SEO-Tools-for-On-Page-Optimization","searchenginewatch.com","21 Best FREE SEO Tools for On-Page Optimization - SEW","29 Oct 2013 ... To reach the top of the SERPs and stay there, your website must deserve to be  there. It needs to be the best in class. It must offer the best user ...","searchenginewatch.com"]
[2,1,"best seo","co.uk","uk","","http://www.traffictravis.com/","www.traffictravis.com","Traffic Travis: Free SEO Software | The Best SEO Management Tool","Best Free SEO Software for all your SEO & PPC Management needs. Use Traffic  Travis for both on and off page analysis as well as spying on your competitors.","traffictravis.com"]
[3,1,"best seo","co.uk","uk","","http://www.10bestseo.com/agencies/","www.10bestseo.com","SEO Agencies - 10 Best SEO","10 Best SEO is the internet's fastest growing awards organization for online  marketing companies. The search engine optimization firms here are good...","10bestseo.com"]
[4,1,"best seo","co.uk","uk","","http://www.google.co.uk/webmasters/docs/search-engine-optimization-starter-guide.pdf","www.google.co.uk","Search Engine Optimization Starter Guide - Google","and foremost on what's best for the visitors of your site. They're the ... Search  engine optimization is about putting your site's best foot ... SEO for Mobile  Phones.","google.co.uk"]
[5,1,"best seo","co.uk","uk","","http://www.forbes.com/sites/joshsteimle/2013/09/23/4-tips-for-hiring-the-right-seo-firm/","www.forbes.com","4 Tips For Hiring The Right SEO Firm - Forbes","23 Sep 2013 ... A nice-looking website does not a good SEO firm make. If you're looking to hire  an SEO firm that can also take care of designing your new ...","forbes.com"]
[6,1,"best seo","co.uk","uk","","http://www.wordtracker.com/academy/learn-seo/getting-started/seo-mistakes","www.wordtracker.com","Top 10 shameful SEO mistakes | Wordtracker Academy","When webmasters build a site, often they get carried away with the design or  rankings, forgetting SEO best practices that will safeguard the integrity of their site .","wordtracker.com"]
[7,1,"best seo","co.uk","uk","","http://seo-software-review.toptenreviews.com/","seo-software-review.toptenreviews.com","SEO Software Review 2014 - TopTenREVIEWS","We rank the best seo software with side-by-side comparisons. Read in-depth  product reviews and articles. Compare features, prices and browse hundreds of ...","toptenreviews.com"]
[8,1,"best seo","co.uk","uk","","http://www.seoconsultancyltd.com/","www.seoconsultancyltd.com","SEO Consultancy Ltd a SEO Company That Gets Results","SEO Consultancy Ltd, an Internationally Recognized SEO Company.  Specializing in Local and National SEO services with Top SEO Consultants in UK  and ...","seoconsultancyltd.com"]
[9,1,"best seo","co.uk","uk","","http://moz.com/learn/seo/title-tag","moz.com","Title Tag - Learn SEO - Moz","The title tag is the single most important on-page SEO element (behind overall  content). Get up-to-date SEO best practices for title tags.","moz.com"]
[10,1,"best seo","co.uk","uk","","http://www.seoworks.com/seo-companies/best-seo-company/","www.seoworks.com","Best SEO Company Australia - Top 10 - September 2014 | seoWorks™","How do you judge which is the best SEO company in Australia? By their own  SEO results of course - discover which company is the best for you.","seoworks.com"]
[11,2,"best seo","co.uk","uk","","https://econsultancy.com/reports/seo-best-practice-guide","econsultancy.com","Search Engine Optimization (SEO) Best Practice Guide | Econsultancy","Built on the foundations of our previous, highly-renowned report, Econsultancy's  SEO Best Practice Guide contains everything you need to know about search ...","econsultancy.com"]
[12,2,"best seo","co.uk","uk","","http://seo-firms.findthebest.com/","seo-firms.findthebest.com","Top SEO Companies - Compare Best SEO Services & Reviews","Find the top SEO companies and online marketing services by reviews and  features, such as local marketing, pay per click management, and content ...","findthebest.com"]
[13,2,"best seo","co.uk","uk","","http://www.seowebsiteoptimisationlondon.com/","www.seowebsiteoptimisationlondon.com","BEST SEO LONDON | SEO CONSULTANT UK - WEBSITE ...","The Best Website Search Engine Optimisation London Consultant Web Designer  PPC Marketing Services All in One Optimization Company Google Social ...","seowebsiteoptimisationlondon.com"]
[14,2,"best seo","co.uk","uk","","https://yoast.com/articles/wordpress-seo/","yoast.com","WordPress SEO Tutorial • The Definitive Guide • Yoast","8 Sep 2014 ... WordPress is one of the best, if not the best content management systems when it  comes to SEO. That being said, spending time on your ...","yoast.com"]
[15,2,"best seo","co.uk","uk","","http://www.topseos-rankings.com/best-seo-companies","www.topseos-rankings.com","Rankings of Best SEO Services, SEO Companies, SEO Consultants ...","15 Sep 2014 ... Best SEO Company. Rankings & reviews of the best SEO companies & search  engine marketing firms. Find the best SEO services, SEO ...","topseos-rankings.com"]
[16,2,"best seo","co.uk","uk","","http://www.bestseocompanies.com/","www.bestseocompanies.com","Best SEO Companies | Rankings of the Top SEO Firms of 2014","View our rankings of the best SEO companies of 2014 and find the search engine  optimization firm right for you. We assign a rating to each SEO company.","bestseocompanies.com"]
[17,2,"best seo","co.uk","uk","","http://www.hobo-web.co.uk/best-seo-tools/","www.hobo-web.co.uk","Hobo Best SEO Tools of 2014 | SEO & Link Building Software","27 Jul 2014 ... IN-DEPTH REVIEWS & RECOMMENDATIONS - The best SEO tools for  beginners to use in 2013, and for 2014.","hobo-web.co.uk"]
[18,2,"best seo","co.uk","uk","","http://www.europeansearchawards.com/winners","www.europeansearchawards.com","Winners - European Search Awards","Best Low Budget Campaign. Local Fame UK Ltd - Panther Pest Control 2013.  Best Pan European. Stickyeyes - Driving Excellence in International SEO.","europeansearchawards.com"]
[19,2,"best seo","co.uk","uk","","http://seo.alltop.com/","seo.alltop.com","Alltop - Top SEO (Search Engine Optimization) News","Search engine optimization news and headlines from across the web.","alltop.com"]
[20,2,"best seo","co.uk","uk","","http://www.mastergoogle.com/","www.mastergoogle.com","Master Google SEO: Top of Google Rankings for Orthodontists ...","\"We'll get your Web site ranked at the top of Google's 1st page - with a 100%  money-back guarantee.\" - SEO expert, Ali Husayni.","mastergoogle.com"]
[1,1,"seo optimization","co.uk","uk","","http://searchenginewatch.com/article/2259693/SEO-Basics-8-Essentials-When-Optimizing-Your-Site","searchenginewatch.com","SEO Basics: 8 Essentials When Optimizing Your Site - SEW","31 Dec 2013 ... Basic search engine optimization (SEO) is fundamental. And essential. SEO will  help you position your website properly to be found at the most ...","searchenginewatch.com"]
[2,1,"seo optimization","co.uk","uk","","http://en.wikipedia.org/wiki/Search_engine_optimization","en.wikipedia.org","Search engine optimization - Wikipedia, the free encyclopedia","Search engine optimization (SEO) is the process of affecting the visibility of a  website or a web page in a search engine's \"natural\" or un-paid (\"organic\")  search ...","wikipedia.org"]
[3,1,"seo optimization","co.uk","uk","","http://www.google.co.uk/webmasters/docs/search-engine-optimization-starter-guide.pdf","www.google.co.uk","Search Engine Optimization Starter Guide - Google","every day, every night, non stop. From here on, I'll be explaining various points  on search engine optimization (SEO)! SEO Basics. Create unique, accurate page  ...","google.co.uk"]
[4,1,"seo optimization","co.uk","uk","","http://searchengineland.com/guide/what-is-seo","searchengineland.com","What Is SEO / Search Engine Optimization? - Search Engine Land","Get started learning all about SEO from the industry's most trusted source, Search  Engine Land. Review basics of search engine optimization, ranking factors ...","searchengineland.com"]
[5,1,"seo optimization","co.uk","uk","","http://www.businessinsider.com/10-basic-seo-tips-everyone-should-know-2010-1%3Fop%3D1","www.businessinsider.com","10 Basic SEO Tips To Get You Started - Business Insider","13 Jan 2010 ... At its most basic, \"SEO\" means finding ways to increase your site's appearance ...  Check out our 10 basic tips for search engine optimization > ...","businessinsider.com"]
[6,1,"seo optimization","co.uk","uk","","http://moz.com/beginners-guide-to-seo","moz.com","SEO: The Free Beginner's Guide From Moz","1 Mar 2013 ... What is Search Engine Optimization (SEO)? SEO is the practice of improving and  promoting a web site in order to increase the number of ...","moz.com"]
[7,1,"seo optimization","co.uk","uk","","https://support.google.com/webmasters/answer/35291%3Fhl%3Den","support.google.com","Do you need an SEO? - Webmaster Tools Help - Google Help","SEO is an acronym for \"search engine optimization\" or \"search engine optimizer.\"  Deciding to hire an SEO is a big decision that can potentially improve your site ...","google.com"]
[8,1,"seo optimization","co.uk","uk","","http://computer.howstuffworks.com/search-engine-optimization.htm","computer.howstuffworks.com","HowStuffWorks \"How Search Engine Optimization (SEO) Works\"","Search engine optimization (SEO) is a collection of techniques used to increase  a Web site's ranking in search engine results pages. Learn about SEO.","howstuffworks.com"]
[9,1,"seo optimization","co.uk","uk","","http://www.webopedia.com/TERM/S/SEO.html","www.webopedia.com","What is Search Engine Optimization (SEO)? Webopedia","SEO is strategies, techniques and tactics to increase the number of visitors to a  website by obtaining a high-ranking placement in search results.","webopedia.com"]
[10,1,"seo optimization","co.uk","uk","","http://www.hobo-web.co.uk/seo-tutorial/","www.hobo-web.co.uk","Google SEO Tutorial for Beginners | How To SEO A Website Step By ...","2 Apr 2013 ... There are a lot of definitions of SEO (spelled Search engine optimisation in the  UK, or search engine optimization in the US) but lets face it, ...","hobo-web.co.uk"]
[11,2,"seo optimization","co.uk","uk","","http://www.searchenginejournal.com/seo-101-getting-page-seo-basics/97871/","www.searchenginejournal.com","SEO 101: Getting The On-Page SEO Basics - Search Engine Journal","11 Apr 2014 ... It's a common mistake to ignore the basics of SEO and focus on getting links  instead of what's in your control…the optimization of your own site.","searchenginejournal.com"]
[12,2,"seo optimization","co.uk","uk","","http://www.screamingfrog.co.uk/search-engine-optimisation/","www.screamingfrog.co.uk","Search Engine Optimisation (SEO) Services Agency | Screaming Frog","Find out how Screaming Frog can help you leap to the top of the search engines  with our innovative & transparent search engine optimisation (SEO) services.","screamingfrog.co.uk"]
[13,2,"seo optimization","co.uk","uk","","http://www.entrepreneur.com/article/231235","www.entrepreneur.com","Your SEO Checklist: 4 Steps to Optimizing Your Website","4 Feb 2014 ... In his book Ultimate Guide to Optimizing Your Website, SEO and online  marketing expert Jon Rognerud shows you how to build a ...","entrepreneur.com"]
[14,2,"seo optimization","co.uk","uk","","http://www.entrepreneur.com/seo/","www.entrepreneur.com","SEO | Search Engine Optimization - Entrepreneur","The latest SEO news, tips, and tools for growing your business online. Search  engine optimization strategies to get more traffic and sales from Entrepreneur.","entrepreneur.com"]
[15,2,"seo optimization","co.uk","uk","","http://www.wikihow.com/Optimize-Your-Website-for-Search-Engine-Use","www.wikihow.com","How to Optimize Your Website for Search Engine Use: 12 Steps","Content still reigns as the king in the world of Search Engine Optimization (SEO).  Some websites get on top of search engine rankings because of high-powered ...","wikihow.com"]
[16,2,"seo optimization","co.uk","uk","","http://www.webconfs.com/15-minute-seo.php","www.webconfs.com","15 Minute Search Engine Optimization List - Learn how to SEO","In addition to keywords, you can optimize for keyword phrases that consist of  several words – e.g. “SEO services”. It is best when the keyword phrases you ...","webconfs.com"]
[17,2,"seo optimization","co.uk","uk","","http://www.bruceclay.com/eu/seo/search-engine-optimization.htm","www.bruceclay.com","Bruce Clay EU - Search Engine Optimization Training and SEO ...","Free step-by-step SEO tutorial with tools and advice. Search Engine Optimization  services, classroom SEO training, SEO tools, site Assessments, free tips, ...","bruceclay.com"]
[18,2,"seo optimization","co.uk","uk","","http://www.wordstream.com/seo","www.wordstream.com","SEO Optimization - Learn to Optimize for SEO | WordStream","\"SEO optimization\" sounds redundant, at first blush, but search engine  optimization is often inefficient and (ironically) far from optimized. SEO software  should ...","wordstream.com"]
[19,2,"seo optimization","co.uk","uk","","http://www.mainstreethost.com/services/search-engine-optimization.html","www.mainstreethost.com","Search Engine Optimization | Affordable SEO Services at ...","Looking for an established search engine optimization company? ... Our SEO  services give you long-lasting results that extend beyond a quick, temporary  boost ...","mainstreethost.com"]
[20,2,"seo optimization","co.uk","uk","","http://www.powermapper.com/products/sortsite/checks/seo-checks.htm","www.powermapper.com","SEO Checker: Check SEO Optimization and Find Website Problems","SortSite is an SEO tool which tests sites for search optimization, and Google /  Yahoo / Bing webmaster guidelines, plus 450 other issues. Try now.","powermapper.com"]
[1,1,"seo search engine optimization","co.uk","uk","","http://en.wikipedia.org/wiki/Search_engine_optimization","en.wikipedia.org","Search engine optimization - Wikipedia, the free encyclopedia","Search engine optimization (SEO) is the process of affecting the visibility of a  website or a web page in a search engine's \"natural\" or un-paid (\"organic\")  search ...","wikipedia.org"]
[2,1,"seo search engine optimization","co.uk","uk","","http://searchengineland.com/guide/what-is-seo","searchengineland.com","What Is SEO / Search Engine Optimization? - Search Engine Land","Get started learning all about SEO from the industry's most trusted source, Search  Engine Land. Review basics of search engine optimization, ranking factors ...","searchengineland.com"]
[3,1,"seo search engine optimization","co.uk","uk","","http://www.google.co.uk/webmasters/docs/search-engine-optimization-starter-guide.pdf","www.google.co.uk","Search Engine Optimization Starter Guide - Google","every day, every night, non stop. From here on, I'll be explaining various points  on search engine optimization (SEO)! SEO Basics. Create unique, accurate page  ...","google.co.uk"]
[4,1,"seo search engine optimization","co.uk","uk","","https://support.google.com/webmasters/answer/35291%3Fhl%3Den","support.google.com","Do you need an SEO? - Webmaster Tools Help - Google Help","SEO is an acronym for \"search engine optimization\" or \"search engine optimizer.\"  Deciding to hire an SEO is a big decision that can potentially improve your site ...","google.com"]
[5,1,"seo search engine optimization","co.uk","uk","","http://moz.com/beginners-guide-to-seo","moz.com","SEO: The Free Beginner's Guide From Moz","1 Mar 2013 ... What is Search Engine Optimization (SEO)? SEO is the practice of improving and  promoting a web site in order to increase the number of ...","moz.com"]
[6,1,"seo search engine optimization","co.uk","uk","","http://www.webopedia.com/TERM/S/SEO.html","www.webopedia.com","What is Search Engine Optimization (SEO)? Webopedia","SEO is short for search engine optimization or search engine optimizer. Search  engine optimization is a methodology of strategies, techniques and tactics used ...","webopedia.com"]
[7,1,"seo search engine optimization","co.uk","uk","","http://searchenginewatch.com/article/2259693/SEO-Basics-8-Essentials-When-Optimizing-Your-Site","searchenginewatch.com","SEO Basics: 8 Essentials When Optimizing Your Site - SEW","31 Dec 2013 ... Basic search engine optimization (SEO) is fundamental. And essential. SEO will  help you position your website properly to be found at the most ...","searchenginewatch.com"]
[8,1,"seo search engine optimization","co.uk","uk","","http://searchenginewatch.com/seo","searchenginewatch.com","SEO: Search Engine Optimization, Link Building & Social Marketing ...","Search Engine Optimization (SEO) tactics, tools, and news on website crawling,  indexing and ranking; link building; algorithm changes; keyword research, and ...","searchenginewatch.com"]
[9,1,"seo search engine optimization","co.uk","uk","","http://www.bruceclay.com/eu/seo/search-engine-optimization.htm","www.bruceclay.com","Bruce Clay EU - Search Engine Optimization Training and SEO ...","Free step-by-step SEO tutorial with tools and advice. Search Engine Optimization  services, classroom SEO training, SEO tools, site Assessments, free tips, ...","bruceclay.com"]
[10,2,"seo search engine optimization","co.uk","uk","","http://www.entrepreneur.com/seo/","www.entrepreneur.com","SEO | Search Engine Optimization - Entrepreneur","The latest SEO news, tips, and tools for growing your business online. Search  engine optimization strategies to get more traffic and sales from Entrepreneur.","entrepreneur.com"]
[11,2,"seo search engine optimization","co.uk","uk","","http://computer.howstuffworks.com/search-engine-optimization.htm","computer.howstuffworks.com","HowStuffWorks \"How Search Engine Optimization (SEO) Works\"","Search engine optimization (SEO) is a collection of techniques used to increase  a Web site's ranking in search engine results pages. Learn about SEO.","howstuffworks.com"]
[12,2,"seo search engine optimization","co.uk","uk","","http://www.screamingfrog.co.uk/","www.screamingfrog.co.uk","Screaming Frog: SEO, Search Engine Optimisation & Marketing","Screaming Frog are an innovative search engine marketing agency offering  search engine optimisation (SEO) and pay-per-click (PPC) advertising services.","screamingfrog.co.uk"]
[13,2,"seo search engine optimization","co.uk","uk","","http://www.mainstreethost.com/services/search-engine-optimization.html","www.mainstreethost.com","Search Engine Optimization | Affordable SEO Services at ...","Looking for an established search engine optimization company? ... Our SEO  services give you long-lasting results that extend beyond a quick, temporary  boost ...","mainstreethost.com"]
[14,2,"seo search engine optimization","co.uk","uk","","http://www.searchenginejournal.com/55-quick-seo-tips-even-your-mother-would-love/","www.searchenginejournal.com","55 Quick SEO Tips Even Your Mother Would Love - Search Engine ...","55 quick SEO tips to help your rank your site higher. ... Here are 55 quick tips for  search engine optimization that even your mother could use to get cooking. Well  ...","searchenginejournal.com"]
[15,2,"seo search engine optimization","co.uk","uk","","http://www.businessinsider.com/10-basic-seo-tips-everyone-should-know-2010-1%3Fop%3D1","www.businessinsider.com","10 Basic SEO Tips To Get You Started - Business Insider","13 Jan 2010 ... Every business with a Web site should make Search Engine Optimization -- trying  to get your site as high up as possible on Google and Bing ...","businessinsider.com"]
[16,2,"seo search engine optimization","co.uk","uk","","http://www.webconfs.com/seo-tutorial/introduction-to-seo.php","www.webconfs.com","What Is SEO - WebConfs","This SEO tutorial covers all the necessary information you need to know about  Search Engine Optimization - what is it, how does it work and differences in the ...","webconfs.com"]
[17,2,"seo search engine optimization","co.uk","uk","","http://tools.seobook.com/","tools.seobook.com","Free SEO Tools & Search Engine Optimization Software","Search Engine Optimization Tools. try SEM Rush for free. We offer a wide array of  free and paid SEO tools to SEO professionals and DIY webmasters. Below you ...","seobook.com"]
[18,2,"seo search engine optimization","co.uk","uk","","http://www.majesticseo.com/","www.majesticseo.com","Majestic SEO : Backlink Checker & Site Explorer","Majestic SEO - Link intelligence tools for SEO and Internet PR and Marketing. ...  No other site or search engine gives you as much detailed information about ...","majesticseo.com"]
[19,2,"seo search engine optimization","co.uk","uk","","https://www.godaddy.com/search-engine/seo-services.aspx","www.godaddy.com","SEO Services | Search Engine Visibility Internet Marketing - GoDaddy","Want your website to be on page one of every search engine? Improve your site  rankings in ... Search Engine Optimization (SEO). Quick Tour. Starting at $2.69 / ...","godaddy.com"]
[20,3,"seo search engine optimization","co.uk","uk","","http://www.searchenginepeople.com/","www.searchenginepeople.com","Canada's Best SEO (Search Engine Optimization ) & PPC Company ...","We've been doing SEO since 2001 – before there was even an industry. ... \"Your  Smile Dental Care chose to work with Search Engine People because of their ...","searchenginepeople.com"]
[1,1,"seo check","co.uk","uk","","http://seositecheckup.com/","seositecheckup.com","SeoSiteCheckup.com: SEO Tools, Software and Articles","Find comprehensive search engine optimization (SEO) tools for your site. ...  Check your website's SEO problems for free. Type in your website, select factors  and ...","seositecheckup.com"]
[2,1,"seo check","co.uk","uk","","http://www.powermapper.com/products/sortsite/checks/seo-checks.htm","www.powermapper.com","SEO Checker: Check SEO Optimization and Find Website Problems","SortSite is an SEO tool which tests sites for search optimization, and Google /  Yahoo / Bing webmaster guidelines, plus 450 other issues. Try now.","powermapper.com"]
[3,1,"seo check","co.uk","uk","","http://www.woorank.com/","www.woorank.com","WooRank.com: Website Review - SEO Tool","WooRank is the most popular Website Review and SEO Tool. Run a ... SEO,  Social Media, Mobile Optimization, Usability and much more. ... Check out our  FAQ!","woorank.com"]
[4,1,"seo check","co.uk","uk","","http://www.majesticseo.com/","www.majesticseo.com","Majestic SEO : Backlink Checker & Site Explorer","Majestic SEO - Link intelligence tools for SEO and Internet PR and Marketing.  Site Explorer shows inbound link and site summary data.","majesticseo.com"]
[5,1,"seo check","co.uk","uk","","http://www.found.co.uk/seo-tool/","www.found.co.uk","FOUND SEO Audit Tool - Free Online Canonicalisation & Link ...","Founds Free Online SEO Audit Tool gives your URL a scan for technical issues.  Fantastic canonicalisation error checks and more.","found.co.uk"]
[6,1,"seo check","co.uk","uk","","https://www.pluginseo.com/","www.pluginseo.com","Plug in SEO: Check your website for problems","Check your website for problems that prevent it from performing well in search  engines. One succinct verdict: just Plug in SEO.","pluginseo.com"]
[7,1,"seo check","co.uk","uk","","http://www.seoworkers.com/tools/analyzer.html","www.seoworkers.com","SEO Tool for Search Engine Optimization Analysis - SEO Workers","We also made available a Firefox SEO extension which you can use to test your  pages with just a single click. Visit our seo analysis tool extension page for more  ...","seoworkers.com"]
[8,1,"seo check","co.uk","uk","","http://tools.seobook.com/general/spider-test/","tools.seobook.com","Search Engine Spider Test Tool - SEO Tools","Tool grabs the source code of a page and trys to show it similarly to how a search  spider may see it.","seobook.com"]
[9,1,"seo check","co.uk","uk","","https://chkme.com/","chkme.com","Check My SEO and Free SEO Tools - Website SEO Tool","Check My SEO Home: Website SEO Tools, Check my SEO, Internet Marketing,  Free SEO Tools. SEO Score, PageRank, Website Ranking, Website Grader.","chkme.com"]
[10,1,"seo check","co.uk","uk","","http://www.webseoanalytics.com/free/seo-tools/web-seo-analysis.php","www.webseoanalytics.com","Web SEO Analysis - Web SEO Analytics","Analyze your web pages with our SEO Analyzer and Build full SEO reports. ...  Web SEO Analysis; History; Personalize Report ... URL: Check All Subdomains ...","webseoanalytics.com"]
[11,2,"seo check","co.uk","uk","","http://www.webseoanalytics.com/free/seo-tools/web-seo-analysis.php","www.webseoanalytics.com","Web SEO Analysis - Web SEO Analytics","Analyze your web pages with our SEO Analyzer and Build full SEO reports. ...  Web SEO Analysis; History; Personalize Report ... URL: Check All Subdomains ...","webseoanalytics.com"]
[12,2,"seo check","co.uk","uk","","http://www.iwebmastertools.com/","www.iwebmastertools.com","SEO Check - Check the SEO score of your websites","SEO Check Tool app for iPhone and iPad. Optimize your websites for higher  search engine rankings.","iwebmastertools.com"]
[13,2,"seo check","co.uk","uk","","http://www.seocentro.com/tools/search-engines/keyword-position.html","www.seocentro.com","Rank Checker - SEOCentro","SEO tool to check your search engine position ranking for any keyword in the  major search engines and get an advanced report including related keywords  and ...","seocentro.com"]
[14,2,"seo check","co.uk","uk","","http://www.seocentro.com/tools/seo/seo-analyzer.html","www.seocentro.com","SEO Analyzer - Online SEO Checker Analysis report - SEOCentro","Free SEO Analyzer tool to give webmasters an in-depth analysis of their web  pages on-site and off-site SEO ranking on a page-by-page basis.","seocentro.com"]
[15,2,"seo check","co.uk","uk","","http://www.rankingtoday.com/seo/site-checkup.php","www.rankingtoday.com","SEO Site CheckUp - RankingToday.com","Check and improve your website for a better search engine ranking. ... Insert a  domain name or the URL of a page and start a SEO site checkup to find its leaks  ...","rankingtoday.com"]
[16,2,"seo check","co.uk","uk","","http://smallseotools.com/plagiarism-checker/","smallseotools.com","Plagiarism Checker - Small SEO Tools","Plagiarism Checker. Check For Plagiarism. To use this plagiarism checker,  please copy and paste your content in the box below, and then click on the big  green ...","smallseotools.com"]
[17,2,"seo check","co.uk","uk","","http://www.screamingfrog.co.uk/seo-spider/","www.screamingfrog.co.uk","Screaming Frog SEO Spider Tool & Crawler Software | Screaming ...","The Screaming Frog SEO Spider is a small desktop program (PC or Mac) which  crawls websites' links, ... Check out what SEOs have said about the SEO Spider!","screamingfrog.co.uk"]
[18,2,"seo check","co.uk","uk","","http://www.feedthebot.com/tools/alt/","www.feedthebot.com","Image SEO Tool / Alt text checker - Feedthebot.com","This online tool checks the images of a webpage to see if they are optimized for  search engines.","feedthebot.com"]
[19,2,"seo check","co.uk","uk","","http://moz.com/tools","moz.com","The Best Free SEO Tools in the Search Industry - Moz - Moz","Explore free Moz tools for SEO, Twitter analytics, rank tracking, and ... Check your  U.S. business listings on Google+ Local and other prominent local search ...","moz.com"]
[20,2,"seo check","co.uk","uk","","https://ahrefs.com/","ahrefs.com","Ahrefs Site Explorer & Backlink Checker","... a domain. Ahrefs SEO Report ... SEO Reports let you see any site as if through  the eyes of the search engine. It is a handy ... Or check out subscription options","ahrefs.com"]
[1,1,"seo sem","co.uk","uk","","http://en.wikipedia.org/wiki/Search_engine_marketing","en.wikipedia.org","Search engine marketing - Wikipedia, the free encyclopedia","[edit]. SEM is the wider discipline that incorporates SEO. SEM includes both paid  search results (using tools like Google ...","wikipedia.org"]
[2,1,"seo sem","co.uk","uk","","http://www.webopedia.com/DidYouKnow/Internet/the-difference-between-sem-and-seo.html","www.webopedia.com","The Difference Between SEM and SEO - Webopedia.com","1 May 2013 ... The phrases SEO (search engine optimization) and SEM (search engine  marketing) are similar -- and sometimes used interchangeably, SEO ...","webopedia.com"]
[3,1,"seo sem","co.uk","uk","","http://www.raisemyrank.com/articles/seo-sem.htm","www.raisemyrank.com","SEO vs. SEM - Raise My Rank","An article on the differences between search engine marketing and search  engine optimization.","raisemyrank.com"]
[4,1,"seo sem","co.uk","uk","","http://www.weidert.com/whole_brain_marketing_blog/bid/115490/What-Exactly-is-the-Difference-Between-SEO-SEM","www.weidert.com","What Exactly is the Difference Between SEO & SEM? - Weidert Group","8 May 2013 ... Get a distilled breakdown of SEO vs. SEM, including guidance on how to  leverage both for improved search engine visibility.","weidert.com"]
[5,1,"seo sem","co.uk","uk","","https://www.reliablesoft.net/what-is-the-difference-between-seo-and-sem/","www.reliablesoft.net","What is the difference between SEO and SEM? - Reliablesoft.net","The difference between SEO and SEM is simply that Search Engine Optimization  is a subset of Search engine marketing or Search marketing as it is widely ...","reliablesoft.net"]
[6,1,"seo sem","co.uk","uk","","http://envoc.com/think/what-is-seo-sem-and-crm","envoc.com","What is SEO, SEM, and CRM? | Think | Envoc","11 Oct 2012 ... SEO, CRM, CMS, SEM, CDN. Well, first off, a TLA is a “Three-Letter-Acronym.”  We get these questions so often, we decided to feature it in our ...","envoc.com"]
[7,1,"seo sem","co.uk","uk","","http://www.bruceclay.com/blog/what-is-sem/","www.bruceclay.com","What Is SEM, and Does SEM Include SEO? - Bruce Clay","9 Oct 2013 ... The topic of SEM in 2013 can be confusing. Learn how Bruce Clay, Inc., Google,  and other industry leaders appraoch answering the question: ...","bruceclay.com"]
[8,1,"seo sem","co.uk","uk","","http://www.visualscope.com/seo-sem.html","www.visualscope.com","SEO Versus SEM | Visualscope Studios","Confused between SEO and SEM? In this article, we clearly spell out the  differences between both techniques, and how a combined approach can bring ...","visualscope.com"]
[9,1,"seo sem","co.uk","uk","","http://www.strategic-ranking.com/seovssem.htm","www.strategic-ranking.com","SEO vs. SEM - Strategic Ranking","Search Engine Optimization (SEO) vs. Search Engine Marketing (SEM): What's  the Difference?","strategic-ranking.com"]
[10,1,"seo sem","co.uk","uk","","http://searchenginewatch.com/page/glossary","searchenginewatch.com","SEM Glossary: Online Marketing Terminology Defined - SEW","Common meta tags used in search engine marketing are title, description, and ...  SEM includes both search engine optimization (SEO) and search advertising, ...","searchenginewatch.com"]
[11,2,"seo sem","co.uk","uk","","http://ecommerce.about.com/od/Ecommerce-SEO/a/Seo-Vs-Sem.htm","ecommerce.about.com","SEO vs. SEM - Ecommerce - About.com","SEO as well as SEM are terms that can mean different things to different people.  So let me clarify what I mean by those terms. By no means are these expected ...","about.com"]
[12,2,"seo sem","co.uk","uk","","http://blog.hubspot.com/insiders/seo-sem-faqs","blog.hubspot.com","What's the Difference Between SEO and SEM? [FAQS] - Inbound Hub","19 Jun 2014 ... SEO and SEM seem to be used interchangeably, but they're actually two different  practices. Here's how to tell the difference between the two!","hubspot.com"]
[13,2,"seo sem","co.uk","uk","","http://www.buuteeq.com/blog/seo-vs-sem-an-infographic/","www.buuteeq.com","SEO vs. SEM – An Infographic - Buuteeq","11 Apr 2013 ... ... are a slew of acronyms in the world, and sometimes it's not clear what they  mean. Today we tackle SEO (search engine optimization) and SEM.","buuteeq.com"]
[14,2,"seo sem","co.uk","uk","","http://mashable.com/2011/06/27/seo-sem-tips/","mashable.com","HOW TO: Unify Your SEO & SEM Strategies - Mashable","27 Jun 2011 ... For years, advertisers have run their search engine marketing (SEM) and search  engine optimization (SEO) programs separately. The SEM ...","mashable.com"]
[15,2,"seo sem","co.uk","uk","","http://searchengineland.com/guide/what-is-sem","searchengineland.com","What Is Search Marketing? - Search Engine Land","Originally called “search engine marketing,” the shorter phrase “search marketing ” is now often used as the umbrella term over SEO and SEM. The longer ...","searchengineland.com"]
[16,2,"seo sem","co.uk","uk","","http://searchengineland.com/does-sem-seo-cpc-still-add-up-37297","searchengineland.com","Does SEM = SEO + CPC Still Add Up? - Search Engine Land","4 Mar 2010 ... I've found it annoying that over the years, more and more people use SEM to  mean paid search, as if SEM excludes SEO. That's not how I ...","searchengineland.com"]
[17,2,"seo sem","co.uk","uk","","http://searchengineland.com/library/channel/mobile","searchengineland.com","Mobile Search, SEO / SEM News & Trends | Search Engine Land","Must read news about the latest mobile search features and mobile search  marketing trends, mobile search stats, plus expert mobile marketing tips, tactics  and ...","searchengineland.com"]
[18,2,"seo sem","co.uk","uk","","http://www.staples.com/sbd/cre/tech-services/explore-tips-and-advice/easytech-u/paid-natural-search/seo-vs-sem-the-differences-between-natural-paid-search-5.html","www.staples.com","SEO vs. SEM: The Differences Between Natural & Paid Search ...","If you're marketing your business, you've probably heard of both SEO and SEM.  But do you know how they differ?","staples.com"]
[19,2,"seo sem","co.uk","uk","","http://www.dealerspan.com/themes/corp/tpl/content/services/SEO_Learning_Center.pdf","www.dealerspan.com","SEO Definition SEM Definition - Dealerspan","Search engine optimization (SEO) is the process of improving the volume and  quality of traffic to ... ROI through SEO than it is to get the same ROI through SEM.","dealerspan.com"]
[20,2,"seo sem","co.uk","uk","","http://www.socialmediatoday.com/content/seo-vs-sem-no-theyre-not-twins","www.socialmediatoday.com","SEO vs. SEM. No, They're Not Twins | Social Media Today","7 May 2012 ... In terms of the whole picture, SEO is a part of SEM. Search Engine Optimization  is the act of optimizing a website through key words and ...","socialmediatoday.com"]
[1,1,"website optimization","co.uk","uk","","http://shop.oreilly.com/product/9780596515089.do","shop.oreilly.com","Website Optimization - O'Reilly Media","Remember when an optimized website was one that merely didn't take all day to  appear? Times have changed. Today, website optimization can spell the ...","oreilly.com"]
[2,1,"website optimization","co.uk","uk","","http://www.websiteoptimization.com/services/analyze/","www.websiteoptimization.com","Web Page Analyzer - 0.98 - from Website Optimization","Free web page analysis service tests page size, composition, and download  speed. Recommends speed improvements based on best practices for usability,  ...","websiteoptimization.com"]
[3,1,"website optimization","co.uk","uk","","http://www.websiteoptimization.com/","www.websiteoptimization.com","Web Site Optimization: Speed Up Your Site website optimization ...","Website optimization speeds up slow web sites, increases website traffic, and  improves conversion rates. Our web optimization services increase website ...","websiteoptimization.com"]
[4,1,"website optimization","co.uk","uk","","http://en.wikipedia.org/wiki/Search_engine_optimization","en.wikipedia.org","Search engine optimization - Wikipedia, the free encyclopedia","Search engine optimization (SEO) is the process of affecting the visibility of a  website or a web page in a search engine's \"natural\" or un-paid (\"organic\")  search ...","wikipedia.org"]
[5,1,"website optimization","co.uk","uk","","http://searchenginewatch.com/article/2259693/SEO-Basics-8-Essentials-When-Optimizing-Your-Site","searchenginewatch.com","SEO Basics: 8 Essentials When Optimizing Your Site - SEW","31 Dec 2013 ... Basic search engine optimization (SEO) is fundamental. And essential. SEO will  help you position your website properly to be found at the most ...","searchenginewatch.com"]
[6,1,"website optimization","co.uk","uk","","http://www.wikihow.com/Optimize-Your-Website","www.wikihow.com","How to Optimize Your Website: 11 Steps - wikiHow","How to Optimize Your Website. Creating a website that appeals to search  engines can be challenging, but it's critical if you want your Website to generate a  ...","wikihow.com"]
[7,1,"website optimization","co.uk","uk","","http://gtmetrix.com/","gtmetrix.com","GTmetrix | Website Speed and Performance Optimization","GTmetrix is a free tool that analyzes your page's speed performance. Using Page  Speed and YSlow, GTmetrix generates scores for your pages and offers ...","gtmetrix.com"]
[8,1,"website optimization","co.uk","uk","","http://www.google.co.uk/webmasters/docs/search-engine-optimization-starter-guide.pdf","www.google.co.uk","Search Engine Optimization Starter Guide - Google","Search engine optimization is about putting your site's best foot ... you some fresh  ideas on how to improve your website, and we'd love to hear your questions, ...","google.co.uk"]
[9,1,"website optimization","co.uk","uk","","http://www.webpagetest.org/","www.webpagetest.org","WebPagetest - Website Performance and Optimization Test","Run a free website speed test from around the globe using real browsers at  consumer connection speeds with detailed optimization recommendations.","webpagetest.org"]
[10,1,"website optimization","co.uk","uk","","http://www.webopedia.com/TERM/W/website-optimization.html","www.webopedia.com","What is Website Optimization? Webopedia","Website optimization is a phrase that describes the procedures used to optimize  – or to design from scratch – a website to rank well in search engines.","webopedia.com"]
[11,2,"website optimization","co.uk","uk","","https://developers.google.com/speed/pagespeed/","developers.google.com","Page Speed - Google Developers","The PageSpeed family of tools is designed to help you optimize the performance  of your website. PageSpeed Insights products will help you identify ...","google.com"]
[12,2,"website optimization","co.uk","uk","","http://www.huffingtonpost.com/loolwa-khazzoom/three-steps-to-optimizing_b_4153411.html","www.huffingtonpost.com","5 Steps to Optimizing Your Website for Search Engines | Loolwa ...","24 Oct 2013 ... How are you going to stand out from the fray and get your website on the first  page of a search on topic? Here are 5 steps to optimizing your ...","huffingtonpost.com"]
[13,2,"website optimization","co.uk","uk","","http://www.hongkiat.com/blog/ultimate-guide-to-web-optimization-tips-best-practices/","www.hongkiat.com","Ultimate Guide To Web Optimization (Tips & Best Practices)","Web optimization is a vital part of web development and maintenance but also  something often overlooked by webmasters. Just think of the money you can  save ...","hongkiat.com"]
[14,2,"website optimization","co.uk","uk","","http://www.sitepoint.com/web-site-optimization-steps/","www.sitepoint.com","Web Site Optimization: 13 Simple Steps Article - SitePoint","24 Oct 2007 ... Earlier this year, Steve Souders from the Yahoo! Performance team published a  series of front-end performance optimization “rules” for ...","sitepoint.com"]
[15,2,"website optimization","co.uk","uk","","http://www.inc.com/magazine/20100701/how-to-optimize-your-site-for-search.html","www.inc.com","How to Optimize Your Site for Search | Inc.com","1 Jul 2010 ... Want to drive more potential customers to your website? ... can draw more  Google traffic by using search-engine optimization -- SEO, for short.","www.inc.com"]
[16,2,"website optimization","co.uk","uk","","http://academy.hubspot.com/website-optimization/","academy.hubspot.com","Learn How to Optimize Your Website Using HubSpot","Learn how to use HubSpot to optimize your website using HubSpot's SEO and  CMS tools.","hubspot.com"]
[17,2,"website optimization","co.uk","uk","","http://www.amazon.com/Website-Optimization-Andrew-King-B/dp/0596515081","www.amazon.com","Website Optimization: Andrew King B.: 9780596515089 - Amazon.com","Remember when an optimized website was one that merely didn't take all day to  appear? Times have changed. Today, website optimization can spell the ...","amazon.com"]
[18,2,"website optimization","co.uk","uk","","https://www.udacity.com/course/ud884","www.udacity.com","Website Performance Optimization Testing Course - Udacity","Web performance optimization is taught by a Google engineer. You'll learn how  to optimize any website for speed and about how browsers render pages.","udacity.com"]
[19,2,"website optimization","co.uk","uk","","http://www.blastam.com/web-site-optimization.aspx","www.blastam.com","Website Optimization by Google Website Optimizer Certified Partner","Website optimization to cost effectively increase number of users taking action on  your site. Improve the performance and usability of your website!","blastam.com"]
[20,2,"website optimization","co.uk","uk","","http://www.amazon.co.uk/Website-Optimization-Andrew-B-King/dp/0596515081","www.amazon.co.uk","Website Optimization: Amazon.co.uk: Andrew B. King: Books","Remember when an optimized website was one that merely didn't take all day to  appear? Times have changed. Today, website optimization can spell the ...","amazon.co.uk"]

{"sheet":"ShareOfSearch_Calculations","index":10,"n_rows":3002,"n_cols":6,"rows_kept":3002,"cut":false,"hidden":true,"merged":[]}
[{"$f":"IF(ISTEXT(ShareOfSearch_SERPS!C1),ShareOfSearch_SERPS!C1,\"\")","v":"KEYWORD"},{"$f":"IF(ISTEXT(ShareOfSearch_SERPS!D1),ShareOfSearch_SERPS!D1,\"\")","v":"TLD"},"RANK",{"$f":"IF(NOT(ISBLANK(ShareOfSearch_SERPS!G1)),ShareOfSearch_SERPS!G1,\"\")","v":"URL"},"DOMAIN","TRAFFIC"]
[{"$f":"IF(ISTEXT(ShareOfSearch_SERPS!C2),ShareOfSearch_SERPS!C2,\"\")","v":"seo"},{"$f":"IF(ISTEXT(ShareOfSearch_SERPS!D2),ShareOfSearch_SERPS!D2,\"\")","v":"co.uk"},{"$f":"IF(NOT(ISBLANK(ShareOfSearch_SERPS!A2)),ShareOfSearch_SERPS!A2,\"\")","v":1},{"$f":"IF(NOT(ISBLANK(ShareOfSearch_SERPS!G2)),ShareOfSearch_SERPS!G2,\"\")","v":"http://en.wikipedia.org/wiki/Search_engine_optimization"},{"$f":"IF(NOT(ISBLANK(ShareOfSearch_SERPS!K2)),ShareOfSearch_SERPS!K2,\"\")","v":"wikipedia.org"},{"$f":"IFERROR(VLOOKUP(C2,ShareOfSearch_CTR!$A$1:$B$100,2,FALSE)*VLOOKUP(A2&B2,ShareOfSearch_Volume!$C$1:$D$1000,2,FALSE),\"\")","v":804803.99999999977}]
[{"$f":"IF(ISTEXT(ShareOfSearch_SERPS!C3),ShareOfSearch_SERPS!C3,\"\")","v":"seo"},{"$f":"IF(ISTEXT(ShareOfSearch_SERPS!D3),ShareOfSearch_SERPS!D3,\"\")","v":"co.uk"},{"$f":"IF(NOT(ISBLANK(ShareOfSearch_SERPS!A3)),ShareOfSearch_SERPS!A3,\"\")","v":2},{"$f":"IF(NOT(ISBLANK(ShareOfSearch_SERPS!G3)),ShareOfSearch_SERPS!G3,\"\")","v":"http://en.wikipedia.org/wiki/SEO_(disambiguation)"},{"$f":"IF(NOT(ISBLANK(ShareOfSearch_SERPS!K3)),ShareOfSearch_SERPS!K3,\"\")","v":"wikipedia.org"},{"$f":"IFERROR(VLOOKUP(C3,ShareOfSearch_CTR!$A$1:$B$100,2,FALSE)*VLOOKUP(A3&B3,ShareOfSearch_Volume!$C$1:$D$1000,2,FALSE),\"\")","v":276374.99999999994}]
[{"$f":"IF(ISTEXT(ShareOfSearch_SERPS!C4),ShareOfSearch_SERPS!C4,\"\")","v":"seo"},{"$f":"IF(ISTEXT(ShareOfSearch_SERPS!D4),ShareOfSearch_SERPS!D4,\"\")","v":"co.uk"},{"$f":"IF(NOT(ISBLANK(ShareOfSearch_SERPS!A4)),ShareOfSearch_SERPS!A4,\"\")","v":3},{"$f":"IF(NOT(ISBLANK(ShareOfSearch_SERPS!G4)),ShareOfSearch_SERPS!G4,\"\")","v":"http://www.majesticseo.com/"},{"$f":"IF(NOT(ISBLANK(ShareOfSearch_SERPS!K4)),ShareOfSearch_SERPS!K4,\"\")","v":"majesticseo.com"},{"$f":"IFERROR(VLOOKUP(C4,ShareOfSearch_CTR!$A$1:$B$100,2,FALSE)*VLOOKUP(A4&B4,ShareOfSearch_Volume!$C$1:$D$1000,2,FALSE),\"\")","v":210044.99999999997}]
[{"$f":"IF(ISTEXT(ShareOfSearch_SERPS!C5),ShareOfSearch_SERPS!C5,\"\")","v":"seo"},{"$f":"IF(ISTEXT(ShareOfSearch_SERPS!D5),ShareOfSearch_SERPS!D5,\"\")","v":"co.uk"},{"$f":"IF(NOT(ISBLANK(ShareOfSearch_SERPS!A5)),ShareOfSearch_SERPS!A5,\"\")","v":4},{"$f":"IF(NOT(ISBLANK(ShareOfSearch_SERPS!G5)),ShareOfSearch_SERPS!G5,\"\")","v":"http://searchengineland.com/guide/what-is-seo"},{"$f":"IF(NOT(ISBLANK(ShareOfSearch_SERPS!K5)),ShareOfSearch_SERPS!K5,\"\")","v":"searchengineland.com"},{"$f":"IFERROR(VLOOKUP(C5,ShareOfSearch_CTR!$A$1:$B$100,2,FALSE)*VLOOKUP(A5&B5,ShareOfSearch_Volume!$C$1:$D$1000,2,FALSE),\"\")","v":174668.99999999997}]
[{"$f":"IF(ISTEXT(ShareOfSearch_SERPS!C6),ShareOfSearch_SERPS!C6,\"\")","v":"seo"},{"$f":"IF(ISTEXT(ShareOfSearch_SERPS!D6),ShareOfSearch_SERPS!D6,\"\")","v":"co.uk"},{"$f":"IF(NOT(ISBLANK(ShareOfSearch_SERPS!A6)),ShareOfSearch_SERPS!A6,\"\")","v":5},{"$f":"IF(NOT(ISBLANK(ShareOfSearch_SERPS!G6)),ShareOfSearch_SERPS!G6,\"\")","v":"http://www.screamingfrog.co.uk/seo-spider/"},{"$f":"IF(NOT(ISBLANK(ShareOfSearch_SERPS!K6)),ShareOfSearch_SERPS!K6,\"\")","v":"screamingfrog.co.uk"},{"$f":"IFERROR(VLOOKUP(C6,ShareOfSearch_CTR!$A$1:$B$100,2,FALSE)*VLOOKUP(A6&B6,ShareOfSearch_Volume!$C$1:$D$1000,2,FALSE),\"\")","v":134870.99999999997}]
[{"$f":"IF(ISTEXT(ShareOfSearch_SERPS!C7),ShareOfSearch_SERPS!C7,\"\")","v":"seo"},{"$f":"IF(ISTEXT(ShareOfSearch_SERPS!D7),ShareOfSearch_SERPS!D7,\"\")","v":"co.uk"},{"$f":"IF(NOT(ISBLANK(ShareOfSearch_SERPS!A7)),ShareOfSearch_SERPS!A7,\"\")","v":6},{"$f":"IF(NOT(ISBLANK(ShareOfSearch_SERPS!G7)),ShareOfSearch_SERPS!G7,\"\")","v":"http://www.theguardian.com/technology/seo"},{"$f":"IF(NOT(ISBLANK(ShareOfSearch_SERPS!K7)),ShareOfSearch_SERPS!K7,\"\")","v":"theguardian.com"},{"$f":"IFERROR(VLOOKUP(C7,ShareOfSearch_CTR!$A$1:$B$100,2,FALSE)*VLOOKUP(A7&B7,ShareOfSearch_Volume!$C$1:$D$1000,2,FALSE),\"\")","v":90650.999999999985}]
[{"$f":"IF(ISTEXT(ShareOfSearch_SERPS!C8),ShareOfSearch_SERPS!C8,\"\")","v":"seo"},{"$f":"IF(ISTEXT(ShareOfSearch_SERPS!D8),ShareOfSearch_SERPS!D8,\"\")","v":"co.uk"},{"$f":"IF(NOT(ISBLANK(ShareOfSearch_SERPS!A8)),ShareOfSearch_SERPS!A8,\"\")","v":7},{"$f":"IF(NOT(ISBLANK(ShareOfSearch_SERPS!G8)),ShareOfSearch_SERPS!G8,\"\")","v":"http://www.theguardian.com/small-business-network/2014/jan/16/what-is-seo-how-website-google-visibility"},{"$f":"IF(NOT(ISBLANK(ShareOfSearch_SERPS!K8)),ShareOfSearch_SERPS!K8,\"\")","v":"theguardian.com"},{"$f":"IFERROR(VLOOKUP(C8,ShareOfSearch_CTR!$A$1:$B$100,2,FALSE)*VLOOKUP(A8&B8,ShareOfSearch_Volume!$C$1:$D$1000,2,FALSE),\"\")","v":84017.999999999985}]
[{"$f":"IF(ISTEXT(ShareOfSearch_SERPS!C9),ShareOfSearch_SERPS!C9,\"\")","v":"seo"},{"$f":"IF(ISTEXT(ShareOfSearch_SERPS!D9),ShareOfSearch_SERPS!D9,\"\")","v":"co.uk"},{"$f":"IF(NOT(ISBLANK(ShareOfSearch_SERPS!A9)),ShareOfSearch_SERPS!A9,\"\")","v":8},{"$f":"IF(NOT(ISBLANK(ShareOfSearch_SERPS!G9)),ShareOfSearch_SERPS!G9,\"\")","v":"http://www.seo-london.com/"},{"$f":"IF(NOT(ISBLANK(ShareOfSearch_SERPS!K9)),ShareOfSearch_SERPS!K9,\"\")","v":"seo-london.com"},{"$f":"IFERROR(VLOOKUP(C9,ShareOfSearch_CTR!$A$1:$B$100,2,FALSE)*VLOOKUP(A9&B9,ShareOfSearch_Volume!$C$1:$D$1000,2,FALSE),\"\")","v":77384.999999999985}]
[{"$f":"IF(ISTEXT(ShareOfSearch_SERPS!C10),ShareOfSearch_SERPS!C10,\"\")","v":"seo"},{"$f":"IF(ISTEXT(ShareOfSearch_SERPS!D10),ShareOfSearch_SERPS!D10,\"\")","v":"co.uk"},{"$f":"IF(NOT(ISBLANK(ShareOfSearch_SERPS!A10)),ShareOfSearch_SERPS!A10,\"\")","v":9},{"$f":"IF(NOT(ISBLANK(ShareOfSearch_SERPS!G10)),ShareOfSearch_SERPS!G10,\"\")","v":"https://support.google.com/webmasters/answer/35291%3Fhl%3Den"},{"$f":"IF(NOT(ISBLANK(ShareOfSearch_SERPS!K10)),ShareOfSearch_SERPS!K10,\"\")","v":"google.com"},{"$f":"IFERROR(VLOOKUP(C10,ShareOfSearch_CTR!$A$1:$B$100,2,FALSE)*VLOOKUP(A10&B10,ShareOfSearch_Volume!$C$1:$D$1000,2,FALSE),\"\")","v":66329.999999999985}]
[{"$f":"IF(ISTEXT(ShareOfSearch_SERPS!C11),ShareOfSearch_SERPS!C11,\"\")","v":"seo"},{"$f":"IF(ISTEXT(ShareOfSearch_SERPS!D11),ShareOfSearch_SERPS!D11,\"\")","v":"co.uk"},{"$f":"IF(NOT(ISBLANK(ShareOfSearch_SERPS!A11)),ShareOfSearch_SERPS!A11,\"\")","v":10},{"$f":"IF(NOT(ISBLANK(ShareOfSearch_SERPS!G11)),ShareOfSearch_SERPS!G11,\"\")","v":"http://www.brightonseo.com/"},{"$f":"IF(NOT(ISBLANK(ShareOfSearch_SERPS!K11)),ShareOfSearch_SERPS!K11,\"\")","v":"brightonseo.com"},{"$f":"IFERROR(VLOOKUP(C11,ShareOfSearch_CTR!$A$1:$B$100,2,FALSE)*VLOOKUP(A11&B11,ShareOfSearch_Volume!$C$1:$D$1000,2,FALSE),\"\")","v":48641.999999999985}]
[{"$f":"IF(ISTEXT(ShareOfSearch_SERPS!C12),ShareOfSearch_SERPS!C12,\"\")","v":"seo"},{"$f":"IF(ISTEXT(ShareOfSearch_SERPS!D12),ShareOfSearch_SERPS!D12,\"\")","v":"co.uk"},{"$f":"IF(NOT(ISBLANK(ShareOfSearch_SERPS!A12)),ShareOfSearch_SERPS!A12,\"\")","v":11},{"$f":"IF(NOT(ISBLANK(ShareOfSearch_SERPS!G12)),ShareOfSearch_SERPS!G12,\"\")","v":"https://www.highposition.com/"},{"$f":"IF(NOT(ISBLANK(ShareOfSearch_SERPS!K12)),ShareOfSearch_SERPS!K12,\"\")","v":"highposition.com"},{"$f":"IFERROR(VLOOKUP(C12,ShareOfSearch_CTR!$A$1:$B$100,2,FALSE)*VLOOKUP(A12&B12,ShareOfSearch_Volume!$C$1:$D$1000,2,FALSE),\"\")","v":57485.999999999985}]
[{"$f":"IF(ISTEXT(ShareOfSearch_SERPS!C13),ShareOfSearch_SERPS!C13,\"\")","v":"seo"},{"$f":"IF(ISTEXT(ShareOfSearch_SERPS!D13),ShareOfSearch_SERPS!D13,\"\")","v":"co.uk"},{"$f":"IF(NOT(ISBLANK(ShareOfSearch_SERPS!A13)),ShareOfSearch_SERPS!A13,\"\")","v":12},{"$f":"IF(NOT(ISBLANK(ShareOfSearch_SERPS!G13)),ShareOfSearch_SERPS!G13,\"\")","v":"http://www.analyticsseo.com/"},{"$f":"IF(NOT(ISBLANK(ShareOfSearch_SERPS!K13)),ShareOfSearch_SERPS!K13,\"\")","v":"analyticsseo.com"},{"$f":"IFERROR(VLOOKUP(C13,ShareOfSearch_CTR!$A$1:$B$100,2,FALSE)*VLOOKUP(A13&B13,ShareOfSearch_Volume!$C$1:$D$1000,2,FALSE),\"\")","v":33164.999999999993}]
[{"$f":"IF(ISTEXT(ShareOfSearch_SERPS!C14),ShareOfSearch_SERPS!C14,\"\")","v":"seo"},{"$f":"IF(ISTEXT(ShareOfSearch_SERPS!D14),ShareOfSearch_SERPS!D14,\"\")","v":"co.uk"},{"$f":"IF(NOT(ISBLANK(ShareOfSearch_SERPS!A14)),ShareOfSearch_SERPS!A14,\"\")","v":13},{"$f":"IF(NOT(ISBLANK(ShareOfSearch_SERPS!G14)),ShareOfSearch_SERPS!G14,\"\")","v":"http://www.attacat.co.uk/seo"},{"$f":"IF(NOT(ISBLANK(ShareOfSearch_SERPS!K14)),ShareOfSearch_SERPS!K14,\"\")","v":"attacat.co.uk"},{"$f":"IFERROR(VLOOKUP(C14,ShareOfSearch_CTR!$A$1:$B$100,2,FALSE)*VLOOKUP(A14&B14,ShareOfSearch_Volume!$C$1:$D$1000,2,FALSE),\"\")","v":28742.999999999993}]
[{"$f":"IF(ISTEXT(ShareOfSearch_SERPS!C15),ShareOfSearch_SERPS!C15,\"\")","v":"seo"},{"$f":"IF(ISTEXT(ShareOfSearch_SERPS!D15),ShareOfSearch_SERPS!D15,\"\")","v":"co.uk"},{"$f":"IF(NOT(ISBLANK(ShareOfSearch_SERPS!A15)),ShareOfSearch_SERPS!A15,\"\")","v":14},{"$f":"IF(NOT(ISBLANK(ShareOfSearch_SERPS!G15)),ShareOfSearch_SERPS!G15,\"\")","v":"http://www.ihaveawebsite-nowwhat.co.uk/"},{"$f":"IF(NOT(ISBLANK(ShareOfSearch_SERPS!K15)),ShareOfSearch_SERPS!K15,\"\")","v":"ihaveawebsite-nowwhat.co.uk"},{"$f":"IFERROR(VLOOKUP(C15,ShareOfSearch_CTR!$A$1:$B$100,2,FALSE)*VLOOKUP(A15&B15,ShareOfSearch_Volume!$C$1:$D$1000,2,FALSE),\"\")","v":24320.999999999993}]
[{"$f":"IF(ISTEXT(ShareOfSearch_SERPS!C16),ShareOfSearch_SERPS!C16,\"\")","v":"seo"},{"$f":"IF(ISTEXT(ShareOfSearch_SERPS!D16),ShareOfSearch_SERPS!D16,\"\")","v":"co.uk"},{"$f":"IF(NOT(ISBLANK(ShareOfSearch_SERPS!A16)),ShareOfSearch_SERPS!A16,\"\")","v":15},{"$f":"IF(NOT(ISBLANK(ShareOfSearch_SERPS!G16)),ShareOfSearch_SERPS!G16,\"\")","v":"http://skyrocketseo.com/"},{"$f":"IF(NOT(ISBLANK(ShareOfSearch_SERPS!K16)),ShareOfSearch_SERPS!K16,\"\")","v":"skyrocketseo.com"},{"$f":"IFERROR(VLOOKUP(C16,ShareOfSearch_CTR!$A$1:$B$100,2,FALSE)*VLOOKUP(A16&B16,ShareOfSearch_Volume!$C$1:$D$1000,2,FALSE),\"\")","v":26531.999999999996}]
[{"$f":"IF(ISTEXT(ShareOfSearch_SERPS!C17),ShareOfSearch_SERPS!C17,\"\")","v":"seo"},{"$f":"IF(ISTEXT(ShareOfSearch_SERPS!D17),ShareOfSearch_SERPS!D17,\"\")","v":"co.uk"},{"$f":"IF(NOT(ISBLANK(ShareOfSearch_SERPS!A17)),ShareOfSearch_SERPS!A17,\"\")","v":16},{"$f":"IF(NOT(ISBLANK(ShareOfSearch_SERPS!G17)),ShareOfSearch_SERPS!G17,\"\")","v":"http://www.redevolution.com/seo-explained/"},{"$f":"IF(NOT(ISBLANK(ShareOfSearch_SERPS!K17)),ShareOfSearch_SERPS!K17,\"\")","v":"redevolution.com"},{"$f":"IFERROR(VLOOKUP(C17,ShareOfSearch_CTR!$A$1:$B$100,2,FALSE)*VLOOKUP(A17&B17,ShareOfSearch_Volume!$C$1:$D$1000,2,FALSE),\"\")","v":26531.999999999996}]
[{"$f":"IF(ISTEXT(ShareOfSearch_SERPS!C18),ShareOfSearch_SERPS!C18,\"\")","v":"seo"},{"$f":"IF(ISTEXT(ShareOfSearch_SERPS!D18),ShareOfSearch_SERPS!D18,\"\")","v":"co.uk"},{"$f":"IF(NOT(ISBLANK(ShareOfSearch_SERPS!A18)),ShareOfSearch_SERPS!A18,\"\")","v":17},{"$f":"IF(NOT(ISBLANK(ShareOfSearch_SERPS!G18)),ShareOfSearch_SERPS!G18,\"\")","v":"http://www.latitudegroup.com/our-services/channel-by-channel/seo"},{"$f":"IF(NOT(ISBLANK(ShareOfSearch_SERPS!K18)),ShareOfSearch_SERPS!K18,\"\")","v":"latitudegroup.com"},{"$f":"IFERROR(VLOOKUP(C18,ShareOfSearch_CTR!$A$1:$B$100,2,FALSE)*VLOOKUP(A18&B18,ShareOfSearch_Volume!$C$1:$D$1000,2,FALSE),\"\")","v":30953.999999999993}]
[{"$f":"IF(ISTEXT(ShareOfSearch_SERPS!C19),ShareOfSearch_SERPS!C19,\"\")","v":"seo"},{"$f":"IF(ISTEXT(ShareOfSearch_SERPS!D19),ShareOfSearch_SERPS!D19,\"\")","v":"co.uk"},{"$f":"IF(NOT(ISBLANK(ShareOfSearch_SERPS!A19)),ShareOfSearch_SERPS!A19,\"\")","v":18},{"$f":"IF(NOT(ISBLANK(ShareOfSearch_SERPS!G19)),ShareOfSearch_SERPS!G19,\"\")","v":"http://www.news24.com/MyNews24/SEO-explained-20-quick-current-factors-20140907"},{"$f":"IF(NOT(ISBLANK(ShareOfSearch_SERPS!K19)),ShareOfSearch_SERPS!K19,\"\")","v":"news24.com"},{"$f":"IFERROR(VLOOKUP(C19,ShareOfSearch_CTR!$A$1:$B$100,2,FALSE)*VLOOKUP(A19&B19,ShareOfSearch_Volume!$C$1:$D$1000,2,FALSE),\"\")","v":28742.999999999993}]
[{"$f":"IF(ISTEXT(ShareOfSearch_SERPS!C20),ShareOfSearch_SERPS!C20,\"\")","v":"seo"},{"$f":"IF(ISTEXT(ShareOfSearch_SERPS!D20),ShareOfSearch_SERPS!D20,\"\")","v":"co.uk"},{"$f":"IF(NOT(ISBLANK(ShareOfSearch_SERPS!A20)),ShareOfSearch_SERPS!A20,\"\")","v":19},{"$f":"IF(NOT(ISBLANK(ShareOfSearch_SERPS!G20)),ShareOfSearch_SERPS!G20,\"\")","v":"http://www.linkdex.com/resources/r/seo-now-2014-ebook/"},{"$f":"IF(NOT(ISBLANK(ShareOfSearch_SERPS!K20)),ShareOfSearch_SERPS!K20,\"\")","v":"linkdex.com"},{"$f":"IFERROR(VLOOKUP(C20,ShareOfSearch_CTR!$A$1:$B$100,2,FALSE)*VLOOKUP(A20&B20,ShareOfSearch_Volume!$C$1:$D$1000,2,FALSE),\"\")","v":30953.999999999993}]
[{"$f":"IF(ISTEXT(ShareOfSearch_SERPS!C21),ShareOfSearch_SERPS!C21,\"\")","v":"seo"},{"$f":"IF(ISTEXT(ShareOfSearch_SERPS!D21),ShareOfSearch_SERPS!D21,\"\")","v":"co.uk"},{"$f":"IF(NOT(ISBLANK(ShareOfSearch_SERPS!A21)),ShareOfSearch_SERPS!A21,\"\")","v":20},{"$f":"IF(NOT(ISBLANK(ShareOfSearch_SERPS!G21)),ShareOfSearch_SERPS!G21,\"\")","v":"http://www.goup.co.uk/"},{"$f":"IF(NOT(ISBLANK(ShareOfSearch_SERPS!K21)),ShareOfSearch_SERPS!K21,\"\")","v":"goup.co.uk"},{"$f":"IFERROR(VLOOKUP(C21,ShareOfSearch_CTR!$A$1:$B$100,2,FALSE)*VLOOKUP(A21&B21,ShareOfSearch_Volume!$C$1:$D$1000,2,FALSE),\"\")","v":30953.999999999993}]
[{"$f":"IF(ISTEXT(ShareOfSearch_SERPS!C22),ShareOfSearch_SERPS!C22,\"\")","v":"search engine optimization"},{"$f":"IF(ISTEXT(ShareOfSearch_SERPS!D22),ShareOfSearch_SERPS!D22,\"\")","v":"co.uk"},{"$f":"IF(NOT(ISBLANK(ShareOfSearch_SERPS!A22)),ShareOfSearch_SERPS!A22,\"\")","v":1},{"$f":"IF(NOT(ISBLANK(ShareOfSearch_SERPS!G22)),ShareOfSearch_SERPS!G22,\"\")","v":"http://en.wikipedia.org/wiki/Search_engine_optimization"},{"$f":"IF(NOT(ISBLANK(ShareOfSearch_SERPS!K22)),ShareOfSearch_SERPS!K22,\"\")","v":"wikipedia.org"},{"$f":"IFERROR(VLOOKUP(C22,ShareOfSearch_CTR!$A$1:$B$100,2,FALSE)*VLOOKUP(A22&B22,ShareOfSearch_Volume!$C$1:$D$1000,2,FALSE),\"\")","v":162962.79999999999}]
[{"$f":"IF(ISTEXT(ShareOfSearch_SERPS!C23),ShareOfSearch_SERPS!C23,\"\")","v":"search engine optimization"},{"$f":"IF(ISTEXT(ShareOfSearch_SERPS!D23),ShareOfSearch_SERPS!D23,\"\")","v":"co.uk"},{"$f":"IF(NOT(ISBLANK(ShareOfSearch_SERPS!A23)),ShareOfSearch_SERPS!A23,\"\")","v":2},{"$f":"IF(NOT(ISBLANK(ShareOfSearch_SERPS!G23)),ShareOfSearch_SERPS!G23,\"\")","v":"http://www.google.co.uk/webmasters/docs/search-engine-optimization-starter-guide.pdf"},{"$f":"IF(NOT(ISBLANK(ShareOfSearch_SERPS!K23)),ShareOfSearch_SERPS!K23,\"\")","v":"google.co.uk"},{"$f":"IFERROR(VLOOKUP(C23,ShareOfSearch_CTR!$A$1:$B$100,2,FALSE)*VLOOKUP(A23&B23,ShareOfSearch_Volume!$C$1:$D$1000,2,FALSE),\"\")","v":55962.5}]
[{"$f":"IF(ISTEXT(ShareOfSearch_SERPS!C24),ShareOfSearch_SERPS!C24,\"\")","v":"search engine optimization"},{"$f":"IF(ISTEXT(ShareOfSearch_SERPS!D24),ShareOfSearch_SERPS!D24,\"\")","v":"co.uk"},{"$f":"IF(NOT(ISBLANK(ShareOfSearch_SERPS!A24)),ShareOfSearch_SERPS!A24,\"\")","v":3},{"$f":"IF(NOT(ISBLANK(ShareOfSearch_SERPS!G24)),ShareOfSearch_SERPS!G24,\"\")","v":"http://searchengineland.com/guide/what-is-seo"},{"$f":"IF(NOT(ISBLANK(ShareOfSearch_SERPS!K24)),ShareOfSearch_SERPS!K24,\"\")","v":"searchengineland.com"},{"$f":"IFERROR(VLOOKUP(C24,ShareOfSearch_CTR!$A$1:$B$100,2,FALSE)*VLOOKUP(A24&B24,ShareOfSearch_Volume!$C$1:$D$1000,2,FALSE),\"\")","v":42531.5}]
[{"$f":"IF(ISTEXT(ShareOfSearch_SERPS!C25),ShareOfSearch_SERPS!C25,\"\")","v":"search engine optimization"},{"$f":"IF(ISTEXT(ShareOfSearch_SERPS!D25),ShareOfSearch_SERPS!D25,\"\")","v":"co.uk"},{"$f":"IF(NOT(ISBLANK(ShareOfSearch_SERPS!A25)),ShareOfSearch_SERPS!A25,\"\")","v":4},{"$f":"IF(NOT(ISBLANK(ShareOfSearch_SERPS!G25)),ShareOfSearch_SERPS!G25,\"\")","v":"https://support.google.com/webmasters/answer/35291%3Fhl%3Den"},{"$f":"IF(NOT(ISBLANK(ShareOfSearch_SERPS!K25)),ShareOfSearch_SERPS!K25,\"\")","v":"google.com"},{"$f":"IFERROR(VLOOKUP(C25,ShareOfSearch_CTR!$A$1:$B$100,2,FALSE)*VLOOKUP(A25&B25,ShareOfSearch_Volume!$C$1:$D$1000,2,FALSE),\"\")","v":35368.300000000003}]
[{"$f":"IF(ISTEXT(ShareOfSearch_SERPS!C26),ShareOfSearch_SERPS!C26,\"\")","v":"search engine optimization"},{"$f":"IF(ISTEXT(ShareOfSearch_SERPS!D26),ShareOfSearch_SERPS!D26,\"\")","v":"co.uk"},{"$f":"IF(NOT(ISBLANK(ShareOfSearch_SERPS!A26)),ShareOfSearch_SERPS!A26,\"\")","v":5},{"$f":"IF(NOT(ISBLANK(ShareOfSearch_SERPS!G26)),ShareOfSearch_SERPS!G26,\"\")","v":"http://searchenginewatch.com/article/2259693/SEO-Basics-8-Essentials-When-Optimizing-Your-Site"},{"$f":"IF(NOT(ISBLANK(ShareOfSearch_SERPS!K26)),ShareOfSearch_SERPS!K26,\"\")","v":"searchenginewatch.com"},{"$f":"IFERROR(VLOOKUP(C26,ShareOfSearch_CTR!$A$1:$B$100,2,FALSE)*VLOOKUP(A26&B26,ShareOfSearch_Volume!$C$1:$D$1000,2,FALSE),\"\")","v":27309.7}]
[{"$f":"IF(ISTEXT(ShareOfSearch_SERPS!C27),ShareOfSearch_SERPS!C27,\"\")","v":"search engine optimization"},{"$f":"IF(ISTEXT(ShareOfSearch_SERPS!D27),ShareOfSearch_SERPS!D27,\"\")","v":"co.uk"},{"$f":"IF(NOT(ISBLANK(ShareOfSearch_SERPS!A27)),ShareOfSearch_SERPS!A27,\"\")","v":6},{"$f":"IF(NOT(ISBLANK(ShareOfSearch_SERPS!G27)),ShareOfSearch_SERPS!G27,\"\")","v":"http://www.majesticseo.com/"},{"$f":"IF(NOT(ISBLANK(ShareOfSearch_SERPS!K27)),ShareOfSearch_SERPS!K27,\"\")","v":"majesticseo.com"},{"$f":"IFERROR(VLOOKUP(C27,ShareOfSearch_CTR!$A$1:$B$100,2,FALSE)*VLOOKUP(A27&B27,ShareOfSearch_Volume!$C$1:$D$1000,2,FALSE),\"\")","v":18355.7}]
[{"$f":"IF(ISTEXT(ShareOfSearch_SERPS!C28),ShareOfSearch_SERPS!C28,\"\")","v":"search engine optimization"},{"$f":"IF(ISTEXT(ShareOfSearch_SERPS!D28),ShareOfSearch_SERPS!D28,\"\")","v":"co.uk"},{"$f":"IF(NOT(ISBLANK(ShareOfSearch_SERPS!A28)),ShareOfSearch_SERPS!A28,\"\")","v":7},{"$f":"IF(NOT(ISBLANK(ShareOfSearch_SERPS!G28)),ShareOfSearch_SERPS!G28,\"\")","v":"http://www.webopedia.com/TERM/S/SEO.html"},{"$f":"IF(NOT(ISBLANK(ShareOfSearch_SERPS!K28)),ShareOfSearch_SERPS!K28,\"\")","v":"webopedia.com"},{"$f":"IFERROR(VLOOKUP(C28,ShareOfSearch_CTR!$A$1:$B$100,2,FALSE)*VLOOKUP(A28&B28,ShareOfSearch_Volume!$C$1:$D$1000,2,FALSE),\"\")","v":17012.599999999999}]
[{"$f":"IF(ISTEXT(ShareOfSearch_SERPS!C29),ShareOfSearch_SERPS!C29,\"\")","v":"search engine optimization"},{"$f":"IF(ISTEXT(ShareOfSearch_SERPS!D29),ShareOfSearch_SERPS!D29,\"\")","v":"co.uk"},{"$f":"IF(NOT(ISBLANK(ShareOfSearch_SERPS!A29)),ShareOfSearch_SERPS!A29,\"\")","v":8},{"$f":"IF(NOT(ISBLANK(ShareOfSearch_SERPS!G29)),ShareOfSearch_SERPS!G29,\"\")","v":"http://www.hobo-web.co.uk/seo-tutorial/"},{"$f":"IF(NOT(ISBLANK(ShareOfSearch_SERPS!K29)),ShareOfSearch_SERPS!K29,\"\")","v":"hobo-web.co.uk"},{"$f":"IFERROR(VLOOKUP(C29,ShareOfSearch_CTR!$A$1:$B$100,2,FALSE)*VLOOKUP(A29&B29,ShareOfSearch_Volume!$C$1:$D$1000,2,FALSE),\"\")","v":15669.500000000002}]
[{"$f":"IF(ISTEXT(ShareOfSearch_SERPS!C30),ShareOfSearch_SERPS!C30,\"\")","v":"search engine optimization"},{"$f":"IF(ISTEXT(ShareOfSearch_SERPS!D30),ShareOfSearch_SERPS!D30,\"\")","v":"co.uk"},{"$f":"IF(NOT(ISBLANK(ShareOfSearch_SERPS!A30)),ShareOfSearch_SERPS!A30,\"\")","v":9},{"$f":"IF(NOT(ISBLANK(ShareOfSearch_SERPS!G30)),ShareOfSearch_SERPS!G30,\"\")","v":"http://www.screamingfrog.co.uk/search-engine-optimisation/"},{"$f":"IF(NOT(ISBLANK(ShareOfSearch_SERPS!K30)),ShareOfSearch_SERPS!K30,\"\")","v":"screamingfrog.co.uk"},{"$f":"IFERROR(VLOOKUP(C30,ShareOfSearch_CTR!$A$1:$B$100,2,FALSE)*VLOOKUP(A30&B30,ShareOfSearch_Volume!$C$1:$D$1000,2,FALSE),\"\")","v":13431}]
[{"$f":"IF(ISTEXT(ShareOfSearch_SERPS!C31),ShareOfSearch_SERPS!C31,\"\")","v":"search engine optimization"},{"$f":"IF(ISTEXT(ShareOfSearch_SERPS!D31),ShareOfSearch_SERPS!D31,\"\")","v":"co.uk"},{"$f":"IF(NOT(ISBLANK(ShareOfSearch_SERPS!A31)),ShareOfSearch_SERPS!A31,\"\")","v":10},{"$f":"IF(NOT(ISBLANK(ShareOfSearch_SERPS!G31)),ShareOfSearch_SERPS!G31,\"\")","v":"http://moz.com/beginners-guide-to-seo"},{"$f":"IF(NOT(ISBLANK(ShareOfSearch_SERPS!K31)),ShareOfSearch_SERPS!K31,\"\")","v":"moz.com"},{"$f":"IFERROR(VLOOKUP(C31,ShareOfSearch_CTR!$A$1:$B$100,2,FALSE)*VLOOKUP(A31&B31,ShareOfSearch_Volume!$C$1:$D$1000,2,FALSE),\"\")","v":9849.4}]
[{"$f":"IF(ISTEXT(ShareOfSearch_SERPS!C32),ShareOfSearch_SERPS!C32,\"\")","v":"search engine optimization"},{"$f":"IF(ISTEXT(ShareOfSearch_SERPS!D32),ShareOfSearch_SERPS!D32,\"\")","v":"co.uk"},{"$f":"IF(NOT(ISBLANK(ShareOfSearch_SERPS!A32)),ShareOfSearch_SERPS!A32,\"\")","v":11},{"$f":"IF(NOT(ISBLANK(ShareOfSearch_SERPS!G32)),ShareOfSearch_SERPS!G32,\"\")","v":"http://www.redevolution.com/what-is-seo/"},{"$f":"IF(NOT(ISBLANK(ShareOfSearch_SERPS!K32)),ShareOfSearch_SERPS!K32,\"\")","v":"redevolution.com"},{"$f":"IFERROR(VLOOKUP(C32,ShareOfSearch_CTR!$A$1:$B$100,2,FALSE)*VLOOKUP(A32&B32,ShareOfSearch_Volume!$C$1:$D$1000,2,FALSE),\"\")","v":11640.199999999999}]
[{"$f":"IF(ISTEXT(ShareOfSearch_SERPS!C33),ShareOfSearch_SERPS!C33,\"\")","v":"search engine optimization"},{"$f":"IF(ISTEXT(ShareOfSearch_SERPS!D33),ShareOfSearch_SERPS!D33,\"\")","v":"co.uk"},{"$f":"IF(NOT(ISBLANK(ShareOfSearch_SERPS!A33)),ShareOfSearch_SERPS!A33,\"\")","v":12},{"$f":"IF(NOT(ISBLANK(ShareOfSearch_SERPS!G33)),ShareOfSearch_SERPS!G33,\"\")","v":"http://computer.howstuffworks.com/search-engine-optimization.htm"},{"$f":"IF(NOT(ISBLANK(ShareOfSearch_SERPS!K33)),ShareOfSearch_SERPS!K33,\"\")","v":"howstuffworks.com"},{"$f":"IFERROR(VLOOKUP(C33,ShareOfSearch_CTR!$A$1:$B$100,2,FALSE)*VLOOKUP(A33&B33,ShareOfSearch_Volume!$C$1:$D$1000,2,FALSE),\"\")","v":6715.5}]
[{"$f":"IF(ISTEXT(ShareOfSearch_SERPS!C34),ShareOfSearch_SERPS!C34,\"\")","v":"search engine optimization"},{"$f":"IF(ISTEXT(ShareOfSearch_SERPS!D34),ShareOfSearch_SERPS!D34,\"\")","v":"co.uk"},{"$f":"IF(NOT(ISBLANK(ShareOfSearch_SERPS!A34)),ShareOfSearch_SERPS!A34,\"\")","v":13},{"$f":"IF(NOT(ISBLANK(ShareOfSearch_SERPS!G34)),ShareOfSearch_SERPS!G34,\"\")","v":"http://www.bruceclay.com/eu/seo/search-engine-optimization.htm"},{"$f":"IF(NOT(ISBLANK(ShareOfSearch_SERPS!K34)),ShareOfSearch_SERPS!K34,\"\")","v":"bruceclay.com"},{"$f":"IFERROR(VLOOKUP(C34,ShareOfSearch_CTR!$A$1:$B$100,2,FALSE)*VLOOKUP(A34&B34,ShareOfSearch_Volume!$C$1:$D$1000,2,FALSE),\"\")","v":5820.0999999999995}]
[{"$f":"IF(ISTEXT(ShareOfSearch_SERPS!C35),ShareOfSearch_SERPS!C35,\"\")","v":"search engine optimization"},{"$f":"IF(ISTEXT(ShareOfSearch_SERPS!D35),ShareOfSearch_SERPS!D35,\"\")","v":"co.uk"},{"$f":"IF(NOT(ISBLANK(ShareOfSearch_SERPS!A35)),ShareOfSearch_SERPS!A35,\"\")","v":14},{"$f":"IF(NOT(ISBLANK(ShareOfSearch_SERPS!G35)),ShareOfSearch_SERPS!G35,\"\")","v":"https://econsultancy.com/reports/seo-best-practice-guide"},{"$f":"IF(NOT(ISBLANK(ShareOfSearch_SERPS!K35)),ShareOfSearch_SERPS!K35,\"\")","v":"econsultancy.com"},{"$f":"IFERROR(VLOOKUP(C35,ShareOfSearch_CTR!$A$1:$B$100,2,FALSE)*VLOOKUP(A35&B35,ShareOfSearch_Volume!$C$1:$D$1000,2,FALSE),\"\")","v":4924.7}]
[{"$f":"IF(ISTEXT(ShareOfSearch_SERPS!C36),ShareOfSearch_SERPS!C36,\"\")","v":"search engine optimization"},{"$f":"IF(ISTEXT(ShareOfSearch_SERPS!D36),ShareOfSearch_SERPS!D36,\"\")","v":"co.uk"},{"$f":"IF(NOT(ISBLANK(ShareOfSearch_SERPS!A36)),ShareOfSearch_SERPS!A36,\"\")","v":15},{"$f":"IF(NOT(ISBLANK(ShareOfSearch_SERPS!G36)),ShareOfSearch_SERPS!G36,\"\")","v":"http://www.entrepreneur.com/seo/"},{"$f":"IF(NOT(ISBLANK(ShareOfSearch_SERPS!K36)),ShareOfSearch_SERPS!K36,\"\")","v":"entrepreneur.com"},{"$f":"IFERROR(VLOOKUP(C36,ShareOfSearch_CTR!$A$1:$B$100,2,FALSE)*VLOOKUP(A36&B36,ShareOfSearch_Volume!$C$1:$D$1000,2,FALSE),\"\")","v":5372.4000000000005}]
[{"$f":"IF(ISTEXT(ShareOfSearch_SERPS!C37),ShareOfSearch_SERPS!C37,\"\")","v":"search engine optimization"},{"$f":"IF(ISTEXT(ShareOfSearch_SERPS!D37),ShareOfSearch_SERPS!D37,\"\")","v":"co.uk"},{"$f":"IF(NOT(ISBLANK(ShareOfSearch_SERPS!A37)),ShareOfSearch_SERPS!A37,\"\")","v":16},{"$f":"IF(NOT(ISBLANK(ShareOfSearch_SERPS!G37)),ShareOfSearch_SERPS!G37,\"\")","v":"http://www.submitexpress.com/"},{"$f":"IF(NOT(ISBLANK(ShareOfSearch_SERPS!K37)),ShareOfSearch_SERPS!K37,\"\")","v":"submitexpress.com"},{"$f":"IFERROR(VLOOKUP(C37,ShareOfSearch_CTR!$A$1:$B$100,2,FALSE)*VLOOKUP(A37&B37,ShareOfSearch_Volume!$C$1:$D$1000,2,FALSE),\"\")","v":5372.4000000000005}]
[{"$f":"IF(ISTEXT(ShareOfSearch_SERPS!C38),ShareOfSearch_SERPS!C38,\"\")","v":"search engine optimization"},{"$f":"IF(ISTEXT(ShareOfSearch_SERPS!D38),ShareOfSearch_SERPS!D38,\"\")","v":"co.uk"},{"$f":"IF(NOT(ISBLANK(ShareOfSearch_SERPS!A38)),ShareOfSearch_SERPS!A38,\"\")","v":17},{"$f":"IF(NOT(ISBLANK(ShareOfSearch_SERPS!G38)),ShareOfSearch_SERPS!G38,\"\")","v":"http://www.searchenginejournal.com/55-quick-seo-tips-even-your-mother-would-love/"},{"$f":"IF(NOT(ISBLANK(ShareOfSearch_SERPS!K38)),ShareOfSearch_SERPS!K38,\"\")","v":"searchenginejournal.com"},{"$f":"IFERROR(VLOOKUP(C38,ShareOfSearch_CTR!$A$1:$B$100,2,FALSE)*VLOOKUP(A38&B38,ShareOfSearch_Volume!$C$1:$D$1000,2,FALSE),\"\")","v":6267.8}]
[{"$f":"IF(ISTEXT(ShareOfSearch_SERPS!C39),ShareOfSearch_SERPS!C39,\"\")","v":"search engine optimization"},{"$f":"IF(ISTEXT(ShareOfSearch_SERPS!D39),ShareOfSearch_SERPS!D39,\"\")","v":"co.uk"},{"$f":"IF(NOT(ISBLANK(ShareOfSearch_SERPS!A39)),ShareOfSearch_SERPS!A39,\"\")","v":18},{"$f":"IF(NOT(ISBLANK(ShareOfSearch_SERPS!G39)),ShareOfSearch_SERPS!G39,\"\")","v":"http://www.searchenginejournal.com/category/search-engine-optimization/"},{"$f":"IF(NOT(ISBLANK(ShareOfSearch_SERPS!K39)),ShareOfSearch_SERPS!K39,\"\")","v":"searchenginejournal.com"},{"$f":"IFERROR(VLOOKUP(C39,ShareOfSearch_CTR!$A$1:$B$100,2,FALSE)*VLOOKUP(A39&B39,ShareOfSearch_Volume!$C$1:$D$1000,2,FALSE),\"\")","v":5820.0999999999995}]
[{"$f":"IF(ISTEXT(ShareOfSearch_SERPS!C40),ShareOfSearch_SERPS!C40,\"\")","v":"search engine optimization"},{"$f":"IF(ISTEXT(ShareOfSearch_SERPS!D40),ShareOfSearch_SERPS!D40,\"\")","v":"co.uk"},{"$f":"IF(NOT(ISBLANK(ShareOfSearch_SERPS!A40)),ShareOfSearch_SERPS!A40,\"\")","v":19},{"$f":"IF(NOT(ISBLANK(ShareOfSearch_SERPS!G40)),ShareOfSearch_SERPS!G40,\"\")","v":"http://www.seochat.com/"},{"$f":"IF(NOT(ISBLANK(ShareOfSearch_SERPS!K40)),ShareOfSearch_SERPS!K40,\"\")","v":"seochat.com"},{"$f":"IFERROR(VLOOKUP(C40,ShareOfSearch_CTR!$A$1:$B$100,2,FALSE)*VLOOKUP(A40&B40,ShareOfSearch_Volume!$C$1:$D$1000,2,FALSE),\"\")","v":6267.8}]
[{"$f":"IF(ISTEXT(ShareOfSearch_SERPS!C41),ShareOfSearch_SERPS!C41,\"\")","v":"search engine optimization"},{"$f":"IF(ISTEXT(ShareOfSearch_SERPS!D41),ShareOfSearch_SERPS!D41,\"\")","v":"co.uk"},{"$f":"IF(NOT(ISBLANK(ShareOfSearch_SERPS!A41)),ShareOfSearch_SERPS!A41,\"\")","v":20},{"$f":"IF(NOT(ISBLANK(ShareOfSearch_SERPS!G41)),ShareOfSearch_SERPS!G41,\"\")","v":"http://www.seobook.com/"},{"$f":"IF(NOT(ISBLANK(ShareOfSearch_SERPS!K41)),ShareOfSearch_SERPS!K41,\"\")","v":"seobook.com"},{"$f":"IFERROR(VLOOKUP(C41,ShareOfSearch_CTR!$A$1:$B$100,2,FALSE)*VLOOKUP(A41&B41,ShareOfSearch_Volume!$C$1:$D$1000,2,FALSE),\"\")","v":6267.8}]
[{"$f":"IF(ISTEXT(ShareOfSearch_SERPS!C42),ShareOfSearch_SERPS!C42,\"\")","v":"seo services"},{"$f":"IF(ISTEXT(ShareOfSearch_SERPS!D42),ShareOfSearch_SERPS!D42,\"\")","v":"co.uk"},{"$f":"IF(NOT(ISBLANK(ShareOfSearch_SERPS!A42)),ShareOfSearch_SERPS!A42,\"\")","v":1},{"$f":"IF(NOT(ISBLANK(ShareOfSearch_SERPS!G42)),ShareOfSearch_SERPS!G42,\"\")","v":"http://www.getmanic.co.uk/"},{"$f":"IF(NOT(ISBLANK(ShareOfSearch_SERPS!K42)),ShareOfSearch_SERPS!K42,\"\")","v":"getmanic.co.uk"},{"$f":"IFERROR(VLOOKUP(C42,ShareOfSearch_CTR!$A$1:$B$100,2,FALSE)*VLOOKUP(A42&B42,ShareOfSearch_Volume!$C$1:$D$1000,2,FALSE),\"\")","v":82170.452000000005}]
[{"$f":"IF(ISTEXT(ShareOfSearch_SERPS!C43),ShareOfSearch_SERPS!C43,\"\")","v":"seo services"},{"$f":"IF(ISTEXT(ShareOfSearch_SERPS!D43),ShareOfSearch_SERPS!D43,\"\")","v":"co.uk"},{"$f":"IF(NOT(ISBLANK(ShareOfSearch_SERPS!A43)),ShareOfSearch_SERPS!A43,\"\")","v":2},{"$f":"IF(NOT(ISBLANK(ShareOfSearch_SERPS!G43)),ShareOfSearch_SERPS!G43,\"\")","v":"http://www.jointplan.co.uk/local-seo-expert"},{"$f":"IF(NOT(ISBLANK(ShareOfSearch_SERPS!K43)),ShareOfSearch_SERPS!K43,\"\")","v":"jointplan.co.uk"},{"$f":"IFERROR(VLOOKUP(C43,ShareOfSearch_CTR!$A$1:$B$100,2,FALSE)*VLOOKUP(A43&B43,ShareOfSearch_Volume!$C$1:$D$1000,2,FALSE),\"\")","v":28217.875}]
[{"$f":"IF(ISTEXT(ShareOfSearch_SERPS!C44),ShareOfSearch_SERPS!C44,\"\")","v":"seo services"},{"$f":"IF(ISTEXT(ShareOfSearch_SERPS!D44),ShareOfSearch_SERPS!D44,\"\")","v":"co.uk"},{"$f":"IF(NOT(ISBLANK(ShareOfSearch_SERPS!A44)),ShareOfSearch_SERPS!A44,\"\")","v":3},{"$f":"IF(NOT(ISBLANK(ShareOfSearch_SERPS!G44)),ShareOfSearch_SERPS!G44,\"\")","v":"http://en.wikipedia.org/wiki/Search_engine_optimization"},{"$f":"IF(NOT(ISBLANK(ShareOfSearch_SERPS!K44)),ShareOfSearch_SERPS!K44,\"\")","v":"wikipedia.org"},{"$f":"IFERROR(VLOOKUP(C44,ShareOfSearch_CTR!$A$1:$B$100,2,FALSE)*VLOOKUP(A44&B44,ShareOfSearch_Volume!$C$1:$D$1000,2,FALSE),\"\")","v":21445.584999999999}]
[{"$f":"IF(ISTEXT(ShareOfSearch_SERPS!C45),ShareOfSearch_SERPS!C45,\"\")","v":"seo services"},{"$f":"IF(ISTEXT(ShareOfSearch_SERPS!D45),ShareOfSearch_SERPS!D45,\"\")","v":"co.uk"},{"$f":"IF(NOT(ISBLANK(ShareOfSearch_SERPS!A45)),ShareOfSearch_SERPS!A45,\"\")","v":4},{"$f":"IF(NOT(ISBLANK(ShareOfSearch_SERPS!G45)),ShareOfSearch_SERPS!G45,\"\")","v":"http://www.screamingfrog.co.uk/search-engine-optimisation/"},{"$f":"IF(NOT(ISBLANK(ShareOfSearch_SERPS!K45)),ShareOfSearch_SERPS!K45,\"\")","v":"screamingfrog.co.uk"},{"$f":"IFERROR(VLOOKUP(C45,ShareOfSearch_CTR!$A$1:$B$100,2,FALSE)*VLOOKUP(A45&B45,ShareOfSearch_Volume!$C$1:$D$1000,2,FALSE),\"\")","v":17833.697}]
[{"$f":"IF(ISTEXT(ShareOfSearch_SERPS!C46),ShareOfSearch_SERPS!C46,\"\")","v":"seo services"},{"$f":"IF(ISTEXT(ShareOfSearch_SERPS!D46),ShareOfSearch_SERPS!D46,\"\")","v":"co.uk"},{"$f":"IF(NOT(ISBLANK(ShareOfSearch_SERPS!A46)),ShareOfSearch_SERPS!A46,\"\")","v":5},{"$f":"IF(NOT(ISBLANK(ShareOfSearch_SERPS!G46)),ShareOfSearch_SERPS!G46,\"\")","v":"http://www.rebootonline.com/"},{"$f":"IF(NOT(ISBLANK(ShareOfSearch_SERPS!K46)),ShareOfSearch_SERPS!K46,\"\")","v":"rebootonline.com"},{"$f":"IFERROR(VLOOKUP(C46,ShareOfSearch_CTR!$A$1:$B$100,2,FALSE)*VLOOKUP(A46&B46,ShareOfSearch_Volume!$C$1:$D$1000,2,FALSE),\"\")","v":13770.323}]
[{"$f":"IF(ISTEXT(ShareOfSearch_SERPS!C47),ShareOfSearch_SERPS!C47,\"\")","v":"seo services"},{"$f":"IF(ISTEXT(ShareOfSearch_SERPS!D47),ShareOfSearch_SERPS!D47,\"\")","v":"co.uk"},{"$f":"IF(NOT(ISBLANK(ShareOfSearch_SERPS!A47)),ShareOfSearch_SERPS!A47,\"\")","v":6},{"$f":"IF(NOT(ISBLANK(ShareOfSearch_SERPS!G47)),ShareOfSearch_SERPS!G47,\"\")","v":"http://www.mainstreethost.com/"},{"$f":"IF(NOT(ISBLANK(ShareOfSearch_SERPS!K47)),ShareOfSearch_SERPS!K47,\"\")","v":"mainstreethost.com"},{"$f":"IFERROR(VLOOKUP(C47,ShareOfSearch_CTR!$A$1:$B$100,2,FALSE)*VLOOKUP(A47&B47,ShareOfSearch_Volume!$C$1:$D$1000,2,FALSE),\"\")","v":9255.4629999999997}]
[{"$f":"IF(ISTEXT(ShareOfSearch_SERPS!C48),ShareOfSearch_SERPS!C48,\"\")","v":"seo services"},{"$f":"IF(ISTEXT(ShareOfSearch_SERPS!D48),ShareOfSearch_SERPS!D48,\"\")","v":"co.uk"},{"$f":"IF(NOT(ISBLANK(ShareOfSearch_SERPS!A48)),ShareOfSearch_SERPS!A48,\"\")","v":7},{"$f":"IF(NOT(ISBLANK(ShareOfSearch_SERPS!G48)),ShareOfSearch_SERPS!G48,\"\")","v":"http://www.adjuice.co.uk/"},{"$f":"IF(NOT(ISBLANK(ShareOfSearch_SERPS!K48)),ShareOfSearch_SERPS!K48,\"\")","v":"adjuice.co.uk"},{"$f":"IFERROR(VLOOKUP(C48,ShareOfSearch_CTR!$A$1:$B$100,2,FALSE)*VLOOKUP(A48&B48,ShareOfSearch_Volume!$C$1:$D$1000,2,FALSE),\"\")","v":8578.2340000000004}]
[{"$f":"IF(ISTEXT(ShareOfSearch_SERPS!C49),ShareOfSearch_SERPS!C49,\"\")","v":"seo services"},{"$f":"IF(ISTEXT(ShareOfSearch_SERPS!D49),ShareOfSearch_SERPS!D49,\"\")","v":"co.uk"},{"$f":"IF(NOT(ISBLANK(ShareOfSearch_SERPS!A49)),ShareOfSearch_SERPS!A49,\"\")","v":8},{"$f":"IF(NOT(ISBLANK(ShareOfSearch_SERPS!G49)),ShareOfSearch_SERPS!G49,\"\")","v":"http://www.uwpgroup.co.uk/service/seo-london/"},{"$f":"IF(NOT(ISBLANK(ShareOfSearch_SERPS!K49)),ShareOfSearch_SERPS!K49,\"\")","v":"uwpgroup.co.uk"},{"$f":"IFERROR(VLOOKUP(C49,ShareOfSearch_CTR!$A$1:$B$100,2,FALSE)*VLOOKUP(A49&B49,ShareOfSearch_Volume!$C$1:$D$1000,2,FALSE),\"\")","v":7901.005000000001}]
[{"$f":"IF(ISTEXT(ShareOfSearch_SERPS!C50),ShareOfSearch_SERPS!C50,\"\")","v":"seo services"},{"$f":"IF(ISTEXT(ShareOfSearch_SERPS!D50),ShareOfSearch_SERPS!D50,\"\")","v":"co.uk"},{"$f":"IF(NOT(ISBLANK(ShareOfSearch_SERPS!A50)),ShareOfSearch_SERPS!A50,\"\")","v":9},{"$f":"IF(NOT(ISBLANK(ShareOfSearch_SERPS!G50)),ShareOfSearch_SERPS!G50,\"\")","v":"http://www.seoservicepros.co.uk/"},{"$f":"IF(NOT(ISBLANK(ShareOfSearch_SERPS!K50)),ShareOfSearch_SERPS!K50,\"\")","v":"seoservicepros.co.uk"},{"$f":"IFERROR(VLOOKUP(C50,ShareOfSearch_CTR!$A$1:$B$100,2,FALSE)*VLOOKUP(A50&B50,ShareOfSearch_Volume!$C$1:$D$1000,2,FALSE),\"\")","v":6772.29}]
[{"$f":"IF(ISTEXT(ShareOfSearch_SERPS!C51),ShareOfSearch_SERPS!C51,\"\")","v":"seo services"},{"$f":"IF(ISTEXT(ShareOfSearch_SERPS!D51),ShareOfSearch_SERPS!D51,\"\")","v":"co.uk"},{"$f":"IF(NOT(ISBLANK(ShareOfSearch_SERPS!A51)),ShareOfSearch_SERPS!A51,\"\")","v":10},{"$f":"IF(NOT(ISBLANK(ShareOfSearch_SERPS!G51)),ShareOfSearch_SERPS!G51,\"\")","v":"http://www.seoconsultancyltd.com/"},{"$f":"IF(NOT(ISBLANK(ShareOfSearch_SERPS!K51)),ShareOfSearch_SERPS!K51,\"\")","v":"seoconsultancyltd.com"},{"$f":"IFERROR(VLOOKUP(C51,ShareOfSearch_CTR!$A$1:$B$100,2,FALSE)*VLOOKUP(A51&B51,ShareOfSearch_Volume!$C$1:$D$1000,2,FALSE),\"\")","v":4966.3459999999995}]
[{"$f":"IF(ISTEXT(ShareOfSearch_SERPS!C52),ShareOfSearch_SERPS!C52,\"\")","v":"seo services"},{"$f":"IF(ISTEXT(ShareOfSearch_SERPS!D52),ShareOfSearch_SERPS!D52,\"\")","v":"co.uk"},{"$f":"IF(NOT(ISBLANK(ShareOfSearch_SERPS!A52)),ShareOfSearch_SERPS!A52,\"\")","v":11},{"$f":"IF(NOT(ISBLANK(ShareOfSearch_SERPS!G52)),ShareOfSearch_SERPS!G52,\"\")","v":"http://www.123ranking.co.uk/"},{"$f":"IF(NOT(ISBLANK(ShareOfSearch_SERPS!K52)),ShareOfSearch_SERPS!K52,\"\")","v":"123ranking.co.uk"},{"$f":"IFERROR(VLOOKUP(C52,ShareOfSearch_CTR!$A$1:$B$100,2,FALSE)*VLOOKUP(A52&B52,ShareOfSearch_Volume!$C$1:$D$1000,2,FALSE),\"\")","v":5869.3179999999993}]
[{"$f":"IF(ISTEXT(ShareOfSearch_SERPS!C53),ShareOfSearch_SERPS!C53,\"\")","v":"seo services"},{"$f":"IF(ISTEXT(ShareOfSearch_SERPS!D53),ShareOfSearch_SERPS!D53,\"\")","v":"co.uk"},{"$f":"IF(NOT(ISBLANK(ShareOfSearch_SERPS!A53)),ShareOfSearch_SERPS!A53,\"\")","v":12},{"$f":"IF(NOT(ISBLANK(ShareOfSearch_SERPS!G53)),ShareOfSearch_SERPS!G53,\"\")","v":"http://www.seoconsultancyltd.com/choosing-right-seo-services/"},{"$f":"IF(NOT(ISBLANK(ShareOfSearch_SERPS!K53)),ShareOfSearch_SERPS!K53,\"\")","v":"seoconsultancyltd.com"},{"$f":"IFERROR(VLOOKUP(C53,ShareOfSearch_CTR!$A$1:$B$100,2,FALSE)*VLOOKUP(A53&B53,ShareOfSearch_Volume!$C$1:$D$1000,2,FALSE),\"\")","v":3386.145}]
[{"$f":"IF(ISTEXT(ShareOfSearch_SERPS!C54),ShareOfSearch_SERPS!C54,\"\")","v":"seo services"},{"$f":"IF(ISTEXT(ShareOfSearch_SERPS!D54),ShareOfSearch_SERPS!D54,\"\")","v":"co.uk"},{"$f":"IF(NOT(ISBLANK(ShareOfSearch_SERPS!A54)),ShareOfSearch_SERPS!A54,\"\")","v":13},{"$f":"IF(NOT(ISBLANK(ShareOfSearch_SERPS!G54)),ShareOfSearch_SERPS!G54,\"\")","v":"http://www.expertseobournemouth.co.uk/"},{"$f":"IF(NOT(ISBLANK(ShareOfSearch_SERPS!K54)),ShareOfSearch_SERPS!K54,\"\")","v":"expertseobournemouth.co.uk"},{"$f":"IFERROR(VLOOKUP(C54,ShareOfSearch_CTR!$A$1:$B$100,2,FALSE)*VLOOKUP(A54&B54,ShareOfSearch_Volume!$C$1:$D$1000,2,FALSE),\"\")","v":2934.6589999999997}]
[{"$f":"IF(ISTEXT(ShareOfSearch_SERPS!C55),ShareOfSearch_SERPS!C55,\"\")","v":"seo services"},{"$f":"IF(ISTEXT(ShareOfSearch_SERPS!D55),ShareOfSearch_SERPS!D55,\"\")","v":"co.uk"},{"$f":"IF(NOT(ISBLANK(ShareOfSearch_SERPS!A55)),ShareOfSearch_SERPS!A55,\"\")","v":14},{"$f":"IF(NOT(ISBLANK(ShareOfSearch_SERPS!G55)),ShareOfSearch_SERPS!G55,\"\")","v":"http://www.found.co.uk/"},{"$f":"IF(NOT(ISBLANK(ShareOfSearch_SERPS!K55)),ShareOfSearch_SERPS!K55,\"\")","v":"found.co.uk"},{"$f":"IFERROR(VLOOKUP(C55,ShareOfSearch_CTR!$A$1:$B$100,2,FALSE)*VLOOKUP(A55&B55,ShareOfSearch_Volume!$C$1:$D$1000,2,FALSE),\"\")","v":2483.1729999999998}]
[{"$f":"IF(ISTEXT(ShareOfSearch_SERPS!C56),ShareOfSearch_SERPS!C56,\"\")","v":"seo services"},{"$f":"IF(ISTEXT(ShareOfSearch_SERPS!D56),ShareOfSearch_SERPS!D56,\"\")","v":"co.uk"},{"$f":"IF(NOT(ISBLANK(ShareOfSearch_SERPS!A56)),ShareOfSearch_SERPS!A56,\"\")","v":15},{"$f":"IF(NOT(ISBLANK(ShareOfSearch_SERPS!G56)),ShareOfSearch_SERPS!G56,\"\")","v":"http://www.found.co.uk/services/natural-search-seo/"},{"$f":"IF(NOT(ISBLANK(ShareOfSearch_SERPS!K56)),ShareOfSearch_SERPS!K56,\"\")","v":"found.co.uk"},{"$f":"IFERROR(VLOOKUP(C56,ShareOfSearch_CTR!$A$1:$B$100,2,FALSE)*VLOOKUP(A56&B56,ShareOfSearch_Volume!$C$1:$D$1000,2,FALSE),\"\")","v":2708.9160000000002}]
[{"$f":"IF(ISTEXT(ShareOfSearch_SERPS!C57),ShareOfSearch_SERPS!C57,\"\")","v":"seo services"},{"$f":"IF(ISTEXT(ShareOfSearch_SERPS!D57),ShareOfSearch_SERPS!D57,\"\")","v":"co.uk"},{"$f":"IF(NOT(ISBLANK(ShareOfSearch_SERPS!A57)),ShareOfSearch_SERPS!A57,\"\")","v":16},{"$f":"IF(NOT(ISBLANK(ShareOfSearch_SERPS!G57)),ShareOfSearch_SERPS!G57,\"\")","v":"http://searchenginewatch.com/article/2267471/How-Much-Should-You-Spend-on-SEO-Services"},{"$f":"IF(NOT(ISBLANK(ShareOfSearch_SERPS!K57)),ShareOfSearch_SERPS!K57,\"\")","v":"searchenginewatch.com"},{"$f":"IFERROR(VLOOKUP(C57,ShareOfSearch_CTR!$A$1:$B$100,2,FALSE)*VLOOKUP(A57&B57,ShareOfSearch_Volume!$C$1:$D$1000,2,FALSE),\"\")","v":2708.9160000000002}]
[{"$f":"IF(ISTEXT(ShareOfSearch_SERPS!C58),ShareOfSearch_SERPS!C58,\"\")","v":"seo services"},{"$f":"IF(ISTEXT(ShareOfSearch_SERPS!D58),ShareOfSearch_SERPS!D58,\"\")","v":"co.uk"},{"$f":"IF(NOT(ISBLANK(ShareOfSearch_SERPS!A58)),ShareOfSearch_SERPS!A58,\"\")","v":17},{"$f":"IF(NOT(ISBLANK(ShareOfSearch_SERPS!G58)),ShareOfSearch_SERPS!G58,\"\")","v":"http://www.creode.co.uk/services/seo-services"},{"$f":"IF(NOT(ISBLANK(ShareOfSearch_SERPS!K58)),ShareOfSearch_SERPS!K58,\"\")","v":"creode.co.uk"},{"$f":"IFERROR(VLOOKUP(C58,ShareOfSearch_CTR!$A$1:$B$100,2,FALSE)*VLOOKUP(A58&B58,ShareOfSearch_Volume!$C$1:$D$1000,2,FALSE),\"\")","v":3160.402}]
[{"$f":"IF(ISTEXT(ShareOfSearch_SERPS!C59),ShareOfSearch_SERPS!C59,\"\")","v":"seo services"},{"$f":"IF(ISTEXT(ShareOfSearch_SERPS!D59),ShareOfSearch_SERPS!D59,\"\")","v":"co.uk"},{"$f":"IF(NOT(ISBLANK(ShareOfSearch_SERPS!A59)),ShareOfSearch_SERPS!A59,\"\")","v":18},{"$f":"IF(NOT(ISBLANK(ShareOfSearch_SERPS!G59)),ShareOfSearch_SERPS!G59,\"\")","v":"http://www.rankno1.co.uk/"},{"$f":"IF(NOT(ISBLANK(ShareOfSearch_SERPS!K59)),ShareOfSearch_SERPS!K59,\"\")","v":"rankno1.co.uk"},{"$f":"IFERROR(VLOOKUP(C59,ShareOfSearch_CTR!$A$1:$B$100,2,FALSE)*VLOOKUP(A59&B59,ShareOfSearch_Volume!$C$1:$D$1000,2,FALSE),\"\")","v":2934.6589999999997}]
[{"$f":"IF(ISTEXT(ShareOfSearch_SERPS!C60),ShareOfSearch_SERPS!C60,\"\")","v":"seo services"},{"$f":"IF(ISTEXT(ShareOfSearch_SERPS!D60),ShareOfSearch_SERPS!D60,\"\")","v":"co.uk"},{"$f":"IF(NOT(ISBLANK(ShareOfSearch_SERPS!A60)),ShareOfSearch_SERPS!A60,\"\")","v":19},{"$f":"IF(NOT(ISBLANK(ShareOfSearch_SERPS!G60)),ShareOfSearch_SERPS!G60,\"\")","v":"http://www.hobo-web.co.uk/"},{"$f":"IF(NOT(ISBLANK(ShareOfSearch_SERPS!K60)),ShareOfSearch_SERPS!K60,\"\")","v":"hobo-web.co.uk"},{"$f":"IFERROR(VLOOKUP(C60,ShareOfSearch_CTR!$A$1:$B$100,2,FALSE)*VLOOKUP(A60&B60,ShareOfSearch_Volume!$C$1:$D$1000,2,FALSE),\"\")","v":3160.402}]
[{"$f":"IF(ISTEXT(ShareOfSearch_SERPS!C61),ShareOfSearch_SERPS!C61,\"\")","v":"seo services"},{"$f":"IF(ISTEXT(ShareOfSearch_SERPS!D61),ShareOfSearch_SERPS!D61,\"\")","v":"co.uk"},{"$f":"IF(NOT(ISBLANK(ShareOfSearch_SERPS!A61)),ShareOfSearch_SERPS!A61,\"\")","v":20},{"$f":"IF(NOT(ISBLANK(ShareOfSearch_SERPS!G61)),ShareOfSearch_SERPS!G61,\"\")","v":"http://www.seoperspective.com/"},{"$f":"IF(NOT(ISBLANK(ShareOfSearch_SERPS!K61)),ShareOfSearch_SERPS!K61,\"\")","v":"seoperspective.com"},{"$f":"IFERROR(VLOOKUP(C61,ShareOfSearch_CTR!$A$1:$B$100,2,FALSE)*VLOOKUP(A61&B61,ShareOfSearch_Volume!$C$1:$D$1000,2,FALSE),\"\")","v":3160.402}]
[{"$f":"IF(ISTEXT(ShareOfSearch_SERPS!C62),ShareOfSearch_SERPS!C62,\"\")","v":"seo company"},{"$f":"IF(ISTEXT(ShareOfSearch_SERPS!D62),ShareOfSearch_SERPS!D62,\"\")","v":"co.uk"},{"$f":"IF(NOT(ISBLANK(ShareOfSearch_SERPS!A62)),ShareOfSearch_SERPS!A62,\"\")","v":1},{"$f":"IF(NOT(ISBLANK(ShareOfSearch_SERPS!G62)),ShareOfSearch_SERPS!G62,\"\")","v":"http://www.rebootonline.com/"},{"$f":"IF(NOT(ISBLANK(ShareOfSearch_SERPS!K62)),ShareOfSearch_SERPS!K62,\"\")","v":"rebootonline.com"},{"$f":"IFERROR(VLOOKUP(C62,ShareOfSearch_CTR!$A$1:$B$100,2,FALSE)*VLOOKUP(A62&B62,ShareOfSearch_Volume!$C$1:$D$1000,2,FALSE),\"\")","v":80888.079999999987}]
[{"$f":"IF(ISTEXT(ShareOfSearch_SERPS!C63),ShareOfSearch_SERPS!C63,\"\")","v":"seo company"},{"$f":"IF(ISTEXT(ShareOfSearch_SERPS!D63),ShareOfSearch_SERPS!D63,\"\")","v":"co.uk"},{"$f":"IF(NOT(ISBLANK(ShareOfSearch_SERPS!A63)),ShareOfSearch_SERPS!A63,\"\")","v":2},{"$f":"IF(NOT(ISBLANK(ShareOfSearch_SERPS!G63)),ShareOfSearch_SERPS!G63,\"\")","v":"http://maps.google.co.uk/maps?hl=&gl=uk&lr=&num=10&um=1&ie=UTF-8&fb=1&q=seo%2Bcompany&hq=seo%2Bcompany&hnear=0x48768014e63fc7d3:0xb682f981a1a3f622,Crowthorne,+Bracknell+Forest"},{"$f":"IF(NOT(ISBLANK(ShareOfSearch_SERPS!K63)),ShareOfSearch_SERPS!K63,\"\")","v":"google.co.uk"},{"$f":"IFERROR(VLOOKUP(C63,ShareOfSearch_CTR!$A$1:$B$100,2,FALSE)*VLOOKUP(A63&B63,ShareOfSearch_Volume!$C$1:$D$1000,2,FALSE),\"\")","v":27777.499999999996}]
[{"$f":"IF(ISTEXT(ShareOfSearch_SERPS!C64),ShareOfSearch_SERPS!C64,\"\")","v":"seo company"},{"$f":"IF(ISTEXT(ShareOfSearch_SERPS!D64),ShareOfSearch_SERPS!D64,\"\")","v":"co.uk"},{"$f":"IF(NOT(ISBLANK(ShareOfSearch_SERPS!A64)),ShareOfSearch_SERPS!A64,\"\")","v":3},{"$f":"IF(NOT(ISBLANK(ShareOfSearch_SERPS!G64)),ShareOfSearch_SERPS!G64,\"\")","v":"http://www.getmanic.co.uk/"},{"$f":"IF(NOT(ISBLANK(ShareOfSearch_SERPS!K64)),ShareOfSearch_SERPS!K64,\"\")","v":"getmanic.co.uk"},{"$f":"IFERROR(VLOOKUP(C64,ShareOfSearch_CTR!$A$1:$B$100,2,FALSE)*VLOOKUP(A64&B64,ShareOfSearch_Volume!$C$1:$D$1000,2,FALSE),\"\")","v":21110.899999999998}]
[{"$f":"IF(ISTEXT(ShareOfSearch_SERPS!C65),ShareOfSearch_SERPS!C65,\"\")","v":"seo company"},{"$f":"IF(ISTEXT(ShareOfSearch_SERPS!D65),ShareOfSearch_SERPS!D65,\"\")","v":"co.uk"},{"$f":"IF(NOT(ISBLANK(ShareOfSearch_SERPS!A65)),ShareOfSearch_SERPS!A65,\"\")","v":4},{"$f":"IF(NOT(ISBLANK(ShareOfSearch_SERPS!G65)),ShareOfSearch_SERPS!G65,\"\")","v":"http://www.uwpgroup.co.uk/service/seo-london/"},{"$f":"IF(NOT(ISBLANK(ShareOfSearch_SERPS!K65)),ShareOfSearch_SERPS!K65,\"\")","v":"uwpgroup.co.uk"},{"$f":"IFERROR(VLOOKUP(C65,ShareOfSearch_CTR!$A$1:$B$100,2,FALSE)*VLOOKUP(A65&B65,ShareOfSearch_Volume!$C$1:$D$1000,2,FALSE),\"\")","v":17555.379999999997}]
[{"$f":"IF(ISTEXT(ShareOfSearch_SERPS!C66),ShareOfSearch_SERPS!C66,\"\")","v":"seo company"},{"$f":"IF(ISTEXT(ShareOfSearch_SERPS!D66),ShareOfSearch_SERPS!D66,\"\")","v":"co.uk"},{"$f":"IF(NOT(ISBLANK(ShareOfSearch_SERPS!A66)),ShareOfSearch_SERPS!A66,\"\")","v":5},{"$f":"IF(NOT(ISBLANK(ShareOfSearch_SERPS!G66)),ShareOfSearch_SERPS!G66,\"\")","v":"http://www.seoconsultancyltd.com/choosing-right-seo-services/"},{"$f":"IF(NOT(ISBLANK(ShareOfSearch_SERPS!K66)),ShareOfSearch_SERPS!K66,\"\")","v":"seoconsultancyltd.com"},{"$f":"IFERROR(VLOOKUP(C66,ShareOfSearch_CTR!$A$1:$B$100,2,FALSE)*VLOOKUP(A66&B66,ShareOfSearch_Volume!$C$1:$D$1000,2,FALSE),\"\")","v":13555.419999999998}]
[{"$f":"IF(ISTEXT(ShareOfSearch_SERPS!C67),ShareOfSearch_SERPS!C67,\"\")","v":"seo company"},{"$f":"IF(ISTEXT(ShareOfSearch_SERPS!D67),ShareOfSearch_SERPS!D67,\"\")","v":"co.uk"},{"$f":"IF(NOT(ISBLANK(ShareOfSearch_SERPS!A67)),ShareOfSearch_SERPS!A67,\"\")","v":6},{"$f":"IF(NOT(ISBLANK(ShareOfSearch_SERPS!G67)),ShareOfSearch_SERPS!G67,\"\")","v":"http://www.seoconsultancyltd.com/"},{"$f":"IF(NOT(ISBLANK(ShareOfSearch_SERPS!K67)),ShareOfSearch_SERPS!K67,\"\")","v":"seoconsultancyltd.com"},{"$f":"IFERROR(VLOOKUP(C67,ShareOfSearch_CTR!$A$1:$B$100,2,FALSE)*VLOOKUP(A67&B67,ShareOfSearch_Volume!$C$1:$D$1000,2,FALSE),\"\")","v":9111.0199999999986}]
[{"$f":"IF(ISTEXT(ShareOfSearch_SERPS!C68),ShareOfSearch_SERPS!C68,\"\")","v":"seo company"},{"$f":"IF(ISTEXT(ShareOfSearch_SERPS!D68),ShareOfSearch_SERPS!D68,\"\")","v":"co.uk"},{"$f":"IF(NOT(ISBLANK(ShareOfSearch_SERPS!A68)),ShareOfSearch_SERPS!A68,\"\")","v":7},{"$f":"IF(NOT(ISBLANK(ShareOfSearch_SERPS!G68)),ShareOfSearch_SERPS!G68,\"\")","v":"http://www.forbes.com/sites/joshsteimle/2013/09/23/4-tips-for-hiring-the-right-seo-firm/"},{"$f":"IF(NOT(ISBLANK(ShareOfSearch_SERPS!K68)),ShareOfSearch_SERPS!K68,\"\")","v":"forbes.com"},{"$f":"IFERROR(VLOOKUP(C68,ShareOfSearch_CTR!$A$1:$B$100,2,FALSE)*VLOOKUP(A68&B68,ShareOfSearch_Volume!$C$1:$D$1000,2,FALSE),\"\")","v":8444.3599999999988}]
[{"$f":"IF(ISTEXT(ShareOfSearch_SERPS!C69),ShareOfSearch_SERPS!C69,\"\")","v":"seo company"},{"$f":"IF(ISTEXT(ShareOfSearch_SERPS!D69),ShareOfSearch_SERPS!D69,\"\")","v":"co.uk"},{"$f":"IF(NOT(ISBLANK(ShareOfSearch_SERPS!A69)),ShareOfSearch_SERPS!A69,\"\")","v":8},{"$f":"IF(NOT(ISBLANK(ShareOfSearch_SERPS!G69)),ShareOfSearch_SERPS!G69,\"\")","v":"http://en.wikipedia.org/wiki/Search_engine_optimization"},{"$f":"IF(NOT(ISBLANK(ShareOfSearch_SERPS!K69)),ShareOfSearch_SERPS!K69,\"\")","v":"wikipedia.org"},{"$f":"IFERROR(VLOOKUP(C69,ShareOfSearch_CTR!$A$1:$B$100,2,FALSE)*VLOOKUP(A69&B69,ShareOfSearch_Volume!$C$1:$D$1000,2,FALSE),\"\")","v":7777.7}]
[{"$f":"IF(ISTEXT(ShareOfSearch_SERPS!C70),ShareOfSearch_SERPS!C70,\"\")","v":"seo company"},{"$f":"IF(ISTEXT(ShareOfSearch_SERPS!D70),ShareOfSearch_SERPS!D70,\"\")","v":"co.uk"},{"$f":"IF(NOT(ISBLANK(ShareOfSearch_SERPS!A70)),ShareOfSearch_SERPS!A70,\"\")","v":9},{"$f":"IF(NOT(ISBLANK(ShareOfSearch_SERPS!G70)),ShareOfSearch_SERPS!G70,\"\")","v":"http://www.upstream.co.uk/"},{"$f":"IF(NOT(ISBLANK(ShareOfSearch_SERPS!K70)),ShareOfSearch_SERPS!K70,\"\")","v":"upstream.co.uk"},{"$f":"IFERROR(VLOOKUP(C70,ShareOfSearch_CTR!$A$1:$B$100,2,FALSE)*VLOOKUP(A70&B70,ShareOfSearch_Volume!$C$1:$D$1000,2,FALSE),\"\")","v":6666.5999999999985}]
[{"$f":"IF(ISTEXT(ShareOfSearch_SERPS!C71),ShareOfSearch_SERPS!C71,\"\")","v":"seo company"},{"$f":"IF(ISTEXT(ShareOfSearch_SERPS!D71),ShareOfSearch_SERPS!D71,\"\")","v":"co.uk"},{"$f":"IF(NOT(ISBLANK(ShareOfSearch_SERPS!A71)),ShareOfSearch_SERPS!A71,\"\")","v":10},{"$f":"IF(NOT(ISBLANK(ShareOfSearch_SERPS!G71)),ShareOfSearch_SERPS!G71,\"\")","v":"http://www.hobo-web.co.uk/"},{"$f":"IF(NOT(ISBLANK(ShareOfSearch_SERPS!K71)),ShareOfSearch_SERPS!K71,\"\")","v":"hobo-web.co.uk"},{"$f":"IFERROR(VLOOKUP(C71,ShareOfSearch_CTR!$A$1:$B$100,2,FALSE)*VLOOKUP(A71&B71,ShareOfSearch_Volume!$C$1:$D$1000,2,FALSE),\"\")","v":4888.8399999999992}]
[{"$f":"IF(ISTEXT(ShareOfSearch_SERPS!C72),ShareOfSearch_SERPS!C72,\"\")","v":"seo company"},{"$f":"IF(ISTEXT(ShareOfSearch_SERPS!D72),ShareOfSearch_SERPS!D72,\"\")","v":"co.uk"},{"$f":"IF(NOT(ISBLANK(ShareOfSearch_SERPS!A72)),ShareOfSearch_SERPS!A72,\"\")","v":11},{"$f":"IF(NOT(ISBLANK(ShareOfSearch_SERPS!G72)),ShareOfSearch_SERPS!G72,\"\")","v":"http://www.vanillacircus.co.uk/"},{"$f":"IF(NOT(ISBLANK(ShareOfSearch_SERPS!K72)),ShareOfSearch_SERPS!K72,\"\")","v":"vanillacircus.co.uk"},{"$f":"IFERROR(VLOOKUP(C72,ShareOfSearch_CTR!$A$1:$B$100,2,FALSE)*VLOOKUP(A72&B72,ShareOfSearch_Volume!$C$1:$D$1000,2,FALSE),\"\")","v":5777.7199999999993}]
[{"$f":"IF(ISTEXT(ShareOfSearch_SERPS!C73),ShareOfSearch_SERPS!C73,\"\")","v":"seo company"},{"$f":"IF(ISTEXT(ShareOfSearch_SERPS!D73),ShareOfSearch_SERPS!D73,\"\")","v":"co.uk"},{"$f":"IF(NOT(ISBLANK(ShareOfSearch_SERPS!A73)),ShareOfSearch_SERPS!A73,\"\")","v":12},{"$f":"IF(NOT(ISBLANK(ShareOfSearch_SERPS!G73)),ShareOfSearch_SERPS!G73,\"\")","v":"http://www.seoco.co.uk/"},{"$f":"IF(NOT(ISBLANK(ShareOfSearch_SERPS!K73)),ShareOfSearch_SERPS!K73,\"\")","v":"seoco.co.uk"},{"$f":"IFERROR(VLOOKUP(C73,ShareOfSearch_CTR!$A$1:$B$100,2,FALSE)*VLOOKUP(A73&B73,ShareOfSearch_Volume!$C$1:$D$1000,2,FALSE),\"\")","v":3333.2999999999993}]
[{"$f":"IF(ISTEXT(ShareOfSearch_SERPS!C74),ShareOfSearch_SERPS!C74,\"\")","v":"seo company"},{"$f":"IF(ISTEXT(ShareOfSearch_SERPS!D74),ShareOfSearch_SERPS!D74,\"\")","v":"co.uk"},{"$f":"IF(NOT(ISBLANK(ShareOfSearch_SERPS!A74)),ShareOfSearch_SERPS!A74,\"\")","v":13},{"$f":"IF(NOT(ISBLANK(ShareOfSearch_SERPS!G74)),ShareOfSearch_SERPS!G74,\"\")","v":"http://www.adjuice.co.uk/"},{"$f":"IF(NOT(ISBLANK(ShareOfSearch_SERPS!K74)),ShareOfSearch_SERPS!K74,\"\")","v":"adjuice.co.uk"},{"$f":"IFERROR(VLOOKUP(C74,ShareOfSearch_CTR!$A$1:$B$100,2,FALSE)*VLOOKUP(A74&B74,ShareOfSearch_Volume!$C$1:$D$1000,2,FALSE),\"\")","v":2888.8599999999997}]
[{"$f":"IF(ISTEXT(ShareOfSearch_SERPS!C75),ShareOfSearch_SERPS!C75,\"\")","v":"seo company"},{"$f":"IF(ISTEXT(ShareOfSearch_SERPS!D75),ShareOfSearch_SERPS!D75,\"\")","v":"co.uk"},{"$f":"IF(NOT(ISBLANK(ShareOfSearch_SERPS!A75)),ShareOfSearch_SERPS!A75,\"\")","v":14},{"$f":"IF(NOT(ISBLANK(ShareOfSearch_SERPS!G75)),ShareOfSearch_SERPS!G75,\"\")","v":"http://www.risedigital.com/"},{"$f":"IF(NOT(ISBLANK(ShareOfSearch_SERPS!K75)),ShareOfSearch_SERPS!K75,\"\")","v":"risedigital.com"},{"$f":"IFERROR(VLOOKUP(C75,ShareOfSearch_CTR!$A$1:$B$100,2,FALSE)*VLOOKUP(A75&B75,ShareOfSearch_Volume!$C$1:$D$1000,2,FALSE),\"\")","v":2444.4199999999996}]
[{"$f":"IF(ISTEXT(ShareOfSearch_SERPS!C76),ShareOfSearch_SERPS!C76,\"\")","v":"seo company"},{"$f":"IF(ISTEXT(ShareOfSearch_SERPS!D76),ShareOfSearch_SERPS!D76,\"\")","v":"co.uk"},{"$f":"IF(NOT(ISBLANK(ShareOfSearch_SERPS!A76)),ShareOfSearch_SERPS!A76,\"\")","v":15},{"$f":"IF(NOT(ISBLANK(ShareOfSearch_SERPS!G76)),ShareOfSearch_SERPS!G76,\"\")","v":"http://www.kdweb.co.uk/seo.htm"},{"$f":"IF(NOT(ISBLANK(ShareOfSearch_SERPS!K76)),ShareOfSearch_SERPS!K76,\"\")","v":"kdweb.co.uk"},{"$f":"IFERROR(VLOOKUP(C76,ShareOfSearch_CTR!$A$1:$B$100,2,FALSE)*VLOOKUP(A76&B76,ShareOfSearch_Volume!$C$1:$D$1000,2,FALSE),\"\")","v":2666.64}]
[{"$f":"IF(ISTEXT(ShareOfSearch_SERPS!C77),ShareOfSearch_SERPS!C77,\"\")","v":"seo company"},{"$f":"IF(ISTEXT(ShareOfSearch_SERPS!D77),ShareOfSearch_SERPS!D77,\"\")","v":"co.uk"},{"$f":"IF(NOT(ISBLANK(ShareOfSearch_SERPS!A77)),ShareOfSearch_SERPS!A77,\"\")","v":16},{"$f":"IF(NOT(ISBLANK(ShareOfSearch_SERPS!G77)),ShareOfSearch_SERPS!G77,\"\")","v":"http://www.branded3.com/blogs/top-25-most-visible-seo-agencies-in-the-uk-according-to-searchmetrics/"},{"$f":"IF(NOT(ISBLANK(ShareOfSearch_SERPS!K77)),ShareOfSearch_SERPS!K77,\"\")","v":"branded3.com"},{"$f":"IFERROR(VLOOKUP(C77,ShareOfSearch_CTR!$A$1:$B$100,2,FALSE)*VLOOKUP(A77&B77,ShareOfSearch_Volume!$C$1:$D$1000,2,FALSE),\"\")","v":2666.64}]
[{"$f":"IF(ISTEXT(ShareOfSearch_SERPS!C78),ShareOfSearch_SERPS!C78,\"\")","v":"seo company"},{"$f":"IF(ISTEXT(ShareOfSearch_SERPS!D78),ShareOfSearch_SERPS!D78,\"\")","v":"co.uk"},{"$f":"IF(NOT(ISBLANK(ShareOfSearch_SERPS!A78)),ShareOfSearch_SERPS!A78,\"\")","v":17},{"$f":"IF(NOT(ISBLANK(ShareOfSearch_SERPS!G78)),ShareOfSearch_SERPS!G78,\"\")","v":"http://www.rankno1.co.uk/"},{"$f":"IF(NOT(ISBLANK(ShareOfSearch_SERPS!K78)),ShareOfSearch_SERPS!K78,\"\")","v":"rankno1.co.uk"},{"$f":"IFERROR(VLOOKUP(C78,ShareOfSearch_CTR!$A$1:$B$100,2,FALSE)*VLOOKUP(A78&B78,ShareOfSearch_Volume!$C$1:$D$1000,2,FALSE),\"\")","v":3111.0799999999995}]
[{"$f":"IF(ISTEXT(ShareOfSearch_SERPS!C79),ShareOfSearch_SERPS!C79,\"\")","v":"seo company"},{"$f":"IF(ISTEXT(ShareOfSearch_SERPS!D79),ShareOfSearch_SERPS!D79,\"\")","v":"co.uk"},{"$f":"IF(NOT(ISBLANK(ShareOfSearch_SERPS!A79)),ShareOfSearch_SERPS!A79,\"\")","v":18},{"$f":"IF(NOT(ISBLANK(ShareOfSearch_SERPS!G79)),ShareOfSearch_SERPS!G79,\"\")","v":"http://www.seosilly.co.uk/search-engine-optimisation/"},{"$f":"IF(NOT(ISBLANK(ShareOfSearch_SERPS!K79)),ShareOfSearch_SERPS!K79,\"\")","v":"seosilly.co.uk"},{"$f":"IFERROR(VLOOKUP(C79,ShareOfSearch_CTR!$A$1:$B$100,2,FALSE)*VLOOKUP(A79&B79,ShareOfSearch_Volume!$C$1:$D$1000,2,FALSE),\"\")","v":2888.8599999999997}]
[{"$f":"IF(ISTEXT(ShareOfSearch_SERPS!C80),ShareOfSearch_SERPS!C80,\"\")","v":"seo company"},{"$f":"IF(ISTEXT(ShareOfSearch_SERPS!D80),ShareOfSearch_SERPS!D80,\"\")","v":"co.uk"},{"$f":"IF(NOT(ISBLANK(ShareOfSearch_SERPS!A80)),ShareOfSearch_SERPS!A80,\"\")","v":19},{"$f":"IF(NOT(ISBLANK(ShareOfSearch_SERPS!G80)),ShareOfSearch_SERPS!G80,\"\")","v":"http://www.varnmedia.co.uk/seo-bath/"},{"$f":"IF(NOT(ISBLANK(ShareOfSearch_SERPS!K80)),ShareOfSearch_SERPS!K80,\"\")","v":"varnmedia.co.uk"},{"$f":"IFERROR(VLOOKUP(C80,ShareOfSearch_CTR!$A$1:$B$100,2,FALSE)*VLOOKUP(A80&B80,ShareOfSearch_Volume!$C$1:$D$1000,2,FALSE),\"\")","v":3111.0799999999995}]
[{"$f":"IF(ISTEXT(ShareOfSearch_SERPS!C81),ShareOfSearch_SERPS!C81,\"\")","v":"seo company"},{"$f":"IF(ISTEXT(ShareOfSearch_SERPS!D81),ShareOfSearch_SERPS!D81,\"\")","v":"co.uk"},{"$f":"IF(NOT(ISBLANK(ShareOfSearch_SERPS!A81)),ShareOfSearch_SERPS!A81,\"\")","v":20},{"$f":"IF(NOT(ISBLANK(ShareOfSearch_SERPS!G81)),ShareOfSearch_SERPS!G81,\"\")","v":"http://www.expertseobournemouth.co.uk/"},{"$f":"IF(NOT(ISBLANK(ShareOfSearch_SERPS!K81)),ShareOfSearch_SERPS!K81,\"\")","v":"expertseobournemouth.co.uk"},{"$f":"IFERROR(VLOOKUP(C81,ShareOfSearch_CTR!$A$1:$B$100,2,FALSE)*VLOOKUP(A81&B81,ShareOfSearch_Volume!$C$1:$D$1000,2,FALSE),\"\")","v":3111.0799999999995}]
[{"$f":"IF(ISTEXT(ShareOfSearch_SERPS!C82),ShareOfSearch_SERPS!C82,\"\")","v":"search optimization"},{"$f":"IF(ISTEXT(ShareOfSearch_SERPS!D82),ShareOfSearch_SERPS!D82,\"\")","v":"co.uk"},{"$f":"IF(NOT(ISBLANK(ShareOfSearch_SERPS!A82)),ShareOfSearch_SERPS!A82,\"\")","v":1},{"$f":"IF(NOT(ISBLANK(ShareOfSearch_SERPS!G82)),ShareOfSearch_SERPS!G82,\"\")","v":"http://en.wikipedia.org/wiki/Search_engine_optimization"},{"$f":"IF(NOT(ISBLANK(ShareOfSearch_SERPS!K82)),ShareOfSearch_SERPS!K82,\"\")","v":"wikipedia.org"},{"$f":"IFERROR(VLOOKUP(C82,ShareOfSearch_CTR!$A$1:$B$100,2,FALSE)*VLOOKUP(A82&B82,ShareOfSearch_Volume!$C$1:$D$1000,2,FALSE),\"\")","v":78915.199999999997}]
[{"$f":"IF(ISTEXT(ShareOfSearch_SERPS!C83),ShareOfSearch_SERPS!C83,\"\")","v":"search optimization"},{"$f":"IF(ISTEXT(ShareOfSearch_SERPS!D83),ShareOfSearch_SERPS!D83,\"\")","v":"co.uk"},{"$f":"IF(NOT(ISBLANK(ShareOfSearch_SERPS!A83)),ShareOfSearch_SERPS!A83,\"\")","v":2},{"$f":"IF(NOT(ISBLANK(ShareOfSearch_SERPS!G83)),ShareOfSearch_SERPS!G83,\"\")","v":"http://www.google.co.uk/webmasters/docs/search-engine-optimization-starter-guide.pdf"},{"$f":"IF(NOT(ISBLANK(ShareOfSearch_SERPS!K83)),ShareOfSearch_SERPS!K83,\"\")","v":"google.co.uk"},{"$f":"IFERROR(VLOOKUP(C83,ShareOfSearch_CTR!$A$1:$B$100,2,FALSE)*VLOOKUP(A83&B83,ShareOfSearch_Volume!$C$1:$D$1000,2,FALSE),\"\")","v":27100}]
[{"$f":"IF(ISTEXT(ShareOfSearch_SERPS!C84),ShareOfSearch_SERPS!C84,\"\")","v":"search optimization"},{"$f":"IF(ISTEXT(ShareOfSearch_SERPS!D84),ShareOfSearch_SERPS!D84,\"\")","v":"co.uk"},{"$f":"IF(NOT(ISBLANK(ShareOfSearch_SERPS!A84)),ShareOfSearch_SERPS!A84,\"\")","v":3},{"$f":"IF(NOT(ISBLANK(ShareOfSearch_SERPS!G84)),ShareOfSearch_SERPS!G84,\"\")","v":"http://searchenginewatch.com/article/2259693/SEO-Basics-8-Essentials-When-Optimizing-Your-Site"},{"$f":"IF(NOT(ISBLANK(ShareOfSearch_SERPS!K84)),ShareOfSearch_SERPS!K84,\"\")","v":"searchenginewatch.com"},{"$f":"IFERROR(VLOOKUP(C84,ShareOfSearch_CTR!$A$1:$B$100,2,FALSE)*VLOOKUP(A84&B84,ShareOfSearch_Volume!$C$1:$D$1000,2,FALSE),\"\")","v":20596}]
[{"$f":"IF(ISTEXT(ShareOfSearch_SERPS!C85),ShareOfSearch_SERPS!C85,\"\")","v":"search optimization"},{"$f":"IF(ISTEXT(ShareOfSearch_SERPS!D85),ShareOfSearch_SERPS!D85,\"\")","v":"co.uk"},{"$f":"IF(NOT(ISBLANK(ShareOfSearch_SERPS!A85)),ShareOfSearch_SERPS!A85,\"\")","v":4},{"$f":"IF(NOT(ISBLANK(ShareOfSearch_SERPS!G85)),ShareOfSearch_SERPS!G85,\"\")","v":"http://searchengineland.com/guide/what-is-seo"},{"$f":"IF(NOT(ISBLANK(ShareOfSearch_SERPS!K85)),ShareOfSearch_SERPS!K85,\"\")","v":"searchengineland.com"},{"$f":"IFERROR(VLOOKUP(C85,ShareOfSearch_CTR!$A$1:$B$100,2,FALSE)*VLOOKUP(A85&B85,ShareOfSearch_Volume!$C$1:$D$1000,2,FALSE),\"\")","v":17127.2}]
[{"$f":"IF(ISTEXT(ShareOfSearch_SERPS!C86),ShareOfSearch_SERPS!C86,\"\")","v":"search optimization"},{"$f":"IF(ISTEXT(ShareOfSearch_SERPS!D86),ShareOfSearch_SERPS!D86,\"\")","v":"co.uk"},{"$f":"IF(NOT(ISBLANK(ShareOfSearch_SERPS!A86)),ShareOfSearch_SERPS!A86,\"\")","v":5},{"$f":"IF(NOT(ISBLANK(ShareOfSearch_SERPS!G86)),ShareOfSearch_SERPS!G86,\"\")","v":"https://support.google.com/webmasters/answer/35291%3Fhl%3Den"},{"$f":"IF(NOT(ISBLANK(ShareOfSearch_SERPS!K86)),ShareOfSearch_SERPS!K86,\"\")","v":"google.com"},{"$f":"IFERROR(VLOOKUP(C86,ShareOfSearch_CTR!$A$1:$B$100,2,FALSE)*VLOOKUP(A86&B86,ShareOfSearch_Volume!$C$1:$D$1000,2,FALSE),\"\")","v":13224.8}]
[{"$f":"IF(ISTEXT(ShareOfSearch_SERPS!C87),ShareOfSearch_SERPS!C87,\"\")","v":"search optimization"},{"$f":"IF(ISTEXT(ShareOfSearch_SERPS!D87),ShareOfSearch_SERPS!D87,\"\")","v":"co.uk"},{"$f":"IF(NOT(ISBLANK(ShareOfSearch_SERPS!A87)),ShareOfSearch_SERPS!A87,\"\")","v":6},{"$f":"IF(NOT(ISBLANK(ShareOfSearch_SERPS!G87)),ShareOfSearch_SERPS!G87,\"\")","v":"http://www.webopedia.com/TERM/S/SEO.html"},{"$f":"IF(NOT(ISBLANK(ShareOfSearch_SERPS!K87)),ShareOfSearch_SERPS!K87,\"\")","v":"webopedia.com"},{"$f":"IFERROR(VLOOKUP(C87,ShareOfSearch_CTR!$A$1:$B$100,2,FALSE)*VLOOKUP(A87&B87,ShareOfSearch_Volume!$C$1:$D$1000,2,FALSE),\"\")","v":8888.8000000000011}]
[{"$f":"IF(ISTEXT(ShareOfSearch_SERPS!C88),ShareOfSearch_SERPS!C88,\"\")","v":"search optimization"},{"$f":"IF(ISTEXT(ShareOfSearch_SERPS!D88),ShareOfSearch_SERPS!D88,\"\")","v":"co.uk"},{"$f":"IF(NOT(ISBLANK(ShareOfSearch_SERPS!A88)),ShareOfSearch_SERPS!A88,\"\")","v":7},{"$f":"IF(NOT(ISBLANK(ShareOfSearch_SERPS!G88)),ShareOfSearch_SERPS!G88,\"\")","v":"http://computer.howstuffworks.com/search-engine-optimization.htm"},{"$f":"IF(NOT(ISBLANK(ShareOfSearch_SERPS!K88)),ShareOfSearch_SERPS!K88,\"\")","v":"howstuffworks.com"},{"$f":"IFERROR(VLOOKUP(C88,ShareOfSearch_CTR!$A$1:$B$100,2,FALSE)*VLOOKUP(A88&B88,ShareOfSearch_Volume!$C$1:$D$1000,2,FALSE),\"\")","v":8238.4}]
[{"$f":"IF(ISTEXT(ShareOfSearch_SERPS!C89),ShareOfSearch_SERPS!C89,\"\")","v":"search optimization"},{"$f":"IF(ISTEXT(ShareOfSearch_SERPS!D89),ShareOfSearch_SERPS!D89,\"\")","v":"co.uk"},{"$f":"IF(NOT(ISBLANK(ShareOfSearch_SERPS!A89)),ShareOfSearch_SERPS!A89,\"\")","v":8},{"$f":"IF(NOT(ISBLANK(ShareOfSearch_SERPS!G89)),ShareOfSearch_SERPS!G89,\"\")","v":"http://moz.com/beginners-guide-to-seo"},{"$f":"IF(NOT(ISBLANK(ShareOfSearch_SERPS!K89)),ShareOfSearch_SERPS!K89,\"\")","v":"moz.com"},{"$f":"IFERROR(VLOOKUP(C89,ShareOfSearch_CTR!$A$1:$B$100,2,FALSE)*VLOOKUP(A89&B89,ShareOfSearch_Volume!$C$1:$D$1000,2,FALSE),\"\")","v":7588.0000000000009}]
[{"$f":"IF(ISTEXT(ShareOfSearch_SERPS!C90),ShareOfSearch_SERPS!C90,\"\")","v":"search optimization"},{"$f":"IF(ISTEXT(ShareOfSearch_SERPS!D90),ShareOfSearch_SERPS!D90,\"\")","v":"co.uk"},{"$f":"IF(NOT(ISBLANK(ShareOfSearch_SERPS!A90)),ShareOfSearch_SERPS!A90,\"\")","v":9},{"$f":"IF(NOT(ISBLANK(ShareOfSearch_SERPS!G90)),ShareOfSearch_SERPS!G90,\"\")","v":"http://www.redevolution.com/what-is-seo/"},{"$f":"IF(NOT(ISBLANK(ShareOfSearch_SERPS!K90)),ShareOfSearch_SERPS!K90,\"\")","v":"redevolution.com"},{"$f":"IFERROR(VLOOKUP(C90,ShareOfSearch_CTR!$A$1:$B$100,2,FALSE)*VLOOKUP(A90&B90,ShareOfSearch_Volume!$C$1:$D$1000,2,FALSE),\"\")","v":6504}]
[{"$f":"IF(ISTEXT(ShareOfSearch_SERPS!C91),ShareOfSearch_SERPS!C91,\"\")","v":"search optimization"},{"$f":"IF(ISTEXT(ShareOfSearch_SERPS!D91),ShareOfSearch_SERPS!D91,\"\")","v":"co.uk"},{"$f":"IF(NOT(ISBLANK(ShareOfSearch_SERPS!A91)),ShareOfSearch_SERPS!A91,\"\")","v":10},{"$f":"IF(NOT(ISBLANK(ShareOfSearch_SERPS!G91)),ShareOfSearch_SERPS!G91,\"\")","v":"http://www.screamingfrog.co.uk/search-engine-optimisation/"},{"$f":"IF(NOT(ISBLANK(ShareOfSearch_SERPS!K91)),ShareOfSearch_SERPS!K91,\"\")","v":"screamingfrog.co.uk"},{"$f":"IFERROR(VLOOKUP(C91,ShareOfSearch_CTR!$A$1:$B$100,2,FALSE)*VLOOKUP(A91&B91,ShareOfSearch_Volume!$C$1:$D$1000,2,FALSE),\"\")","v":4769.5999999999995}]
[{"$f":"IF(ISTEXT(ShareOfSearch_SERPS!C92),ShareOfSearch_SERPS!C92,\"\")","v":"search optimization"},{"$f":"IF(ISTEXT(ShareOfSearch_SERPS!D92),ShareOfSearch_SERPS!D92,\"\")","v":"co.uk"},{"$f":"IF(NOT(ISBLANK(ShareOfSearch_SERPS!A92)),ShareOfSearch_SERPS!A92,\"\")","v":11},{"$f":"IF(NOT(ISBLANK(ShareOfSearch_SERPS!G92)),ShareOfSearch_SERPS!G92,\"\")","v":"http://www.screamingfrog.co.uk/"},{"$f":"IF(NOT(ISBLANK(ShareOfSearch_SERPS!K92)),ShareOfSearch_SERPS!K92,\"\")","v":"screamingfrog.co.uk"},{"$f":"IFERROR(VLOOKUP(C92,ShareOfSearch_CTR!$A$1:$B$100,2,FALSE)*VLOOKUP(A92&B92,ShareOfSearch_Volume!$C$1:$D$1000,2,FALSE),\"\")","v":5636.8}]
[{"$f":"IF(ISTEXT(ShareOfSearch_SERPS!C93),ShareOfSearch_SERPS!C93,\"\")","v":"search optimization"},{"$f":"IF(ISTEXT(ShareOfSearch_SERPS!D93),ShareOfSearch_SERPS!D93,\"\")","v":"co.uk"},{"$f":"IF(NOT(ISBLANK(ShareOfSearch_SERPS!A93)),ShareOfSearch_SERPS!A93,\"\")","v":12},{"$f":"IF(NOT(ISBLANK(ShareOfSearch_SERPS!G93)),ShareOfSearch_SERPS!G93,\"\")","v":"http://www.hobo-web.co.uk/seo-tutorial/"},{"$f":"IF(NOT(ISBLANK(ShareOfSearch_SERPS!K93)),ShareOfSearch_SERPS!K93,\"\")","v":"hobo-web.co.uk"},{"$f":"IFERROR(VLOOKUP(C93,ShareOfSearch_CTR!$A$1:$B$100,2,FALSE)*VLOOKUP(A93&B93,ShareOfSearch_Volume!$C$1:$D$1000,2,FALSE),\"\")","v":3252}]
[{"$f":"IF(ISTEXT(ShareOfSearch_SERPS!C94),ShareOfSearch_SERPS!C94,\"\")","v":"search optimization"},{"$f":"IF(ISTEXT(ShareOfSearch_SERPS!D94),ShareOfSearch_SERPS!D94,\"\")","v":"co.uk"},{"$f":"IF(NOT(ISBLANK(ShareOfSearch_SERPS!A94)),ShareOfSearch_SERPS!A94,\"\")","v":13},{"$f":"IF(NOT(ISBLANK(ShareOfSearch_SERPS!G94)),ShareOfSearch_SERPS!G94,\"\")","v":"http://www.businessinsider.com/10-basic-seo-tips-everyone-should-know-2010-1%3Fop%3D1"},{"$f":"IF(NOT(ISBLANK(ShareOfSearch_SERPS!K94)),ShareOfSearch_SERPS!K94,\"\")","v":"businessinsider.com"},{"$f":"IFERROR(VLOOKUP(C94,ShareOfSearch_CTR!$A$1:$B$100,2,FALSE)*VLOOKUP(A94&B94,ShareOfSearch_Volume!$C$1:$D$1000,2,FALSE),\"\")","v":2818.4}]
[{"$f":"IF(ISTEXT(ShareOfSearch_SERPS!C95),ShareOfSearch_SERPS!C95,\"\")","v":"search optimization"},{"$f":"IF(ISTEXT(ShareOfSearch_SERPS!D95),ShareOfSearch_SERPS!D95,\"\")","v":"co.uk"},{"$f":"IF(NOT(ISBLANK(ShareOfSearch_SERPS!A95)),ShareOfSearch_SERPS!A95,\"\")","v":14},{"$f":"IF(NOT(ISBLANK(ShareOfSearch_SERPS!G95)),ShareOfSearch_SERPS!G95,\"\")","v":"http://www.huffingtonpost.com/loolwa-khazzoom/three-steps-to-optimizing_b_4153411.html"},{"$f":"IF(NOT(ISBLANK(ShareOfSearch_SERPS!K95)),ShareOfSearch_SERPS!K95,\"\")","v":"huffingtonpost.com"},{"$f":"IFERROR(VLOOKUP(C95,ShareOfSearch_CTR!$A$1:$B$100,2,FALSE)*VLOOKUP(A95&B95,ShareOfSearch_Volume!$C$1:$D$1000,2,FALSE),\"\")","v":2384.7999999999997}]
[{"$f":"IF(ISTEXT(ShareOfSearch_SERPS!C96),ShareOfSearch_SERPS!C96,\"\")","v":"search optimization"},{"$f":"IF(ISTEXT(ShareOfSearch_SERPS!D96),ShareOfSearch_SERPS!D96,\"\")","v":"co.uk"},{"$f":"IF(NOT(ISBLANK(ShareOfSearch_SERPS!A96)),ShareOfSearch_SERPS!A96,\"\")","v":15},{"$f":"IF(NOT(ISBLANK(ShareOfSearch_SERPS!G96)),ShareOfSearch_SERPS!G96,\"\")","v":"http://www.searchenginejournal.com/55-quick-seo-tips-even-your-mother-would-love/"},{"$f":"IF(NOT(ISBLANK(ShareOfSearch_SERPS!K96)),ShareOfSearch_SERPS!K96,\"\")","v":"searchenginejournal.com"},{"$f":"IFERROR(VLOOKUP(C96,ShareOfSearch_CTR!$A$1:$B$100,2,FALSE)*VLOOKUP(A96&B96,ShareOfSearch_Volume!$C$1:$D$1000,2,FALSE),\"\")","v":2601.6}]
[{"$f":"IF(ISTEXT(ShareOfSearch_SERPS!C97),ShareOfSearch_SERPS!C97,\"\")","v":"search optimization"},{"$f":"IF(ISTEXT(ShareOfSearch_SERPS!D97),ShareOfSearch_SERPS!D97,\"\")","v":"co.uk"},{"$f":"IF(NOT(ISBLANK(ShareOfSearch_SERPS!A97)),ShareOfSearch_SERPS!A97,\"\")","v":16},{"$f":"IF(NOT(ISBLANK(ShareOfSearch_SERPS!G97)),ShareOfSearch_SERPS!G97,\"\")","v":"http://www.entrepreneur.com/seo/"},{"$f":"IF(NOT(ISBLANK(ShareOfSearch_SERPS!K97)),ShareOfSearch_SERPS!K97,\"\")","v":"entrepreneur.com"},{"$f":"IFERROR(VLOOKUP(C97,ShareOfSearch_CTR!$A$1:$B$100,2,FALSE)*VLOOKUP(A97&B97,ShareOfSearch_Volume!$C$1:$D$1000,2,FALSE),\"\")","v":2601.6}]
[{"$f":"IF(ISTEXT(ShareOfSearch_SERPS!C98),ShareOfSearch_SERPS!C98,\"\")","v":"search optimization"},{"$f":"IF(ISTEXT(ShareOfSearch_SERPS!D98),ShareOfSearch_SERPS!D98,\"\")","v":"co.uk"},{"$f":"IF(NOT(ISBLANK(ShareOfSearch_SERPS!A98)),ShareOfSearch_SERPS!A98,\"\")","v":17},{"$f":"IF(NOT(ISBLANK(ShareOfSearch_SERPS!G98)),ShareOfSearch_SERPS!G98,\"\")","v":"http://www.bruceclay.com/eu/seo/search-engine-optimization.htm"},{"$f":"IF(NOT(ISBLANK(ShareOfSearch_SERPS!K98)),ShareOfSearch_SERPS!K98,\"\")","v":"bruceclay.com"},{"$f":"IFERROR(VLOOKUP(C98,ShareOfSearch_CTR!$A$1:$B$100,2,FALSE)*VLOOKUP(A98&B98,ShareOfSearch_Volume!$C$1:$D$1000,2,FALSE),\"\")","v":3035.2000000000003}]
[{"$f":"IF(ISTEXT(ShareOfSearch_SERPS!C99),ShareOfSearch_SERPS!C99,\"\")","v":"search optimization"},{"$f":"IF(ISTEXT(ShareOfSearch_SERPS!D99),ShareOfSearch_SERPS!D99,\"\")","v":"co.uk"},{"$f":"IF(NOT(ISBLANK(ShareOfSearch_SERPS!A99)),ShareOfSearch_SERPS!A99,\"\")","v":18},{"$f":"IF(NOT(ISBLANK(ShareOfSearch_SERPS!G99)),ShareOfSearch_SERPS!G99,\"\")","v":"http://www.youtube.com/watch%3Fv%3DhF515-0Tduk"},{"$f":"IF(NOT(ISBLANK(ShareOfSearch_SERPS!K99)),ShareOfSearch_SERPS!K99,\"\")","v":"youtube.com"},{"$f":"IFERROR(VLOOKUP(C99,ShareOfSearch_CTR!$A$1:$B$100,2,FALSE)*VLOOKUP(A99&B99,ShareOfSearch_Volume!$C$1:$D$1000,2,FALSE),\"\")","v":2818.4}]
[{"$f":"IF(ISTEXT(ShareOfSearch_SERPS!C100),ShareOfSearch_SERPS!C100,\"\")","v":"search optimization"},{"$f":"IF(ISTEXT(ShareOfSearch_SERPS!D100),ShareOfSearch_SERPS!D100,\"\")","v":"co.uk"},{"$f":"IF(NOT(ISBLANK(ShareOfSearch_SERPS!A100)),ShareOfSearch_SERPS!A100,\"\")","v":19},{"$f":"IF(NOT(ISBLANK(ShareOfSearch_SERPS!G100)),ShareOfSearch_SERPS!G100,\"\")","v":"http://www.inc.com/magazine/20100701/how-to-optimize-your-site-for-search.html"},{"$f":"IF(NOT(ISBLANK(ShareOfSearch_SERPS!K100)),ShareOfSearch_SERPS!K100,\"\")","v":"www.inc.com"},{"$f":"IFERROR(VLOOKUP(C100,ShareOfSearch_CTR!$A$1:$B$100,2,FALSE)*VLOOKUP(A100&B100,ShareOfSearch_Volume!$C$1:$D$1000,2,FALSE),\"\")","v":3035.2000000000003}]
[{"$f":"IF(ISTEXT(ShareOfSearch_SERPS!C101),ShareOfSearch_SERPS!C101,\"\")","v":"search optimization"},{"$f":"IF(ISTEXT(ShareOfSearch_SERPS!D101),ShareOfSearch_SERPS!D101,\"\")","v":"co.uk"},{"$f":"IF(NOT(ISBLANK(ShareOfSearch_SERPS!A101)),ShareOfSearch_SERPS!A101,\"\")","v":20},{"$f":"IF(NOT(ISBLANK(ShareOfSearch_SERPS!G101)),ShareOfSearch_SERPS!G101,\"\")","v":"http://www.youtube.com/watch%3Fv%3DhF515-0Tduk"},{"$f":"IF(NOT(ISBLANK(ShareOfSearch_SERPS!K101)),ShareOfSearch_SERPS!K101,\"\")","v":"youtube.com"},{"$f":"IFERROR(VLOOKUP(C101,ShareOfSearch_CTR!$A$1:$B$100,2,FALSE)*VLOOKUP(A101&B101,ShareOfSearch_Volume!$C$1:$D$1000,2,FALSE),\"\")","v":3035.2000000000003}]
[{"$f":"IF(ISTEXT(ShareOfSearch_SERPS!C102),ShareOfSearch_SERPS!C102,\"\")","v":"search engine optimization seo"},{"$f":"IF(ISTEXT(ShareOfSearch_SERPS!D102),ShareOfSearch_SERPS!D102,\"\")","v":"co.uk"},{"$f":"IF(NOT(ISBLANK(ShareOfSearch_SERPS!A102)),ShareOfSearch_SERPS!A102,\"\")","v":1},{"$f":"IF(NOT(ISBLANK(ShareOfSearch_SERPS!G102)),ShareOfSearch_SERPS!G102,\"\")","v":"http://en.wikipedia.org/wiki/Search_engine_optimization"},{"$f":"IF(NOT(ISBLANK(ShareOfSearch_SERPS!K102)),ShareOfSearch_SERPS!K102,\"\")","v":"wikipedia.org"},{"$f":"IFERROR(VLOOKUP(C102,ShareOfSearch_CTR!$A$1:$B$100,2,FALSE)*VLOOKUP(A102&B102,ShareOfSearch_Volume!$C$1:$D$1000,2,FALSE),\"\")","v":64611.82}]
[{"$f":"IF(ISTEXT(ShareOfSearch_SERPS!C103),ShareOfSearch_SERPS!C103,\"\")","v":"search engine optimization seo"},{"$f":"IF(ISTEXT(ShareOfSearch_SERPS!D103),ShareOfSearch_SERPS!D103,\"\")","v":"co.uk"},{"$f":"IF(NOT(ISBLANK(ShareOfSearch_SERPS!A103)),ShareOfSearch_SERPS!A103,\"\")","v":2},{"$f":"IF(NOT(ISBLANK(ShareOfSearch_SERPS!G103)),ShareOfSearch_SERPS!G103,\"\")","v":"http://searchengineland.com/guide/what-is-seo"},{"$f":"IF(NOT(ISBLANK(ShareOfSearch_SERPS!K103)),ShareOfSearch_SERPS!K103,\"\")","v":"searchengineland.com"},{"$f":"IFERROR(VLOOKUP(C103,ShareOfSearch_CTR!$A$1:$B$100,2,FALSE)*VLOOKUP(A103&B103,ShareOfSearch_Volume!$C$1:$D$1000,2,FALSE),\"\")","v":22188.125}]
[{"$f":"IF(ISTEXT(ShareOfSearch_SERPS!C104),ShareOfSearch_SERPS!C104,\"\")","v":"search engine optimization seo"},{"$f":"IF(ISTEXT(ShareOfSearch_SERPS!D104),ShareOfSearch_SERPS!D104,\"\")","v":"co.uk"},{"$f":"IF(NOT(ISBLANK(ShareOfSearch_SERPS!A104)),ShareOfSearch_SERPS!A104,\"\")","v":3},{"$f":"IF(NOT(ISBLANK(ShareOfSearch_SERPS!G104)),ShareOfSearch_SERPS!G104,\"\")","v":"https://support.google.com/webmasters/answer/35291%3Fhl%3Den"},{"$f":"IF(NOT(ISBLANK(ShareOfSearch_SERPS!K104)),ShareOfSearch_SERPS!K104,\"\")","v":"google.com"},{"$f":"IFERROR(VLOOKUP(C104,ShareOfSearch_CTR!$A$1:$B$100,2,FALSE)*VLOOKUP(A104&B104,ShareOfSearch_Volume!$C$1:$D$1000,2,FALSE),\"\")","v":16862.974999999999}]
[{"$f":"IF(ISTEXT(ShareOfSearch_SERPS!C105),ShareOfSearch_SERPS!C105,\"\")","v":"search engine optimization seo"},{"$f":"IF(ISTEXT(ShareOfSearch_SERPS!D105),ShareOfSearch_SERPS!D105,\"\")","v":"co.uk"},{"$f":"IF(NOT(ISBLANK(ShareOfSearch_SERPS!A105)),ShareOfSearch_SERPS!A105,\"\")","v":4},{"$f":"IF(NOT(ISBLANK(ShareOfSearch_SERPS!G105)),ShareOfSearch_SERPS!G105,\"\")","v":"http://www.google.co.uk/webmasters/docs/search-engine-optimization-starter-guide.pdf"},{"$f":"IF(NOT(ISBLANK(ShareOfSearch_SERPS!K105)),ShareOfSearch_SERPS!K105,\"\")","v":"google.co.uk"},{"$f":"IFERROR(VLOOKUP(C105,ShareOfSearch_CTR!$A$1:$B$100,2,FALSE)*VLOOKUP(A105&B105,ShareOfSearch_Volume!$C$1:$D$1000,2,FALSE),\"\")","v":14022.895}]
[{"$f":"IF(ISTEXT(ShareOfSearch_SERPS!C106),ShareOfSearch_SERPS!C106,\"\")","v":"search engine optimization seo"},{"$f":"IF(ISTEXT(ShareOfSearch_SERPS!D106),ShareOfSearch_SERPS!D106,\"\")","v":"co.uk"},{"$f":"IF(NOT(ISBLANK(ShareOfSearch_SERPS!A106)),ShareOfSearch_SERPS!A106,\"\")","v":5},{"$f":"IF(NOT(ISBLANK(ShareOfSearch_SERPS!G106)),ShareOfSearch_SERPS!G106,\"\")","v":"http://www.webopedia.com/TERM/S/SEO.html"},{"$f":"IF(NOT(ISBLANK(ShareOfSearch_SERPS!K106)),ShareOfSearch_SERPS!K106,\"\")","v":"webopedia.com"},{"$f":"IFERROR(VLOOKUP(C106,ShareOfSearch_CTR!$A$1:$B$100,2,FALSE)*VLOOKUP(A106&B106,ShareOfSearch_Volume!$C$1:$D$1000,2,FALSE),\"\")","v":10827.805}]
[{"$f":"IF(ISTEXT(ShareOfSearch_SERPS!C107),ShareOfSearch_SERPS!C107,\"\")","v":"search engine optimization seo"},{"$f":"IF(ISTEXT(ShareOfSearch_SERPS!D107),ShareOfSearch_SERPS!D107,\"\")","v":"co.uk"},{"$f":"IF(NOT(ISBLANK(ShareOfSearch_SERPS!A107)),ShareOfSearch_SERPS!A107,\"\")","v":6},{"$f":"IF(NOT(ISBLANK(ShareOfSearch_SERPS!G107)),ShareOfSearch_SERPS!G107,\"\")","v":"http://moz.com/beginners-guide-to-seo"},{"$f":"IF(NOT(ISBLANK(ShareOfSearch_SERPS!K107)),ShareOfSearch_SERPS!K107,\"\")","v":"moz.com"},{"$f":"IFERROR(VLOOKUP(C107,ShareOfSearch_CTR!$A$1:$B$100,2,FALSE)*VLOOKUP(A107&B107,ShareOfSearch_Volume!$C$1:$D$1000,2,FALSE),\"\")","v":7277.7049999999999}]
[{"$f":"IF(ISTEXT(ShareOfSearch_SERPS!C108),ShareOfSearch_SERPS!C108,\"\")","v":"search engine optimization seo"},{"$f":"IF(ISTEXT(ShareOfSearch_SERPS!D108),ShareOfSearch_SERPS!D108,\"\")","v":"co.uk"},{"$f":"IF(NOT(ISBLANK(ShareOfSearch_SERPS!A108)),ShareOfSearch_SERPS!A108,\"\")","v":7},{"$f":"IF(NOT(ISBLANK(ShareOfSearch_SERPS!G108)),ShareOfSearch_SERPS!G108,\"\")","v":"http://searchenginewatch.com/seo"},{"$f":"IF(NOT(ISBLANK(ShareOfSearch_SERPS!K108)),ShareOfSearch_SERPS!K108,\"\")","v":"searchenginewatch.com"},{"$f":"IFERROR(VLOOKUP(C108,ShareOfSearch_CTR!$A$1:$B$100,2,FALSE)*VLOOKUP(A108&B108,ShareOfSearch_Volume!$C$1:$D$1000,2,FALSE),\"\")","v":6745.19}]
[{"$f":"IF(ISTEXT(ShareOfSearch_SERPS!C109),ShareOfSearch_SERPS!C109,\"\")","v":"search engine optimization seo"},{"$f":"IF(ISTEXT(ShareOfSearch_SERPS!D109),ShareOfSearch_SERPS!D109,\"\")","v":"co.uk"},{"$f":"IF(NOT(ISBLANK(ShareOfSearch_SERPS!A109)),ShareOfSearch_SERPS!A109,\"\")","v":8},{"$f":"IF(NOT(ISBLANK(ShareOfSearch_SERPS!G109)),ShareOfSearch_SERPS!G109,\"\")","v":"http://searchenginewatch.com/article/2259693/SEO-Basics-8-Essentials-When-Optimizing-Your-Site"},{"$f":"IF(NOT(ISBLANK(ShareOfSearch_SERPS!K109)),ShareOfSearch_SERPS!K109,\"\")","v":"searchenginewatch.com"},{"$f":"IFERROR(VLOOKUP(C109,ShareOfSearch_CTR!$A$1:$B$100,2,FALSE)*VLOOKUP(A109&B109,ShareOfSearch_Volume!$C$1:$D$1000,2,FALSE),\"\")","v":6212.6750000000002}]
[{"$f":"IF(ISTEXT(ShareOfSearch_SERPS!C110),ShareOfSearch_SERPS!C110,\"\")","v":"search engine optimization seo"},{"$f":"IF(ISTEXT(ShareOfSearch_SERPS!D110),ShareOfSearch_SERPS!D110,\"\")","v":"co.uk"},{"$f":"IF(NOT(ISBLANK(ShareOfSearch_SERPS!A110)),ShareOfSearch_SERPS!A110,\"\")","v":9},{"$f":"IF(NOT(ISBLANK(ShareOfSearch_SERPS!G110)),ShareOfSearch_SERPS!G110,\"\")","v":"http://www.bruceclay.com/eu/seo/search-engine-optimization.htm"},{"$f":"IF(NOT(ISBLANK(ShareOfSearch_SERPS!K110)),ShareOfSearch_SERPS!K110,\"\")","v":"bruceclay.com"},{"$f":"IFERROR(VLOOKUP(C110,ShareOfSearch_CTR!$A$1:$B$100,2,FALSE)*VLOOKUP(A110&B110,ShareOfSearch_Volume!$C$1:$D$1000,2,FALSE),\"\")","v":5325.15}]
[{"$f":"IF(ISTEXT(ShareOfSearch_SERPS!C111),ShareOfSearch_SERPS!C111,\"\")","v":"search engine optimization seo"},{"$f":"IF(ISTEXT(ShareOfSearch_SERPS!D111),ShareOfSearch_SERPS!D111,\"\")","v":"co.uk"},{"$f":"IF(NOT(ISBLANK(ShareOfSearch_SERPS!A111)),ShareOfSearch_SERPS!A111,\"\")","v":10},{"$f":"IF(NOT(ISBLANK(ShareOfSearch_SERPS!G111)),ShareOfSearch_SERPS!G111,\"\")","v":"http://www.screamingfrog.co.uk/search-engine-optimisation/"},{"$f":"IF(NOT(ISBLANK(ShareOfSearch_SERPS!K111)),ShareOfSearch_SERPS!K111,\"\")","v":"screamingfrog.co.uk"},{"$f":"IFERROR(VLOOKUP(C111,ShareOfSearch_CTR!$A$1:$B$100,2,FALSE)*VLOOKUP(A111&B111,ShareOfSearch_Volume!$C$1:$D$1000,2,FALSE),\"\")","v":3905.1099999999997}]
[{"$f":"IF(ISTEXT(ShareOfSearch_SERPS!C112),ShareOfSearch_SERPS!C112,\"\")","v":"search engine optimization seo"},{"$f":"IF(ISTEXT(ShareOfSearch_SERPS!D112),ShareOfSearch_SERPS!D112,\"\")","v":"co.uk"},{"$f":"IF(NOT(ISBLANK(ShareOfSearch_SERPS!A112)),ShareOfSearch_SERPS!A112,\"\")","v":11},{"$f":"IF(NOT(ISBLANK(ShareOfSearch_SERPS!G112)),ShareOfSearch_SERPS!G112,\"\")","v":"http://www.screamingfrog.co.uk/"},{"$f":"IF(NOT(ISBLANK(ShareOfSearch_SERPS!K112)),ShareOfSearch_SERPS!K112,\"\")","v":"screamingfrog.co.uk"},{"$f":"IFERROR(VLOOKUP(C112,ShareOfSearch_CTR!$A$1:$B$100,2,FALSE)*VLOOKUP(A112&B112,ShareOfSearch_Volume!$C$1:$D$1000,2,FALSE),\"\")","v":4615.13}]
[{"$f":"IF(ISTEXT(ShareOfSearch_SERPS!C113),ShareOfSearch_SERPS!C113,\"\")","v":"search engine optimization seo"},{"$f":"IF(ISTEXT(ShareOfSearch_SERPS!D113),ShareOfSearch_SERPS!D113,\"\")","v":"co.uk"},{"$f":"IF(NOT(ISBLANK(ShareOfSearch_SERPS!A113)),ShareOfSearch_SERPS!A113,\"\")","v":12},{"$f":"IF(NOT(ISBLANK(ShareOfSearch_SERPS!G113)),ShareOfSearch_SERPS!G113,\"\")","v":"http://computer.howstuffworks.com/search-engine-optimization.htm"},{"$f":"IF(NOT(ISBLANK(ShareOfSearch_SERPS!K113)),ShareOfSearch_SERPS!K113,\"\")","v":"howstuffworks.com"},{"$f":"IFERROR(VLOOKUP(C113,ShareOfSearch_CTR!$A$1:$B$100,2,FALSE)*VLOOKUP(A113&B113,ShareOfSearch_Volume!$C$1:$D$1000,2,FALSE),\"\")","v":2662.5749999999998}]
[{"$f":"IF(ISTEXT(ShareOfSearch_SERPS!C114),ShareOfSearch_SERPS!C114,\"\")","v":"search engine optimization seo"},{"$f":"IF(ISTEXT(ShareOfSearch_SERPS!D114),ShareOfSearch_SERPS!D114,\"\")","v":"co.uk"},{"$f":"IF(NOT(ISBLANK(ShareOfSearch_SERPS!A114)),ShareOfSearch_SERPS!A114,\"\")","v":13},{"$f":"IF(NOT(ISBLANK(ShareOfSearch_SERPS!G114)),ShareOfSearch_SERPS!G114,\"\")","v":"http://www.techterms.com/definition/seo"},{"$f":"IF(NOT(ISBLANK(ShareOfSearch_SERPS!K114)),ShareOfSearch_SERPS!K114,\"\")","v":"techterms.com"},{"$f":"IFERROR(VLOOKUP(C114,ShareOfSearch_CTR!$A$1:$B$100,2,FALSE)*VLOOKUP(A114&B114,ShareOfSearch_Volume!$C$1:$D$1000,2,FALSE),\"\")","v":2307.5650000000001}]
[{"$f":"IF(ISTEXT(ShareOfSearch_SERPS!C115),ShareOfSearch_SERPS!C115,\"\")","v":"search engine optimization seo"},{"$f":"IF(ISTEXT(ShareOfSearch_SERPS!D115),ShareOfSearch_SERPS!D115,\"\")","v":"co.uk"},{"$f":"IF(NOT(ISBLANK(ShareOfSearch_SERPS!A115)),ShareOfSearch_SERPS!A115,\"\")","v":14},{"$f":"IF(NOT(ISBLANK(ShareOfSearch_SERPS!G115)),ShareOfSearch_SERPS!G115,\"\")","v":"http://www.mainstreethost.com/services/search-engine-optimization.html"},{"$f":"IF(NOT(ISBLANK(ShareOfSearch_SERPS!K115)),ShareOfSearch_SERPS!K115,\"\")","v":"mainstreethost.com"},{"$f":"IFERROR(VLOOKUP(C115,ShareOfSearch_CTR!$A$1:$B$100,2,FALSE)*VLOOKUP(A115&B115,ShareOfSearch_Volume!$C$1:$D$1000,2,FALSE),\"\")","v":1952.5549999999998}]
[{"$f":"IF(ISTEXT(ShareOfSearch_SERPS!C116),ShareOfSearch_SERPS!C116,\"\")","v":"search engine optimization seo"},{"$f":"IF(ISTEXT(ShareOfSearch_SERPS!D116),ShareOfSearch_SERPS!D116,\"\")","v":"co.uk"},{"$f":"IF(NOT(ISBLANK(ShareOfSearch_SERPS!A116)),ShareOfSearch_SERPS!A116,\"\")","v":15},{"$f":"IF(NOT(ISBLANK(ShareOfSearch_SERPS!G116)),ShareOfSearch_SERPS!G116,\"\")","v":"http://www.searchenginejournal.com/55-quick-seo-tips-even-your-mother-would-love/"},{"$f":"IF(NOT(ISBLANK(ShareOfSearch_SERPS!K116)),ShareOfSearch_SERPS!K116,\"\")","v":"searchenginejournal.com"},{"$f":"IFERROR(VLOOKUP(C116,ShareOfSearch_CTR!$A$1:$B$100,2,FALSE)*VLOOKUP(A116&B116,ShareOfSearch_Volume!$C$1:$D$1000,2,FALSE),\"\")","v":2130.06}]
[{"$f":"IF(ISTEXT(ShareOfSearch_SERPS!C117),ShareOfSearch_SERPS!C117,\"\")","v":"search engine optimization seo"},{"$f":"IF(ISTEXT(ShareOfSearch_SERPS!D117),ShareOfSearch_SERPS!D117,\"\")","v":"co.uk"},{"$f":"IF(NOT(ISBLANK(ShareOfSearch_SERPS!A117)),ShareOfSearch_SERPS!A117,\"\")","v":16},{"$f":"IF(NOT(ISBLANK(ShareOfSearch_SERPS!G117)),ShareOfSearch_SERPS!G117,\"\")","v":"http://www.entrepreneur.com/seo/"},{"$f":"IF(NOT(ISBLANK(ShareOfSearch_SERPS!K117)),ShareOfSearch_SERPS!K117,\"\")","v":"entrepreneur.com"},{"$f":"IFERROR(VLOOKUP(C117,ShareOfSearch_CTR!$A$1:$B$100,2,FALSE)*VLOOKUP(A117&B117,ShareOfSearch_Volume!$C$1:$D$1000,2,FALSE),\"\")","v":2130.06}]
[{"$f":"IF(ISTEXT(ShareOfSearch_SERPS!C118),ShareOfSearch_SERPS!C118,\"\")","v":"search engine optimization seo"},{"$f":"IF(ISTEXT(ShareOfSearch_SERPS!D118),ShareOfSearch_SERPS!D118,\"\")","v":"co.uk"},{"$f":"IF(NOT(ISBLANK(ShareOfSearch_SERPS!A118)),ShareOfSearch_SERPS!A118,\"\")","v":17},{"$f":"IF(NOT(ISBLANK(ShareOfSearch_SERPS!G118)),ShareOfSearch_SERPS!G118,\"\")","v":"http://www.youtube.com/watch%3Fv%3DhF515-0Tduk"},{"$f":"IF(NOT(ISBLANK(ShareOfSearch_SERPS!K118)),ShareOfSearch_SERPS!K118,\"\")","v":"youtube.com"},{"$f":"IFERROR(VLOOKUP(C118,ShareOfSearch_CTR!$A$1:$B$100,2,FALSE)*VLOOKUP(A118&B118,ShareOfSearch_Volume!$C$1:$D$1000,2,FALSE),\"\")","v":2485.0700000000002}]
[{"$f":"IF(ISTEXT(ShareOfSearch_SERPS!C119),ShareOfSearch_SERPS!C119,\"\")","v":"search engine optimization seo"},{"$f":"IF(ISTEXT(ShareOfSearch_SERPS!D119),ShareOfSearch_SERPS!D119,\"\")","v":"co.uk"},{"$f":"IF(NOT(ISBLANK(ShareOfSearch_SERPS!A119)),ShareOfSearch_SERPS!A119,\"\")","v":18},{"$f":"IF(NOT(ISBLANK(ShareOfSearch_SERPS!G119)),ShareOfSearch_SERPS!G119,\"\")","v":"http://www.hobo-web.co.uk/seo-tutorial/"},{"$f":"IF(NOT(ISBLANK(ShareOfSearch_SERPS!K119)),ShareOfSearch_SERPS!K119,\"\")","v":"hobo-web.co.uk"},{"$f":"IFERROR(VLOOKUP(C119,ShareOfSearch_CTR!$A$1:$B$100,2,FALSE)*VLOOKUP(A119&B119,ShareOfSearch_Volume!$C$1:$D$1000,2,FALSE),\"\")","v":2307.5650000000001}]
[{"$f":"IF(ISTEXT(ShareOfSearch_SERPS!C120),ShareOfSearch_SERPS!C120,\"\")","v":"search engine optimization seo"},{"$f":"IF(ISTEXT(ShareOfSearch_SERPS!D120),ShareOfSearch_SERPS!D120,\"\")","v":"co.uk"},{"$f":"IF(NOT(ISBLANK(ShareOfSearch_SERPS!A120)),ShareOfSearch_SERPS!A120,\"\")","v":19},{"$f":"IF(NOT(ISBLANK(ShareOfSearch_SERPS!G120)),ShareOfSearch_SERPS!G120,\"\")","v":"http://www.iis.net/downloads/microsoft/search-engine-optimization-toolkit"},{"$f":"IF(NOT(ISBLANK(ShareOfSearch_SERPS!K120)),ShareOfSearch_SERPS!K120,\"\")","v":"www.iis.net"},{"$f":"IFERROR(VLOOKUP(C120,ShareOfSearch_CTR!$A$1:$B$100,2,FALSE)*VLOOKUP(A120&B120,ShareOfSearch_Volume!$C$1:$D$1000,2,FALSE),\"\")","v":2485.0700000000002}]
[{"$f":"IF(ISTEXT(ShareOfSearch_SERPS!C121),ShareOfSearch_SERPS!C121,\"\")","v":"search engine optimization seo"},{"$f":"IF(ISTEXT(ShareOfSearch_SERPS!D121),ShareOfSearch_SERPS!D121,\"\")","v":"co.uk"},{"$f":"IF(NOT(ISBLANK(ShareOfSearch_SERPS!A121)),ShareOfSearch_SERPS!A121,\"\")","v":20},{"$f":"IF(NOT(ISBLANK(ShareOfSearch_SERPS!G121)),ShareOfSearch_SERPS!G121,\"\")","v":"http://www.businessinsider.com/10-basic-seo-tips-everyone-should-know-2010-1%3Fop%3D1"},{"$f":"IF(NOT(ISBLANK(ShareOfSearch_SERPS!K121)),ShareOfSearch_SERPS!K121,\"\")","v":"businessinsider.com"},{"$f":"IFERROR(VLOOKUP(C121,ShareOfSearch_CTR!$A$1:$B$100,2,FALSE)*VLOOKUP(A121&B121,ShareOfSearch_Volume!$C$1:$D$1000,2,FALSE),\"\")","v":2485.0700000000002}]
[{"$f":"IF(ISTEXT(ShareOfSearch_SERPS!C122),ShareOfSearch_SERPS!C122,\"\")","v":"seo tools"},{"$f":"IF(ISTEXT(ShareOfSearch_SERPS!D122),ShareOfSearch_SERPS!D122,\"\")","v":"co.uk"},{"$f":"IF(NOT(ISBLANK(ShareOfSearch_SERPS!A122)),ShareOfSearch_SERPS!A122,\"\")","v":1},{"$f":"IF(NOT(ISBLANK(ShareOfSearch_SERPS!G122)),ShareOfSearch_SERPS!G122,\"\")","v":"http://tools.seobook.com/"},{"$f":"IF(NOT(ISBLANK(ShareOfSearch_SERPS!K122)),ShareOfSearch_SERPS!K122,\"\")","v":"seobook.com"},{"$f":"IFERROR(VLOOKUP(C122,ShareOfSearch_CTR!$A$1:$B$100,2,FALSE)*VLOOKUP(A122&B122,ShareOfSearch_Volume!$C$1:$D$1000,2,FALSE),\"\")","v":46145.371999999996}]
[{"$f":"IF(ISTEXT(ShareOfSearch_SERPS!C123),ShareOfSearch_SERPS!C123,\"\")","v":"seo tools"},{"$f":"IF(ISTEXT(ShareOfSearch_SERPS!D123),ShareOfSearch_SERPS!D123,\"\")","v":"co.uk"},{"$f":"IF(NOT(ISBLANK(ShareOfSearch_SERPS!A123)),ShareOfSearch_SERPS!A123,\"\")","v":2},{"$f":"IF(NOT(ISBLANK(ShareOfSearch_SERPS!G123)),ShareOfSearch_SERPS!G123,\"\")","v":"http://smallseotools.com/"},{"$f":"IF(NOT(ISBLANK(ShareOfSearch_SERPS!K123)),ShareOfSearch_SERPS!K123,\"\")","v":"smallseotools.com"},{"$f":"IFERROR(VLOOKUP(C123,ShareOfSearch_CTR!$A$1:$B$100,2,FALSE)*VLOOKUP(A123&B123,ShareOfSearch_Volume!$C$1:$D$1000,2,FALSE),\"\")","v":15846.625}]
[{"$f":"IF(ISTEXT(ShareOfSearch_SERPS!C124),ShareOfSearch_SERPS!C124,\"\")","v":"seo tools"},{"$f":"IF(ISTEXT(ShareOfSearch_SERPS!D124),ShareOfSearch_SERPS!D124,\"\")","v":"co.uk"},{"$f":"IF(NOT(ISBLANK(ShareOfSearch_SERPS!A124)),ShareOfSearch_SERPS!A124,\"\")","v":3},{"$f":"IF(NOT(ISBLANK(ShareOfSearch_SERPS!G124)),ShareOfSearch_SERPS!G124,\"\")","v":"http://moz.com/tools"},{"$f":"IF(NOT(ISBLANK(ShareOfSearch_SERPS!K124)),ShareOfSearch_SERPS!K124,\"\")","v":"moz.com"},{"$f":"IFERROR(VLOOKUP(C124,ShareOfSearch_CTR!$A$1:$B$100,2,FALSE)*VLOOKUP(A124&B124,ShareOfSearch_Volume!$C$1:$D$1000,2,FALSE),\"\")","v":12043.434999999999}]
[{"$f":"IF(ISTEXT(ShareOfSearch_SERPS!C125),ShareOfSearch_SERPS!C125,\"\")","v":"seo tools"},{"$f":"IF(ISTEXT(ShareOfSearch_SERPS!D125),ShareOfSearch_SERPS!D125,\"\")","v":"co.uk"},{"$f":"IF(NOT(ISBLANK(ShareOfSearch_SERPS!A125)),ShareOfSearch_SERPS!A125,\"\")","v":4},{"$f":"IF(NOT(ISBLANK(ShareOfSearch_SERPS!G125)),ShareOfSearch_SERPS!G125,\"\")","v":"http://www.microsoft.com/web/seo/"},{"$f":"IF(NOT(ISBLANK(ShareOfSearch_SERPS!K125)),ShareOfSearch_SERPS!K125,\"\")","v":"microsoft.com"},{"$f":"IFERROR(VLOOKUP(C125,ShareOfSearch_CTR!$A$1:$B$100,2,FALSE)*VLOOKUP(A125&B125,ShareOfSearch_Volume!$C$1:$D$1000,2,FALSE),\"\")","v":10015.067000000001}]
[{"$f":"IF(ISTEXT(ShareOfSearch_SERPS!C126),ShareOfSearch_SERPS!C126,\"\")","v":"seo tools"},{"$f":"IF(ISTEXT(ShareOfSearch_SERPS!D126),ShareOfSearch_SERPS!D126,\"\")","v":"co.uk"},{"$f":"IF(NOT(ISBLANK(ShareOfSearch_SERPS!A126)),ShareOfSearch_SERPS!A126,\"\")","v":5},{"$f":"IF(NOT(ISBLANK(ShareOfSearch_SERPS!G126)),ShareOfSearch_SERPS!G126,\"\")","v":"http://searchenginewatch.com/article/2303494/21-Best-FREE-SEO-Tools-for-On-Page-Optimization"},{"$f":"IF(NOT(ISBLANK(ShareOfSearch_SERPS!K126)),ShareOfSearch_SERPS!K126,\"\")","v":"searchenginewatch.com"},{"$f":"IFERROR(VLOOKUP(C126,ShareOfSearch_CTR!$A$1:$B$100,2,FALSE)*VLOOKUP(A126&B126,ShareOfSearch_Volume!$C$1:$D$1000,2,FALSE),\"\")","v":7733.1530000000002}]
[{"$f":"IF(ISTEXT(ShareOfSearch_SERPS!C127),ShareOfSearch_SERPS!C127,\"\")","v":"seo tools"},{"$f":"IF(ISTEXT(ShareOfSearch_SERPS!D127),ShareOfSearch_SERPS!D127,\"\")","v":"co.uk"},{"$f":"IF(NOT(ISBLANK(ShareOfSearch_SERPS!A127)),ShareOfSearch_SERPS!A127,\"\")","v":6},{"$f":"IF(NOT(ISBLANK(ShareOfSearch_SERPS!G127)),ShareOfSearch_SERPS!G127,\"\")","v":"http://www.webconfs.com/"},{"$f":"IF(NOT(ISBLANK(ShareOfSearch_SERPS!K127)),ShareOfSearch_SERPS!K127,\"\")","v":"webconfs.com"},{"$f":"IFERROR(VLOOKUP(C127,ShareOfSearch_CTR!$A$1:$B$100,2,FALSE)*VLOOKUP(A127&B127,ShareOfSearch_Volume!$C$1:$D$1000,2,FALSE),\"\")","v":5197.6930000000002}]
[{"$f":"IF(ISTEXT(ShareOfSearch_SERPS!C128),ShareOfSearch_SERPS!C128,\"\")","v":"seo tools"},{"$f":"IF(ISTEXT(ShareOfSearch_SERPS!D128),ShareOfSearch_SERPS!D128,\"\")","v":"co.uk"},{"$f":"IF(NOT(ISBLANK(ShareOfSearch_SERPS!A128)),ShareOfSearch_SERPS!A128,\"\")","v":7},{"$f":"IF(NOT(ISBLANK(ShareOfSearch_SERPS!G128)),ShareOfSearch_SERPS!G128,\"\")","v":"http://www.submitexpress.com/tools.html"},{"$f":"IF(NOT(ISBLANK(ShareOfSearch_SERPS!K128)),ShareOfSearch_SERPS!K128,\"\")","v":"submitexpress.com"},{"$f":"IFERROR(VLOOKUP(C128,ShareOfSearch_CTR!$A$1:$B$100,2,FALSE)*VLOOKUP(A128&B128,ShareOfSearch_Volume!$C$1:$D$1000,2,FALSE),\"\")","v":4817.3739999999998}]
[{"$f":"IF(ISTEXT(ShareOfSearch_SERPS!C129),ShareOfSearch_SERPS!C129,\"\")","v":"seo tools"},{"$f":"IF(ISTEXT(ShareOfSearch_SERPS!D129),ShareOfSearch_SERPS!D129,\"\")","v":"co.uk"},{"$f":"IF(NOT(ISBLANK(ShareOfSearch_SERPS!A129)),ShareOfSearch_SERPS!A129,\"\")","v":8},{"$f":"IF(NOT(ISBLANK(ShareOfSearch_SERPS!G129)),ShareOfSearch_SERPS!G129,\"\")","v":"http://www.seotoolset.com/tools/free_tools.html"},{"$f":"IF(NOT(ISBLANK(ShareOfSearch_SERPS!K129)),ShareOfSearch_SERPS!K129,\"\")","v":"seotoolset.com"},{"$f":"IFERROR(VLOOKUP(C129,ShareOfSearch_CTR!$A$1:$B$100,2,FALSE)*VLOOKUP(A129&B129,ShareOfSearch_Volume!$C$1:$D$1000,2,FALSE),\"\")","v":4437.0550000000003}]
[{"$f":"IF(ISTEXT(ShareOfSearch_SERPS!C130),ShareOfSearch_SERPS!C130,\"\")","v":"seo tools"},{"$f":"IF(ISTEXT(ShareOfSearch_SERPS!D130),ShareOfSearch_SERPS!D130,\"\")","v":"co.uk"},{"$f":"IF(NOT(ISBLANK(ShareOfSearch_SERPS!A130)),ShareOfSearch_SERPS!A130,\"\")","v":9},{"$f":"IF(NOT(ISBLANK(ShareOfSearch_SERPS!G130)),ShareOfSearch_SERPS!G130,\"\")","v":"http://www.majesticseo.com/webmaster-tools"},{"$f":"IF(NOT(ISBLANK(ShareOfSearch_SERPS!K130)),ShareOfSearch_SERPS!K130,\"\")","v":"majesticseo.com"},{"$f":"IFERROR(VLOOKUP(C130,ShareOfSearch_CTR!$A$1:$B$100,2,FALSE)*VLOOKUP(A130&B130,ShareOfSearch_Volume!$C$1:$D$1000,2,FALSE),\"\")","v":3803.19}]
[{"$f":"IF(ISTEXT(ShareOfSearch_SERPS!C131),ShareOfSearch_SERPS!C131,\"\")","v":"seo tools"},{"$f":"IF(ISTEXT(ShareOfSearch_SERPS!D131),ShareOfSearch_SERPS!D131,\"\")","v":"co.uk"},{"$f":"IF(NOT(ISBLANK(ShareOfSearch_SERPS!A131)),ShareOfSearch_SERPS!A131,\"\")","v":10},{"$f":"IF(NOT(ISBLANK(ShareOfSearch_SERPS!G131)),ShareOfSearch_SERPS!G131,\"\")","v":"http://www.majesticseo.com/support/tools"},{"$f":"IF(NOT(ISBLANK(ShareOfSearch_SERPS!K131)),ShareOfSearch_SERPS!K131,\"\")","v":"majesticseo.com"},{"$f":"IFERROR(VLOOKUP(C131,ShareOfSearch_CTR!$A$1:$B$100,2,FALSE)*VLOOKUP(A131&B131,ShareOfSearch_Volume!$C$1:$D$1000,2,FALSE),\"\")","v":2789.0059999999999}]
[{"$f":"IF(ISTEXT(ShareOfSearch_SERPS!C132),ShareOfSearch_SERPS!C132,\"\")","v":"seo tools"},{"$f":"IF(ISTEXT(ShareOfSearch_SERPS!D132),ShareOfSearch_SERPS!D132,\"\")","v":"co.uk"},{"$f":"IF(NOT(ISBLANK(ShareOfSearch_SERPS!A132)),ShareOfSearch_SERPS!A132,\"\")","v":11},{"$f":"IF(NOT(ISBLANK(ShareOfSearch_SERPS!G132)),ShareOfSearch_SERPS!G132,\"\")","v":"http://raventools.com/marketing-software/seo/"},{"$f":"IF(NOT(ISBLANK(ShareOfSearch_SERPS!K132)),ShareOfSearch_SERPS!K132,\"\")","v":"raventools.com"},{"$f":"IFERROR(VLOOKUP(C132,ShareOfSearch_CTR!$A$1:$B$100,2,FALSE)*VLOOKUP(A132&B132,ShareOfSearch_Volume!$C$1:$D$1000,2,FALSE),\"\")","v":3296.098}]
[{"$f":"IF(ISTEXT(ShareOfSearch_SERPS!C133),ShareOfSearch_SERPS!C133,\"\")","v":"seo tools"},{"$f":"IF(ISTEXT(ShareOfSearch_SERPS!D133),ShareOfSearch_SERPS!D133,\"\")","v":"co.uk"},{"$f":"IF(NOT(ISBLANK(ShareOfSearch_SERPS!A133)),ShareOfSearch_SERPS!A133,\"\")","v":12},{"$f":"IF(NOT(ISBLANK(ShareOfSearch_SERPS!G133)),ShareOfSearch_SERPS!G133,\"\")","v":"https://yoast.com/tools/seo/"},{"$f":"IF(NOT(ISBLANK(ShareOfSearch_SERPS!K133)),ShareOfSearch_SERPS!K133,\"\")","v":"yoast.com"},{"$f":"IFERROR(VLOOKUP(C133,ShareOfSearch_CTR!$A$1:$B$100,2,FALSE)*VLOOKUP(A133&B133,ShareOfSearch_Volume!$C$1:$D$1000,2,FALSE),\"\")","v":1901.595}]
[{"$f":"IF(ISTEXT(ShareOfSearch_SERPS!C134),ShareOfSearch_SERPS!C134,\"\")","v":"seo tools"},{"$f":"IF(ISTEXT(ShareOfSearch_SERPS!D134),ShareOfSearch_SERPS!D134,\"\")","v":"co.uk"},{"$f":"IF(NOT(ISBLANK(ShareOfSearch_SERPS!A134)),ShareOfSearch_SERPS!A134,\"\")","v":13},{"$f":"IF(NOT(ISBLANK(ShareOfSearch_SERPS!G134)),ShareOfSearch_SERPS!G134,\"\")","v":"http://www.found.co.uk/seo-tool/"},{"$f":"IF(NOT(ISBLANK(ShareOfSearch_SERPS!K134)),ShareOfSearch_SERPS!K134,\"\")","v":"found.co.uk"},{"$f":"IFERROR(VLOOKUP(C134,ShareOfSearch_CTR!$A$1:$B$100,2,FALSE)*VLOOKUP(A134&B134,ShareOfSearch_Volume!$C$1:$D$1000,2,FALSE),\"\")","v":1648.049}]
[{"$f":"IF(ISTEXT(ShareOfSearch_SERPS!C135),ShareOfSearch_SERPS!C135,\"\")","v":"seo tools"},{"$f":"IF(ISTEXT(ShareOfSearch_SERPS!D135),ShareOfSearch_SERPS!D135,\"\")","v":"co.uk"},{"$f":"IF(NOT(ISBLANK(ShareOfSearch_SERPS!A135)),ShareOfSearch_SERPS!A135,\"\")","v":14},{"$f":"IF(NOT(ISBLANK(ShareOfSearch_SERPS!G135)),ShareOfSearch_SERPS!G135,\"\")","v":"http://seositecheckup.com/"},{"$f":"IF(NOT(ISBLANK(ShareOfSearch_SERPS!K135)),ShareOfSearch_SERPS!K135,\"\")","v":"seositecheckup.com"},{"$f":"IFERROR(VLOOKUP(C135,ShareOfSearch_CTR!$A$1:$B$100,2,FALSE)*VLOOKUP(A135&B135,ShareOfSearch_Volume!$C$1:$D$1000,2,FALSE),\"\")","v":1394.5029999999999}]
[{"$f":"IF(ISTEXT(ShareOfSearch_SERPS!C136),ShareOfSearch_SERPS!C136,\"\")","v":"seo tools"},{"$f":"IF(ISTEXT(ShareOfSearch_SERPS!D136),ShareOfSearch_SERPS!D136,\"\")","v":"co.uk"},{"$f":"IF(NOT(ISBLANK(ShareOfSearch_SERPS!A136)),ShareOfSearch_SERPS!A136,\"\")","v":15},{"$f":"IF(NOT(ISBLANK(ShareOfSearch_SERPS!G136)),ShareOfSearch_SERPS!G136,\"\")","v":"http://www.seotools.com/"},{"$f":"IF(NOT(ISBLANK(ShareOfSearch_SERPS!K136)),ShareOfSearch_SERPS!K136,\"\")","v":"seotools.com"},{"$f":"IFERROR(VLOOKUP(C136,ShareOfSearch_CTR!$A$1:$B$100,2,FALSE)*VLOOKUP(A136&B136,ShareOfSearch_Volume!$C$1:$D$1000,2,FALSE),\"\")","v":1521.2760000000001}]
[{"$f":"IF(ISTEXT(ShareOfSearch_SERPS!C137),ShareOfSearch_SERPS!C137,\"\")","v":"seo tools"},{"$f":"IF(ISTEXT(ShareOfSearch_SERPS!D137),ShareOfSearch_SERPS!D137,\"\")","v":"co.uk"},{"$f":"IF(NOT(ISBLANK(ShareOfSearch_SERPS!A137)),ShareOfSearch_SERPS!A137,\"\")","v":16},{"$f":"IF(NOT(ISBLANK(ShareOfSearch_SERPS!G137)),ShareOfSearch_SERPS!G137,\"\")","v":"http://www.seocompany.ca/tool/seo-tools.html"},{"$f":"IF(NOT(ISBLANK(ShareOfSearch_SERPS!K137)),ShareOfSearch_SERPS!K137,\"\")","v":"seocompany.ca"},{"$f":"IFERROR(VLOOKUP(C137,ShareOfSearch_CTR!$A$1:$B$100,2,FALSE)*VLOOKUP(A137&B137,ShareOfSearch_Volume!$C$1:$D$1000,2,FALSE),\"\")","v":1521.2760000000001}]
[{"$f":"IF(ISTEXT(ShareOfSearch_SERPS!C138),ShareOfSearch_SERPS!C138,\"\")","v":"seo tools"},{"$f":"IF(ISTEXT(ShareOfSearch_SERPS!D138),ShareOfSearch_SERPS!D138,\"\")","v":"co.uk"},{"$f":"IF(NOT(ISBLANK(ShareOfSearch_SERPS!A138)),ShareOfSearch_SERPS!A138,\"\")","v":17},{"$f":"IF(NOT(ISBLANK(ShareOfSearch_SERPS!G138)),ShareOfSearch_SERPS!G138,\"\")","v":"http://www.wordstream.com/seo-tools"},{"$f":"IF(NOT(ISBLANK(ShareOfSearch_SERPS!K138)),ShareOfSearch_SERPS!K138,\"\")","v":"wordstream.com"},{"$f":"IFERROR(VLOOKUP(C138,ShareOfSearch_CTR!$A$1:$B$100,2,FALSE)*VLOOKUP(A138&B138,ShareOfSearch_Volume!$C$1:$D$1000,2,FALSE),\"\")","v":1774.8220000000001}]
[{"$f":"IF(ISTEXT(ShareOfSearch_SERPS!C139),ShareOfSearch_SERPS!C139,\"\")","v":"seo tools"},{"$f":"IF(ISTEXT(ShareOfSearch_SERPS!D139),ShareOfSearch_SERPS!D139,\"\")","v":"co.uk"},{"$f":"IF(NOT(ISBLANK(ShareOfSearch_SERPS!A139)),ShareOfSearch_SERPS!A139,\"\")","v":18},{"$f":"IF(NOT(ISBLANK(ShareOfSearch_SERPS!G139)),ShareOfSearch_SERPS!G139,\"\")","v":"http://www.screamingfrog.co.uk/seo-spider/"},{"$f":"IF(NOT(ISBLANK(ShareOfSearch_SERPS!K139)),ShareOfSearch_SERPS!K139,\"\")","v":"screamingfrog.co.uk"},{"$f":"IFERROR(VLOOKUP(C139,ShareOfSearch_CTR!$A$1:$B$100,2,FALSE)*VLOOKUP(A139&B139,ShareOfSearch_Volume!$C$1:$D$1000,2,FALSE),\"\")","v":1648.049}]
[{"$f":"IF(ISTEXT(ShareOfSearch_SERPS!C140),ShareOfSearch_SERPS!C140,\"\")","v":"seo tools"},{"$f":"IF(ISTEXT(ShareOfSearch_SERPS!D140),ShareOfSearch_SERPS!D140,\"\")","v":"co.uk"},{"$f":"IF(NOT(ISBLANK(ShareOfSearch_SERPS!A140)),ShareOfSearch_SERPS!A140,\"\")","v":19},{"$f":"IF(NOT(ISBLANK(ShareOfSearch_SERPS!G140)),ShareOfSearch_SERPS!G140,\"\")","v":"http://www.woorank.com/"},{"$f":"IF(NOT(ISBLANK(ShareOfSearch_SERPS!K140)),ShareOfSearch_SERPS!K140,\"\")","v":"woorank.com"},{"$f":"IFERROR(VLOOKUP(C140,ShareOfSearch_CTR!$A$1:$B$100,2,FALSE)*VLOOKUP(A140&B140,ShareOfSearch_Volume!$C$1:$D$1000,2,FALSE),\"\")","v":1774.8220000000001}]
[{"$f":"IF(ISTEXT(ShareOfSearch_SERPS!C141),ShareOfSearch_SERPS!C141,\"\")","v":"seo tools"},{"$f":"IF(ISTEXT(ShareOfSearch_SERPS!D141),ShareOfSearch_SERPS!D141,\"\")","v":"co.uk"},{"$f":"IF(NOT(ISBLANK(ShareOfSearch_SERPS!A141)),ShareOfSearch_SERPS!A141,\"\")","v":20},{"$f":"IF(NOT(ISBLANK(ShareOfSearch_SERPS!G141)),ShareOfSearch_SERPS!G141,\"\")","v":"https://support.google.com/webmasters/answer/35291%3Fhl%3Den"},{"$f":"IF(NOT(ISBLANK(ShareOfSearch_SERPS!K141)),ShareOfSearch_SERPS!K141,\"\")","v":"google.com"},{"$f":"IFERROR(VLOOKUP(C141,ShareOfSearch_CTR!$A$1:$B$100,2,FALSE)*VLOOKUP(A141&B141,ShareOfSearch_Volume!$C$1:$D$1000,2,FALSE),\"\")","v":1774.8220000000001}]
[{"$f":"IF(ISTEXT(ShareOfSearch_SERPS!C142),ShareOfSearch_SERPS!C142,\"\")","v":"search engine optimisation"},{"$f":"IF(ISTEXT(ShareOfSearch_SERPS!D142),ShareOfSearch_SERPS!D142,\"\")","v":"co.uk"},{"$f":"IF(NOT(ISBLANK(ShareOfSearch_SERPS!A142)),ShareOfSearch_SERPS!A142,\"\")","v":1},{"$f":"IF(NOT(ISBLANK(ShareOfSearch_SERPS!G142)),ShareOfSearch_SERPS!G142,\"\")","v":"http://en.wikipedia.org/wiki/Search_engine_optimization"},{"$f":"IF(NOT(ISBLANK(ShareOfSearch_SERPS!K142)),ShareOfSearch_SERPS!K142,\"\")","v":"wikipedia.org"},{"$f":"IFERROR(VLOOKUP(C142,ShareOfSearch_CTR!$A$1:$B$100,2,FALSE)*VLOOKUP(A142&B142,ShareOfSearch_Volume!$C$1:$D$1000,2,FALSE),\"\")","v":37090.871999999996}]
[{"$f":"IF(ISTEXT(ShareOfSearch_SERPS!C143),ShareOfSearch_SERPS!C143,\"\")","v":"search engine optimisation"},{"$f":"IF(ISTEXT(ShareOfSearch_SERPS!D143),ShareOfSearch_SERPS!D143,\"\")","v":"co.uk"},{"$f":"IF(NOT(ISBLANK(ShareOfSearch_SERPS!A143)),ShareOfSearch_SERPS!A143,\"\")","v":2},{"$f":"IF(NOT(ISBLANK(ShareOfSearch_SERPS!G143)),ShareOfSearch_SERPS!G143,\"\")","v":"http://www.google.co.uk/webmasters/docs/search-engine-optimization-starter-guide.pdf"},{"$f":"IF(NOT(ISBLANK(ShareOfSearch_SERPS!K143)),ShareOfSearch_SERPS!K143,\"\")","v":"google.co.uk"},{"$f":"IFERROR(VLOOKUP(C143,ShareOfSearch_CTR!$A$1:$B$100,2,FALSE)*VLOOKUP(A143&B143,ShareOfSearch_Volume!$C$1:$D$1000,2,FALSE),\"\")","v":12737.25}]
[{"$f":"IF(ISTEXT(ShareOfSearch_SERPS!C144),ShareOfSearch_SERPS!C144,\"\")","v":"search engine optimisation"},{"$f":"IF(ISTEXT(ShareOfSearch_SERPS!D144),ShareOfSearch_SERPS!D144,\"\")","v":"co.uk"},{"$f":"IF(NOT(ISBLANK(ShareOfSearch_SERPS!A144)),ShareOfSearch_SERPS!A144,\"\")","v":3},{"$f":"IF(NOT(ISBLANK(ShareOfSearch_SERPS!G144)),ShareOfSearch_SERPS!G144,\"\")","v":"http://searchengineland.com/guide/what-is-seo"},{"$f":"IF(NOT(ISBLANK(ShareOfSearch_SERPS!K144)),ShareOfSearch_SERPS!K144,\"\")","v":"searchengineland.com"},{"$f":"IFERROR(VLOOKUP(C144,ShareOfSearch_CTR!$A$1:$B$100,2,FALSE)*VLOOKUP(A144&B144,ShareOfSearch_Volume!$C$1:$D$1000,2,FALSE),\"\")","v":9680.31}]
[{"$f":"IF(ISTEXT(ShareOfSearch_SERPS!C145),ShareOfSearch_SERPS!C145,\"\")","v":"search engine optimisation"},{"$f":"IF(ISTEXT(ShareOfSearch_SERPS!D145),ShareOfSearch_SERPS!D145,\"\")","v":"co.uk"},{"$f":"IF(NOT(ISBLANK(ShareOfSearch_SERPS!A145)),ShareOfSearch_SERPS!A145,\"\")","v":4},{"$f":"IF(NOT(ISBLANK(ShareOfSearch_SERPS!G145)),ShareOfSearch_SERPS!G145,\"\")","v":"http://www.screamingfrog.co.uk/search-engine-optimisation/"},{"$f":"IF(NOT(ISBLANK(ShareOfSearch_SERPS!K145)),ShareOfSearch_SERPS!K145,\"\")","v":"screamingfrog.co.uk"},{"$f":"IFERROR(VLOOKUP(C145,ShareOfSearch_CTR!$A$1:$B$100,2,FALSE)*VLOOKUP(A145&B145,ShareOfSearch_Volume!$C$1:$D$1000,2,FALSE),\"\")","v":8049.942}]
[{"$f":"IF(ISTEXT(ShareOfSearch_SERPS!C146),ShareOfSearch_SERPS!C146,\"\")","v":"search engine optimisation"},{"$f":"IF(ISTEXT(ShareOfSearch_SERPS!D146),ShareOfSearch_SERPS!D146,\"\")","v":"co.uk"},{"$f":"IF(NOT(ISBLANK(ShareOfSearch_SERPS!A146)),ShareOfSearch_SERPS!A146,\"\")","v":5},{"$f":"IF(NOT(ISBLANK(ShareOfSearch_SERPS!G146)),ShareOfSearch_SERPS!G146,\"\")","v":"http://searchenginewatch.com/article/2259693/SEO-Basics-8-Essentials-When-Optimizing-Your-Site"},{"$f":"IF(NOT(ISBLANK(ShareOfSearch_SERPS!K146)),ShareOfSearch_SERPS!K146,\"\")","v":"searchenginewatch.com"},{"$f":"IFERROR(VLOOKUP(C146,ShareOfSearch_CTR!$A$1:$B$100,2,FALSE)*VLOOKUP(A146&B146,ShareOfSearch_Volume!$C$1:$D$1000,2,FALSE),\"\")","v":6215.7780000000002}]
[{"$f":"IF(ISTEXT(ShareOfSearch_SERPS!C147),ShareOfSearch_SERPS!C147,\"\")","v":"search engine optimisation"},{"$f":"IF(ISTEXT(ShareOfSearch_SERPS!D147),ShareOfSearch_SERPS!D147,\"\")","v":"co.uk"},{"$f":"IF(NOT(ISBLANK(ShareOfSearch_SERPS!A147)),ShareOfSearch_SERPS!A147,\"\")","v":6},{"$f":"IF(NOT(ISBLANK(ShareOfSearch_SERPS!G147)),ShareOfSearch_SERPS!G147,\"\")","v":"https://support.google.com/webmasters/answer/35291%3Fhl%3Den"},{"$f":"IF(NOT(ISBLANK(ShareOfSearch_SERPS!K147)),ShareOfSearch_SERPS!K147,\"\")","v":"google.com"},{"$f":"IFERROR(VLOOKUP(C147,ShareOfSearch_CTR!$A$1:$B$100,2,FALSE)*VLOOKUP(A147&B147,ShareOfSearch_Volume!$C$1:$D$1000,2,FALSE),\"\")","v":4177.8180000000002}]
[{"$f":"IF(ISTEXT(ShareOfSearch_SERPS!C148),ShareOfSearch_SERPS!C148,\"\")","v":"search engine optimisation"},{"$f":"IF(ISTEXT(ShareOfSearch_SERPS!D148),ShareOfSearch_SERPS!D148,\"\")","v":"co.uk"},{"$f":"IF(NOT(ISBLANK(ShareOfSearch_SERPS!A148)),ShareOfSearch_SERPS!A148,\"\")","v":7},{"$f":"IF(NOT(ISBLANK(ShareOfSearch_SERPS!G148)),ShareOfSearch_SERPS!G148,\"\")","v":"http://www.hobo-web.co.uk/seo-tutorial/"},{"$f":"IF(NOT(ISBLANK(ShareOfSearch_SERPS!K148)),ShareOfSearch_SERPS!K148,\"\")","v":"hobo-web.co.uk"},{"$f":"IFERROR(VLOOKUP(C148,ShareOfSearch_CTR!$A$1:$B$100,2,FALSE)*VLOOKUP(A148&B148,ShareOfSearch_Volume!$C$1:$D$1000,2,FALSE),\"\")","v":3872.1239999999998}]
[{"$f":"IF(ISTEXT(ShareOfSearch_SERPS!C149),ShareOfSearch_SERPS!C149,\"\")","v":"search engine optimisation"},{"$f":"IF(ISTEXT(ShareOfSearch_SERPS!D149),ShareOfSearch_SERPS!D149,\"\")","v":"co.uk"},{"$f":"IF(NOT(ISBLANK(ShareOfSearch_SERPS!A149)),ShareOfSearch_SERPS!A149,\"\")","v":8},{"$f":"IF(NOT(ISBLANK(ShareOfSearch_SERPS!G149)),ShareOfSearch_SERPS!G149,\"\")","v":"http://www.redevolution.com/what-is-seo/"},{"$f":"IF(NOT(ISBLANK(ShareOfSearch_SERPS!K149)),ShareOfSearch_SERPS!K149,\"\")","v":"redevolution.com"},{"$f":"IFERROR(VLOOKUP(C149,ShareOfSearch_CTR!$A$1:$B$100,2,FALSE)*VLOOKUP(A149&B149,ShareOfSearch_Volume!$C$1:$D$1000,2,FALSE),\"\")","v":3566.4300000000003}]
[{"$f":"IF(ISTEXT(ShareOfSearch_SERPS!C150),ShareOfSearch_SERPS!C150,\"\")","v":"search engine optimisation"},{"$f":"IF(ISTEXT(ShareOfSearch_SERPS!D150),ShareOfSearch_SERPS!D150,\"\")","v":"co.uk"},{"$f":"IF(NOT(ISBLANK(ShareOfSearch_SERPS!A150)),ShareOfSearch_SERPS!A150,\"\")","v":9},{"$f":"IF(NOT(ISBLANK(ShareOfSearch_SERPS!G150)),ShareOfSearch_SERPS!G150,\"\")","v":"http://moz.com/beginners-guide-to-seo"},{"$f":"IF(NOT(ISBLANK(ShareOfSearch_SERPS!K150)),ShareOfSearch_SERPS!K150,\"\")","v":"moz.com"},{"$f":"IFERROR(VLOOKUP(C150,ShareOfSearch_CTR!$A$1:$B$100,2,FALSE)*VLOOKUP(A150&B150,ShareOfSearch_Volume!$C$1:$D$1000,2,FALSE),\"\")","v":3056.94}]
[{"$f":"IF(ISTEXT(ShareOfSearch_SERPS!C151),ShareOfSearch_SERPS!C151,\"\")","v":"search engine optimisation"},{"$f":"IF(ISTEXT(ShareOfSearch_SERPS!D151),ShareOfSearch_SERPS!D151,\"\")","v":"co.uk"},{"$f":"IF(NOT(ISBLANK(ShareOfSearch_SERPS!A151)),ShareOfSearch_SERPS!A151,\"\")","v":10},{"$f":"IF(NOT(ISBLANK(ShareOfSearch_SERPS!G151)),ShareOfSearch_SERPS!G151,\"\")","v":"http://www.webopedia.com/TERM/S/SEO.html"},{"$f":"IF(NOT(ISBLANK(ShareOfSearch_SERPS!K151)),ShareOfSearch_SERPS!K151,\"\")","v":"webopedia.com"},{"$f":"IFERROR(VLOOKUP(C151,ShareOfSearch_CTR!$A$1:$B$100,2,FALSE)*VLOOKUP(A151&B151,ShareOfSearch_Volume!$C$1:$D$1000,2,FALSE),\"\")","v":2241.7559999999999}]
[{"$f":"IF(ISTEXT(ShareOfSearch_SERPS!C152),ShareOfSearch_SERPS!C152,\"\")","v":"search engine optimisation"},{"$f":"IF(ISTEXT(ShareOfSearch_SERPS!D152),ShareOfSearch_SERPS!D152,\"\")","v":"co.uk"},{"$f":"IF(NOT(ISBLANK(ShareOfSearch_SERPS!A152)),ShareOfSearch_SERPS!A152,\"\")","v":11},{"$f":"IF(NOT(ISBLANK(ShareOfSearch_SERPS!G152)),ShareOfSearch_SERPS!G152,\"\")","v":"http://computer.howstuffworks.com/search-engine-optimization.htm"},{"$f":"IF(NOT(ISBLANK(ShareOfSearch_SERPS!K152)),ShareOfSearch_SERPS!K152,\"\")","v":"howstuffworks.com"},{"$f":"IFERROR(VLOOKUP(C152,ShareOfSearch_CTR!$A$1:$B$100,2,FALSE)*VLOOKUP(A152&B152,ShareOfSearch_Volume!$C$1:$D$1000,2,FALSE),\"\")","v":2649.348}]
[{"$f":"IF(ISTEXT(ShareOfSearch_SERPS!C153),ShareOfSearch_SERPS!C153,\"\")","v":"search engine optimisation"},{"$f":"IF(ISTEXT(ShareOfSearch_SERPS!D153),ShareOfSearch_SERPS!D153,\"\")","v":"co.uk"},{"$f":"IF(NOT(ISBLANK(ShareOfSearch_SERPS!A153)),ShareOfSearch_SERPS!A153,\"\")","v":12},{"$f":"IF(NOT(ISBLANK(ShareOfSearch_SERPS!G153)),ShareOfSearch_SERPS!G153,\"\")","v":"http://www.youtube.com/watch%3Fv%3DhF515-0Tduk"},{"$f":"IF(NOT(ISBLANK(ShareOfSearch_SERPS!K153)),ShareOfSearch_SERPS!K153,\"\")","v":"youtube.com"},{"$f":"IFERROR(VLOOKUP(C153,ShareOfSearch_CTR!$A$1:$B$100,2,FALSE)*VLOOKUP(A153&B153,ShareOfSearch_Volume!$C$1:$D$1000,2,FALSE),\"\")","v":1528.47}]
[{"$f":"IF(ISTEXT(ShareOfSearch_SERPS!C154),ShareOfSearch_SERPS!C154,\"\")","v":"search engine optimisation"},{"$f":"IF(ISTEXT(ShareOfSearch_SERPS!D154),ShareOfSearch_SERPS!D154,\"\")","v":"co.uk"},{"$f":"IF(NOT(ISBLANK(ShareOfSearch_SERPS!A154)),ShareOfSearch_SERPS!A154,\"\")","v":13},{"$f":"IF(NOT(ISBLANK(ShareOfSearch_SERPS!G154)),ShareOfSearch_SERPS!G154,\"\")","v":"http://www.theguardian.com/small-business-network/2014/jan/16/what-is-seo-how-website-google-visibility"},{"$f":"IF(NOT(ISBLANK(ShareOfSearch_SERPS!K154)),ShareOfSearch_SERPS!K154,\"\")","v":"theguardian.com"},{"$f":"IFERROR(VLOOKUP(C154,ShareOfSearch_CTR!$A$1:$B$100,2,FALSE)*VLOOKUP(A154&B154,ShareOfSearch_Volume!$C$1:$D$1000,2,FALSE),\"\")","v":1324.674}]
[{"$f":"IF(ISTEXT(ShareOfSearch_SERPS!C155),ShareOfSearch_SERPS!C155,\"\")","v":"search engine optimisation"},{"$f":"IF(ISTEXT(ShareOfSearch_SERPS!D155),ShareOfSearch_SERPS!D155,\"\")","v":"co.uk"},{"$f":"IF(NOT(ISBLANK(ShareOfSearch_SERPS!A155)),ShareOfSearch_SERPS!A155,\"\")","v":14},{"$f":"IF(NOT(ISBLANK(ShareOfSearch_SERPS!G155)),ShareOfSearch_SERPS!G155,\"\")","v":"https://econsultancy.com/reports/seo-best-practice-guide"},{"$f":"IF(NOT(ISBLANK(ShareOfSearch_SERPS!K155)),ShareOfSearch_SERPS!K155,\"\")","v":"econsultancy.com"},{"$f":"IFERROR(VLOOKUP(C155,ShareOfSearch_CTR!$A$1:$B$100,2,FALSE)*VLOOKUP(A155&B155,ShareOfSearch_Volume!$C$1:$D$1000,2,FALSE),\"\")","v":1120.8779999999999}]
[{"$f":"IF(ISTEXT(ShareOfSearch_SERPS!C156),ShareOfSearch_SERPS!C156,\"\")","v":"search engine optimisation"},{"$f":"IF(ISTEXT(ShareOfSearch_SERPS!D156),ShareOfSearch_SERPS!D156,\"\")","v":"co.uk"},{"$f":"IF(NOT(ISBLANK(ShareOfSearch_SERPS!A156)),ShareOfSearch_SERPS!A156,\"\")","v":15},{"$f":"IF(NOT(ISBLANK(ShareOfSearch_SERPS!G156)),ShareOfSearch_SERPS!G156,\"\")","v":"http://www.telegraph.co.uk/technology/internet/8663964/What-is-Search-Engine-Optimisation.html"},{"$f":"IF(NOT(ISBLANK(ShareOfSearch_SERPS!K156)),ShareOfSearch_SERPS!K156,\"\")","v":"telegraph.co.uk"},{"$f":"IFERROR(VLOOKUP(C156,ShareOfSearch_CTR!$A$1:$B$100,2,FALSE)*VLOOKUP(A156&B156,ShareOfSearch_Volume!$C$1:$D$1000,2,FALSE),\"\")","v":1222.7760000000001}]
[{"$f":"IF(ISTEXT(ShareOfSearch_SERPS!C157),ShareOfSearch_SERPS!C157,\"\")","v":"search engine optimisation"},{"$f":"IF(ISTEXT(ShareOfSearch_SERPS!D157),ShareOfSearch_SERPS!D157,\"\")","v":"co.uk"},{"$f":"IF(NOT(ISBLANK(ShareOfSearch_SERPS!A157)),ShareOfSearch_SERPS!A157,\"\")","v":16},{"$f":"IF(NOT(ISBLANK(ShareOfSearch_SERPS!G157)),ShareOfSearch_SERPS!G157,\"\")","v":"http://www.attacat.co.uk/seo"},{"$f":"IF(NOT(ISBLANK(ShareOfSearch_SERPS!K157)),ShareOfSearch_SERPS!K157,\"\")","v":"attacat.co.uk"},{"$f":"IFERROR(VLOOKUP(C157,ShareOfSearch_CTR!$A$1:$B$100,2,FALSE)*VLOOKUP(A157&B157,ShareOfSearch_Volume!$C$1:$D$1000,2,FALSE),\"\")","v":1222.7760000000001}]
[{"$f":"IF(ISTEXT(ShareOfSearch_SERPS!C158),ShareOfSearch_SERPS!C158,\"\")","v":"search engine optimisation"},{"$f":"IF(ISTEXT(ShareOfSearch_SERPS!D158),ShareOfSearch_SERPS!D158,\"\")","v":"co.uk"},{"$f":"IF(NOT(ISBLANK(ShareOfSearch_SERPS!A158)),ShareOfSearch_SERPS!A158,\"\")","v":17},{"$f":"IF(NOT(ISBLANK(ShareOfSearch_SERPS!G158)),ShareOfSearch_SERPS!G158,\"\")","v":"http://www.bbc.co.uk/blogs/internet/posts/search_engine_optimisation_in"},{"$f":"IF(NOT(ISBLANK(ShareOfSearch_SERPS!K158)),ShareOfSearch_SERPS!K158,\"\")","v":"www.bbc.co.uk"},{"$f":"IFERROR(VLOOKUP(C158,ShareOfSearch_CTR!$A$1:$B$100,2,FALSE)*VLOOKUP(A158&B158,ShareOfSearch_Volume!$C$1:$D$1000,2,FALSE),\"\")","v":1426.5720000000001}]
[{"$f":"IF(ISTEXT(ShareOfSearch_SERPS!C159),ShareOfSearch_SERPS!C159,\"\")","v":"search engine optimisation"},{"$f":"IF(ISTEXT(ShareOfSearch_SERPS!D159),ShareOfSearch_SERPS!D159,\"\")","v":"co.uk"},{"$f":"IF(NOT(ISBLANK(ShareOfSearch_SERPS!A159)),ShareOfSearch_SERPS!A159,\"\")","v":18},{"$f":"IF(NOT(ISBLANK(ShareOfSearch_SERPS!G159)),ShareOfSearch_SERPS!G159,\"\")","v":"http://www.hallaminternet.com/internet-services/seo/"},{"$f":"IF(NOT(ISBLANK(ShareOfSearch_SERPS!K159)),ShareOfSearch_SERPS!K159,\"\")","v":"hallaminternet.com"},{"$f":"IFERROR(VLOOKUP(C159,ShareOfSearch_CTR!$A$1:$B$100,2,FALSE)*VLOOKUP(A159&B159,ShareOfSearch_Volume!$C$1:$D$1000,2,FALSE),\"\")","v":1324.674}]
[{"$f":"IF(ISTEXT(ShareOfSearch_SERPS!C160),ShareOfSearch_SERPS!C160,\"\")","v":"search engine optimisation"},{"$f":"IF(ISTEXT(ShareOfSearch_SERPS!D160),ShareOfSearch_SERPS!D160,\"\")","v":"co.uk"},{"$f":"IF(NOT(ISBLANK(ShareOfSearch_SERPS!A160)),ShareOfSearch_SERPS!A160,\"\")","v":19},{"$f":"IF(NOT(ISBLANK(ShareOfSearch_SERPS!G160)),ShareOfSearch_SERPS!G160,\"\")","v":"http://www.123live.co.uk/optimising-your-website-for-search-engines.htm"},{"$f":"IF(NOT(ISBLANK(ShareOfSearch_SERPS!K160)),ShareOfSearch_SERPS!K160,\"\")","v":"123live.co.uk"},{"$f":"IFERROR(VLOOKUP(C160,ShareOfSearch_CTR!$A$1:$B$100,2,FALSE)*VLOOKUP(A160&B160,ShareOfSearch_Volume!$C$1:$D$1000,2,FALSE),\"\")","v":1426.5720000000001}]
[{"$f":"IF(ISTEXT(ShareOfSearch_SERPS!C161),ShareOfSearch_SERPS!C161,\"\")","v":"search engine optimisation"},{"$f":"IF(ISTEXT(ShareOfSearch_SERPS!D161),ShareOfSearch_SERPS!D161,\"\")","v":"co.uk"},{"$f":"IF(NOT(ISBLANK(ShareOfSearch_SERPS!A161)),ShareOfSearch_SERPS!A161,\"\")","v":20},{"$f":"IF(NOT(ISBLANK(ShareOfSearch_SERPS!G161)),ShareOfSearch_SERPS!G161,\"\")","v":"http://googlewebmastercentral.blogspot.com/2008/11/googles-seo-starter-guide.html"},{"$f":"IF(NOT(ISBLANK(ShareOfSearch_SERPS!K161)),ShareOfSearch_SERPS!K161,\"\")","v":"blogspot.com"},{"$f":"IFERROR(VLOOKUP(C161,ShareOfSearch_CTR!$A$1:$B$100,2,FALSE)*VLOOKUP(A161&B161,ShareOfSearch_Volume!$C$1:$D$1000,2,FALSE),\"\")","v":1426.5720000000001}]
[{"$f":"IF(ISTEXT(ShareOfSearch_SERPS!C162),ShareOfSearch_SERPS!C162,\"\")","v":"what is search engine optimization"},{"$f":"IF(ISTEXT(ShareOfSearch_SERPS!D162),ShareOfSearch_SERPS!D162,\"\")","v":"co.uk"},{"$f":"IF(NOT(ISBLANK(ShareOfSearch_SERPS!A162)),ShareOfSearch_SERPS!A162,\"\")","v":1},{"$f":"IF(NOT(ISBLANK(ShareOfSearch_SERPS!G162)),ShareOfSearch_SERPS!G162,\"\")","v":"http://searchengineland.com/guide/what-is-seo"},{"$f":"IF(NOT(ISBLANK(ShareOfSearch_SERPS!K162)),ShareOfSearch_SERPS!K162,\"\")","v":"searchengineland.com"},{"$f":"IFERROR(VLOOKUP(C162,ShareOfSearch_CTR!$A$1:$B$100,2,FALSE)*VLOOKUP(A162&B162,ShareOfSearch_Volume!$C$1:$D$1000,2,FALSE),\"\")","v":35959.56}]
[{"$f":"IF(ISTEXT(ShareOfSearch_SERPS!C163),ShareOfSearch_SERPS!C163,\"\")","v":"what is search engine optimization"},{"$f":"IF(ISTEXT(ShareOfSearch_SERPS!D163),ShareOfSearch_SERPS!D163,\"\")","v":"co.uk"},{"$f":"IF(NOT(ISBLANK(ShareOfSearch_SERPS!A163)),ShareOfSearch_SERPS!A163,\"\")","v":2},{"$f":"IF(NOT(ISBLANK(ShareOfSearch_SERPS!G163)),ShareOfSearch_SERPS!G163,\"\")","v":"http://en.wikipedia.org/wiki/Search_engine_optimization"},{"$f":"IF(NOT(ISBLANK(ShareOfSearch_SERPS!K163)),ShareOfSearch_SERPS!K163,\"\")","v":"wikipedia.org"},{"$f":"IFERROR(VLOOKUP(C163,ShareOfSearch_CTR!$A$1:$B$100,2,FALSE)*VLOOKUP(A163&B163,ShareOfSearch_Volume!$C$1:$D$1000,2,FALSE),\"\")","v":12348.75}]
[{"$f":"IF(ISTEXT(ShareOfSearch_SERPS!C164),ShareOfSearch_SERPS!C164,\"\")","v":"what is search engine optimization"},{"$f":"IF(ISTEXT(ShareOfSearch_SERPS!D164),ShareOfSearch_SERPS!D164,\"\")","v":"co.uk"},{"$f":"IF(NOT(ISBLANK(ShareOfSearch_SERPS!A164)),ShareOfSearch_SERPS!A164,\"\")","v":3},{"$f":"IF(NOT(ISBLANK(ShareOfSearch_SERPS!G164)),ShareOfSearch_SERPS!G164,\"\")","v":"http://www.redevolution.com/what-is-seo/"},{"$f":"IF(NOT(ISBLANK(ShareOfSearch_SERPS!K164)),ShareOfSearch_SERPS!K164,\"\")","v":"redevolution.com"},{"$f":"IFERROR(VLOOKUP(C164,ShareOfSearch_CTR!$A$1:$B$100,2,FALSE)*VLOOKUP(A164&B164,ShareOfSearch_Volume!$C$1:$D$1000,2,FALSE),\"\")","v":9385.0499999999993}]
[{"$f":"IF(ISTEXT(ShareOfSearch_SERPS!C165),ShareOfSearch_SERPS!C165,\"\")","v":"what is search engine optimization"},{"$f":"IF(ISTEXT(ShareOfSearch_SERPS!D165),ShareOfSearch_SERPS!D165,\"\")","v":"co.uk"},{"$f":"IF(NOT(ISBLANK(ShareOfSearch_SERPS!A165)),ShareOfSearch_SERPS!A165,\"\")","v":4},{"$f":"IF(NOT(ISBLANK(ShareOfSearch_SERPS!G165)),ShareOfSearch_SERPS!G165,\"\")","v":"http://www.webopedia.com/TERM/S/SEO.html"},{"$f":"IF(NOT(ISBLANK(ShareOfSearch_SERPS!K165)),ShareOfSearch_SERPS!K165,\"\")","v":"webopedia.com"},{"$f":"IFERROR(VLOOKUP(C165,ShareOfSearch_CTR!$A$1:$B$100,2,FALSE)*VLOOKUP(A165&B165,ShareOfSearch_Volume!$C$1:$D$1000,2,FALSE),\"\")","v":7804.41}]
[{"$f":"IF(ISTEXT(ShareOfSearch_SERPS!C166),ShareOfSearch_SERPS!C166,\"\")","v":"what is search engine optimization"},{"$f":"IF(ISTEXT(ShareOfSearch_SERPS!D166),ShareOfSearch_SERPS!D166,\"\")","v":"co.uk"},{"$f":"IF(NOT(ISBLANK(ShareOfSearch_SERPS!A166)),ShareOfSearch_SERPS!A166,\"\")","v":5},{"$f":"IF(NOT(ISBLANK(ShareOfSearch_SERPS!G166)),ShareOfSearch_SERPS!G166,\"\")","v":"http://searchenginewatch.com/article/2259693/SEO-Basics-8-Essentials-When-Optimizing-Your-Site"},{"$f":"IF(NOT(ISBLANK(ShareOfSearch_SERPS!K166)),ShareOfSearch_SERPS!K166,\"\")","v":"searchenginewatch.com"},{"$f":"IFERROR(VLOOKUP(C166,ShareOfSearch_CTR!$A$1:$B$100,2,FALSE)*VLOOKUP(A166&B166,ShareOfSearch_Volume!$C$1:$D$1000,2,FALSE),\"\")","v":6026.19}]
[{"$f":"IF(ISTEXT(ShareOfSearch_SERPS!C167),ShareOfSearch_SERPS!C167,\"\")","v":"what is search engine optimization"},{"$f":"IF(ISTEXT(ShareOfSearch_SERPS!D167),ShareOfSearch_SERPS!D167,\"\")","v":"co.uk"},{"$f":"IF(NOT(ISBLANK(ShareOfSearch_SERPS!A167)),ShareOfSearch_SERPS!A167,\"\")","v":6},{"$f":"IF(NOT(ISBLANK(ShareOfSearch_SERPS!G167)),ShareOfSearch_SERPS!G167,\"\")","v":"http://www.google.co.uk/webmasters/docs/search-engine-optimization-starter-guide.pdf"},{"$f":"IF(NOT(ISBLANK(ShareOfSearch_SERPS!K167)),ShareOfSearch_SERPS!K167,\"\")","v":"google.co.uk"},{"$f":"IFERROR(VLOOKUP(C167,ShareOfSearch_CTR!$A$1:$B$100,2,FALSE)*VLOOKUP(A167&B167,ShareOfSearch_Volume!$C$1:$D$1000,2,FALSE),\"\")","v":4050.3900000000003}]
[{"$f":"IF(ISTEXT(ShareOfSearch_SERPS!C168),ShareOfSearch_SERPS!C168,\"\")","v":"what is search engine optimization"},{"$f":"IF(ISTEXT(ShareOfSearch_SERPS!D168),ShareOfSearch_SERPS!D168,\"\")","v":"co.uk"},{"$f":"IF(NOT(ISBLANK(ShareOfSearch_SERPS!A168)),ShareOfSearch_SERPS!A168,\"\")","v":7},{"$f":"IF(NOT(ISBLANK(ShareOfSearch_SERPS!G168)),ShareOfSearch_SERPS!G168,\"\")","v":"https://support.google.com/webmasters/answer/35291%3Fhl%3Den"},{"$f":"IF(NOT(ISBLANK(ShareOfSearch_SERPS!K168)),ShareOfSearch_SERPS!K168,\"\")","v":"google.com"},{"$f":"IFERROR(VLOOKUP(C168,ShareOfSearch_CTR!$A$1:$B$100,2,FALSE)*VLOOKUP(A168&B168,ShareOfSearch_Volume!$C$1:$D$1000,2,FALSE),\"\")","v":3754.02}]
[{"$f":"IF(ISTEXT(ShareOfSearch_SERPS!C169),ShareOfSearch_SERPS!C169,\"\")","v":"what is search engine optimization"},{"$f":"IF(ISTEXT(ShareOfSearch_SERPS!D169),ShareOfSearch_SERPS!D169,\"\")","v":"co.uk"},{"$f":"IF(NOT(ISBLANK(ShareOfSearch_SERPS!A169)),ShareOfSearch_SERPS!A169,\"\")","v":8},{"$f":"IF(NOT(ISBLANK(ShareOfSearch_SERPS!G169)),ShareOfSearch_SERPS!G169,\"\")","v":"http://moz.com/beginners-guide-to-seo"},{"$f":"IF(NOT(ISBLANK(ShareOfSearch_SERPS!K169)),ShareOfSearch_SERPS!K169,\"\")","v":"moz.com"},{"$f":"IFERROR(VLOOKUP(C169,ShareOfSearch_CTR!$A$1:$B$100,2,FALSE)*VLOOKUP(A169&B169,ShareOfSearch_Volume!$C$1:$D$1000,2,FALSE),\"\")","v":3457.6500000000005}]
[{"$f":"IF(ISTEXT(ShareOfSearch_SERPS!C170),ShareOfSearch_SERPS!C170,\"\")","v":"what is search engine optimization"},{"$f":"IF(ISTEXT(ShareOfSearch_SERPS!D170),ShareOfSearch_SERPS!D170,\"\")","v":"co.uk"},{"$f":"IF(NOT(ISBLANK(ShareOfSearch_SERPS!A170)),ShareOfSearch_SERPS!A170,\"\")","v":9},{"$f":"IF(NOT(ISBLANK(ShareOfSearch_SERPS!G170)),ShareOfSearch_SERPS!G170,\"\")","v":"http://www.theguardian.com/small-business-network/2014/jan/16/what-is-seo-how-website-google-visibility"},{"$f":"IF(NOT(ISBLANK(ShareOfSearch_SERPS!K170)),ShareOfSearch_SERPS!K170,\"\")","v":"theguardian.com"},{"$f":"IFERROR(VLOOKUP(C170,ShareOfSearch_CTR!$A$1:$B$100,2,FALSE)*VLOOKUP(A170&B170,ShareOfSearch_Volume!$C$1:$D$1000,2,FALSE),\"\")","v":2963.7}]
[{"$f":"IF(ISTEXT(ShareOfSearch_SERPS!C171),ShareOfSearch_SERPS!C171,\"\")","v":"what is search engine optimization"},{"$f":"IF(ISTEXT(ShareOfSearch_SERPS!D171),ShareOfSearch_SERPS!D171,\"\")","v":"co.uk"},{"$f":"IF(NOT(ISBLANK(ShareOfSearch_SERPS!A171)),ShareOfSearch_SERPS!A171,\"\")","v":10},{"$f":"IF(NOT(ISBLANK(ShareOfSearch_SERPS!G171)),ShareOfSearch_SERPS!G171,\"\")","v":"http://www.webconfs.com/seo-tutorial/introduction-to-seo.php"},{"$f":"IF(NOT(ISBLANK(ShareOfSearch_SERPS!K171)),ShareOfSearch_SERPS!K171,\"\")","v":"webconfs.com"},{"$f":"IFERROR(VLOOKUP(C171,ShareOfSearch_CTR!$A$1:$B$100,2,FALSE)*VLOOKUP(A171&B171,ShareOfSearch_Volume!$C$1:$D$1000,2,FALSE),\"\")","v":2173.3799999999997}]
[{"$f":"IF(ISTEXT(ShareOfSearch_SERPS!C172),ShareOfSearch_SERPS!C172,\"\")","v":"what is search engine optimization"},{"$f":"IF(ISTEXT(ShareOfSearch_SERPS!D172),ShareOfSearch_SERPS!D172,\"\")","v":"co.uk"},{"$f":"IF(NOT(ISBLANK(ShareOfSearch_SERPS!A172)),ShareOfSearch_SERPS!A172,\"\")","v":11},{"$f":"IF(NOT(ISBLANK(ShareOfSearch_SERPS!G172)),ShareOfSearch_SERPS!G172,\"\")","v":"http://www.youtube.com/watch%3Fv%3DhF515-0Tduk"},{"$f":"IF(NOT(ISBLANK(ShareOfSearch_SERPS!K172)),ShareOfSearch_SERPS!K172,\"\")","v":"youtube.com"},{"$f":"IFERROR(VLOOKUP(C172,ShareOfSearch_CTR!$A$1:$B$100,2,FALSE)*VLOOKUP(A172&B172,ShareOfSearch_Volume!$C$1:$D$1000,2,FALSE),\"\")","v":2568.54}]
[{"$f":"IF(ISTEXT(ShareOfSearch_SERPS!C173),ShareOfSearch_SERPS!C173,\"\")","v":"what is search engine optimization"},{"$f":"IF(ISTEXT(ShareOfSearch_SERPS!D173),ShareOfSearch_SERPS!D173,\"\")","v":"co.uk"},{"$f":"IF(NOT(ISBLANK(ShareOfSearch_SERPS!A173)),ShareOfSearch_SERPS!A173,\"\")","v":12},{"$f":"IF(NOT(ISBLANK(ShareOfSearch_SERPS!G173)),ShareOfSearch_SERPS!G173,\"\")","v":"http://www.hobo-web.co.uk/what-is-seo-a-guide-for-beginners/"},{"$f":"IF(NOT(ISBLANK(ShareOfSearch_SERPS!K173)),ShareOfSearch_SERPS!K173,\"\")","v":"hobo-web.co.uk"},{"$f":"IFERROR(VLOOKUP(C173,ShareOfSearch_CTR!$A$1:$B$100,2,FALSE)*VLOOKUP(A173&B173,ShareOfSearch_Volume!$C$1:$D$1000,2,FALSE),\"\")","v":1481.85}]
[{"$f":"IF(ISTEXT(ShareOfSearch_SERPS!C174),ShareOfSearch_SERPS!C174,\"\")","v":"what is search engine optimization"},{"$f":"IF(ISTEXT(ShareOfSearch_SERPS!D174),ShareOfSearch_SERPS!D174,\"\")","v":"co.uk"},{"$f":"IF(NOT(ISBLANK(ShareOfSearch_SERPS!A174)),ShareOfSearch_SERPS!A174,\"\")","v":13},{"$f":"IF(NOT(ISBLANK(ShareOfSearch_SERPS!G174)),ShareOfSearch_SERPS!G174,\"\")","v":"http://computer.howstuffworks.com/search-engine-optimization.htm"},{"$f":"IF(NOT(ISBLANK(ShareOfSearch_SERPS!K174)),ShareOfSearch_SERPS!K174,\"\")","v":"howstuffworks.com"},{"$f":"IFERROR(VLOOKUP(C174,ShareOfSearch_CTR!$A$1:$B$100,2,FALSE)*VLOOKUP(A174&B174,ShareOfSearch_Volume!$C$1:$D$1000,2,FALSE),\"\")","v":1284.27}]
[{"$f":"IF(ISTEXT(ShareOfSearch_SERPS!C175),ShareOfSearch_SERPS!C175,\"\")","v":"what is search engine optimization"},{"$f":"IF(ISTEXT(ShareOfSearch_SERPS!D175),ShareOfSearch_SERPS!D175,\"\")","v":"co.uk"},{"$f":"IF(NOT(ISBLANK(ShareOfSearch_SERPS!A175)),ShareOfSearch_SERPS!A175,\"\")","v":14},{"$f":"IF(NOT(ISBLANK(ShareOfSearch_SERPS!G175)),ShareOfSearch_SERPS!G175,\"\")","v":"http://www.whatisseo.com/"},{"$f":"IF(NOT(ISBLANK(ShareOfSearch_SERPS!K175)),ShareOfSearch_SERPS!K175,\"\")","v":"whatisseo.com"},{"$f":"IFERROR(VLOOKUP(C175,ShareOfSearch_CTR!$A$1:$B$100,2,FALSE)*VLOOKUP(A175&B175,ShareOfSearch_Volume!$C$1:$D$1000,2,FALSE),\"\")","v":1086.6899999999998}]
[{"$f":"IF(ISTEXT(ShareOfSearch_SERPS!C176),ShareOfSearch_SERPS!C176,\"\")","v":"what is search engine optimization"},{"$f":"IF(ISTEXT(ShareOfSearch_SERPS!D176),ShareOfSearch_SERPS!D176,\"\")","v":"co.uk"},{"$f":"IF(NOT(ISBLANK(ShareOfSearch_SERPS!A176)),ShareOfSearch_SERPS!A176,\"\")","v":15},{"$f":"IF(NOT(ISBLANK(ShareOfSearch_SERPS!G176)),ShareOfSearch_SERPS!G176,\"\")","v":"http://www.bruceclay.com/eu/seo/search-engine-optimization.htm"},{"$f":"IF(NOT(ISBLANK(ShareOfSearch_SERPS!K176)),ShareOfSearch_SERPS!K176,\"\")","v":"bruceclay.com"},{"$f":"IFERROR(VLOOKUP(C176,ShareOfSearch_CTR!$A$1:$B$100,2,FALSE)*VLOOKUP(A176&B176,ShareOfSearch_Volume!$C$1:$D$1000,2,FALSE),\"\")","v":1185.48}]
[{"$f":"IF(ISTEXT(ShareOfSearch_SERPS!C177),ShareOfSearch_SERPS!C177,\"\")","v":"what is search engine optimization"},{"$f":"IF(ISTEXT(ShareOfSearch_SERPS!D177),ShareOfSearch_SERPS!D177,\"\")","v":"co.uk"},{"$f":"IF(NOT(ISBLANK(ShareOfSearch_SERPS!A177)),ShareOfSearch_SERPS!A177,\"\")","v":16},{"$f":"IF(NOT(ISBLANK(ShareOfSearch_SERPS!G177)),ShareOfSearch_SERPS!G177,\"\")","v":"http://www.entrepreneur.com/seo/"},{"$f":"IF(NOT(ISBLANK(ShareOfSearch_SERPS!K177)),ShareOfSearch_SERPS!K177,\"\")","v":"entrepreneur.com"},{"$f":"IFERROR(VLOOKUP(C177,ShareOfSearch_CTR!$A$1:$B$100,2,FALSE)*VLOOKUP(A177&B177,ShareOfSearch_Volume!$C$1:$D$1000,2,FALSE),\"\")","v":1185.48}]
[{"$f":"IF(ISTEXT(ShareOfSearch_SERPS!C178),ShareOfSearch_SERPS!C178,\"\")","v":"what is search engine optimization"},{"$f":"IF(ISTEXT(ShareOfSearch_SERPS!D178),ShareOfSearch_SERPS!D178,\"\")","v":"co.uk"},{"$f":"IF(NOT(ISBLANK(ShareOfSearch_SERPS!A178)),ShareOfSearch_SERPS!A178,\"\")","v":17},{"$f":"IF(NOT(ISBLANK(ShareOfSearch_SERPS!G178)),ShareOfSearch_SERPS!G178,\"\")","v":"http://www.telegraph.co.uk/technology/internet/8663964/What-is-Search-Engine-Optimisation.html"},{"$f":"IF(NOT(ISBLANK(ShareOfSearch_SERPS!K178)),ShareOfSearch_SERPS!K178,\"\")","v":"telegraph.co.uk"},{"$f":"IFERROR(VLOOKUP(C178,ShareOfSearch_CTR!$A$1:$B$100,2,FALSE)*VLOOKUP(A178&B178,ShareOfSearch_Volume!$C$1:$D$1000,2,FALSE),\"\")","v":1383.06}]
[{"$f":"IF(ISTEXT(ShareOfSearch_SERPS!C179),ShareOfSearch_SERPS!C179,\"\")","v":"what is search engine optimization"},{"$f":"IF(ISTEXT(ShareOfSearch_SERPS!D179),ShareOfSearch_SERPS!D179,\"\")","v":"co.uk"},{"$f":"IF(NOT(ISBLANK(ShareOfSearch_SERPS!A179)),ShareOfSearch_SERPS!A179,\"\")","v":18},{"$f":"IF(NOT(ISBLANK(ShareOfSearch_SERPS!G179)),ShareOfSearch_SERPS!G179,\"\")","v":"http://www.screamingfrog.co.uk/search-engine-optimisation/"},{"$f":"IF(NOT(ISBLANK(ShareOfSearch_SERPS!K179)),ShareOfSearch_SERPS!K179,\"\")","v":"screamingfrog.co.uk"},{"$f":"IFERROR(VLOOKUP(C179,ShareOfSearch_CTR!$A$1:$B$100,2,FALSE)*VLOOKUP(A179&B179,ShareOfSearch_Volume!$C$1:$D$1000,2,FALSE),\"\")","v":1284.27}]
[{"$f":"IF(ISTEXT(ShareOfSearch_SERPS!C180),ShareOfSearch_SERPS!C180,\"\")","v":"what is search engine optimization"},{"$f":"IF(ISTEXT(ShareOfSearch_SERPS!D180),ShareOfSearch_SERPS!D180,\"\")","v":"co.uk"},{"$f":"IF(NOT(ISBLANK(ShareOfSearch_SERPS!A180)),ShareOfSearch_SERPS!A180,\"\")","v":19},{"$f":"IF(NOT(ISBLANK(ShareOfSearch_SERPS!G180)),ShareOfSearch_SERPS!G180,\"\")","v":"http://pointblankseo.com/what-is-seo/"},{"$f":"IF(NOT(ISBLANK(ShareOfSearch_SERPS!K180)),ShareOfSearch_SERPS!K180,\"\")","v":"pointblankseo.com"},{"$f":"IFERROR(VLOOKUP(C180,ShareOfSearch_CTR!$A$1:$B$100,2,FALSE)*VLOOKUP(A180&B180,ShareOfSearch_Volume!$C$1:$D$1000,2,FALSE),\"\")","v":1383.06}]
[{"$f":"IF(ISTEXT(ShareOfSearch_SERPS!C181),ShareOfSearch_SERPS!C181,\"\")","v":"what is search engine optimization"},{"$f":"IF(ISTEXT(ShareOfSearch_SERPS!D181),ShareOfSearch_SERPS!D181,\"\")","v":"co.uk"},{"$f":"IF(NOT(ISBLANK(ShareOfSearch_SERPS!A181)),ShareOfSearch_SERPS!A181,\"\")","v":20},{"$f":"IF(NOT(ISBLANK(ShareOfSearch_SERPS!G181)),ShareOfSearch_SERPS!G181,\"\")","v":"http://www.searchenginejournal.com/55-quick-seo-tips-even-your-mother-would-love/"},{"$f":"IF(NOT(ISBLANK(ShareOfSearch_SERPS!K181)),ShareOfSearch_SERPS!K181,\"\")","v":"searchenginejournal.com"},{"$f":"IFERROR(VLOOKUP(C181,ShareOfSearch_CTR!$A$1:$B$100,2,FALSE)*VLOOKUP(A181&B181,ShareOfSearch_Volume!$C$1:$D$1000,2,FALSE),\"\")","v":1383.06}]
[{"$f":"IF(ISTEXT(ShareOfSearch_SERPS!C182),ShareOfSearch_SERPS!C182,\"\")","v":"seo companies"},{"$f":"IF(ISTEXT(ShareOfSearch_SERPS!D182),ShareOfSearch_SERPS!D182,\"\")","v":"co.uk"},{"$f":"IF(NOT(ISBLANK(ShareOfSearch_SERPS!A182)),ShareOfSearch_SERPS!A182,\"\")","v":1},{"$f":"IF(NOT(ISBLANK(ShareOfSearch_SERPS!G182)),ShareOfSearch_SERPS!G182,\"\")","v":"http://www.rebootonline.com/services/seo-services"},{"$f":"IF(NOT(ISBLANK(ShareOfSearch_SERPS!K182)),ShareOfSearch_SERPS!K182,\"\")","v":"rebootonline.com"},{"$f":"IFERROR(VLOOKUP(C182,ShareOfSearch_CTR!$A$1:$B$100,2,FALSE)*VLOOKUP(A182&B182,ShareOfSearch_Volume!$C$1:$D$1000,2,FALSE),\"\")","v":25993.968000000001}]
[{"$f":"IF(ISTEXT(ShareOfSearch_SERPS!C183),ShareOfSearch_SERPS!C183,\"\")","v":"seo companies"},{"$f":"IF(ISTEXT(ShareOfSearch_SERPS!D183),ShareOfSearch_SERPS!D183,\"\")","v":"co.uk"},{"$f":"IF(NOT(ISBLANK(ShareOfSearch_SERPS!A183)),ShareOfSearch_SERPS!A183,\"\")","v":2},{"$f":"IF(NOT(ISBLANK(ShareOfSearch_SERPS!G183)),ShareOfSearch_SERPS!G183,\"\")","v":"http://www.forbes.com/sites/joshsteimle/2013/09/23/4-tips-for-hiring-the-right-seo-firm/"},{"$f":"IF(NOT(ISBLANK(ShareOfSearch_SERPS!K183)),ShareOfSearch_SERPS!K183,\"\")","v":"forbes.com"},{"$f":"IFERROR(VLOOKUP(C183,ShareOfSearch_CTR!$A$1:$B$100,2,FALSE)*VLOOKUP(A183&B183,ShareOfSearch_Volume!$C$1:$D$1000,2,FALSE),\"\")","v":8926.5}]
[{"$f":"IF(ISTEXT(ShareOfSearch_SERPS!C184),ShareOfSearch_SERPS!C184,\"\")","v":"seo companies"},{"$f":"IF(ISTEXT(ShareOfSearch_SERPS!D184),ShareOfSearch_SERPS!D184,\"\")","v":"co.uk"},{"$f":"IF(NOT(ISBLANK(ShareOfSearch_SERPS!A184)),ShareOfSearch_SERPS!A184,\"\")","v":3},{"$f":"IF(NOT(ISBLANK(ShareOfSearch_SERPS!G184)),ShareOfSearch_SERPS!G184,\"\")","v":"http://www.seoconsultancyltd.com/"},{"$f":"IF(NOT(ISBLANK(ShareOfSearch_SERPS!K184)),ShareOfSearch_SERPS!K184,\"\")","v":"seoconsultancyltd.com"},{"$f":"IFERROR(VLOOKUP(C184,ShareOfSearch_CTR!$A$1:$B$100,2,FALSE)*VLOOKUP(A184&B184,ShareOfSearch_Volume!$C$1:$D$1000,2,FALSE),\"\")","v":6784.14}]
[{"$f":"IF(ISTEXT(ShareOfSearch_SERPS!C185),ShareOfSearch_SERPS!C185,\"\")","v":"seo companies"},{"$f":"IF(ISTEXT(ShareOfSearch_SERPS!D185),ShareOfSearch_SERPS!D185,\"\")","v":"co.uk"},{"$f":"IF(NOT(ISBLANK(ShareOfSearch_SERPS!A185)),ShareOfSearch_SERPS!A185,\"\")","v":4},{"$f":"IF(NOT(ISBLANK(ShareOfSearch_SERPS!G185)),ShareOfSearch_SERPS!G185,\"\")","v":"http://www.uwpgroup.co.uk/service/seo-london/"},{"$f":"IF(NOT(ISBLANK(ShareOfSearch_SERPS!K185)),ShareOfSearch_SERPS!K185,\"\")","v":"uwpgroup.co.uk"},{"$f":"IFERROR(VLOOKUP(C185,ShareOfSearch_CTR!$A$1:$B$100,2,FALSE)*VLOOKUP(A185&B185,ShareOfSearch_Volume!$C$1:$D$1000,2,FALSE),\"\")","v":5641.5479999999998}]
[{"$f":"IF(ISTEXT(ShareOfSearch_SERPS!C186),ShareOfSearch_SERPS!C186,\"\")","v":"seo companies"},{"$f":"IF(ISTEXT(ShareOfSearch_SERPS!D186),ShareOfSearch_SERPS!D186,\"\")","v":"co.uk"},{"$f":"IF(NOT(ISBLANK(ShareOfSearch_SERPS!A186)),ShareOfSearch_SERPS!A186,\"\")","v":5},{"$f":"IF(NOT(ISBLANK(ShareOfSearch_SERPS!G186)),ShareOfSearch_SERPS!G186,\"\")","v":"http://www.adjuice.co.uk/"},{"$f":"IF(NOT(ISBLANK(ShareOfSearch_SERPS!K186)),ShareOfSearch_SERPS!K186,\"\")","v":"adjuice.co.uk"},{"$f":"IFERROR(VLOOKUP(C186,ShareOfSearch_CTR!$A$1:$B$100,2,FALSE)*VLOOKUP(A186&B186,ShareOfSearch_Volume!$C$1:$D$1000,2,FALSE),\"\")","v":4356.1319999999996}]
[{"$f":"IF(ISTEXT(ShareOfSearch_SERPS!C187),ShareOfSearch_SERPS!C187,\"\")","v":"seo companies"},{"$f":"IF(ISTEXT(ShareOfSearch_SERPS!D187),ShareOfSearch_SERPS!D187,\"\")","v":"co.uk"},{"$f":"IF(NOT(ISBLANK(ShareOfSearch_SERPS!A187)),ShareOfSearch_SERPS!A187,\"\")","v":6},{"$f":"IF(NOT(ISBLANK(ShareOfSearch_SERPS!G187)),ShareOfSearch_SERPS!G187,\"\")","v":"http://www.kdweb.co.uk/seo.htm"},{"$f":"IF(NOT(ISBLANK(ShareOfSearch_SERPS!K187)),ShareOfSearch_SERPS!K187,\"\")","v":"kdweb.co.uk"},{"$f":"IFERROR(VLOOKUP(C187,ShareOfSearch_CTR!$A$1:$B$100,2,FALSE)*VLOOKUP(A187&B187,ShareOfSearch_Volume!$C$1:$D$1000,2,FALSE),\"\")","v":2927.8920000000003}]
[{"$f":"IF(ISTEXT(ShareOfSearch_SERPS!C188),ShareOfSearch_SERPS!C188,\"\")","v":"seo companies"},{"$f":"IF(ISTEXT(ShareOfSearch_SERPS!D188),ShareOfSearch_SERPS!D188,\"\")","v":"co.uk"},{"$f":"IF(NOT(ISBLANK(ShareOfSearch_SERPS!A188)),ShareOfSearch_SERPS!A188,\"\")","v":7},{"$f":"IF(NOT(ISBLANK(ShareOfSearch_SERPS!G188)),ShareOfSearch_SERPS!G188,\"\")","v":"http://www.found.co.uk/"},{"$f":"IF(NOT(ISBLANK(ShareOfSearch_SERPS!K188)),ShareOfSearch_SERPS!K188,\"\")","v":"found.co.uk"},{"$f":"IFERROR(VLOOKUP(C188,ShareOfSearch_CTR!$A$1:$B$100,2,FALSE)*VLOOKUP(A188&B188,ShareOfSearch_Volume!$C$1:$D$1000,2,FALSE),\"\")","v":2713.6559999999999}]
[{"$f":"IF(ISTEXT(ShareOfSearch_SERPS!C189),ShareOfSearch_SERPS!C189,\"\")","v":"seo companies"},{"$f":"IF(ISTEXT(ShareOfSearch_SERPS!D189),ShareOfSearch_SERPS!D189,\"\")","v":"co.uk"},{"$f":"IF(NOT(ISBLANK(ShareOfSearch_SERPS!A189)),ShareOfSearch_SERPS!A189,\"\")","v":8},{"$f":"IF(NOT(ISBLANK(ShareOfSearch_SERPS!G189)),ShareOfSearch_SERPS!G189,\"\")","v":"http://www.getmanic.co.uk/"},{"$f":"IF(NOT(ISBLANK(ShareOfSearch_SERPS!K189)),ShareOfSearch_SERPS!K189,\"\")","v":"getmanic.co.uk"},{"$f":"IFERROR(VLOOKUP(C189,ShareOfSearch_CTR!$A$1:$B$100,2,FALSE)*VLOOKUP(A189&B189,ShareOfSearch_Volume!$C$1:$D$1000,2,FALSE),\"\")","v":2499.42}]
[{"$f":"IF(ISTEXT(ShareOfSearch_SERPS!C190),ShareOfSearch_SERPS!C190,\"\")","v":"seo companies"},{"$f":"IF(ISTEXT(ShareOfSearch_SERPS!D190),ShareOfSearch_SERPS!D190,\"\")","v":"co.uk"},{"$f":"IF(NOT(ISBLANK(ShareOfSearch_SERPS!A190)),ShareOfSearch_SERPS!A190,\"\")","v":9},{"$f":"IF(NOT(ISBLANK(ShareOfSearch_SERPS!G190)),ShareOfSearch_SERPS!G190,\"\")","v":"http://www.vanillacircus.co.uk/"},{"$f":"IF(NOT(ISBLANK(ShareOfSearch_SERPS!K190)),ShareOfSearch_SERPS!K190,\"\")","v":"vanillacircus.co.uk"},{"$f":"IFERROR(VLOOKUP(C190,ShareOfSearch_CTR!$A$1:$B$100,2,FALSE)*VLOOKUP(A190&B190,ShareOfSearch_Volume!$C$1:$D$1000,2,FALSE),\"\")","v":2142.36}]
[{"$f":"IF(ISTEXT(ShareOfSearch_SERPS!C191),ShareOfSearch_SERPS!C191,\"\")","v":"seo companies"},{"$f":"IF(ISTEXT(ShareOfSearch_SERPS!D191),ShareOfSearch_SERPS!D191,\"\")","v":"co.uk"},{"$f":"IF(NOT(ISBLANK(ShareOfSearch_SERPS!A191)),ShareOfSearch_SERPS!A191,\"\")","v":10},{"$f":"IF(NOT(ISBLANK(ShareOfSearch_SERPS!G191)),ShareOfSearch_SERPS!G191,\"\")","v":"http://www.branded3.com/blogs/top-25-most-visible-seo-agencies-in-the-uk-according-to-searchmetrics/"},{"$f":"IF(NOT(ISBLANK(ShareOfSearch_SERPS!K191)),ShareOfSearch_SERPS!K191,\"\")","v":"branded3.com"},{"$f":"IFERROR(VLOOKUP(C191,ShareOfSearch_CTR!$A$1:$B$100,2,FALSE)*VLOOKUP(A191&B191,ShareOfSearch_Volume!$C$1:$D$1000,2,FALSE),\"\")","v":1571.0639999999999}]
[{"$f":"IF(ISTEXT(ShareOfSearch_SERPS!C192),ShareOfSearch_SERPS!C192,\"\")","v":"seo companies"},{"$f":"IF(ISTEXT(ShareOfSearch_SERPS!D192),ShareOfSearch_SERPS!D192,\"\")","v":"co.uk"},{"$f":"IF(NOT(ISBLANK(ShareOfSearch_SERPS!A192)),ShareOfSearch_SERPS!A192,\"\")","v":11},{"$f":"IF(NOT(ISBLANK(ShareOfSearch_SERPS!G192)),ShareOfSearch_SERPS!G192,\"\")","v":"http://www.seo-london.com/about-us/seo-firms"},{"$f":"IF(NOT(ISBLANK(ShareOfSearch_SERPS!K192)),ShareOfSearch_SERPS!K192,\"\")","v":"seo-london.com"},{"$f":"IFERROR(VLOOKUP(C192,ShareOfSearch_CTR!$A$1:$B$100,2,FALSE)*VLOOKUP(A192&B192,ShareOfSearch_Volume!$C$1:$D$1000,2,FALSE),\"\")","v":1856.712}]
[{"$f":"IF(ISTEXT(ShareOfSearch_SERPS!C193),ShareOfSearch_SERPS!C193,\"\")","v":"seo companies"},{"$f":"IF(ISTEXT(ShareOfSearch_SERPS!D193),ShareOfSearch_SERPS!D193,\"\")","v":"co.uk"},{"$f":"IF(NOT(ISBLANK(ShareOfSearch_SERPS!A193)),ShareOfSearch_SERPS!A193,\"\")","v":12},{"$f":"IF(NOT(ISBLANK(ShareOfSearch_SERPS!G193)),ShareOfSearch_SERPS!G193,\"\")","v":"http://en.wikipedia.org/wiki/Search_engine_optimization"},{"$f":"IF(NOT(ISBLANK(ShareOfSearch_SERPS!K193)),ShareOfSearch_SERPS!K193,\"\")","v":"wikipedia.org"},{"$f":"IFERROR(VLOOKUP(C193,ShareOfSearch_CTR!$A$1:$B$100,2,FALSE)*VLOOKUP(A193&B193,ShareOfSearch_Volume!$C$1:$D$1000,2,FALSE),\"\")","v":1071.18}]
[{"$f":"IF(ISTEXT(ShareOfSearch_SERPS!C194),ShareOfSearch_SERPS!C194,\"\")","v":"seo companies"},{"$f":"IF(ISTEXT(ShareOfSearch_SERPS!D194),ShareOfSearch_SERPS!D194,\"\")","v":"co.uk"},{"$f":"IF(NOT(ISBLANK(ShareOfSearch_SERPS!A194)),ShareOfSearch_SERPS!A194,\"\")","v":13},{"$f":"IF(NOT(ISBLANK(ShareOfSearch_SERPS!G194)),ShareOfSearch_SERPS!G194,\"\")","v":"http://www.hobo-web.co.uk/"},{"$f":"IF(NOT(ISBLANK(ShareOfSearch_SERPS!K194)),ShareOfSearch_SERPS!K194,\"\")","v":"hobo-web.co.uk"},{"$f":"IFERROR(VLOOKUP(C194,ShareOfSearch_CTR!$A$1:$B$100,2,FALSE)*VLOOKUP(A194&B194,ShareOfSearch_Volume!$C$1:$D$1000,2,FALSE),\"\")","v":928.35599999999999}]
[{"$f":"IF(ISTEXT(ShareOfSearch_SERPS!C195),ShareOfSearch_SERPS!C195,\"\")","v":"seo companies"},{"$f":"IF(ISTEXT(ShareOfSearch_SERPS!D195),ShareOfSearch_SERPS!D195,\"\")","v":"co.uk"},{"$f":"IF(NOT(ISBLANK(ShareOfSearch_SERPS!A195)),ShareOfSearch_SERPS!A195,\"\")","v":14},{"$f":"IF(NOT(ISBLANK(ShareOfSearch_SERPS!G195)),ShareOfSearch_SERPS!G195,\"\")","v":"http://www.rankno1.co.uk/"},{"$f":"IF(NOT(ISBLANK(ShareOfSearch_SERPS!K195)),ShareOfSearch_SERPS!K195,\"\")","v":"rankno1.co.uk"},{"$f":"IFERROR(VLOOKUP(C195,ShareOfSearch_CTR!$A$1:$B$100,2,FALSE)*VLOOKUP(A195&B195,ShareOfSearch_Volume!$C$1:$D$1000,2,FALSE),\"\")","v":785.53199999999993}]
[{"$f":"IF(ISTEXT(ShareOfSearch_SERPS!C196),ShareOfSearch_SERPS!C196,\"\")","v":"seo companies"},{"$f":"IF(ISTEXT(ShareOfSearch_SERPS!D196),ShareOfSearch_SERPS!D196,\"\")","v":"co.uk"},{"$f":"IF(NOT(ISBLANK(ShareOfSearch_SERPS!A196)),ShareOfSearch_SERPS!A196,\"\")","v":15},{"$f":"IF(NOT(ISBLANK(ShareOfSearch_SERPS!G196)),ShareOfSearch_SERPS!G196,\"\")","v":"http://searchenginewatch.com/article/2267471/How-Much-Should-You-Spend-on-SEO-Services"},{"$f":"IF(NOT(ISBLANK(ShareOfSearch_SERPS!K196)),ShareOfSearch_SERPS!K196,\"\")","v":"searchenginewatch.com"},{"$f":"IFERROR(VLOOKUP(C196,ShareOfSearch_CTR!$A$1:$B$100,2,FALSE)*VLOOKUP(A196&B196,ShareOfSearch_Volume!$C$1:$D$1000,2,FALSE),\"\")","v":856.94400000000007}]
[{"$f":"IF(ISTEXT(ShareOfSearch_SERPS!C197),ShareOfSearch_SERPS!C197,\"\")","v":"seo companies"},{"$f":"IF(ISTEXT(ShareOfSearch_SERPS!D197),ShareOfSearch_SERPS!D197,\"\")","v":"co.uk"},{"$f":"IF(NOT(ISBLANK(ShareOfSearch_SERPS!A197)),ShareOfSearch_SERPS!A197,\"\")","v":16},{"$f":"IF(NOT(ISBLANK(ShareOfSearch_SERPS!G197)),ShareOfSearch_SERPS!G197,\"\")","v":"http://www.reviewcentre.com/products3098.html"},{"$f":"IF(NOT(ISBLANK(ShareOfSearch_SERPS!K197)),ShareOfSearch_SERPS!K197,\"\")","v":"reviewcentre.com"},{"$f":"IFERROR(VLOOKUP(C197,ShareOfSearch_CTR!$A$1:$B$100,2,FALSE)*VLOOKUP(A197&B197,ShareOfSearch_Volume!$C$1:$D$1000,2,FALSE),\"\")","v":856.94400000000007}]
[{"$f":"IF(ISTEXT(ShareOfSearch_SERPS!C198),ShareOfSearch_SERPS!C198,\"\")","v":"seo companies"},{"$f":"IF(ISTEXT(ShareOfSearch_SERPS!D198),ShareOfSearch_SERPS!D198,\"\")","v":"co.uk"},{"$f":"IF(NOT(ISBLANK(ShareOfSearch_SERPS!A198)),ShareOfSearch_SERPS!A198,\"\")","v":17},{"$f":"IF(NOT(ISBLANK(ShareOfSearch_SERPS!G198)),ShareOfSearch_SERPS!G198,\"\")","v":"http://www.mainstreethost.com/"},{"$f":"IF(NOT(ISBLANK(ShareOfSearch_SERPS!K198)),ShareOfSearch_SERPS!K198,\"\")","v":"mainstreethost.com"},{"$f":"IFERROR(VLOOKUP(C198,ShareOfSearch_CTR!$A$1:$B$100,2,FALSE)*VLOOKUP(A198&B198,ShareOfSearch_Volume!$C$1:$D$1000,2,FALSE),\"\")","v":999.76800000000003}]
[{"$f":"IF(ISTEXT(ShareOfSearch_SERPS!C199),ShareOfSearch_SERPS!C199,\"\")","v":"seo companies"},{"$f":"IF(ISTEXT(ShareOfSearch_SERPS!D199),ShareOfSearch_SERPS!D199,\"\")","v":"co.uk"},{"$f":"IF(NOT(ISBLANK(ShareOfSearch_SERPS!A199)),ShareOfSearch_SERPS!A199,\"\")","v":18},{"$f":"IF(NOT(ISBLANK(ShareOfSearch_SERPS!G199)),ShareOfSearch_SERPS!G199,\"\")","v":"http://www.expertseobournemouth.co.uk/"},{"$f":"IF(NOT(ISBLANK(ShareOfSearch_SERPS!K199)),ShareOfSearch_SERPS!K199,\"\")","v":"expertseobournemouth.co.uk"},{"$f":"IFERROR(VLOOKUP(C199,ShareOfSearch_CTR!$A$1:$B$100,2,FALSE)*VLOOKUP(A199&B199,ShareOfSearch_Volume!$C$1:$D$1000,2,FALSE),\"\")","v":928.35599999999999}]
[{"$f":"IF(ISTEXT(ShareOfSearch_SERPS!C200),ShareOfSearch_SERPS!C200,\"\")","v":"seo companies"},{"$f":"IF(ISTEXT(ShareOfSearch_SERPS!D200),ShareOfSearch_SERPS!D200,\"\")","v":"co.uk"},{"$f":"IF(NOT(ISBLANK(ShareOfSearch_SERPS!A200)),ShareOfSearch_SERPS!A200,\"\")","v":19},{"$f":"IF(NOT(ISBLANK(ShareOfSearch_SERPS!G200)),ShareOfSearch_SERPS!G200,\"\")","v":"http://www.smart-traffic.co.uk/"},{"$f":"IF(NOT(ISBLANK(ShareOfSearch_SERPS!K200)),ShareOfSearch_SERPS!K200,\"\")","v":"smart-traffic.co.uk"},{"$f":"IFERROR(VLOOKUP(C200,ShareOfSearch_CTR!$A$1:$B$100,2,FALSE)*VLOOKUP(A200&B200,ShareOfSearch_Volume!$C$1:$D$1000,2,FALSE),\"\")","v":999.76800000000003}]
[{"$f":"IF(ISTEXT(ShareOfSearch_SERPS!C201),ShareOfSearch_SERPS!C201,\"\")","v":"seo companies"},{"$f":"IF(ISTEXT(ShareOfSearch_SERPS!D201),ShareOfSearch_SERPS!D201,\"\")","v":"co.uk"},{"$f":"IF(NOT(ISBLANK(ShareOfSearch_SERPS!A201)),ShareOfSearch_SERPS!A201,\"\")","v":20},{"$f":"IF(NOT(ISBLANK(ShareOfSearch_SERPS!G201)),ShareOfSearch_SERPS!G201,\"\")","v":"http://www.risedigital.com/"},{"$f":"IF(NOT(ISBLANK(ShareOfSearch_SERPS!K201)),ShareOfSearch_SERPS!K201,\"\")","v":"risedigital.com"},{"$f":"IFERROR(VLOOKUP(C201,ShareOfSearch_CTR!$A$1:$B$100,2,FALSE)*VLOOKUP(A201&B201,ShareOfSearch_Volume!$C$1:$D$1000,2,FALSE),\"\")","v":999.76800000000003}]
[{"$f":"IF(ISTEXT(ShareOfSearch_SERPS!C202),ShareOfSearch_SERPS!C202,\"\")","v":"what is seo"},{"$f":"IF(ISTEXT(ShareOfSearch_SERPS!D202),ShareOfSearch_SERPS!D202,\"\")","v":"co.uk"},{"$f":"IF(NOT(ISBLANK(ShareOfSearch_SERPS!A202)),ShareOfSearch_SERPS!A202,\"\")","v":1},{"$f":"IF(NOT(ISBLANK(ShareOfSearch_SERPS!G202)),ShareOfSearch_SERPS!G202,\"\")","v":"http://searchengineland.com/guide/what-is-seo"},{"$f":"IF(NOT(ISBLANK(ShareOfSearch_SERPS!K202)),ShareOfSearch_SERPS!K202,\"\")","v":"searchengineland.com"},{"$f":"IFERROR(VLOOKUP(C202,ShareOfSearch_CTR!$A$1:$B$100,2,FALSE)*VLOOKUP(A202&B202,ShareOfSearch_Volume!$C$1:$D$1000,2,FALSE),\"\")","v":21494.928}]
[{"$f":"IF(ISTEXT(ShareOfSearch_SERPS!C203),ShareOfSearch_SERPS!C203,\"\")","v":"what is seo"},{"$f":"IF(ISTEXT(ShareOfSearch_SERPS!D203),ShareOfSearch_SERPS!D203,\"\")","v":"co.uk"},{"$f":"IF(NOT(ISBLANK(ShareOfSearch_SERPS!A203)),ShareOfSearch_SERPS!A203,\"\")","v":2},{"$f":"IF(NOT(ISBLANK(ShareOfSearch_SERPS!G203)),ShareOfSearch_SERPS!G203,\"\")","v":"http://en.wikipedia.org/wiki/Search_engine_optimization"},{"$f":"IF(NOT(ISBLANK(ShareOfSearch_SERPS!K203)),ShareOfSearch_SERPS!K203,\"\")","v":"wikipedia.org"},{"$f":"IFERROR(VLOOKUP(C203,ShareOfSearch_CTR!$A$1:$B$100,2,FALSE)*VLOOKUP(A203&B203,ShareOfSearch_Volume!$C$1:$D$1000,2,FALSE),\"\")","v":7381.5}]
[{"$f":"IF(ISTEXT(ShareOfSearch_SERPS!C204),ShareOfSearch_SERPS!C204,\"\")","v":"what is seo"},{"$f":"IF(ISTEXT(ShareOfSearch_SERPS!D204),ShareOfSearch_SERPS!D204,\"\")","v":"co.uk"},{"$f":"IF(NOT(ISBLANK(ShareOfSearch_SERPS!A204)),ShareOfSearch_SERPS!A204,\"\")","v":3},{"$f":"IF(NOT(ISBLANK(ShareOfSearch_SERPS!G204)),ShareOfSearch_SERPS!G204,\"\")","v":"http://www.redevolution.com/what-is-seo/"},{"$f":"IF(NOT(ISBLANK(ShareOfSearch_SERPS!K204)),ShareOfSearch_SERPS!K204,\"\")","v":"redevolution.com"},{"$f":"IFERROR(VLOOKUP(C204,ShareOfSearch_CTR!$A$1:$B$100,2,FALSE)*VLOOKUP(A204&B204,ShareOfSearch_Volume!$C$1:$D$1000,2,FALSE),\"\")","v":5609.9400000000005}]
[{"$f":"IF(ISTEXT(ShareOfSearch_SERPS!C205),ShareOfSearch_SERPS!C205,\"\")","v":"what is seo"},{"$f":"IF(ISTEXT(ShareOfSearch_SERPS!D205),ShareOfSearch_SERPS!D205,\"\")","v":"co.uk"},{"$f":"IF(NOT(ISBLANK(ShareOfSearch_SERPS!A205)),ShareOfSearch_SERPS!A205,\"\")","v":4},{"$f":"IF(NOT(ISBLANK(ShareOfSearch_SERPS!G205)),ShareOfSearch_SERPS!G205,\"\")","v":"http://www.theguardian.com/small-business-network/2014/jan/16/what-is-seo-how-website-google-visibility"},{"$f":"IF(NOT(ISBLANK(ShareOfSearch_SERPS!K205)),ShareOfSearch_SERPS!K205,\"\")","v":"theguardian.com"},{"$f":"IFERROR(VLOOKUP(C205,ShareOfSearch_CTR!$A$1:$B$100,2,FALSE)*VLOOKUP(A205&B205,ShareOfSearch_Volume!$C$1:$D$1000,2,FALSE),\"\")","v":4665.1080000000002}]
[{"$f":"IF(ISTEXT(ShareOfSearch_SERPS!C206),ShareOfSearch_SERPS!C206,\"\")","v":"what is seo"},{"$f":"IF(ISTEXT(ShareOfSearch_SERPS!D206),ShareOfSearch_SERPS!D206,\"\")","v":"co.uk"},{"$f":"IF(NOT(ISBLANK(ShareOfSearch_SERPS!A206)),ShareOfSearch_SERPS!A206,\"\")","v":5},{"$f":"IF(NOT(ISBLANK(ShareOfSearch_SERPS!G206)),ShareOfSearch_SERPS!G206,\"\")","v":"http://searchenginewatch.com/article/2259693/SEO-Basics-8-Essentials-When-Optimizing-Your-Site"},{"$f":"IF(NOT(ISBLANK(ShareOfSearch_SERPS!K206)),ShareOfSearch_SERPS!K206,\"\")","v":"searchenginewatch.com"},{"$f":"IFERROR(VLOOKUP(C206,ShareOfSearch_CTR!$A$1:$B$100,2,FALSE)*VLOOKUP(A206&B206,ShareOfSearch_Volume!$C$1:$D$1000,2,FALSE),\"\")","v":3602.172}]
[{"$f":"IF(ISTEXT(ShareOfSearch_SERPS!C207),ShareOfSearch_SERPS!C207,\"\")","v":"what is seo"},{"$f":"IF(ISTEXT(ShareOfSearch_SERPS!D207),ShareOfSearch_SERPS!D207,\"\")","v":"co.uk"},{"$f":"IF(NOT(ISBLANK(ShareOfSearch_SERPS!A207)),ShareOfSearch_SERPS!A207,\"\")","v":6},{"$f":"IF(NOT(ISBLANK(ShareOfSearch_SERPS!G207)),ShareOfSearch_SERPS!G207,\"\")","v":"http://www.whatisseo.com/"},{"$f":"IF(NOT(ISBLANK(ShareOfSearch_SERPS!K207)),ShareOfSearch_SERPS!K207,\"\")","v":"whatisseo.com"},{"$f":"IFERROR(VLOOKUP(C207,ShareOfSearch_CTR!$A$1:$B$100,2,FALSE)*VLOOKUP(A207&B207,ShareOfSearch_Volume!$C$1:$D$1000,2,FALSE),\"\")","v":2421.1320000000001}]
[{"$f":"IF(ISTEXT(ShareOfSearch_SERPS!C208),ShareOfSearch_SERPS!C208,\"\")","v":"what is seo"},{"$f":"IF(ISTEXT(ShareOfSearch_SERPS!D208),ShareOfSearch_SERPS!D208,\"\")","v":"co.uk"},{"$f":"IF(NOT(ISBLANK(ShareOfSearch_SERPS!A208)),ShareOfSearch_SERPS!A208,\"\")","v":7},{"$f":"IF(NOT(ISBLANK(ShareOfSearch_SERPS!G208)),ShareOfSearch_SERPS!G208,\"\")","v":"http://www.webopedia.com/TERM/S/SEO.html"},{"$f":"IF(NOT(ISBLANK(ShareOfSearch_SERPS!K208)),ShareOfSearch_SERPS!K208,\"\")","v":"webopedia.com"},{"$f":"IFERROR(VLOOKUP(C208,ShareOfSearch_CTR!$A$1:$B$100,2,FALSE)*VLOOKUP(A208&B208,ShareOfSearch_Volume!$C$1:$D$1000,2,FALSE),\"\")","v":2243.9760000000001}]
[{"$f":"IF(ISTEXT(ShareOfSearch_SERPS!C209),ShareOfSearch_SERPS!C209,\"\")","v":"what is seo"},{"$f":"IF(ISTEXT(ShareOfSearch_SERPS!D209),ShareOfSearch_SERPS!D209,\"\")","v":"co.uk"},{"$f":"IF(NOT(ISBLANK(ShareOfSearch_SERPS!A209)),ShareOfSearch_SERPS!A209,\"\")","v":8},{"$f":"IF(NOT(ISBLANK(ShareOfSearch_SERPS!G209)),ShareOfSearch_SERPS!G209,\"\")","v":"https://support.google.com/webmasters/answer/35291%3Fhl%3Den"},{"$f":"IF(NOT(ISBLANK(ShareOfSearch_SERPS!K209)),ShareOfSearch_SERPS!K209,\"\")","v":"google.com"},{"$f":"IFERROR(VLOOKUP(C209,ShareOfSearch_CTR!$A$1:$B$100,2,FALSE)*VLOOKUP(A209&B209,ShareOfSearch_Volume!$C$1:$D$1000,2,FALSE),\"\")","v":2066.8200000000002}]
[{"$f":"IF(ISTEXT(ShareOfSearch_SERPS!C210),ShareOfSearch_SERPS!C210,\"\")","v":"what is seo"},{"$f":"IF(ISTEXT(ShareOfSearch_SERPS!D210),ShareOfSearch_SERPS!D210,\"\")","v":"co.uk"},{"$f":"IF(NOT(ISBLANK(ShareOfSearch_SERPS!A210)),ShareOfSearch_SERPS!A210,\"\")","v":9},{"$f":"IF(NOT(ISBLANK(ShareOfSearch_SERPS!G210)),ShareOfSearch_SERPS!G210,\"\")","v":"http://www.webconfs.com/seo-tutorial/introduction-to-seo.php"},{"$f":"IF(NOT(ISBLANK(ShareOfSearch_SERPS!K210)),ShareOfSearch_SERPS!K210,\"\")","v":"webconfs.com"},{"$f":"IFERROR(VLOOKUP(C210,ShareOfSearch_CTR!$A$1:$B$100,2,FALSE)*VLOOKUP(A210&B210,ShareOfSearch_Volume!$C$1:$D$1000,2,FALSE),\"\")","v":1771.56}]
[{"$f":"IF(ISTEXT(ShareOfSearch_SERPS!C211),ShareOfSearch_SERPS!C211,\"\")","v":"what is seo"},{"$f":"IF(ISTEXT(ShareOfSearch_SERPS!D211),ShareOfSearch_SERPS!D211,\"\")","v":"co.uk"},{"$f":"IF(NOT(ISBLANK(ShareOfSearch_SERPS!A211)),ShareOfSearch_SERPS!A211,\"\")","v":10},{"$f":"IF(NOT(ISBLANK(ShareOfSearch_SERPS!G211)),ShareOfSearch_SERPS!G211,\"\")","v":"http://www.hobo-web.co.uk/what-is-seo-a-guide-for-beginners/"},{"$f":"IF(NOT(ISBLANK(ShareOfSearch_SERPS!K211)),ShareOfSearch_SERPS!K211,\"\")","v":"hobo-web.co.uk"},{"$f":"IFERROR(VLOOKUP(C211,ShareOfSearch_CTR!$A$1:$B$100,2,FALSE)*VLOOKUP(A211&B211,ShareOfSearch_Volume!$C$1:$D$1000,2,FALSE),\"\")","v":1299.144}]
[{"$f":"IF(ISTEXT(ShareOfSearch_SERPS!C212),ShareOfSearch_SERPS!C212,\"\")","v":"what is seo"},{"$f":"IF(ISTEXT(ShareOfSearch_SERPS!D212),ShareOfSearch_SERPS!D212,\"\")","v":"co.uk"},{"$f":"IF(NOT(ISBLANK(ShareOfSearch_SERPS!A212)),ShareOfSearch_SERPS!A212,\"\")","v":11},{"$f":"IF(NOT(ISBLANK(ShareOfSearch_SERPS!G212)),ShareOfSearch_SERPS!G212,\"\")","v":"http://www.youtube.com/watch%3Fv%3DhF515-0Tduk"},{"$f":"IF(NOT(ISBLANK(ShareOfSearch_SERPS!K212)),ShareOfSearch_SERPS!K212,\"\")","v":"youtube.com"},{"$f":"IFERROR(VLOOKUP(C212,ShareOfSearch_CTR!$A$1:$B$100,2,FALSE)*VLOOKUP(A212&B212,ShareOfSearch_Volume!$C$1:$D$1000,2,FALSE),\"\")","v":1535.3519999999999}]
[{"$f":"IF(ISTEXT(ShareOfSearch_SERPS!C213),ShareOfSearch_SERPS!C213,\"\")","v":"what is seo"},{"$f":"IF(ISTEXT(ShareOfSearch_SERPS!D213),ShareOfSearch_SERPS!D213,\"\")","v":"co.uk"},{"$f":"IF(NOT(ISBLANK(ShareOfSearch_SERPS!A213)),ShareOfSearch_SERPS!A213,\"\")","v":12},{"$f":"IF(NOT(ISBLANK(ShareOfSearch_SERPS!G213)),ShareOfSearch_SERPS!G213,\"\")","v":"http://pointblankseo.com/what-is-seo/"},{"$f":"IF(NOT(ISBLANK(ShareOfSearch_SERPS!K213)),ShareOfSearch_SERPS!K213,\"\")","v":"pointblankseo.com"},{"$f":"IFERROR(VLOOKUP(C213,ShareOfSearch_CTR!$A$1:$B$100,2,FALSE)*VLOOKUP(A213&B213,ShareOfSearch_Volume!$C$1:$D$1000,2,FALSE),\"\")","v":885.78}]
[{"$f":"IF(ISTEXT(ShareOfSearch_SERPS!C214),ShareOfSearch_SERPS!C214,\"\")","v":"what is seo"},{"$f":"IF(ISTEXT(ShareOfSearch_SERPS!D214),ShareOfSearch_SERPS!D214,\"\")","v":"co.uk"},{"$f":"IF(NOT(ISBLANK(ShareOfSearch_SERPS!A214)),ShareOfSearch_SERPS!A214,\"\")","v":13},{"$f":"IF(NOT(ISBLANK(ShareOfSearch_SERPS!G214)),ShareOfSearch_SERPS!G214,\"\")","v":"http://moz.com/blog/what-is-seo-now"},{"$f":"IF(NOT(ISBLANK(ShareOfSearch_SERPS!K214)),ShareOfSearch_SERPS!K214,\"\")","v":"moz.com"},{"$f":"IFERROR(VLOOKUP(C214,ShareOfSearch_CTR!$A$1:$B$100,2,FALSE)*VLOOKUP(A214&B214,ShareOfSearch_Volume!$C$1:$D$1000,2,FALSE),\"\")","v":767.67599999999993}]
[{"$f":"IF(ISTEXT(ShareOfSearch_SERPS!C215),ShareOfSearch_SERPS!C215,\"\")","v":"what is seo"},{"$f":"IF(ISTEXT(ShareOfSearch_SERPS!D215),ShareOfSearch_SERPS!D215,\"\")","v":"co.uk"},{"$f":"IF(NOT(ISBLANK(ShareOfSearch_SERPS!A215)),ShareOfSearch_SERPS!A215,\"\")","v":14},{"$f":"IF(NOT(ISBLANK(ShareOfSearch_SERPS!G215)),ShareOfSearch_SERPS!G215,\"\")","v":"http://moz.com/beginners-guide-to-seo"},{"$f":"IF(NOT(ISBLANK(ShareOfSearch_SERPS!K215)),ShareOfSearch_SERPS!K215,\"\")","v":"moz.com"},{"$f":"IFERROR(VLOOKUP(C215,ShareOfSearch_CTR!$A$1:$B$100,2,FALSE)*VLOOKUP(A215&B215,ShareOfSearch_Volume!$C$1:$D$1000,2,FALSE),\"\")","v":649.572}]
[{"$f":"IF(ISTEXT(ShareOfSearch_SERPS!C216),ShareOfSearch_SERPS!C216,\"\")","v":"what is seo"},{"$f":"IF(ISTEXT(ShareOfSearch_SERPS!D216),ShareOfSearch_SERPS!D216,\"\")","v":"co.uk"},{"$f":"IF(NOT(ISBLANK(ShareOfSearch_SERPS!A216)),ShareOfSearch_SERPS!A216,\"\")","v":15},{"$f":"IF(NOT(ISBLANK(ShareOfSearch_SERPS!G216)),ShareOfSearch_SERPS!G216,\"\")","v":"http://blog.hubspot.com/marketing/what-is-seo-faq-ht"},{"$f":"IF(NOT(ISBLANK(ShareOfSearch_SERPS!K216)),ShareOfSearch_SERPS!K216,\"\")","v":"hubspot.com"},{"$f":"IFERROR(VLOOKUP(C216,ShareOfSearch_CTR!$A$1:$B$100,2,FALSE)*VLOOKUP(A216&B216,ShareOfSearch_Volume!$C$1:$D$1000,2,FALSE),\"\")","v":708.62400000000002}]
[{"$f":"IF(ISTEXT(ShareOfSearch_SERPS!C217),ShareOfSearch_SERPS!C217,\"\")","v":"what is seo"},{"$f":"IF(ISTEXT(ShareOfSearch_SERPS!D217),ShareOfSearch_SERPS!D217,\"\")","v":"co.uk"},{"$f":"IF(NOT(ISBLANK(ShareOfSearch_SERPS!A217)),ShareOfSearch_SERPS!A217,\"\")","v":16},{"$f":"IF(NOT(ISBLANK(ShareOfSearch_SERPS!G217)),ShareOfSearch_SERPS!G217,\"\")","v":"http://www.telegraph.co.uk/technology/internet/8663964/What-is-Search-Engine-Optimisation.html"},{"$f":"IF(NOT(ISBLANK(ShareOfSearch_SERPS!K217)),ShareOfSearch_SERPS!K217,\"\")","v":"telegraph.co.uk"},{"$f":"IFERROR(VLOOKUP(C217,ShareOfSearch_CTR!$A$1:$B$100,2,FALSE)*VLOOKUP(A217&B217,ShareOfSearch_Volume!$C$1:$D$1000,2,FALSE),\"\")","v":708.62400000000002}]
[{"$f":"IF(ISTEXT(ShareOfSearch_SERPS!C218),ShareOfSearch_SERPS!C218,\"\")","v":"what is seo"},{"$f":"IF(ISTEXT(ShareOfSearch_SERPS!D218),ShareOfSearch_SERPS!D218,\"\")","v":"co.uk"},{"$f":"IF(NOT(ISBLANK(ShareOfSearch_SERPS!A218)),ShareOfSearch_SERPS!A218,\"\")","v":17},{"$f":"IF(NOT(ISBLANK(ShareOfSearch_SERPS!G218)),ShareOfSearch_SERPS!G218,\"\")","v":"http://www.blindfiveyearold.com/what-is-seo"},{"$f":"IF(NOT(ISBLANK(ShareOfSearch_SERPS!K218)),ShareOfSearch_SERPS!K218,\"\")","v":"blindfiveyearold.com"},{"$f":"IFERROR(VLOOKUP(C218,ShareOfSearch_CTR!$A$1:$B$100,2,FALSE)*VLOOKUP(A218&B218,ShareOfSearch_Volume!$C$1:$D$1000,2,FALSE),\"\")","v":826.72800000000007}]
[{"$f":"IF(ISTEXT(ShareOfSearch_SERPS!C219),ShareOfSearch_SERPS!C219,\"\")","v":"what is seo"},{"$f":"IF(ISTEXT(ShareOfSearch_SERPS!D219),ShareOfSearch_SERPS!D219,\"\")","v":"co.uk"},{"$f":"IF(NOT(ISBLANK(ShareOfSearch_SERPS!A219)),ShareOfSearch_SERPS!A219,\"\")","v":18},{"$f":"IF(NOT(ISBLANK(ShareOfSearch_SERPS!G219)),ShareOfSearch_SERPS!G219,\"\")","v":"http://www.internetslang.com/SEO-meaning-definition.asp"},{"$f":"IF(NOT(ISBLANK(ShareOfSearch_SERPS!K219)),ShareOfSearch_SERPS!K219,\"\")","v":"internetslang.com"},{"$f":"IFERROR(VLOOKUP(C219,ShareOfSearch_CTR!$A$1:$B$100,2,FALSE)*VLOOKUP(A219&B219,ShareOfSearch_Volume!$C$1:$D$1000,2,FALSE),\"\")","v":767.67599999999993}]
[{"$f":"IF(ISTEXT(ShareOfSearch_SERPS!C220),ShareOfSearch_SERPS!C220,\"\")","v":"what is seo"},{"$f":"IF(ISTEXT(ShareOfSearch_SERPS!D220),ShareOfSearch_SERPS!D220,\"\")","v":"co.uk"},{"$f":"IF(NOT(ISBLANK(ShareOfSearch_SERPS!A220)),ShareOfSearch_SERPS!A220,\"\")","v":19},{"$f":"IF(NOT(ISBLANK(ShareOfSearch_SERPS!G220)),ShareOfSearch_SERPS!G220,\"\")","v":"https://ecommerce.shopify.com/guides/ecommerce-seo-101/what-is-seo-marketing-tutorial"},{"$f":"IF(NOT(ISBLANK(ShareOfSearch_SERPS!K220)),ShareOfSearch_SERPS!K220,\"\")","v":"shopify.com"},{"$f":"IFERROR(VLOOKUP(C220,ShareOfSearch_CTR!$A$1:$B$100,2,FALSE)*VLOOKUP(A220&B220,ShareOfSearch_Volume!$C$1:$D$1000,2,FALSE),\"\")","v":826.72800000000007}]
[{"$f":"IF(ISTEXT(ShareOfSearch_SERPS!C221),ShareOfSearch_SERPS!C221,\"\")","v":"what is seo"},{"$f":"IF(ISTEXT(ShareOfSearch_SERPS!D221),ShareOfSearch_SERPS!D221,\"\")","v":"co.uk"},{"$f":"IF(NOT(ISBLANK(ShareOfSearch_SERPS!A221)),ShareOfSearch_SERPS!A221,\"\")","v":20},{"$f":"IF(NOT(ISBLANK(ShareOfSearch_SERPS!G221)),ShareOfSearch_SERPS!G221,\"\")","v":"http://www.wordstream.com/blog/ws/2012/01/17/seo-content-beginners-guide"},{"$f":"IF(NOT(ISBLANK(ShareOfSearch_SERPS!K221)),ShareOfSearch_SERPS!K221,\"\")","v":"wordstream.com"},{"$f":"IFERROR(VLOOKUP(C221,ShareOfSearch_CTR!$A$1:$B$100,2,FALSE)*VLOOKUP(A221&B221,ShareOfSearch_Volume!$C$1:$D$1000,2,FALSE),\"\")","v":826.72800000000007}]
[{"$f":"IF(ISTEXT(ShareOfSearch_SERPS!C222),ShareOfSearch_SERPS!C222,\"\")","v":"best seo company"},{"$f":"IF(ISTEXT(ShareOfSearch_SERPS!D222),ShareOfSearch_SERPS!D222,\"\")","v":"co.uk"},{"$f":"IF(NOT(ISBLANK(ShareOfSearch_SERPS!A222)),ShareOfSearch_SERPS!A222,\"\")","v":1},{"$f":"IF(NOT(ISBLANK(ShareOfSearch_SERPS!G222)),ShareOfSearch_SERPS!G222,\"\")","v":"http://www.forbes.com/sites/joshsteimle/2013/09/23/4-tips-for-hiring-the-right-seo-firm/"},{"$f":"IF(NOT(ISBLANK(ShareOfSearch_SERPS!K222)),ShareOfSearch_SERPS!K222,\"\")","v":"forbes.com"},{"$f":"IFERROR(VLOOKUP(C222,ShareOfSearch_CTR!$A$1:$B$100,2,FALSE)*VLOOKUP(A222&B222,ShareOfSearch_Volume!$C$1:$D$1000,2,FALSE),\"\")","v":21484.007999999998}]
[{"$f":"IF(ISTEXT(ShareOfSearch_SERPS!C223),ShareOfSearch_SERPS!C223,\"\")","v":"best seo company"},{"$f":"IF(ISTEXT(ShareOfSearch_SERPS!D223),ShareOfSearch_SERPS!D223,\"\")","v":"co.uk"},{"$f":"IF(NOT(ISBLANK(ShareOfSearch_SERPS!A223)),ShareOfSearch_SERPS!A223,\"\")","v":2},{"$f":"IF(NOT(ISBLANK(ShareOfSearch_SERPS!G223)),ShareOfSearch_SERPS!G223,\"\")","v":"http://searchenginewatch.com/article/2267471/How-Much-Should-You-Spend-on-SEO-Services"},{"$f":"IF(NOT(ISBLANK(ShareOfSearch_SERPS!K223)),ShareOfSearch_SERPS!K223,\"\")","v":"searchenginewatch.com"},{"$f":"IFERROR(VLOOKUP(C223,ShareOfSearch_CTR!$A$1:$B$100,2,FALSE)*VLOOKUP(A223&B223,ShareOfSearch_Volume!$C$1:$D$1000,2,FALSE),\"\")","v":7377.75}]
[{"$f":"IF(ISTEXT(ShareOfSearch_SERPS!C224),ShareOfSearch_SERPS!C224,\"\")","v":"best seo company"},{"$f":"IF(ISTEXT(ShareOfSearch_SERPS!D224),ShareOfSearch_SERPS!D224,\"\")","v":"co.uk"},{"$f":"IF(NOT(ISBLANK(ShareOfSearch_SERPS!A224)),ShareOfSearch_SERPS!A224,\"\")","v":3},{"$f":"IF(NOT(ISBLANK(ShareOfSearch_SERPS!G224)),ShareOfSearch_SERPS!G224,\"\")","v":"http://www.10bestseo.com/agencies/"},{"$f":"IF(NOT(ISBLANK(ShareOfSearch_SERPS!K224)),ShareOfSearch_SERPS!K224,\"\")","v":"10bestseo.com"},{"$f":"IFERROR(VLOOKUP(C224,ShareOfSearch_CTR!$A$1:$B$100,2,FALSE)*VLOOKUP(A224&B224,ShareOfSearch_Volume!$C$1:$D$1000,2,FALSE),\"\")","v":5607.09}]
[{"$f":"IF(ISTEXT(ShareOfSearch_SERPS!C225),ShareOfSearch_SERPS!C225,\"\")","v":"best seo company"},{"$f":"IF(ISTEXT(ShareOfSearch_SERPS!D225),ShareOfSearch_SERPS!D225,\"\")","v":"co.uk"},{"$f":"IF(NOT(ISBLANK(ShareOfSearch_SERPS!A225)),ShareOfSearch_SERPS!A225,\"\")","v":4},{"$f":"IF(NOT(ISBLANK(ShareOfSearch_SERPS!G225)),ShareOfSearch_SERPS!G225,\"\")","v":"http://www.branded3.com/blogs/top-25-most-visible-seo-agencies-in-the-uk-according-to-searchmetrics/"},{"$f":"IF(NOT(ISBLANK(ShareOfSearch_SERPS!K225)),ShareOfSearch_SERPS!K225,\"\")","v":"branded3.com"},{"$f":"IFERROR(VLOOKUP(C225,ShareOfSearch_CTR!$A$1:$B$100,2,FALSE)*VLOOKUP(A225&B225,ShareOfSearch_Volume!$C$1:$D$1000,2,FALSE),\"\")","v":4662.7380000000003}]
[{"$f":"IF(ISTEXT(ShareOfSearch_SERPS!C226),ShareOfSearch_SERPS!C226,\"\")","v":"best seo company"},{"$f":"IF(ISTEXT(ShareOfSearch_SERPS!D226),ShareOfSearch_SERPS!D226,\"\")","v":"co.uk"},{"$f":"IF(NOT(ISBLANK(ShareOfSearch_SERPS!A226)),ShareOfSearch_SERPS!A226,\"\")","v":5},{"$f":"IF(NOT(ISBLANK(ShareOfSearch_SERPS!G226)),ShareOfSearch_SERPS!G226,\"\")","v":"http://outspokenmedia.com/seo/how-to-choose-a-seo-company-ignore-top-seo-lists/"},{"$f":"IF(NOT(ISBLANK(ShareOfSearch_SERPS!K226)),ShareOfSearch_SERPS!K226,\"\")","v":"outspokenmedia.com"},{"$f":"IFERROR(VLOOKUP(C226,ShareOfSearch_CTR!$A$1:$B$100,2,FALSE)*VLOOKUP(A226&B226,ShareOfSearch_Volume!$C$1:$D$1000,2,FALSE),\"\")","v":3600.3420000000001}]
[{"$f":"IF(ISTEXT(ShareOfSearch_SERPS!C227),ShareOfSearch_SERPS!C227,\"\")","v":"best seo company"},{"$f":"IF(ISTEXT(ShareOfSearch_SERPS!D227),ShareOfSearch_SERPS!D227,\"\")","v":"co.uk"},{"$f":"IF(NOT(ISBLANK(ShareOfSearch_SERPS!A227)),ShareOfSearch_SERPS!A227,\"\")","v":6},{"$f":"IF(NOT(ISBLANK(ShareOfSearch_SERPS!G227)),ShareOfSearch_SERPS!G227,\"\")","v":"http://www.huffingtonpost.co.uk/jonathan-guy/seo-for-business_b_3912515.html"},{"$f":"IF(NOT(ISBLANK(ShareOfSearch_SERPS!K227)),ShareOfSearch_SERPS!K227,\"\")","v":"huffingtonpost.co.uk"},{"$f":"IFERROR(VLOOKUP(C227,ShareOfSearch_CTR!$A$1:$B$100,2,FALSE)*VLOOKUP(A227&B227,ShareOfSearch_Volume!$C$1:$D$1000,2,FALSE),\"\")","v":2419.902}]
[{"$f":"IF(ISTEXT(ShareOfSearch_SERPS!C228),ShareOfSearch_SERPS!C228,\"\")","v":"best seo company"},{"$f":"IF(ISTEXT(ShareOfSearch_SERPS!D228),ShareOfSearch_SERPS!D228,\"\")","v":"co.uk"},{"$f":"IF(NOT(ISBLANK(ShareOfSearch_SERPS!A228)),ShareOfSearch_SERPS!A228,\"\")","v":7},{"$f":"IF(NOT(ISBLANK(ShareOfSearch_SERPS!G228)),ShareOfSearch_SERPS!G228,\"\")","v":"http://www.seoconsultancyltd.com/"},{"$f":"IF(NOT(ISBLANK(ShareOfSearch_SERPS!K228)),ShareOfSearch_SERPS!K228,\"\")","v":"seoconsultancyltd.com"},{"$f":"IFERROR(VLOOKUP(C228,ShareOfSearch_CTR!$A$1:$B$100,2,FALSE)*VLOOKUP(A228&B228,ShareOfSearch_Volume!$C$1:$D$1000,2,FALSE),\"\")","v":2242.8359999999998}]
[{"$f":"IF(ISTEXT(ShareOfSearch_SERPS!C229),ShareOfSearch_SERPS!C229,\"\")","v":"best seo company"},{"$f":"IF(ISTEXT(ShareOfSearch_SERPS!D229),ShareOfSearch_SERPS!D229,\"\")","v":"co.uk"},{"$f":"IF(NOT(ISBLANK(ShareOfSearch_SERPS!A229)),ShareOfSearch_SERPS!A229,\"\")","v":8},{"$f":"IF(NOT(ISBLANK(ShareOfSearch_SERPS!G229)),ShareOfSearch_SERPS!G229,\"\")","v":"http://www.bestseocompanies.com/"},{"$f":"IF(NOT(ISBLANK(ShareOfSearch_SERPS!K229)),ShareOfSearch_SERPS!K229,\"\")","v":"bestseocompanies.com"},{"$f":"IFERROR(VLOOKUP(C229,ShareOfSearch_CTR!$A$1:$B$100,2,FALSE)*VLOOKUP(A229&B229,ShareOfSearch_Volume!$C$1:$D$1000,2,FALSE),\"\")","v":2065.77}]
[{"$f":"IF(ISTEXT(ShareOfSearch_SERPS!C230),ShareOfSearch_SERPS!C230,\"\")","v":"best seo company"},{"$f":"IF(ISTEXT(ShareOfSearch_SERPS!D230),ShareOfSearch_SERPS!D230,\"\")","v":"co.uk"},{"$f":"IF(NOT(ISBLANK(ShareOfSearch_SERPS!A230)),ShareOfSearch_SERPS!A230,\"\")","v":9},{"$f":"IF(NOT(ISBLANK(ShareOfSearch_SERPS!G230)),ShareOfSearch_SERPS!G230,\"\")","v":"http://seo-firms.findthebest.com/"},{"$f":"IF(NOT(ISBLANK(ShareOfSearch_SERPS!K230)),ShareOfSearch_SERPS!K230,\"\")","v":"findthebest.com"},{"$f":"IFERROR(VLOOKUP(C230,ShareOfSearch_CTR!$A$1:$B$100,2,FALSE)*VLOOKUP(A230&B230,ShareOfSearch_Volume!$C$1:$D$1000,2,FALSE),\"\")","v":1770.6599999999999}]
[{"$f":"IF(ISTEXT(ShareOfSearch_SERPS!C231),ShareOfSearch_SERPS!C231,\"\")","v":"best seo company"},{"$f":"IF(ISTEXT(ShareOfSearch_SERPS!D231),ShareOfSearch_SERPS!D231,\"\")","v":"co.uk"},{"$f":"IF(NOT(ISBLANK(ShareOfSearch_SERPS!A231)),ShareOfSearch_SERPS!A231,\"\")","v":10},{"$f":"IF(NOT(ISBLANK(ShareOfSearch_SERPS!G231)),ShareOfSearch_SERPS!G231,\"\")","v":"http://www.webimax.co.uk/"},{"$f":"IF(NOT(ISBLANK(ShareOfSearch_SERPS!K231)),ShareOfSearch_SERPS!K231,\"\")","v":"webimax.co.uk"},{"$f":"IFERROR(VLOOKUP(C231,ShareOfSearch_CTR!$A$1:$B$100,2,FALSE)*VLOOKUP(A231&B231,ShareOfSearch_Volume!$C$1:$D$1000,2,FALSE),\"\")","v":1298.4839999999999}]
[{"$f":"IF(ISTEXT(ShareOfSearch_SERPS!C232),ShareOfSearch_SERPS!C232,\"\")","v":"best seo company"},{"$f":"IF(ISTEXT(ShareOfSearch_SERPS!D232),ShareOfSearch_SERPS!D232,\"\")","v":"co.uk"},{"$f":"IF(NOT(ISBLANK(ShareOfSearch_SERPS!A232)),ShareOfSearch_SERPS!A232,\"\")","v":11},{"$f":"IF(NOT(ISBLANK(ShareOfSearch_SERPS!G232)),ShareOfSearch_SERPS!G232,\"\")","v":"http://www.webimax.com/"},{"$f":"IF(NOT(ISBLANK(ShareOfSearch_SERPS!K232)),ShareOfSearch_SERPS!K232,\"\")","v":"webimax.com"},{"$f":"IFERROR(VLOOKUP(C232,ShareOfSearch_CTR!$A$1:$B$100,2,FALSE)*VLOOKUP(A232&B232,ShareOfSearch_Volume!$C$1:$D$1000,2,FALSE),\"\")","v":1534.5719999999999}]
[{"$f":"IF(ISTEXT(ShareOfSearch_SERPS!C233),ShareOfSearch_SERPS!C233,\"\")","v":"best seo company"},{"$f":"IF(ISTEXT(ShareOfSearch_SERPS!D233),ShareOfSearch_SERPS!D233,\"\")","v":"co.uk"},{"$f":"IF(NOT(ISBLANK(ShareOfSearch_SERPS!A233)),ShareOfSearch_SERPS!A233,\"\")","v":12},{"$f":"IF(NOT(ISBLANK(ShareOfSearch_SERPS!G233)),ShareOfSearch_SERPS!G233,\"\")","v":"http://moz.com/community/recommended"},{"$f":"IF(NOT(ISBLANK(ShareOfSearch_SERPS!K233)),ShareOfSearch_SERPS!K233,\"\")","v":"moz.com"},{"$f":"IFERROR(VLOOKUP(C233,ShareOfSearch_CTR!$A$1:$B$100,2,FALSE)*VLOOKUP(A233&B233,ShareOfSearch_Volume!$C$1:$D$1000,2,FALSE),\"\")","v":885.32999999999993}]
[{"$f":"IF(ISTEXT(ShareOfSearch_SERPS!C234),ShareOfSearch_SERPS!C234,\"\")","v":"best seo company"},{"$f":"IF(ISTEXT(ShareOfSearch_SERPS!D234),ShareOfSearch_SERPS!D234,\"\")","v":"co.uk"},{"$f":"IF(NOT(ISBLANK(ShareOfSearch_SERPS!A234)),ShareOfSearch_SERPS!A234,\"\")","v":13},{"$f":"IF(NOT(ISBLANK(ShareOfSearch_SERPS!G234)),ShareOfSearch_SERPS!G234,\"\")","v":"http://www.smart-traffic.co.uk/"},{"$f":"IF(NOT(ISBLANK(ShareOfSearch_SERPS!K234)),ShareOfSearch_SERPS!K234,\"\")","v":"smart-traffic.co.uk"},{"$f":"IFERROR(VLOOKUP(C234,ShareOfSearch_CTR!$A$1:$B$100,2,FALSE)*VLOOKUP(A234&B234,ShareOfSearch_Volume!$C$1:$D$1000,2,FALSE),\"\")","v":767.28599999999994}]
[{"$f":"IF(ISTEXT(ShareOfSearch_SERPS!C235),ShareOfSearch_SERPS!C235,\"\")","v":"best seo company"},{"$f":"IF(ISTEXT(ShareOfSearch_SERPS!D235),ShareOfSearch_SERPS!D235,\"\")","v":"co.uk"},{"$f":"IF(NOT(ISBLANK(ShareOfSearch_SERPS!A235)),ShareOfSearch_SERPS!A235,\"\")","v":14},{"$f":"IF(NOT(ISBLANK(ShareOfSearch_SERPS!G235)),ShareOfSearch_SERPS!G235,\"\")","v":"http://www.hobo-web.co.uk/"},{"$f":"IF(NOT(ISBLANK(ShareOfSearch_SERPS!K235)),ShareOfSearch_SERPS!K235,\"\")","v":"hobo-web.co.uk"},{"$f":"IFERROR(VLOOKUP(C235,ShareOfSearch_CTR!$A$1:$B$100,2,FALSE)*VLOOKUP(A235&B235,ShareOfSearch_Volume!$C$1:$D$1000,2,FALSE),\"\")","v":649.24199999999996}]
[{"$f":"IF(ISTEXT(ShareOfSearch_SERPS!C236),ShareOfSearch_SERPS!C236,\"\")","v":"best seo company"},{"$f":"IF(ISTEXT(ShareOfSearch_SERPS!D236),ShareOfSearch_SERPS!D236,\"\")","v":"co.uk"},{"$f":"IF(NOT(ISBLANK(ShareOfSearch_SERPS!A236)),ShareOfSearch_SERPS!A236,\"\")","v":15},{"$f":"IF(NOT(ISBLANK(ShareOfSearch_SERPS!G236)),ShareOfSearch_SERPS!G236,\"\")","v":"http://www.inc.com/guides/2010/06/choosing-seo-firm.html"},{"$f":"IF(NOT(ISBLANK(ShareOfSearch_SERPS!K236)),ShareOfSearch_SERPS!K236,\"\")","v":"www.inc.com"},{"$f":"IFERROR(VLOOKUP(C236,ShareOfSearch_CTR!$A$1:$B$100,2,FALSE)*VLOOKUP(A236&B236,ShareOfSearch_Volume!$C$1:$D$1000,2,FALSE),\"\")","v":708.26400000000001}]
[{"$f":"IF(ISTEXT(ShareOfSearch_SERPS!C237),ShareOfSearch_SERPS!C237,\"\")","v":"best seo company"},{"$f":"IF(ISTEXT(ShareOfSearch_SERPS!D237),ShareOfSearch_SERPS!D237,\"\")","v":"co.uk"},{"$f":"IF(NOT(ISBLANK(ShareOfSearch_SERPS!A237)),ShareOfSearch_SERPS!A237,\"\")","v":16},{"$f":"IF(NOT(ISBLANK(ShareOfSearch_SERPS!G237)),ShareOfSearch_SERPS!G237,\"\")","v":"http://www.vanillacircus.co.uk/"},{"$f":"IF(NOT(ISBLANK(ShareOfSearch_SERPS!K237)),ShareOfSearch_SERPS!K237,\"\")","v":"vanillacircus.co.uk"},{"$f":"IFERROR(VLOOKUP(C237,ShareOfSearch_CTR!$A$1:$B$100,2,FALSE)*VLOOKUP(A237&B237,ShareOfSearch_Volume!$C$1:$D$1000,2,FALSE),\"\")","v":708.26400000000001}]
[{"$f":"IF(ISTEXT(ShareOfSearch_SERPS!C238),ShareOfSearch_SERPS!C238,\"\")","v":"best seo company"},{"$f":"IF(ISTEXT(ShareOfSearch_SERPS!D238),ShareOfSearch_SERPS!D238,\"\")","v":"co.uk"},{"$f":"IF(NOT(ISBLANK(ShareOfSearch_SERPS!A238)),ShareOfSearch_SERPS!A238,\"\")","v":17},{"$f":"IF(NOT(ISBLANK(ShareOfSearch_SERPS!G238)),ShareOfSearch_SERPS!G238,\"\")","v":"http://seo-firms.findthebest.com/d/b/Small-Business"},{"$f":"IF(NOT(ISBLANK(ShareOfSearch_SERPS!K238)),ShareOfSearch_SERPS!K238,\"\")","v":"findthebest.com"},{"$f":"IFERROR(VLOOKUP(C238,ShareOfSearch_CTR!$A$1:$B$100,2,FALSE)*VLOOKUP(A238&B238,ShareOfSearch_Volume!$C$1:$D$1000,2,FALSE),\"\")","v":826.30799999999999}]
[{"$f":"IF(ISTEXT(ShareOfSearch_SERPS!C239),ShareOfSearch_SERPS!C239,\"\")","v":"best seo company"},{"$f":"IF(ISTEXT(ShareOfSearch_SERPS!D239),ShareOfSearch_SERPS!D239,\"\")","v":"co.uk"},{"$f":"IF(NOT(ISBLANK(ShareOfSearch_SERPS!A239)),ShareOfSearch_SERPS!A239,\"\")","v":18},{"$f":"IF(NOT(ISBLANK(ShareOfSearch_SERPS!G239)),ShareOfSearch_SERPS!G239,\"\")","v":"http://www.youtube.com/watch%3Fv%3DVkrU-JIshIs"},{"$f":"IF(NOT(ISBLANK(ShareOfSearch_SERPS!K239)),ShareOfSearch_SERPS!K239,\"\")","v":"youtube.com"},{"$f":"IFERROR(VLOOKUP(C239,ShareOfSearch_CTR!$A$1:$B$100,2,FALSE)*VLOOKUP(A239&B239,ShareOfSearch_Volume!$C$1:$D$1000,2,FALSE),\"\")","v":767.28599999999994}]
[{"$f":"IF(ISTEXT(ShareOfSearch_SERPS!C240),ShareOfSearch_SERPS!C240,\"\")","v":"best seo company"},{"$f":"IF(ISTEXT(ShareOfSearch_SERPS!D240),ShareOfSearch_SERPS!D240,\"\")","v":"co.uk"},{"$f":"IF(NOT(ISBLANK(ShareOfSearch_SERPS!A240)),ShareOfSearch_SERPS!A240,\"\")","v":19},{"$f":"IF(NOT(ISBLANK(ShareOfSearch_SERPS!G240)),ShareOfSearch_SERPS!G240,\"\")","v":"http://www.brandingwithseo.com/"},{"$f":"IF(NOT(ISBLANK(ShareOfSearch_SERPS!K240)),ShareOfSearch_SERPS!K240,\"\")","v":"brandingwithseo.com"},{"$f":"IFERROR(VLOOKUP(C240,ShareOfSearch_CTR!$A$1:$B$100,2,FALSE)*VLOOKUP(A240&B240,ShareOfSearch_Volume!$C$1:$D$1000,2,FALSE),\"\")","v":826.30799999999999}]
[{"$f":"IF(ISTEXT(ShareOfSearch_SERPS!C241),ShareOfSearch_SERPS!C241,\"\")","v":"best seo company"},{"$f":"IF(ISTEXT(ShareOfSearch_SERPS!D241),ShareOfSearch_SERPS!D241,\"\")","v":"co.uk"},{"$f":"IF(NOT(ISBLANK(ShareOfSearch_SERPS!A241)),ShareOfSearch_SERPS!A241,\"\")","v":20},{"$f":"IF(NOT(ISBLANK(ShareOfSearch_SERPS!G241)),ShareOfSearch_SERPS!G241,\"\")","v":"http://en.wikipedia.org/wiki/Search_engine_optimization"},{"$f":"IF(NOT(ISBLANK(ShareOfSearch_SERPS!K241)),ShareOfSearch_SERPS!K241,\"\")","v":"wikipedia.org"},{"$f":"IFERROR(VLOOKUP(C241,ShareOfSearch_CTR!$A$1:$B$100,2,FALSE)*VLOOKUP(A241&B241,ShareOfSearch_Volume!$C$1:$D$1000,2,FALSE),\"\")","v":826.30799999999999}]
[{"$f":"IF(ISTEXT(ShareOfSearch_SERPS!C242),ShareOfSearch_SERPS!C242,\"\")","v":"seo marketing"},{"$f":"IF(ISTEXT(ShareOfSearch_SERPS!D242),ShareOfSearch_SERPS!D242,\"\")","v":"co.uk"},{"$f":"IF(NOT(ISBLANK(ShareOfSearch_SERPS!A242)),ShareOfSearch_SERPS!A242,\"\")","v":1},{"$f":"IF(NOT(ISBLANK(ShareOfSearch_SERPS!G242)),ShareOfSearch_SERPS!G242,\"\")","v":"http://en.wikipedia.org/wiki/Search_engine_optimization"},{"$f":"IF(NOT(ISBLANK(ShareOfSearch_SERPS!K242)),ShareOfSearch_SERPS!K242,\"\")","v":"wikipedia.org"},{"$f":"IFERROR(VLOOKUP(C242,ShareOfSearch_CTR!$A$1:$B$100,2,FALSE)*VLOOKUP(A242&B242,ShareOfSearch_Volume!$C$1:$D$1000,2,FALSE),\"\")","v":19312.02}]
[{"$f":"IF(ISTEXT(ShareOfSearch_SERPS!C243),ShareOfSearch_SERPS!C243,\"\")","v":"seo marketing"},{"$f":"IF(ISTEXT(ShareOfSearch_SERPS!D243),ShareOfSearch_SERPS!D243,\"\")","v":"co.uk"},{"$f":"IF(NOT(ISBLANK(ShareOfSearch_SERPS!A243)),ShareOfSearch_SERPS!A243,\"\")","v":2},{"$f":"IF(NOT(ISBLANK(ShareOfSearch_SERPS!G243)),ShareOfSearch_SERPS!G243,\"\")","v":"http://searchengineland.com/guide/what-is-seo"},{"$f":"IF(NOT(ISBLANK(ShareOfSearch_SERPS!K243)),ShareOfSearch_SERPS!K243,\"\")","v":"searchengineland.com"},{"$f":"IFERROR(VLOOKUP(C243,ShareOfSearch_CTR!$A$1:$B$100,2,FALSE)*VLOOKUP(A243&B243,ShareOfSearch_Volume!$C$1:$D$1000,2,FALSE),\"\")","v":6631.875}]
[{"$f":"IF(ISTEXT(ShareOfSearch_SERPS!C244),ShareOfSearch_SERPS!C244,\"\")","v":"seo marketing"},{"$f":"IF(ISTEXT(ShareOfSearch_SERPS!D244),ShareOfSearch_SERPS!D244,\"\")","v":"co.uk"},{"$f":"IF(NOT(ISBLANK(ShareOfSearch_SERPS!A244)),ShareOfSearch_SERPS!A244,\"\")","v":3},{"$f":"IF(NOT(ISBLANK(ShareOfSearch_SERPS!G244)),ShareOfSearch_SERPS!G244,\"\")","v":"http://www.hobo-web.co.uk/what-is-seo-a-guide-for-beginners/"},{"$f":"IF(NOT(ISBLANK(ShareOfSearch_SERPS!K244)),ShareOfSearch_SERPS!K244,\"\")","v":"hobo-web.co.uk"},{"$f":"IFERROR(VLOOKUP(C244,ShareOfSearch_CTR!$A$1:$B$100,2,FALSE)*VLOOKUP(A244&B244,ShareOfSearch_Volume!$C$1:$D$1000,2,FALSE),\"\")","v":5040.2250000000004}]
[{"$f":"IF(ISTEXT(ShareOfSearch_SERPS!C245),ShareOfSearch_SERPS!C245,\"\")","v":"seo marketing"},{"$f":"IF(ISTEXT(ShareOfSearch_SERPS!D245),ShareOfSearch_SERPS!D245,\"\")","v":"co.uk"},{"$f":"IF(NOT(ISBLANK(ShareOfSearch_SERPS!A245)),ShareOfSearch_SERPS!A245,\"\")","v":4},{"$f":"IF(NOT(ISBLANK(ShareOfSearch_SERPS!G245)),ShareOfSearch_SERPS!G245,\"\")","v":"http://www.inc.com/michael-mothner/seo-marketing-myths.html"},{"$f":"IF(NOT(ISBLANK(ShareOfSearch_SERPS!K245)),ShareOfSearch_SERPS!K245,\"\")","v":"www.inc.com"},{"$f":"IFERROR(VLOOKUP(C245,ShareOfSearch_CTR!$A$1:$B$100,2,FALSE)*VLOOKUP(A245&B245,ShareOfSearch_Volume!$C$1:$D$1000,2,FALSE),\"\")","v":4191.3450000000003}]
[{"$f":"IF(ISTEXT(ShareOfSearch_SERPS!C246),ShareOfSearch_SERPS!C246,\"\")","v":"seo marketing"},{"$f":"IF(ISTEXT(ShareOfSearch_SERPS!D246),ShareOfSearch_SERPS!D246,\"\")","v":"co.uk"},{"$f":"IF(NOT(ISBLANK(ShareOfSearch_SERPS!A246)),ShareOfSearch_SERPS!A246,\"\")","v":5},{"$f":"IF(NOT(ISBLANK(ShareOfSearch_SERPS!G246)),ShareOfSearch_SERPS!G246,\"\")","v":"http://www.screamingfrog.co.uk/"},{"$f":"IF(NOT(ISBLANK(ShareOfSearch_SERPS!K246)),ShareOfSearch_SERPS!K246,\"\")","v":"screamingfrog.co.uk"},{"$f":"IFERROR(VLOOKUP(C246,ShareOfSearch_CTR!$A$1:$B$100,2,FALSE)*VLOOKUP(A246&B246,ShareOfSearch_Volume!$C$1:$D$1000,2,FALSE),\"\")","v":3236.355}]
[{"$f":"IF(ISTEXT(ShareOfSearch_SERPS!C247),ShareOfSearch_SERPS!C247,\"\")","v":"seo marketing"},{"$f":"IF(ISTEXT(ShareOfSearch_SERPS!D247),ShareOfSearch_SERPS!D247,\"\")","v":"co.uk"},{"$f":"IF(NOT(ISBLANK(ShareOfSearch_SERPS!A247)),ShareOfSearch_SERPS!A247,\"\")","v":6},{"$f":"IF(NOT(ISBLANK(ShareOfSearch_SERPS!G247)),ShareOfSearch_SERPS!G247,\"\")","v":"http://www.theguardian.com/media/2014/jul/28/google-seo-social-media-search-marketing-panda-penguin-hummingbird"},{"$f":"IF(NOT(ISBLANK(ShareOfSearch_SERPS!K247)),ShareOfSearch_SERPS!K247,\"\")","v":"theguardian.com"},{"$f":"IFERROR(VLOOKUP(C247,ShareOfSearch_CTR!$A$1:$B$100,2,FALSE)*VLOOKUP(A247&B247,ShareOfSearch_Volume!$C$1:$D$1000,2,FALSE),\"\")","v":2175.2550000000001}]
[{"$f":"IF(ISTEXT(ShareOfSearch_SERPS!C248),ShareOfSearch_SERPS!C248,\"\")","v":"seo marketing"},{"$f":"IF(ISTEXT(ShareOfSearch_SERPS!D248),ShareOfSearch_SERPS!D248,\"\")","v":"co.uk"},{"$f":"IF(NOT(ISBLANK(ShareOfSearch_SERPS!A248)),ShareOfSearch_SERPS!A248,\"\")","v":7},{"$f":"IF(NOT(ISBLANK(ShareOfSearch_SERPS!G248)),ShareOfSearch_SERPS!G248,\"\")","v":"http://www.entrepreneur.com/article/225379"},{"$f":"IF(NOT(ISBLANK(ShareOfSearch_SERPS!K248)),ShareOfSearch_SERPS!K248,\"\")","v":"entrepreneur.com"},{"$f":"IFERROR(VLOOKUP(C248,ShareOfSearch_CTR!$A$1:$B$100,2,FALSE)*VLOOKUP(A248&B248,ShareOfSearch_Volume!$C$1:$D$1000,2,FALSE),\"\")","v":2016.09}]
[{"$f":"IF(ISTEXT(ShareOfSearch_SERPS!C249),ShareOfSearch_SERPS!C249,\"\")","v":"seo marketing"},{"$f":"IF(ISTEXT(ShareOfSearch_SERPS!D249),ShareOfSearch_SERPS!D249,\"\")","v":"co.uk"},{"$f":"IF(NOT(ISBLANK(ShareOfSearch_SERPS!A249)),ShareOfSearch_SERPS!A249,\"\")","v":8},{"$f":"IF(NOT(ISBLANK(ShareOfSearch_SERPS!G249)),ShareOfSearch_SERPS!G249,\"\")","v":"http://www.redevolution.com/what-is-seo/"},{"$f":"IF(NOT(ISBLANK(ShareOfSearch_SERPS!K249)),ShareOfSearch_SERPS!K249,\"\")","v":"redevolution.com"},{"$f":"IFERROR(VLOOKUP(C249,ShareOfSearch_CTR!$A$1:$B$100,2,FALSE)*VLOOKUP(A249&B249,ShareOfSearch_Volume!$C$1:$D$1000,2,FALSE),\"\")","v":1856.9250000000002}]
[{"$f":"IF(ISTEXT(ShareOfSearch_SERPS!C250),ShareOfSearch_SERPS!C250,\"\")","v":"seo marketing"},{"$f":"IF(ISTEXT(ShareOfSearch_SERPS!D250),ShareOfSearch_SERPS!D250,\"\")","v":"co.uk"},{"$f":"IF(NOT(ISBLANK(ShareOfSearch_SERPS!A250)),ShareOfSearch_SERPS!A250,\"\")","v":9},{"$f":"IF(NOT(ISBLANK(ShareOfSearch_SERPS!G250)),ShareOfSearch_SERPS!G250,\"\")","v":"http://www.123ranking.co.uk/"},{"$f":"IF(NOT(ISBLANK(ShareOfSearch_SERPS!K250)),ShareOfSearch_SERPS!K250,\"\")","v":"123ranking.co.uk"},{"$f":"IFERROR(VLOOKUP(C250,ShareOfSearch_CTR!$A$1:$B$100,2,FALSE)*VLOOKUP(A250&B250,ShareOfSearch_Volume!$C$1:$D$1000,2,FALSE),\"\")","v":1591.6499999999999}]
[{"$f":"IF(ISTEXT(ShareOfSearch_SERPS!C251),ShareOfSearch_SERPS!C251,\"\")","v":"seo marketing"},{"$f":"IF(ISTEXT(ShareOfSearch_SERPS!D251),ShareOfSearch_SERPS!D251,\"\")","v":"co.uk"},{"$f":"IF(NOT(ISBLANK(ShareOfSearch_SERPS!A251)),ShareOfSearch_SERPS!A251,\"\")","v":10},{"$f":"IF(NOT(ISBLANK(ShareOfSearch_SERPS!G251)),ShareOfSearch_SERPS!G251,\"\")","v":"http://searchenginewatch.com/article/2259693/SEO-Basics-8-Essentials-When-Optimizing-Your-Site"},{"$f":"IF(NOT(ISBLANK(ShareOfSearch_SERPS!K251)),ShareOfSearch_SERPS!K251,\"\")","v":"searchenginewatch.com"},{"$f":"IFERROR(VLOOKUP(C251,ShareOfSearch_CTR!$A$1:$B$100,2,FALSE)*VLOOKUP(A251&B251,ShareOfSearch_Volume!$C$1:$D$1000,2,FALSE),\"\")","v":1167.21}]
[{"$f":"IF(ISTEXT(ShareOfSearch_SERPS!C252),ShareOfSearch_SERPS!C252,\"\")","v":"seo marketing"},{"$f":"IF(ISTEXT(ShareOfSearch_SERPS!D252),ShareOfSearch_SERPS!D252,\"\")","v":"co.uk"},{"$f":"IF(NOT(ISBLANK(ShareOfSearch_SERPS!A252)),ShareOfSearch_SERPS!A252,\"\")","v":11},{"$f":"IF(NOT(ISBLANK(ShareOfSearch_SERPS!G252)),ShareOfSearch_SERPS!G252,\"\")","v":"http://searchenginewatch.com/seo"},{"$f":"IF(NOT(ISBLANK(ShareOfSearch_SERPS!K252)),ShareOfSearch_SERPS!K252,\"\")","v":"searchenginewatch.com"},{"$f":"IFERROR(VLOOKUP(C252,ShareOfSearch_CTR!$A$1:$B$100,2,FALSE)*VLOOKUP(A252&B252,ShareOfSearch_Volume!$C$1:$D$1000,2,FALSE),\"\")","v":1379.4299999999998}]
[{"$f":"IF(ISTEXT(ShareOfSearch_SERPS!C253),ShareOfSearch_SERPS!C253,\"\")","v":"seo marketing"},{"$f":"IF(ISTEXT(ShareOfSearch_SERPS!D253),ShareOfSearch_SERPS!D253,\"\")","v":"co.uk"},{"$f":"IF(NOT(ISBLANK(ShareOfSearch_SERPS!A253)),ShareOfSearch_SERPS!A253,\"\")","v":12},{"$f":"IF(NOT(ISBLANK(ShareOfSearch_SERPS!G253)),ShareOfSearch_SERPS!G253,\"\")","v":"http://www.jellyfish.co.uk/seo-social/"},{"$f":"IF(NOT(ISBLANK(ShareOfSearch_SERPS!K253)),ShareOfSearch_SERPS!K253,\"\")","v":"jellyfish.co.uk"},{"$f":"IFERROR(VLOOKUP(C253,ShareOfSearch_CTR!$A$1:$B$100,2,FALSE)*VLOOKUP(A253&B253,ShareOfSearch_Volume!$C$1:$D$1000,2,FALSE),\"\")","v":795.82499999999993}]
[{"$f":"IF(ISTEXT(ShareOfSearch_SERPS!C254),ShareOfSearch_SERPS!C254,\"\")","v":"seo marketing"},{"$f":"IF(ISTEXT(ShareOfSearch_SERPS!D254),ShareOfSearch_SERPS!D254,\"\")","v":"co.uk"},{"$f":"IF(NOT(ISBLANK(ShareOfSearch_SERPS!A254)),ShareOfSearch_SERPS!A254,\"\")","v":13},{"$f":"IF(NOT(ISBLANK(ShareOfSearch_SERPS!G254)),ShareOfSearch_SERPS!G254,\"\")","v":"https://econsultancy.com/training/courses/seo-training"},{"$f":"IF(NOT(ISBLANK(ShareOfSearch_SERPS!K254)),ShareOfSearch_SERPS!K254,\"\")","v":"econsultancy.com"},{"$f":"IFERROR(VLOOKUP(C254,ShareOfSearch_CTR!$A$1:$B$100,2,FALSE)*VLOOKUP(A254&B254,ShareOfSearch_Volume!$C$1:$D$1000,2,FALSE),\"\")","v":689.71499999999992}]
[{"$f":"IF(ISTEXT(ShareOfSearch_SERPS!C255),ShareOfSearch_SERPS!C255,\"\")","v":"seo marketing"},{"$f":"IF(ISTEXT(ShareOfSearch_SERPS!D255),ShareOfSearch_SERPS!D255,\"\")","v":"co.uk"},{"$f":"IF(NOT(ISBLANK(ShareOfSearch_SERPS!A255)),ShareOfSearch_SERPS!A255,\"\")","v":14},{"$f":"IF(NOT(ISBLANK(ShareOfSearch_SERPS!G255)),ShareOfSearch_SERPS!G255,\"\")","v":"http://moz.com/learn/seo"},{"$f":"IF(NOT(ISBLANK(ShareOfSearch_SERPS!K255)),ShareOfSearch_SERPS!K255,\"\")","v":"moz.com"},{"$f":"IFERROR(VLOOKUP(C255,ShareOfSearch_CTR!$A$1:$B$100,2,FALSE)*VLOOKUP(A255&B255,ShareOfSearch_Volume!$C$1:$D$1000,2,FALSE),\"\")","v":583.60500000000002}]
[{"$f":"IF(ISTEXT(ShareOfSearch_SERPS!C256),ShareOfSearch_SERPS!C256,\"\")","v":"seo marketing"},{"$f":"IF(ISTEXT(ShareOfSearch_SERPS!D256),ShareOfSearch_SERPS!D256,\"\")","v":"co.uk"},{"$f":"IF(NOT(ISBLANK(ShareOfSearch_SERPS!A256)),ShareOfSearch_SERPS!A256,\"\")","v":15},{"$f":"IF(NOT(ISBLANK(ShareOfSearch_SERPS!G256)),ShareOfSearch_SERPS!G256,\"\")","v":"http://www.mainstreethost.com/"},{"$f":"IF(NOT(ISBLANK(ShareOfSearch_SERPS!K256)),ShareOfSearch_SERPS!K256,\"\")","v":"mainstreethost.com"},{"$f":"IFERROR(VLOOKUP(C256,ShareOfSearch_CTR!$A$1:$B$100,2,FALSE)*VLOOKUP(A256&B256,ShareOfSearch_Volume!$C$1:$D$1000,2,FALSE),\"\")","v":636.66}]
[{"$f":"IF(ISTEXT(ShareOfSearch_SERPS!C257),ShareOfSearch_SERPS!C257,\"\")","v":"seo marketing"},{"$f":"IF(ISTEXT(ShareOfSearch_SERPS!D257),ShareOfSearch_SERPS!D257,\"\")","v":"co.uk"},{"$f":"IF(NOT(ISBLANK(ShareOfSearch_SERPS!A257)),ShareOfSearch_SERPS!A257,\"\")","v":16},{"$f":"IF(NOT(ISBLANK(ShareOfSearch_SERPS!G257)),ShareOfSearch_SERPS!G257,\"\")","v":"http://www.hallaminternet.com/"},{"$f":"IF(NOT(ISBLANK(ShareOfSearch_SERPS!K257)),ShareOfSearch_SERPS!K257,\"\")","v":"hallaminternet.com"},{"$f":"IFERROR(VLOOKUP(C257,ShareOfSearch_CTR!$A$1:$B$100,2,FALSE)*VLOOKUP(A257&B257,ShareOfSearch_Volume!$C$1:$D$1000,2,FALSE),\"\")","v":636.66}]
[{"$f":"IF(ISTEXT(ShareOfSearch_SERPS!C258),ShareOfSearch_SERPS!C258,\"\")","v":"seo marketing"},{"$f":"IF(ISTEXT(ShareOfSearch_SERPS!D258),ShareOfSearch_SERPS!D258,\"\")","v":"co.uk"},{"$f":"IF(NOT(ISBLANK(ShareOfSearch_SERPS!A258)),ShareOfSearch_SERPS!A258,\"\")","v":17},{"$f":"IF(NOT(ISBLANK(ShareOfSearch_SERPS!G258)),ShareOfSearch_SERPS!G258,\"\")","v":"https://support.google.com/webmasters/answer/35291%3Fhl%3Den"},{"$f":"IF(NOT(ISBLANK(ShareOfSearch_SERPS!K258)),ShareOfSearch_SERPS!K258,\"\")","v":"google.com"},{"$f":"IFERROR(VLOOKUP(C258,ShareOfSearch_CTR!$A$1:$B$100,2,FALSE)*VLOOKUP(A258&B258,ShareOfSearch_Volume!$C$1:$D$1000,2,FALSE),\"\")","v":742.77}]
[{"$f":"IF(ISTEXT(ShareOfSearch_SERPS!C259),ShareOfSearch_SERPS!C259,\"\")","v":"seo marketing"},{"$f":"IF(ISTEXT(ShareOfSearch_SERPS!D259),ShareOfSearch_SERPS!D259,\"\")","v":"co.uk"},{"$f":"IF(NOT(ISBLANK(ShareOfSearch_SERPS!A259)),ShareOfSearch_SERPS!A259,\"\")","v":18},{"$f":"IF(NOT(ISBLANK(ShareOfSearch_SERPS!G259)),ShareOfSearch_SERPS!G259,\"\")","v":"http://www.theidm.com/marketing-training/courses/search-engine-optimisation-seo-training-course/"},{"$f":"IF(NOT(ISBLANK(ShareOfSearch_SERPS!K259)),ShareOfSearch_SERPS!K259,\"\")","v":"theidm.com"},{"$f":"IFERROR(VLOOKUP(C259,ShareOfSearch_CTR!$A$1:$B$100,2,FALSE)*VLOOKUP(A259&B259,ShareOfSearch_Volume!$C$1:$D$1000,2,FALSE),\"\")","v":689.71499999999992}]
[{"$f":"IF(ISTEXT(ShareOfSearch_SERPS!C260),ShareOfSearch_SERPS!C260,\"\")","v":"seo marketing"},{"$f":"IF(ISTEXT(ShareOfSearch_SERPS!D260),ShareOfSearch_SERPS!D260,\"\")","v":"co.uk"},{"$f":"IF(NOT(ISBLANK(ShareOfSearch_SERPS!A260)),ShareOfSearch_SERPS!A260,\"\")","v":19},{"$f":"IF(NOT(ISBLANK(ShareOfSearch_SERPS!G260)),ShareOfSearch_SERPS!G260,\"\")","v":"http://www.theidm.com/marketing-training/courses/search-marketing-seo-ppc-training-course/"},{"$f":"IF(NOT(ISBLANK(ShareOfSearch_SERPS!K260)),ShareOfSearch_SERPS!K260,\"\")","v":"theidm.com"},{"$f":"IFERROR(VLOOKUP(C260,ShareOfSearch_CTR!$A$1:$B$100,2,FALSE)*VLOOKUP(A260&B260,ShareOfSearch_Volume!$C$1:$D$1000,2,FALSE),\"\")","v":742.77}]
[{"$f":"IF(ISTEXT(ShareOfSearch_SERPS!C261),ShareOfSearch_SERPS!C261,\"\")","v":"seo marketing"},{"$f":"IF(ISTEXT(ShareOfSearch_SERPS!D261),ShareOfSearch_SERPS!D261,\"\")","v":"co.uk"},{"$f":"IF(NOT(ISBLANK(ShareOfSearch_SERPS!A261)),ShareOfSearch_SERPS!A261,\"\")","v":20},{"$f":"IF(NOT(ISBLANK(ShareOfSearch_SERPS!G261)),ShareOfSearch_SERPS!G261,\"\")","v":"http://www.brightonseo.com/"},{"$f":"IF(NOT(ISBLANK(ShareOfSearch_SERPS!K261)),ShareOfSearch_SERPS!K261,\"\")","v":"brightonseo.com"},{"$f":"IFERROR(VLOOKUP(C261,ShareOfSearch_CTR!$A$1:$B$100,2,FALSE)*VLOOKUP(A261&B261,ShareOfSearch_Volume!$C$1:$D$1000,2,FALSE),\"\")","v":742.77}]
[{"$f":"IF(ISTEXT(ShareOfSearch_SERPS!C262),ShareOfSearch_SERPS!C262,\"\")","v":"best seo"},{"$f":"IF(ISTEXT(ShareOfSearch_SERPS!D262),ShareOfSearch_SERPS!D262,\"\")","v":"co.uk"},{"$f":"IF(NOT(ISBLANK(ShareOfSearch_SERPS!A262)),ShareOfSearch_SERPS!A262,\"\")","v":1},{"$f":"IF(NOT(ISBLANK(ShareOfSearch_SERPS!G262)),ShareOfSearch_SERPS!G262,\"\")","v":"http://searchenginewatch.com/article/2303494/21-Best-FREE-SEO-Tools-for-On-Page-Optimization"},{"$f":"IF(NOT(ISBLANK(ShareOfSearch_SERPS!K262)),ShareOfSearch_SERPS!K262,\"\")","v":"searchenginewatch.com"},{"$f":"IFERROR(VLOOKUP(C262,ShareOfSearch_CTR!$A$1:$B$100,2,FALSE)*VLOOKUP(A262&B262,ShareOfSearch_Volume!$C$1:$D$1000,2,FALSE),\"\")","v":17847.648000000001}]
[{"$f":"IF(ISTEXT(ShareOfSearch_SERPS!C263),ShareOfSearch_SERPS!C263,\"\")","v":"best seo"},{"$f":"IF(ISTEXT(ShareOfSearch_SERPS!D263),ShareOfSearch_SERPS!D263,\"\")","v":"co.uk"},{"$f":"IF(NOT(ISBLANK(ShareOfSearch_SERPS!A263)),ShareOfSearch_SERPS!A263,\"\")","v":2},{"$f":"IF(NOT(ISBLANK(ShareOfSearch_SERPS!G263)),ShareOfSearch_SERPS!G263,\"\")","v":"http://www.traffictravis.com/"},{"$f":"IF(NOT(ISBLANK(ShareOfSearch_SERPS!K263)),ShareOfSearch_SERPS!K263,\"\")","v":"traffictravis.com"},{"$f":"IFERROR(VLOOKUP(C263,ShareOfSearch_CTR!$A$1:$B$100,2,FALSE)*VLOOKUP(A263&B263,ShareOfSearch_Volume!$C$1:$D$1000,2,FALSE),\"\")","v":6129}]
[{"$f":"IF(ISTEXT(ShareOfSearch_SERPS!C264),ShareOfSearch_SERPS!C264,\"\")","v":"best seo"},{"$f":"IF(ISTEXT(ShareOfSearch_SERPS!D264),ShareOfSearch_SERPS!D264,\"\")","v":"co.uk"},{"$f":"IF(NOT(ISBLANK(ShareOfSearch_SERPS!A264)),ShareOfSearch_SERPS!A264,\"\")","v":3},{"$f":"IF(NOT(ISBLANK(ShareOfSearch_SERPS!G264)),ShareOfSearch_SERPS!G264,\"\")","v":"http://www.10bestseo.com/agencies/"},{"$f":"IF(NOT(ISBLANK(ShareOfSearch_SERPS!K264)),ShareOfSearch_SERPS!K264,\"\")","v":"10bestseo.com"},{"$f":"IFERROR(VLOOKUP(C264,ShareOfSearch_CTR!$A$1:$B$100,2,FALSE)*VLOOKUP(A264&B264,ShareOfSearch_Volume!$C$1:$D$1000,2,FALSE),\"\")","v":4658.04}]
[{"$f":"IF(ISTEXT(ShareOfSearch_SERPS!C265),ShareOfSearch_SERPS!C265,\"\")","v":"best seo"},{"$f":"IF(ISTEXT(ShareOfSearch_SERPS!D265),ShareOfSearch_SERPS!D265,\"\")","v":"co.uk"},{"$f":"IF(NOT(ISBLANK(ShareOfSearch_SERPS!A265)),ShareOfSearch_SERPS!A265,\"\")","v":4},{"$f":"IF(NOT(ISBLANK(ShareOfSearch_SERPS!G265)),ShareOfSearch_SERPS!G265,\"\")","v":"http://www.google.co.uk/webmasters/docs/search-engine-optimization-starter-guide.pdf"},{"$f":"IF(NOT(ISBLANK(ShareOfSearch_SERPS!K265)),ShareOfSearch_SERPS!K265,\"\")","v":"google.co.uk"},{"$f":"IFERROR(VLOOKUP(C265,ShareOfSearch_CTR!$A$1:$B$100,2,FALSE)*VLOOKUP(A265&B265,ShareOfSearch_Volume!$C$1:$D$1000,2,FALSE),\"\")","v":3873.5280000000002}]
[{"$f":"IF(ISTEXT(ShareOfSearch_SERPS!C266),ShareOfSearch_SERPS!C266,\"\")","v":"best seo"},{"$f":"IF(ISTEXT(ShareOfSearch_SERPS!D266),ShareOfSearch_SERPS!D266,\"\")","v":"co.uk"},{"$f":"IF(NOT(ISBLANK(ShareOfSearch_SERPS!A266)),ShareOfSearch_SERPS!A266,\"\")","v":5},{"$f":"IF(NOT(ISBLANK(ShareOfSearch_SERPS!G266)),ShareOfSearch_SERPS!G266,\"\")","v":"http://www.forbes.com/sites/joshsteimle/2013/09/23/4-tips-for-hiring-the-right-seo-firm/"},{"$f":"IF(NOT(ISBLANK(ShareOfSearch_SERPS!K266)),ShareOfSearch_SERPS!K266,\"\")","v":"forbes.com"},{"$f":"IFERROR(VLOOKUP(C266,ShareOfSearch_CTR!$A$1:$B$100,2,FALSE)*VLOOKUP(A266&B266,ShareOfSearch_Volume!$C$1:$D$1000,2,FALSE),\"\")","v":2990.9519999999998}]
[{"$f":"IF(ISTEXT(ShareOfSearch_SERPS!C267),ShareOfSearch_SERPS!C267,\"\")","v":"best seo"},{"$f":"IF(ISTEXT(ShareOfSearch_SERPS!D267),ShareOfSearch_SERPS!D267,\"\")","v":"co.uk"},{"$f":"IF(NOT(ISBLANK(ShareOfSearch_SERPS!A267)),ShareOfSearch_SERPS!A267,\"\")","v":6},{"$f":"IF(NOT(ISBLANK(ShareOfSearch_SERPS!G267)),ShareOfSearch_SERPS!G267,\"\")","v":"http://www.wordtracker.com/academy/learn-seo/getting-started/seo-mistakes"},{"$f":"IF(NOT(ISBLANK(ShareOfSearch_SERPS!K267)),ShareOfSearch_SERPS!K267,\"\")","v":"wordtracker.com"},{"$f":"IFERROR(VLOOKUP(C267,ShareOfSearch_CTR!$A$1:$B$100,2,FALSE)*VLOOKUP(A267&B267,ShareOfSearch_Volume!$C$1:$D$1000,2,FALSE),\"\")","v":2010.3120000000001}]
[{"$f":"IF(ISTEXT(ShareOfSearch_SERPS!C268),ShareOfSearch_SERPS!C268,\"\")","v":"best seo"},{"$f":"IF(ISTEXT(ShareOfSearch_SERPS!D268),ShareOfSearch_SERPS!D268,\"\")","v":"co.uk"},{"$f":"IF(NOT(ISBLANK(ShareOfSearch_SERPS!A268)),ShareOfSearch_SERPS!A268,\"\")","v":7},{"$f":"IF(NOT(ISBLANK(ShareOfSearch_SERPS!G268)),ShareOfSearch_SERPS!G268,\"\")","v":"http://seo-software-review.toptenreviews.com/"},{"$f":"IF(NOT(ISBLANK(ShareOfSearch_SERPS!K268)),ShareOfSearch_SERPS!K268,\"\")","v":"toptenreviews.com"},{"$f":"IFERROR(VLOOKUP(C268,ShareOfSearch_CTR!$A$1:$B$100,2,FALSE)*VLOOKUP(A268&B268,ShareOfSearch_Volume!$C$1:$D$1000,2,FALSE),\"\")","v":1863.2159999999999}]
[{"$f":"IF(ISTEXT(ShareOfSearch_SERPS!C269),ShareOfSearch_SERPS!C269,\"\")","v":"best seo"},{"$f":"IF(ISTEXT(ShareOfSearch_SERPS!D269),ShareOfSearch_SERPS!D269,\"\")","v":"co.uk"},{"$f":"IF(NOT(ISBLANK(ShareOfSearch_SERPS!A269)),ShareOfSearch_SERPS!A269,\"\")","v":8},{"$f":"IF(NOT(ISBLANK(ShareOfSearch_SERPS!G269)),ShareOfSearch_SERPS!G269,\"\")","v":"http://www.seoconsultancyltd.com/"},{"$f":"IF(NOT(ISBLANK(ShareOfSearch_SERPS!K269)),ShareOfSearch_SERPS!K269,\"\")","v":"seoconsultancyltd.com"},{"$f":"IFERROR(VLOOKUP(C269,ShareOfSearch_CTR!$A$1:$B$100,2,FALSE)*VLOOKUP(A269&B269,ShareOfSearch_Volume!$C$1:$D$1000,2,FALSE),\"\")","v":1716.1200000000001}]
[{"$f":"IF(ISTEXT(ShareOfSearch_SERPS!C270),ShareOfSearch_SERPS!C270,\"\")","v":"best seo"},{"$f":"IF(ISTEXT(ShareOfSearch_SERPS!D270),ShareOfSearch_SERPS!D270,\"\")","v":"co.uk"},{"$f":"IF(NOT(ISBLANK(ShareOfSearch_SERPS!A270)),ShareOfSearch_SERPS!A270,\"\")","v":9},{"$f":"IF(NOT(ISBLANK(ShareOfSearch_SERPS!G270)),ShareOfSearch_SERPS!G270,\"\")","v":"http://moz.com/learn/seo/title-tag"},{"$f":"IF(NOT(ISBLANK(ShareOfSearch_SERPS!K270)),ShareOfSearch_SERPS!K270,\"\")","v":"moz.com"},{"$f":"IFERROR(VLOOKUP(C270,ShareOfSearch_CTR!$A$1:$B$100,2,FALSE)*VLOOKUP(A270&B270,ShareOfSearch_Volume!$C$1:$D$1000,2,FALSE),\"\")","v":1470.96}]
[{"$f":"IF(ISTEXT(ShareOfSearch_SERPS!C271),ShareOfSearch_SERPS!C271,\"\")","v":"best seo"},{"$f":"IF(ISTEXT(ShareOfSearch_SERPS!D271),ShareOfSearch_SERPS!D271,\"\")","v":"co.uk"},{"$f":"IF(NOT(ISBLANK(ShareOfSearch_SERPS!A271)),ShareOfSearch_SERPS!A271,\"\")","v":10},{"$f":"IF(NOT(ISBLANK(ShareOfSearch_SERPS!G271)),ShareOfSearch_SERPS!G271,\"\")","v":"http://www.seoworks.com/seo-companies/best-seo-company/"},{"$f":"IF(NOT(ISBLANK(ShareOfSearch_SERPS!K271)),ShareOfSearch_SERPS!K271,\"\")","v":"seoworks.com"},{"$f":"IFERROR(VLOOKUP(C271,ShareOfSearch_CTR!$A$1:$B$100,2,FALSE)*VLOOKUP(A271&B271,ShareOfSearch_Volume!$C$1:$D$1000,2,FALSE),\"\")","v":1078.704}]
[{"$f":"IF(ISTEXT(ShareOfSearch_SERPS!C272),ShareOfSearch_SERPS!C272,\"\")","v":"best seo"},{"$f":"IF(ISTEXT(ShareOfSearch_SERPS!D272),ShareOfSearch_SERPS!D272,\"\")","v":"co.uk"},{"$f":"IF(NOT(ISBLANK(ShareOfSearch_SERPS!A272)),ShareOfSearch_SERPS!A272,\"\")","v":11},{"$f":"IF(NOT(ISBLANK(ShareOfSearch_SERPS!G272)),ShareOfSearch_SERPS!G272,\"\")","v":"https://econsultancy.com/reports/seo-best-practice-guide"},{"$f":"IF(NOT(ISBLANK(ShareOfSearch_SERPS!K272)),ShareOfSearch_SERPS!K272,\"\")","v":"econsultancy.com"},{"$f":"IFERROR(VLOOKUP(C272,ShareOfSearch_CTR!$A$1:$B$100,2,FALSE)*VLOOKUP(A272&B272,ShareOfSearch_Volume!$C$1:$D$1000,2,FALSE),\"\")","v":1274.8319999999999}]
[{"$f":"IF(ISTEXT(ShareOfSearch_SERPS!C273),ShareOfSearch_SERPS!C273,\"\")","v":"best seo"},{"$f":"IF(ISTEXT(ShareOfSearch_SERPS!D273),ShareOfSearch_SERPS!D273,\"\")","v":"co.uk"},{"$f":"IF(NOT(ISBLANK(ShareOfSearch_SERPS!A273)),ShareOfSearch_SERPS!A273,\"\")","v":12},{"$f":"IF(NOT(ISBLANK(ShareOfSearch_SERPS!G273)),ShareOfSearch_SERPS!G273,\"\")","v":"http://seo-firms.findthebest.com/"},{"$f":"IF(NOT(ISBLANK(ShareOfSearch_SERPS!K273)),ShareOfSearch_SERPS!K273,\"\")","v":"findthebest.com"},{"$f":"IFERROR(VLOOKUP(C273,ShareOfSearch_CTR!$A$1:$B$100,2,FALSE)*VLOOKUP(A273&B273,ShareOfSearch_Volume!$C$1:$D$1000,2,FALSE),\"\")","v":735.48}]
[{"$f":"IF(ISTEXT(ShareOfSearch_SERPS!C274),ShareOfSearch_SERPS!C274,\"\")","v":"best seo"},{"$f":"IF(ISTEXT(ShareOfSearch_SERPS!D274),ShareOfSearch_SERPS!D274,\"\")","v":"co.uk"},{"$f":"IF(NOT(ISBLANK(ShareOfSearch_SERPS!A274)),ShareOfSearch_SERPS!A274,\"\")","v":13},{"$f":"IF(NOT(ISBLANK(ShareOfSearch_SERPS!G274)),ShareOfSearch_SERPS!G274,\"\")","v":"http://www.seowebsiteoptimisationlondon.com/"},{"$f":"IF(NOT(ISBLANK(ShareOfSearch_SERPS!K274)),ShareOfSearch_SERPS!K274,\"\")","v":"seowebsiteoptimisationlondon.com"},{"$f":"IFERROR(VLOOKUP(C274,ShareOfSearch_CTR!$A$1:$B$100,2,FALSE)*VLOOKUP(A274&B274,ShareOfSearch_Volume!$C$1:$D$1000,2,FALSE),\"\")","v":637.41599999999994}]
[{"$f":"IF(ISTEXT(ShareOfSearch_SERPS!C275),ShareOfSearch_SERPS!C275,\"\")","v":"best seo"},{"$f":"IF(ISTEXT(ShareOfSearch_SERPS!D275),ShareOfSearch_SERPS!D275,\"\")","v":"co.uk"},{"$f":"IF(NOT(ISBLANK(ShareOfSearch_SERPS!A275)),ShareOfSearch_SERPS!A275,\"\")","v":14},{"$f":"IF(NOT(ISBLANK(ShareOfSearch_SERPS!G275)),ShareOfSearch_SERPS!G275,\"\")","v":"https://yoast.com/articles/wordpress-seo/"},{"$f":"IF(NOT(ISBLANK(ShareOfSearch_SERPS!K275)),ShareOfSearch_SERPS!K275,\"\")","v":"yoast.com"},{"$f":"IFERROR(VLOOKUP(C275,ShareOfSearch_CTR!$A$1:$B$100,2,FALSE)*VLOOKUP(A275&B275,ShareOfSearch_Volume!$C$1:$D$1000,2,FALSE),\"\")","v":539.35199999999998}]
[{"$f":"IF(ISTEXT(ShareOfSearch_SERPS!C276),ShareOfSearch_SERPS!C276,\"\")","v":"best seo"},{"$f":"IF(ISTEXT(ShareOfSearch_SERPS!D276),ShareOfSearch_SERPS!D276,\"\")","v":"co.uk"},{"$f":"IF(NOT(ISBLANK(ShareOfSearch_SERPS!A276)),ShareOfSearch_SERPS!A276,\"\")","v":15},{"$f":"IF(NOT(ISBLANK(ShareOfSearch_SERPS!G276)),ShareOfSearch_SERPS!G276,\"\")","v":"http://www.topseos-rankings.com/best-seo-companies"},{"$f":"IF(NOT(ISBLANK(ShareOfSearch_SERPS!K276)),ShareOfSearch_SERPS!K276,\"\")","v":"topseos-rankings.com"},{"$f":"IFERROR(VLOOKUP(C276,ShareOfSearch_CTR!$A$1:$B$100,2,FALSE)*VLOOKUP(A276&B276,ShareOfSearch_Volume!$C$1:$D$1000,2,FALSE),\"\")","v":588.38400000000001}]
[{"$f":"IF(ISTEXT(ShareOfSearch_SERPS!C277),ShareOfSearch_SERPS!C277,\"\")","v":"best seo"},{"$f":"IF(ISTEXT(ShareOfSearch_SERPS!D277),ShareOfSearch_SERPS!D277,\"\")","v":"co.uk"},{"$f":"IF(NOT(ISBLANK(ShareOfSearch_SERPS!A277)),ShareOfSearch_SERPS!A277,\"\")","v":16},{"$f":"IF(NOT(ISBLANK(ShareOfSearch_SERPS!G277)),ShareOfSearch_SERPS!G277,\"\")","v":"http://www.bestseocompanies.com/"},{"$f":"IF(NOT(ISBLANK(ShareOfSearch_SERPS!K277)),ShareOfSearch_SERPS!K277,\"\")","v":"bestseocompanies.com"},{"$f":"IFERROR(VLOOKUP(C277,ShareOfSearch_CTR!$A$1:$B$100,2,FALSE)*VLOOKUP(A277&B277,ShareOfSearch_Volume!$C$1:$D$1000,2,FALSE),\"\")","v":588.38400000000001}]
[{"$f":"IF(ISTEXT(ShareOfSearch_SERPS!C278),ShareOfSearch_SERPS!C278,\"\")","v":"best seo"},{"$f":"IF(ISTEXT(ShareOfSearch_SERPS!D278),ShareOfSearch_SERPS!D278,\"\")","v":"co.uk"},{"$f":"IF(NOT(ISBLANK(ShareOfSearch_SERPS!A278)),ShareOfSearch_SERPS!A278,\"\")","v":17},{"$f":"IF(NOT(ISBLANK(ShareOfSearch_SERPS!G278)),ShareOfSearch_SERPS!G278,\"\")","v":"http://www.hobo-web.co.uk/best-seo-tools/"},{"$f":"IF(NOT(ISBLANK(ShareOfSearch_SERPS!K278)),ShareOfSearch_SERPS!K278,\"\")","v":"hobo-web.co.uk"},{"$f":"IFERROR(VLOOKUP(C278,ShareOfSearch_CTR!$A$1:$B$100,2,FALSE)*VLOOKUP(A278&B278,ShareOfSearch_Volume!$C$1:$D$1000,2,FALSE),\"\")","v":686.44799999999998}]
[{"$f":"IF(ISTEXT(ShareOfSearch_SERPS!C279),ShareOfSearch_SERPS!C279,\"\")","v":"best seo"},{"$f":"IF(ISTEXT(ShareOfSearch_SERPS!D279),ShareOfSearch_SERPS!D279,\"\")","v":"co.uk"},{"$f":"IF(NOT(ISBLANK(ShareOfSearch_SERPS!A279)),ShareOfSearch_SERPS!A279,\"\")","v":18},{"$f":"IF(NOT(ISBLANK(ShareOfSearch_SERPS!G279)),ShareOfSearch_SERPS!G279,\"\")","v":"http://www.europeansearchawards.com/winners"},{"$f":"IF(NOT(ISBLANK(ShareOfSearch_SERPS!K279)),ShareOfSearch_SERPS!K279,\"\")","v":"europeansearchawards.com"},{"$f":"IFERROR(VLOOKUP(C279,ShareOfSearch_CTR!$A$1:$B$100,2,FALSE)*VLOOKUP(A279&B279,ShareOfSearch_Volume!$C$1:$D$1000,2,FALSE),\"\")","v":637.41599999999994}]
[{"$f":"IF(ISTEXT(ShareOfSearch_SERPS!C280),ShareOfSearch_SERPS!C280,\"\")","v":"best seo"},{"$f":"IF(ISTEXT(ShareOfSearch_SERPS!D280),ShareOfSearch_SERPS!D280,\"\")","v":"co.uk"},{"$f":"IF(NOT(ISBLANK(ShareOfSearch_SERPS!A280)),ShareOfSearch_SERPS!A280,\"\")","v":19},{"$f":"IF(NOT(ISBLANK(ShareOfSearch_SERPS!G280)),ShareOfSearch_SERPS!G280,\"\")","v":"http://seo.alltop.com/"},{"$f":"IF(NOT(ISBLANK(ShareOfSearch_SERPS!K280)),ShareOfSearch_SERPS!K280,\"\")","v":"alltop.com"},{"$f":"IFERROR(VLOOKUP(C280,ShareOfSearch_CTR!$A$1:$B$100,2,FALSE)*VLOOKUP(A280&B280,ShareOfSearch_Volume!$C$1:$D$1000,2,FALSE),\"\")","v":686.44799999999998}]
[{"$f":"IF(ISTEXT(ShareOfSearch_SERPS!C281),ShareOfSearch_SERPS!C281,\"\")","v":"best seo"},{"$f":"IF(ISTEXT(ShareOfSearch_SERPS!D281),ShareOfSearch_SERPS!D281,\"\")","v":"co.uk"},{"$f":"IF(NOT(ISBLANK(ShareOfSearch_SERPS!A281)),ShareOfSearch_SERPS!A281,\"\")","v":20},{"$f":"IF(NOT(ISBLANK(ShareOfSearch_SERPS!G281)),ShareOfSearch_SERPS!G281,\"\")","v":"http://www.mastergoogle.com/"},{"$f":"IF(NOT(ISBLANK(ShareOfSearch_SERPS!K281)),ShareOfSearch_SERPS!K281,\"\")","v":"mastergoogle.com"},{"$f":"IFERROR(VLOOKUP(C281,ShareOfSearch_CTR!$A$1:$B$100,2,FALSE)*VLOOKUP(A281&B281,ShareOfSearch_Volume!$C$1:$D$1000,2,FALSE),\"\")","v":686.44799999999998}]
[{"$f":"IF(ISTEXT(ShareOfSearch_SERPS!C282),ShareOfSearch_SERPS!C282,\"\")","v":"seo optimization"},{"$f":"IF(ISTEXT(ShareOfSearch_SERPS!D282),ShareOfSearch_SERPS!D282,\"\")","v":"co.uk"},{"$f":"IF(NOT(ISBLANK(ShareOfSearch_SERPS!A282)),ShareOfSearch_SERPS!A282,\"\")","v":1},{"$f":"IF(NOT(ISBLANK(ShareOfSearch_SERPS!G282)),ShareOfSearch_SERPS!G282,\"\")","v":"http://searchenginewatch.com/article/2259693/SEO-Basics-8-Essentials-When-Optimizing-Your-Site"},{"$f":"IF(NOT(ISBLANK(ShareOfSearch_SERPS!K282)),ShareOfSearch_SERPS!K282,\"\")","v":"searchenginewatch.com"},{"$f":"IFERROR(VLOOKUP(C282,ShareOfSearch_CTR!$A$1:$B$100,2,FALSE)*VLOOKUP(A282&B282,ShareOfSearch_Volume!$C$1:$D$1000,2,FALSE),\"\")","v":16360.343999999999}]
[{"$f":"IF(ISTEXT(ShareOfSearch_SERPS!C283),ShareOfSearch_SERPS!C283,\"\")","v":"seo optimization"},{"$f":"IF(ISTEXT(ShareOfSearch_SERPS!D283),ShareOfSearch_SERPS!D283,\"\")","v":"co.uk"},{"$f":"IF(NOT(ISBLANK(ShareOfSearch_SERPS!A283)),ShareOfSearch_SERPS!A283,\"\")","v":2},{"$f":"IF(NOT(ISBLANK(ShareOfSearch_SERPS!G283)),ShareOfSearch_SERPS!G283,\"\")","v":"http://en.wikipedia.org/wiki/Search_engine_optimization"},{"$f":"IF(NOT(ISBLANK(ShareOfSearch_SERPS!K283)),ShareOfSearch_SERPS!K283,\"\")","v":"wikipedia.org"},{"$f":"IFERROR(VLOOKUP(C283,ShareOfSearch_CTR!$A$1:$B$100,2,FALSE)*VLOOKUP(A283&B283,ShareOfSearch_Volume!$C$1:$D$1000,2,FALSE),\"\")","v":5618.25}]
[{"$f":"IF(ISTEXT(ShareOfSearch_SERPS!C284),ShareOfSearch_SERPS!C284,\"\")","v":"seo optimization"},{"$f":"IF(ISTEXT(ShareOfSearch_SERPS!D284),ShareOfSearch_SERPS!D284,\"\")","v":"co.uk"},{"$f":"IF(NOT(ISBLANK(ShareOfSearch_SERPS!A284)),ShareOfSearch_SERPS!A284,\"\")","v":3},{"$f":"IF(NOT(ISBLANK(ShareOfSearch_SERPS!G284)),ShareOfSearch_SERPS!G284,\"\")","v":"http://www.google.co.uk/webmasters/docs/search-engine-optimization-starter-guide.pdf"},{"$f":"IF(NOT(ISBLANK(ShareOfSearch_SERPS!K284)),ShareOfSearch_SERPS!K284,\"\")","v":"google.co.uk"},{"$f":"IFERROR(VLOOKUP(C284,ShareOfSearch_CTR!$A$1:$B$100,2,FALSE)*VLOOKUP(A284&B284,ShareOfSearch_Volume!$C$1:$D$1000,2,FALSE),\"\")","v":4269.87}]
[{"$f":"IF(ISTEXT(ShareOfSearch_SERPS!C285),ShareOfSearch_SERPS!C285,\"\")","v":"seo optimization"},{"$f":"IF(ISTEXT(ShareOfSearch_SERPS!D285),ShareOfSearch_SERPS!D285,\"\")","v":"co.uk"},{"$f":"IF(NOT(ISBLANK(ShareOfSearch_SERPS!A285)),ShareOfSearch_SERPS!A285,\"\")","v":4},{"$f":"IF(NOT(ISBLANK(ShareOfSearch_SERPS!G285)),ShareOfSearch_SERPS!G285,\"\")","v":"http://searchengineland.com/guide/what-is-seo"},{"$f":"IF(NOT(ISBLANK(ShareOfSearch_SERPS!K285)),ShareOfSearch_SERPS!K285,\"\")","v":"searchengineland.com"},{"$f":"IFERROR(VLOOKUP(C285,ShareOfSearch_CTR!$A$1:$B$100,2,FALSE)*VLOOKUP(A285&B285,ShareOfSearch_Volume!$C$1:$D$1000,2,FALSE),\"\")","v":3550.7339999999999}]
[{"$f":"IF(ISTEXT(ShareOfSearch_SERPS!C286),ShareOfSearch_SERPS!C286,\"\")","v":"seo optimization"},{"$f":"IF(ISTEXT(ShareOfSearch_SERPS!D286),ShareOfSearch_SERPS!D286,\"\")","v":"co.uk"},{"$f":"IF(NOT(ISBLANK(ShareOfSearch_SERPS!A286)),ShareOfSearch_SERPS!A286,\"\")","v":5},{"$f":"IF(NOT(ISBLANK(ShareOfSearch_SERPS!G286)),ShareOfSearch_SERPS!G286,\"\")","v":"http://www.businessinsider.com/10-basic-seo-tips-everyone-should-know-2010-1%3Fop%3D1"},{"$f":"IF(NOT(ISBLANK(ShareOfSearch_SERPS!K286)),ShareOfSearch_SERPS!K286,\"\")","v":"businessinsider.com"},{"$f":"IFERROR(VLOOKUP(C286,ShareOfSearch_CTR!$A$1:$B$100,2,FALSE)*VLOOKUP(A286&B286,ShareOfSearch_Volume!$C$1:$D$1000,2,FALSE),\"\")","v":2741.7060000000001}]
[{"$f":"IF(ISTEXT(ShareOfSearch_SERPS!C287),ShareOfSearch_SERPS!C287,\"\")","v":"seo optimization"},{"$f":"IF(ISTEXT(ShareOfSearch_SERPS!D287),ShareOfSearch_SERPS!D287,\"\")","v":"co.uk"},{"$f":"IF(NOT(ISBLANK(ShareOfSearch_SERPS!A287)),ShareOfSearch_SERPS!A287,\"\")","v":6},{"$f":"IF(NOT(ISBLANK(ShareOfSearch_SERPS!G287)),ShareOfSearch_SERPS!G287,\"\")","v":"http://moz.com/beginners-guide-to-seo"},{"$f":"IF(NOT(ISBLANK(ShareOfSearch_SERPS!K287)),ShareOfSearch_SERPS!K287,\"\")","v":"moz.com"},{"$f":"IFERROR(VLOOKUP(C287,ShareOfSearch_CTR!$A$1:$B$100,2,FALSE)*VLOOKUP(A287&B287,ShareOfSearch_Volume!$C$1:$D$1000,2,FALSE),\"\")","v":1842.7860000000001}]
[{"$f":"IF(ISTEXT(ShareOfSearch_SERPS!C288),ShareOfSearch_SERPS!C288,\"\")","v":"seo optimization"},{"$f":"IF(ISTEXT(ShareOfSearch_SERPS!D288),ShareOfSearch_SERPS!D288,\"\")","v":"co.uk"},{"$f":"IF(NOT(ISBLANK(ShareOfSearch_SERPS!A288)),ShareOfSearch_SERPS!A288,\"\")","v":7},{"$f":"IF(NOT(ISBLANK(ShareOfSearch_SERPS!G288)),ShareOfSearch_SERPS!G288,\"\")","v":"https://support.google.com/webmasters/answer/35291%3Fhl%3Den"},{"$f":"IF(NOT(ISBLANK(ShareOfSearch_SERPS!K288)),ShareOfSearch_SERPS!K288,\"\")","v":"google.com"},{"$f":"IFERROR(VLOOKUP(C288,ShareOfSearch_CTR!$A$1:$B$100,2,FALSE)*VLOOKUP(A288&B288,ShareOfSearch_Volume!$C$1:$D$1000,2,FALSE),\"\")","v":1707.9479999999999}]
[{"$f":"IF(ISTEXT(ShareOfSearch_SERPS!C289),ShareOfSearch_SERPS!C289,\"\")","v":"seo optimization"},{"$f":"IF(ISTEXT(ShareOfSearch_SERPS!D289),ShareOfSearch_SERPS!D289,\"\")","v":"co.uk"},{"$f":"IF(NOT(ISBLANK(ShareOfSearch_SERPS!A289)),ShareOfSearch_SERPS!A289,\"\")","v":8},{"$f":"IF(NOT(ISBLANK(ShareOfSearch_SERPS!G289)),ShareOfSearch_SERPS!G289,\"\")","v":"http://computer.howstuffworks.com/search-engine-optimization.htm"},{"$f":"IF(NOT(ISBLANK(ShareOfSearch_SERPS!K289)),ShareOfSearch_SERPS!K289,\"\")","v":"howstuffworks.com"},{"$f":"IFERROR(VLOOKUP(C289,ShareOfSearch_CTR!$A$1:$B$100,2,FALSE)*VLOOKUP(A289&B289,ShareOfSearch_Volume!$C$1:$D$1000,2,FALSE),\"\")","v":1573.1100000000001}]
[{"$f":"IF(ISTEXT(ShareOfSearch_SERPS!C290),ShareOfSearch_SERPS!C290,\"\")","v":"seo optimization"},{"$f":"IF(ISTEXT(ShareOfSearch_SERPS!D290),ShareOfSearch_SERPS!D290,\"\")","v":"co.uk"},{"$f":"IF(NOT(ISBLANK(ShareOfSearch_SERPS!A290)),ShareOfSearch_SERPS!A290,\"\")","v":9},{"$f":"IF(NOT(ISBLANK(ShareOfSearch_SERPS!G290)),ShareOfSearch_SERPS!G290,\"\")","v":"http://www.webopedia.com/TERM/S/SEO.html"},{"$f":"IF(NOT(ISBLANK(ShareOfSearch_SERPS!K290)),ShareOfSearch_SERPS!K290,\"\")","v":"webopedia.com"},{"$f":"IFERROR(VLOOKUP(C290,ShareOfSearch_CTR!$A$1:$B$100,2,FALSE)*VLOOKUP(A290&B290,ShareOfSearch_Volume!$C$1:$D$1000,2,FALSE),\"\")","v":1348.3799999999999}]
[{"$f":"IF(ISTEXT(ShareOfSearch_SERPS!C291),ShareOfSearch_SERPS!C291,\"\")","v":"seo optimization"},{"$f":"IF(ISTEXT(ShareOfSearch_SERPS!D291),ShareOfSearch_SERPS!D291,\"\")","v":"co.uk"},{"$f":"IF(NOT(ISBLANK(ShareOfSearch_SERPS!A291)),ShareOfSearch_SERPS!A291,\"\")","v":10},{"$f":"IF(NOT(ISBLANK(ShareOfSearch_SERPS!G291)),ShareOfSearch_SERPS!G291,\"\")","v":"http://www.hobo-web.co.uk/seo-tutorial/"},{"$f":"IF(NOT(ISBLANK(ShareOfSearch_SERPS!K291)),ShareOfSearch_SERPS!K291,\"\")","v":"hobo-web.co.uk"},{"$f":"IFERROR(VLOOKUP(C291,ShareOfSearch_CTR!$A$1:$B$100,2,FALSE)*VLOOKUP(A291&B291,ShareOfSearch_Volume!$C$1:$D$1000,2,FALSE),\"\")","v":988.8119999999999}]
[{"$f":"IF(ISTEXT(ShareOfSearch_SERPS!C292),ShareOfSearch_SERPS!C292,\"\")","v":"seo optimization"},{"$f":"IF(ISTEXT(ShareOfSearch_SERPS!D292),ShareOfSearch_SERPS!D292,\"\")","v":"co.uk"},{"$f":"IF(NOT(ISBLANK(ShareOfSearch_SERPS!A292)),ShareOfSearch_SERPS!A292,\"\")","v":11},{"$f":"IF(NOT(ISBLANK(ShareOfSearch_SERPS!G292)),ShareOfSearch_SERPS!G292,\"\")","v":"http://www.searchenginejournal.com/seo-101-getting-page-seo-basics/97871/"},{"$f":"IF(NOT(ISBLANK(ShareOfSearch_SERPS!K292)),ShareOfSearch_SERPS!K292,\"\")","v":"searchenginejournal.com"},{"$f":"IFERROR(VLOOKUP(C292,ShareOfSearch_CTR!$A$1:$B$100,2,FALSE)*VLOOKUP(A292&B292,ShareOfSearch_Volume!$C$1:$D$1000,2,FALSE),\"\")","v":1168.596}]
[{"$f":"IF(ISTEXT(ShareOfSearch_SERPS!C293),ShareOfSearch_SERPS!C293,\"\")","v":"seo optimization"},{"$f":"IF(ISTEXT(ShareOfSearch_SERPS!D293),ShareOfSearch_SERPS!D293,\"\")","v":"co.uk"},{"$f":"IF(NOT(ISBLANK(ShareOfSearch_SERPS!A293)),ShareOfSearch_SERPS!A293,\"\")","v":12},{"$f":"IF(NOT(ISBLANK(ShareOfSearch_SERPS!G293)),ShareOfSearch_SERPS!G293,\"\")","v":"http://www.screamingfrog.co.uk/search-engine-optimisation/"},{"$f":"IF(NOT(ISBLANK(ShareOfSearch_SERPS!K293)),ShareOfSearch_SERPS!K293,\"\")","v":"screamingfrog.co.uk"},{"$f":"IFERROR(VLOOKUP(C293,ShareOfSearch_CTR!$A$1:$B$100,2,FALSE)*VLOOKUP(A293&B293,ShareOfSearch_Volume!$C$1:$D$1000,2,FALSE),\"\")","v":674.18999999999994}]
[{"$f":"IF(ISTEXT(ShareOfSearch_SERPS!C294),ShareOfSearch_SERPS!C294,\"\")","v":"seo optimization"},{"$f":"IF(ISTEXT(ShareOfSearch_SERPS!D294),ShareOfSearch_SERPS!D294,\"\")","v":"co.uk"},{"$f":"IF(NOT(ISBLANK(ShareOfSearch_SERPS!A294)),ShareOfSearch_SERPS!A294,\"\")","v":13},{"$f":"IF(NOT(ISBLANK(ShareOfSearch_SERPS!G294)),ShareOfSearch_SERPS!G294,\"\")","v":"http://www.entrepreneur.com/article/231235"},{"$f":"IF(NOT(ISBLANK(ShareOfSearch_SERPS!K294)),ShareOfSearch_SERPS!K294,\"\")","v":"entrepreneur.com"},{"$f":"IFERROR(VLOOKUP(C294,ShareOfSearch_CTR!$A$1:$B$100,2,FALSE)*VLOOKUP(A294&B294,ShareOfSearch_Volume!$C$1:$D$1000,2,FALSE),\"\")","v":584.298}]
[{"$f":"IF(ISTEXT(ShareOfSearch_SERPS!C295),ShareOfSearch_SERPS!C295,\"\")","v":"seo optimization"},{"$f":"IF(ISTEXT(ShareOfSearch_SERPS!D295),ShareOfSearch_SERPS!D295,\"\")","v":"co.uk"},{"$f":"IF(NOT(ISBLANK(ShareOfSearch_SERPS!A295)),ShareOfSearch_SERPS!A295,\"\")","v":14},{"$f":"IF(NOT(ISBLANK(ShareOfSearch_SERPS!G295)),ShareOfSearch_SERPS!G295,\"\")","v":"http://www.entrepreneur.com/seo/"},{"$f":"IF(NOT(ISBLANK(ShareOfSearch_SERPS!K295)),ShareOfSearch_SERPS!K295,\"\")","v":"entrepreneur.com"},{"$f":"IFERROR(VLOOKUP(C295,ShareOfSearch_CTR!$A$1:$B$100,2,FALSE)*VLOOKUP(A295&B295,ShareOfSearch_Volume!$C$1:$D$1000,2,FALSE),\"\")","v":494.40599999999995}]
[{"$f":"IF(ISTEXT(ShareOfSearch_SERPS!C296),ShareOfSearch_SERPS!C296,\"\")","v":"seo optimization"},{"$f":"IF(ISTEXT(ShareOfSearch_SERPS!D296),ShareOfSearch_SERPS!D296,\"\")","v":"co.uk"},{"$f":"IF(NOT(ISBLANK(ShareOfSearch_SERPS!A296)),ShareOfSearch_SERPS!A296,\"\")","v":15},{"$f":"IF(NOT(ISBLANK(ShareOfSearch_SERPS!G296)),ShareOfSearch_SERPS!G296,\"\")","v":"http://www.wikihow.com/Optimize-Your-Website-for-Search-Engine-Use"},{"$f":"IF(NOT(ISBLANK(ShareOfSearch_SERPS!K296)),ShareOfSearch_SERPS!K296,\"\")","v":"wikihow.com"},{"$f":"IFERROR(VLOOKUP(C296,ShareOfSearch_CTR!$A$1:$B$100,2,FALSE)*VLOOKUP(A296&B296,ShareOfSearch_Volume!$C$1:$D$1000,2,FALSE),\"\")","v":539.35199999999998}]
[{"$f":"IF(ISTEXT(ShareOfSearch_SERPS!C297),ShareOfSearch_SERPS!C297,\"\")","v":"seo optimization"},{"$f":"IF(ISTEXT(ShareOfSearch_SERPS!D297),ShareOfSearch_SERPS!D297,\"\")","v":"co.uk"},{"$f":"IF(NOT(ISBLANK(ShareOfSearch_SERPS!A297)),ShareOfSearch_SERPS!A297,\"\")","v":16},{"$f":"IF(NOT(ISBLANK(ShareOfSearch_SERPS!G297)),ShareOfSearch_SERPS!G297,\"\")","v":"http://www.webconfs.com/15-minute-seo.php"},{"$f":"IF(NOT(ISBLANK(ShareOfSearch_SERPS!K297)),ShareOfSearch_SERPS!K297,\"\")","v":"webconfs.com"},{"$f":"IFERROR(VLOOKUP(C297,ShareOfSearch_CTR!$A$1:$B$100,2,FALSE)*VLOOKUP(A297&B297,ShareOfSearch_Volume!$C$1:$D$1000,2,FALSE),\"\")","v":539.35199999999998}]
[{"$f":"IF(ISTEXT(ShareOfSearch_SERPS!C298),ShareOfSearch_SERPS!C298,\"\")","v":"seo optimization"},{"$f":"IF(ISTEXT(ShareOfSearch_SERPS!D298),ShareOfSearch_SERPS!D298,\"\")","v":"co.uk"},{"$f":"IF(NOT(ISBLANK(ShareOfSearch_SERPS!A298)),ShareOfSearch_SERPS!A298,\"\")","v":17},{"$f":"IF(NOT(ISBLANK(ShareOfSearch_SERPS!G298)),ShareOfSearch_SERPS!G298,\"\")","v":"http://www.bruceclay.com/eu/seo/search-engine-optimization.htm"},{"$f":"IF(NOT(ISBLANK(ShareOfSearch_SERPS!K298)),ShareOfSearch_SERPS!K298,\"\")","v":"bruceclay.com"},{"$f":"IFERROR(VLOOKUP(C298,ShareOfSearch_CTR!$A$1:$B$100,2,FALSE)*VLOOKUP(A298&B298,ShareOfSearch_Volume!$C$1:$D$1000,2,FALSE),\"\")","v":629.24400000000003}]
[{"$f":"IF(ISTEXT(ShareOfSearch_SERPS!C299),ShareOfSearch_SERPS!C299,\"\")","v":"seo optimization"},{"$f":"IF(ISTEXT(ShareOfSearch_SERPS!D299),ShareOfSearch_SERPS!D299,\"\")","v":"co.uk"},{"$f":"IF(NOT(ISBLANK(ShareOfSearch_SERPS!A299)),ShareOfSearch_SERPS!A299,\"\")","v":18},{"$f":"IF(NOT(ISBLANK(ShareOfSearch_SERPS!G299)),ShareOfSearch_SERPS!G299,\"\")","v":"http://www.wordstream.com/seo"},{"$f":"IF(NOT(ISBLANK(ShareOfSearch_SERPS!K299)),ShareOfSearch_SERPS!K299,\"\")","v":"wordstream.com"},{"$f":"IFERROR(VLOOKUP(C299,ShareOfSearch_CTR!$A$1:$B$100,2,FALSE)*VLOOKUP(A299&B299,ShareOfSearch_Volume!$C$1:$D$1000,2,FALSE),\"\")","v":584.298}]
[{"$f":"IF(ISTEXT(ShareOfSearch_SERPS!C300),ShareOfSearch_SERPS!C300,\"\")","v":"seo optimization"},{"$f":"IF(ISTEXT(ShareOfSearch_SERPS!D300),ShareOfSearch_SERPS!D300,\"\")","v":"co.uk"},{"$f":"IF(NOT(ISBLANK(ShareOfSearch_SERPS!A300)),ShareOfSearch_SERPS!A300,\"\")","v":19},{"$f":"IF(NOT(ISBLANK(ShareOfSearch_SERPS!G300)),ShareOfSearch_SERPS!G300,\"\")","v":"http://www.mainstreethost.com/services/search-engine-optimization.html"},{"$f":"IF(NOT(ISBLANK(ShareOfSearch_SERPS!K300)),ShareOfSearch_SERPS!K300,\"\")","v":"mainstreethost.com"},{"$f":"IFERROR(VLOOKUP(C300,ShareOfSearch_CTR!$A$1:$B$100,2,FALSE)*VLOOKUP(A300&B300,ShareOfSearch_Volume!$C$1:$D$1000,2,FALSE),\"\")","v":629.24400000000003}]
[{"$f":"IF(ISTEXT(ShareOfSearch_SERPS!C301),ShareOfSearch_SERPS!C301,\"\")","v":"seo optimization"},{"$f":"IF(ISTEXT(ShareOfSearch_SERPS!D301),ShareOfSearch_SERPS!D301,\"\")","v":"co.uk"},{"$f":"IF(NOT(ISBLANK(ShareOfSearch_SERPS!A301)),ShareOfSearch_SERPS!A301,\"\")","v":20},{"$f":"IF(NOT(ISBLANK(ShareOfSearch_SERPS!G301)),ShareOfSearch_SERPS!G301,\"\")","v":"http://www.powermapper.com/products/sortsite/checks/seo-checks.htm"},{"$f":"IF(NOT(ISBLANK(ShareOfSearch_SERPS!K301)),ShareOfSearch_SERPS!K301,\"\")","v":"powermapper.com"},{"$f":"IFERROR(VLOOKUP(C301,ShareOfSearch_CTR!$A$1:$B$100,2,FALSE)*VLOOKUP(A301&B301,ShareOfSearch_Volume!$C$1:$D$1000,2,FALSE),\"\")","v":629.24400000000003}]
[{"$f":"IF(ISTEXT(ShareOfSearch_SERPS!C302),ShareOfSearch_SERPS!C302,\"\")","v":"seo search engine optimization"},{"$f":"IF(ISTEXT(ShareOfSearch_SERPS!D302),ShareOfSearch_SERPS!D302,\"\")","v":"co.uk"},{"$f":"IF(NOT(ISBLANK(ShareOfSearch_SERPS!A302)),ShareOfSearch_SERPS!A302,\"\")","v":1},{"$f":"IF(NOT(ISBLANK(ShareOfSearch_SERPS!G302)),ShareOfSearch_SERPS!G302,\"\")","v":"http://en.wikipedia.org/wiki/Search_engine_optimization"},{"$f":"IF(NOT(ISBLANK(ShareOfSearch_SERPS!K302)),ShareOfSearch_SERPS!K302,\"\")","v":"wikipedia.org"},{"$f":"IFERROR(VLOOKUP(C302,ShareOfSearch_CTR!$A$1:$B$100,2,FALSE)*VLOOKUP(A302&B302,ShareOfSearch_Volume!$C$1:$D$1000,2,FALSE),\"\")","v":13916.448}]
[{"$f":"IF(ISTEXT(ShareOfSearch_SERPS!C303),ShareOfSearch_SERPS!C303,\"\")","v":"seo search engine optimization"},{"$f":"IF(ISTEXT(ShareOfSearch_SERPS!D303),ShareOfSearch_SERPS!D303,\"\")","v":"co.uk"},{"$f":"IF(NOT(ISBLANK(ShareOfSearch_SERPS!A303)),ShareOfSearch_SERPS!A303,\"\")","v":2},{"$f":"IF(NOT(ISBLANK(ShareOfSearch_SERPS!G303)),ShareOfSearch_SERPS!G303,\"\")","v":"http://searchengineland.com/guide/what-is-seo"},{"$f":"IF(NOT(ISBLANK(ShareOfSearch_SERPS!K303)),ShareOfSearch_SERPS!K303,\"\")","v":"searchengineland.com"},{"$f":"IFERROR(VLOOKUP(C303,ShareOfSearch_CTR!$A$1:$B$100,2,FALSE)*VLOOKUP(A303&B303,ShareOfSearch_Volume!$C$1:$D$1000,2,FALSE),\"\")","v":4779}]
[{"$f":"IF(ISTEXT(ShareOfSearch_SERPS!C304),ShareOfSearch_SERPS!C304,\"\")","v":"seo search engine optimization"},{"$f":"IF(ISTEXT(ShareOfSearch_SERPS!D304),ShareOfSearch_SERPS!D304,\"\")","v":"co.uk"},{"$f":"IF(NOT(ISBLANK(ShareOfSearch_SERPS!A304)),ShareOfSearch_SERPS!A304,\"\")","v":3},{"$f":"IF(NOT(ISBLANK(ShareOfSearch_SERPS!G304)),ShareOfSearch_SERPS!G304,\"\")","v":"http://www.google.co.uk/webmasters/docs/search-engine-optimization-starter-guide.pdf"},{"$f":"IF(NOT(ISBLANK(ShareOfSearch_SERPS!K304)),ShareOfSearch_SERPS!K304,\"\")","v":"google.co.uk"},{"$f":"IFERROR(VLOOKUP(C304,ShareOfSearch_CTR!$A$1:$B$100,2,FALSE)*VLOOKUP(A304&B304,ShareOfSearch_Volume!$C$1:$D$1000,2,FALSE),\"\")","v":3632.04}]
[{"$f":"IF(ISTEXT(ShareOfSearch_SERPS!C305),ShareOfSearch_SERPS!C305,\"\")","v":"seo search engine optimization"},{"$f":"IF(ISTEXT(ShareOfSearch_SERPS!D305),ShareOfSearch_SERPS!D305,\"\")","v":"co.uk"},{"$f":"IF(NOT(ISBLANK(ShareOfSearch_SERPS!A305)),ShareOfSearch_SERPS!A305,\"\")","v":4},{"$f":"IF(NOT(ISBLANK(ShareOfSearch_SERPS!G305)),ShareOfSearch_SERPS!G305,\"\")","v":"https://support.google.com/webmasters/answer/35291%3Fhl%3Den"},{"$f":"IF(NOT(ISBLANK(ShareOfSearch_SERPS!K305)),ShareOfSearch_SERPS!K305,\"\")","v":"google.com"},{"$f":"IFERROR(VLOOKUP(C305,ShareOfSearch_CTR!$A$1:$B$100,2,FALSE)*VLOOKUP(A305&B305,ShareOfSearch_Volume!$C$1:$D$1000,2,FALSE),\"\")","v":3020.328}]
[{"$f":"IF(ISTEXT(ShareOfSearch_SERPS!C306),ShareOfSearch_SERPS!C306,\"\")","v":"seo search engine optimization"},{"$f":"IF(ISTEXT(ShareOfSearch_SERPS!D306),ShareOfSearch_SERPS!D306,\"\")","v":"co.uk"},{"$f":"IF(NOT(ISBLANK(ShareOfSearch_SERPS!A306)),ShareOfSearch_SERPS!A306,\"\")","v":5},{"$f":"IF(NOT(ISBLANK(ShareOfSearch_SERPS!G306)),ShareOfSearch_SERPS!G306,\"\")","v":"http://moz.com/beginners-guide-to-seo"},{"$f":"IF(NOT(ISBLANK(ShareOfSearch_SERPS!K306)),ShareOfSearch_SERPS!K306,\"\")","v":"moz.com"},{"$f":"IFERROR(VLOOKUP(C306,ShareOfSearch_CTR!$A$1:$B$100,2,FALSE)*VLOOKUP(A306&B306,ShareOfSearch_Volume!$C$1:$D$1000,2,FALSE),\"\")","v":2332.152}]
[{"$f":"IF(ISTEXT(ShareOfSearch_SERPS!C307),ShareOfSearch_SERPS!C307,\"\")","v":"seo search engine optimization"},{"$f":"IF(ISTEXT(ShareOfSearch_SERPS!D307),ShareOfSearch_SERPS!D307,\"\")","v":"co.uk"},{"$f":"IF(NOT(ISBLANK(ShareOfSearch_SERPS!A307)),ShareOfSearch_SERPS!A307,\"\")","v":6},{"$f":"IF(NOT(ISBLANK(ShareOfSearch_SERPS!G307)),ShareOfSearch_SERPS!G307,\"\")","v":"http://www.webopedia.com/TERM/S/SEO.html"},{"$f":"IF(NOT(ISBLANK(ShareOfSearch_SERPS!K307)),ShareOfSearch_SERPS!K307,\"\")","v":"webopedia.com"},{"$f":"IFERROR(VLOOKUP(C307,ShareOfSearch_CTR!$A$1:$B$100,2,FALSE)*VLOOKUP(A307&B307,ShareOfSearch_Volume!$C$1:$D$1000,2,FALSE),\"\")","v":1567.5120000000002}]
[{"$f":"IF(ISTEXT(ShareOfSearch_SERPS!C308),ShareOfSearch_SERPS!C308,\"\")","v":"seo search engine optimization"},{"$f":"IF(ISTEXT(ShareOfSearch_SERPS!D308),ShareOfSearch_SERPS!D308,\"\")","v":"co.uk"},{"$f":"IF(NOT(ISBLANK(ShareOfSearch_SERPS!A308)),ShareOfSearch_SERPS!A308,\"\")","v":7},{"$f":"IF(NOT(ISBLANK(ShareOfSearch_SERPS!G308)),ShareOfSearch_SERPS!G308,\"\")","v":"http://searchenginewatch.com/article/2259693/SEO-Basics-8-Essentials-When-Optimizing-Your-Site"},{"$f":"IF(NOT(ISBLANK(ShareOfSearch_SERPS!K308)),ShareOfSearch_SERPS!K308,\"\")","v":"searchenginewatch.com"},{"$f":"IFERROR(VLOOKUP(C308,ShareOfSearch_CTR!$A$1:$B$100,2,FALSE)*VLOOKUP(A308&B308,ShareOfSearch_Volume!$C$1:$D$1000,2,FALSE),\"\")","v":1452.816}]
[{"$f":"IF(ISTEXT(ShareOfSearch_SERPS!C309),ShareOfSearch_SERPS!C309,\"\")","v":"seo search engine optimization"},{"$f":"IF(ISTEXT(ShareOfSearch_SERPS!D309),ShareOfSearch_SERPS!D309,\"\")","v":"co.uk"},{"$f":"IF(NOT(ISBLANK(ShareOfSearch_SERPS!A309)),ShareOfSearch_SERPS!A309,\"\")","v":8},{"$f":"IF(NOT(ISBLANK(ShareOfSearch_SERPS!G309)),ShareOfSearch_SERPS!G309,\"\")","v":"http://searchenginewatch.com/seo"},{"$f":"IF(NOT(ISBLANK(ShareOfSearch_SERPS!K309)),ShareOfSearch_SERPS!K309,\"\")","v":"searchenginewatch.com"},{"$f":"IFERROR(VLOOKUP(C309,ShareOfSearch_CTR!$A$1:$B$100,2,FALSE)*VLOOKUP(A309&B309,ShareOfSearch_Volume!$C$1:$D$1000,2,FALSE),\"\")","v":1338.1200000000001}]
[{"$f":"IF(ISTEXT(ShareOfSearch_SERPS!C310),ShareOfSearch_SERPS!C310,\"\")","v":"seo search engine optimization"},{"$f":"IF(ISTEXT(ShareOfSearch_SERPS!D310),ShareOfSearch_SERPS!D310,\"\")","v":"co.uk"},{"$f":"IF(NOT(ISBLANK(ShareOfSearch_SERPS!A310)),ShareOfSearch_SERPS!A310,\"\")","v":9},{"$f":"IF(NOT(ISBLANK(ShareOfSearch_SERPS!G310)),ShareOfSearch_SERPS!G310,\"\")","v":"http://www.bruceclay.com/eu/seo/search-engine-optimization.htm"},{"$f":"IF(NOT(ISBLANK(ShareOfSearch_SERPS!K310)),ShareOfSearch_SERPS!K310,\"\")","v":"bruceclay.com"},{"$f":"IFERROR(VLOOKUP(C310,ShareOfSearch_CTR!$A$1:$B$100,2,FALSE)*VLOOKUP(A310&B310,ShareOfSearch_Volume!$C$1:$D$1000,2,FALSE),\"\")","v":1146.96}]
[{"$f":"IF(ISTEXT(ShareOfSearch_SERPS!C311),ShareOfSearch_SERPS!C311,\"\")","v":"seo search engine optimization"},{"$f":"IF(ISTEXT(ShareOfSearch_SERPS!D311),ShareOfSearch_SERPS!D311,\"\")","v":"co.uk"},{"$f":"IF(NOT(ISBLANK(ShareOfSearch_SERPS!A311)),ShareOfSearch_SERPS!A311,\"\")","v":10},{"$f":"IF(NOT(ISBLANK(ShareOfSearch_SERPS!G311)),ShareOfSearch_SERPS!G311,\"\")","v":"http://www.entrepreneur.com/seo/"},{"$f":"IF(NOT(ISBLANK(ShareOfSearch_SERPS!K311)),ShareOfSearch_SERPS!K311,\"\")","v":"entrepreneur.com"},{"$f":"IFERROR(VLOOKUP(C311,ShareOfSearch_CTR!$A$1:$B$100,2,FALSE)*VLOOKUP(A311&B311,ShareOfSearch_Volume!$C$1:$D$1000,2,FALSE),\"\")","v":841.10399999999993}]
[{"$f":"IF(ISTEXT(ShareOfSearch_SERPS!C312),ShareOfSearch_SERPS!C312,\"\")","v":"seo search engine optimization"},{"$f":"IF(ISTEXT(ShareOfSearch_SERPS!D312),ShareOfSearch_SERPS!D312,\"\")","v":"co.uk"},{"$f":"IF(NOT(ISBLANK(ShareOfSearch_SERPS!A312)),ShareOfSearch_SERPS!A312,\"\")","v":11},{"$f":"IF(NOT(ISBLANK(ShareOfSearch_SERPS!G312)),ShareOfSearch_SERPS!G312,\"\")","v":"http://computer.howstuffworks.com/search-engine-optimization.htm"},{"$f":"IF(NOT(ISBLANK(ShareOfSearch_SERPS!K312)),ShareOfSearch_SERPS!K312,\"\")","v":"howstuffworks.com"},{"$f":"IFERROR(VLOOKUP(C312,ShareOfSearch_CTR!$A$1:$B$100,2,FALSE)*VLOOKUP(A312&B312,ShareOfSearch_Volume!$C$1:$D$1000,2,FALSE),\"\")","v":994.03199999999993}]
[{"$f":"IF(ISTEXT(ShareOfSearch_SERPS!C313),ShareOfSearch_SERPS!C313,\"\")","v":"seo search engine optimization"},{"$f":"IF(ISTEXT(ShareOfSearch_SERPS!D313),ShareOfSearch_SERPS!D313,\"\")","v":"co.uk"},{"$f":"IF(NOT(ISBLANK(ShareOfSearch_SERPS!A313)),ShareOfSearch_SERPS!A313,\"\")","v":12},{"$f":"IF(NOT(ISBLANK(ShareOfSearch_SERPS!G313)),ShareOfSearch_SERPS!G313,\"\")","v":"http://www.screamingfrog.co.uk/"},{"$f":"IF(NOT(ISBLANK(ShareOfSearch_SERPS!K313)),ShareOfSearch_SERPS!K313,\"\")","v":"screamingfrog.co.uk"},{"$f":"IFERROR(VLOOKUP(C313,ShareOfSearch_CTR!$A$1:$B$100,2,FALSE)*VLOOKUP(A313&B313,ShareOfSearch_Volume!$C$1:$D$1000,2,FALSE),\"\")","v":573.48}]
[{"$f":"IF(ISTEXT(ShareOfSearch_SERPS!C314),ShareOfSearch_SERPS!C314,\"\")","v":"seo search engine optimization"},{"$f":"IF(ISTEXT(ShareOfSearch_SERPS!D314),ShareOfSearch_SERPS!D314,\"\")","v":"co.uk"},{"$f":"IF(NOT(ISBLANK(ShareOfSearch_SERPS!A314)),ShareOfSearch_SERPS!A314,\"\")","v":13},{"$f":"IF(NOT(ISBLANK(ShareOfSearch_SERPS!G314)),ShareOfSearch_SERPS!G314,\"\")","v":"http://www.mainstreethost.com/services/search-engine-optimization.html"},{"$f":"IF(NOT(ISBLANK(ShareOfSearch_SERPS!K314)),ShareOfSearch_SERPS!K314,\"\")","v":"mainstreethost.com"},{"$f":"IFERROR(VLOOKUP(C314,ShareOfSearch_CTR!$A$1:$B$100,2,FALSE)*VLOOKUP(A314&B314,ShareOfSearch_Volume!$C$1:$D$1000,2,FALSE),\"\")","v":497.01599999999996}]
[{"$f":"IF(ISTEXT(ShareOfSearch_SERPS!C315),ShareOfSearch_SERPS!C315,\"\")","v":"seo search engine optimization"},{"$f":"IF(ISTEXT(ShareOfSearch_SERPS!D315),ShareOfSearch_SERPS!D315,\"\")","v":"co.uk"},{"$f":"IF(NOT(ISBLANK(ShareOfSearch_SERPS!A315)),ShareOfSearch_SERPS!A315,\"\")","v":14},{"$f":"IF(NOT(ISBLANK(ShareOfSearch_SERPS!G315)),ShareOfSearch_SERPS!G315,\"\")","v":"http://www.searchenginejournal.com/55-quick-seo-tips-even-your-mother-would-love/"},{"$f":"IF(NOT(ISBLANK(ShareOfSearch_SERPS!K315)),ShareOfSearch_SERPS!K315,\"\")","v":"searchenginejournal.com"},{"$f":"IFERROR(VLOOKUP(C315,ShareOfSearch_CTR!$A$1:$B$100,2,FALSE)*VLOOKUP(A315&B315,ShareOfSearch_Volume!$C$1:$D$1000,2,FALSE),\"\")","v":420.55199999999996}]
[{"$f":"IF(ISTEXT(ShareOfSearch_SERPS!C316),ShareOfSearch_SERPS!C316,\"\")","v":"seo search engine optimization"},{"$f":"IF(ISTEXT(ShareOfSearch_SERPS!D316),ShareOfSearch_SERPS!D316,\"\")","v":"co.uk"},{"$f":"IF(NOT(ISBLANK(ShareOfSearch_SERPS!A316)),ShareOfSearch_SERPS!A316,\"\")","v":15},{"$f":"IF(NOT(ISBLANK(ShareOfSearch_SERPS!G316)),ShareOfSearch_SERPS!G316,\"\")","v":"http://www.businessinsider.com/10-basic-seo-tips-everyone-should-know-2010-1%3Fop%3D1"},{"$f":"IF(NOT(ISBLANK(ShareOfSearch_SERPS!K316)),ShareOfSearch_SERPS!K316,\"\")","v":"businessinsider.com"},{"$f":"IFERROR(VLOOKUP(C316,ShareOfSearch_CTR!$A$1:$B$100,2,FALSE)*VLOOKUP(A316&B316,ShareOfSearch_Volume!$C$1:$D$1000,2,FALSE),\"\")","v":458.78399999999999}]
[{"$f":"IF(ISTEXT(ShareOfSearch_SERPS!C317),ShareOfSearch_SERPS!C317,\"\")","v":"seo search engine optimization"},{"$f":"IF(ISTEXT(ShareOfSearch_SERPS!D317),ShareOfSearch_SERPS!D317,\"\")","v":"co.uk"},{"$f":"IF(NOT(ISBLANK(ShareOfSearch_SERPS!A317)),ShareOfSearch_SERPS!A317,\"\")","v":16},{"$f":"IF(NOT(ISBLANK(ShareOfSearch_SERPS!G317)),ShareOfSearch_SERPS!G317,\"\")","v":"http://www.webconfs.com/seo-tutorial/introduction-to-seo.php"},{"$f":"IF(NOT(ISBLANK(ShareOfSearch_SERPS!K317)),ShareOfSearch_SERPS!K317,\"\")","v":"webconfs.com"},{"$f":"IFERROR(VLOOKUP(C317,ShareOfSearch_CTR!$A$1:$B$100,2,FALSE)*VLOOKUP(A317&B317,ShareOfSearch_Volume!$C$1:$D$1000,2,FALSE),\"\")","v":458.78399999999999}]
[{"$f":"IF(ISTEXT(ShareOfSearch_SERPS!C318),ShareOfSearch_SERPS!C318,\"\")","v":"seo search engine optimization"},{"$f":"IF(ISTEXT(ShareOfSearch_SERPS!D318),ShareOfSearch_SERPS!D318,\"\")","v":"co.uk"},{"$f":"IF(NOT(ISBLANK(ShareOfSearch_SERPS!A318)),ShareOfSearch_SERPS!A318,\"\")","v":17},{"$f":"IF(NOT(ISBLANK(ShareOfSearch_SERPS!G318)),ShareOfSearch_SERPS!G318,\"\")","v":"http://tools.seobook.com/"},{"$f":"IF(NOT(ISBLANK(ShareOfSearch_SERPS!K318)),ShareOfSearch_SERPS!K318,\"\")","v":"seobook.com"},{"$f":"IFERROR(VLOOKUP(C318,ShareOfSearch_CTR!$A$1:$B$100,2,FALSE)*VLOOKUP(A318&B318,ShareOfSearch_Volume!$C$1:$D$1000,2,FALSE),\"\")","v":535.24800000000005}]
[{"$f":"IF(ISTEXT(ShareOfSearch_SERPS!C319),ShareOfSearch_SERPS!C319,\"\")","v":"seo search engine optimization"},{"$f":"IF(ISTEXT(ShareOfSearch_SERPS!D319),ShareOfSearch_SERPS!D319,\"\")","v":"co.uk"},{"$f":"IF(NOT(ISBLANK(ShareOfSearch_SERPS!A319)),ShareOfSearch_SERPS!A319,\"\")","v":18},{"$f":"IF(NOT(ISBLANK(ShareOfSearch_SERPS!G319)),ShareOfSearch_SERPS!G319,\"\")","v":"http://www.majesticseo.com/"},{"$f":"IF(NOT(ISBLANK(ShareOfSearch_SERPS!K319)),ShareOfSearch_SERPS!K319,\"\")","v":"majesticseo.com"},{"$f":"IFERROR(VLOOKUP(C319,ShareOfSearch_CTR!$A$1:$B$100,2,FALSE)*VLOOKUP(A319&B319,ShareOfSearch_Volume!$C$1:$D$1000,2,FALSE),\"\")","v":497.01599999999996}]
[{"$f":"IF(ISTEXT(ShareOfSearch_SERPS!C320),ShareOfSearch_SERPS!C320,\"\")","v":"seo search engine optimization"},{"$f":"IF(ISTEXT(ShareOfSearch_SERPS!D320),ShareOfSearch_SERPS!D320,\"\")","v":"co.uk"},{"$f":"IF(NOT(ISBLANK(ShareOfSearch_SERPS!A320)),ShareOfSearch_SERPS!A320,\"\")","v":19},{"$f":"IF(NOT(ISBLANK(ShareOfSearch_SERPS!G320)),ShareOfSearch_SERPS!G320,\"\")","v":"https://www.godaddy.com/search-engine/seo-services.aspx"},{"$f":"IF(NOT(ISBLANK(ShareOfSearch_SERPS!K320)),ShareOfSearch_SERPS!K320,\"\")","v":"godaddy.com"},{"$f":"IFERROR(VLOOKUP(C320,ShareOfSearch_CTR!$A$1:$B$100,2,FALSE)*VLOOKUP(A320&B320,ShareOfSearch_Volume!$C$1:$D$1000,2,FALSE),\"\")","v":535.24800000000005}]
[{"$f":"IF(ISTEXT(ShareOfSearch_SERPS!C321),ShareOfSearch_SERPS!C321,\"\")","v":"seo search engine optimization"},{"$f":"IF(ISTEXT(ShareOfSearch_SERPS!D321),ShareOfSearch_SERPS!D321,\"\")","v":"co.uk"},{"$f":"IF(NOT(ISBLANK(ShareOfSearch_SERPS!A321)),ShareOfSearch_SERPS!A321,\"\")","v":20},{"$f":"IF(NOT(ISBLANK(ShareOfSearch_SERPS!G321)),ShareOfSearch_SERPS!G321,\"\")","v":"http://www.searchenginepeople.com/"},{"$f":"IF(NOT(ISBLANK(ShareOfSearch_SERPS!K321)),ShareOfSearch_SERPS!K321,\"\")","v":"searchenginepeople.com"},{"$f":"IFERROR(VLOOKUP(C321,ShareOfSearch_CTR!$A$1:$B$100,2,FALSE)*VLOOKUP(A321&B321,ShareOfSearch_Volume!$C$1:$D$1000,2,FALSE),\"\")","v":535.24800000000005}]
[{"$f":"IF(ISTEXT(ShareOfSearch_SERPS!C322),ShareOfSearch_SERPS!C322,\"\")","v":"seo check"},{"$f":"IF(ISTEXT(ShareOfSearch_SERPS!D322),ShareOfSearch_SERPS!D322,\"\")","v":"co.uk"},{"$f":"IF(NOT(ISBLANK(ShareOfSearch_SERPS!A322)),ShareOfSearch_SERPS!A322,\"\")","v":1},{"$f":"IF(NOT(ISBLANK(ShareOfSearch_SERPS!G322)),ShareOfSearch_SERPS!G322,\"\")","v":"http://seositecheckup.com/"},{"$f":"IF(NOT(ISBLANK(ShareOfSearch_SERPS!K322)),ShareOfSearch_SERPS!K322,\"\")","v":"seositecheckup.com"},{"$f":"IFERROR(VLOOKUP(C322,ShareOfSearch_CTR!$A$1:$B$100,2,FALSE)*VLOOKUP(A322&B322,ShareOfSearch_Volume!$C$1:$D$1000,2,FALSE),\"\")","v":11207.196}]
[{"$f":"IF(ISTEXT(ShareOfSearch_SERPS!C323),ShareOfSearch_SERPS!C323,\"\")","v":"seo check"},{"$f":"IF(ISTEXT(ShareOfSearch_SERPS!D323),ShareOfSearch_SERPS!D323,\"\")","v":"co.uk"},{"$f":"IF(NOT(ISBLANK(ShareOfSearch_SERPS!A323)),ShareOfSearch_SERPS!A323,\"\")","v":2},{"$f":"IF(NOT(ISBLANK(ShareOfSearch_SERPS!G323)),ShareOfSearch_SERPS!G323,\"\")","v":"http://www.powermapper.com/products/sortsite/checks/seo-checks.htm"},{"$f":"IF(NOT(ISBLANK(ShareOfSearch_SERPS!K323)),ShareOfSearch_SERPS!K323,\"\")","v":"powermapper.com"},{"$f":"IFERROR(VLOOKUP(C323,ShareOfSearch_CTR!$A$1:$B$100,2,FALSE)*VLOOKUP(A323&B323,ShareOfSearch_Volume!$C$1:$D$1000,2,FALSE),\"\")","v":3848.625}]
[{"$f":"IF(ISTEXT(ShareOfSearch_SERPS!C324),ShareOfSearch_SERPS!C324,\"\")","v":"seo check"},{"$f":"IF(ISTEXT(ShareOfSearch_SERPS!D324),ShareOfSearch_SERPS!D324,\"\")","v":"co.uk"},{"$f":"IF(NOT(ISBLANK(ShareOfSearch_SERPS!A324)),ShareOfSearch_SERPS!A324,\"\")","v":3},{"$f":"IF(NOT(ISBLANK(ShareOfSearch_SERPS!G324)),ShareOfSearch_SERPS!G324,\"\")","v":"http://www.woorank.com/"},{"$f":"IF(NOT(ISBLANK(ShareOfSearch_SERPS!K324)),ShareOfSearch_SERPS!K324,\"\")","v":"woorank.com"},{"$f":"IFERROR(VLOOKUP(C324,ShareOfSearch_CTR!$A$1:$B$100,2,FALSE)*VLOOKUP(A324&B324,ShareOfSearch_Volume!$C$1:$D$1000,2,FALSE),\"\")","v":2924.9549999999999}]
[{"$f":"IF(ISTEXT(ShareOfSearch_SERPS!C325),ShareOfSearch_SERPS!C325,\"\")","v":"seo check"},{"$f":"IF(ISTEXT(ShareOfSearch_SERPS!D325),ShareOfSearch_SERPS!D325,\"\")","v":"co.uk"},{"$f":"IF(NOT(ISBLANK(ShareOfSearch_SERPS!A325)),ShareOfSearch_SERPS!A325,\"\")","v":4},{"$f":"IF(NOT(ISBLANK(ShareOfSearch_SERPS!G325)),ShareOfSearch_SERPS!G325,\"\")","v":"http://www.majesticseo.com/"},{"$f":"IF(NOT(ISBLANK(ShareOfSearch_SERPS!K325)),ShareOfSearch_SERPS!K325,\"\")","v":"majesticseo.com"},{"$f":"IFERROR(VLOOKUP(C325,ShareOfSearch_CTR!$A$1:$B$100,2,FALSE)*VLOOKUP(A325&B325,ShareOfSearch_Volume!$C$1:$D$1000,2,FALSE),\"\")","v":2432.3310000000001}]
[{"$f":"IF(ISTEXT(ShareOfSearch_SERPS!C326),ShareOfSearch_SERPS!C326,\"\")","v":"seo check"},{"$f":"IF(ISTEXT(ShareOfSearch_SERPS!D326),ShareOfSearch_SERPS!D326,\"\")","v":"co.uk"},{"$f":"IF(NOT(ISBLANK(ShareOfSearch_SERPS!A326)),ShareOfSearch_SERPS!A326,\"\")","v":5},{"$f":"IF(NOT(ISBLANK(ShareOfSearch_SERPS!G326)),ShareOfSearch_SERPS!G326,\"\")","v":"http://www.found.co.uk/seo-tool/"},{"$f":"IF(NOT(ISBLANK(ShareOfSearch_SERPS!K326)),ShareOfSearch_SERPS!K326,\"\")","v":"found.co.uk"},{"$f":"IFERROR(VLOOKUP(C326,ShareOfSearch_CTR!$A$1:$B$100,2,FALSE)*VLOOKUP(A326&B326,ShareOfSearch_Volume!$C$1:$D$1000,2,FALSE),\"\")","v":1878.1289999999999}]
[{"$f":"IF(ISTEXT(ShareOfSearch_SERPS!C327),ShareOfSearch_SERPS!C327,\"\")","v":"seo check"},{"$f":"IF(ISTEXT(ShareOfSearch_SERPS!D327),ShareOfSearch_SERPS!D327,\"\")","v":"co.uk"},{"$f":"IF(NOT(ISBLANK(ShareOfSearch_SERPS!A327)),ShareOfSearch_SERPS!A327,\"\")","v":6},{"$f":"IF(NOT(ISBLANK(ShareOfSearch_SERPS!G327)),ShareOfSearch_SERPS!G327,\"\")","v":"https://www.pluginseo.com/"},{"$f":"IF(NOT(ISBLANK(ShareOfSearch_SERPS!K327)),ShareOfSearch_SERPS!K327,\"\")","v":"pluginseo.com"},{"$f":"IFERROR(VLOOKUP(C327,ShareOfSearch_CTR!$A$1:$B$100,2,FALSE)*VLOOKUP(A327&B327,ShareOfSearch_Volume!$C$1:$D$1000,2,FALSE),\"\")","v":1262.3490000000002}]
[{"$f":"IF(ISTEXT(ShareOfSearch_SERPS!C328),ShareOfSearch_SERPS!C328,\"\")","v":"seo check"},{"$f":"IF(ISTEXT(ShareOfSearch_SERPS!D328),ShareOfSearch_SERPS!D328,\"\")","v":"co.uk"},{"$f":"IF(NOT(ISBLANK(ShareOfSearch_SERPS!A328)),ShareOfSearch_SERPS!A328,\"\")","v":7},{"$f":"IF(NOT(ISBLANK(ShareOfSearch_SERPS!G328)),ShareOfSearch_SERPS!G328,\"\")","v":"http://www.seoworkers.com/tools/analyzer.html"},{"$f":"IF(NOT(ISBLANK(ShareOfSearch_SERPS!K328)),ShareOfSearch_SERPS!K328,\"\")","v":"seoworkers.com"},{"$f":"IFERROR(VLOOKUP(C328,ShareOfSearch_CTR!$A$1:$B$100,2,FALSE)*VLOOKUP(A328&B328,ShareOfSearch_Volume!$C$1:$D$1000,2,FALSE),\"\")","v":1169.982}]
[{"$f":"IF(ISTEXT(ShareOfSearch_SERPS!C329),ShareOfSearch_SERPS!C329,\"\")","v":"seo check"},{"$f":"IF(ISTEXT(ShareOfSearch_SERPS!D329),ShareOfSearch_SERPS!D329,\"\")","v":"co.uk"},{"$f":"IF(NOT(ISBLANK(ShareOfSearch_SERPS!A329)),ShareOfSearch_SERPS!A329,\"\")","v":8},{"$f":"IF(NOT(ISBLANK(ShareOfSearch_SERPS!G329)),ShareOfSearch_SERPS!G329,\"\")","v":"http://tools.seobook.com/general/spider-test/"},{"$f":"IF(NOT(ISBLANK(ShareOfSearch_SERPS!K329)),ShareOfSearch_SERPS!K329,\"\")","v":"seobook.com"},{"$f":"IFERROR(VLOOKUP(C329,ShareOfSearch_CTR!$A$1:$B$100,2,FALSE)*VLOOKUP(A329&B329,ShareOfSearch_Volume!$C$1:$D$1000,2,FALSE),\"\")","v":1077.615}]
[{"$f":"IF(ISTEXT(ShareOfSearch_SERPS!C330),ShareOfSearch_SERPS!C330,\"\")","v":"seo check"},{"$f":"IF(ISTEXT(ShareOfSearch_SERPS!D330),ShareOfSearch_SERPS!D330,\"\")","v":"co.uk"},{"$f":"IF(NOT(ISBLANK(ShareOfSearch_SERPS!A330)),ShareOfSearch_SERPS!A330,\"\")","v":9},{"$f":"IF(NOT(ISBLANK(ShareOfSearch_SERPS!G330)),ShareOfSearch_SERPS!G330,\"\")","v":"https://chkme.com/"},{"$f":"IF(NOT(ISBLANK(ShareOfSearch_SERPS!K330)),ShareOfSearch_SERPS!K330,\"\")","v":"chkme.com"},{"$f":"IFERROR(VLOOKUP(C330,ShareOfSearch_CTR!$A$1:$B$100,2,FALSE)*VLOOKUP(A330&B330,ShareOfSearch_Volume!$C$1:$D$1000,2,FALSE),\"\")","v":923.67}]
[{"$f":"IF(ISTEXT(ShareOfSearch_SERPS!C331),ShareOfSearch_SERPS!C331,\"\")","v":"seo check"},{"$f":"IF(ISTEXT(ShareOfSearch_SERPS!D331),ShareOfSearch_SERPS!D331,\"\")","v":"co.uk"},{"$f":"IF(NOT(ISBLANK(ShareOfSearch_SERPS!A331)),ShareOfSearch_SERPS!A331,\"\")","v":10},{"$f":"IF(NOT(ISBLANK(ShareOfSearch_SERPS!G331)),ShareOfSearch_SERPS!G331,\"\")","v":"http://www.webseoanalytics.com/free/seo-tools/web-seo-analysis.php"},{"$f":"IF(NOT(ISBLANK(ShareOfSearch_SERPS!K331)),ShareOfSearch_SERPS!K331,\"\")","v":"webseoanalytics.com"},{"$f":"IFERROR(VLOOKUP(C331,ShareOfSearch_CTR!$A$1:$B$100,2,FALSE)*VLOOKUP(A331&B331,ShareOfSearch_Volume!$C$1:$D$1000,2,FALSE),\"\")","v":677.35799999999995}]
[{"$f":"IF(ISTEXT(ShareOfSearch_SERPS!C332),ShareOfSearch_SERPS!C332,\"\")","v":"seo check"},{"$f":"IF(ISTEXT(ShareOfSearch_SERPS!D332),ShareOfSearch_SERPS!D332,\"\")","v":"co.uk"},{"$f":"IF(NOT(ISBLANK(ShareOfSearch_SERPS!A332)),ShareOfSearch_SERPS!A332,\"\")","v":11},{"$f":"IF(NOT(ISBLANK(ShareOfSearch_SERPS!G332)),ShareOfSearch_SERPS!G332,\"\")","v":"http://www.webseoanalytics.com/free/seo-tools/web-seo-analysis.php"},{"$f":"IF(NOT(ISBLANK(ShareOfSearch_SERPS!K332)),ShareOfSearch_SERPS!K332,\"\")","v":"webseoanalytics.com"},{"$f":"IFERROR(VLOOKUP(C332,ShareOfSearch_CTR!$A$1:$B$100,2,FALSE)*VLOOKUP(A332&B332,ShareOfSearch_Volume!$C$1:$D$1000,2,FALSE),\"\")","v":800.51400000000001}]
[{"$f":"IF(ISTEXT(ShareOfSearch_SERPS!C333),ShareOfSearch_SERPS!C333,\"\")","v":"seo check"},{"$f":"IF(ISTEXT(ShareOfSearch_SERPS!D333),ShareOfSearch_SERPS!D333,\"\")","v":"co.uk"},{"$f":"IF(NOT(ISBLANK(ShareOfSearch_SERPS!A333)),ShareOfSearch_SERPS!A333,\"\")","v":12},{"$f":"IF(NOT(ISBLANK(ShareOfSearch_SERPS!G333)),ShareOfSearch_SERPS!G333,\"\")","v":"http://www.iwebmastertools.com/"},{"$f":"IF(NOT(ISBLANK(ShareOfSearch_SERPS!K333)),ShareOfSearch_SERPS!K333,\"\")","v":"iwebmastertools.com"},{"$f":"IFERROR(VLOOKUP(C333,ShareOfSearch_CTR!$A$1:$B$100,2,FALSE)*VLOOKUP(A333&B333,ShareOfSearch_Volume!$C$1:$D$1000,2,FALSE),\"\")","v":461.83499999999998}]
[{"$f":"IF(ISTEXT(ShareOfSearch_SERPS!C334),ShareOfSearch_SERPS!C334,\"\")","v":"seo check"},{"$f":"IF(ISTEXT(ShareOfSearch_SERPS!D334),ShareOfSearch_SERPS!D334,\"\")","v":"co.uk"},{"$f":"IF(NOT(ISBLANK(ShareOfSearch_SERPS!A334)),ShareOfSearch_SERPS!A334,\"\")","v":13},{"$f":"IF(NOT(ISBLANK(ShareOfSearch_SERPS!G334)),ShareOfSearch_SERPS!G334,\"\")","v":"http://www.seocentro.com/tools/search-engines/keyword-position.html"},{"$f":"IF(NOT(ISBLANK(ShareOfSearch_SERPS!K334)),ShareOfSearch_SERPS!K334,\"\")","v":"seocentro.com"},{"$f":"IFERROR(VLOOKUP(C334,ShareOfSearch_CTR!$A$1:$B$100,2,FALSE)*VLOOKUP(A334&B334,ShareOfSearch_Volume!$C$1:$D$1000,2,FALSE),\"\")","v":400.25700000000001}]
[{"$f":"IF(ISTEXT(ShareOfSearch_SERPS!C335),ShareOfSearch_SERPS!C335,\"\")","v":"seo check"},{"$f":"IF(ISTEXT(ShareOfSearch_SERPS!D335),ShareOfSearch_SERPS!D335,\"\")","v":"co.uk"},{"$f":"IF(NOT(ISBLANK(ShareOfSearch_SERPS!A335)),ShareOfSearch_SERPS!A335,\"\")","v":14},{"$f":"IF(NOT(ISBLANK(ShareOfSearch_SERPS!G335)),ShareOfSearch_SERPS!G335,\"\")","v":"http://www.seocentro.com/tools/seo/seo-analyzer.html"},{"$f":"IF(NOT(ISBLANK(ShareOfSearch_SERPS!K335)),ShareOfSearch_SERPS!K335,\"\")","v":"seocentro.com"},{"$f":"IFERROR(VLOOKUP(C335,ShareOfSearch_CTR!$A$1:$B$100,2,FALSE)*VLOOKUP(A335&B335,ShareOfSearch_Volume!$C$1:$D$1000,2,FALSE),\"\")","v":338.67899999999997}]
[{"$f":"IF(ISTEXT(ShareOfSearch_SERPS!C336),ShareOfSearch_SERPS!C336,\"\")","v":"seo check"},{"$f":"IF(ISTEXT(ShareOfSearch_SERPS!D336),ShareOfSearch_SERPS!D336,\"\")","v":"co.uk"},{"$f":"IF(NOT(ISBLANK(ShareOfSearch_SERPS!A336)),ShareOfSearch_SERPS!A336,\"\")","v":15},{"$f":"IF(NOT(ISBLANK(ShareOfSearch_SERPS!G336)),ShareOfSearch_SERPS!G336,\"\")","v":"http://www.rankingtoday.com/seo/site-checkup.php"},{"$f":"IF(NOT(ISBLANK(ShareOfSearch_SERPS!K336)),ShareOfSearch_SERPS!K336,\"\")","v":"rankingtoday.com"},{"$f":"IFERROR(VLOOKUP(C336,ShareOfSearch_CTR!$A$1:$B$100,2,FALSE)*VLOOKUP(A336&B336,ShareOfSearch_Volume!$C$1:$D$1000,2,FALSE),\"\")","v":369.46800000000002}]
[{"$f":"IF(ISTEXT(ShareOfSearch_SERPS!C337),ShareOfSearch_SERPS!C337,\"\")","v":"seo check"},{"$f":"IF(ISTEXT(ShareOfSearch_SERPS!D337),ShareOfSearch_SERPS!D337,\"\")","v":"co.uk"},{"$f":"IF(NOT(ISBLANK(ShareOfSearch_SERPS!A337)),ShareOfSearch_SERPS!A337,\"\")","v":16},{"$f":"IF(NOT(ISBLANK(ShareOfSearch_SERPS!G337)),ShareOfSearch_SERPS!G337,\"\")","v":"http://smallseotools.com/plagiarism-checker/"},{"$f":"IF(NOT(ISBLANK(ShareOfSearch_SERPS!K337)),ShareOfSearch_SERPS!K337,\"\")","v":"smallseotools.com"},{"$f":"IFERROR(VLOOKUP(C337,ShareOfSearch_CTR!$A$1:$B$100,2,FALSE)*VLOOKUP(A337&B337,ShareOfSearch_Volume!$C$1:$D$1000,2,FALSE),\"\")","v":369.46800000000002}]
[{"$f":"IF(ISTEXT(ShareOfSearch_SERPS!C338),ShareOfSearch_SERPS!C338,\"\")","v":"seo check"},{"$f":"IF(ISTEXT(ShareOfSearch_SERPS!D338),ShareOfSearch_SERPS!D338,\"\")","v":"co.uk"},{"$f":"IF(NOT(ISBLANK(ShareOfSearch_SERPS!A338)),ShareOfSearch_SERPS!A338,\"\")","v":17},{"$f":"IF(NOT(ISBLANK(ShareOfSearch_SERPS!G338)),ShareOfSearch_SERPS!G338,\"\")","v":"http://www.screamingfrog.co.uk/seo-spider/"},{"$f":"IF(NOT(ISBLANK(ShareOfSearch_SERPS!K338)),ShareOfSearch_SERPS!K338,\"\")","v":"screamingfrog.co.uk"},{"$f":"IFERROR(VLOOKUP(C338,ShareOfSearch_CTR!$A$1:$B$100,2,FALSE)*VLOOKUP(A338&B338,ShareOfSearch_Volume!$C$1:$D$1000,2,FALSE),\"\")","v":431.04599999999999}]
[{"$f":"IF(ISTEXT(ShareOfSearch_SERPS!C339),ShareOfSearch_SERPS!C339,\"\")","v":"seo check"},{"$f":"IF(ISTEXT(ShareOfSearch_SERPS!D339),ShareOfSearch_SERPS!D339,\"\")","v":"co.uk"},{"$f":"IF(NOT(ISBLANK(ShareOfSearch_SERPS!A339)),ShareOfSearch_SERPS!A339,\"\")","v":18},{"$f":"IF(NOT(ISBLANK(ShareOfSearch_SERPS!G339)),ShareOfSearch_SERPS!G339,\"\")","v":"http://www.feedthebot.com/tools/alt/"},{"$f":"IF(NOT(ISBLANK(ShareOfSearch_SERPS!K339)),ShareOfSearch_SERPS!K339,\"\")","v":"feedthebot.com"},{"$f":"IFERROR(VLOOKUP(C339,ShareOfSearch_CTR!$A$1:$B$100,2,FALSE)*VLOOKUP(A339&B339,ShareOfSearch_Volume!$C$1:$D$1000,2,FALSE),\"\")","v":400.25700000000001}]
[{"$f":"IF(ISTEXT(ShareOfSearch_SERPS!C340),ShareOfSearch_SERPS!C340,\"\")","v":"seo check"},{"$f":"IF(ISTEXT(ShareOfSearch_SERPS!D340),ShareOfSearch_SERPS!D340,\"\")","v":"co.uk"},{"$f":"IF(NOT(ISBLANK(ShareOfSearch_SERPS!A340)),ShareOfSearch_SERPS!A340,\"\")","v":19},{"$f":"IF(NOT(ISBLANK(ShareOfSearch_SERPS!G340)),ShareOfSearch_SERPS!G340,\"\")","v":"http://moz.com/tools"},{"$f":"IF(NOT(ISBLANK(ShareOfSearch_SERPS!K340)),ShareOfSearch_SERPS!K340,\"\")","v":"moz.com"},{"$f":"IFERROR(VLOOKUP(C340,ShareOfSearch_CTR!$A$1:$B$100,2,FALSE)*VLOOKUP(A340&B340,ShareOfSearch_Volume!$C$1:$D$1000,2,FALSE),\"\")","v":431.04599999999999}]
[{"$f":"IF(ISTEXT(ShareOfSearch_SERPS!C341),ShareOfSearch_SERPS!C341,\"\")","v":"seo check"},{"$f":"IF(ISTEXT(ShareOfSearch_SERPS!D341),ShareOfSearch_SERPS!D341,\"\")","v":"co.uk"},{"$f":"IF(NOT(ISBLANK(ShareOfSearch_SERPS!A341)),ShareOfSearch_SERPS!A341,\"\")","v":20},{"$f":"IF(NOT(ISBLANK(ShareOfSearch_SERPS!G341)),ShareOfSearch_SERPS!G341,\"\")","v":"https://ahrefs.com/"},{"$f":"IF(NOT(ISBLANK(ShareOfSearch_SERPS!K341)),ShareOfSearch_SERPS!K341,\"\")","v":"ahrefs.com"},{"$f":"IFERROR(VLOOKUP(C341,ShareOfSearch_CTR!$A$1:$B$100,2,FALSE)*VLOOKUP(A341&B341,ShareOfSearch_Volume!$C$1:$D$1000,2,FALSE),\"\")","v":431.04599999999999}]
[{"$f":"IF(ISTEXT(ShareOfSearch_SERPS!C342),ShareOfSearch_SERPS!C342,\"\")","v":"seo sem"},{"$f":"IF(ISTEXT(ShareOfSearch_SERPS!D342),ShareOfSearch_SERPS!D342,\"\")","v":"co.uk"},{"$f":"IF(NOT(ISBLANK(ShareOfSearch_SERPS!A342)),ShareOfSearch_SERPS!A342,\"\")","v":1},{"$f":"IF(NOT(ISBLANK(ShareOfSearch_SERPS!G342)),ShareOfSearch_SERPS!G342,\"\")","v":"http://en.wikipedia.org/wiki/Search_engine_marketing"},{"$f":"IF(NOT(ISBLANK(ShareOfSearch_SERPS!K342)),ShareOfSearch_SERPS!K342,\"\")","v":"wikipedia.org"},{"$f":"IFERROR(VLOOKUP(C342,ShareOfSearch_CTR!$A$1:$B$100,2,FALSE)*VLOOKUP(A342&B342,ShareOfSearch_Volume!$C$1:$D$1000,2,FALSE),\"\")","v":10522.512000000001}]
[{"$f":"IF(ISTEXT(ShareOfSearch_SERPS!C343),ShareOfSearch_SERPS!C343,\"\")","v":"seo sem"},{"$f":"IF(ISTEXT(ShareOfSearch_SERPS!D343),ShareOfSearch_SERPS!D343,\"\")","v":"co.uk"},{"$f":"IF(NOT(ISBLANK(ShareOfSearch_SERPS!A343)),ShareOfSearch_SERPS!A343,\"\")","v":2},{"$f":"IF(NOT(ISBLANK(ShareOfSearch_SERPS!G343)),ShareOfSearch_SERPS!G343,\"\")","v":"http://www.webopedia.com/DidYouKnow/Internet/the-difference-between-sem-and-seo.html"},{"$f":"IF(NOT(ISBLANK(ShareOfSearch_SERPS!K343)),ShareOfSearch_SERPS!K343,\"\")","v":"webopedia.com"},{"$f":"IFERROR(VLOOKUP(C343,ShareOfSearch_CTR!$A$1:$B$100,2,FALSE)*VLOOKUP(A343&B343,ShareOfSearch_Volume!$C$1:$D$1000,2,FALSE),\"\")","v":3613.5}]
[{"$f":"IF(ISTEXT(ShareOfSearch_SERPS!C344),ShareOfSearch_SERPS!C344,\"\")","v":"seo sem"},{"$f":"IF(ISTEXT(ShareOfSearch_SERPS!D344),ShareOfSearch_SERPS!D344,\"\")","v":"co.uk"},{"$f":"IF(NOT(ISBLANK(ShareOfSearch_SERPS!A344)),ShareOfSearch_SERPS!A344,\"\")","v":3},{"$f":"IF(NOT(ISBLANK(ShareOfSearch_SERPS!G344)),ShareOfSearch_SERPS!G344,\"\")","v":"http://www.raisemyrank.com/articles/seo-sem.htm"},{"$f":"IF(NOT(ISBLANK(ShareOfSearch_SERPS!K344)),ShareOfSearch_SERPS!K344,\"\")","v":"raisemyrank.com"},{"$f":"IFERROR(VLOOKUP(C344,ShareOfSearch_CTR!$A$1:$B$100,2,FALSE)*VLOOKUP(A344&B344,ShareOfSearch_Volume!$C$1:$D$1000,2,FALSE),\"\")","v":2746.26}]
[{"$f":"IF(ISTEXT(ShareOfSearch_SERPS!C345),ShareOfSearch_SERPS!C345,\"\")","v":"seo sem"},{"$f":"IF(ISTEXT(ShareOfSearch_SERPS!D345),ShareOfSearch_SERPS!D345,\"\")","v":"co.uk"},{"$f":"IF(NOT(ISBLANK(ShareOfSearch_SERPS!A345)),ShareOfSearch_SERPS!A345,\"\")","v":4},{"$f":"IF(NOT(ISBLANK(ShareOfSearch_SERPS!G345)),ShareOfSearch_SERPS!G345,\"\")","v":"http://www.weidert.com/whole_brain_marketing_blog/bid/115490/What-Exactly-is-the-Difference-Between-SEO-SEM"},{"$f":"IF(NOT(ISBLANK(ShareOfSearch_SERPS!K345)),ShareOfSearch_SERPS!K345,\"\")","v":"weidert.com"},{"$f":"IFERROR(VLOOKUP(C345,ShareOfSearch_CTR!$A$1:$B$100,2,FALSE)*VLOOKUP(A345&B345,ShareOfSearch_Volume!$C$1:$D$1000,2,FALSE),\"\")","v":2283.732}]
[{"$f":"IF(ISTEXT(ShareOfSearch_SERPS!C346),ShareOfSearch_SERPS!C346,\"\")","v":"seo sem"},{"$f":"IF(ISTEXT(ShareOfSearch_SERPS!D346),ShareOfSearch_SERPS!D346,\"\")","v":"co.uk"},{"$f":"IF(NOT(ISBLANK(ShareOfSearch_SERPS!A346)),ShareOfSearch_SERPS!A346,\"\")","v":5},{"$f":"IF(NOT(ISBLANK(ShareOfSearch_SERPS!G346)),ShareOfSearch_SERPS!G346,\"\")","v":"https://www.reliablesoft.net/what-is-the-difference-between-seo-and-sem/"},{"$f":"IF(NOT(ISBLANK(ShareOfSearch_SERPS!K346)),ShareOfSearch_SERPS!K346,\"\")","v":"reliablesoft.net"},{"$f":"IFERROR(VLOOKUP(C346,ShareOfSearch_CTR!$A$1:$B$100,2,FALSE)*VLOOKUP(A346&B346,ShareOfSearch_Volume!$C$1:$D$1000,2,FALSE),\"\")","v":1763.3879999999999}]
[{"$f":"IF(ISTEXT(ShareOfSearch_SERPS!C347),ShareOfSearch_SERPS!C347,\"\")","v":"seo sem"},{"$f":"IF(ISTEXT(ShareOfSearch_SERPS!D347),ShareOfSearch_SERPS!D347,\"\")","v":"co.uk"},{"$f":"IF(NOT(ISBLANK(ShareOfSearch_SERPS!A347)),ShareOfSearch_SERPS!A347,\"\")","v":6},{"$f":"IF(NOT(ISBLANK(ShareOfSearch_SERPS!G347)),ShareOfSearch_SERPS!G347,\"\")","v":"http://envoc.com/think/what-is-seo-sem-and-crm"},{"$f":"IF(NOT(ISBLANK(ShareOfSearch_SERPS!K347)),ShareOfSearch_SERPS!K347,\"\")","v":"envoc.com"},{"$f":"IFERROR(VLOOKUP(C347,ShareOfSearch_CTR!$A$1:$B$100,2,FALSE)*VLOOKUP(A347&B347,ShareOfSearch_Volume!$C$1:$D$1000,2,FALSE),\"\")","v":1185.2280000000001}]
[{"$f":"IF(ISTEXT(ShareOfSearch_SERPS!C348),ShareOfSearch_SERPS!C348,\"\")","v":"seo sem"},{"$f":"IF(ISTEXT(ShareOfSearch_SERPS!D348),ShareOfSearch_SERPS!D348,\"\")","v":"co.uk"},{"$f":"IF(NOT(ISBLANK(ShareOfSearch_SERPS!A348)),ShareOfSearch_SERPS!A348,\"\")","v":7},{"$f":"IF(NOT(ISBLANK(ShareOfSearch_SERPS!G348)),ShareOfSearch_SERPS!G348,\"\")","v":"http://www.bruceclay.com/blog/what-is-sem/"},{"$f":"IF(NOT(ISBLANK(ShareOfSearch_SERPS!K348)),ShareOfSearch_SERPS!K348,\"\")","v":"bruceclay.com"},{"$f":"IFERROR(VLOOKUP(C348,ShareOfSearch_CTR!$A$1:$B$100,2,FALSE)*VLOOKUP(A348&B348,ShareOfSearch_Volume!$C$1:$D$1000,2,FALSE),\"\")","v":1098.5039999999999}]
[{"$f":"IF(ISTEXT(ShareOfSearch_SERPS!C349),ShareOfSearch_SERPS!C349,\"\")","v":"seo sem"},{"$f":"IF(ISTEXT(ShareOfSearch_SERPS!D349),ShareOfSearch_SERPS!D349,\"\")","v":"co.uk"},{"$f":"IF(NOT(ISBLANK(ShareOfSearch_SERPS!A349)),ShareOfSearch_SERPS!A349,\"\")","v":8},{"$f":"IF(NOT(ISBLANK(ShareOfSearch_SERPS!G349)),ShareOfSearch_SERPS!G349,\"\")","v":"http://www.visualscope.com/seo-sem.html"},{"$f":"IF(NOT(ISBLANK(ShareOfSearch_SERPS!K349)),ShareOfSearch_SERPS!K349,\"\")","v":"visualscope.com"},{"$f":"IFERROR(VLOOKUP(C349,ShareOfSearch_CTR!$A$1:$B$100,2,FALSE)*VLOOKUP(A349&B349,ShareOfSearch_Volume!$C$1:$D$1000,2,FALSE),\"\")","v":1011.7800000000001}]
[{"$f":"IF(ISTEXT(ShareOfSearch_SERPS!C350),ShareOfSearch_SERPS!C350,\"\")","v":"seo sem"},{"$f":"IF(ISTEXT(ShareOfSearch_SERPS!D350),ShareOfSearch_SERPS!D350,\"\")","v":"co.uk"},{"$f":"IF(NOT(ISBLANK(ShareOfSearch_SERPS!A350)),ShareOfSearch_SERPS!A350,\"\")","v":9},{"$f":"IF(NOT(ISBLANK(ShareOfSearch_SERPS!G350)),ShareOfSearch_SERPS!G350,\"\")","v":"http://www.strategic-ranking.com/seovssem.htm"},{"$f":"IF(NOT(ISBLANK(ShareOfSearch_SERPS!K350)),ShareOfSearch_SERPS!K350,\"\")","v":"strategic-ranking.com"},{"$f":"IFERROR(VLOOKUP(C350,ShareOfSearch_CTR!$A$1:$B$100,2,FALSE)*VLOOKUP(A350&B350,ShareOfSearch_Volume!$C$1:$D$1000,2,FALSE),\"\")","v":867.24}]
[{"$f":"IF(ISTEXT(ShareOfSearch_SERPS!C351),ShareOfSearch_SERPS!C351,\"\")","v":"seo sem"},{"$f":"IF(ISTEXT(ShareOfSearch_SERPS!D351),ShareOfSearch_SERPS!D351,\"\")","v":"co.uk"},{"$f":"IF(NOT(ISBLANK(ShareOfSearch_SERPS!A351)),ShareOfSearch_SERPS!A351,\"\")","v":10},{"$f":"IF(NOT(ISBLANK(ShareOfSearch_SERPS!G351)),ShareOfSearch_SERPS!G351,\"\")","v":"http://searchenginewatch.com/page/glossary"},{"$f":"IF(NOT(ISBLANK(ShareOfSearch_SERPS!K351)),ShareOfSearch_SERPS!K351,\"\")","v":"searchenginewatch.com"},{"$f":"IFERROR(VLOOKUP(C351,ShareOfSearch_CTR!$A$1:$B$100,2,FALSE)*VLOOKUP(A351&B351,ShareOfSearch_Volume!$C$1:$D$1000,2,FALSE),\"\")","v":635.976}]
[{"$f":"IF(ISTEXT(ShareOfSearch_SERPS!C352),ShareOfSearch_SERPS!C352,\"\")","v":"seo sem"},{"$f":"IF(ISTEXT(ShareOfSearch_SERPS!D352),ShareOfSearch_SERPS!D352,\"\")","v":"co.uk"},{"$f":"IF(NOT(ISBLANK(ShareOfSearch_SERPS!A352)),ShareOfSearch_SERPS!A352,\"\")","v":11},{"$f":"IF(NOT(ISBLANK(ShareOfSearch_SERPS!G352)),ShareOfSearch_SERPS!G352,\"\")","v":"http://ecommerce.about.com/od/Ecommerce-SEO/a/Seo-Vs-Sem.htm"},{"$f":"IF(NOT(ISBLANK(ShareOfSearch_SERPS!K352)),ShareOfSearch_SERPS!K352,\"\")","v":"about.com"},{"$f":"IFERROR(VLOOKUP(C352,ShareOfSearch_CTR!$A$1:$B$100,2,FALSE)*VLOOKUP(A352&B352,ShareOfSearch_Volume!$C$1:$D$1000,2,FALSE),\"\")","v":751.60799999999995}]
[{"$f":"IF(ISTEXT(ShareOfSearch_SERPS!C353),ShareOfSearch_SERPS!C353,\"\")","v":"seo sem"},{"$f":"IF(ISTEXT(ShareOfSearch_SERPS!D353),ShareOfSearch_SERPS!D353,\"\")","v":"co.uk"},{"$f":"IF(NOT(ISBLANK(ShareOfSearch_SERPS!A353)),ShareOfSearch_SERPS!A353,\"\")","v":12},{"$f":"IF(NOT(ISBLANK(ShareOfSearch_SERPS!G353)),ShareOfSearch_SERPS!G353,\"\")","v":"http://blog.hubspot.com/insiders/seo-sem-faqs"},{"$f":"IF(NOT(ISBLANK(ShareOfSearch_SERPS!K353)),ShareOfSearch_SERPS!K353,\"\")","v":"hubspot.com"},{"$f":"IFERROR(VLOOKUP(C353,ShareOfSearch_CTR!$A$1:$B$100,2,FALSE)*VLOOKUP(A353&B353,ShareOfSearch_Volume!$C$1:$D$1000,2,FALSE),\"\")","v":433.62}]
[{"$f":"IF(ISTEXT(ShareOfSearch_SERPS!C354),ShareOfSearch_SERPS!C354,\"\")","v":"seo sem"},{"$f":"IF(ISTEXT(ShareOfSearch_SERPS!D354),ShareOfSearch_SERPS!D354,\"\")","v":"co.uk"},{"$f":"IF(NOT(ISBLANK(ShareOfSearch_SERPS!A354)),ShareOfSearch_SERPS!A354,\"\")","v":13},{"$f":"IF(NOT(ISBLANK(ShareOfSearch_SERPS!G354)),ShareOfSearch_SERPS!G354,\"\")","v":"http://www.buuteeq.com/blog/seo-vs-sem-an-infographic/"},{"$f":"IF(NOT(ISBLANK(ShareOfSearch_SERPS!K354)),ShareOfSearch_SERPS!K354,\"\")","v":"buuteeq.com"},{"$f":"IFERROR(VLOOKUP(C354,ShareOfSearch_CTR!$A$1:$B$100,2,FALSE)*VLOOKUP(A354&B354,ShareOfSearch_Volume!$C$1:$D$1000,2,FALSE),\"\")","v":375.80399999999997}]
[{"$f":"IF(ISTEXT(ShareOfSearch_SERPS!C355),ShareOfSearch_SERPS!C355,\"\")","v":"seo sem"},{"$f":"IF(ISTEXT(ShareOfSearch_SERPS!D355),ShareOfSearch_SERPS!D355,\"\")","v":"co.uk"},{"$f":"IF(NOT(ISBLANK(ShareOfSearch_SERPS!A355)),ShareOfSearch_SERPS!A355,\"\")","v":14},{"$f":"IF(NOT(ISBLANK(ShareOfSearch_SERPS!G355)),ShareOfSearch_SERPS!G355,\"\")","v":"http://mashable.com/2011/06/27/seo-sem-tips/"},{"$f":"IF(NOT(ISBLANK(ShareOfSearch_SERPS!K355)),ShareOfSearch_SERPS!K355,\"\")","v":"mashable.com"},{"$f":"IFERROR(VLOOKUP(C355,ShareOfSearch_CTR!$A$1:$B$100,2,FALSE)*VLOOKUP(A355&B355,ShareOfSearch_Volume!$C$1:$D$1000,2,FALSE),\"\")","v":317.988}]
[{"$f":"IF(ISTEXT(ShareOfSearch_SERPS!C356),ShareOfSearch_SERPS!C356,\"\")","v":"seo sem"},{"$f":"IF(ISTEXT(ShareOfSearch_SERPS!D356),ShareOfSearch_SERPS!D356,\"\")","v":"co.uk"},{"$f":"IF(NOT(ISBLANK(ShareOfSearch_SERPS!A356)),ShareOfSearch_SERPS!A356,\"\")","v":15},{"$f":"IF(NOT(ISBLANK(ShareOfSearch_SERPS!G356)),ShareOfSearch_SERPS!G356,\"\")","v":"http://searchengineland.com/guide/what-is-sem"},{"$f":"IF(NOT(ISBLANK(ShareOfSearch_SERPS!K356)),ShareOfSearch_SERPS!K356,\"\")","v":"searchengineland.com"},{"$f":"IFERROR(VLOOKUP(C356,ShareOfSearch_CTR!$A$1:$B$100,2,FALSE)*VLOOKUP(A356&B356,ShareOfSearch_Volume!$C$1:$D$1000,2,FALSE),\"\")","v":346.89600000000002}]
[{"$f":"IF(ISTEXT(ShareOfSearch_SERPS!C357),ShareOfSearch_SERPS!C357,\"\")","v":"seo sem"},{"$f":"IF(ISTEXT(ShareOfSearch_SERPS!D357),ShareOfSearch_SERPS!D357,\"\")","v":"co.uk"},{"$f":"IF(NOT(ISBLANK(ShareOfSearch_SERPS!A357)),ShareOfSearch_SERPS!A357,\"\")","v":16},{"$f":"IF(NOT(ISBLANK(ShareOfSearch_SERPS!G357)),ShareOfSearch_SERPS!G357,\"\")","v":"http://searchengineland.com/does-sem-seo-cpc-still-add-up-37297"},{"$f":"IF(NOT(ISBLANK(ShareOfSearch_SERPS!K357)),ShareOfSearch_SERPS!K357,\"\")","v":"searchengineland.com"},{"$f":"IFERROR(VLOOKUP(C357,ShareOfSearch_CTR!$A$1:$B$100,2,FALSE)*VLOOKUP(A357&B357,ShareOfSearch_Volume!$C$1:$D$1000,2,FALSE),\"\")","v":346.89600000000002}]
[{"$f":"IF(ISTEXT(ShareOfSearch_SERPS!C358),ShareOfSearch_SERPS!C358,\"\")","v":"seo sem"},{"$f":"IF(ISTEXT(ShareOfSearch_SERPS!D358),ShareOfSearch_SERPS!D358,\"\")","v":"co.uk"},{"$f":"IF(NOT(ISBLANK(ShareOfSearch_SERPS!A358)),ShareOfSearch_SERPS!A358,\"\")","v":17},{"$f":"IF(NOT(ISBLANK(ShareOfSearch_SERPS!G358)),ShareOfSearch_SERPS!G358,\"\")","v":"http://searchengineland.com/library/channel/mobile"},{"$f":"IF(NOT(ISBLANK(ShareOfSearch_SERPS!K358)),ShareOfSearch_SERPS!K358,\"\")","v":"searchengineland.com"},{"$f":"IFERROR(VLOOKUP(C358,ShareOfSearch_CTR!$A$1:$B$100,2,FALSE)*VLOOKUP(A358&B358,ShareOfSearch_Volume!$C$1:$D$1000,2,FALSE),\"\")","v":404.71199999999999}]
[{"$f":"IF(ISTEXT(ShareOfSearch_SERPS!C359),ShareOfSearch_SERPS!C359,\"\")","v":"seo sem"},{"$f":"IF(ISTEXT(ShareOfSearch_SERPS!D359),ShareOfSearch_SERPS!D359,\"\")","v":"co.uk"},{"$f":"IF(NOT(ISBLANK(ShareOfSearch_SERPS!A359)),ShareOfSearch_SERPS!A359,\"\")","v":18},{"$f":"IF(NOT(ISBLANK(ShareOfSearch_SERPS!G359)),ShareOfSearch_SERPS!G359,\"\")","v":"http://www.staples.com/sbd/cre/tech-services/explore-tips-and-advice/easytech-u/paid-natural-search/seo-vs-sem-the-differences-between-natural-paid-search-5.html"},{"$f":"IF(NOT(ISBLANK(ShareOfSearch_SERPS!K359)),ShareOfSearch_SERPS!K359,\"\")","v":"staples.com"},{"$f":"IFERROR(VLOOKUP(C359,ShareOfSearch_CTR!$A$1:$B$100,2,FALSE)*VLOOKUP(A359&B359,ShareOfSearch_Volume!$C$1:$D$1000,2,FALSE),\"\")","v":375.80399999999997}]
[{"$f":"IF(ISTEXT(ShareOfSearch_SERPS!C360),ShareOfSearch_SERPS!C360,\"\")","v":"seo sem"},{"$f":"IF(ISTEXT(ShareOfSearch_SERPS!D360),ShareOfSearch_SERPS!D360,\"\")","v":"co.uk"},{"$f":"IF(NOT(ISBLANK(ShareOfSearch_SERPS!A360)),ShareOfSearch_SERPS!A360,\"\")","v":19},{"$f":"IF(NOT(ISBLANK(ShareOfSearch_SERPS!G360)),ShareOfSearch_SERPS!G360,\"\")","v":"http://www.dealerspan.com/themes/corp/tpl/content/services/SEO_Learning_Center.pdf"},{"$f":"IF(NOT(ISBLANK(ShareOfSearch_SERPS!K360)),ShareOfSearch_SERPS!K360,\"\")","v":"dealerspan.com"},{"$f":"IFERROR(VLOOKUP(C360,ShareOfSearch_CTR!$A$1:$B$100,2,FALSE)*VLOOKUP(A360&B360,ShareOfSearch_Volume!$C$1:$D$1000,2,FALSE),\"\")","v":404.71199999999999}]
[{"$f":"IF(ISTEXT(ShareOfSearch_SERPS!C361),ShareOfSearch_SERPS!C361,\"\")","v":"seo sem"},{"$f":"IF(ISTEXT(ShareOfSearch_SERPS!D361),ShareOfSearch_SERPS!D361,\"\")","v":"co.uk"},{"$f":"IF(NOT(ISBLANK(ShareOfSearch_SERPS!A361)),ShareOfSearch_SERPS!A361,\"\")","v":20},{"$f":"IF(NOT(ISBLANK(ShareOfSearch_SERPS!G361)),ShareOfSearch_SERPS!G361,\"\")","v":"http://www.socialmediatoday.com/content/seo-vs-sem-no-theyre-not-twins"},{"$f":"IF(NOT(ISBLANK(ShareOfSearch_SERPS!K361)),ShareOfSearch_SERPS!K361,\"\")","v":"socialmediatoday.com"},{"$f":"IFERROR(VLOOKUP(C361,ShareOfSearch_CTR!$A$1:$B$100,2,FALSE)*VLOOKUP(A361&B361,ShareOfSearch_Volume!$C$1:$D$1000,2,FALSE),\"\")","v":404.71199999999999}]
[{"$f":"IF(ISTEXT(ShareOfSearch_SERPS!C362),ShareOfSearch_SERPS!C362,\"\")","v":"website optimization"},{"$f":"IF(ISTEXT(ShareOfSearch_SERPS!D362),ShareOfSearch_SERPS!D362,\"\")","v":"co.uk"},{"$f":"IF(NOT(ISBLANK(ShareOfSearch_SERPS!A362)),ShareOfSearch_SERPS!A362,\"\")","v":1},{"$f":"IF(NOT(ISBLANK(ShareOfSearch_SERPS!G362)),ShareOfSearch_SERPS!G362,\"\")","v":"http://shop.oreilly.com/product/9780596515089.do"},{"$f":"IF(NOT(ISBLANK(ShareOfSearch_SERPS!K362)),ShareOfSearch_SERPS!K362,\"\")","v":"oreilly.com"},{"$f":"IFERROR(VLOOKUP(C362,ShareOfSearch_CTR!$A$1:$B$100,2,FALSE)*VLOOKUP(A362&B362,ShareOfSearch_Volume!$C$1:$D$1000,2,FALSE),\"\")","v":10175.984}]
[{"$f":"IF(ISTEXT(ShareOfSearch_SERPS!C363),ShareOfSearch_SERPS!C363,\"\")","v":"website optimization"},{"$f":"IF(ISTEXT(ShareOfSearch_SERPS!D363),ShareOfSearch_SERPS!D363,\"\")","v":"co.uk"},{"$f":"IF(NOT(ISBLANK(ShareOfSearch_SERPS!A363)),ShareOfSearch_SERPS!A363,\"\")","v":2},{"$f":"IF(NOT(ISBLANK(ShareOfSearch_SERPS!G363)),ShareOfSearch_SERPS!G363,\"\")","v":"http://www.websiteoptimization.com/services/analyze/"},{"$f":"IF(NOT(ISBLANK(ShareOfSearch_SERPS!K363)),ShareOfSearch_SERPS!K363,\"\")","v":"websiteoptimization.com"},{"$f":"IFERROR(VLOOKUP(C363,ShareOfSearch_CTR!$A$1:$B$100,2,FALSE)*VLOOKUP(A363&B363,ShareOfSearch_Volume!$C$1:$D$1000,2,FALSE),\"\")","v":3494.5}]
[{"$f":"IF(ISTEXT(ShareOfSearch_SERPS!C364),ShareOfSearch_SERPS!C364,\"\")","v":"website optimization"},{"$f":"IF(ISTEXT(ShareOfSearch_SERPS!D364),ShareOfSearch_SERPS!D364,\"\")","v":"co.uk"},{"$f":"IF(NOT(ISBLANK(ShareOfSearch_SERPS!A364)),ShareOfSearch_SERPS!A364,\"\")","v":3},{"$f":"IF(NOT(ISBLANK(ShareOfSearch_SERPS!G364)),ShareOfSearch_SERPS!G364,\"\")","v":"http://www.websiteoptimization.com/"},{"$f":"IF(NOT(ISBLANK(ShareOfSearch_SERPS!K364)),ShareOfSearch_SERPS!K364,\"\")","v":"websiteoptimization.com"},{"$f":"IFERROR(VLOOKUP(C364,ShareOfSearch_CTR!$A$1:$B$100,2,FALSE)*VLOOKUP(A364&B364,ShareOfSearch_Volume!$C$1:$D$1000,2,FALSE),\"\")","v":2655.82}]
[{"$f":"IF(ISTEXT(ShareOfSearch_SERPS!C365),ShareOfSearch_SERPS!C365,\"\")","v":"website optimization"},{"$f":"IF(ISTEXT(ShareOfSearch_SERPS!D365),ShareOfSearch_SERPS!D365,\"\")","v":"co.uk"},{"$f":"IF(NOT(ISBLANK(ShareOfSearch_SERPS!A365)),ShareOfSearch_SERPS!A365,\"\")","v":4},{"$f":"IF(NOT(ISBLANK(ShareOfSearch_SERPS!G365)),ShareOfSearch_SERPS!G365,\"\")","v":"http://en.wikipedia.org/wiki/Search_engine_optimization"},{"$f":"IF(NOT(ISBLANK(ShareOfSearch_SERPS!K365)),ShareOfSearch_SERPS!K365,\"\")","v":"wikipedia.org"},{"$f":"IFERROR(VLOOKUP(C365,ShareOfSearch_CTR!$A$1:$B$100,2,FALSE)*VLOOKUP(A365&B365,ShareOfSearch_Volume!$C$1:$D$1000,2,FALSE),\"\")","v":2208.5239999999999}]
[{"$f":"IF(ISTEXT(ShareOfSearch_SERPS!C366),ShareOfSearch_SERPS!C366,\"\")","v":"website optimization"},{"$f":"IF(ISTEXT(ShareOfSearch_SERPS!D366),ShareOfSearch_SERPS!D366,\"\")","v":"co.uk"},{"$f":"IF(NOT(ISBLANK(ShareOfSearch_SERPS!A366)),ShareOfSearch_SERPS!A366,\"\")","v":5},{"$f":"IF(NOT(ISBLANK(ShareOfSearch_SERPS!G366)),ShareOfSearch_SERPS!G366,\"\")","v":"http://searchenginewatch.com/article/2259693/SEO-Basics-8-Essentials-When-Optimizing-Your-Site"},{"$f":"IF(NOT(ISBLANK(ShareOfSearch_SERPS!K366)),ShareOfSearch_SERPS!K366,\"\")","v":"searchenginewatch.com"},{"$f":"IFERROR(VLOOKUP(C366,ShareOfSearch_CTR!$A$1:$B$100,2,FALSE)*VLOOKUP(A366&B366,ShareOfSearch_Volume!$C$1:$D$1000,2,FALSE),\"\")","v":1705.316}]
[{"$f":"IF(ISTEXT(ShareOfSearch_SERPS!C367),ShareOfSearch_SERPS!C367,\"\")","v":"website optimization"},{"$f":"IF(ISTEXT(ShareOfSearch_SERPS!D367),ShareOfSearch_SERPS!D367,\"\")","v":"co.uk"},{"$f":"IF(NOT(ISBLANK(ShareOfSearch_SERPS!A367)),ShareOfSearch_SERPS!A367,\"\")","v":6},{"$f":"IF(NOT(ISBLANK(ShareOfSearch_SERPS!G367)),ShareOfSearch_SERPS!G367,\"\")","v":"http://www.wikihow.com/Optimize-Your-Website"},{"$f":"IF(NOT(ISBLANK(ShareOfSearch_SERPS!K367)),ShareOfSearch_SERPS!K367,\"\")","v":"wikihow.com"},{"$f":"IFERROR(VLOOKUP(C367,ShareOfSearch_CTR!$A$1:$B$100,2,FALSE)*VLOOKUP(A367&B367,ShareOfSearch_Volume!$C$1:$D$1000,2,FALSE),\"\")","v":1146.1960000000001}]
[{"$f":"IF(ISTEXT(ShareOfSearch_SERPS!C368),ShareOfSearch_SERPS!C368,\"\")","v":"website optimization"},{"$f":"IF(ISTEXT(ShareOfSearch_SERPS!D368),ShareOfSearch_SERPS!D368,\"\")","v":"co.uk"},{"$f":"IF(NOT(ISBLANK(ShareOfSearch_SERPS!A368)),ShareOfSearch_SERPS!A368,\"\")","v":7},{"$f":"IF(NOT(ISBLANK(ShareOfSearch_SERPS!G368)),ShareOfSearch_SERPS!G368,\"\")","v":"http://gtmetrix.com/"},{"$f":"IF(NOT(ISBLANK(ShareOfSearch_SERPS!K368)),ShareOfSearch_SERPS!K368,\"\")","v":"gtmetrix.com"},{"$f":"IFERROR(VLOOKUP(C368,ShareOfSearch_CTR!$A$1:$B$100,2,FALSE)*VLOOKUP(A368&B368,ShareOfSearch_Volume!$C$1:$D$1000,2,FALSE),\"\")","v":1062.328}]
[{"$f":"IF(ISTEXT(ShareOfSearch_SERPS!C369),ShareOfSearch_SERPS!C369,\"\")","v":"website optimization"},{"$f":"IF(ISTEXT(ShareOfSearch_SERPS!D369),ShareOfSearch_SERPS!D369,\"\")","v":"co.uk"},{"$f":"IF(NOT(ISBLANK(ShareOfSearch_SERPS!A369)),ShareOfSearch_SERPS!A369,\"\")","v":8},{"$f":"IF(NOT(ISBLANK(ShareOfSearch_SERPS!G369)),ShareOfSearch_SERPS!G369,\"\")","v":"http://www.google.co.uk/webmasters/docs/search-engine-optimization-starter-guide.pdf"},{"$f":"IF(NOT(ISBLANK(ShareOfSearch_SERPS!K369)),ShareOfSearch_SERPS!K369,\"\")","v":"google.co.uk"},{"$f":"IFERROR(VLOOKUP(C369,ShareOfSearch_CTR!$A$1:$B$100,2,FALSE)*VLOOKUP(A369&B369,ShareOfSearch_Volume!$C$1:$D$1000,2,FALSE),\"\")","v":978.46}]
[{"$f":"IF(ISTEXT(ShareOfSearch_SERPS!C370),ShareOfSearch_SERPS!C370,\"\")","v":"website optimization"},{"$f":"IF(ISTEXT(ShareOfSearch_SERPS!D370),ShareOfSearch_SERPS!D370,\"\")","v":"co.uk"},{"$f":"IF(NOT(ISBLANK(ShareOfSearch_SERPS!A370)),ShareOfSearch_SERPS!A370,\"\")","v":9},{"$f":"IF(NOT(ISBLANK(ShareOfSearch_SERPS!G370)),ShareOfSearch_SERPS!G370,\"\")","v":"http://www.webpagetest.org/"},{"$f":"IF(NOT(ISBLANK(ShareOfSearch_SERPS!K370)),ShareOfSearch_SERPS!K370,\"\")","v":"webpagetest.org"},{"$f":"IFERROR(VLOOKUP(C370,ShareOfSearch_CTR!$A$1:$B$100,2,FALSE)*VLOOKUP(A370&B370,ShareOfSearch_Volume!$C$1:$D$1000,2,FALSE),\"\")","v":838.68}]
[{"$f":"IF(ISTEXT(ShareOfSearch_SERPS!C371),ShareOfSearch_SERPS!C371,\"\")","v":"website optimization"},{"$f":"IF(ISTEXT(ShareOfSearch_SERPS!D371),ShareOfSearch_SERPS!D371,\"\")","v":"co.uk"},{"$f":"IF(NOT(ISBLANK(ShareOfSearch_SERPS!A371)),ShareOfSearch_SERPS!A371,\"\")","v":10},{"$f":"IF(NOT(ISBLANK(ShareOfSearch_SERPS!G371)),ShareOfSearch_SERPS!G371,\"\")","v":"http://www.webopedia.com/TERM/W/website-optimization.html"},{"$f":"IF(NOT(ISBLANK(ShareOfSearch_SERPS!K371)),ShareOfSearch_SERPS!K371,\"\")","v":"webopedia.com"},{"$f":"IFERROR(VLOOKUP(C371,ShareOfSearch_CTR!$A$1:$B$100,2,FALSE)*VLOOKUP(A371&B371,ShareOfSearch_Volume!$C$1:$D$1000,2,FALSE),\"\")","v":615.03199999999993}]
[{"$f":"IF(ISTEXT(ShareOfSearch_SERPS!C372),ShareOfSearch_SERPS!C372,\"\")","v":"website optimization"},{"$f":"IF(ISTEXT(ShareOfSearch_SERPS!D372),ShareOfSearch_SERPS!D372,\"\")","v":"co.uk"},{"$f":"IF(NOT(ISBLANK(ShareOfSearch_SERPS!A372)),ShareOfSearch_SERPS!A372,\"\")","v":11},{"$f":"IF(NOT(ISBLANK(ShareOfSearch_SERPS!G372)),ShareOfSearch_SERPS!G372,\"\")","v":"https://developers.google.com/speed/pagespeed/"},{"$f":"IF(NOT(ISBLANK(ShareOfSearch_SERPS!K372)),ShareOfSearch_SERPS!K372,\"\")","v":"google.com"},{"$f":"IFERROR(VLOOKUP(C372,ShareOfSearch_CTR!$A$1:$B$100,2,FALSE)*VLOOKUP(A372&B372,ShareOfSearch_Volume!$C$1:$D$1000,2,FALSE),\"\")","v":726.85599999999999}]
[{"$f":"IF(ISTEXT(ShareOfSearch_SERPS!C373),ShareOfSearch_SERPS!C373,\"\")","v":"website optimization"},{"$f":"IF(ISTEXT(ShareOfSearch_SERPS!D373),ShareOfSearch_SERPS!D373,\"\")","v":"co.uk"},{"$f":"IF(NOT(ISBLANK(ShareOfSearch_SERPS!A373)),ShareOfSearch_SERPS!A373,\"\")","v":12},{"$f":"IF(NOT(ISBLANK(ShareOfSearch_SERPS!G373)),ShareOfSearch_SERPS!G373,\"\")","v":"http://www.huffingtonpost.com/loolwa-khazzoom/three-steps-to-optimizing_b_4153411.html"},{"$f":"IF(NOT(ISBLANK(ShareOfSearch_SERPS!K373)),ShareOfSearch_SERPS!K373,\"\")","v":"huffingtonpost.com"},{"$f":"IFERROR(VLOOKUP(C373,ShareOfSearch_CTR!$A$1:$B$100,2,FALSE)*VLOOKUP(A373&B373,ShareOfSearch_Volume!$C$1:$D$1000,2,FALSE),\"\")","v":419.34}]
[{"$f":"IF(ISTEXT(ShareOfSearch_SERPS!C374),ShareOfSearch_SERPS!C374,\"\")","v":"website optimization"},{"$f":"IF(ISTEXT(ShareOfSearch_SERPS!D374),ShareOfSearch_SERPS!D374,\"\")","v":"co.uk"},{"$f":"IF(NOT(ISBLANK(ShareOfSearch_SERPS!A374)),ShareOfSearch_SERPS!A374,\"\")","v":13},{"$f":"IF(NOT(ISBLANK(ShareOfSearch_SERPS!G374)),ShareOfSearch_SERPS!G374,\"\")","v":"http://www.hongkiat.com/blog/ultimate-guide-to-web-optimization-tips-best-practices/"},{"$f":"IF(NOT(ISBLANK(ShareOfSearch_SERPS!K374)),ShareOfSearch_SERPS!K374,\"\")","v":"hongkiat.com"},{"$f":"IFERROR(VLOOKUP(C374,ShareOfSearch_CTR!$A$1:$B$100,2,FALSE)*VLOOKUP(A374&B374,ShareOfSearch_Volume!$C$1:$D$1000,2,FALSE),\"\")","v":363.428}]
[{"$f":"IF(ISTEXT(ShareOfSearch_SERPS!C375),ShareOfSearch_SERPS!C375,\"\")","v":"website optimization"},{"$f":"IF(ISTEXT(ShareOfSearch_SERPS!D375),ShareOfSearch_SERPS!D375,\"\")","v":"co.uk"},{"$f":"IF(NOT(ISBLANK(ShareOfSearch_SERPS!A375)),ShareOfSearch_SERPS!A375,\"\")","v":14},{"$f":"IF(NOT(ISBLANK(ShareOfSearch_SERPS!G375)),ShareOfSearch_SERPS!G375,\"\")","v":"http://www.sitepoint.com/web-site-optimization-steps/"},{"$f":"IF(NOT(ISBLANK(ShareOfSearch_SERPS!K375)),ShareOfSearch_SERPS!K375,\"\")","v":"sitepoint.com"},{"$f":"IFERROR(VLOOKUP(C375,ShareOfSearch_CTR!$A$1:$B$100,2,FALSE)*VLOOKUP(A375&B375,ShareOfSearch_Volume!$C$1:$D$1000,2,FALSE),\"\")","v":307.51599999999996}]
[{"$f":"IF(ISTEXT(ShareOfSearch_SERPS!C376),ShareOfSearch_SERPS!C376,\"\")","v":"website optimization"},{"$f":"IF(ISTEXT(ShareOfSearch_SERPS!D376),ShareOfSearch_SERPS!D376,\"\")","v":"co.uk"},{"$f":"IF(NOT(ISBLANK(ShareOfSearch_SERPS!A376)),ShareOfSearch_SERPS!A376,\"\")","v":15},{"$f":"IF(NOT(ISBLANK(ShareOfSearch_SERPS!G376)),ShareOfSearch_SERPS!G376,\"\")","v":"http://www.inc.com/magazine/20100701/how-to-optimize-your-site-for-search.html"},{"$f":"IF(NOT(ISBLANK(ShareOfSearch_SERPS!K376)),ShareOfSearch_SERPS!K376,\"\")","v":"www.inc.com"},{"$f":"IFERROR(VLOOKUP(C376,ShareOfSearch_CTR!$A$1:$B$100,2,FALSE)*VLOOKUP(A376&B376,ShareOfSearch_Volume!$C$1:$D$1000,2,FALSE),\"\")","v":335.47199999999998}]
[{"$f":"IF(ISTEXT(ShareOfSearch_SERPS!C377),ShareOfSearch_SERPS!C377,\"\")","v":"website optimization"},{"$f":"IF(ISTEXT(ShareOfSearch_SERPS!D377),ShareOfSearch_SERPS!D377,\"\")","v":"co.uk"},{"$f":"IF(NOT(ISBLANK(ShareOfSearch_SERPS!A377)),ShareOfSearch_SERPS!A377,\"\")","v":16},{"$f":"IF(NOT(ISBLANK(ShareOfSearch_SERPS!G377)),ShareOfSearch_SERPS!G377,\"\")","v":"http://academy.hubspot.com/website-optimization/"},{"$f":"IF(NOT(ISBLANK(ShareOfSearch_SERPS!K377)),ShareOfSearch_SERPS!K377,\"\")","v":"hubspot.com"},{"$f":"IFERROR(VLOOKUP(C377,ShareOfSearch_CTR!$A$1:$B$100,2,FALSE)*VLOOKUP(A377&B377,ShareOfSearch_Volume!$C$1:$D$1000,2,FALSE),\"\")","v":335.47199999999998}]
[{"$f":"IF(ISTEXT(ShareOfSearch_SERPS!C378),ShareOfSearch_SERPS!C378,\"\")","v":"website optimization"},{"$f":"IF(ISTEXT(ShareOfSearch_SERPS!D378),ShareOfSearch_SERPS!D378,\"\")","v":"co.uk"},{"$f":"IF(NOT(ISBLANK(ShareOfSearch_SERPS!A378)),ShareOfSearch_SERPS!A378,\"\")","v":17},{"$f":"IF(NOT(ISBLANK(ShareOfSearch_SERPS!G378)),ShareOfSearch_SERPS!G378,\"\")","v":"http://www.amazon.com/Website-Optimization-Andrew-King-B/dp/0596515081"},{"$f":"IF(NOT(ISBLANK(ShareOfSearch_SERPS!K378)),ShareOfSearch_SERPS!K378,\"\")","v":"amazon.com"},{"$f":"IFERROR(VLOOKUP(C378,ShareOfSearch_CTR!$A$1:$B$100,2,FALSE)*VLOOKUP(A378&B378,ShareOfSearch_Volume!$C$1:$D$1000,2,FALSE),\"\")","v":391.38400000000001}]
[{"$f":"IF(ISTEXT(ShareOfSearch_SERPS!C379),ShareOfSearch_SERPS!C379,\"\")","v":"website optimization"},{"$f":"IF(ISTEXT(ShareOfSearch_SERPS!D379),ShareOfSearch_SERPS!D379,\"\")","v":"co.uk"},{"$f":"IF(NOT(ISBLANK(ShareOfSearch_SERPS!A379)),ShareOfSearch_SERPS!A379,\"\")","v":18},{"$f":"IF(NOT(ISBLANK(ShareOfSearch_SERPS!G379)),ShareOfSearch_SERPS!G379,\"\")","v":"https://www.udacity.com/course/ud884"},{"$f":"IF(NOT(ISBLANK(ShareOfSearch_SERPS!K379)),ShareOfSearch_SERPS!K379,\"\")","v":"udacity.com"},{"$f":"IFERROR(VLOOKUP(C379,ShareOfSearch_CTR!$A$1:$B$100,2,FALSE)*VLOOKUP(A379&B379,ShareOfSearch_Volume!$C$1:$D$1000,2,FALSE),\"\")","v":363.428}]
[{"$f":"IF(ISTEXT(ShareOfSearch_SERPS!C380),ShareOfSearch_SERPS!C380,\"\")","v":"website optimization"},{"$f":"IF(ISTEXT(ShareOfSearch_SERPS!D380),ShareOfSearch_SERPS!D380,\"\")","v":"co.uk"},{"$f":"IF(NOT(ISBLANK(ShareOfSearch_SERPS!A380)),ShareOfSearch_SERPS!A380,\"\")","v":19},{"$f":"IF(NOT(ISBLANK(ShareOfSearch_SERPS!G380)),ShareOfSearch_SERPS!G380,\"\")","v":"http://www.blastam.com/web-site-optimization.aspx"},{"$f":"IF(NOT(ISBLANK(ShareOfSearch_SERPS!K380)),ShareOfSearch_SERPS!K380,\"\")","v":"blastam.com"},{"$f":"IFERROR(VLOOKUP(C380,ShareOfSearch_CTR!$A$1:$B$100,2,FALSE)*VLOOKUP(A380&B380,ShareOfSearch_Volume!$C$1:$D$1000,2,FALSE),\"\")","v":391.38400000000001}]
[{"$f":"IF(ISTEXT(ShareOfSearch_SERPS!C381),ShareOfSearch_SERPS!C381,\"\")","v":"website optimization"},{"$f":"IF(ISTEXT(ShareOfSearch_SERPS!D381),ShareOfSearch_SERPS!D381,\"\")","v":"co.uk"},{"$f":"IF(NOT(ISBLANK(ShareOfSearch_SERPS!A381)),ShareOfSearch_SERPS!A381,\"\")","v":20},{"$f":"IF(NOT(ISBLANK(ShareOfSearch_SERPS!G381)),ShareOfSearch_SERPS!G381,\"\")","v":"http://www.amazon.co.uk/Website-Optimization-Andrew-B-King/dp/0596515081"},{"$f":"IF(NOT(ISBLANK(ShareOfSearch_SERPS!K381)),ShareOfSearch_SERPS!K381,\"\")","v":"amazon.co.uk"},{"$f":"IFERROR(VLOOKUP(C381,ShareOfSearch_CTR!$A$1:$B$100,2,FALSE)*VLOOKUP(A381&B381,ShareOfSearch_Volume!$C$1:$D$1000,2,FALSE),\"\")","v":391.38400000000001}]
[{"$f":"IF(ISTEXT(ShareOfSearch_SERPS!C382),ShareOfSearch_SERPS!C382,\"\")","v":""},{"$f":"IF(ISTEXT(ShareOfSearch_SERPS!D382),ShareOfSearch_SERPS!D382,\"\")","v":""},{"$f":"IF(NOT(ISBLANK(ShareOfSearch_SERPS!A382)),ShareOfSearch_SERPS!A382,\"\")","v":""},{"$f":"IF(NOT(ISBLANK(ShareOfSearch_SERPS!G382)),ShareOfSearch_SERPS!G382,\"\")","v":""},{"$f":"IF(NOT(ISBLANK(ShareOfSearch_SERPS!K382)),ShareOfSearch_SERPS!K382,\"\")","v":""},{"$f":"IFERROR(VLOOKUP(C382,ShareOfSearch_CTR!$A$1:$B$100,2,FALSE)*VLOOKUP(A382&B382,ShareOfSearch_Volume!$C$1:$D$1000,2,FALSE),\"\")","v":""}]
[{"$f":"IF(ISTEXT(ShareOfSearch_SERPS!C383),ShareOfSearch_SERPS!C383,\"\")","v":""},{"$f":"IF(ISTEXT(ShareOfSearch_SERPS!D383),ShareOfSearch_SERPS!D383,\"\")","v":""},{"$f":"IF(NOT(ISBLANK(ShareOfSearch_SERPS!A383)),ShareOfSearch_SERPS!A383,\"\")","v":""},{"$f":"IF(NOT(ISBLANK(ShareOfSearch_SERPS!G383)),ShareOfSearch_SERPS!G383,\"\")","v":""},{"$f":"IF(NOT(ISBLANK(ShareOfSearch_SERPS!K383)),ShareOfSearch_SERPS!K383,\"\")","v":""},{"$f":"IFERROR(VLOOKUP(C383,ShareOfSearch_CTR!$A$1:$B$100,2,FALSE)*VLOOKUP(A383&B383,ShareOfSearch_Volume!$C$1:$D$1000,2,FALSE),\"\")","v":""}]
[{"$f":"IF(ISTEXT(ShareOfSearch_SERPS!C384),ShareOfSearch_SERPS!C384,\"\")","v":""},{"$f":"IF(ISTEXT(ShareOfSearch_SERPS!D384),ShareOfSearch_SERPS!D384,\"\")","v":""},{"$f":"IF(NOT(ISBLANK(ShareOfSearch_SERPS!A384)),ShareOfSearch_SERPS!A384,\"\")","v":""},{"$f":"IF(NOT(ISBLANK(ShareOfSearch_SERPS!G384)),ShareOfSearch_SERPS!G384,\"\")","v":""},{"$f":"IF(NOT(ISBLANK(ShareOfSearch_SERPS!K384)),ShareOfSearch_SERPS!K384,\"\")","v":""},{"$f":"IFERROR(VLOOKUP(C384,ShareOfSearch_CTR!$A$1:$B$100,2,FALSE)*VLOOKUP(A384&B384,ShareOfSearch_Volume!$C$1:$D$1000,2,FALSE),\"\")","v":""}]
[{"$f":"IF(ISTEXT(ShareOfSearch_SERPS!C385),ShareOfSearch_SERPS!C385,\"\")","v":""},{"$f":"IF(ISTEXT(ShareOfSearch_SERPS!D385),ShareOfSearch_SERPS!D385,\"\")","v":""},{"$f":"IF(NOT(ISBLANK(ShareOfSearch_SERPS!A385)),ShareOfSearch_SERPS!A385,\"\")","v":""},{"$f":"IF(NOT(ISBLANK(ShareOfSearch_SERPS!G385)),ShareOfSearch_SERPS!G385,\"\")","v":""},{"$f":"IF(NOT(ISBLANK(ShareOfSearch_SERPS!K385)),ShareOfSearch_SERPS!K385,\"\")","v":""},{"$f":"IFERROR(VLOOKUP(C385,ShareOfSearch_CTR!$A$1:$B$100,2,FALSE)*VLOOKUP(A385&B385,ShareOfSearch_Volume!$C$1:$D$1000,2,FALSE),\"\")","v":""}]
[{"$f":"IF(ISTEXT(ShareOfSearch_SERPS!C386),ShareOfSearch_SERPS!C386,\"\")","v":""},{"$f":"IF(ISTEXT(ShareOfSearch_SERPS!D386),ShareOfSearch_SERPS!D386,\"\")","v":""},{"$f":"IF(NOT(ISBLANK(ShareOfSearch_SERPS!A386)),ShareOfSearch_SERPS!A386,\"\")","v":""},{"$f":"IF(NOT(ISBLANK(ShareOfSearch_SERPS!G386)),ShareOfSearch_SERPS!G386,\"\")","v":""},{"$f":"IF(NOT(ISBLANK(ShareOfSearch_SERPS!K386)),ShareOfSearch_SERPS!K386,\"\")","v":""},{"$f":"IFERROR(VLOOKUP(C386,ShareOfSearch_CTR!$A$1:$B$100,2,FALSE)*VLOOKUP(A386&B386,ShareOfSearch_Volume!$C$1:$D$1000,2,FALSE),\"\")","v":""}]
[{"$f":"IF(ISTEXT(ShareOfSearch_SERPS!C387),ShareOfSearch_SERPS!C387,\"\")","v":""},{"$f":"IF(ISTEXT(ShareOfSearch_SERPS!D387),ShareOfSearch_SERPS!D387,\"\")","v":""},{"$f":"IF(NOT(ISBLANK(ShareOfSearch_SERPS!A387)),ShareOfSearch_SERPS!A387,\"\")","v":""},{"$f":"IF(NOT(ISBLANK(ShareOfSearch_SERPS!G387)),ShareOfSearch_SERPS!G387,\"\")","v":""},{"$f":"IF(NOT(ISBLANK(ShareOfSearch_SERPS!K387)),ShareOfSearch_SERPS!K387,\"\")","v":""},{"$f":"IFERROR(VLOOKUP(C387,ShareOfSearch_CTR!$A$1:$B$100,2,FALSE)*VLOOKUP(A387&B387,ShareOfSearch_Volume!$C$1:$D$1000,2,FALSE),\"\")","v":""}]
[{"$f":"IF(ISTEXT(ShareOfSearch_SERPS!C388),ShareOfSearch_SERPS!C388,\"\")","v":""},{"$f":"IF(ISTEXT(ShareOfSearch_SERPS!D388),ShareOfSearch_SERPS!D388,\"\")","v":""},{"$f":"IF(NOT(ISBLANK(ShareOfSearch_SERPS!A388)),ShareOfSearch_SERPS!A388,\"\")","v":""},{"$f":"IF(NOT(ISBLANK(ShareOfSearch_SERPS!G388)),ShareOfSearch_SERPS!G388,\"\")","v":""},{"$f":"IF(NOT(ISBLANK(ShareOfSearch_SERPS!K388)),ShareOfSearch_SERPS!K388,\"\")","v":""},{"$f":"IFERROR(VLOOKUP(C388,ShareOfSearch_CTR!$A$1:$B$100,2,FALSE)*VLOOKUP(A388&B388,ShareOfSearch_Volume!$C$1:$D$1000,2,FALSE),\"\")","v":""}]
[{"$f":"IF(ISTEXT(ShareOfSearch_SERPS!C389),ShareOfSearch_SERPS!C389,\"\")","v":""},{"$f":"IF(ISTEXT(ShareOfSearch_SERPS!D389),ShareOfSearch_SERPS!D389,\"\")","v":""},{"$f":"IF(NOT(ISBLANK(ShareOfSearch_SERPS!A389)),ShareOfSearch_SERPS!A389,\"\")","v":""},{"$f":"IF(NOT(ISBLANK(ShareOfSearch_SERPS!G389)),ShareOfSearch_SERPS!G389,\"\")","v":""},{"$f":"IF(NOT(ISBLANK(ShareOfSearch_SERPS!K389)),ShareOfSearch_SERPS!K389,\"\")","v":""},{"$f":"IFERROR(VLOOKUP(C389,ShareOfSearch_CTR!$A$1:$B$100,2,FALSE)*VLOOKUP(A389&B389,ShareOfSearch_Volume!$C$1:$D$1000,2,FALSE),\"\")","v":""}]
[{"$f":"IF(ISTEXT(ShareOfSearch_SERPS!C390),ShareOfSearch_SERPS!C390,\"\")","v":""},{"$f":"IF(ISTEXT(ShareOfSearch_SERPS!D390),ShareOfSearch_SERPS!D390,\"\")","v":""},{"$f":"IF(NOT(ISBLANK(ShareOfSearch_SERPS!A390)),ShareOfSearch_SERPS!A390,\"\")","v":""},{"$f":"IF(NOT(ISBLANK(ShareOfSearch_SERPS!G390)),ShareOfSearch_SERPS!G390,\"\")","v":""},{"$f":"IF(NOT(ISBLANK(ShareOfSearch_SERPS!K390)),ShareOfSearch_SERPS!K390,\"\")","v":""},{"$f":"IFERROR(VLOOKUP(C390,ShareOfSearch_CTR!$A$1:$B$100,2,FALSE)*VLOOKUP(A390&B390,ShareOfSearch_Volume!$C$1:$D$1000,2,FALSE),\"\")","v":""}]
[{"$f":"IF(ISTEXT(ShareOfSearch_SERPS!C391),ShareOfSearch_SERPS!C391,\"\")","v":""},{"$f":"IF(ISTEXT(ShareOfSearch_SERPS!D391),ShareOfSearch_SERPS!D391,\"\")","v":""},{"$f":"IF(NOT(ISBLANK(ShareOfSearch_SERPS!A391)),ShareOfSearch_SERPS!A391,\"\")","v":""},{"$f":"IF(NOT(ISBLANK(ShareOfSearch_SERPS!G391)),ShareOfSearch_SERPS!G391,\"\")","v":""},{"$f":"IF(NOT(ISBLANK(ShareOfSearch_SERPS!K391)),ShareOfSearch_SERPS!K391,\"\")","v":""},{"$f":"IFERROR(VLOOKUP(C391,ShareOfSearch_CTR!$A$1:$B$100,2,FALSE)*VLOOKUP(A391&B391,ShareOfSearch_Volume!$C$1:$D$1000,2,FALSE),\"\")","v":""}]
[{"$f":"IF(ISTEXT(ShareOfSearch_SERPS!C392),ShareOfSearch_SERPS!C392,\"\")","v":""},{"$f":"IF(ISTEXT(ShareOfSearch_SERPS!D392),ShareOfSearch_SERPS!D392,\"\")","v":""},{"$f":"IF(NOT(ISBLANK(ShareOfSearch_SERPS!A392)),ShareOfSearch_SERPS!A392,\"\")","v":""},{"$f":"IF(NOT(ISBLANK(ShareOfSearch_SERPS!G392)),ShareOfSearch_SERPS!G392,\"\")","v":""},{"$f":"IF(NOT(ISBLANK(ShareOfSearch_SERPS!K392)),ShareOfSearch_SERPS!K392,\"\")","v":""},{"$f":"IFERROR(VLOOKUP(C392,ShareOfSearch_CTR!$A$1:$B$100,2,FALSE)*VLOOKUP(A392&B392,ShareOfSearch_Volume!$C$1:$D$1000,2,FALSE),\"\")","v":""}]
[{"$f":"IF(ISTEXT(ShareOfSearch_SERPS!C393),ShareOfSearch_SERPS!C393,\"\")","v":""},{"$f":"IF(ISTEXT(ShareOfSearch_SERPS!D393),ShareOfSearch_SERPS!D393,\"\")","v":""},{"$f":"IF(NOT(ISBLANK(ShareOfSearch_SERPS!A393)),ShareOfSearch_SERPS!A393,\"\")","v":""},{"$f":"IF(NOT(ISBLANK(ShareOfSearch_SERPS!G393)),ShareOfSearch_SERPS!G393,\"\")","v":""},{"$f":"IF(NOT(ISBLANK(ShareOfSearch_SERPS!K393)),ShareOfSearch_SERPS!K393,\"\")","v":""},{"$f":"IFERROR(VLOOKUP(C393,ShareOfSearch_CTR!$A$1:$B$100,2,FALSE)*VLOOKUP(A393&B393,ShareOfSearch_Volume!$C$1:$D$1000,2,FALSE),\"\")","v":""}]
[{"$f":"IF(ISTEXT(ShareOfSearch_SERPS!C394),ShareOfSearch_SERPS!C394,\"\")","v":""},{"$f":"IF(ISTEXT(ShareOfSearch_SERPS!D394),ShareOfSearch_SERPS!D394,\"\")","v":""},{"$f":"IF(NOT(ISBLANK(ShareOfSearch_SERPS!A394)),ShareOfSearch_SERPS!A394,\"\")","v":""},{"$f":"IF(NOT(ISBLANK(ShareOfSearch_SERPS!G394)),ShareOfSearch_SERPS!G394,\"\")","v":""},{"$f":"IF(NOT(ISBLANK(ShareOfSearch_SERPS!K394)),ShareOfSearch_SERPS!K394,\"\")","v":""},{"$f":"IFERROR(VLOOKUP(C394,ShareOfSearch_CTR!$A$1:$B$100,2,FALSE)*VLOOKUP(A394&B394,ShareOfSearch_Volume!$C$1:$D$1000,2,FALSE),\"\")","v":""}]
[{"$f":"IF(ISTEXT(ShareOfSearch_SERPS!C395),ShareOfSearch_SERPS!C395,\"\")","v":""},{"$f":"IF(ISTEXT(ShareOfSearch_SERPS!D395),ShareOfSearch_SERPS!D395,\"\")","v":""},{"$f":"IF(NOT(ISBLANK(ShareOfSearch_SERPS!A395)),ShareOfSearch_SERPS!A395,\"\")","v":""},{"$f":"IF(NOT(ISBLANK(ShareOfSearch_SERPS!G395)),ShareOfSearch_SERPS!G395,\"\")","v":""},{"$f":"IF(NOT(ISBLANK(ShareOfSearch_SERPS!K395)),ShareOfSearch_SERPS!K395,\"\")","v":""},{"$f":"IFERROR(VLOOKUP(C395,ShareOfSearch_CTR!$A$1:$B$100,2,FALSE)*VLOOKUP(A395&B395,ShareOfSearch_Volume!$C$1:$D$1000,2,FALSE),\"\")","v":""}]
[{"$f":"IF(ISTEXT(ShareOfSearch_SERPS!C396),ShareOfSearch_SERPS!C396,\"\")","v":""},{"$f":"IF(ISTEXT(ShareOfSearch_SERPS!D396),ShareOfSearch_SERPS!D396,\"\")","v":""},{"$f":"IF(NOT(ISBLANK(ShareOfSearch_SERPS!A396)),ShareOfSearch_SERPS!A396,\"\")","v":""},{"$f":"IF(NOT(ISBLANK(ShareOfSearch_SERPS!G396)),ShareOfSearch_SERPS!G396,\"\")","v":""},{"$f":"IF(NOT(ISBLANK(ShareOfSearch_SERPS!K396)),ShareOfSearch_SERPS!K396,\"\")","v":""},{"$f":"IFERROR(VLOOKUP(C396,ShareOfSearch_CTR!$A$1:$B$100,2,FALSE)*VLOOKUP(A396&B396,ShareOfSearch_Volume!$C$1:$D$1000,2,FALSE),\"\")","v":""}]
[{"$f":"IF(ISTEXT(ShareOfSearch_SERPS!C397),ShareOfSearch_SERPS!C397,\"\")","v":""},{"$f":"IF(ISTEXT(ShareOfSearch_SERPS!D397),ShareOfSearch_SERPS!D397,\"\")","v":""},{"$f":"IF(NOT(ISBLANK(ShareOfSearch_SERPS!A397)),ShareOfSearch_SERPS!A397,\"\")","v":""},{"$f":"IF(NOT(ISBLANK(ShareOfSearch_SERPS!G397)),ShareOfSearch_SERPS!G397,\"\")","v":""},{"$f":"IF(NOT(ISBLANK(ShareOfSearch_SERPS!K397)),ShareOfSearch_SERPS!K397,\"\")","v":""},{"$f":"IFERROR(VLOOKUP(C397,ShareOfSearch_CTR!$A$1:$B$100,2,FALSE)*VLOOKUP(A397&B397,ShareOfSearch_Volume!$C$1:$D$1000,2,FALSE),\"\")","v":""}]
[{"$f":"IF(ISTEXT(ShareOfSearch_SERPS!C398),ShareOfSearch_SERPS!C398,\"\")","v":""},{"$f":"IF(ISTEXT(ShareOfSearch_SERPS!D398),ShareOfSearch_SERPS!D398,\"\")","v":""},{"$f":"IF(NOT(ISBLANK(ShareOfSearch_SERPS!A398)),ShareOfSearch_SERPS!A398,\"\")","v":""},{"$f":"IF(NOT(ISBLANK(ShareOfSearch_SERPS!G398)),ShareOfSearch_SERPS!G398,\"\")","v":""},{"$f":"IF(NOT(ISBLANK(ShareOfSearch_SERPS!K398)),ShareOfSearch_SERPS!K398,\"\")","v":""},{"$f":"IFERROR(VLOOKUP(C398,ShareOfSearch_CTR!$A$1:$B$100,2,FALSE)*VLOOKUP(A398&B398,ShareOfSearch_Volume!$C$1:$D$1000,2,FALSE),\"\")","v":""}]
[{"$f":"IF(ISTEXT(ShareOfSearch_SERPS!C399),ShareOfSearch_SERPS!C399,\"\")","v":""},{"$f":"IF(ISTEXT(ShareOfSearch_SERPS!D399),ShareOfSearch_SERPS!D399,\"\")","v":""},{"$f":"IF(NOT(ISBLANK(ShareOfSearch_SERPS!A399)),ShareOfSearch_SERPS!A399,\"\")","v":""},{"$f":"IF(NOT(ISBLANK(ShareOfSearch_SERPS!G399)),ShareOfSearch_SERPS!G399,\"\")","v":""},{"$f":"IF(NOT(ISBLANK(ShareOfSearch_SERPS!K399)),ShareOfSearch_SERPS!K399,\"\")","v":""},{"$f":"IFERROR(VLOOKUP(C399,ShareOfSearch_CTR!$A$1:$B$100,2,FALSE)*VLOOKUP(A399&B399,ShareOfSearch_Volume!$C$1:$D$1000,2,FALSE),\"\")","v":""}]
[{"$f":"IF(ISTEXT(ShareOfSearch_SERPS!C400),ShareOfSearch_SERPS!C400,\"\")","v":""},{"$f":"IF(ISTEXT(ShareOfSearch_SERPS!D400),ShareOfSearch_SERPS!D400,\"\")","v":""},{"$f":"IF(NOT(ISBLANK(ShareOfSearch_SERPS!A400)),ShareOfSearch_SERPS!A400,\"\")","v":""},{"$f":"IF(NOT(ISBLANK(ShareOfSearch_SERPS!G400)),ShareOfSearch_SERPS!G400,\"\")","v":""},{"$f":"IF(NOT(ISBLANK(ShareOfSearch_SERPS!K400)),ShareOfSearch_SERPS!K400,\"\")","v":""},{"$f":"IFERROR(VLOOKUP(C400,ShareOfSearch_CTR!$A$1:$B$100,2,FALSE)*VLOOKUP(A400&B400,ShareOfSearch_Volume!$C$1:$D$1000,2,FALSE),\"\")","v":""}]
[{"$f":"IF(ISTEXT(ShareOfSearch_SERPS!C401),ShareOfSearch_SERPS!C401,\"\")","v":""},{"$f":"IF(ISTEXT(ShareOfSearch_SERPS!D401),ShareOfSearch_SERPS!D401,\"\")","v":""},{"$f":"IF(NOT(ISBLANK(ShareOfSearch_SERPS!A401)),ShareOfSearch_SERPS!A401,\"\")","v":""},{"$f":"IF(NOT(ISBLANK(ShareOfSearch_SERPS!G401)),ShareOfSearch_SERPS!G401,\"\")","v":""},{"$f":"IF(NOT(ISBLANK(ShareOfSearch_SERPS!K401)),ShareOfSearch_SERPS!K401,\"\")","v":""},{"$f":"IFERROR(VLOOKUP(C401,ShareOfSearch_CTR!$A$1:$B$100,2,FALSE)*VLOOKUP(A401&B401,ShareOfSearch_Volume!$C$1:$D$1000,2,FALSE),\"\")","v":""}]
[{"$f":"IF(ISTEXT(ShareOfSearch_SERPS!C402),ShareOfSearch_SERPS!C402,\"\")","v":""},{"$f":"IF(ISTEXT(ShareOfSearch_SERPS!D402),ShareOfSearch_SERPS!D402,\"\")","v":""},{"$f":"IF(NOT(ISBLANK(ShareOfSearch_SERPS!A402)),ShareOfSearch_SERPS!A402,\"\")","v":""},{"$f":"IF(NOT(ISBLANK(ShareOfSearch_SERPS!G402)),ShareOfSearch_SERPS!G402,\"\")","v":""},{"$f":"IF(NOT(ISBLANK(ShareOfSearch_SERPS!K402)),ShareOfSearch_SERPS!K402,\"\")","v":""},{"$f":"IFERROR(VLOOKUP(C402,ShareOfSearch_CTR!$A$1:$B$100,2,FALSE)*VLOOKUP(A402&B402,ShareOfSearch_Volume!$C$1:$D$1000,2,FALSE),\"\")","v":""}]
[{"$f":"IF(ISTEXT(ShareOfSearch_SERPS!C403),ShareOfSearch_SERPS!C403,\"\")","v":""},{"$f":"IF(ISTEXT(ShareOfSearch_SERPS!D403),ShareOfSearch_SERPS!D403,\"\")","v":""},{"$f":"IF(NOT(ISBLANK(ShareOfSearch_SERPS!A403)),ShareOfSearch_SERPS!A403,\"\")","v":""},{"$f":"IF(NOT(ISBLANK(ShareOfSearch_SERPS!G403)),ShareOfSearch_SERPS!G403,\"\")","v":""},{"$f":"IF(NOT(ISBLANK(ShareOfSearch_SERPS!K403)),ShareOfSearch_SERPS!K403,\"\")","v":""},{"$f":"IFERROR(VLOOKUP(C403,ShareOfSearch_CTR!$A$1:$B$100,2,FALSE)*VLOOKUP(A403&B403,ShareOfSearch_Volume!$C$1:$D$1000,2,FALSE),\"\")","v":""}]
[{"$f":"IF(ISTEXT(ShareOfSearch_SERPS!C404),ShareOfSearch_SERPS!C404,\"\")","v":""},{"$f":"IF(ISTEXT(ShareOfSearch_SERPS!D404),ShareOfSearch_SERPS!D404,\"\")","v":""},{"$f":"IF(NOT(ISBLANK(ShareOfSearch_SERPS!A404)),ShareOfSearch_SERPS!A404,\"\")","v":""},{"$f":"IF(NOT(ISBLANK(ShareOfSearch_SERPS!G404)),ShareOfSearch_SERPS!G404,\"\")","v":""},{"$f":"IF(NOT(ISBLANK(ShareOfSearch_SERPS!K404)),ShareOfSearch_SERPS!K404,\"\")","v":""},{"$f":"IFERROR(VLOOKUP(C404,ShareOfSearch_CTR!$A$1:$B$100,2,FALSE)*VLOOKUP(A404&B404,ShareOfSearch_Volume!$C$1:$D$1000,2,FALSE),\"\")","v":""}]
[{"$f":"IF(ISTEXT(ShareOfSearch_SERPS!C405),ShareOfSearch_SERPS!C405,\"\")","v":""},{"$f":"IF(ISTEXT(ShareOfSearch_SERPS!D405),ShareOfSearch_SERPS!D405,\"\")","v":""},{"$f":"IF(NOT(ISBLANK(ShareOfSearch_SERPS!A405)),ShareOfSearch_SERPS!A405,\"\")","v":""},{"$f":"IF(NOT(ISBLANK(ShareOfSearch_SERPS!G405)),ShareOfSearch_SERPS!G405,\"\")","v":""},{"$f":"IF(NOT(ISBLANK(ShareOfSearch_SERPS!K405)),ShareOfSearch_SERPS!K405,\"\")","v":""},{"$f":"IFERROR(VLOOKUP(C405,ShareOfSearch_CTR!$A$1:$B$100,2,FALSE)*VLOOKUP(A405&B405,ShareOfSearch_Volume!$C$1:$D$1000,2,FALSE),\"\")","v":""}]
[{"$f":"IF(ISTEXT(ShareOfSearch_SERPS!C406),ShareOfSearch_SERPS!C406,\"\")","v":""},{"$f":"IF(ISTEXT(ShareOfSearch_SERPS!D406),ShareOfSearch_SERPS!D406,\"\")","v":""},{"$f":"IF(NOT(ISBLANK(ShareOfSearch_SERPS!A406)),ShareOfSearch_SERPS!A406,\"\")","v":""},{"$f":"IF(NOT(ISBLANK(ShareOfSearch_SERPS!G406)),ShareOfSearch_SERPS!G406,\"\")","v":""},{"$f":"IF(NOT(ISBLANK(ShareOfSearch_SERPS!K406)),ShareOfSearch_SERPS!K406,\"\")","v":""},{"$f":"IFERROR(VLOOKUP(C406,ShareOfSearch_CTR!$A$1:$B$100,2,FALSE)*VLOOKUP(A406&B406,ShareOfSearch_Volume!$C$1:$D$1000,2,FALSE),\"\")","v":""}]
[{"$f":"IF(ISTEXT(ShareOfSearch_SERPS!C407),ShareOfSearch_SERPS!C407,\"\")","v":""},{"$f":"IF(ISTEXT(ShareOfSearch_SERPS!D407),ShareOfSearch_SERPS!D407,\"\")","v":""},{"$f":"IF(NOT(ISBLANK(ShareOfSearch_SERPS!A407)),ShareOfSearch_SERPS!A407,\"\")","v":""},{"$f":"IF(NOT(ISBLANK(ShareOfSearch_SERPS!G407)),ShareOfSearch_SERPS!G407,\"\")","v":""},{"$f":"IF(NOT(ISBLANK(ShareOfSearch_SERPS!K407)),ShareOfSearch_SERPS!K407,\"\")","v":""},{"$f":"IFERROR(VLOOKUP(C407,ShareOfSearch_CTR!$A$1:$B$100,2,FALSE)*VLOOKUP(A407&B407,ShareOfSearch_Volume!$C$1:$D$1000,2,FALSE),\"\")","v":""}]
[{"$f":"IF(ISTEXT(ShareOfSearch_SERPS!C408),ShareOfSearch_SERPS!C408,\"\")","v":""},{"$f":"IF(ISTEXT(ShareOfSearch_SERPS!D408),ShareOfSearch_SERPS!D408,\"\")","v":""},{"$f":"IF(NOT(ISBLANK(ShareOfSearch_SERPS!A408)),ShareOfSearch_SERPS!A408,\"\")","v":""},{"$f":"IF(NOT(ISBLANK(ShareOfSearch_SERPS!G408)),ShareOfSearch_SERPS!G408,\"\")","v":""},{"$f":"IF(NOT(ISBLANK(ShareOfSearch_SERPS!K408)),ShareOfSearch_SERPS!K408,\"\")","v":""},{"$f":"IFERROR(VLOOKUP(C408,ShareOfSearch_CTR!$A$1:$B$100,2,FALSE)*VLOOKUP(A408&B408,ShareOfSearch_Volume!$C$1:$D$1000,2,FALSE),\"\")","v":""}]
[{"$f":"IF(ISTEXT(ShareOfSearch_SERPS!C409),ShareOfSearch_SERPS!C409,\"\")","v":""},{"$f":"IF(ISTEXT(ShareOfSearch_SERPS!D409),ShareOfSearch_SERPS!D409,\"\")","v":""},{"$f":"IF(NOT(ISBLANK(ShareOfSearch_SERPS!A409)),ShareOfSearch_SERPS!A409,\"\")","v":""},{"$f":"IF(NOT(ISBLANK(ShareOfSearch_SERPS!G409)),ShareOfSearch_SERPS!G409,\"\")","v":""},{"$f":"IF(NOT(ISBLANK(ShareOfSearch_SERPS!K409)),ShareOfSearch_SERPS!K409,\"\")","v":""},{"$f":"IFERROR(VLOOKUP(C409,ShareOfSearch_CTR!$A$1:$B$100,2,FALSE)*VLOOKUP(A409&B409,ShareOfSearch_Volume!$C$1:$D$1000,2,FALSE),\"\")","v":""}]
[{"$f":"IF(ISTEXT(ShareOfSearch_SERPS!C410),ShareOfSearch_SERPS!C410,\"\")","v":""},{"$f":"IF(ISTEXT(ShareOfSearch_SERPS!D410),ShareOfSearch_SERPS!D410,\"\")","v":""},{"$f":"IF(NOT(ISBLANK(ShareOfSearch_SERPS!A410)),ShareOfSearch_SERPS!A410,\"\")","v":""},{"$f":"IF(NOT(ISBLANK(ShareOfSearch_SERPS!G410)),ShareOfSearch_SERPS!G410,\"\")","v":""},{"$f":"IF(NOT(ISBLANK(ShareOfSearch_SERPS!K410)),ShareOfSearch_SERPS!K410,\"\")","v":""},{"$f":"IFERROR(VLOOKUP(C410,ShareOfSearch_CTR!$A$1:$B$100,2,FALSE)*VLOOKUP(A410&B410,ShareOfSearch_Volume!$C$1:$D$1000,2,FALSE),\"\")","v":""}]
[{"$f":"IF(ISTEXT(ShareOfSearch_SERPS!C411),ShareOfSearch_SERPS!C411,\"\")","v":""},{"$f":"IF(ISTEXT(ShareOfSearch_SERPS!D411),ShareOfSearch_SERPS!D411,\"\")","v":""},{"$f":"IF(NOT(ISBLANK(ShareOfSearch_SERPS!A411)),ShareOfSearch_SERPS!A411,\"\")","v":""},{"$f":"IF(NOT(ISBLANK(ShareOfSearch_SERPS!G411)),ShareOfSearch_SERPS!G411,\"\")","v":""},{"$f":"IF(NOT(ISBLANK(ShareOfSearch_SERPS!K411)),ShareOfSearch_SERPS!K411,\"\")","v":""},{"$f":"IFERROR(VLOOKUP(C411,ShareOfSearch_CTR!$A$1:$B$100,2,FALSE)*VLOOKUP(A411&B411,ShareOfSearch_Volume!$C$1:$D$1000,2,FALSE),\"\")","v":""}]
[{"$f":"IF(ISTEXT(ShareOfSearch_SERPS!C412),ShareOfSearch_SERPS!C412,\"\")","v":""},{"$f":"IF(ISTEXT(ShareOfSearch_SERPS!D412),ShareOfSearch_SERPS!D412,\"\")","v":""},{"$f":"IF(NOT(ISBLANK(ShareOfSearch_SERPS!A412)),ShareOfSearch_SERPS!A412,\"\")","v":""},{"$f":"IF(NOT(ISBLANK(ShareOfSearch_SERPS!G412)),ShareOfSearch_SERPS!G412,\"\")","v":""},{"$f":"IF(NOT(ISBLANK(ShareOfSearch_SERPS!K412)),ShareOfSearch_SERPS!K412,\"\")","v":""},{"$f":"IFERROR(VLOOKUP(C412,ShareOfSearch_CTR!$A$1:$B$100,2,FALSE)*VLOOKUP(A412&B412,ShareOfSearch_Volume!$C$1:$D$1000,2,FALSE),\"\")","v":""}]
[{"$f":"IF(ISTEXT(ShareOfSearch_SERPS!C413),ShareOfSearch_SERPS!C413,\"\")","v":""},{"$f":"IF(ISTEXT(ShareOfSearch_SERPS!D413),ShareOfSearch_SERPS!D413,\"\")","v":""},{"$f":"IF(NOT(ISBLANK(ShareOfSearch_SERPS!A413)),ShareOfSearch_SERPS!A413,\"\")","v":""},{"$f":"IF(NOT(ISBLANK(ShareOfSearch_SERPS!G413)),ShareOfSearch_SERPS!G413,\"\")","v":""},{"$f":"IF(NOT(ISBLANK(ShareOfSearch_SERPS!K413)),ShareOfSearch_SERPS!K413,\"\")","v":""},{"$f":"IFERROR(VLOOKUP(C413,ShareOfSearch_CTR!$A$1:$B$100,2,FALSE)*VLOOKUP(A413&B413,ShareOfSearch_Volume!$C$1:$D$1000,2,FALSE),\"\")","v":""}]
[{"$f":"IF(ISTEXT(ShareOfSearch_SERPS!C414),ShareOfSearch_SERPS!C414,\"\")","v":""},{"$f":"IF(ISTEXT(ShareOfSearch_SERPS!D414),ShareOfSearch_SERPS!D414,\"\")","v":""},{"$f":"IF(NOT(ISBLANK(ShareOfSearch_SERPS!A414)),ShareOfSearch_SERPS!A414,\"\")","v":""},{"$f":"IF(NOT(ISBLANK(ShareOfSearch_SERPS!G414)),ShareOfSearch_SERPS!G414,\"\")","v":""},{"$f":"IF(NOT(ISBLANK(ShareOfSearch_SERPS!K414)),ShareOfSearch_SERPS!K414,\"\")","v":""},{"$f":"IFERROR(VLOOKUP(C414,ShareOfSearch_CTR!$A$1:$B$100,2,FALSE)*VLOOKUP(A414&B414,ShareOfSearch_Volume!$C$1:$D$1000,2,FALSE),\"\")","v":""}]
[{"$f":"IF(ISTEXT(ShareOfSearch_SERPS!C415),ShareOfSearch_SERPS!C415,\"\")","v":""},{"$f":"IF(ISTEXT(ShareOfSearch_SERPS!D415),ShareOfSearch_SERPS!D415,\"\")","v":""},{"$f":"IF(NOT(ISBLANK(ShareOfSearch_SERPS!A415)),ShareOfSearch_SERPS!A415,\"\")","v":""},{"$f":"IF(NOT(ISBLANK(ShareOfSearch_SERPS!G415)),ShareOfSearch_SERPS!G415,\"\")","v":""},{"$f":"IF(NOT(ISBLANK(ShareOfSearch_SERPS!K415)),ShareOfSearch_SERPS!K415,\"\")","v":""},{"$f":"IFERROR(VLOOKUP(C415,ShareOfSearch_CTR!$A$1:$B$100,2,FALSE)*VLOOKUP(A415&B415,ShareOfSearch_Volume!$C$1:$D$1000,2,FALSE),\"\")","v":""}]
[{"$f":"IF(ISTEXT(ShareOfSearch_SERPS!C416),ShareOfSearch_SERPS!C416,\"\")","v":""},{"$f":"IF(ISTEXT(ShareOfSearch_SERPS!D416),ShareOfSearch_SERPS!D416,\"\")","v":""},{"$f":"IF(NOT(ISBLANK(ShareOfSearch_SERPS!A416)),ShareOfSearch_SERPS!A416,\"\")","v":""},{"$f":"IF(NOT(ISBLANK(ShareOfSearch_SERPS!G416)),ShareOfSearch_SERPS!G416,\"\")","v":""},{"$f":"IF(NOT(ISBLANK(ShareOfSearch_SERPS!K416)),ShareOfSearch_SERPS!K416,\"\")","v":""},{"$f":"IFERROR(VLOOKUP(C416,ShareOfSearch_CTR!$A$1:$B$100,2,FALSE)*VLOOKUP(A416&B416,ShareOfSearch_Volume!$C$1:$D$1000,2,FALSE),\"\")","v":""}]
[{"$f":"IF(ISTEXT(ShareOfSearch_SERPS!C417),ShareOfSearch_SERPS!C417,\"\")","v":""},{"$f":"IF(ISTEXT(ShareOfSearch_SERPS!D417),ShareOfSearch_SERPS!D417,\"\")","v":""},{"$f":"IF(NOT(ISBLANK(ShareOfSearch_SERPS!A417)),ShareOfSearch_SERPS!A417,\"\")","v":""},{"$f":"IF(NOT(ISBLANK(ShareOfSearch_SERPS!G417)),ShareOfSearch_SERPS!G417,\"\")","v":""},{"$f":"IF(NOT(ISBLANK(ShareOfSearch_SERPS!K417)),ShareOfSearch_SERPS!K417,\"\")","v":""},{"$f":"IFERROR(VLOOKUP(C417,ShareOfSearch_CTR!$A$1:$B$100,2,FALSE)*VLOOKUP(A417&B417,ShareOfSearch_Volume!$C$1:$D$1000,2,FALSE),\"\")","v":""}]
[{"$f":"IF(ISTEXT(ShareOfSearch_SERPS!C418),ShareOfSearch_SERPS!C418,\"\")","v":""},{"$f":"IF(ISTEXT(ShareOfSearch_SERPS!D418),ShareOfSearch_SERPS!D418,\"\")","v":""},{"$f":"IF(NOT(ISBLANK(ShareOfSearch_SERPS!A418)),ShareOfSearch_SERPS!A418,\"\")","v":""},{"$f":"IF(NOT(ISBLANK(ShareOfSearch_SERPS!G418)),ShareOfSearch_SERPS!G418,\"\")","v":""},{"$f":"IF(NOT(ISBLANK(ShareOfSearch_SERPS!K418)),ShareOfSearch_SERPS!K418,\"\")","v":""},{"$f":"IFERROR(VLOOKUP(C418,ShareOfSearch_CTR!$A$1:$B$100,2,FALSE)*VLOOKUP(A418&B418,ShareOfSearch_Volume!$C$1:$D$1000,2,FALSE),\"\")","v":""}]
[{"$f":"IF(ISTEXT(ShareOfSearch_SERPS!C419),ShareOfSearch_SERPS!C419,\"\")","v":""},{"$f":"IF(ISTEXT(ShareOfSearch_SERPS!D419),ShareOfSearch_SERPS!D419,\"\")","v":""},{"$f":"IF(NOT(ISBLANK(ShareOfSearch_SERPS!A419)),ShareOfSearch_SERPS!A419,\"\")","v":""},{"$f":"IF(NOT(ISBLANK(ShareOfSearch_SERPS!G419)),ShareOfSearch_SERPS!G419,\"\")","v":""},{"$f":"IF(NOT(ISBLANK(ShareOfSearch_SERPS!K419)),ShareOfSearch_SERPS!K419,\"\")","v":""},{"$f":"IFERROR(VLOOKUP(C419,ShareOfSearch_CTR!$A$1:$B$100,2,FALSE)*VLOOKUP(A419&B419,ShareOfSearch_Volume!$C$1:$D$1000,2,FALSE),\"\")","v":""}]
[{"$f":"IF(ISTEXT(ShareOfSearch_SERPS!C420),ShareOfSearch_SERPS!C420,\"\")","v":""},{"$f":"IF(ISTEXT(ShareOfSearch_SERPS!D420),ShareOfSearch_SERPS!D420,\"\")","v":""},{"$f":"IF(NOT(ISBLANK(ShareOfSearch_SERPS!A420)),ShareOfSearch_SERPS!A420,\"\")","v":""},{"$f":"IF(NOT(ISBLANK(ShareOfSearch_SERPS!G420)),ShareOfSearch_SERPS!G420,\"\")","v":""},{"$f":"IF(NOT(ISBLANK(ShareOfSearch_SERPS!K420)),ShareOfSearch_SERPS!K420,\"\")","v":""},{"$f":"IFERROR(VLOOKUP(C420,ShareOfSearch_CTR!$A$1:$B$100,2,FALSE)*VLOOKUP(A420&B420,ShareOfSearch_Volume!$C$1:$D$1000,2,FALSE),\"\")","v":""}]
[{"$f":"IF(ISTEXT(ShareOfSearch_SERPS!C421),ShareOfSearch_SERPS!C421,\"\")","v":""},{"$f":"IF(ISTEXT(ShareOfSearch_SERPS!D421),ShareOfSearch_SERPS!D421,\"\")","v":""},{"$f":"IF(NOT(ISBLANK(ShareOfSearch_SERPS!A421)),ShareOfSearch_SERPS!A421,\"\")","v":""},{"$f":"IF(NOT(ISBLANK(ShareOfSearch_SERPS!G421)),ShareOfSearch_SERPS!G421,\"\")","v":""},{"$f":"IF(NOT(ISBLANK(ShareOfSearch_SERPS!K421)),ShareOfSearch_SERPS!K421,\"\")","v":""},{"$f":"IFERROR(VLOOKUP(C421,ShareOfSearch_CTR!$A$1:$B$100,2,FALSE)*VLOOKUP(A421&B421,ShareOfSearch_Volume!$C$1:$D$1000,2,FALSE),\"\")","v":""}]
[{"$f":"IF(ISTEXT(ShareOfSearch_SERPS!C422),ShareOfSearch_SERPS!C422,\"\")","v":""},{"$f":"IF(ISTEXT(ShareOfSearch_SERPS!D422),ShareOfSearch_SERPS!D422,\"\")","v":""},{"$f":"IF(NOT(ISBLANK(ShareOfSearch_SERPS!A422)),ShareOfSearch_SERPS!A422,\"\")","v":""},{"$f":"IF(NOT(ISBLANK(ShareOfSearch_SERPS!G422)),ShareOfSearch_SERPS!G422,\"\")","v":""},{"$f":"IF(NOT(ISBLANK(ShareOfSearch_SERPS!K422)),ShareOfSearch_SERPS!K422,\"\")","v":""},{"$f":"IFERROR(VLOOKUP(C422,ShareOfSearch_CTR!$A$1:$B$100,2,FALSE)*VLOOKUP(A422&B422,ShareOfSearch_Volume!$C$1:$D$1000,2,FALSE),\"\")","v":""}]
[{"$f":"IF(ISTEXT(ShareOfSearch_SERPS!C423),ShareOfSearch_SERPS!C423,\"\")","v":""},{"$f":"IF(ISTEXT(ShareOfSearch_SERPS!D423),ShareOfSearch_SERPS!D423,\"\")","v":""},{"$f":"IF(NOT(ISBLANK(ShareOfSearch_SERPS!A423)),ShareOfSearch_SERPS!A423,\"\")","v":""},{"$f":"IF(NOT(ISBLANK(ShareOfSearch_SERPS!G423)),ShareOfSearch_SERPS!G423,\"\")","v":""},{"$f":"IF(NOT(ISBLANK(ShareOfSearch_SERPS!K423)),ShareOfSearch_SERPS!K423,\"\")","v":""},{"$f":"IFERROR(VLOOKUP(C423,ShareOfSearch_CTR!$A$1:$B$100,2,FALSE)*VLOOKUP(A423&B423,ShareOfSearch_Volume!$C$1:$D$1000,2,FALSE),\"\")","v":""}]
[{"$f":"IF(ISTEXT(ShareOfSearch_SERPS!C424),ShareOfSearch_SERPS!C424,\"\")","v":""},{"$f":"IF(ISTEXT(ShareOfSearch_SERPS!D424),ShareOfSearch_SERPS!D424,\"\")","v":""},{"$f":"IF(NOT(ISBLANK(ShareOfSearch_SERPS!A424)),ShareOfSearch_SERPS!A424,\"\")","v":""},{"$f":"IF(NOT(ISBLANK(ShareOfSearch_SERPS!G424)),ShareOfSearch_SERPS!G424,\"\")","v":""},{"$f":"IF(NOT(ISBLANK(ShareOfSearch_SERPS!K424)),ShareOfSearch_SERPS!K424,\"\")","v":""},{"$f":"IFERROR(VLOOKUP(C424,ShareOfSearch_CTR!$A$1:$B$100,2,FALSE)*VLOOKUP(A424&B424,ShareOfSearch_Volume!$C$1:$D$1000,2,FALSE),\"\")","v":""}]
[{"$f":"IF(ISTEXT(ShareOfSearch_SERPS!C425),ShareOfSearch_SERPS!C425,\"\")","v":""},{"$f":"IF(ISTEXT(ShareOfSearch_SERPS!D425),ShareOfSearch_SERPS!D425,\"\")","v":""},{"$f":"IF(NOT(ISBLANK(ShareOfSearch_SERPS!A425)),ShareOfSearch_SERPS!A425,\"\")","v":""},{"$f":"IF(NOT(ISBLANK(ShareOfSearch_SERPS!G425)),ShareOfSearch_SERPS!G425,\"\")","v":""},{"$f":"IF(NOT(ISBLANK(ShareOfSearch_SERPS!K425)),ShareOfSearch_SERPS!K425,\"\")","v":""},{"$f":"IFERROR(VLOOKUP(C425,ShareOfSearch_CTR!$A$1:$B$100,2,FALSE)*VLOOKUP(A425&B425,ShareOfSearch_Volume!$C$1:$D$1000,2,FALSE),\"\")","v":""}]
[{"$f":"IF(ISTEXT(ShareOfSearch_SERPS!C426),ShareOfSearch_SERPS!C426,\"\")","v":""},{"$f":"IF(ISTEXT(ShareOfSearch_SERPS!D426),ShareOfSearch_SERPS!D426,\"\")","v":""},{"$f":"IF(NOT(ISBLANK(ShareOfSearch_SERPS!A426)),ShareOfSearch_SERPS!A426,\"\")","v":""},{"$f":"IF(NOT(ISBLANK(ShareOfSearch_SERPS!G426)),ShareOfSearch_SERPS!G426,\"\")","v":""},{"$f":"IF(NOT(ISBLANK(ShareOfSearch_SERPS!K426)),ShareOfSearch_SERPS!K426,\"\")","v":""},{"$f":"IFERROR(VLOOKUP(C426,ShareOfSearch_CTR!$A$1:$B$100,2,FALSE)*VLOOKUP(A426&B426,ShareOfSearch_Volume!$C$1:$D$1000,2,FALSE),\"\")","v":""}]
[{"$f":"IF(ISTEXT(ShareOfSearch_SERPS!C427),ShareOfSearch_SERPS!C427,\"\")","v":""},{"$f":"IF(ISTEXT(ShareOfSearch_SERPS!D427),ShareOfSearch_SERPS!D427,\"\")","v":""},{"$f":"IF(NOT(ISBLANK(ShareOfSearch_SERPS!A427)),ShareOfSearch_SERPS!A427,\"\")","v":""},{"$f":"IF(NOT(ISBLANK(ShareOfSearch_SERPS!G427)),ShareOfSearch_SERPS!G427,\"\")","v":""},{"$f":"IF(NOT(ISBLANK(ShareOfSearch_SERPS!K427)),ShareOfSearch_SERPS!K427,\"\")","v":""},{"$f":"IFERROR(VLOOKUP(C427,ShareOfSearch_CTR!$A$1:$B$100,2,FALSE)*VLOOKUP(A427&B427,ShareOfSearch_Volume!$C$1:$D$1000,2,FALSE),\"\")","v":""}]
[{"$f":"IF(ISTEXT(ShareOfSearch_SERPS!C428),ShareOfSearch_SERPS!C428,\"\")","v":""},{"$f":"IF(ISTEXT(ShareOfSearch_SERPS!D428),ShareOfSearch_SERPS!D428,\"\")","v":""},{"$f":"IF(NOT(ISBLANK(ShareOfSearch_SERPS!A428)),ShareOfSearch_SERPS!A428,\"\")","v":""},{"$f":"IF(NOT(ISBLANK(ShareOfSearch_SERPS!G428)),ShareOfSearch_SERPS!G428,\"\")","v":""},{"$f":"IF(NOT(ISBLANK(ShareOfSearch_SERPS!K428)),ShareOfSearch_SERPS!K428,\"\")","v":""},{"$f":"IFERROR(VLOOKUP(C428,ShareOfSearch_CTR!$A$1:$B$100,2,FALSE)*VLOOKUP(A428&B428,ShareOfSearch_Volume!$C$1:$D$1000,2,FALSE),\"\")","v":""}]
[{"$f":"IF(ISTEXT(ShareOfSearch_SERPS!C429),ShareOfSearch_SERPS!C429,\"\")","v":""},{"$f":"IF(ISTEXT(ShareOfSearch_SERPS!D429),ShareOfSearch_SERPS!D429,\"\")","v":""},{"$f":"IF(NOT(ISBLANK(ShareOfSearch_SERPS!A429)),ShareOfSearch_SERPS!A429,\"\")","v":""},{"$f":"IF(NOT(ISBLANK(ShareOfSearch_SERPS!G429)),ShareOfSearch_SERPS!G429,\"\")","v":""},{"$f":"IF(NOT(ISBLANK(ShareOfSearch_SERPS!K429)),ShareOfSearch_SERPS!K429,\"\")","v":""},{"$f":"IFERROR(VLOOKUP(C429,ShareOfSearch_CTR!$A$1:$B$100,2,FALSE)*VLOOKUP(A429&B429,ShareOfSearch_Volume!$C$1:$D$1000,2,FALSE),\"\")","v":""}]
[{"$f":"IF(ISTEXT(ShareOfSearch_SERPS!C430),ShareOfSearch_SERPS!C430,\"\")","v":""},{"$f":"IF(ISTEXT(ShareOfSearch_SERPS!D430),ShareOfSearch_SERPS!D430,\"\")","v":""},{"$f":"IF(NOT(ISBLANK(ShareOfSearch_SERPS!A430)),ShareOfSearch_SERPS!A430,\"\")","v":""},{"$f":"IF(NOT(ISBLANK(ShareOfSearch_SERPS!G430)),ShareOfSearch_SERPS!G430,\"\")","v":""},{"$f":"IF(NOT(ISBLANK(ShareOfSearch_SERPS!K430)),ShareOfSearch_SERPS!K430,\"\")","v":""},{"$f":"IFERROR(VLOOKUP(C430,ShareOfSearch_CTR!$A$1:$B$100,2,FALSE)*VLOOKUP(A430&B430,ShareOfSearch_Volume!$C$1:$D$1000,2,FALSE),\"\")","v":""}]
[{"$f":"IF(ISTEXT(ShareOfSearch_SERPS!C431),ShareOfSearch_SERPS!C431,\"\")","v":""},{"$f":"IF(ISTEXT(ShareOfSearch_SERPS!D431),ShareOfSearch_SERPS!D431,\"\")","v":""},{"$f":"IF(NOT(ISBLANK(ShareOfSearch_SERPS!A431)),ShareOfSearch_SERPS!A431,\"\")","v":""},{"$f":"IF(NOT(ISBLANK(ShareOfSearch_SERPS!G431)),ShareOfSearch_SERPS!G431,\"\")","v":""},{"$f":"IF(NOT(ISBLANK(ShareOfSearch_SERPS!K431)),ShareOfSearch_SERPS!K431,\"\")","v":""},{"$f":"IFERROR(VLOOKUP(C431,ShareOfSearch_CTR!$A$1:$B$100,2,FALSE)*VLOOKUP(A431&B431,ShareOfSearch_Volume!$C$1:$D$1000,2,FALSE),\"\")","v":""}]
[{"$f":"IF(ISTEXT(ShareOfSearch_SERPS!C432),ShareOfSearch_SERPS!C432,\"\")","v":""},{"$f":"IF(ISTEXT(ShareOfSearch_SERPS!D432),ShareOfSearch_SERPS!D432,\"\")","v":""},{"$f":"IF(NOT(ISBLANK(ShareOfSearch_SERPS!A432)),ShareOfSearch_SERPS!A432,\"\")","v":""},{"$f":"IF(NOT(ISBLANK(ShareOfSearch_SERPS!G432)),ShareOfSearch_SERPS!G432,\"\")","v":""},{"$f":"IF(NOT(ISBLANK(ShareOfSearch_SERPS!K432)),ShareOfSearch_SERPS!K432,\"\")","v":""},{"$f":"IFERROR(VLOOKUP(C432,ShareOfSearch_CTR!$A$1:$B$100,2,FALSE)*VLOOKUP(A432&B432,ShareOfSearch_Volume!$C$1:$D$1000,2,FALSE),\"\")","v":""}]
[{"$f":"IF(ISTEXT(ShareOfSearch_SERPS!C433),ShareOfSearch_SERPS!C433,\"\")","v":""},{"$f":"IF(ISTEXT(ShareOfSearch_SERPS!D433),ShareOfSearch_SERPS!D433,\"\")","v":""},{"$f":"IF(NOT(ISBLANK(ShareOfSearch_SERPS!A433)),ShareOfSearch_SERPS!A433,\"\")","v":""},{"$f":"IF(NOT(ISBLANK(ShareOfSearch_SERPS!G433)),ShareOfSearch_SERPS!G433,\"\")","v":""},{"$f":"IF(NOT(ISBLANK(ShareOfSearch_SERPS!K433)),ShareOfSearch_SERPS!K433,\"\")","v":""},{"$f":"IFERROR(VLOOKUP(C433,ShareOfSearch_CTR!$A$1:$B$100,2,FALSE)*VLOOKUP(A433&B433,ShareOfSearch_Volume!$C$1:$D$1000,2,FALSE),\"\")","v":""}]
[{"$f":"IF(ISTEXT(ShareOfSearch_SERPS!C434),ShareOfSearch_SERPS!C434,\"\")","v":""},{"$f":"IF(ISTEXT(ShareOfSearch_SERPS!D434),ShareOfSearch_SERPS!D434,\"\")","v":""},{"$f":"IF(NOT(ISBLANK(ShareOfSearch_SERPS!A434)),ShareOfSearch_SERPS!A434,\"\")","v":""},{"$f":"IF(NOT(ISBLANK(ShareOfSearch_SERPS!G434)),ShareOfSearch_SERPS!G434,\"\")","v":""},{"$f":"IF(NOT(ISBLANK(ShareOfSearch_SERPS!K434)),ShareOfSearch_SERPS!K434,\"\")","v":""},{"$f":"IFERROR(VLOOKUP(C434,ShareOfSearch_CTR!$A$1:$B$100,2,FALSE)*VLOOKUP(A434&B434,ShareOfSearch_Volume!$C$1:$D$1000,2,FALSE),\"\")","v":""}]
[{"$f":"IF(ISTEXT(ShareOfSearch_SERPS!C435),ShareOfSearch_SERPS!C435,\"\")","v":""},{"$f":"IF(ISTEXT(ShareOfSearch_SERPS!D435),ShareOfSearch_SERPS!D435,\"\")","v":""},{"$f":"IF(NOT(ISBLANK(ShareOfSearch_SERPS!A435)),ShareOfSearch_SERPS!A435,\"\")","v":""},{"$f":"IF(NOT(ISBLANK(ShareOfSearch_SERPS!G435)),ShareOfSearch_SERPS!G435,\"\")","v":""},{"$f":"IF(NOT(ISBLANK(ShareOfSearch_SERPS!K435)),ShareOfSearch_SERPS!K435,\"\")","v":""},{"$f":"IFERROR(VLOOKUP(C435,ShareOfSearch_CTR!$A$1:$B$100,2,FALSE)*VLOOKUP(A435&B435,ShareOfSearch_Volume!$C$1:$D$1000,2,FALSE),\"\")","v":""}]
[{"$f":"IF(ISTEXT(ShareOfSearch_SERPS!C436),ShareOfSearch_SERPS!C436,\"\")","v":""},{"$f":"IF(ISTEXT(ShareOfSearch_SERPS!D436),ShareOfSearch_SERPS!D436,\"\")","v":""},{"$f":"IF(NOT(ISBLANK(ShareOfSearch_SERPS!A436)),ShareOfSearch_SERPS!A436,\"\")","v":""},{"$f":"IF(NOT(ISBLANK(ShareOfSearch_SERPS!G436)),ShareOfSearch_SERPS!G436,\"\")","v":""},{"$f":"IF(NOT(ISBLANK(ShareOfSearch_SERPS!K436)),ShareOfSearch_SERPS!K436,\"\")","v":""},{"$f":"IFERROR(VLOOKUP(C436,ShareOfSearch_CTR!$A$1:$B$100,2,FALSE)*VLOOKUP(A436&B436,ShareOfSearch_Volume!$C$1:$D$1000,2,FALSE),\"\")","v":""}]
[{"$f":"IF(ISTEXT(ShareOfSearch_SERPS!C437),ShareOfSearch_SERPS!C437,\"\")","v":""},{"$f":"IF(ISTEXT(ShareOfSearch_SERPS!D437),ShareOfSearch_SERPS!D437,\"\")","v":""},{"$f":"IF(NOT(ISBLANK(ShareOfSearch_SERPS!A437)),ShareOfSearch_SERPS!A437,\"\")","v":""},{"$f":"IF(NOT(ISBLANK(ShareOfSearch_SERPS!G437)),ShareOfSearch_SERPS!G437,\"\")","v":""},{"$f":"IF(NOT(ISBLANK(ShareOfSearch_SERPS!K437)),ShareOfSearch_SERPS!K437,\"\")","v":""},{"$f":"IFERROR(VLOOKUP(C437,ShareOfSearch_CTR!$A$1:$B$100,2,FALSE)*VLOOKUP(A437&B437,ShareOfSearch_Volume!$C$1:$D$1000,2,FALSE),\"\")","v":""}]
[{"$f":"IF(ISTEXT(ShareOfSearch_SERPS!C438),ShareOfSearch_SERPS!C438,\"\")","v":""},{"$f":"IF(ISTEXT(ShareOfSearch_SERPS!D438),ShareOfSearch_SERPS!D438,\"\")","v":""},{"$f":"IF(NOT(ISBLANK(ShareOfSearch_SERPS!A438)),ShareOfSearch_SERPS!A438,\"\")","v":""},{"$f":"IF(NOT(ISBLANK(ShareOfSearch_SERPS!G438)),ShareOfSearch_SERPS!G438,\"\")","v":""},{"$f":"IF(NOT(ISBLANK(ShareOfSearch_SERPS!K438)),ShareOfSearch_SERPS!K438,\"\")","v":""},{"$f":"IFERROR(VLOOKUP(C438,ShareOfSearch_CTR!$A$1:$B$100,2,FALSE)*VLOOKUP(A438&B438,ShareOfSearch_Volume!$C$1:$D$1000,2,FALSE),\"\")","v":""}]
[{"$f":"IF(ISTEXT(ShareOfSearch_SERPS!C439),ShareOfSearch_SERPS!C439,\"\")","v":""},{"$f":"IF(ISTEXT(ShareOfSearch_SERPS!D439),ShareOfSearch_SERPS!D439,\"\")","v":""},{"$f":"IF(NOT(ISBLANK(ShareOfSearch_SERPS!A439)),ShareOfSearch_SERPS!A439,\"\")","v":""},{"$f":"IF(NOT(ISBLANK(ShareOfSearch_SERPS!G439)),ShareOfSearch_SERPS!G439,\"\")","v":""},{"$f":"IF(NOT(ISBLANK(ShareOfSearch_SERPS!K439)),ShareOfSearch_SERPS!K439,\"\")","v":""},{"$f":"IFERROR(VLOOKUP(C439,ShareOfSearch_CTR!$A$1:$B$100,2,FALSE)*VLOOKUP(A439&B439,ShareOfSearch_Volume!$C$1:$D$1000,2,FALSE),\"\")","v":""}]
[{"$f":"IF(ISTEXT(ShareOfSearch_SERPS!C440),ShareOfSearch_SERPS!C440,\"\")","v":""},{"$f":"IF(ISTEXT(ShareOfSearch_SERPS!D440),ShareOfSearch_SERPS!D440,\"\")","v":""},{"$f":"IF(NOT(ISBLANK(ShareOfSearch_SERPS!A440)),ShareOfSearch_SERPS!A440,\"\")","v":""},{"$f":"IF(NOT(ISBLANK(ShareOfSearch_SERPS!G440)),ShareOfSearch_SERPS!G440,\"\")","v":""},{"$f":"IF(NOT(ISBLANK(ShareOfSearch_SERPS!K440)),ShareOfSearch_SERPS!K440,\"\")","v":""},{"$f":"IFERROR(VLOOKUP(C440,ShareOfSearch_CTR!$A$1:$B$100,2,FALSE)*VLOOKUP(A440&B440,ShareOfSearch_Volume!$C$1:$D$1000,2,FALSE),\"\")","v":""}]
[{"$f":"IF(ISTEXT(ShareOfSearch_SERPS!C441),ShareOfSearch_SERPS!C441,\"\")","v":""},{"$f":"IF(ISTEXT(ShareOfSearch_SERPS!D441),ShareOfSearch_SERPS!D441,\"\")","v":""},{"$f":"IF(NOT(ISBLANK(ShareOfSearch_SERPS!A441)),ShareOfSearch_SERPS!A441,\"\")","v":""},{"$f":"IF(NOT(ISBLANK(ShareOfSearch_SERPS!G441)),ShareOfSearch_SERPS!G441,\"\")","v":""},{"$f":"IF(NOT(ISBLANK(ShareOfSearch_SERPS!K441)),ShareOfSearch_SERPS!K441,\"\")","v":""},{"$f":"IFERROR(VLOOKUP(C441,ShareOfSearch_CTR!$A$1:$B$100,2,FALSE)*VLOOKUP(A441&B441,ShareOfSearch_Volume!$C$1:$D$1000,2,FALSE),\"\")","v":""}]
[{"$f":"IF(ISTEXT(ShareOfSearch_SERPS!C442),ShareOfSearch_SERPS!C442,\"\")","v":""},{"$f":"IF(ISTEXT(ShareOfSearch_SERPS!D442),ShareOfSearch_SERPS!D442,\"\")","v":""},{"$f":"IF(NOT(ISBLANK(ShareOfSearch_SERPS!A442)),ShareOfSearch_SERPS!A442,\"\")","v":""},{"$f":"IF(NOT(ISBLANK(ShareOfSearch_SERPS!G442)),ShareOfSearch_SERPS!G442,\"\")","v":""},{"$f":"IF(NOT(ISBLANK(ShareOfSearch_SERPS!K442)),ShareOfSearch_SERPS!K442,\"\")","v":""},{"$f":"IFERROR(VLOOKUP(C442,ShareOfSearch_CTR!$A$1:$B$100,2,FALSE)*VLOOKUP(A442&B442,ShareOfSearch_Volume!$C$1:$D$1000,2,FALSE),\"\")","v":""}]
[{"$f":"IF(ISTEXT(ShareOfSearch_SERPS!C443),ShareOfSearch_SERPS!C443,\"\")","v":""},{"$f":"IF(ISTEXT(ShareOfSearch_SERPS!D443),ShareOfSearch_SERPS!D443,\"\")","v":""},{"$f":"IF(NOT(ISBLANK(ShareOfSearch_SERPS!A443)),ShareOfSearch_SERPS!A443,\"\")","v":""},{"$f":"IF(NOT(ISBLANK(ShareOfSearch_SERPS!G443)),ShareOfSearch_SERPS!G443,\"\")","v":""},{"$f":"IF(NOT(ISBLANK(ShareOfSearch_SERPS!K443)),ShareOfSearch_SERPS!K443,\"\")","v":""},{"$f":"IFERROR(VLOOKUP(C443,ShareOfSearch_CTR!$A$1:$B$100,2,FALSE)*VLOOKUP(A443&B443,ShareOfSearch_Volume!$C$1:$D$1000,2,FALSE),\"\")","v":""}]
[{"$f":"IF(ISTEXT(ShareOfSearch_SERPS!C444),ShareOfSearch_SERPS!C444,\"\")","v":""},{"$f":"IF(ISTEXT(ShareOfSearch_SERPS!D444),ShareOfSearch_SERPS!D444,\"\")","v":""},{"$f":"IF(NOT(ISBLANK(ShareOfSearch_SERPS!A444)),ShareOfSearch_SERPS!A444,\"\")","v":""},{"$f":"IF(NOT(ISBLANK(ShareOfSearch_SERPS!G444)),ShareOfSearch_SERPS!G444,\"\")","v":""},{"$f":"IF(NOT(ISBLANK(ShareOfSearch_SERPS!K444)),ShareOfSearch_SERPS!K444,\"\")","v":""},{"$f":"IFERROR(VLOOKUP(C444,ShareOfSearch_CTR!$A$1:$B$100,2,FALSE)*VLOOKUP(A444&B444,ShareOfSearch_Volume!$C$1:$D$1000,2,FALSE),\"\")","v":""}]
[{"$f":"IF(ISTEXT(ShareOfSearch_SERPS!C445),ShareOfSearch_SERPS!C445,\"\")","v":""},{"$f":"IF(ISTEXT(ShareOfSearch_SERPS!D445),ShareOfSearch_SERPS!D445,\"\")","v":""},{"$f":"IF(NOT(ISBLANK(ShareOfSearch_SERPS!A445)),ShareOfSearch_SERPS!A445,\"\")","v":""},{"$f":"IF(NOT(ISBLANK(ShareOfSearch_SERPS!G445)),ShareOfSearch_SERPS!G445,\"\")","v":""},{"$f":"IF(NOT(ISBLANK(ShareOfSearch_SERPS!K445)),ShareOfSearch_SERPS!K445,\"\")","v":""},{"$f":"IFERROR(VLOOKUP(C445,ShareOfSearch_CTR!$A$1:$B$100,2,FALSE)*VLOOKUP(A445&B445,ShareOfSearch_Volume!$C$1:$D$1000,2,FALSE),\"\")","v":""}]
[{"$f":"IF(ISTEXT(ShareOfSearch_SERPS!C446),ShareOfSearch_SERPS!C446,\"\")","v":""},{"$f":"IF(ISTEXT(ShareOfSearch_SERPS!D446),ShareOfSearch_SERPS!D446,\"\")","v":""},{"$f":"IF(NOT(ISBLANK(ShareOfSearch_SERPS!A446)),ShareOfSearch_SERPS!A446,\"\")","v":""},{"$f":"IF(NOT(ISBLANK(ShareOfSearch_SERPS!G446)),ShareOfSearch_SERPS!G446,\"\")","v":""},{"$f":"IF(NOT(ISBLANK(ShareOfSearch_SERPS!K446)),ShareOfSearch_SERPS!K446,\"\")","v":""},{"$f":"IFERROR(VLOOKUP(C446,ShareOfSearch_CTR!$A$1:$B$100,2,FALSE)*VLOOKUP(A446&B446,ShareOfSearch_Volume!$C$1:$D$1000,2,FALSE),\"\")","v":""}]
[{"$f":"IF(ISTEXT(ShareOfSearch_SERPS!C447),ShareOfSearch_SERPS!C447,\"\")","v":""},{"$f":"IF(ISTEXT(ShareOfSearch_SERPS!D447),ShareOfSearch_SERPS!D447,\"\")","v":""},{"$f":"IF(NOT(ISBLANK(ShareOfSearch_SERPS!A447)),ShareOfSearch_SERPS!A447,\"\")","v":""},{"$f":"IF(NOT(ISBLANK(ShareOfSearch_SERPS!G447)),ShareOfSearch_SERPS!G447,\"\")","v":""},{"$f":"IF(NOT(ISBLANK(ShareOfSearch_SERPS!K447)),ShareOfSearch_SERPS!K447,\"\")","v":""},{"$f":"IFERROR(VLOOKUP(C447,ShareOfSearch_CTR!$A$1:$B$100,2,FALSE)*VLOOKUP(A447&B447,ShareOfSearch_Volume!$C$1:$D$1000,2,FALSE),\"\")","v":""}]
[{"$f":"IF(ISTEXT(ShareOfSearch_SERPS!C448),ShareOfSearch_SERPS!C448,\"\")","v":""},{"$f":"IF(ISTEXT(ShareOfSearch_SERPS!D448),ShareOfSearch_SERPS!D448,\"\")","v":""},{"$f":"IF(NOT(ISBLANK(ShareOfSearch_SERPS!A448)),ShareOfSearch_SERPS!A448,\"\")","v":""},{"$f":"IF(NOT(ISBLANK(ShareOfSearch_SERPS!G448)),ShareOfSearch_SERPS!G448,\"\")","v":""},{"$f":"IF(NOT(ISBLANK(ShareOfSearch_SERPS!K448)),ShareOfSearch_SERPS!K448,\"\")","v":""},{"$f":"IFERROR(VLOOKUP(C448,ShareOfSearch_CTR!$A$1:$B$100,2,FALSE)*VLOOKUP(A448&B448,ShareOfSearch_Volume!$C$1:$D$1000,2,FALSE),\"\")","v":""}]
[{"$f":"IF(ISTEXT(ShareOfSearch_SERPS!C449),ShareOfSearch_SERPS!C449,\"\")","v":""},{"$f":"IF(ISTEXT(ShareOfSearch_SERPS!D449),ShareOfSearch_SERPS!D449,\"\")","v":""},{"$f":"IF(NOT(ISBLANK(ShareOfSearch_SERPS!A449)),ShareOfSearch_SERPS!A449,\"\")","v":""},{"$f":"IF(NOT(ISBLANK(ShareOfSearch_SERPS!G449)),ShareOfSearch_SERPS!G449,\"\")","v":""},{"$f":"IF(NOT(ISBLANK(ShareOfSearch_SERPS!K449)),ShareOfSearch_SERPS!K449,\"\")","v":""},{"$f":"IFERROR(VLOOKUP(C449,ShareOfSearch_CTR!$A$1:$B$100,2,FALSE)*VLOOKUP(A449&B449,ShareOfSearch_Volume!$C$1:$D$1000,2,FALSE),\"\")","v":""}]
[{"$f":"IF(ISTEXT(ShareOfSearch_SERPS!C450),ShareOfSearch_SERPS!C450,\"\")","v":""},{"$f":"IF(ISTEXT(ShareOfSearch_SERPS!D450),ShareOfSearch_SERPS!D450,\"\")","v":""},{"$f":"IF(NOT(ISBLANK(ShareOfSearch_SERPS!A450)),ShareOfSearch_SERPS!A450,\"\")","v":""},{"$f":"IF(NOT(ISBLANK(ShareOfSearch_SERPS!G450)),ShareOfSearch_SERPS!G450,\"\")","v":""},{"$f":"IF(NOT(ISBLANK(ShareOfSearch_SERPS!K450)),ShareOfSearch_SERPS!K450,\"\")","v":""},{"$f":"IFERROR(VLOOKUP(C450,ShareOfSearch_CTR!$A$1:$B$100,2,FALSE)*VLOOKUP(A450&B450,ShareOfSearch_Volume!$C$1:$D$1000,2,FALSE),\"\")","v":""}]
[{"$f":"IF(ISTEXT(ShareOfSearch_SERPS!C451),ShareOfSearch_SERPS!C451,\"\")","v":""},{"$f":"IF(ISTEXT(ShareOfSearch_SERPS!D451),ShareOfSearch_SERPS!D451,\"\")","v":""},{"$f":"IF(NOT(ISBLANK(ShareOfSearch_SERPS!A451)),ShareOfSearch_SERPS!A451,\"\")","v":""},{"$f":"IF(NOT(ISBLANK(ShareOfSearch_SERPS!G451)),ShareOfSearch_SERPS!G451,\"\")","v":""},{"$f":"IF(NOT(ISBLANK(ShareOfSearch_SERPS!K451)),ShareOfSearch_SERPS!K451,\"\")","v":""},{"$f":"IFERROR(VLOOKUP(C451,ShareOfSearch_CTR!$A$1:$B$100,2,FALSE)*VLOOKUP(A451&B451,ShareOfSearch_Volume!$C$1:$D$1000,2,FALSE),\"\")","v":""}]
[{"$f":"IF(ISTEXT(ShareOfSearch_SERPS!C452),ShareOfSearch_SERPS!C452,\"\")","v":""},{"$f":"IF(ISTEXT(ShareOfSearch_SERPS!D452),ShareOfSearch_SERPS!D452,\"\")","v":""},{"$f":"IF(NOT(ISBLANK(ShareOfSearch_SERPS!A452)),ShareOfSearch_SERPS!A452,\"\")","v":""},{"$f":"IF(NOT(ISBLANK(ShareOfSearch_SERPS!G452)),ShareOfSearch_SERPS!G452,\"\")","v":""},{"$f":"IF(NOT(ISBLANK(ShareOfSearch_SERPS!K452)),ShareOfSearch_SERPS!K452,\"\")","v":""},{"$f":"IFERROR(VLOOKUP(C452,ShareOfSearch_CTR!$A$1:$B$100,2,FALSE)*VLOOKUP(A452&B452,ShareOfSearch_Volume!$C$1:$D$1000,2,FALSE),\"\")","v":""}]
[{"$f":"IF(ISTEXT(ShareOfSearch_SERPS!C453),ShareOfSearch_SERPS!C453,\"\")","v":""},{"$f":"IF(ISTEXT(ShareOfSearch_SERPS!D453),ShareOfSearch_SERPS!D453,\"\")","v":""},{"$f":"IF(NOT(ISBLANK(ShareOfSearch_SERPS!A453)),ShareOfSearch_SERPS!A453,\"\")","v":""},{"$f":"IF(NOT(ISBLANK(ShareOfSearch_SERPS!G453)),ShareOfSearch_SERPS!G453,\"\")","v":""},{"$f":"IF(NOT(ISBLANK(ShareOfSearch_SERPS!K453)),ShareOfSearch_SERPS!K453,\"\")","v":""},{"$f":"IFERROR(VLOOKUP(C453,ShareOfSearch_CTR!$A$1:$B$100,2,FALSE)*VLOOKUP(A453&B453,ShareOfSearch_Volume!$C$1:$D$1000,2,FALSE),\"\")","v":""}]
[{"$f":"IF(ISTEXT(ShareOfSearch_SERPS!C454),ShareOfSearch_SERPS!C454,\"\")","v":""},{"$f":"IF(ISTEXT(ShareOfSearch_SERPS!D454),ShareOfSearch_SERPS!D454,\"\")","v":""},{"$f":"IF(NOT(ISBLANK(ShareOfSearch_SERPS!A454)),ShareOfSearch_SERPS!A454,\"\")","v":""},{"$f":"IF(NOT(ISBLANK(ShareOfSearch_SERPS!G454)),ShareOfSearch_SERPS!G454,\"\")","v":""},{"$f":"IF(NOT(ISBLANK(ShareOfSearch_SERPS!K454)),ShareOfSearch_SERPS!K454,\"\")","v":""},{"$f":"IFERROR(VLOOKUP(C454,ShareOfSearch_CTR!$A$1:$B$100,2,FALSE)*VLOOKUP(A454&B454,ShareOfSearch_Volume!$C$1:$D$1000,2,FALSE),\"\")","v":""}]
[{"$f":"IF(ISTEXT(ShareOfSearch_SERPS!C455),ShareOfSearch_SERPS!C455,\"\")","v":""},{"$f":"IF(ISTEXT(ShareOfSearch_SERPS!D455),ShareOfSearch_SERPS!D455,\"\")","v":""},{"$f":"IF(NOT(ISBLANK(ShareOfSearch_SERPS!A455)),ShareOfSearch_SERPS!A455,\"\")","v":""},{"$f":"IF(NOT(ISBLANK(ShareOfSearch_SERPS!G455)),ShareOfSearch_SERPS!G455,\"\")","v":""},{"$f":"IF(NOT(ISBLANK(ShareOfSearch_SERPS!K455)),ShareOfSearch_SERPS!K455,\"\")","v":""},{"$f":"IFERROR(VLOOKUP(C455,ShareOfSearch_CTR!$A$1:$B$100,2,FALSE)*VLOOKUP(A455&B455,ShareOfSearch_Volume!$C$1:$D$1000,2,FALSE),\"\")","v":""}]
[{"$f":"IF(ISTEXT(ShareOfSearch_SERPS!C456),ShareOfSearch_SERPS!C456,\"\")","v":""},{"$f":"IF(ISTEXT(ShareOfSearch_SERPS!D456),ShareOfSearch_SERPS!D456,\"\")","v":""},{"$f":"IF(NOT(ISBLANK(ShareOfSearch_SERPS!A456)),ShareOfSearch_SERPS!A456,\"\")","v":""},{"$f":"IF(NOT(ISBLANK(ShareOfSearch_SERPS!G456)),ShareOfSearch_SERPS!G456,\"\")","v":""},{"$f":"IF(NOT(ISBLANK(ShareOfSearch_SERPS!K456)),ShareOfSearch_SERPS!K456,\"\")","v":""},{"$f":"IFERROR(VLOOKUP(C456,ShareOfSearch_CTR!$A$1:$B$100,2,FALSE)*VLOOKUP(A456&B456,ShareOfSearch_Volume!$C$1:$D$1000,2,FALSE),\"\")","v":""}]
[{"$f":"IF(ISTEXT(ShareOfSearch_SERPS!C457),ShareOfSearch_SERPS!C457,\"\")","v":""},{"$f":"IF(ISTEXT(ShareOfSearch_SERPS!D457),ShareOfSearch_SERPS!D457,\"\")","v":""},{"$f":"IF(NOT(ISBLANK(ShareOfSearch_SERPS!A457)),ShareOfSearch_SERPS!A457,\"\")","v":""},{"$f":"IF(NOT(ISBLANK(ShareOfSearch_SERPS!G457)),ShareOfSearch_SERPS!G457,\"\")","v":""},{"$f":"IF(NOT(ISBLANK(ShareOfSearch_SERPS!K457)),ShareOfSearch_SERPS!K457,\"\")","v":""},{"$f":"IFERROR(VLOOKUP(C457,ShareOfSearch_CTR!$A$1:$B$100,2,FALSE)*VLOOKUP(A457&B457,ShareOfSearch_Volume!$C$1:$D$1000,2,FALSE),\"\")","v":""}]
[{"$f":"IF(ISTEXT(ShareOfSearch_SERPS!C458),ShareOfSearch_SERPS!C458,\"\")","v":""},{"$f":"IF(ISTEXT(ShareOfSearch_SERPS!D458),ShareOfSearch_SERPS!D458,\"\")","v":""},{"$f":"IF(NOT(ISBLANK(ShareOfSearch_SERPS!A458)),ShareOfSearch_SERPS!A458,\"\")","v":""},{"$f":"IF(NOT(ISBLANK(ShareOfSearch_SERPS!G458)),ShareOfSearch_SERPS!G458,\"\")","v":""},{"$f":"IF(NOT(ISBLANK(ShareOfSearch_SERPS!K458)),ShareOfSearch_SERPS!K458,\"\")","v":""},{"$f":"IFERROR(VLOOKUP(C458,ShareOfSearch_CTR!$A$1:$B$100,2,FALSE)*VLOOKUP(A458&B458,ShareOfSearch_Volume!$C$1:$D$1000,2,FALSE),\"\")","v":""}]
[{"$f":"IF(ISTEXT(ShareOfSearch_SERPS!C459),ShareOfSearch_SERPS!C459,\"\")","v":""},{"$f":"IF(ISTEXT(ShareOfSearch_SERPS!D459),ShareOfSearch_SERPS!D459,\"\")","v":""},{"$f":"IF(NOT(ISBLANK(ShareOfSearch_SERPS!A459)),ShareOfSearch_SERPS!A459,\"\")","v":""},{"$f":"IF(NOT(ISBLANK(ShareOfSearch_SERPS!G459)),ShareOfSearch_SERPS!G459,\"\")","v":""},{"$f":"IF(NOT(ISBLANK(ShareOfSearch_SERPS!K459)),ShareOfSearch_SERPS!K459,\"\")","v":""},{"$f":"IFERROR(VLOOKUP(C459,ShareOfSearch_CTR!$A$1:$B$100,2,FALSE)*VLOOKUP(A459&B459,ShareOfSearch_Volume!$C$1:$D$1000,2,FALSE),\"\")","v":""}]
[{"$f":"IF(ISTEXT(ShareOfSearch_SERPS!C460),ShareOfSearch_SERPS!C460,\"\")","v":""},{"$f":"IF(ISTEXT(ShareOfSearch_SERPS!D460),ShareOfSearch_SERPS!D460,\"\")","v":""},{"$f":"IF(NOT(ISBLANK(ShareOfSearch_SERPS!A460)),ShareOfSearch_SERPS!A460,\"\")","v":""},{"$f":"IF(NOT(ISBLANK(ShareOfSearch_SERPS!G460)),ShareOfSearch_SERPS!G460,\"\")","v":""},{"$f":"IF(NOT(ISBLANK(ShareOfSearch_SERPS!K460)),ShareOfSearch_SERPS!K460,\"\")","v":""},{"$f":"IFERROR(VLOOKUP(C460,ShareOfSearch_CTR!$A$1:$B$100,2,FALSE)*VLOOKUP(A460&B460,ShareOfSearch_Volume!$C$1:$D$1000,2,FALSE),\"\")","v":""}]
[{"$f":"IF(ISTEXT(ShareOfSearch_SERPS!C461),ShareOfSearch_SERPS!C461,\"\")","v":""},{"$f":"IF(ISTEXT(ShareOfSearch_SERPS!D461),ShareOfSearch_SERPS!D461,\"\")","v":""},{"$f":"IF(NOT(ISBLANK(ShareOfSearch_SERPS!A461)),ShareOfSearch_SERPS!A461,\"\")","v":""},{"$f":"IF(NOT(ISBLANK(ShareOfSearch_SERPS!G461)),ShareOfSearch_SERPS!G461,\"\")","v":""},{"$f":"IF(NOT(ISBLANK(ShareOfSearch_SERPS!K461)),ShareOfSearch_SERPS!K461,\"\")","v":""},{"$f":"IFERROR(VLOOKUP(C461,ShareOfSearch_CTR!$A$1:$B$100,2,FALSE)*VLOOKUP(A461&B461,ShareOfSearch_Volume!$C$1:$D$1000,2,FALSE),\"\")","v":""}]
[{"$f":"IF(ISTEXT(ShareOfSearch_SERPS!C462),ShareOfSearch_SERPS!C462,\"\")","v":""},{"$f":"IF(ISTEXT(ShareOfSearch_SERPS!D462),ShareOfSearch_SERPS!D462,\"\")","v":""},{"$f":"IF(NOT(ISBLANK(ShareOfSearch_SERPS!A462)),ShareOfSearch_SERPS!A462,\"\")","v":""},{"$f":"IF(NOT(ISBLANK(ShareOfSearch_SERPS!G462)),ShareOfSearch_SERPS!G462,\"\")","v":""},{"$f":"IF(NOT(ISBLANK(ShareOfSearch_SERPS!K462)),ShareOfSearch_SERPS!K462,\"\")","v":""},{"$f":"IFERROR(VLOOKUP(C462,ShareOfSearch_CTR!$A$1:$B$100,2,FALSE)*VLOOKUP(A462&B462,ShareOfSearch_Volume!$C$1:$D$1000,2,FALSE),\"\")","v":""}]
[{"$f":"IF(ISTEXT(ShareOfSearch_SERPS!C463),ShareOfSearch_SERPS!C463,\"\")","v":""},{"$f":"IF(ISTEXT(ShareOfSearch_SERPS!D463),ShareOfSearch_SERPS!D463,\"\")","v":""},{"$f":"IF(NOT(ISBLANK(ShareOfSearch_SERPS!A463)),ShareOfSearch_SERPS!A463,\"\")","v":""},{"$f":"IF(NOT(ISBLANK(ShareOfSearch_SERPS!G463)),ShareOfSearch_SERPS!G463,\"\")","v":""},{"$f":"IF(NOT(ISBLANK(ShareOfSearch_SERPS!K463)),ShareOfSearch_SERPS!K463,\"\")","v":""},{"$f":"IFERROR(VLOOKUP(C463,ShareOfSearch_CTR!$A$1:$B$100,2,FALSE)*VLOOKUP(A463&B463,ShareOfSearch_Volume!$C$1:$D$1000,2,FALSE),\"\")","v":""}]
[{"$f":"IF(ISTEXT(ShareOfSearch_SERPS!C464),ShareOfSearch_SERPS!C464,\"\")","v":""},{"$f":"IF(ISTEXT(ShareOfSearch_SERPS!D464),ShareOfSearch_SERPS!D464,\"\")","v":""},{"$f":"IF(NOT(ISBLANK(ShareOfSearch_SERPS!A464)),ShareOfSearch_SERPS!A464,\"\")","v":""},{"$f":"IF(NOT(ISBLANK(ShareOfSearch_SERPS!G464)),ShareOfSearch_SERPS!G464,\"\")","v":""},{"$f":"IF(NOT(ISBLANK(ShareOfSearch_SERPS!K464)),ShareOfSearch_SERPS!K464,\"\")","v":""},{"$f":"IFERROR(VLOOKUP(C464,ShareOfSearch_CTR!$A$1:$B$100,2,FALSE)*VLOOKUP(A464&B464,ShareOfSearch_Volume!$C$1:$D$1000,2,FALSE),\"\")","v":""}]
[{"$f":"IF(ISTEXT(ShareOfSearch_SERPS!C465),ShareOfSearch_SERPS!C465,\"\")","v":""},{"$f":"IF(ISTEXT(ShareOfSearch_SERPS!D465),ShareOfSearch_SERPS!D465,\"\")","v":""},{"$f":"IF(NOT(ISBLANK(ShareOfSearch_SERPS!A465)),ShareOfSearch_SERPS!A465,\"\")","v":""},{"$f":"IF(NOT(ISBLANK(ShareOfSearch_SERPS!G465)),ShareOfSearch_SERPS!G465,\"\")","v":""},{"$f":"IF(NOT(ISBLANK(ShareOfSearch_SERPS!K465)),ShareOfSearch_SERPS!K465,\"\")","v":""},{"$f":"IFERROR(VLOOKUP(C465,ShareOfSearch_CTR!$A$1:$B$100,2,FALSE)*VLOOKUP(A465&B465,ShareOfSearch_Volume!$C$1:$D$1000,2,FALSE),\"\")","v":""}]
[{"$f":"IF(ISTEXT(ShareOfSearch_SERPS!C466),ShareOfSearch_SERPS!C466,\"\")","v":""},{"$f":"IF(ISTEXT(ShareOfSearch_SERPS!D466),ShareOfSearch_SERPS!D466,\"\")","v":""},{"$f":"IF(NOT(ISBLANK(ShareOfSearch_SERPS!A466)),ShareOfSearch_SERPS!A466,\"\")","v":""},{"$f":"IF(NOT(ISBLANK(ShareOfSearch_SERPS!G466)),ShareOfSearch_SERPS!G466,\"\")","v":""},{"$f":"IF(NOT(ISBLANK(ShareOfSearch_SERPS!K466)),ShareOfSearch_SERPS!K466,\"\")","v":""},{"$f":"IFERROR(VLOOKUP(C466,ShareOfSearch_CTR!$A$1:$B$100,2,FALSE)*VLOOKUP(A466&B466,ShareOfSearch_Volume!$C$1:$D$1000,2,FALSE),\"\")","v":""}]
[{"$f":"IF(ISTEXT(ShareOfSearch_SERPS!C467),ShareOfSearch_SERPS!C467,\"\")","v":""},{"$f":"IF(ISTEXT(ShareOfSearch_SERPS!D467),ShareOfSearch_SERPS!D467,\"\")","v":""},{"$f":"IF(NOT(ISBLANK(ShareOfSearch_SERPS!A467)),ShareOfSearch_SERPS!A467,\"\")","v":""},{"$f":"IF(NOT(ISBLANK(ShareOfSearch_SERPS!G467)),ShareOfSearch_SERPS!G467,\"\")","v":""},{"$f":"IF(NOT(ISBLANK(ShareOfSearch_SERPS!K467)),ShareOfSearch_SERPS!K467,\"\")","v":""},{"$f":"IFERROR(VLOOKUP(C467,ShareOfSearch_CTR!$A$1:$B$100,2,FALSE)*VLOOKUP(A467&B467,ShareOfSearch_Volume!$C$1:$D$1000,2,FALSE),\"\")","v":""}]
[{"$f":"IF(ISTEXT(ShareOfSearch_SERPS!C468),ShareOfSearch_SERPS!C468,\"\")","v":""},{"$f":"IF(ISTEXT(ShareOfSearch_SERPS!D468),ShareOfSearch_SERPS!D468,\"\")","v":""},{"$f":"IF(NOT(ISBLANK(ShareOfSearch_SERPS!A468)),ShareOfSearch_SERPS!A468,\"\")","v":""},{"$f":"IF(NOT(ISBLANK(ShareOfSearch_SERPS!G468)),ShareOfSearch_SERPS!G468,\"\")","v":""},{"$f":"IF(NOT(ISBLANK(ShareOfSearch_SERPS!K468)),ShareOfSearch_SERPS!K468,\"\")","v":""},{"$f":"IFERROR(VLOOKUP(C468,ShareOfSearch_CTR!$A$1:$B$100,2,FALSE)*VLOOKUP(A468&B468,ShareOfSearch_Volume!$C$1:$D$1000,2,FALSE),\"\")","v":""}]
[{"$f":"IF(ISTEXT(ShareOfSearch_SERPS!C469),ShareOfSearch_SERPS!C469,\"\")","v":""},{"$f":"IF(ISTEXT(ShareOfSearch_SERPS!D469),ShareOfSearch_SERPS!D469,\"\")","v":""},{"$f":"IF(NOT(ISBLANK(ShareOfSearch_SERPS!A469)),ShareOfSearch_SERPS!A469,\"\")","v":""},{"$f":"IF(NOT(ISBLANK(ShareOfSearch_SERPS!G469)),ShareOfSearch_SERPS!G469,\"\")","v":""},{"$f":"IF(NOT(ISBLANK(ShareOfSearch_SERPS!K469)),ShareOfSearch_SERPS!K469,\"\")","v":""},{"$f":"IFERROR(VLOOKUP(C469,ShareOfSearch_CTR!$A$1:$B$100,2,FALSE)*VLOOKUP(A469&B469,ShareOfSearch_Volume!$C$1:$D$1000,2,FALSE),\"\")","v":""}]
[{"$f":"IF(ISTEXT(ShareOfSearch_SERPS!C470),ShareOfSearch_SERPS!C470,\"\")","v":""},{"$f":"IF(ISTEXT(ShareOfSearch_SERPS!D470),ShareOfSearch_SERPS!D470,\"\")","v":""},{"$f":"IF(NOT(ISBLANK(ShareOfSearch_SERPS!A470)),ShareOfSearch_SERPS!A470,\"\")","v":""},{"$f":"IF(NOT(ISBLANK(ShareOfSearch_SERPS!G470)),ShareOfSearch_SERPS!G470,\"\")","v":""},{"$f":"IF(NOT(ISBLANK(ShareOfSearch_SERPS!K470)),ShareOfSearch_SERPS!K470,\"\")","v":""},{"$f":"IFERROR(VLOOKUP(C470,ShareOfSearch_CTR!$A$1:$B$100,2,FALSE)*VLOOKUP(A470&B470,ShareOfSearch_Volume!$C$1:$D$1000,2,FALSE),\"\")","v":""}]
[{"$f":"IF(ISTEXT(ShareOfSearch_SERPS!C471),ShareOfSearch_SERPS!C471,\"\")","v":""},{"$f":"IF(ISTEXT(ShareOfSearch_SERPS!D471),ShareOfSearch_SERPS!D471,\"\")","v":""},{"$f":"IF(NOT(ISBLANK(ShareOfSearch_SERPS!A471)),ShareOfSearch_SERPS!A471,\"\")","v":""},{"$f":"IF(NOT(ISBLANK(ShareOfSearch_SERPS!G471)),ShareOfSearch_SERPS!G471,\"\")","v":""},{"$f":"IF(NOT(ISBLANK(ShareOfSearch_SERPS!K471)),ShareOfSearch_SERPS!K471,\"\")","v":""},{"$f":"IFERROR(VLOOKUP(C471,ShareOfSearch_CTR!$A$1:$B$100,2,FALSE)*VLOOKUP(A471&B471,ShareOfSearch_Volume!$C$1:$D$1000,2,FALSE),\"\")","v":""}]
[{"$f":"IF(ISTEXT(ShareOfSearch_SERPS!C472),ShareOfSearch_SERPS!C472,\"\")","v":""},{"$f":"IF(ISTEXT(ShareOfSearch_SERPS!D472),ShareOfSearch_SERPS!D472,\"\")","v":""},{"$f":"IF(NOT(ISBLANK(ShareOfSearch_SERPS!A472)),ShareOfSearch_SERPS!A472,\"\")","v":""},{"$f":"IF(NOT(ISBLANK(ShareOfSearch_SERPS!G472)),ShareOfSearch_SERPS!G472,\"\")","v":""},{"$f":"IF(NOT(ISBLANK(ShareOfSearch_SERPS!K472)),ShareOfSearch_SERPS!K472,\"\")","v":""},{"$f":"IFERROR(VLOOKUP(C472,ShareOfSearch_CTR!$A$1:$B$100,2,FALSE)*VLOOKUP(A472&B472,ShareOfSearch_Volume!$C$1:$D$1000,2,FALSE),\"\")","v":""}]
[{"$f":"IF(ISTEXT(ShareOfSearch_SERPS!C473),ShareOfSearch_SERPS!C473,\"\")","v":""},{"$f":"IF(ISTEXT(ShareOfSearch_SERPS!D473),ShareOfSearch_SERPS!D473,\"\")","v":""},{"$f":"IF(NOT(ISBLANK(ShareOfSearch_SERPS!A473)),ShareOfSearch_SERPS!A473,\"\")","v":""},{"$f":"IF(NOT(ISBLANK(ShareOfSearch_SERPS!G473)),ShareOfSearch_SERPS!G473,\"\")","v":""},{"$f":"IF(NOT(ISBLANK(ShareOfSearch_SERPS!K473)),ShareOfSearch_SERPS!K473,\"\")","v":""},{"$f":"IFERROR(VLOOKUP(C473,ShareOfSearch_CTR!$A$1:$B$100,2,FALSE)*VLOOKUP(A473&B473,ShareOfSearch_Volume!$C$1:$D$1000,2,FALSE),\"\")","v":""}]
[{"$f":"IF(ISTEXT(ShareOfSearch_SERPS!C474),ShareOfSearch_SERPS!C474,\"\")","v":""},{"$f":"IF(ISTEXT(ShareOfSearch_SERPS!D474),ShareOfSearch_SERPS!D474,\"\")","v":""},{"$f":"IF(NOT(ISBLANK(ShareOfSearch_SERPS!A474)),ShareOfSearch_SERPS!A474,\"\")","v":""},{"$f":"IF(NOT(ISBLANK(ShareOfSearch_SERPS!G474)),ShareOfSearch_SERPS!G474,\"\")","v":""},{"$f":"IF(NOT(ISBLANK(ShareOfSearch_SERPS!K474)),ShareOfSearch_SERPS!K474,\"\")","v":""},{"$f":"IFERROR(VLOOKUP(C474,ShareOfSearch_CTR!$A$1:$B$100,2,FALSE)*VLOOKUP(A474&B474,ShareOfSearch_Volume!$C$1:$D$1000,2,FALSE),\"\")","v":""}]
[{"$f":"IF(ISTEXT(ShareOfSearch_SERPS!C475),ShareOfSearch_SERPS!C475,\"\")","v":""},{"$f":"IF(ISTEXT(ShareOfSearch_SERPS!D475),ShareOfSearch_SERPS!D475,\"\")","v":""},{"$f":"IF(NOT(ISBLANK(ShareOfSearch_SERPS!A475)),ShareOfSearch_SERPS!A475,\"\")","v":""},{"$f":"IF(NOT(ISBLANK(ShareOfSearch_SERPS!G475)),ShareOfSearch_SERPS!G475,\"\")","v":""},{"$f":"IF(NOT(ISBLANK(ShareOfSearch_SERPS!K475)),ShareOfSearch_SERPS!K475,\"\")","v":""},{"$f":"IFERROR(VLOOKUP(C475,ShareOfSearch_CTR!$A$1:$B$100,2,FALSE)*VLOOKUP(A475&B475,ShareOfSearch_Volume!$C$1:$D$1000,2,FALSE),\"\")","v":""}]
[{"$f":"IF(ISTEXT(ShareOfSearch_SERPS!C476),ShareOfSearch_SERPS!C476,\"\")","v":""},{"$f":"IF(ISTEXT(ShareOfSearch_SERPS!D476),ShareOfSearch_SERPS!D476,\"\")","v":""},{"$f":"IF(NOT(ISBLANK(ShareOfSearch_SERPS!A476)),ShareOfSearch_SERPS!A476,\"\")","v":""},{"$f":"IF(NOT(ISBLANK(ShareOfSearch_SERPS!G476)),ShareOfSearch_SERPS!G476,\"\")","v":""},{"$f":"IF(NOT(ISBLANK(ShareOfSearch_SERPS!K476)),ShareOfSearch_SERPS!K476,\"\")","v":""},{"$f":"IFERROR(VLOOKUP(C476,ShareOfSearch_CTR!$A$1:$B$100,2,FALSE)*VLOOKUP(A476&B476,ShareOfSearch_Volume!$C$1:$D$1000,2,FALSE),\"\")","v":""}]
[{"$f":"IF(ISTEXT(ShareOfSearch_SERPS!C477),ShareOfSearch_SERPS!C477,\"\")","v":""},{"$f":"IF(ISTEXT(ShareOfSearch_SERPS!D477),ShareOfSearch_SERPS!D477,\"\")","v":""},{"$f":"IF(NOT(ISBLANK(ShareOfSearch_SERPS!A477)),ShareOfSearch_SERPS!A477,\"\")","v":""},{"$f":"IF(NOT(ISBLANK(ShareOfSearch_SERPS!G477)),ShareOfSearch_SERPS!G477,\"\")","v":""},{"$f":"IF(NOT(ISBLANK(ShareOfSearch_SERPS!K477)),ShareOfSearch_SERPS!K477,\"\")","v":""},{"$f":"IFERROR(VLOOKUP(C477,ShareOfSearch_CTR!$A$1:$B$100,2,FALSE)*VLOOKUP(A477&B477,ShareOfSearch_Volume!$C$1:$D$1000,2,FALSE),\"\")","v":""}]
[{"$f":"IF(ISTEXT(ShareOfSearch_SERPS!C478),ShareOfSearch_SERPS!C478,\"\")","v":""},{"$f":"IF(ISTEXT(ShareOfSearch_SERPS!D478),ShareOfSearch_SERPS!D478,\"\")","v":""},{"$f":"IF(NOT(ISBLANK(ShareOfSearch_SERPS!A478)),ShareOfSearch_SERPS!A478,\"\")","v":""},{"$f":"IF(NOT(ISBLANK(ShareOfSearch_SERPS!G478)),ShareOfSearch_SERPS!G478,\"\")","v":""},{"$f":"IF(NOT(ISBLANK(ShareOfSearch_SERPS!K478)),ShareOfSearch_SERPS!K478,\"\")","v":""},{"$f":"IFERROR(VLOOKUP(C478,ShareOfSearch_CTR!$A$1:$B$100,2,FALSE)*VLOOKUP(A478&B478,ShareOfSearch_Volume!$C$1:$D$1000,2,FALSE),\"\")","v":""}]
[{"$f":"IF(ISTEXT(ShareOfSearch_SERPS!C479),ShareOfSearch_SERPS!C479,\"\")","v":""},{"$f":"IF(ISTEXT(ShareOfSearch_SERPS!D479),ShareOfSearch_SERPS!D479,\"\")","v":""},{"$f":"IF(NOT(ISBLANK(ShareOfSearch_SERPS!A479)),ShareOfSearch_SERPS!A479,\"\")","v":""},{"$f":"IF(NOT(ISBLANK(ShareOfSearch_SERPS!G479)),ShareOfSearch_SERPS!G479,\"\")","v":""},{"$f":"IF(NOT(ISBLANK(ShareOfSearch_SERPS!K479)),ShareOfSearch_SERPS!K479,\"\")","v":""},{"$f":"IFERROR(VLOOKUP(C479,ShareOfSearch_CTR!$A$1:$B$100,2,FALSE)*VLOOKUP(A479&B479,ShareOfSearch_Volume!$C$1:$D$1000,2,FALSE),\"\")","v":""}]
[{"$f":"IF(ISTEXT(ShareOfSearch_SERPS!C480),ShareOfSearch_SERPS!C480,\"\")","v":""},{"$f":"IF(ISTEXT(ShareOfSearch_SERPS!D480),ShareOfSearch_SERPS!D480,\"\")","v":""},{"$f":"IF(NOT(ISBLANK(ShareOfSearch_SERPS!A480)),ShareOfSearch_SERPS!A480,\"\")","v":""},{"$f":"IF(NOT(ISBLANK(ShareOfSearch_SERPS!G480)),ShareOfSearch_SERPS!G480,\"\")","v":""},{"$f":"IF(NOT(ISBLANK(ShareOfSearch_SERPS!K480)),ShareOfSearch_SERPS!K480,\"\")","v":""},{"$f":"IFERROR(VLOOKUP(C480,ShareOfSearch_CTR!$A$1:$B$100,2,FALSE)*VLOOKUP(A480&B480,ShareOfSearch_Volume!$C$1:$D$1000,2,FALSE),\"\")","v":""}]
[{"$f":"IF(ISTEXT(ShareOfSearch_SERPS!C481),ShareOfSearch_SERPS!C481,\"\")","v":""},{"$f":"IF(ISTEXT(ShareOfSearch_SERPS!D481),ShareOfSearch_SERPS!D481,\"\")","v":""},{"$f":"IF(NOT(ISBLANK(ShareOfSearch_SERPS!A481)),ShareOfSearch_SERPS!A481,\"\")","v":""},{"$f":"IF(NOT(ISBLANK(ShareOfSearch_SERPS!G481)),ShareOfSearch_SERPS!G481,\"\")","v":""},{"$f":"IF(NOT(ISBLANK(ShareOfSearch_SERPS!K481)),ShareOfSearch_SERPS!K481,\"\")","v":""},{"$f":"IFERROR(VLOOKUP(C481,ShareOfSearch_CTR!$A$1:$B$100,2,FALSE)*VLOOKUP(A481&B481,ShareOfSearch_Volume!$C$1:$D$1000,2,FALSE),\"\")","v":""}]
[{"$f":"IF(ISTEXT(ShareOfSearch_SERPS!C482),ShareOfSearch_SERPS!C482,\"\")","v":""},{"$f":"IF(ISTEXT(ShareOfSearch_SERPS!D482),ShareOfSearch_SERPS!D482,\"\")","v":""},{"$f":"IF(NOT(ISBLANK(ShareOfSearch_SERPS!A482)),ShareOfSearch_SERPS!A482,\"\")","v":""},{"$f":"IF(NOT(ISBLANK(ShareOfSearch_SERPS!G482)),ShareOfSearch_SERPS!G482,\"\")","v":""},{"$f":"IF(NOT(ISBLANK(ShareOfSearch_SERPS!K482)),ShareOfSearch_SERPS!K482,\"\")","v":""},{"$f":"IFERROR(VLOOKUP(C482,ShareOfSearch_CTR!$A$1:$B$100,2,FALSE)*VLOOKUP(A482&B482,ShareOfSearch_Volume!$C$1:$D$1000,2,FALSE),\"\")","v":""}]
[{"$f":"IF(ISTEXT(ShareOfSearch_SERPS!C483),ShareOfSearch_SERPS!C483,\"\")","v":""},{"$f":"IF(ISTEXT(ShareOfSearch_SERPS!D483),ShareOfSearch_SERPS!D483,\"\")","v":""},{"$f":"IF(NOT(ISBLANK(ShareOfSearch_SERPS!A483)),ShareOfSearch_SERPS!A483,\"\")","v":""},{"$f":"IF(NOT(ISBLANK(ShareOfSearch_SERPS!G483)),ShareOfSearch_SERPS!G483,\"\")","v":""},{"$f":"IF(NOT(ISBLANK(ShareOfSearch_SERPS!K483)),ShareOfSearch_SERPS!K483,\"\")","v":""},{"$f":"IFERROR(VLOOKUP(C483,ShareOfSearch_CTR!$A$1:$B$100,2,FALSE)*VLOOKUP(A483&B483,ShareOfSearch_Volume!$C$1:$D$1000,2,FALSE),\"\")","v":""}]
[{"$f":"IF(ISTEXT(ShareOfSearch_SERPS!C484),ShareOfSearch_SERPS!C484,\"\")","v":""},{"$f":"IF(ISTEXT(ShareOfSearch_SERPS!D484),ShareOfSearch_SERPS!D484,\"\")","v":""},{"$f":"IF(NOT(ISBLANK(ShareOfSearch_SERPS!A484)),ShareOfSearch_SERPS!A484,\"\")","v":""},{"$f":"IF(NOT(ISBLANK(ShareOfSearch_SERPS!G484)),ShareOfSearch_SERPS!G484,\"\")","v":""},{"$f":"IF(NOT(ISBLANK(ShareOfSearch_SERPS!K484)),ShareOfSearch_SERPS!K484,\"\")","v":""},{"$f":"IFERROR(VLOOKUP(C484,ShareOfSearch_CTR!$A$1:$B$100,2,FALSE)*VLOOKUP(A484&B484,ShareOfSearch_Volume!$C$1:$D$1000,2,FALSE),\"\")","v":""}]
[{"$f":"IF(ISTEXT(ShareOfSearch_SERPS!C485),ShareOfSearch_SERPS!C485,\"\")","v":""},{"$f":"IF(ISTEXT(ShareOfSearch_SERPS!D485),ShareOfSearch_SERPS!D485,\"\")","v":""},{"$f":"IF(NOT(ISBLANK(ShareOfSearch_SERPS!A485)),ShareOfSearch_SERPS!A485,\"\")","v":""},{"$f":"IF(NOT(ISBLANK(ShareOfSearch_SERPS!G485)),ShareOfSearch_SERPS!G485,\"\")","v":""},{"$f":"IF(NOT(ISBLANK(ShareOfSearch_SERPS!K485)),ShareOfSearch_SERPS!K485,\"\")","v":""},{"$f":"IFERROR(VLOOKUP(C485,ShareOfSearch_CTR!$A$1:$B$100,2,FALSE)*VLOOKUP(A485&B485,ShareOfSearch_Volume!$C$1:$D$1000,2,FALSE),\"\")","v":""}]
[{"$f":"IF(ISTEXT(ShareOfSearch_SERPS!C486),ShareOfSearch_SERPS!C486,\"\")","v":""},{"$f":"IF(ISTEXT(ShareOfSearch_SERPS!D486),ShareOfSearch_SERPS!D486,\"\")","v":""},{"$f":"IF(NOT(ISBLANK(ShareOfSearch_SERPS!A486)),ShareOfSearch_SERPS!A486,\"\")","v":""},{"$f":"IF(NOT(ISBLANK(ShareOfSearch_SERPS!G486)),ShareOfSearch_SERPS!G486,\"\")","v":""},{"$f":"IF(NOT(ISBLANK(ShareOfSearch_SERPS!K486)),ShareOfSearch_SERPS!K486,\"\")","v":""},{"$f":"IFERROR(VLOOKUP(C486,ShareOfSearch_CTR!$A$1:$B$100,2,FALSE)*VLOOKUP(A486&B486,ShareOfSearch_Volume!$C$1:$D$1000,2,FALSE),\"\")","v":""}]
[{"$f":"IF(ISTEXT(ShareOfSearch_SERPS!C487),ShareOfSearch_SERPS!C487,\"\")","v":""},{"$f":"IF(ISTEXT(ShareOfSearch_SERPS!D487),ShareOfSearch_SERPS!D487,\"\")","v":""},{"$f":"IF(NOT(ISBLANK(ShareOfSearch_SERPS!A487)),ShareOfSearch_SERPS!A487,\"\")","v":""},{"$f":"IF(NOT(ISBLANK(ShareOfSearch_SERPS!G487)),ShareOfSearch_SERPS!G487,\"\")","v":""},{"$f":"IF(NOT(ISBLANK(ShareOfSearch_SERPS!K487)),ShareOfSearch_SERPS!K487,\"\")","v":""},{"$f":"IFERROR(VLOOKUP(C487,ShareOfSearch_CTR!$A$1:$B$100,2,FALSE)*VLOOKUP(A487&B487,ShareOfSearch_Volume!$C$1:$D$1000,2,FALSE),\"\")","v":""}]
[{"$f":"IF(ISTEXT(ShareOfSearch_SERPS!C488),ShareOfSearch_SERPS!C488,\"\")","v":""},{"$f":"IF(ISTEXT(ShareOfSearch_SERPS!D488),ShareOfSearch_SERPS!D488,\"\")","v":""},{"$f":"IF(NOT(ISBLANK(ShareOfSearch_SERPS!A488)),ShareOfSearch_SERPS!A488,\"\")","v":""},{"$f":"IF(NOT(ISBLANK(ShareOfSearch_SERPS!G488)),ShareOfSearch_SERPS!G488,\"\")","v":""},{"$f":"IF(NOT(ISBLANK(ShareOfSearch_SERPS!K488)),ShareOfSearch_SERPS!K488,\"\")","v":""},{"$f":"IFERROR(VLOOKUP(C488,ShareOfSearch_CTR!$A$1:$B$100,2,FALSE)*VLOOKUP(A488&B488,ShareOfSearch_Volume!$C$1:$D$1000,2,FALSE),\"\")","v":""}]
[{"$f":"IF(ISTEXT(ShareOfSearch_SERPS!C489),ShareOfSearch_SERPS!C489,\"\")","v":""},{"$f":"IF(ISTEXT(ShareOfSearch_SERPS!D489),ShareOfSearch_SERPS!D489,\"\")","v":""},{"$f":"IF(NOT(ISBLANK(ShareOfSearch_SERPS!A489)),ShareOfSearch_SERPS!A489,\"\")","v":""},{"$f":"IF(NOT(ISBLANK(ShareOfSearch_SERPS!G489)),ShareOfSearch_SERPS!G489,\"\")","v":""},{"$f":"IF(NOT(ISBLANK(ShareOfSearch_SERPS!K489)),ShareOfSearch_SERPS!K489,\"\")","v":""},{"$f":"IFERROR(VLOOKUP(C489,ShareOfSearch_CTR!$A$1:$B$100,2,FALSE)*VLOOKUP(A489&B489,ShareOfSearch_Volume!$C$1:$D$1000,2,FALSE),\"\")","v":""}]
[{"$f":"IF(ISTEXT(ShareOfSearch_SERPS!C490),ShareOfSearch_SERPS!C490,\"\")","v":""},{"$f":"IF(ISTEXT(ShareOfSearch_SERPS!D490),ShareOfSearch_SERPS!D490,\"\")","v":""},{"$f":"IF(NOT(ISBLANK(ShareOfSearch_SERPS!A490)),ShareOfSearch_SERPS!A490,\"\")","v":""},{"$f":"IF(NOT(ISBLANK(ShareOfSearch_SERPS!G490)),ShareOfSearch_SERPS!G490,\"\")","v":""},{"$f":"IF(NOT(ISBLANK(ShareOfSearch_SERPS!K490)),ShareOfSearch_SERPS!K490,\"\")","v":""},{"$f":"IFERROR(VLOOKUP(C490,ShareOfSearch_CTR!$A$1:$B$100,2,FALSE)*VLOOKUP(A490&B490,ShareOfSearch_Volume!$C$1:$D$1000,2,FALSE),\"\")","v":""}]
[{"$f":"IF(ISTEXT(ShareOfSearch_SERPS!C491),ShareOfSearch_SERPS!C491,\"\")","v":""},{"$f":"IF(ISTEXT(ShareOfSearch_SERPS!D491),ShareOfSearch_SERPS!D491,\"\")","v":""},{"$f":"IF(NOT(ISBLANK(ShareOfSearch_SERPS!A491)),ShareOfSearch_SERPS!A491,\"\")","v":""},{"$f":"IF(NOT(ISBLANK(ShareOfSearch_SERPS!G491)),ShareOfSearch_SERPS!G491,\"\")","v":""},{"$f":"IF(NOT(ISBLANK(ShareOfSearch_SERPS!K491)),ShareOfSearch_SERPS!K491,\"\")","v":""},{"$f":"IFERROR(VLOOKUP(C491,ShareOfSearch_CTR!$A$1:$B$100,2,FALSE)*VLOOKUP(A491&B491,ShareOfSearch_Volume!$C$1:$D$1000,2,FALSE),\"\")","v":""}]
[{"$f":"IF(ISTEXT(ShareOfSearch_SERPS!C492),ShareOfSearch_SERPS!C492,\"\")","v":""},{"$f":"IF(ISTEXT(ShareOfSearch_SERPS!D492),ShareOfSearch_SERPS!D492,\"\")","v":""},{"$f":"IF(NOT(ISBLANK(ShareOfSearch_SERPS!A492)),ShareOfSearch_SERPS!A492,\"\")","v":""},{"$f":"IF(NOT(ISBLANK(ShareOfSearch_SERPS!G492)),ShareOfSearch_SERPS!G492,\"\")","v":""},{"$f":"IF(NOT(ISBLANK(ShareOfSearch_SERPS!K492)),ShareOfSearch_SERPS!K492,\"\")","v":""},{"$f":"IFERROR(VLOOKUP(C492,ShareOfSearch_CTR!$A$1:$B$100,2,FALSE)*VLOOKUP(A492&B492,ShareOfSearch_Volume!$C$1:$D$1000,2,FALSE),\"\")","v":""}]
[{"$f":"IF(ISTEXT(ShareOfSearch_SERPS!C493),ShareOfSearch_SERPS!C493,\"\")","v":""},{"$f":"IF(ISTEXT(ShareOfSearch_SERPS!D493),ShareOfSearch_SERPS!D493,\"\")","v":""},{"$f":"IF(NOT(ISBLANK(ShareOfSearch_SERPS!A493)),ShareOfSearch_SERPS!A493,\"\")","v":""},{"$f":"IF(NOT(ISBLANK(ShareOfSearch_SERPS!G493)),ShareOfSearch_SERPS!G493,\"\")","v":""},{"$f":"IF(NOT(ISBLANK(ShareOfSearch_SERPS!K493)),ShareOfSearch_SERPS!K493,\"\")","v":""},{"$f":"IFERROR(VLOOKUP(C493,ShareOfSearch_CTR!$A$1:$B$100,2,FALSE)*VLOOKUP(A493&B493,ShareOfSearch_Volume!$C$1:$D$1000,2,FALSE),\"\")","v":""}]
[{"$f":"IF(ISTEXT(ShareOfSearch_SERPS!C494),ShareOfSearch_SERPS!C494,\"\")","v":""},{"$f":"IF(ISTEXT(ShareOfSearch_SERPS!D494),ShareOfSearch_SERPS!D494,\"\")","v":""},{"$f":"IF(NOT(ISBLANK(ShareOfSearch_SERPS!A494)),ShareOfSearch_SERPS!A494,\"\")","v":""},{"$f":"IF(NOT(ISBLANK(ShareOfSearch_SERPS!G494)),ShareOfSearch_SERPS!G494,\"\")","v":""},{"$f":"IF(NOT(ISBLANK(ShareOfSearch_SERPS!K494)),ShareOfSearch_SERPS!K494,\"\")","v":""},{"$f":"IFERROR(VLOOKUP(C494,ShareOfSearch_CTR!$A$1:$B$100,2,FALSE)*VLOOKUP(A494&B494,ShareOfSearch_Volume!$C$1:$D$1000,2,FALSE),\"\")","v":""}]
[{"$f":"IF(ISTEXT(ShareOfSearch_SERPS!C495),ShareOfSearch_SERPS!C495,\"\")","v":""},{"$f":"IF(ISTEXT(ShareOfSearch_SERPS!D495),ShareOfSearch_SERPS!D495,\"\")","v":""},{"$f":"IF(NOT(ISBLANK(ShareOfSearch_SERPS!A495)),ShareOfSearch_SERPS!A495,\"\")","v":""},{"$f":"IF(NOT(ISBLANK(ShareOfSearch_SERPS!G495)),ShareOfSearch_SERPS!G495,\"\")","v":""},{"$f":"IF(NOT(ISBLANK(ShareOfSearch_SERPS!K495)),ShareOfSearch_SERPS!K495,\"\")","v":""},{"$f":"IFERROR(VLOOKUP(C495,ShareOfSearch_CTR!$A$1:$B$100,2,FALSE)*VLOOKUP(A495&B495,ShareOfSearch_Volume!$C$1:$D$1000,2,FALSE),\"\")","v":""}]
[{"$f":"IF(ISTEXT(ShareOfSearch_SERPS!C496),ShareOfSearch_SERPS!C496,\"\")","v":""},{"$f":"IF(ISTEXT(ShareOfSearch_SERPS!D496),ShareOfSearch_SERPS!D496,\"\")","v":""},{"$f":"IF(NOT(ISBLANK(ShareOfSearch_SERPS!A496)),ShareOfSearch_SERPS!A496,\"\")","v":""},{"$f":"IF(NOT(ISBLANK(ShareOfSearch_SERPS!G496)),ShareOfSearch_SERPS!G496,\"\")","v":""},{"$f":"IF(NOT(ISBLANK(ShareOfSearch_SERPS!K496)),ShareOfSearch_SERPS!K496,\"\")","v":""},{"$f":"IFERROR(VLOOKUP(C496,ShareOfSearch_CTR!$A$1:$B$100,2,FALSE)*VLOOKUP(A496&B496,ShareOfSearch_Volume!$C$1:$D$1000,2,FALSE),\"\")","v":""}]
[{"$f":"IF(ISTEXT(ShareOfSearch_SERPS!C497),ShareOfSearch_SERPS!C497,\"\")","v":""},{"$f":"IF(ISTEXT(ShareOfSearch_SERPS!D497),ShareOfSearch_SERPS!D497,\"\")","v":""},{"$f":"IF(NOT(ISBLANK(ShareOfSearch_SERPS!A497)),ShareOfSearch_SERPS!A497,\"\")","v":""},{"$f":"IF(NOT(ISBLANK(ShareOfSearch_SERPS!G497)),ShareOfSearch_SERPS!G497,\"\")","v":""},{"$f":"IF(NOT(ISBLANK(ShareOfSearch_SERPS!K497)),ShareOfSearch_SERPS!K497,\"\")","v":""},{"$f":"IFERROR(VLOOKUP(C497,ShareOfSearch_CTR!$A$1:$B$100,2,FALSE)*VLOOKUP(A497&B497,ShareOfSearch_Volume!$C$1:$D$1000,2,FALSE),\"\")","v":""}]
[{"$f":"IF(ISTEXT(ShareOfSearch_SERPS!C498),ShareOfSearch_SERPS!C498,\"\")","v":""},{"$f":"IF(ISTEXT(ShareOfSearch_SERPS!D498),ShareOfSearch_SERPS!D498,\"\")","v":""},{"$f":"IF(NOT(ISBLANK(ShareOfSearch_SERPS!A498)),ShareOfSearch_SERPS!A498,\"\")","v":""},{"$f":"IF(NOT(ISBLANK(ShareOfSearch_SERPS!G498)),ShareOfSearch_SERPS!G498,\"\")","v":""},{"$f":"IF(NOT(ISBLANK(ShareOfSearch_SERPS!K498)),ShareOfSearch_SERPS!K498,\"\")","v":""},{"$f":"IFERROR(VLOOKUP(C498,ShareOfSearch_CTR!$A$1:$B$100,2,FALSE)*VLOOKUP(A498&B498,ShareOfSearch_Volume!$C$1:$D$1000,2,FALSE),\"\")","v":""}]
[{"$f":"IF(ISTEXT(ShareOfSearch_SERPS!C499),ShareOfSearch_SERPS!C499,\"\")","v":""},{"$f":"IF(ISTEXT(ShareOfSearch_SERPS!D499),ShareOfSearch_SERPS!D499,\"\")","v":""},{"$f":"IF(NOT(ISBLANK(ShareOfSearch_SERPS!A499)),ShareOfSearch_SERPS!A499,\"\")","v":""},{"$f":"IF(NOT(ISBLANK(ShareOfSearch_SERPS!G499)),ShareOfSearch_SERPS!G499,\"\")","v":""},{"$f":"IF(NOT(ISBLANK(ShareOfSearch_SERPS!K499)),ShareOfSearch_SERPS!K499,\"\")","v":""},{"$f":"IFERROR(VLOOKUP(C499,ShareOfSearch_CTR!$A$1:$B$100,2,FALSE)*VLOOKUP(A499&B499,ShareOfSearch_Volume!$C$1:$D$1000,2,FALSE),\"\")","v":""}]
[{"$f":"IF(ISTEXT(ShareOfSearch_SERPS!C500),ShareOfSearch_SERPS!C500,\"\")","v":""},{"$f":"IF(ISTEXT(ShareOfSearch_SERPS!D500),ShareOfSearch_SERPS!D500,\"\")","v":""},{"$f":"IF(NOT(ISBLANK(ShareOfSearch_SERPS!A500)),ShareOfSearch_SERPS!A500,\"\")","v":""},{"$f":"IF(NOT(ISBLANK(ShareOfSearch_SERPS!G500)),ShareOfSearch_SERPS!G500,\"\")","v":""},{"$f":"IF(NOT(ISBLANK(ShareOfSearch_SERPS!K500)),ShareOfSearch_SERPS!K500,\"\")","v":""},{"$f":"IFERROR(VLOOKUP(C500,ShareOfSearch_CTR!$A$1:$B$100,2,FALSE)*VLOOKUP(A500&B500,ShareOfSearch_Volume!$C$1:$D$1000,2,FALSE),\"\")","v":""}]
[{"$f":"IF(ISTEXT(ShareOfSearch_SERPS!C501),ShareOfSearch_SERPS!C501,\"\")","v":""},{"$f":"IF(ISTEXT(ShareOfSearch_SERPS!D501),ShareOfSearch_SERPS!D501,\"\")","v":""},{"$f":"IF(NOT(ISBLANK(ShareOfSearch_SERPS!A501)),ShareOfSearch_SERPS!A501,\"\")","v":""},{"$f":"IF(NOT(ISBLANK(ShareOfSearch_SERPS!G501)),ShareOfSearch_SERPS!G501,\"\")","v":""},{"$f":"IF(NOT(ISBLANK(ShareOfSearch_SERPS!K501)),ShareOfSearch_SERPS!K501,\"\")","v":""},{"$f":"IFERROR(VLOOKUP(C501,ShareOfSearch_CTR!$A$1:$B$100,2,FALSE)*VLOOKUP(A501&B501,ShareOfSearch_Volume!$C$1:$D$1000,2,FALSE),\"\")","v":""}]
[{"$f":"IF(ISTEXT(ShareOfSearch_SERPS!C502),ShareOfSearch_SERPS!C502,\"\")","v":""},{"$f":"IF(ISTEXT(ShareOfSearch_SERPS!D502),ShareOfSearch_SERPS!D502,\"\")","v":""},{"$f":"IF(NOT(ISBLANK(ShareOfSearch_SERPS!A502)),ShareOfSearch_SERPS!A502,\"\")","v":""},{"$f":"IF(NOT(ISBLANK(ShareOfSearch_SERPS!G502)),ShareOfSearch_SERPS!G502,\"\")","v":""},{"$f":"IF(NOT(ISBLANK(ShareOfSearch_SERPS!K502)),ShareOfSearch_SERPS!K502,\"\")","v":""},{"$f":"IFERROR(VLOOKUP(C502,ShareOfSearch_CTR!$A$1:$B$100,2,FALSE)*VLOOKUP(A502&B502,ShareOfSearch_Volume!$C$1:$D$1000,2,FALSE),\"\")","v":""}]
[{"$f":"IF(ISTEXT(ShareOfSearch_SERPS!C503),ShareOfSearch_SERPS!C503,\"\")","v":""},{"$f":"IF(ISTEXT(ShareOfSearch_SERPS!D503),ShareOfSearch_SERPS!D503,\"\")","v":""},{"$f":"IF(NOT(ISBLANK(ShareOfSearch_SERPS!A503)),ShareOfSearch_SERPS!A503,\"\")","v":""},{"$f":"IF(NOT(ISBLANK(ShareOfSearch_SERPS!G503)),ShareOfSearch_SERPS!G503,\"\")","v":""},{"$f":"IF(NOT(ISBLANK(ShareOfSearch_SERPS!K503)),ShareOfSearch_SERPS!K503,\"\")","v":""},{"$f":"IFERROR(VLOOKUP(C503,ShareOfSearch_CTR!$A$1:$B$100,2,FALSE)*VLOOKUP(A503&B503,ShareOfSearch_Volume!$C$1:$D$1000,2,FALSE),\"\")","v":""}]
[{"$f":"IF(ISTEXT(ShareOfSearch_SERPS!C504),ShareOfSearch_SERPS!C504,\"\")","v":""},{"$f":"IF(ISTEXT(ShareOfSearch_SERPS!D504),ShareOfSearch_SERPS!D504,\"\")","v":""},{"$f":"IF(NOT(ISBLANK(ShareOfSearch_SERPS!A504)),ShareOfSearch_SERPS!A504,\"\")","v":""},{"$f":"IF(NOT(ISBLANK(ShareOfSearch_SERPS!G504)),ShareOfSearch_SERPS!G504,\"\")","v":""},{"$f":"IF(NOT(ISBLANK(ShareOfSearch_SERPS!K504)),ShareOfSearch_SERPS!K504,\"\")","v":""},{"$f":"IFERROR(VLOOKUP(C504,ShareOfSearch_CTR!$A$1:$B$100,2,FALSE)*VLOOKUP(A504&B504,ShareOfSearch_Volume!$C$1:$D$1000,2,FALSE),\"\")","v":""}]
[{"$f":"IF(ISTEXT(ShareOfSearch_SERPS!C505),ShareOfSearch_SERPS!C505,\"\")","v":""},{"$f":"IF(ISTEXT(ShareOfSearch_SERPS!D505),ShareOfSearch_SERPS!D505,\"\")","v":""},{"$f":"IF(NOT(ISBLANK(ShareOfSearch_SERPS!A505)),ShareOfSearch_SERPS!A505,\"\")","v":""},{"$f":"IF(NOT(ISBLANK(ShareOfSearch_SERPS!G505)),ShareOfSearch_SERPS!G505,\"\")","v":""},{"$f":"IF(NOT(ISBLANK(ShareOfSearch_SERPS!K505)),ShareOfSearch_SERPS!K505,\"\")","v":""},{"$f":"IFERROR(VLOOKUP(C505,ShareOfSearch_CTR!$A$1:$B$100,2,FALSE)*VLOOKUP(A505&B505,ShareOfSearch_Volume!$C$1:$D$1000,2,FALSE),\"\")","v":""}]
[{"$f":"IF(ISTEXT(ShareOfSearch_SERPS!C506),ShareOfSearch_SERPS!C506,\"\")","v":""},{"$f":"IF(ISTEXT(ShareOfSearch_SERPS!D506),ShareOfSearch_SERPS!D506,\"\")","v":""},{"$f":"IF(NOT(ISBLANK(ShareOfSearch_SERPS!A506)),ShareOfSearch_SERPS!A506,\"\")","v":""},{"$f":"IF(NOT(ISBLANK(ShareOfSearch_SERPS!G506)),ShareOfSearch_SERPS!G506,\"\")","v":""},{"$f":"IF(NOT(ISBLANK(ShareOfSearch_SERPS!K506)),ShareOfSearch_SERPS!K506,\"\")","v":""},{"$f":"IFERROR(VLOOKUP(C506,ShareOfSearch_CTR!$A$1:$B$100,2,FALSE)*VLOOKUP(A506&B506,ShareOfSearch_Volume!$C$1:$D$1000,2,FALSE),\"\")","v":""}]
[{"$f":"IF(ISTEXT(ShareOfSearch_SERPS!C507),ShareOfSearch_SERPS!C507,\"\")","v":""},{"$f":"IF(ISTEXT(ShareOfSearch_SERPS!D507),ShareOfSearch_SERPS!D507,\"\")","v":""},{"$f":"IF(NOT(ISBLANK(ShareOfSearch_SERPS!A507)),ShareOfSearch_SERPS!A507,\"\")","v":""},{"$f":"IF(NOT(ISBLANK(ShareOfSearch_SERPS!G507)),ShareOfSearch_SERPS!G507,\"\")","v":""},{"$f":"IF(NOT(ISBLANK(ShareOfSearch_SERPS!K507)),ShareOfSearch_SERPS!K507,\"\")","v":""},{"$f":"IFERROR(VLOOKUP(C507,ShareOfSearch_CTR!$A$1:$B$100,2,FALSE)*VLOOKUP(A507&B507,ShareOfSearch_Volume!$C$1:$D$1000,2,FALSE),\"\")","v":""}]
[{"$f":"IF(ISTEXT(ShareOfSearch_SERPS!C508),ShareOfSearch_SERPS!C508,\"\")","v":""},{"$f":"IF(ISTEXT(ShareOfSearch_SERPS!D508),ShareOfSearch_SERPS!D508,\"\")","v":""},{"$f":"IF(NOT(ISBLANK(ShareOfSearch_SERPS!A508)),ShareOfSearch_SERPS!A508,\"\")","v":""},{"$f":"IF(NOT(ISBLANK(ShareOfSearch_SERPS!G508)),ShareOfSearch_SERPS!G508,\"\")","v":""},{"$f":"IF(NOT(ISBLANK(ShareOfSearch_SERPS!K508)),ShareOfSearch_SERPS!K508,\"\")","v":""},{"$f":"IFERROR(VLOOKUP(C508,ShareOfSearch_CTR!$A$1:$B$100,2,FALSE)*VLOOKUP(A508&B508,ShareOfSearch_Volume!$C$1:$D$1000,2,FALSE),\"\")","v":""}]
[{"$f":"IF(ISTEXT(ShareOfSearch_SERPS!C509),ShareOfSearch_SERPS!C509,\"\")","v":""},{"$f":"IF(ISTEXT(ShareOfSearch_SERPS!D509),ShareOfSearch_SERPS!D509,\"\")","v":""},{"$f":"IF(NOT(ISBLANK(ShareOfSearch_SERPS!A509)),ShareOfSearch_SERPS!A509,\"\")","v":""},{"$f":"IF(NOT(ISBLANK(ShareOfSearch_SERPS!G509)),ShareOfSearch_SERPS!G509,\"\")","v":""},{"$f":"IF(NOT(ISBLANK(ShareOfSearch_SERPS!K509)),ShareOfSearch_SERPS!K509,\"\")","v":""},{"$f":"IFERROR(VLOOKUP(C509,ShareOfSearch_CTR!$A$1:$B$100,2,FALSE)*VLOOKUP(A509&B509,ShareOfSearch_Volume!$C$1:$D$1000,2,FALSE),\"\")","v":""}]
[{"$f":"IF(ISTEXT(ShareOfSearch_SERPS!C510),ShareOfSearch_SERPS!C510,\"\")","v":""},{"$f":"IF(ISTEXT(ShareOfSearch_SERPS!D510),ShareOfSearch_SERPS!D510,\"\")","v":""},{"$f":"IF(NOT(ISBLANK(ShareOfSearch_SERPS!A510)),ShareOfSearch_SERPS!A510,\"\")","v":""},{"$f":"IF(NOT(ISBLANK(ShareOfSearch_SERPS!G510)),ShareOfSearch_SERPS!G510,\"\")","v":""},{"$f":"IF(NOT(ISBLANK(ShareOfSearch_SERPS!K510)),ShareOfSearch_SERPS!K510,\"\")","v":""},{"$f":"IFERROR(VLOOKUP(C510,ShareOfSearch_CTR!$A$1:$B$100,2,FALSE)*VLOOKUP(A510&B510,ShareOfSearch_Volume!$C$1:$D$1000,2,FALSE),\"\")","v":""}]
[{"$f":"IF(ISTEXT(ShareOfSearch_SERPS!C511),ShareOfSearch_SERPS!C511,\"\")","v":""},{"$f":"IF(ISTEXT(ShareOfSearch_SERPS!D511),ShareOfSearch_SERPS!D511,\"\")","v":""},{"$f":"IF(NOT(ISBLANK(ShareOfSearch_SERPS!A511)),ShareOfSearch_SERPS!A511,\"\")","v":""},{"$f":"IF(NOT(ISBLANK(ShareOfSearch_SERPS!G511)),ShareOfSearch_SERPS!G511,\"\")","v":""},{"$f":"IF(NOT(ISBLANK(ShareOfSearch_SERPS!K511)),ShareOfSearch_SERPS!K511,\"\")","v":""},{"$f":"IFERROR(VLOOKUP(C511,ShareOfSearch_CTR!$A$1:$B$100,2,FALSE)*VLOOKUP(A511&B511,ShareOfSearch_Volume!$C$1:$D$1000,2,FALSE),\"\")","v":""}]
[{"$f":"IF(ISTEXT(ShareOfSearch_SERPS!C512),ShareOfSearch_SERPS!C512,\"\")","v":""},{"$f":"IF(ISTEXT(ShareOfSearch_SERPS!D512),ShareOfSearch_SERPS!D512,\"\")","v":""},{"$f":"IF(NOT(ISBLANK(ShareOfSearch_SERPS!A512)),ShareOfSearch_SERPS!A512,\"\")","v":""},{"$f":"IF(NOT(ISBLANK(ShareOfSearch_SERPS!G512)),ShareOfSearch_SERPS!G512,\"\")","v":""},{"$f":"IF(NOT(ISBLANK(ShareOfSearch_SERPS!K512)),ShareOfSearch_SERPS!K512,\"\")","v":""},{"$f":"IFERROR(VLOOKUP(C512,ShareOfSearch_CTR!$A$1:$B$100,2,FALSE)*VLOOKUP(A512&B512,ShareOfSearch_Volume!$C$1:$D$1000,2,FALSE),\"\")","v":""}]
[{"$f":"IF(ISTEXT(ShareOfSearch_SERPS!C513),ShareOfSearch_SERPS!C513,\"\")","v":""},{"$f":"IF(ISTEXT(ShareOfSearch_SERPS!D513),ShareOfSearch_SERPS!D513,\"\")","v":""},{"$f":"IF(NOT(ISBLANK(ShareOfSearch_SERPS!A513)),ShareOfSearch_SERPS!A513,\"\")","v":""},{"$f":"IF(NOT(ISBLANK(ShareOfSearch_SERPS!G513)),ShareOfSearch_SERPS!G513,\"\")","v":""},{"$f":"IF(NOT(ISBLANK(ShareOfSearch_SERPS!K513)),ShareOfSearch_SERPS!K513,\"\")","v":""},{"$f":"IFERROR(VLOOKUP(C513,ShareOfSearch_CTR!$A$1:$B$100,2,FALSE)*VLOOKUP(A513&B513,ShareOfSearch_Volume!$C$1:$D$1000,2,FALSE),\"\")","v":""}]
[{"$f":"IF(ISTEXT(ShareOfSearch_SERPS!C514),ShareOfSearch_SERPS!C514,\"\")","v":""},{"$f":"IF(ISTEXT(ShareOfSearch_SERPS!D514),ShareOfSearch_SERPS!D514,\"\")","v":""},{"$f":"IF(NOT(ISBLANK(ShareOfSearch_SERPS!A514)),ShareOfSearch_SERPS!A514,\"\")","v":""},{"$f":"IF(NOT(ISBLANK(ShareOfSearch_SERPS!G514)),ShareOfSearch_SERPS!G514,\"\")","v":""},{"$f":"IF(NOT(ISBLANK(ShareOfSearch_SERPS!K514)),ShareOfSearch_SERPS!K514,\"\")","v":""},{"$f":"IFERROR(VLOOKUP(C514,ShareOfSearch_CTR!$A$1:$B$100,2,FALSE)*VLOOKUP(A514&B514,ShareOfSearch_Volume!$C$1:$D$1000,2,FALSE),\"\")","v":""}]
[{"$f":"IF(ISTEXT(ShareOfSearch_SERPS!C515),ShareOfSearch_SERPS!C515,\"\")","v":""},{"$f":"IF(ISTEXT(ShareOfSearch_SERPS!D515),ShareOfSearch_SERPS!D515,\"\")","v":""},{"$f":"IF(NOT(ISBLANK(ShareOfSearch_SERPS!A515)),ShareOfSearch_SERPS!A515,\"\")","v":""},{"$f":"IF(NOT(ISBLANK(ShareOfSearch_SERPS!G515)),ShareOfSearch_SERPS!G515,\"\")","v":""},{"$f":"IF(NOT(ISBLANK(ShareOfSearch_SERPS!K515)),ShareOfSearch_SERPS!K515,\"\")","v":""},{"$f":"IFERROR(VLOOKUP(C515,ShareOfSearch_CTR!$A$1:$B$100,2,FALSE)*VLOOKUP(A515&B515,ShareOfSearch_Volume!$C$1:$D$1000,2,FALSE),\"\")","v":""}]
[{"$f":"IF(ISTEXT(ShareOfSearch_SERPS!C516),ShareOfSearch_SERPS!C516,\"\")","v":""},{"$f":"IF(ISTEXT(ShareOfSearch_SERPS!D516),ShareOfSearch_SERPS!D516,\"\")","v":""},{"$f":"IF(NOT(ISBLANK(ShareOfSearch_SERPS!A516)),ShareOfSearch_SERPS!A516,\"\")","v":""},{"$f":"IF(NOT(ISBLANK(ShareOfSearch_SERPS!G516)),ShareOfSearch_SERPS!G516,\"\")","v":""},{"$f":"IF(NOT(ISBLANK(ShareOfSearch_SERPS!K516)),ShareOfSearch_SERPS!K516,\"\")","v":""},{"$f":"IFERROR(VLOOKUP(C516,ShareOfSearch_CTR!$A$1:$B$100,2,FALSE)*VLOOKUP(A516&B516,ShareOfSearch_Volume!$C$1:$D$1000,2,FALSE),\"\")","v":""}]
[{"$f":"IF(ISTEXT(ShareOfSearch_SERPS!C517),ShareOfSearch_SERPS!C517,\"\")","v":""},{"$f":"IF(ISTEXT(ShareOfSearch_SERPS!D517),ShareOfSearch_SERPS!D517,\"\")","v":""},{"$f":"IF(NOT(ISBLANK(ShareOfSearch_SERPS!A517)),ShareOfSearch_SERPS!A517,\"\")","v":""},{"$f":"IF(NOT(ISBLANK(ShareOfSearch_SERPS!G517)),ShareOfSearch_SERPS!G517,\"\")","v":""},{"$f":"IF(NOT(ISBLANK(ShareOfSearch_SERPS!K517)),ShareOfSearch_SERPS!K517,\"\")","v":""},{"$f":"IFERROR(VLOOKUP(C517,ShareOfSearch_CTR!$A$1:$B$100,2,FALSE)*VLOOKUP(A517&B517,ShareOfSearch_Volume!$C$1:$D$1000,2,FALSE),\"\")","v":""}]
[{"$f":"IF(ISTEXT(ShareOfSearch_SERPS!C518),ShareOfSearch_SERPS!C518,\"\")","v":""},{"$f":"IF(ISTEXT(ShareOfSearch_SERPS!D518),ShareOfSearch_SERPS!D518,\"\")","v":""},{"$f":"IF(NOT(ISBLANK(ShareOfSearch_SERPS!A518)),ShareOfSearch_SERPS!A518,\"\")","v":""},{"$f":"IF(NOT(ISBLANK(ShareOfSearch_SERPS!G518)),ShareOfSearch_SERPS!G518,\"\")","v":""},{"$f":"IF(NOT(ISBLANK(ShareOfSearch_SERPS!K518)),ShareOfSearch_SERPS!K518,\"\")","v":""},{"$f":"IFERROR(VLOOKUP(C518,ShareOfSearch_CTR!$A$1:$B$100,2,FALSE)*VLOOKUP(A518&B518,ShareOfSearch_Volume!$C$1:$D$1000,2,FALSE),\"\")","v":""}]
[{"$f":"IF(ISTEXT(ShareOfSearch_SERPS!C519),ShareOfSearch_SERPS!C519,\"\")","v":""},{"$f":"IF(ISTEXT(ShareOfSearch_SERPS!D519),ShareOfSearch_SERPS!D519,\"\")","v":""},{"$f":"IF(NOT(ISBLANK(ShareOfSearch_SERPS!A519)),ShareOfSearch_SERPS!A519,\"\")","v":""},{"$f":"IF(NOT(ISBLANK(ShareOfSearch_SERPS!G519)),ShareOfSearch_SERPS!G519,\"\")","v":""},{"$f":"IF(NOT(ISBLANK(ShareOfSearch_SERPS!K519)),ShareOfSearch_SERPS!K519,\"\")","v":""},{"$f":"IFERROR(VLOOKUP(C519,ShareOfSearch_CTR!$A$1:$B$100,2,FALSE)*VLOOKUP(A519&B519,ShareOfSearch_Volume!$C$1:$D$1000,2,FALSE),\"\")","v":""}]
[{"$f":"IF(ISTEXT(ShareOfSearch_SERPS!C520),ShareOfSearch_SERPS!C520,\"\")","v":""},{"$f":"IF(ISTEXT(ShareOfSearch_SERPS!D520),ShareOfSearch_SERPS!D520,\"\")","v":""},{"$f":"IF(NOT(ISBLANK(ShareOfSearch_SERPS!A520)),ShareOfSearch_SERPS!A520,\"\")","v":""},{"$f":"IF(NOT(ISBLANK(ShareOfSearch_SERPS!G520)),ShareOfSearch_SERPS!G520,\"\")","v":""},{"$f":"IF(NOT(ISBLANK(ShareOfSearch_SERPS!K520)),ShareOfSearch_SERPS!K520,\"\")","v":""},{"$f":"IFERROR(VLOOKUP(C520,ShareOfSearch_CTR!$A$1:$B$100,2,FALSE)*VLOOKUP(A520&B520,ShareOfSearch_Volume!$C$1:$D$1000,2,FALSE),\"\")","v":""}]
[{"$f":"IF(ISTEXT(ShareOfSearch_SERPS!C521),ShareOfSearch_SERPS!C521,\"\")","v":""},{"$f":"IF(ISTEXT(ShareOfSearch_SERPS!D521),ShareOfSearch_SERPS!D521,\"\")","v":""},{"$f":"IF(NOT(ISBLANK(ShareOfSearch_SERPS!A521)),ShareOfSearch_SERPS!A521,\"\")","v":""},{"$f":"IF(NOT(ISBLANK(ShareOfSearch_SERPS!G521)),ShareOfSearch_SERPS!G521,\"\")","v":""},{"$f":"IF(NOT(ISBLANK(ShareOfSearch_SERPS!K521)),ShareOfSearch_SERPS!K521,\"\")","v":""},{"$f":"IFERROR(VLOOKUP(C521,ShareOfSearch_CTR!$A$1:$B$100,2,FALSE)*VLOOKUP(A521&B521,ShareOfSearch_Volume!$C$1:$D$1000,2,FALSE),\"\")","v":""}]
[{"$f":"IF(ISTEXT(ShareOfSearch_SERPS!C522),ShareOfSearch_SERPS!C522,\"\")","v":""},{"$f":"IF(ISTEXT(ShareOfSearch_SERPS!D522),ShareOfSearch_SERPS!D522,\"\")","v":""},{"$f":"IF(NOT(ISBLANK(ShareOfSearch_SERPS!A522)),ShareOfSearch_SERPS!A522,\"\")","v":""},{"$f":"IF(NOT(ISBLANK(ShareOfSearch_SERPS!G522)),ShareOfSearch_SERPS!G522,\"\")","v":""},{"$f":"IF(NOT(ISBLANK(ShareOfSearch_SERPS!K522)),ShareOfSearch_SERPS!K522,\"\")","v":""},{"$f":"IFERROR(VLOOKUP(C522,ShareOfSearch_CTR!$A$1:$B$100,2,FALSE)*VLOOKUP(A522&B522,ShareOfSearch_Volume!$C$1:$D$1000,2,FALSE),\"\")","v":""}]
[{"$f":"IF(ISTEXT(ShareOfSearch_SERPS!C523),ShareOfSearch_SERPS!C523,\"\")","v":""},{"$f":"IF(ISTEXT(ShareOfSearch_SERPS!D523),ShareOfSearch_SERPS!D523,\"\")","v":""},{"$f":"IF(NOT(ISBLANK(ShareOfSearch_SERPS!A523)),ShareOfSearch_SERPS!A523,\"\")","v":""},{"$f":"IF(NOT(ISBLANK(ShareOfSearch_SERPS!G523)),ShareOfSearch_SERPS!G523,\"\")","v":""},{"$f":"IF(NOT(ISBLANK(ShareOfSearch_SERPS!K523)),ShareOfSearch_SERPS!K523,\"\")","v":""},{"$f":"IFERROR(VLOOKUP(C523,ShareOfSearch_CTR!$A$1:$B$100,2,FALSE)*VLOOKUP(A523&B523,ShareOfSearch_Volume!$C$1:$D$1000,2,FALSE),\"\")","v":""}]
[{"$f":"IF(ISTEXT(ShareOfSearch_SERPS!C524),ShareOfSearch_SERPS!C524,\"\")","v":""},{"$f":"IF(ISTEXT(ShareOfSearch_SERPS!D524),ShareOfSearch_SERPS!D524,\"\")","v":""},{"$f":"IF(NOT(ISBLANK(ShareOfSearch_SERPS!A524)),ShareOfSearch_SERPS!A524,\"\")","v":""},{"$f":"IF(NOT(ISBLANK(ShareOfSearch_SERPS!G524)),ShareOfSearch_SERPS!G524,\"\")","v":""},{"$f":"IF(NOT(ISBLANK(ShareOfSearch_SERPS!K524)),ShareOfSearch_SERPS!K524,\"\")","v":""},{"$f":"IFERROR(VLOOKUP(C524,ShareOfSearch_CTR!$A$1:$B$100,2,FALSE)*VLOOKUP(A524&B524,ShareOfSearch_Volume!$C$1:$D$1000,2,FALSE),\"\")","v":""}]
[{"$f":"IF(ISTEXT(ShareOfSearch_SERPS!C525),ShareOfSearch_SERPS!C525,\"\")","v":""},{"$f":"IF(ISTEXT(ShareOfSearch_SERPS!D525),ShareOfSearch_SERPS!D525,\"\")","v":""},{"$f":"IF(NOT(ISBLANK(ShareOfSearch_SERPS!A525)),ShareOfSearch_SERPS!A525,\"\")","v":""},{"$f":"IF(NOT(ISBLANK(ShareOfSearch_SERPS!G525)),ShareOfSearch_SERPS!G525,\"\")","v":""},{"$f":"IF(NOT(ISBLANK(ShareOfSearch_SERPS!K525)),ShareOfSearch_SERPS!K525,\"\")","v":""},{"$f":"IFERROR(VLOOKUP(C525,ShareOfSearch_CTR!$A$1:$B$100,2,FALSE)*VLOOKUP(A525&B525,ShareOfSearch_Volume!$C$1:$D$1000,2,FALSE),\"\")","v":""}]
[{"$f":"IF(ISTEXT(ShareOfSearch_SERPS!C526),ShareOfSearch_SERPS!C526,\"\")","v":""},{"$f":"IF(ISTEXT(ShareOfSearch_SERPS!D526),ShareOfSearch_SERPS!D526,\"\")","v":""},{"$f":"IF(NOT(ISBLANK(ShareOfSearch_SERPS!A526)),ShareOfSearch_SERPS!A526,\"\")","v":""},{"$f":"IF(NOT(ISBLANK(ShareOfSearch_SERPS!G526)),ShareOfSearch_SERPS!G526,\"\")","v":""},{"$f":"IF(NOT(ISBLANK(ShareOfSearch_SERPS!K526)),ShareOfSearch_SERPS!K526,\"\")","v":""},{"$f":"IFERROR(VLOOKUP(C526,ShareOfSearch_CTR!$A$1:$B$100,2,FALSE)*VLOOKUP(A526&B526,ShareOfSearch_Volume!$C$1:$D$1000,2,FALSE),\"\")","v":""}]
[{"$f":"IF(ISTEXT(ShareOfSearch_SERPS!C527),ShareOfSearch_SERPS!C527,\"\")","v":""},{"$f":"IF(ISTEXT(ShareOfSearch_SERPS!D527),ShareOfSearch_SERPS!D527,\"\")","v":""},{"$f":"IF(NOT(ISBLANK(ShareOfSearch_SERPS!A527)),ShareOfSearch_SERPS!A527,\"\")","v":""},{"$f":"IF(NOT(ISBLANK(ShareOfSearch_SERPS!G527)),ShareOfSearch_SERPS!G527,\"\")","v":""},{"$f":"IF(NOT(ISBLANK(ShareOfSearch_SERPS!K527)),ShareOfSearch_SERPS!K527,\"\")","v":""},{"$f":"IFERROR(VLOOKUP(C527,ShareOfSearch_CTR!$A$1:$B$100,2,FALSE)*VLOOKUP(A527&B527,ShareOfSearch_Volume!$C$1:$D$1000,2,FALSE),\"\")","v":""}]
[{"$f":"IF(ISTEXT(ShareOfSearch_SERPS!C528),ShareOfSearch_SERPS!C528,\"\")","v":""},{"$f":"IF(ISTEXT(ShareOfSearch_SERPS!D528),ShareOfSearch_SERPS!D528,\"\")","v":""},{"$f":"IF(NOT(ISBLANK(ShareOfSearch_SERPS!A528)),ShareOfSearch_SERPS!A528,\"\")","v":""},{"$f":"IF(NOT(ISBLANK(ShareOfSearch_SERPS!G528)),ShareOfSearch_SERPS!G528,\"\")","v":""},{"$f":"IF(NOT(ISBLANK(ShareOfSearch_SERPS!K528)),ShareOfSearch_SERPS!K528,\"\")","v":""},{"$f":"IFERROR(VLOOKUP(C528,ShareOfSearch_CTR!$A$1:$B$100,2,FALSE)*VLOOKUP(A528&B528,ShareOfSearch_Volume!$C$1:$D$1000,2,FALSE),\"\")","v":""}]
[{"$f":"IF(ISTEXT(ShareOfSearch_SERPS!C529),ShareOfSearch_SERPS!C529,\"\")","v":""},{"$f":"IF(ISTEXT(ShareOfSearch_SERPS!D529),ShareOfSearch_SERPS!D529,\"\")","v":""},{"$f":"IF(NOT(ISBLANK(ShareOfSearch_SERPS!A529)),ShareOfSearch_SERPS!A529,\"\")","v":""},{"$f":"IF(NOT(ISBLANK(ShareOfSearch_SERPS!G529)),ShareOfSearch_SERPS!G529,\"\")","v":""},{"$f":"IF(NOT(ISBLANK(ShareOfSearch_SERPS!K529)),ShareOfSearch_SERPS!K529,\"\")","v":""},{"$f":"IFERROR(VLOOKUP(C529,ShareOfSearch_CTR!$A$1:$B$100,2,FALSE)*VLOOKUP(A529&B529,ShareOfSearch_Volume!$C$1:$D$1000,2,FALSE),\"\")","v":""}]
[{"$f":"IF(ISTEXT(ShareOfSearch_SERPS!C530),ShareOfSearch_SERPS!C530,\"\")","v":""},{"$f":"IF(ISTEXT(ShareOfSearch_SERPS!D530),ShareOfSearch_SERPS!D530,\"\")","v":""},{"$f":"IF(NOT(ISBLANK(ShareOfSearch_SERPS!A530)),ShareOfSearch_SERPS!A530,\"\")","v":""},{"$f":"IF(NOT(ISBLANK(ShareOfSearch_SERPS!G530)),ShareOfSearch_SERPS!G530,\"\")","v":""},{"$f":"IF(NOT(ISBLANK(ShareOfSearch_SERPS!K530)),ShareOfSearch_SERPS!K530,\"\")","v":""},{"$f":"IFERROR(VLOOKUP(C530,ShareOfSearch_CTR!$A$1:$B$100,2,FALSE)*VLOOKUP(A530&B530,ShareOfSearch_Volume!$C$1:$D$1000,2,FALSE),\"\")","v":""}]
[{"$f":"IF(ISTEXT(ShareOfSearch_SERPS!C531),ShareOfSearch_SERPS!C531,\"\")","v":""},{"$f":"IF(ISTEXT(ShareOfSearch_SERPS!D531),ShareOfSearch_SERPS!D531,\"\")","v":""},{"$f":"IF(NOT(ISBLANK(ShareOfSearch_SERPS!A531)),ShareOfSearch_SERPS!A531,\"\")","v":""},{"$f":"IF(NOT(ISBLANK(ShareOfSearch_SERPS!G531)),ShareOfSearch_SERPS!G531,\"\")","v":""},{"$f":"IF(NOT(ISBLANK(ShareOfSearch_SERPS!K531)),ShareOfSearch_SERPS!K531,\"\")","v":""},{"$f":"IFERROR(VLOOKUP(C531,ShareOfSearch_CTR!$A$1:$B$100,2,FALSE)*VLOOKUP(A531&B531,ShareOfSearch_Volume!$C$1:$D$1000,2,FALSE),\"\")","v":""}]
[{"$f":"IF(ISTEXT(ShareOfSearch_SERPS!C532),ShareOfSearch_SERPS!C532,\"\")","v":""},{"$f":"IF(ISTEXT(ShareOfSearch_SERPS!D532),ShareOfSearch_SERPS!D532,\"\")","v":""},{"$f":"IF(NOT(ISBLANK(ShareOfSearch_SERPS!A532)),ShareOfSearch_SERPS!A532,\"\")","v":""},{"$f":"IF(NOT(ISBLANK(ShareOfSearch_SERPS!G532)),ShareOfSearch_SERPS!G532,\"\")","v":""},{"$f":"IF(NOT(ISBLANK(ShareOfSearch_SERPS!K532)),ShareOfSearch_SERPS!K532,\"\")","v":""},{"$f":"IFERROR(VLOOKUP(C532,ShareOfSearch_CTR!$A$1:$B$100,2,FALSE)*VLOOKUP(A532&B532,ShareOfSearch_Volume!$C$1:$D$1000,2,FALSE),\"\")","v":""}]
[{"$f":"IF(ISTEXT(ShareOfSearch_SERPS!C533),ShareOfSearch_SERPS!C533,\"\")","v":""},{"$f":"IF(ISTEXT(ShareOfSearch_SERPS!D533),ShareOfSearch_SERPS!D533,\"\")","v":""},{"$f":"IF(NOT(ISBLANK(ShareOfSearch_SERPS!A533)),ShareOfSearch_SERPS!A533,\"\")","v":""},{"$f":"IF(NOT(ISBLANK(ShareOfSearch_SERPS!G533)),ShareOfSearch_SERPS!G533,\"\")","v":""},{"$f":"IF(NOT(ISBLANK(ShareOfSearch_SERPS!K533)),ShareOfSearch_SERPS!K533,\"\")","v":""},{"$f":"IFERROR(VLOOKUP(C533,ShareOfSearch_CTR!$A$1:$B$100,2,FALSE)*VLOOKUP(A533&B533,ShareOfSearch_Volume!$C$1:$D$1000,2,FALSE),\"\")","v":""}]
[{"$f":"IF(ISTEXT(ShareOfSearch_SERPS!C534),ShareOfSearch_SERPS!C534,\"\")","v":""},{"$f":"IF(ISTEXT(ShareOfSearch_SERPS!D534),ShareOfSearch_SERPS!D534,\"\")","v":""},{"$f":"IF(NOT(ISBLANK(ShareOfSearch_SERPS!A534)),ShareOfSearch_SERPS!A534,\"\")","v":""},{"$f":"IF(NOT(ISBLANK(ShareOfSearch_SERPS!G534)),ShareOfSearch_SERPS!G534,\"\")","v":""},{"$f":"IF(NOT(ISBLANK(ShareOfSearch_SERPS!K534)),ShareOfSearch_SERPS!K534,\"\")","v":""},{"$f":"IFERROR(VLOOKUP(C534,ShareOfSearch_CTR!$A$1:$B$100,2,FALSE)*VLOOKUP(A534&B534,ShareOfSearch_Volume!$C$1:$D$1000,2,FALSE),\"\")","v":""}]
[{"$f":"IF(ISTEXT(ShareOfSearch_SERPS!C535),ShareOfSearch_SERPS!C535,\"\")","v":""},{"$f":"IF(ISTEXT(ShareOfSearch_SERPS!D535),ShareOfSearch_SERPS!D535,\"\")","v":""},{"$f":"IF(NOT(ISBLANK(ShareOfSearch_SERPS!A535)),ShareOfSearch_SERPS!A535,\"\")","v":""},{"$f":"IF(NOT(ISBLANK(ShareOfSearch_SERPS!G535)),ShareOfSearch_SERPS!G535,\"\")","v":""},{"$f":"IF(NOT(ISBLANK(ShareOfSearch_SERPS!K535)),ShareOfSearch_SERPS!K535,\"\")","v":""},{"$f":"IFERROR(VLOOKUP(C535,ShareOfSearch_CTR!$A$1:$B$100,2,FALSE)*VLOOKUP(A535&B535,ShareOfSearch_Volume!$C$1:$D$1000,2,FALSE),\"\")","v":""}]
[{"$f":"IF(ISTEXT(ShareOfSearch_SERPS!C536),ShareOfSearch_SERPS!C536,\"\")","v":""},{"$f":"IF(ISTEXT(ShareOfSearch_SERPS!D536),ShareOfSearch_SERPS!D536,\"\")","v":""},{"$f":"IF(NOT(ISBLANK(ShareOfSearch_SERPS!A536)),ShareOfSearch_SERPS!A536,\"\")","v":""},{"$f":"IF(NOT(ISBLANK(ShareOfSearch_SERPS!G536)),ShareOfSearch_SERPS!G536,\"\")","v":""},{"$f":"IF(NOT(ISBLANK(ShareOfSearch_SERPS!K536)),ShareOfSearch_SERPS!K536,\"\")","v":""},{"$f":"IFERROR(VLOOKUP(C536,ShareOfSearch_CTR!$A$1:$B$100,2,FALSE)*VLOOKUP(A536&B536,ShareOfSearch_Volume!$C$1:$D$1000,2,FALSE),\"\")","v":""}]
[{"$f":"IF(ISTEXT(ShareOfSearch_SERPS!C537),ShareOfSearch_SERPS!C537,\"\")","v":""},{"$f":"IF(ISTEXT(ShareOfSearch_SERPS!D537),ShareOfSearch_SERPS!D537,\"\")","v":""},{"$f":"IF(NOT(ISBLANK(ShareOfSearch_SERPS!A537)),ShareOfSearch_SERPS!A537,\"\")","v":""},{"$f":"IF(NOT(ISBLANK(ShareOfSearch_SERPS!G537)),ShareOfSearch_SERPS!G537,\"\")","v":""},{"$f":"IF(NOT(ISBLANK(ShareOfSearch_SERPS!K537)),ShareOfSearch_SERPS!K537,\"\")","v":""},{"$f":"IFERROR(VLOOKUP(C537,ShareOfSearch_CTR!$A$1:$B$100,2,FALSE)*VLOOKUP(A537&B537,ShareOfSearch_Volume!$C$1:$D$1000,2,FALSE),\"\")","v":""}]
[{"$f":"IF(ISTEXT(ShareOfSearch_SERPS!C538),ShareOfSearch_SERPS!C538,\"\")","v":""},{"$f":"IF(ISTEXT(ShareOfSearch_SERPS!D538),ShareOfSearch_SERPS!D538,\"\")","v":""},{"$f":"IF(NOT(ISBLANK(ShareOfSearch_SERPS!A538)),ShareOfSearch_SERPS!A538,\"\")","v":""},{"$f":"IF(NOT(ISBLANK(ShareOfSearch_SERPS!G538)),ShareOfSearch_SERPS!G538,\"\")","v":""},{"$f":"IF(NOT(ISBLANK(ShareOfSearch_SERPS!K538)),ShareOfSearch_SERPS!K538,\"\")","v":""},{"$f":"IFERROR(VLOOKUP(C538,ShareOfSearch_CTR!$A$1:$B$100,2,FALSE)*VLOOKUP(A538&B538,ShareOfSearch_Volume!$C$1:$D$1000,2,FALSE),\"\")","v":""}]
[{"$f":"IF(ISTEXT(ShareOfSearch_SERPS!C539),ShareOfSearch_SERPS!C539,\"\")","v":""},{"$f":"IF(ISTEXT(ShareOfSearch_SERPS!D539),ShareOfSearch_SERPS!D539,\"\")","v":""},{"$f":"IF(NOT(ISBLANK(ShareOfSearch_SERPS!A539)),ShareOfSearch_SERPS!A539,\"\")","v":""},{"$f":"IF(NOT(ISBLANK(ShareOfSearch_SERPS!G539)),ShareOfSearch_SERPS!G539,\"\")","v":""},{"$f":"IF(NOT(ISBLANK(ShareOfSearch_SERPS!K539)),ShareOfSearch_SERPS!K539,\"\")","v":""},{"$f":"IFERROR(VLOOKUP(C539,ShareOfSearch_CTR!$A$1:$B$100,2,FALSE)*VLOOKUP(A539&B539,ShareOfSearch_Volume!$C$1:$D$1000,2,FALSE),\"\")","v":""}]
[{"$f":"IF(ISTEXT(ShareOfSearch_SERPS!C540),ShareOfSearch_SERPS!C540,\"\")","v":""},{"$f":"IF(ISTEXT(ShareOfSearch_SERPS!D540),ShareOfSearch_SERPS!D540,\"\")","v":""},{"$f":"IF(NOT(ISBLANK(ShareOfSearch_SERPS!A540)),ShareOfSearch_SERPS!A540,\"\")","v":""},{"$f":"IF(NOT(ISBLANK(ShareOfSearch_SERPS!G540)),ShareOfSearch_SERPS!G540,\"\")","v":""},{"$f":"IF(NOT(ISBLANK(ShareOfSearch_SERPS!K540)),ShareOfSearch_SERPS!K540,\"\")","v":""},{"$f":"IFERROR(VLOOKUP(C540,ShareOfSearch_CTR!$A$1:$B$100,2,FALSE)*VLOOKUP(A540&B540,ShareOfSearch_Volume!$C$1:$D$1000,2,FALSE),\"\")","v":""}]
[{"$f":"IF(ISTEXT(ShareOfSearch_SERPS!C541),ShareOfSearch_SERPS!C541,\"\")","v":""},{"$f":"IF(ISTEXT(ShareOfSearch_SERPS!D541),ShareOfSearch_SERPS!D541,\"\")","v":""},{"$f":"IF(NOT(ISBLANK(ShareOfSearch_SERPS!A541)),ShareOfSearch_SERPS!A541,\"\")","v":""},{"$f":"IF(NOT(ISBLANK(ShareOfSearch_SERPS!G541)),ShareOfSearch_SERPS!G541,\"\")","v":""},{"$f":"IF(NOT(ISBLANK(ShareOfSearch_SERPS!K541)),ShareOfSearch_SERPS!K541,\"\")","v":""},{"$f":"IFERROR(VLOOKUP(C541,ShareOfSearch_CTR!$A$1:$B$100,2,FALSE)*VLOOKUP(A541&B541,ShareOfSearch_Volume!$C$1:$D$1000,2,FALSE),\"\")","v":""}]
[{"$f":"IF(ISTEXT(ShareOfSearch_SERPS!C542),ShareOfSearch_SERPS!C542,\"\")","v":""},{"$f":"IF(ISTEXT(ShareOfSearch_SERPS!D542),ShareOfSearch_SERPS!D542,\"\")","v":""},{"$f":"IF(NOT(ISBLANK(ShareOfSearch_SERPS!A542)),ShareOfSearch_SERPS!A542,\"\")","v":""},{"$f":"IF(NOT(ISBLANK(ShareOfSearch_SERPS!G542)),ShareOfSearch_SERPS!G542,\"\")","v":""},{"$f":"IF(NOT(ISBLANK(ShareOfSearch_SERPS!K542)),ShareOfSearch_SERPS!K542,\"\")","v":""},{"$f":"IFERROR(VLOOKUP(C542,ShareOfSearch_CTR!$A$1:$B$100,2,FALSE)*VLOOKUP(A542&B542,ShareOfSearch_Volume!$C$1:$D$1000,2,FALSE),\"\")","v":""}]
[{"$f":"IF(ISTEXT(ShareOfSearch_SERPS!C543),ShareOfSearch_SERPS!C543,\"\")","v":""},{"$f":"IF(ISTEXT(ShareOfSearch_SERPS!D543),ShareOfSearch_SERPS!D543,\"\")","v":""},{"$f":"IF(NOT(ISBLANK(ShareOfSearch_SERPS!A543)),ShareOfSearch_SERPS!A543,\"\")","v":""},{"$f":"IF(NOT(ISBLANK(ShareOfSearch_SERPS!G543)),ShareOfSearch_SERPS!G543,\"\")","v":""},{"$f":"IF(NOT(ISBLANK(ShareOfSearch_SERPS!K543)),ShareOfSearch_SERPS!K543,\"\")","v":""},{"$f":"IFERROR(VLOOKUP(C543,ShareOfSearch_CTR!$A$1:$B$100,2,FALSE)*VLOOKUP(A543&B543,ShareOfSearch_Volume!$C$1:$D$1000,2,FALSE),\"\")","v":""}]
[{"$f":"IF(ISTEXT(ShareOfSearch_SERPS!C544),ShareOfSearch_SERPS!C544,\"\")","v":""},{"$f":"IF(ISTEXT(ShareOfSearch_SERPS!D544),ShareOfSearch_SERPS!D544,\"\")","v":""},{"$f":"IF(NOT(ISBLANK(ShareOfSearch_SERPS!A544)),ShareOfSearch_SERPS!A544,\"\")","v":""},{"$f":"IF(NOT(ISBLANK(ShareOfSearch_SERPS!G544)),ShareOfSearch_SERPS!G544,\"\")","v":""},{"$f":"IF(NOT(ISBLANK(ShareOfSearch_SERPS!K544)),ShareOfSearch_SERPS!K544,\"\")","v":""},{"$f":"IFERROR(VLOOKUP(C544,ShareOfSearch_CTR!$A$1:$B$100,2,FALSE)*VLOOKUP(A544&B544,ShareOfSearch_Volume!$C$1:$D$1000,2,FALSE),\"\")","v":""}]
[{"$f":"IF(ISTEXT(ShareOfSearch_SERPS!C545),ShareOfSearch_SERPS!C545,\"\")","v":""},{"$f":"IF(ISTEXT(ShareOfSearch_SERPS!D545),ShareOfSearch_SERPS!D545,\"\")","v":""},{"$f":"IF(NOT(ISBLANK(ShareOfSearch_SERPS!A545)),ShareOfSearch_SERPS!A545,\"\")","v":""},{"$f":"IF(NOT(ISBLANK(ShareOfSearch_SERPS!G545)),ShareOfSearch_SERPS!G545,\"\")","v":""},{"$f":"IF(NOT(ISBLANK(ShareOfSearch_SERPS!K545)),ShareOfSearch_SERPS!K545,\"\")","v":""},{"$f":"IFERROR(VLOOKUP(C545,ShareOfSearch_CTR!$A$1:$B$100,2,FALSE)*VLOOKUP(A545&B545,ShareOfSearch_Volume!$C$1:$D$1000,2,FALSE),\"\")","v":""}]
[{"$f":"IF(ISTEXT(ShareOfSearch_SERPS!C546),ShareOfSearch_SERPS!C546,\"\")","v":""},{"$f":"IF(ISTEXT(ShareOfSearch_SERPS!D546),ShareOfSearch_SERPS!D546,\"\")","v":""},{"$f":"IF(NOT(ISBLANK(ShareOfSearch_SERPS!A546)),ShareOfSearch_SERPS!A546,\"\")","v":""},{"$f":"IF(NOT(ISBLANK(ShareOfSearch_SERPS!G546)),ShareOfSearch_SERPS!G546,\"\")","v":""},{"$f":"IF(NOT(ISBLANK(ShareOfSearch_SERPS!K546)),ShareOfSearch_SERPS!K546,\"\")","v":""},{"$f":"IFERROR(VLOOKUP(C546,ShareOfSearch_CTR!$A$1:$B$100,2,FALSE)*VLOOKUP(A546&B546,ShareOfSearch_Volume!$C$1:$D$1000,2,FALSE),\"\")","v":""}]
[{"$f":"IF(ISTEXT(ShareOfSearch_SERPS!C547),ShareOfSearch_SERPS!C547,\"\")","v":""},{"$f":"IF(ISTEXT(ShareOfSearch_SERPS!D547),ShareOfSearch_SERPS!D547,\"\")","v":""},{"$f":"IF(NOT(ISBLANK(ShareOfSearch_SERPS!A547)),ShareOfSearch_SERPS!A547,\"\")","v":""},{"$f":"IF(NOT(ISBLANK(ShareOfSearch_SERPS!G547)),ShareOfSearch_SERPS!G547,\"\")","v":""},{"$f":"IF(NOT(ISBLANK(ShareOfSearch_SERPS!K547)),ShareOfSearch_SERPS!K547,\"\")","v":""},{"$f":"IFERROR(VLOOKUP(C547,ShareOfSearch_CTR!$A$1:$B$100,2,FALSE)*VLOOKUP(A547&B547,ShareOfSearch_Volume!$C$1:$D$1000,2,FALSE),\"\")","v":""}]
[{"$f":"IF(ISTEXT(ShareOfSearch_SERPS!C548),ShareOfSearch_SERPS!C548,\"\")","v":""},{"$f":"IF(ISTEXT(ShareOfSearch_SERPS!D548),ShareOfSearch_SERPS!D548,\"\")","v":""},{"$f":"IF(NOT(ISBLANK(ShareOfSearch_SERPS!A548)),ShareOfSearch_SERPS!A548,\"\")","v":""},{"$f":"IF(NOT(ISBLANK(ShareOfSearch_SERPS!G548)),ShareOfSearch_SERPS!G548,\"\")","v":""},{"$f":"IF(NOT(ISBLANK(ShareOfSearch_SERPS!K548)),ShareOfSearch_SERPS!K548,\"\")","v":""},{"$f":"IFERROR(VLOOKUP(C548,ShareOfSearch_CTR!$A$1:$B$100,2,FALSE)*VLOOKUP(A548&B548,ShareOfSearch_Volume!$C$1:$D$1000,2,FALSE),\"\")","v":""}]
[{"$f":"IF(ISTEXT(ShareOfSearch_SERPS!C549),ShareOfSearch_SERPS!C549,\"\")","v":""},{"$f":"IF(ISTEXT(ShareOfSearch_SERPS!D549),ShareOfSearch_SERPS!D549,\"\")","v":""},{"$f":"IF(NOT(ISBLANK(ShareOfSearch_SERPS!A549)),ShareOfSearch_SERPS!A549,\"\")","v":""},{"$f":"IF(NOT(ISBLANK(ShareOfSearch_SERPS!G549)),ShareOfSearch_SERPS!G549,\"\")","v":""},{"$f":"IF(NOT(ISBLANK(ShareOfSearch_SERPS!K549)),ShareOfSearch_SERPS!K549,\"\")","v":""},{"$f":"IFERROR(VLOOKUP(C549,ShareOfSearch_CTR!$A$1:$B$100,2,FALSE)*VLOOKUP(A549&B549,ShareOfSearch_Volume!$C$1:$D$1000,2,FALSE),\"\")","v":""}]
[{"$f":"IF(ISTEXT(ShareOfSearch_SERPS!C550),ShareOfSearch_SERPS!C550,\"\")","v":""},{"$f":"IF(ISTEXT(ShareOfSearch_SERPS!D550),ShareOfSearch_SERPS!D550,\"\")","v":""},{"$f":"IF(NOT(ISBLANK(ShareOfSearch_SERPS!A550)),ShareOfSearch_SERPS!A550,\"\")","v":""},{"$f":"IF(NOT(ISBLANK(ShareOfSearch_SERPS!G550)),ShareOfSearch_SERPS!G550,\"\")","v":""},{"$f":"IF(NOT(ISBLANK(ShareOfSearch_SERPS!K550)),ShareOfSearch_SERPS!K550,\"\")","v":""},{"$f":"IFERROR(VLOOKUP(C550,ShareOfSearch_CTR!$A$1:$B$100,2,FALSE)*VLOOKUP(A550&B550,ShareOfSearch_Volume!$C$1:$D$1000,2,FALSE),\"\")","v":""}]
[{"$f":"IF(ISTEXT(ShareOfSearch_SERPS!C551),ShareOfSearch_SERPS!C551,\"\")","v":""},{"$f":"IF(ISTEXT(ShareOfSearch_SERPS!D551),ShareOfSearch_SERPS!D551,\"\")","v":""},{"$f":"IF(NOT(ISBLANK(ShareOfSearch_SERPS!A551)),ShareOfSearch_SERPS!A551,\"\")","v":""},{"$f":"IF(NOT(ISBLANK(ShareOfSearch_SERPS!G551)),ShareOfSearch_SERPS!G551,\"\")","v":""},{"$f":"IF(NOT(ISBLANK(ShareOfSearch_SERPS!K551)),ShareOfSearch_SERPS!K551,\"\")","v":""},{"$f":"IFERROR(VLOOKUP(C551,ShareOfSearch_CTR!$A$1:$B$100,2,FALSE)*VLOOKUP(A551&B551,ShareOfSearch_Volume!$C$1:$D$1000,2,FALSE),\"\")","v":""}]
[{"$f":"IF(ISTEXT(ShareOfSearch_SERPS!C552),ShareOfSearch_SERPS!C552,\"\")","v":""},{"$f":"IF(ISTEXT(ShareOfSearch_SERPS!D552),ShareOfSearch_SERPS!D552,\"\")","v":""},{"$f":"IF(NOT(ISBLANK(ShareOfSearch_SERPS!A552)),ShareOfSearch_SERPS!A552,\"\")","v":""},{"$f":"IF(NOT(ISBLANK(ShareOfSearch_SERPS!G552)),ShareOfSearch_SERPS!G552,\"\")","v":""},{"$f":"IF(NOT(ISBLANK(ShareOfSearch_SERPS!K552)),ShareOfSearch_SERPS!K552,\"\")","v":""},{"$f":"IFERROR(VLOOKUP(C552,ShareOfSearch_CTR!$A$1:$B$100,2,FALSE)*VLOOKUP(A552&B552,ShareOfSearch_Volume!$C$1:$D$1000,2,FALSE),\"\")","v":""}]
[{"$f":"IF(ISTEXT(ShareOfSearch_SERPS!C553),ShareOfSearch_SERPS!C553,\"\")","v":""},{"$f":"IF(ISTEXT(ShareOfSearch_SERPS!D553),ShareOfSearch_SERPS!D553,\"\")","v":""},{"$f":"IF(NOT(ISBLANK(ShareOfSearch_SERPS!A553)),ShareOfSearch_SERPS!A553,\"\")","v":""},{"$f":"IF(NOT(ISBLANK(ShareOfSearch_SERPS!G553)),ShareOfSearch_SERPS!G553,\"\")","v":""},{"$f":"IF(NOT(ISBLANK(ShareOfSearch_SERPS!K553)),ShareOfSearch_SERPS!K553,\"\")","v":""},{"$f":"IFERROR(VLOOKUP(C553,ShareOfSearch_CTR!$A$1:$B$100,2,FALSE)*VLOOKUP(A553&B553,ShareOfSearch_Volume!$C$1:$D$1000,2,FALSE),\"\")","v":""}]
[{"$f":"IF(ISTEXT(ShareOfSearch_SERPS!C554),ShareOfSearch_SERPS!C554,\"\")","v":""},{"$f":"IF(ISTEXT(ShareOfSearch_SERPS!D554),ShareOfSearch_SERPS!D554,\"\")","v":""},{"$f":"IF(NOT(ISBLANK(ShareOfSearch_SERPS!A554)),ShareOfSearch_SERPS!A554,\"\")","v":""},{"$f":"IF(NOT(ISBLANK(ShareOfSearch_SERPS!G554)),ShareOfSearch_SERPS!G554,\"\")","v":""},{"$f":"IF(NOT(ISBLANK(ShareOfSearch_SERPS!K554)),ShareOfSearch_SERPS!K554,\"\")","v":""},{"$f":"IFERROR(VLOOKUP(C554,ShareOfSearch_CTR!$A$1:$B$100,2,FALSE)*VLOOKUP(A554&B554,ShareOfSearch_Volume!$C$1:$D$1000,2,FALSE),\"\")","v":""}]
[{"$f":"IF(ISTEXT(ShareOfSearch_SERPS!C555),ShareOfSearch_SERPS!C555,\"\")","v":""},{"$f":"IF(ISTEXT(ShareOfSearch_SERPS!D555),ShareOfSearch_SERPS!D555,\"\")","v":""},{"$f":"IF(NOT(ISBLANK(ShareOfSearch_SERPS!A555)),ShareOfSearch_SERPS!A555,\"\")","v":""},{"$f":"IF(NOT(ISBLANK(ShareOfSearch_SERPS!G555)),ShareOfSearch_SERPS!G555,\"\")","v":""},{"$f":"IF(NOT(ISBLANK(ShareOfSearch_SERPS!K555)),ShareOfSearch_SERPS!K555,\"\")","v":""},{"$f":"IFERROR(VLOOKUP(C555,ShareOfSearch_CTR!$A$1:$B$100,2,FALSE)*VLOOKUP(A555&B555,ShareOfSearch_Volume!$C$1:$D$1000,2,FALSE),\"\")","v":""}]
[{"$f":"IF(ISTEXT(ShareOfSearch_SERPS!C556),ShareOfSearch_SERPS!C556,\"\")","v":""},{"$f":"IF(ISTEXT(ShareOfSearch_SERPS!D556),ShareOfSearch_SERPS!D556,\"\")","v":""},{"$f":"IF(NOT(ISBLANK(ShareOfSearch_SERPS!A556)),ShareOfSearch_SERPS!A556,\"\")","v":""},{"$f":"IF(NOT(ISBLANK(ShareOfSearch_SERPS!G556)),ShareOfSearch_SERPS!G556,\"\")","v":""},{"$f":"IF(NOT(ISBLANK(ShareOfSearch_SERPS!K556)),ShareOfSearch_SERPS!K556,\"\")","v":""},{"$f":"IFERROR(VLOOKUP(C556,ShareOfSearch_CTR!$A$1:$B$100,2,FALSE)*VLOOKUP(A556&B556,ShareOfSearch_Volume!$C$1:$D$1000,2,FALSE),\"\")","v":""}]
[{"$f":"IF(ISTEXT(ShareOfSearch_SERPS!C557),ShareOfSearch_SERPS!C557,\"\")","v":""},{"$f":"IF(ISTEXT(ShareOfSearch_SERPS!D557),ShareOfSearch_SERPS!D557,\"\")","v":""},{"$f":"IF(NOT(ISBLANK(ShareOfSearch_SERPS!A557)),ShareOfSearch_SERPS!A557,\"\")","v":""},{"$f":"IF(NOT(ISBLANK(ShareOfSearch_SERPS!G557)),ShareOfSearch_SERPS!G557,\"\")","v":""},{"$f":"IF(NOT(ISBLANK(ShareOfSearch_SERPS!K557)),ShareOfSearch_SERPS!K557,\"\")","v":""},{"$f":"IFERROR(VLOOKUP(C557,ShareOfSearch_CTR!$A$1:$B$100,2,FALSE)*VLOOKUP(A557&B557,ShareOfSearch_Volume!$C$1:$D$1000,2,FALSE),\"\")","v":""}]
[{"$f":"IF(ISTEXT(ShareOfSearch_SERPS!C558),ShareOfSearch_SERPS!C558,\"\")","v":""},{"$f":"IF(ISTEXT(ShareOfSearch_SERPS!D558),ShareOfSearch_SERPS!D558,\"\")","v":""},{"$f":"IF(NOT(ISBLANK(ShareOfSearch_SERPS!A558)),ShareOfSearch_SERPS!A558,\"\")","v":""},{"$f":"IF(NOT(ISBLANK(ShareOfSearch_SERPS!G558)),ShareOfSearch_SERPS!G558,\"\")","v":""},{"$f":"IF(NOT(ISBLANK(ShareOfSearch_SERPS!K558)),ShareOfSearch_SERPS!K558,\"\")","v":""},{"$f":"IFERROR(VLOOKUP(C558,ShareOfSearch_CTR!$A$1:$B$100,2,FALSE)*VLOOKUP(A558&B558,ShareOfSearch_Volume!$C$1:$D$1000,2,FALSE),\"\")","v":""}]
[{"$f":"IF(ISTEXT(ShareOfSearch_SERPS!C559),ShareOfSearch_SERPS!C559,\"\")","v":""},{"$f":"IF(ISTEXT(ShareOfSearch_SERPS!D559),ShareOfSearch_SERPS!D559,\"\")","v":""},{"$f":"IF(NOT(ISBLANK(ShareOfSearch_SERPS!A559)),ShareOfSearch_SERPS!A559,\"\")","v":""},{"$f":"IF(NOT(ISBLANK(ShareOfSearch_SERPS!G559)),ShareOfSearch_SERPS!G559,\"\")","v":""},{"$f":"IF(NOT(ISBLANK(ShareOfSearch_SERPS!K559)),ShareOfSearch_SERPS!K559,\"\")","v":""},{"$f":"IFERROR(VLOOKUP(C559,ShareOfSearch_CTR!$A$1:$B$100,2,FALSE)*VLOOKUP(A559&B559,ShareOfSearch_Volume!$C$1:$D$1000,2,FALSE),\"\")","v":""}]
[{"$f":"IF(ISTEXT(ShareOfSearch_SERPS!C560),ShareOfSearch_SERPS!C560,\"\")","v":""},{"$f":"IF(ISTEXT(ShareOfSearch_SERPS!D560),ShareOfSearch_SERPS!D560,\"\")","v":""},{"$f":"IF(NOT(ISBLANK(ShareOfSearch_SERPS!A560)),ShareOfSearch_SERPS!A560,\"\")","v":""},{"$f":"IF(NOT(ISBLANK(ShareOfSearch_SERPS!G560)),ShareOfSearch_SERPS!G560,\"\")","v":""},{"$f":"IF(NOT(ISBLANK(ShareOfSearch_SERPS!K560)),ShareOfSearch_SERPS!K560,\"\")","v":""},{"$f":"IFERROR(VLOOKUP(C560,ShareOfSearch_CTR!$A$1:$B$100,2,FALSE)*VLOOKUP(A560&B560,ShareOfSearch_Volume!$C$1:$D$1000,2,FALSE),\"\")","v":""}]
[{"$f":"IF(ISTEXT(ShareOfSearch_SERPS!C561),ShareOfSearch_SERPS!C561,\"\")","v":""},{"$f":"IF(ISTEXT(ShareOfSearch_SERPS!D561),ShareOfSearch_SERPS!D561,\"\")","v":""},{"$f":"IF(NOT(ISBLANK(ShareOfSearch_SERPS!A561)),ShareOfSearch_SERPS!A561,\"\")","v":""},{"$f":"IF(NOT(ISBLANK(ShareOfSearch_SERPS!G561)),ShareOfSearch_SERPS!G561,\"\")","v":""},{"$f":"IF(NOT(ISBLANK(ShareOfSearch_SERPS!K561)),ShareOfSearch_SERPS!K561,\"\")","v":""},{"$f":"IFERROR(VLOOKUP(C561,ShareOfSearch_CTR!$A$1:$B$100,2,FALSE)*VLOOKUP(A561&B561,ShareOfSearch_Volume!$C$1:$D$1000,2,FALSE),\"\")","v":""}]
[{"$f":"IF(ISTEXT(ShareOfSearch_SERPS!C562),ShareOfSearch_SERPS!C562,\"\")","v":""},{"$f":"IF(ISTEXT(ShareOfSearch_SERPS!D562),ShareOfSearch_SERPS!D562,\"\")","v":""},{"$f":"IF(NOT(ISBLANK(ShareOfSearch_SERPS!A562)),ShareOfSearch_SERPS!A562,\"\")","v":""},{"$f":"IF(NOT(ISBLANK(ShareOfSearch_SERPS!G562)),ShareOfSearch_SERPS!G562,\"\")","v":""},{"$f":"IF(NOT(ISBLANK(ShareOfSearch_SERPS!K562)),ShareOfSearch_SERPS!K562,\"\")","v":""},{"$f":"IFERROR(VLOOKUP(C562,ShareOfSearch_CTR!$A$1:$B$100,2,FALSE)*VLOOKUP(A562&B562,ShareOfSearch_Volume!$C$1:$D$1000,2,FALSE),\"\")","v":""}]
[{"$f":"IF(ISTEXT(ShareOfSearch_SERPS!C563),ShareOfSearch_SERPS!C563,\"\")","v":""},{"$f":"IF(ISTEXT(ShareOfSearch_SERPS!D563),ShareOfSearch_SERPS!D563,\"\")","v":""},{"$f":"IF(NOT(ISBLANK(ShareOfSearch_SERPS!A563)),ShareOfSearch_SERPS!A563,\"\")","v":""},{"$f":"IF(NOT(ISBLANK(ShareOfSearch_SERPS!G563)),ShareOfSearch_SERPS!G563,\"\")","v":""},{"$f":"IF(NOT(ISBLANK(ShareOfSearch_SERPS!K563)),ShareOfSearch_SERPS!K563,\"\")","v":""},{"$f":"IFERROR(VLOOKUP(C563,ShareOfSearch_CTR!$A$1:$B$100,2,FALSE)*VLOOKUP(A563&B563,ShareOfSearch_Volume!$C$1:$D$1000,2,FALSE),\"\")","v":""}]
[{"$f":"IF(ISTEXT(ShareOfSearch_SERPS!C564),ShareOfSearch_SERPS!C564,\"\")","v":""},{"$f":"IF(ISTEXT(ShareOfSearch_SERPS!D564),ShareOfSearch_SERPS!D564,\"\")","v":""},{"$f":"IF(NOT(ISBLANK(ShareOfSearch_SERPS!A564)),ShareOfSearch_SERPS!A564,\"\")","v":""},{"$f":"IF(NOT(ISBLANK(ShareOfSearch_SERPS!G564)),ShareOfSearch_SERPS!G564,\"\")","v":""},{"$f":"IF(NOT(ISBLANK(ShareOfSearch_SERPS!K564)),ShareOfSearch_SERPS!K564,\"\")","v":""},{"$f":"IFERROR(VLOOKUP(C564,ShareOfSearch_CTR!$A$1:$B$100,2,FALSE)*VLOOKUP(A564&B564,ShareOfSearch_Volume!$C$1:$D$1000,2,FALSE),\"\")","v":""}]
[{"$f":"IF(ISTEXT(ShareOfSearch_SERPS!C565),ShareOfSearch_SERPS!C565,\"\")","v":""},{"$f":"IF(ISTEXT(ShareOfSearch_SERPS!D565),ShareOfSearch_SERPS!D565,\"\")","v":""},{"$f":"IF(NOT(ISBLANK(ShareOfSearch_SERPS!A565)),ShareOfSearch_SERPS!A565,\"\")","v":""},{"$f":"IF(NOT(ISBLANK(ShareOfSearch_SERPS!G565)),ShareOfSearch_SERPS!G565,\"\")","v":""},{"$f":"IF(NOT(ISBLANK(ShareOfSearch_SERPS!K565)),ShareOfSearch_SERPS!K565,\"\")","v":""},{"$f":"IFERROR(VLOOKUP(C565,ShareOfSearch_CTR!$A$1:$B$100,2,FALSE)*VLOOKUP(A565&B565,ShareOfSearch_Volume!$C$1:$D$1000,2,FALSE),\"\")","v":""}]
[{"$f":"IF(ISTEXT(ShareOfSearch_SERPS!C566),ShareOfSearch_SERPS!C566,\"\")","v":""},{"$f":"IF(ISTEXT(ShareOfSearch_SERPS!D566),ShareOfSearch_SERPS!D566,\"\")","v":""},{"$f":"IF(NOT(ISBLANK(ShareOfSearch_SERPS!A566)),ShareOfSearch_SERPS!A566,\"\")","v":""},{"$f":"IF(NOT(ISBLANK(ShareOfSearch_SERPS!G566)),ShareOfSearch_SERPS!G566,\"\")","v":""},{"$f":"IF(NOT(ISBLANK(ShareOfSearch_SERPS!K566)),ShareOfSearch_SERPS!K566,\"\")","v":""},{"$f":"IFERROR(VLOOKUP(C566,ShareOfSearch_CTR!$A$1:$B$100,2,FALSE)*VLOOKUP(A566&B566,ShareOfSearch_Volume!$C$1:$D$1000,2,FALSE),\"\")","v":""}]
[{"$f":"IF(ISTEXT(ShareOfSearch_SERPS!C567),ShareOfSearch_SERPS!C567,\"\")","v":""},{"$f":"IF(ISTEXT(ShareOfSearch_SERPS!D567),ShareOfSearch_SERPS!D567,\"\")","v":""},{"$f":"IF(NOT(ISBLANK(ShareOfSearch_SERPS!A567)),ShareOfSearch_SERPS!A567,\"\")","v":""},{"$f":"IF(NOT(ISBLANK(ShareOfSearch_SERPS!G567)),ShareOfSearch_SERPS!G567,\"\")","v":""},{"$f":"IF(NOT(ISBLANK(ShareOfSearch_SERPS!K567)),ShareOfSearch_SERPS!K567,\"\")","v":""},{"$f":"IFERROR(VLOOKUP(C567,ShareOfSearch_CTR!$A$1:$B$100,2,FALSE)*VLOOKUP(A567&B567,ShareOfSearch_Volume!$C$1:$D$1000,2,FALSE),\"\")","v":""}]
[{"$f":"IF(ISTEXT(ShareOfSearch_SERPS!C568),ShareOfSearch_SERPS!C568,\"\")","v":""},{"$f":"IF(ISTEXT(ShareOfSearch_SERPS!D568),ShareOfSearch_SERPS!D568,\"\")","v":""},{"$f":"IF(NOT(ISBLANK(ShareOfSearch_SERPS!A568)),ShareOfSearch_SERPS!A568,\"\")","v":""},{"$f":"IF(NOT(ISBLANK(ShareOfSearch_SERPS!G568)),ShareOfSearch_SERPS!G568,\"\")","v":""},{"$f":"IF(NOT(ISBLANK(ShareOfSearch_SERPS!K568)),ShareOfSearch_SERPS!K568,\"\")","v":""},{"$f":"IFERROR(VLOOKUP(C568,ShareOfSearch_CTR!$A$1:$B$100,2,FALSE)*VLOOKUP(A568&B568,ShareOfSearch_Volume!$C$1:$D$1000,2,FALSE),\"\")","v":""}]
[{"$f":"IF(ISTEXT(ShareOfSearch_SERPS!C569),ShareOfSearch_SERPS!C569,\"\")","v":""},{"$f":"IF(ISTEXT(ShareOfSearch_SERPS!D569),ShareOfSearch_SERPS!D569,\"\")","v":""},{"$f":"IF(NOT(ISBLANK(ShareOfSearch_SERPS!A569)),ShareOfSearch_SERPS!A569,\"\")","v":""},{"$f":"IF(NOT(ISBLANK(ShareOfSearch_SERPS!G569)),ShareOfSearch_SERPS!G569,\"\")","v":""},{"$f":"IF(NOT(ISBLANK(ShareOfSearch_SERPS!K569)),ShareOfSearch_SERPS!K569,\"\")","v":""},{"$f":"IFERROR(VLOOKUP(C569,ShareOfSearch_CTR!$A$1:$B$100,2,FALSE)*VLOOKUP(A569&B569,ShareOfSearch_Volume!$C$1:$D$1000,2,FALSE),\"\")","v":""}]
[{"$f":"IF(ISTEXT(ShareOfSearch_SERPS!C570),ShareOfSearch_SERPS!C570,\"\")","v":""},{"$f":"IF(ISTEXT(ShareOfSearch_SERPS!D570),ShareOfSearch_SERPS!D570,\"\")","v":""},{"$f":"IF(NOT(ISBLANK(ShareOfSearch_SERPS!A570)),ShareOfSearch_SERPS!A570,\"\")","v":""},{"$f":"IF(NOT(ISBLANK(ShareOfSearch_SERPS!G570)),ShareOfSearch_SERPS!G570,\"\")","v":""},{"$f":"IF(NOT(ISBLANK(ShareOfSearch_SERPS!K570)),ShareOfSearch_SERPS!K570,\"\")","v":""},{"$f":"IFERROR(VLOOKUP(C570,ShareOfSearch_CTR!$A$1:$B$100,2,FALSE)*VLOOKUP(A570&B570,ShareOfSearch_Volume!$C$1:$D$1000,2,FALSE),\"\")","v":""}]
[{"$f":"IF(ISTEXT(ShareOfSearch_SERPS!C571),ShareOfSearch_SERPS!C571,\"\")","v":""},{"$f":"IF(ISTEXT(ShareOfSearch_SERPS!D571),ShareOfSearch_SERPS!D571,\"\")","v":""},{"$f":"IF(NOT(ISBLANK(ShareOfSearch_SERPS!A571)),ShareOfSearch_SERPS!A571,\"\")","v":""},{"$f":"IF(NOT(ISBLANK(ShareOfSearch_SERPS!G571)),ShareOfSearch_SERPS!G571,\"\")","v":""},{"$f":"IF(NOT(ISBLANK(ShareOfSearch_SERPS!K571)),ShareOfSearch_SERPS!K571,\"\")","v":""},{"$f":"IFERROR(VLOOKUP(C571,ShareOfSearch_CTR!$A$1:$B$100,2,FALSE)*VLOOKUP(A571&B571,ShareOfSearch_Volume!$C$1:$D$1000,2,FALSE),\"\")","v":""}]
[{"$f":"IF(ISTEXT(ShareOfSearch_SERPS!C572),ShareOfSearch_SERPS!C572,\"\")","v":""},{"$f":"IF(ISTEXT(ShareOfSearch_SERPS!D572),ShareOfSearch_SERPS!D572,\"\")","v":""},{"$f":"IF(NOT(ISBLANK(ShareOfSearch_SERPS!A572)),ShareOfSearch_SERPS!A572,\"\")","v":""},{"$f":"IF(NOT(ISBLANK(ShareOfSearch_SERPS!G572)),ShareOfSearch_SERPS!G572,\"\")","v":""},{"$f":"IF(NOT(ISBLANK(ShareOfSearch_SERPS!K572)),ShareOfSearch_SERPS!K572,\"\")","v":""},{"$f":"IFERROR(VLOOKUP(C572,ShareOfSearch_CTR!$A$1:$B$100,2,FALSE)*VLOOKUP(A572&B572,ShareOfSearch_Volume!$C$1:$D$1000,2,FALSE),\"\")","v":""}]
[{"$f":"IF(ISTEXT(ShareOfSearch_SERPS!C573),ShareOfSearch_SERPS!C573,\"\")","v":""},{"$f":"IF(ISTEXT(ShareOfSearch_SERPS!D573),ShareOfSearch_SERPS!D573,\"\")","v":""},{"$f":"IF(NOT(ISBLANK(ShareOfSearch_SERPS!A573)),ShareOfSearch_SERPS!A573,\"\")","v":""},{"$f":"IF(NOT(ISBLANK(ShareOfSearch_SERPS!G573)),ShareOfSearch_SERPS!G573,\"\")","v":""},{"$f":"IF(NOT(ISBLANK(ShareOfSearch_SERPS!K573)),ShareOfSearch_SERPS!K573,\"\")","v":""},{"$f":"IFERROR(VLOOKUP(C573,ShareOfSearch_CTR!$A$1:$B$100,2,FALSE)*VLOOKUP(A573&B573,ShareOfSearch_Volume!$C$1:$D$1000,2,FALSE),\"\")","v":""}]
[{"$f":"IF(ISTEXT(ShareOfSearch_SERPS!C574),ShareOfSearch_SERPS!C574,\"\")","v":""},{"$f":"IF(ISTEXT(ShareOfSearch_SERPS!D574),ShareOfSearch_SERPS!D574,\"\")","v":""},{"$f":"IF(NOT(ISBLANK(ShareOfSearch_SERPS!A574)),ShareOfSearch_SERPS!A574,\"\")","v":""},{"$f":"IF(NOT(ISBLANK(ShareOfSearch_SERPS!G574)),ShareOfSearch_SERPS!G574,\"\")","v":""},{"$f":"IF(NOT(ISBLANK(ShareOfSearch_SERPS!K574)),ShareOfSearch_SERPS!K574,\"\")","v":""},{"$f":"IFERROR(VLOOKUP(C574,ShareOfSearch_CTR!$A$1:$B$100,2,FALSE)*VLOOKUP(A574&B574,ShareOfSearch_Volume!$C$1:$D$1000,2,FALSE),\"\")","v":""}]
[{"$f":"IF(ISTEXT(ShareOfSearch_SERPS!C575),ShareOfSearch_SERPS!C575,\"\")","v":""},{"$f":"IF(ISTEXT(ShareOfSearch_SERPS!D575),ShareOfSearch_SERPS!D575,\"\")","v":""},{"$f":"IF(NOT(ISBLANK(ShareOfSearch_SERPS!A575)),ShareOfSearch_SERPS!A575,\"\")","v":""},{"$f":"IF(NOT(ISBLANK(ShareOfSearch_SERPS!G575)),ShareOfSearch_SERPS!G575,\"\")","v":""},{"$f":"IF(NOT(ISBLANK(ShareOfSearch_SERPS!K575)),ShareOfSearch_SERPS!K575,\"\")","v":""},{"$f":"IFERROR(VLOOKUP(C575,ShareOfSearch_CTR!$A$1:$B$100,2,FALSE)*VLOOKUP(A575&B575,ShareOfSearch_Volume!$C$1:$D$1000,2,FALSE),\"\")","v":""}]
[{"$f":"IF(ISTEXT(ShareOfSearch_SERPS!C576),ShareOfSearch_SERPS!C576,\"\")","v":""},{"$f":"IF(ISTEXT(ShareOfSearch_SERPS!D576),ShareOfSearch_SERPS!D576,\"\")","v":""},{"$f":"IF(NOT(ISBLANK(ShareOfSearch_SERPS!A576)),ShareOfSearch_SERPS!A576,\"\")","v":""},{"$f":"IF(NOT(ISBLANK(ShareOfSearch_SERPS!G576)),ShareOfSearch_SERPS!G576,\"\")","v":""},{"$f":"IF(NOT(ISBLANK(ShareOfSearch_SERPS!K576)),ShareOfSearch_SERPS!K576,\"\")","v":""},{"$f":"IFERROR(VLOOKUP(C576,ShareOfSearch_CTR!$A$1:$B$100,2,FALSE)*VLOOKUP(A576&B576,ShareOfSearch_Volume!$C$1:$D$1000,2,FALSE),\"\")","v":""}]
[{"$f":"IF(ISTEXT(ShareOfSearch_SERPS!C577),ShareOfSearch_SERPS!C577,\"\")","v":""},{"$f":"IF(ISTEXT(ShareOfSearch_SERPS!D577),ShareOfSearch_SERPS!D577,\"\")","v":""},{"$f":"IF(NOT(ISBLANK(ShareOfSearch_SERPS!A577)),ShareOfSearch_SERPS!A577,\"\")","v":""},{"$f":"IF(NOT(ISBLANK(ShareOfSearch_SERPS!G577)),ShareOfSearch_SERPS!G577,\"\")","v":""},{"$f":"IF(NOT(ISBLANK(ShareOfSearch_SERPS!K577)),ShareOfSearch_SERPS!K577,\"\")","v":""},{"$f":"IFERROR(VLOOKUP(C577,ShareOfSearch_CTR!$A$1:$B$100,2,FALSE)*VLOOKUP(A577&B577,ShareOfSearch_Volume!$C$1:$D$1000,2,FALSE),\"\")","v":""}]
[{"$f":"IF(ISTEXT(ShareOfSearch_SERPS!C578),ShareOfSearch_SERPS!C578,\"\")","v":""},{"$f":"IF(ISTEXT(ShareOfSearch_SERPS!D578),ShareOfSearch_SERPS!D578,\"\")","v":""},{"$f":"IF(NOT(ISBLANK(ShareOfSearch_SERPS!A578)),ShareOfSearch_SERPS!A578,\"\")","v":""},{"$f":"IF(NOT(ISBLANK(ShareOfSearch_SERPS!G578)),ShareOfSearch_SERPS!G578,\"\")","v":""},{"$f":"IF(NOT(ISBLANK(ShareOfSearch_SERPS!K578)),ShareOfSearch_SERPS!K578,\"\")","v":""},{"$f":"IFERROR(VLOOKUP(C578,ShareOfSearch_CTR!$A$1:$B$100,2,FALSE)*VLOOKUP(A578&B578,ShareOfSearch_Volume!$C$1:$D$1000,2,FALSE),\"\")","v":""}]
[{"$f":"IF(ISTEXT(ShareOfSearch_SERPS!C579),ShareOfSearch_SERPS!C579,\"\")","v":""},{"$f":"IF(ISTEXT(ShareOfSearch_SERPS!D579),ShareOfSearch_SERPS!D579,\"\")","v":""},{"$f":"IF(NOT(ISBLANK(ShareOfSearch_SERPS!A579)),ShareOfSearch_SERPS!A579,\"\")","v":""},{"$f":"IF(NOT(ISBLANK(ShareOfSearch_SERPS!G579)),ShareOfSearch_SERPS!G579,\"\")","v":""},{"$f":"IF(NOT(ISBLANK(ShareOfSearch_SERPS!K579)),ShareOfSearch_SERPS!K579,\"\")","v":""},{"$f":"IFERROR(VLOOKUP(C579,ShareOfSearch_CTR!$A$1:$B$100,2,FALSE)*VLOOKUP(A579&B579,ShareOfSearch_Volume!$C$1:$D$1000,2,FALSE),\"\")","v":""}]
[{"$f":"IF(ISTEXT(ShareOfSearch_SERPS!C580),ShareOfSearch_SERPS!C580,\"\")","v":""},{"$f":"IF(ISTEXT(ShareOfSearch_SERPS!D580),ShareOfSearch_SERPS!D580,\"\")","v":""},{"$f":"IF(NOT(ISBLANK(ShareOfSearch_SERPS!A580)),ShareOfSearch_SERPS!A580,\"\")","v":""},{"$f":"IF(NOT(ISBLANK(ShareOfSearch_SERPS!G580)),ShareOfSearch_SERPS!G580,\"\")","v":""},{"$f":"IF(NOT(ISBLANK(ShareOfSearch_SERPS!K580)),ShareOfSearch_SERPS!K580,\"\")","v":""},{"$f":"IFERROR(VLOOKUP(C580,ShareOfSearch_CTR!$A$1:$B$100,2,FALSE)*VLOOKUP(A580&B580,ShareOfSearch_Volume!$C$1:$D$1000,2,FALSE),\"\")","v":""}]
[{"$f":"IF(ISTEXT(ShareOfSearch_SERPS!C581),ShareOfSearch_SERPS!C581,\"\")","v":""},{"$f":"IF(ISTEXT(ShareOfSearch_SERPS!D581),ShareOfSearch_SERPS!D581,\"\")","v":""},{"$f":"IF(NOT(ISBLANK(ShareOfSearch_SERPS!A581)),ShareOfSearch_SERPS!A581,\"\")","v":""},{"$f":"IF(NOT(ISBLANK(ShareOfSearch_SERPS!G581)),ShareOfSearch_SERPS!G581,\"\")","v":""},{"$f":"IF(NOT(ISBLANK(ShareOfSearch_SERPS!K581)),ShareOfSearch_SERPS!K581,\"\")","v":""},{"$f":"IFERROR(VLOOKUP(C581,ShareOfSearch_CTR!$A$1:$B$100,2,FALSE)*VLOOKUP(A581&B581,ShareOfSearch_Volume!$C$1:$D$1000,2,FALSE),\"\")","v":""}]
[{"$f":"IF(ISTEXT(ShareOfSearch_SERPS!C582),ShareOfSearch_SERPS!C582,\"\")","v":""},{"$f":"IF(ISTEXT(ShareOfSearch_SERPS!D582),ShareOfSearch_SERPS!D582,\"\")","v":""},{"$f":"IF(NOT(ISBLANK(ShareOfSearch_SERPS!A582)),ShareOfSearch_SERPS!A582,\"\")","v":""},{"$f":"IF(NOT(ISBLANK(ShareOfSearch_SERPS!G582)),ShareOfSearch_SERPS!G582,\"\")","v":""},{"$f":"IF(NOT(ISBLANK(ShareOfSearch_SERPS!K582)),ShareOfSearch_SERPS!K582,\"\")","v":""},{"$f":"IFERROR(VLOOKUP(C582,ShareOfSearch_CTR!$A$1:$B$100,2,FALSE)*VLOOKUP(A582&B582,ShareOfSearch_Volume!$C$1:$D$1000,2,FALSE),\"\")","v":""}]
[{"$f":"IF(ISTEXT(ShareOfSearch_SERPS!C583),ShareOfSearch_SERPS!C583,\"\")","v":""},{"$f":"IF(ISTEXT(ShareOfSearch_SERPS!D583),ShareOfSearch_SERPS!D583,\"\")","v":""},{"$f":"IF(NOT(ISBLANK(ShareOfSearch_SERPS!A583)),ShareOfSearch_SERPS!A583,\"\")","v":""},{"$f":"IF(NOT(ISBLANK(ShareOfSearch_SERPS!G583)),ShareOfSearch_SERPS!G583,\"\")","v":""},{"$f":"IF(NOT(ISBLANK(ShareOfSearch_SERPS!K583)),ShareOfSearch_SERPS!K583,\"\")","v":""},{"$f":"IFERROR(VLOOKUP(C583,ShareOfSearch_CTR!$A$1:$B$100,2,FALSE)*VLOOKUP(A583&B583,ShareOfSearch_Volume!$C$1:$D$1000,2,FALSE),\"\")","v":""}]
[{"$f":"IF(ISTEXT(ShareOfSearch_SERPS!C584),ShareOfSearch_SERPS!C584,\"\")","v":""},{"$f":"IF(ISTEXT(ShareOfSearch_SERPS!D584),ShareOfSearch_SERPS!D584,\"\")","v":""},{"$f":"IF(NOT(ISBLANK(ShareOfSearch_SERPS!A584)),ShareOfSearch_SERPS!A584,\"\")","v":""},{"$f":"IF(NOT(ISBLANK(ShareOfSearch_SERPS!G584)),ShareOfSearch_SERPS!G584,\"\")","v":""},{"$f":"IF(NOT(ISBLANK(ShareOfSearch_SERPS!K584)),ShareOfSearch_SERPS!K584,\"\")","v":""},{"$f":"IFERROR(VLOOKUP(C584,ShareOfSearch_CTR!$A$1:$B$100,2,FALSE)*VLOOKUP(A584&B584,ShareOfSearch_Volume!$C$1:$D$1000,2,FALSE),\"\")","v":""}]
[{"$f":"IF(ISTEXT(ShareOfSearch_SERPS!C585),ShareOfSearch_SERPS!C585,\"\")","v":""},{"$f":"IF(ISTEXT(ShareOfSearch_SERPS!D585),ShareOfSearch_SERPS!D585,\"\")","v":""},{"$f":"IF(NOT(ISBLANK(ShareOfSearch_SERPS!A585)),ShareOfSearch_SERPS!A585,\"\")","v":""},{"$f":"IF(NOT(ISBLANK(ShareOfSearch_SERPS!G585)),ShareOfSearch_SERPS!G585,\"\")","v":""},{"$f":"IF(NOT(ISBLANK(ShareOfSearch_SERPS!K585)),ShareOfSearch_SERPS!K585,\"\")","v":""},{"$f":"IFERROR(VLOOKUP(C585,ShareOfSearch_CTR!$A$1:$B$100,2,FALSE)*VLOOKUP(A585&B585,ShareOfSearch_Volume!$C$1:$D$1000,2,FALSE),\"\")","v":""}]
[{"$f":"IF(ISTEXT(ShareOfSearch_SERPS!C586),ShareOfSearch_SERPS!C586,\"\")","v":""},{"$f":"IF(ISTEXT(ShareOfSearch_SERPS!D586),ShareOfSearch_SERPS!D586,\"\")","v":""},{"$f":"IF(NOT(ISBLANK(ShareOfSearch_SERPS!A586)),ShareOfSearch_SERPS!A586,\"\")","v":""},{"$f":"IF(NOT(ISBLANK(ShareOfSearch_SERPS!G586)),ShareOfSearch_SERPS!G586,\"\")","v":""},{"$f":"IF(NOT(ISBLANK(ShareOfSearch_SERPS!K586)),ShareOfSearch_SERPS!K586,\"\")","v":""},{"$f":"IFERROR(VLOOKUP(C586,ShareOfSearch_CTR!$A$1:$B$100,2,FALSE)*VLOOKUP(A586&B586,ShareOfSearch_Volume!$C$1:$D$1000,2,FALSE),\"\")","v":""}]
[{"$f":"IF(ISTEXT(ShareOfSearch_SERPS!C587),ShareOfSearch_SERPS!C587,\"\")","v":""},{"$f":"IF(ISTEXT(ShareOfSearch_SERPS!D587),ShareOfSearch_SERPS!D587,\"\")","v":""},{"$f":"IF(NOT(ISBLANK(ShareOfSearch_SERPS!A587)),ShareOfSearch_SERPS!A587,\"\")","v":""},{"$f":"IF(NOT(ISBLANK(ShareOfSearch_SERPS!G587)),ShareOfSearch_SERPS!G587,\"\")","v":""},{"$f":"IF(NOT(ISBLANK(ShareOfSearch_SERPS!K587)),ShareOfSearch_SERPS!K587,\"\")","v":""},{"$f":"IFERROR(VLOOKUP(C587,ShareOfSearch_CTR!$A$1:$B$100,2,FALSE)*VLOOKUP(A587&B587,ShareOfSearch_Volume!$C$1:$D$1000,2,FALSE),\"\")","v":""}]
[{"$f":"IF(ISTEXT(ShareOfSearch_SERPS!C588),ShareOfSearch_SERPS!C588,\"\")","v":""},{"$f":"IF(ISTEXT(ShareOfSearch_SERPS!D588),ShareOfSearch_SERPS!D588,\"\")","v":""},{"$f":"IF(NOT(ISBLANK(ShareOfSearch_SERPS!A588)),ShareOfSearch_SERPS!A588,\"\")","v":""},{"$f":"IF(NOT(ISBLANK(ShareOfSearch_SERPS!G588)),ShareOfSearch_SERPS!G588,\"\")","v":""},{"$f":"IF(NOT(ISBLANK(ShareOfSearch_SERPS!K588)),ShareOfSearch_SERPS!K588,\"\")","v":""},{"$f":"IFERROR(VLOOKUP(C588,ShareOfSearch_CTR!$A$1:$B$100,2,FALSE)*VLOOKUP(A588&B588,ShareOfSearch_Volume!$C$1:$D$1000,2,FALSE),\"\")","v":""}]
[{"$f":"IF(ISTEXT(ShareOfSearch_SERPS!C589),ShareOfSearch_SERPS!C589,\"\")","v":""},{"$f":"IF(ISTEXT(ShareOfSearch_SERPS!D589),ShareOfSearch_SERPS!D589,\"\")","v":""},{"$f":"IF(NOT(ISBLANK(ShareOfSearch_SERPS!A589)),ShareOfSearch_SERPS!A589,\"\")","v":""},{"$f":"IF(NOT(ISBLANK(ShareOfSearch_SERPS!G589)),ShareOfSearch_SERPS!G589,\"\")","v":""},{"$f":"IF(NOT(ISBLANK(ShareOfSearch_SERPS!K589)),ShareOfSearch_SERPS!K589,\"\")","v":""},{"$f":"IFERROR(VLOOKUP(C589,ShareOfSearch_CTR!$A$1:$B$100,2,FALSE)*VLOOKUP(A589&B589,ShareOfSearch_Volume!$C$1:$D$1000,2,FALSE),\"\")","v":""}]
[{"$f":"IF(ISTEXT(ShareOfSearch_SERPS!C590),ShareOfSearch_SERPS!C590,\"\")","v":""},{"$f":"IF(ISTEXT(ShareOfSearch_SERPS!D590),ShareOfSearch_SERPS!D590,\"\")","v":""},{"$f":"IF(NOT(ISBLANK(ShareOfSearch_SERPS!A590)),ShareOfSearch_SERPS!A590,\"\")","v":""},{"$f":"IF(NOT(ISBLANK(ShareOfSearch_SERPS!G590)),ShareOfSearch_SERPS!G590,\"\")","v":""},{"$f":"IF(NOT(ISBLANK(ShareOfSearch_SERPS!K590)),ShareOfSearch_SERPS!K590,\"\")","v":""},{"$f":"IFERROR(VLOOKUP(C590,ShareOfSearch_CTR!$A$1:$B$100,2,FALSE)*VLOOKUP(A590&B590,ShareOfSearch_Volume!$C$1:$D$1000,2,FALSE),\"\")","v":""}]
[{"$f":"IF(ISTEXT(ShareOfSearch_SERPS!C591),ShareOfSearch_SERPS!C591,\"\")","v":""},{"$f":"IF(ISTEXT(ShareOfSearch_SERPS!D591),ShareOfSearch_SERPS!D591,\"\")","v":""},{"$f":"IF(NOT(ISBLANK(ShareOfSearch_SERPS!A591)),ShareOfSearch_SERPS!A591,\"\")","v":""},{"$f":"IF(NOT(ISBLANK(ShareOfSearch_SERPS!G591)),ShareOfSearch_SERPS!G591,\"\")","v":""},{"$f":"IF(NOT(ISBLANK(ShareOfSearch_SERPS!K591)),ShareOfSearch_SERPS!K591,\"\")","v":""},{"$f":"IFERROR(VLOOKUP(C591,ShareOfSearch_CTR!$A$1:$B$100,2,FALSE)*VLOOKUP(A591&B591,ShareOfSearch_Volume!$C$1:$D$1000,2,FALSE),\"\")","v":""}]
[{"$f":"IF(ISTEXT(ShareOfSearch_SERPS!C592),ShareOfSearch_SERPS!C592,\"\")","v":""},{"$f":"IF(ISTEXT(ShareOfSearch_SERPS!D592),ShareOfSearch_SERPS!D592,\"\")","v":""},{"$f":"IF(NOT(ISBLANK(ShareOfSearch_SERPS!A592)),ShareOfSearch_SERPS!A592,\"\")","v":""},{"$f":"IF(NOT(ISBLANK(ShareOfSearch_SERPS!G592)),ShareOfSearch_SERPS!G592,\"\")","v":""},{"$f":"IF(NOT(ISBLANK(ShareOfSearch_SERPS!K592)),ShareOfSearch_SERPS!K592,\"\")","v":""},{"$f":"IFERROR(VLOOKUP(C592,ShareOfSearch_CTR!$A$1:$B$100,2,FALSE)*VLOOKUP(A592&B592,ShareOfSearch_Volume!$C$1:$D$1000,2,FALSE),\"\")","v":""}]
[{"$f":"IF(ISTEXT(ShareOfSearch_SERPS!C593),ShareOfSearch_SERPS!C593,\"\")","v":""},{"$f":"IF(ISTEXT(ShareOfSearch_SERPS!D593),ShareOfSearch_SERPS!D593,\"\")","v":""},{"$f":"IF(NOT(ISBLANK(ShareOfSearch_SERPS!A593)),ShareOfSearch_SERPS!A593,\"\")","v":""},{"$f":"IF(NOT(ISBLANK(ShareOfSearch_SERPS!G593)),ShareOfSearch_SERPS!G593,\"\")","v":""},{"$f":"IF(NOT(ISBLANK(ShareOfSearch_SERPS!K593)),ShareOfSearch_SERPS!K593,\"\")","v":""},{"$f":"IFERROR(VLOOKUP(C593,ShareOfSearch_CTR!$A$1:$B$100,2,FALSE)*VLOOKUP(A593&B593,ShareOfSearch_Volume!$C$1:$D$1000,2,FALSE),\"\")","v":""}]
[{"$f":"IF(ISTEXT(ShareOfSearch_SERPS!C594),ShareOfSearch_SERPS!C594,\"\")","v":""},{"$f":"IF(ISTEXT(ShareOfSearch_SERPS!D594),ShareOfSearch_SERPS!D594,\"\")","v":""},{"$f":"IF(NOT(ISBLANK(ShareOfSearch_SERPS!A594)),ShareOfSearch_SERPS!A594,\"\")","v":""},{"$f":"IF(NOT(ISBLANK(ShareOfSearch_SERPS!G594)),ShareOfSearch_SERPS!G594,\"\")","v":""},{"$f":"IF(NOT(ISBLANK(ShareOfSearch_SERPS!K594)),ShareOfSearch_SERPS!K594,\"\")","v":""},{"$f":"IFERROR(VLOOKUP(C594,ShareOfSearch_CTR!$A$1:$B$100,2,FALSE)*VLOOKUP(A594&B594,ShareOfSearch_Volume!$C$1:$D$1000,2,FALSE),\"\")","v":""}]
[{"$f":"IF(ISTEXT(ShareOfSearch_SERPS!C595),ShareOfSearch_SERPS!C595,\"\")","v":""},{"$f":"IF(ISTEXT(ShareOfSearch_SERPS!D595),ShareOfSearch_SERPS!D595,\"\")","v":""},{"$f":"IF(NOT(ISBLANK(ShareOfSearch_SERPS!A595)),ShareOfSearch_SERPS!A595,\"\")","v":""},{"$f":"IF(NOT(ISBLANK(ShareOfSearch_SERPS!G595)),ShareOfSearch_SERPS!G595,\"\")","v":""},{"$f":"IF(NOT(ISBLANK(ShareOfSearch_SERPS!K595)),ShareOfSearch_SERPS!K595,\"\")","v":""},{"$f":"IFERROR(VLOOKUP(C595,ShareOfSearch_CTR!$A$1:$B$100,2,FALSE)*VLOOKUP(A595&B595,ShareOfSearch_Volume!$C$1:$D$1000,2,FALSE),\"\")","v":""}]
[{"$f":"IF(ISTEXT(ShareOfSearch_SERPS!C596),ShareOfSearch_SERPS!C596,\"\")","v":""},{"$f":"IF(ISTEXT(ShareOfSearch_SERPS!D596),ShareOfSearch_SERPS!D596,\"\")","v":""},{"$f":"IF(NOT(ISBLANK(ShareOfSearch_SERPS!A596)),ShareOfSearch_SERPS!A596,\"\")","v":""},{"$f":"IF(NOT(ISBLANK(ShareOfSearch_SERPS!G596)),ShareOfSearch_SERPS!G596,\"\")","v":""},{"$f":"IF(NOT(ISBLANK(ShareOfSearch_SERPS!K596)),ShareOfSearch_SERPS!K596,\"\")","v":""},{"$f":"IFERROR(VLOOKUP(C596,ShareOfSearch_CTR!$A$1:$B$100,2,FALSE)*VLOOKUP(A596&B596,ShareOfSearch_Volume!$C$1:$D$1000,2,FALSE),\"\")","v":""}]
[{"$f":"IF(ISTEXT(ShareOfSearch_SERPS!C597),ShareOfSearch_SERPS!C597,\"\")","v":""},{"$f":"IF(ISTEXT(ShareOfSearch_SERPS!D597),ShareOfSearch_SERPS!D597,\"\")","v":""},{"$f":"IF(NOT(ISBLANK(ShareOfSearch_SERPS!A597)),ShareOfSearch_SERPS!A597,\"\")","v":""},{"$f":"IF(NOT(ISBLANK(ShareOfSearch_SERPS!G597)),ShareOfSearch_SERPS!G597,\"\")","v":""},{"$f":"IF(NOT(ISBLANK(ShareOfSearch_SERPS!K597)),ShareOfSearch_SERPS!K597,\"\")","v":""},{"$f":"IFERROR(VLOOKUP(C597,ShareOfSearch_CTR!$A$1:$B$100,2,FALSE)*VLOOKUP(A597&B597,ShareOfSearch_Volume!$C$1:$D$1000,2,FALSE),\"\")","v":""}]
[{"$f":"IF(ISTEXT(ShareOfSearch_SERPS!C598),ShareOfSearch_SERPS!C598,\"\")","v":""},{"$f":"IF(ISTEXT(ShareOfSearch_SERPS!D598),ShareOfSearch_SERPS!D598,\"\")","v":""},{"$f":"IF(NOT(ISBLANK(ShareOfSearch_SERPS!A598)),ShareOfSearch_SERPS!A598,\"\")","v":""},{"$f":"IF(NOT(ISBLANK(ShareOfSearch_SERPS!G598)),ShareOfSearch_SERPS!G598,\"\")","v":""},{"$f":"IF(NOT(ISBLANK(ShareOfSearch_SERPS!K598)),ShareOfSearch_SERPS!K598,\"\")","v":""},{"$f":"IFERROR(VLOOKUP(C598,ShareOfSearch_CTR!$A$1:$B$100,2,FALSE)*VLOOKUP(A598&B598,ShareOfSearch_Volume!$C$1:$D$1000,2,FALSE),\"\")","v":""}]
[{"$f":"IF(ISTEXT(ShareOfSearch_SERPS!C599),ShareOfSearch_SERPS!C599,\"\")","v":""},{"$f":"IF(ISTEXT(ShareOfSearch_SERPS!D599),ShareOfSearch_SERPS!D599,\"\")","v":""},{"$f":"IF(NOT(ISBLANK(ShareOfSearch_SERPS!A599)),ShareOfSearch_SERPS!A599,\"\")","v":""},{"$f":"IF(NOT(ISBLANK(ShareOfSearch_SERPS!G599)),ShareOfSearch_SERPS!G599,\"\")","v":""},{"$f":"IF(NOT(ISBLANK(ShareOfSearch_SERPS!K599)),ShareOfSearch_SERPS!K599,\"\")","v":""},{"$f":"IFERROR(VLOOKUP(C599,ShareOfSearch_CTR!$A$1:$B$100,2,FALSE)*VLOOKUP(A599&B599,ShareOfSearch_Volume!$C$1:$D$1000,2,FALSE),\"\")","v":""}]
[{"$f":"IF(ISTEXT(ShareOfSearch_SERPS!C600),ShareOfSearch_SERPS!C600,\"\")","v":""},{"$f":"IF(ISTEXT(ShareOfSearch_SERPS!D600),ShareOfSearch_SERPS!D600,\"\")","v":""},{"$f":"IF(NOT(ISBLANK(ShareOfSearch_SERPS!A600)),ShareOfSearch_SERPS!A600,\"\")","v":""},{"$f":"IF(NOT(ISBLANK(ShareOfSearch_SERPS!G600)),ShareOfSearch_SERPS!G600,\"\")","v":""},{"$f":"IF(NOT(ISBLANK(ShareOfSearch_SERPS!K600)),ShareOfSearch_SERPS!K600,\"\")","v":""},{"$f":"IFERROR(VLOOKUP(C600,ShareOfSearch_CTR!$A$1:$B$100,2,FALSE)*VLOOKUP(A600&B600,ShareOfSearch_Volume!$C$1:$D$1000,2,FALSE),\"\")","v":""}]
[{"$f":"IF(ISTEXT(ShareOfSearch_SERPS!C601),ShareOfSearch_SERPS!C601,\"\")","v":""},{"$f":"IF(ISTEXT(ShareOfSearch_SERPS!D601),ShareOfSearch_SERPS!D601,\"\")","v":""},{"$f":"IF(NOT(ISBLANK(ShareOfSearch_SERPS!A601)),ShareOfSearch_SERPS!A601,\"\")","v":""},{"$f":"IF(NOT(ISBLANK(ShareOfSearch_SERPS!G601)),ShareOfSearch_SERPS!G601,\"\")","v":""},{"$f":"IF(NOT(ISBLANK(ShareOfSearch_SERPS!K601)),ShareOfSearch_SERPS!K601,\"\")","v":""},{"$f":"IFERROR(VLOOKUP(C601,ShareOfSearch_CTR!$A$1:$B$100,2,FALSE)*VLOOKUP(A601&B601,ShareOfSearch_Volume!$C$1:$D$1000,2,FALSE),\"\")","v":""}]
[{"$f":"IF(ISTEXT(ShareOfSearch_SERPS!C602),ShareOfSearch_SERPS!C602,\"\")","v":""},{"$f":"IF(ISTEXT(ShareOfSearch_SERPS!D602),ShareOfSearch_SERPS!D602,\"\")","v":""},{"$f":"IF(NOT(ISBLANK(ShareOfSearch_SERPS!A602)),ShareOfSearch_SERPS!A602,\"\")","v":""},{"$f":"IF(NOT(ISBLANK(ShareOfSearch_SERPS!G602)),ShareOfSearch_SERPS!G602,\"\")","v":""},{"$f":"IF(NOT(ISBLANK(ShareOfSearch_SERPS!K602)),ShareOfSearch_SERPS!K602,\"\")","v":""},{"$f":"IFERROR(VLOOKUP(C602,ShareOfSearch_CTR!$A$1:$B$100,2,FALSE)*VLOOKUP(A602&B602,ShareOfSearch_Volume!$C$1:$D$1000,2,FALSE),\"\")","v":""}]
[{"$f":"IF(ISTEXT(ShareOfSearch_SERPS!C603),ShareOfSearch_SERPS!C603,\"\")","v":""},{"$f":"IF(ISTEXT(ShareOfSearch_SERPS!D603),ShareOfSearch_SERPS!D603,\"\")","v":""},{"$f":"IF(NOT(ISBLANK(ShareOfSearch_SERPS!A603)),ShareOfSearch_SERPS!A603,\"\")","v":""},{"$f":"IF(NOT(ISBLANK(ShareOfSearch_SERPS!G603)),ShareOfSearch_SERPS!G603,\"\")","v":""},{"$f":"IF(NOT(ISBLANK(ShareOfSearch_SERPS!K603)),ShareOfSearch_SERPS!K603,\"\")","v":""},{"$f":"IFERROR(VLOOKUP(C603,ShareOfSearch_CTR!$A$1:$B$100,2,FALSE)*VLOOKUP(A603&B603,ShareOfSearch_Volume!$C$1:$D$1000,2,FALSE),\"\")","v":""}]
[{"$f":"IF(ISTEXT(ShareOfSearch_SERPS!C604),ShareOfSearch_SERPS!C604,\"\")","v":""},{"$f":"IF(ISTEXT(ShareOfSearch_SERPS!D604),ShareOfSearch_SERPS!D604,\"\")","v":""},{"$f":"IF(NOT(ISBLANK(ShareOfSearch_SERPS!A604)),ShareOfSearch_SERPS!A604,\"\")","v":""},{"$f":"IF(NOT(ISBLANK(ShareOfSearch_SERPS!G604)),ShareOfSearch_SERPS!G604,\"\")","v":""},{"$f":"IF(NOT(ISBLANK(ShareOfSearch_SERPS!K604)),ShareOfSearch_SERPS!K604,\"\")","v":""},{"$f":"IFERROR(VLOOKUP(C604,ShareOfSearch_CTR!$A$1:$B$100,2,FALSE)*VLOOKUP(A604&B604,ShareOfSearch_Volume!$C$1:$D$1000,2,FALSE),\"\")","v":""}]
[{"$f":"IF(ISTEXT(ShareOfSearch_SERPS!C605),ShareOfSearch_SERPS!C605,\"\")","v":""},{"$f":"IF(ISTEXT(ShareOfSearch_SERPS!D605),ShareOfSearch_SERPS!D605,\"\")","v":""},{"$f":"IF(NOT(ISBLANK(ShareOfSearch_SERPS!A605)),ShareOfSearch_SERPS!A605,\"\")","v":""},{"$f":"IF(NOT(ISBLANK(ShareOfSearch_SERPS!G605)),ShareOfSearch_SERPS!G605,\"\")","v":""},{"$f":"IF(NOT(ISBLANK(ShareOfSearch_SERPS!K605)),ShareOfSearch_SERPS!K605,\"\")","v":""},{"$f":"IFERROR(VLOOKUP(C605,ShareOfSearch_CTR!$A$1:$B$100,2,FALSE)*VLOOKUP(A605&B605,ShareOfSearch_Volume!$C$1:$D$1000,2,FALSE),\"\")","v":""}]
[{"$f":"IF(ISTEXT(ShareOfSearch_SERPS!C606),ShareOfSearch_SERPS!C606,\"\")","v":""},{"$f":"IF(ISTEXT(ShareOfSearch_SERPS!D606),ShareOfSearch_SERPS!D606,\"\")","v":""},{"$f":"IF(NOT(ISBLANK(ShareOfSearch_SERPS!A606)),ShareOfSearch_SERPS!A606,\"\")","v":""},{"$f":"IF(NOT(ISBLANK(ShareOfSearch_SERPS!G606)),ShareOfSearch_SERPS!G606,\"\")","v":""},{"$f":"IF(NOT(ISBLANK(ShareOfSearch_SERPS!K606)),ShareOfSearch_SERPS!K606,\"\")","v":""},{"$f":"IFERROR(VLOOKUP(C606,ShareOfSearch_CTR!$A$1:$B$100,2,FALSE)*VLOOKUP(A606&B606,ShareOfSearch_Volume!$C$1:$D$1000,2,FALSE),\"\")","v":""}]
[{"$f":"IF(ISTEXT(ShareOfSearch_SERPS!C607),ShareOfSearch_SERPS!C607,\"\")","v":""},{"$f":"IF(ISTEXT(ShareOfSearch_SERPS!D607),ShareOfSearch_SERPS!D607,\"\")","v":""},{"$f":"IF(NOT(ISBLANK(ShareOfSearch_SERPS!A607)),ShareOfSearch_SERPS!A607,\"\")","v":""},{"$f":"IF(NOT(ISBLANK(ShareOfSearch_SERPS!G607)),ShareOfSearch_SERPS!G607,\"\")","v":""},{"$f":"IF(NOT(ISBLANK(ShareOfSearch_SERPS!K607)),ShareOfSearch_SERPS!K607,\"\")","v":""},{"$f":"IFERROR(VLOOKUP(C607,ShareOfSearch_CTR!$A$1:$B$100,2,FALSE)*VLOOKUP(A607&B607,ShareOfSearch_Volume!$C$1:$D$1000,2,FALSE),\"\")","v":""}]
[{"$f":"IF(ISTEXT(ShareOfSearch_SERPS!C608),ShareOfSearch_SERPS!C608,\"\")","v":""},{"$f":"IF(ISTEXT(ShareOfSearch_SERPS!D608),ShareOfSearch_SERPS!D608,\"\")","v":""},{"$f":"IF(NOT(ISBLANK(ShareOfSearch_SERPS!A608)),ShareOfSearch_SERPS!A608,\"\")","v":""},{"$f":"IF(NOT(ISBLANK(ShareOfSearch_SERPS!G608)),ShareOfSearch_SERPS!G608,\"\")","v":""},{"$f":"IF(NOT(ISBLANK(ShareOfSearch_SERPS!K608)),ShareOfSearch_SERPS!K608,\"\")","v":""},{"$f":"IFERROR(VLOOKUP(C608,ShareOfSearch_CTR!$A$1:$B$100,2,FALSE)*VLOOKUP(A608&B608,ShareOfSearch_Volume!$C$1:$D$1000,2,FALSE),\"\")","v":""}]
[{"$f":"IF(ISTEXT(ShareOfSearch_SERPS!C609),ShareOfSearch_SERPS!C609,\"\")","v":""},{"$f":"IF(ISTEXT(ShareOfSearch_SERPS!D609),ShareOfSearch_SERPS!D609,\"\")","v":""},{"$f":"IF(NOT(ISBLANK(ShareOfSearch_SERPS!A609)),ShareOfSearch_SERPS!A609,\"\")","v":""},{"$f":"IF(NOT(ISBLANK(ShareOfSearch_SERPS!G609)),ShareOfSearch_SERPS!G609,\"\")","v":""},{"$f":"IF(NOT(ISBLANK(ShareOfSearch_SERPS!K609)),ShareOfSearch_SERPS!K609,\"\")","v":""},{"$f":"IFERROR(VLOOKUP(C609,ShareOfSearch_CTR!$A$1:$B$100,2,FALSE)*VLOOKUP(A609&B609,ShareOfSearch_Volume!$C$1:$D$1000,2,FALSE),\"\")","v":""}]
[{"$f":"IF(ISTEXT(ShareOfSearch_SERPS!C610),ShareOfSearch_SERPS!C610,\"\")","v":""},{"$f":"IF(ISTEXT(ShareOfSearch_SERPS!D610),ShareOfSearch_SERPS!D610,\"\")","v":""},{"$f":"IF(NOT(ISBLANK(ShareOfSearch_SERPS!A610)),ShareOfSearch_SERPS!A610,\"\")","v":""},{"$f":"IF(NOT(ISBLANK(ShareOfSearch_SERPS!G610)),ShareOfSearch_SERPS!G610,\"\")","v":""},{"$f":"IF(NOT(ISBLANK(ShareOfSearch_SERPS!K610)),ShareOfSearch_SERPS!K610,\"\")","v":""},{"$f":"IFERROR(VLOOKUP(C610,ShareOfSearch_CTR!$A$1:$B$100,2,FALSE)*VLOOKUP(A610&B610,ShareOfSearch_Volume!$C$1:$D$1000,2,FALSE),\"\")","v":""}]
[{"$f":"IF(ISTEXT(ShareOfSearch_SERPS!C611),ShareOfSearch_SERPS!C611,\"\")","v":""},{"$f":"IF(ISTEXT(ShareOfSearch_SERPS!D611),ShareOfSearch_SERPS!D611,\"\")","v":""},{"$f":"IF(NOT(ISBLANK(ShareOfSearch_SERPS!A611)),ShareOfSearch_SERPS!A611,\"\")","v":""},{"$f":"IF(NOT(ISBLANK(ShareOfSearch_SERPS!G611)),ShareOfSearch_SERPS!G611,\"\")","v":""},{"$f":"IF(NOT(ISBLANK(ShareOfSearch_SERPS!K611)),ShareOfSearch_SERPS!K611,\"\")","v":""},{"$f":"IFERROR(VLOOKUP(C611,ShareOfSearch_CTR!$A$1:$B$100,2,FALSE)*VLOOKUP(A611&B611,ShareOfSearch_Volume!$C$1:$D$1000,2,FALSE),\"\")","v":""}]
[{"$f":"IF(ISTEXT(ShareOfSearch_SERPS!C612),ShareOfSearch_SERPS!C612,\"\")","v":""},{"$f":"IF(ISTEXT(ShareOfSearch_SERPS!D612),ShareOfSearch_SERPS!D612,\"\")","v":""},{"$f":"IF(NOT(ISBLANK(ShareOfSearch_SERPS!A612)),ShareOfSearch_SERPS!A612,\"\")","v":""},{"$f":"IF(NOT(ISBLANK(ShareOfSearch_SERPS!G612)),ShareOfSearch_SERPS!G612,\"\")","v":""},{"$f":"IF(NOT(ISBLANK(ShareOfSearch_SERPS!K612)),ShareOfSearch_SERPS!K612,\"\")","v":""},{"$f":"IFERROR(VLOOKUP(C612,ShareOfSearch_CTR!$A$1:$B$100,2,FALSE)*VLOOKUP(A612&B612,ShareOfSearch_Volume!$C$1:$D$1000,2,FALSE),\"\")","v":""}]
[{"$f":"IF(ISTEXT(ShareOfSearch_SERPS!C613),ShareOfSearch_SERPS!C613,\"\")","v":""},{"$f":"IF(ISTEXT(ShareOfSearch_SERPS!D613),ShareOfSearch_SERPS!D613,\"\")","v":""},{"$f":"IF(NOT(ISBLANK(ShareOfSearch_SERPS!A613)),ShareOfSearch_SERPS!A613,\"\")","v":""},{"$f":"IF(NOT(ISBLANK(ShareOfSearch_SERPS!G613)),ShareOfSearch_SERPS!G613,\"\")","v":""},{"$f":"IF(NOT(ISBLANK(ShareOfSearch_SERPS!K613)),ShareOfSearch_SERPS!K613,\"\")","v":""},{"$f":"IFERROR(VLOOKUP(C613,ShareOfSearch_CTR!$A$1:$B$100,2,FALSE)*VLOOKUP(A613&B613,ShareOfSearch_Volume!$C$1:$D$1000,2,FALSE),\"\")","v":""}]
[{"$f":"IF(ISTEXT(ShareOfSearch_SERPS!C614),ShareOfSearch_SERPS!C614,\"\")","v":""},{"$f":"IF(ISTEXT(ShareOfSearch_SERPS!D614),ShareOfSearch_SERPS!D614,\"\")","v":""},{"$f":"IF(NOT(ISBLANK(ShareOfSearch_SERPS!A614)),ShareOfSearch_SERPS!A614,\"\")","v":""},{"$f":"IF(NOT(ISBLANK(ShareOfSearch_SERPS!G614)),ShareOfSearch_SERPS!G614,\"\")","v":""},{"$f":"IF(NOT(ISBLANK(ShareOfSearch_SERPS!K614)),ShareOfSearch_SERPS!K614,\"\")","v":""},{"$f":"IFERROR(VLOOKUP(C614,ShareOfSearch_CTR!$A$1:$B$100,2,FALSE)*VLOOKUP(A614&B614,ShareOfSearch_Volume!$C$1:$D$1000,2,FALSE),\"\")","v":""}]
[{"$f":"IF(ISTEXT(ShareOfSearch_SERPS!C615),ShareOfSearch_SERPS!C615,\"\")","v":""},{"$f":"IF(ISTEXT(ShareOfSearch_SERPS!D615),ShareOfSearch_SERPS!D615,\"\")","v":""},{"$f":"IF(NOT(ISBLANK(ShareOfSearch_SERPS!A615)),ShareOfSearch_SERPS!A615,\"\")","v":""},{"$f":"IF(NOT(ISBLANK(ShareOfSearch_SERPS!G615)),ShareOfSearch_SERPS!G615,\"\")","v":""},{"$f":"IF(NOT(ISBLANK(ShareOfSearch_SERPS!K615)),ShareOfSearch_SERPS!K615,\"\")","v":""},{"$f":"IFERROR(VLOOKUP(C615,ShareOfSearch_CTR!$A$1:$B$100,2,FALSE)*VLOOKUP(A615&B615,ShareOfSearch_Volume!$C$1:$D$1000,2,FALSE),\"\")","v":""}]
[{"$f":"IF(ISTEXT(ShareOfSearch_SERPS!C616),ShareOfSearch_SERPS!C616,\"\")","v":""},{"$f":"IF(ISTEXT(ShareOfSearch_SERPS!D616),ShareOfSearch_SERPS!D616,\"\")","v":""},{"$f":"IF(NOT(ISBLANK(ShareOfSearch_SERPS!A616)),ShareOfSearch_SERPS!A616,\"\")","v":""},{"$f":"IF(NOT(ISBLANK(ShareOfSearch_SERPS!G616)),ShareOfSearch_SERPS!G616,\"\")","v":""},{"$f":"IF(NOT(ISBLANK(ShareOfSearch_SERPS!K616)),ShareOfSearch_SERPS!K616,\"\")","v":""},{"$f":"IFERROR(VLOOKUP(C616,ShareOfSearch_CTR!$A$1:$B$100,2,FALSE)*VLOOKUP(A616&B616,ShareOfSearch_Volume!$C$1:$D$1000,2,FALSE),\"\")","v":""}]
[{"$f":"IF(ISTEXT(ShareOfSearch_SERPS!C617),ShareOfSearch_SERPS!C617,\"\")","v":""},{"$f":"IF(ISTEXT(ShareOfSearch_SERPS!D617),ShareOfSearch_SERPS!D617,\"\")","v":""},{"$f":"IF(NOT(ISBLANK(ShareOfSearch_SERPS!A617)),ShareOfSearch_SERPS!A617,\"\")","v":""},{"$f":"IF(NOT(ISBLANK(ShareOfSearch_SERPS!G617)),ShareOfSearch_SERPS!G617,\"\")","v":""},{"$f":"IF(NOT(ISBLANK(ShareOfSearch_SERPS!K617)),ShareOfSearch_SERPS!K617,\"\")","v":""},{"$f":"IFERROR(VLOOKUP(C617,ShareOfSearch_CTR!$A$1:$B$100,2,FALSE)*VLOOKUP(A617&B617,ShareOfSearch_Volume!$C$1:$D$1000,2,FALSE),\"\")","v":""}]
[{"$f":"IF(ISTEXT(ShareOfSearch_SERPS!C618),ShareOfSearch_SERPS!C618,\"\")","v":""},{"$f":"IF(ISTEXT(ShareOfSearch_SERPS!D618),ShareOfSearch_SERPS!D618,\"\")","v":""},{"$f":"IF(NOT(ISBLANK(ShareOfSearch_SERPS!A618)),ShareOfSearch_SERPS!A618,\"\")","v":""},{"$f":"IF(NOT(ISBLANK(ShareOfSearch_SERPS!G618)),ShareOfSearch_SERPS!G618,\"\")","v":""},{"$f":"IF(NOT(ISBLANK(ShareOfSearch_SERPS!K618)),ShareOfSearch_SERPS!K618,\"\")","v":""},{"$f":"IFERROR(VLOOKUP(C618,ShareOfSearch_CTR!$A$1:$B$100,2,FALSE)*VLOOKUP(A618&B618,ShareOfSearch_Volume!$C$1:$D$1000,2,FALSE),\"\")","v":""}]
[{"$f":"IF(ISTEXT(ShareOfSearch_SERPS!C619),ShareOfSearch_SERPS!C619,\"\")","v":""},{"$f":"IF(ISTEXT(ShareOfSearch_SERPS!D619),ShareOfSearch_SERPS!D619,\"\")","v":""},{"$f":"IF(NOT(ISBLANK(ShareOfSearch_SERPS!A619)),ShareOfSearch_SERPS!A619,\"\")","v":""},{"$f":"IF(NOT(ISBLANK(ShareOfSearch_SERPS!G619)),ShareOfSearch_SERPS!G619,\"\")","v":""},{"$f":"IF(NOT(ISBLANK(ShareOfSearch_SERPS!K619)),ShareOfSearch_SERPS!K619,\"\")","v":""},{"$f":"IFERROR(VLOOKUP(C619,ShareOfSearch_CTR!$A$1:$B$100,2,FALSE)*VLOOKUP(A619&B619,ShareOfSearch_Volume!$C$1:$D$1000,2,FALSE),\"\")","v":""}]
[{"$f":"IF(ISTEXT(ShareOfSearch_SERPS!C620),ShareOfSearch_SERPS!C620,\"\")","v":""},{"$f":"IF(ISTEXT(ShareOfSearch_SERPS!D620),ShareOfSearch_SERPS!D620,\"\")","v":""},{"$f":"IF(NOT(ISBLANK(ShareOfSearch_SERPS!A620)),ShareOfSearch_SERPS!A620,\"\")","v":""},{"$f":"IF(NOT(ISBLANK(ShareOfSearch_SERPS!G620)),ShareOfSearch_SERPS!G620,\"\")","v":""},{"$f":"IF(NOT(ISBLANK(ShareOfSearch_SERPS!K620)),ShareOfSearch_SERPS!K620,\"\")","v":""},{"$f":"IFERROR(VLOOKUP(C620,ShareOfSearch_CTR!$A$1:$B$100,2,FALSE)*VLOOKUP(A620&B620,ShareOfSearch_Volume!$C$1:$D$1000,2,FALSE),\"\")","v":""}]
[{"$f":"IF(ISTEXT(ShareOfSearch_SERPS!C621),ShareOfSearch_SERPS!C621,\"\")","v":""},{"$f":"IF(ISTEXT(ShareOfSearch_SERPS!D621),ShareOfSearch_SERPS!D621,\"\")","v":""},{"$f":"IF(NOT(ISBLANK(ShareOfSearch_SERPS!A621)),ShareOfSearch_SERPS!A621,\"\")","v":""},{"$f":"IF(NOT(ISBLANK(ShareOfSearch_SERPS!G621)),ShareOfSearch_SERPS!G621,\"\")","v":""},{"$f":"IF(NOT(ISBLANK(ShareOfSearch_SERPS!K621)),ShareOfSearch_SERPS!K621,\"\")","v":""},{"$f":"IFERROR(VLOOKUP(C621,ShareOfSearch_CTR!$A$1:$B$100,2,FALSE)*VLOOKUP(A621&B621,ShareOfSearch_Volume!$C$1:$D$1000,2,FALSE),\"\")","v":""}]
[{"$f":"IF(ISTEXT(ShareOfSearch_SERPS!C622),ShareOfSearch_SERPS!C622,\"\")","v":""},{"$f":"IF(ISTEXT(ShareOfSearch_SERPS!D622),ShareOfSearch_SERPS!D622,\"\")","v":""},{"$f":"IF(NOT(ISBLANK(ShareOfSearch_SERPS!A622)),ShareOfSearch_SERPS!A622,\"\")","v":""},{"$f":"IF(NOT(ISBLANK(ShareOfSearch_SERPS!G622)),ShareOfSearch_SERPS!G622,\"\")","v":""},{"$f":"IF(NOT(ISBLANK(ShareOfSearch_SERPS!K622)),ShareOfSearch_SERPS!K622,\"\")","v":""},{"$f":"IFERROR(VLOOKUP(C622,ShareOfSearch_CTR!$A$1:$B$100,2,FALSE)*VLOOKUP(A622&B622,ShareOfSearch_Volume!$C$1:$D$1000,2,FALSE),\"\")","v":""}]
[{"$f":"IF(ISTEXT(ShareOfSearch_SERPS!C623),ShareOfSearch_SERPS!C623,\"\")","v":""},{"$f":"IF(ISTEXT(ShareOfSearch_SERPS!D623),ShareOfSearch_SERPS!D623,\"\")","v":""},{"$f":"IF(NOT(ISBLANK(ShareOfSearch_SERPS!A623)),ShareOfSearch_SERPS!A623,\"\")","v":""},{"$f":"IF(NOT(ISBLANK(ShareOfSearch_SERPS!G623)),ShareOfSearch_SERPS!G623,\"\")","v":""},{"$f":"IF(NOT(ISBLANK(ShareOfSearch_SERPS!K623)),ShareOfSearch_SERPS!K623,\"\")","v":""},{"$f":"IFERROR(VLOOKUP(C623,ShareOfSearch_CTR!$A$1:$B$100,2,FALSE)*VLOOKUP(A623&B623,ShareOfSearch_Volume!$C$1:$D$1000,2,FALSE),\"\")","v":""}]
[{"$f":"IF(ISTEXT(ShareOfSearch_SERPS!C624),ShareOfSearch_SERPS!C624,\"\")","v":""},{"$f":"IF(ISTEXT(ShareOfSearch_SERPS!D624),ShareOfSearch_SERPS!D624,\"\")","v":""},{"$f":"IF(NOT(ISBLANK(ShareOfSearch_SERPS!A624)),ShareOfSearch_SERPS!A624,\"\")","v":""},{"$f":"IF(NOT(ISBLANK(ShareOfSearch_SERPS!G624)),ShareOfSearch_SERPS!G624,\"\")","v":""},{"$f":"IF(NOT(ISBLANK(ShareOfSearch_SERPS!K624)),ShareOfSearch_SERPS!K624,\"\")","v":""},{"$f":"IFERROR(VLOOKUP(C624,ShareOfSearch_CTR!$A$1:$B$100,2,FALSE)*VLOOKUP(A624&B624,ShareOfSearch_Volume!$C$1:$D$1000,2,FALSE),\"\")","v":""}]
[{"$f":"IF(ISTEXT(ShareOfSearch_SERPS!C625),ShareOfSearch_SERPS!C625,\"\")","v":""},{"$f":"IF(ISTEXT(ShareOfSearch_SERPS!D625),ShareOfSearch_SERPS!D625,\"\")","v":""},{"$f":"IF(NOT(ISBLANK(ShareOfSearch_SERPS!A625)),ShareOfSearch_SERPS!A625,\"\")","v":""},{"$f":"IF(NOT(ISBLANK(ShareOfSearch_SERPS!G625)),ShareOfSearch_SERPS!G625,\"\")","v":""},{"$f":"IF(NOT(ISBLANK(ShareOfSearch_SERPS!K625)),ShareOfSearch_SERPS!K625,\"\")","v":""},{"$f":"IFERROR(VLOOKUP(C625,ShareOfSearch_CTR!$A$1:$B$100,2,FALSE)*VLOOKUP(A625&B625,ShareOfSearch_Volume!$C$1:$D$1000,2,FALSE),\"\")","v":""}]
[{"$f":"IF(ISTEXT(ShareOfSearch_SERPS!C626),ShareOfSearch_SERPS!C626,\"\")","v":""},{"$f":"IF(ISTEXT(ShareOfSearch_SERPS!D626),ShareOfSearch_SERPS!D626,\"\")","v":""},{"$f":"IF(NOT(ISBLANK(ShareOfSearch_SERPS!A626)),ShareOfSearch_SERPS!A626,\"\")","v":""},{"$f":"IF(NOT(ISBLANK(ShareOfSearch_SERPS!G626)),ShareOfSearch_SERPS!G626,\"\")","v":""},{"$f":"IF(NOT(ISBLANK(ShareOfSearch_SERPS!K626)),ShareOfSearch_SERPS!K626,\"\")","v":""},{"$f":"IFERROR(VLOOKUP(C626,ShareOfSearch_CTR!$A$1:$B$100,2,FALSE)*VLOOKUP(A626&B626,ShareOfSearch_Volume!$C$1:$D$1000,2,FALSE),\"\")","v":""}]
[{"$f":"IF(ISTEXT(ShareOfSearch_SERPS!C627),ShareOfSearch_SERPS!C627,\"\")","v":""},{"$f":"IF(ISTEXT(ShareOfSearch_SERPS!D627),ShareOfSearch_SERPS!D627,\"\")","v":""},{"$f":"IF(NOT(ISBLANK(ShareOfSearch_SERPS!A627)),ShareOfSearch_SERPS!A627,\"\")","v":""},{"$f":"IF(NOT(ISBLANK(ShareOfSearch_SERPS!G627)),ShareOfSearch_SERPS!G627,\"\")","v":""},{"$f":"IF(NOT(ISBLANK(ShareOfSearch_SERPS!K627)),ShareOfSearch_SERPS!K627,\"\")","v":""},{"$f":"IFERROR(VLOOKUP(C627,ShareOfSearch_CTR!$A$1:$B$100,2,FALSE)*VLOOKUP(A627&B627,ShareOfSearch_Volume!$C$1:$D$1000,2,FALSE),\"\")","v":""}]
[{"$f":"IF(ISTEXT(ShareOfSearch_SERPS!C628),ShareOfSearch_SERPS!C628,\"\")","v":""},{"$f":"IF(ISTEXT(ShareOfSearch_SERPS!D628),ShareOfSearch_SERPS!D628,\"\")","v":""},{"$f":"IF(NOT(ISBLANK(ShareOfSearch_SERPS!A628)),ShareOfSearch_SERPS!A628,\"\")","v":""},{"$f":"IF(NOT(ISBLANK(ShareOfSearch_SERPS!G628)),ShareOfSearch_SERPS!G628,\"\")","v":""},{"$f":"IF(NOT(ISBLANK(ShareOfSearch_SERPS!K628)),ShareOfSearch_SERPS!K628,\"\")","v":""},{"$f":"IFERROR(VLOOKUP(C628,ShareOfSearch_CTR!$A$1:$B$100,2,FALSE)*VLOOKUP(A628&B628,ShareOfSearch_Volume!$C$1:$D$1000,2,FALSE),\"\")","v":""}]
[{"$f":"IF(ISTEXT(ShareOfSearch_SERPS!C629),ShareOfSearch_SERPS!C629,\"\")","v":""},{"$f":"IF(ISTEXT(ShareOfSearch_SERPS!D629),ShareOfSearch_SERPS!D629,\"\")","v":""},{"$f":"IF(NOT(ISBLANK(ShareOfSearch_SERPS!A629)),ShareOfSearch_SERPS!A629,\"\")","v":""},{"$f":"IF(NOT(ISBLANK(ShareOfSearch_SERPS!G629)),ShareOfSearch_SERPS!G629,\"\")","v":""},{"$f":"IF(NOT(ISBLANK(ShareOfSearch_SERPS!K629)),ShareOfSearch_SERPS!K629,\"\")","v":""},{"$f":"IFERROR(VLOOKUP(C629,ShareOfSearch_CTR!$A$1:$B$100,2,FALSE)*VLOOKUP(A629&B629,ShareOfSearch_Volume!$C$1:$D$1000,2,FALSE),\"\")","v":""}]
[{"$f":"IF(ISTEXT(ShareOfSearch_SERPS!C630),ShareOfSearch_SERPS!C630,\"\")","v":""},{"$f":"IF(ISTEXT(ShareOfSearch_SERPS!D630),ShareOfSearch_SERPS!D630,\"\")","v":""},{"$f":"IF(NOT(ISBLANK(ShareOfSearch_SERPS!A630)),ShareOfSearch_SERPS!A630,\"\")","v":""},{"$f":"IF(NOT(ISBLANK(ShareOfSearch_SERPS!G630)),ShareOfSearch_SERPS!G630,\"\")","v":""},{"$f":"IF(NOT(ISBLANK(ShareOfSearch_SERPS!K630)),ShareOfSearch_SERPS!K630,\"\")","v":""},{"$f":"IFERROR(VLOOKUP(C630,ShareOfSearch_CTR!$A$1:$B$100,2,FALSE)*VLOOKUP(A630&B630,ShareOfSearch_Volume!$C$1:$D$1000,2,FALSE),\"\")","v":""}]
[{"$f":"IF(ISTEXT(ShareOfSearch_SERPS!C631),ShareOfSearch_SERPS!C631,\"\")","v":""},{"$f":"IF(ISTEXT(ShareOfSearch_SERPS!D631),ShareOfSearch_SERPS!D631,\"\")","v":""},{"$f":"IF(NOT(ISBLANK(ShareOfSearch_SERPS!A631)),ShareOfSearch_SERPS!A631,\"\")","v":""},{"$f":"IF(NOT(ISBLANK(ShareOfSearch_SERPS!G631)),ShareOfSearch_SERPS!G631,\"\")","v":""},{"$f":"IF(NOT(ISBLANK(ShareOfSearch_SERPS!K631)),ShareOfSearch_SERPS!K631,\"\")","v":""},{"$f":"IFERROR(VLOOKUP(C631,ShareOfSearch_CTR!$A$1:$B$100,2,FALSE)*VLOOKUP(A631&B631,ShareOfSearch_Volume!$C$1:$D$1000,2,FALSE),\"\")","v":""}]
[{"$f":"IF(ISTEXT(ShareOfSearch_SERPS!C632),ShareOfSearch_SERPS!C632,\"\")","v":""},{"$f":"IF(ISTEXT(ShareOfSearch_SERPS!D632),ShareOfSearch_SERPS!D632,\"\")","v":""},{"$f":"IF(NOT(ISBLANK(ShareOfSearch_SERPS!A632)),ShareOfSearch_SERPS!A632,\"\")","v":""},{"$f":"IF(NOT(ISBLANK(ShareOfSearch_SERPS!G632)),ShareOfSearch_SERPS!G632,\"\")","v":""},{"$f":"IF(NOT(ISBLANK(ShareOfSearch_SERPS!K632)),ShareOfSearch_SERPS!K632,\"\")","v":""},{"$f":"IFERROR(VLOOKUP(C632,ShareOfSearch_CTR!$A$1:$B$100,2,FALSE)*VLOOKUP(A632&B632,ShareOfSearch_Volume!$C$1:$D$1000,2,FALSE),\"\")","v":""}]
[{"$f":"IF(ISTEXT(ShareOfSearch_SERPS!C633),ShareOfSearch_SERPS!C633,\"\")","v":""},{"$f":"IF(ISTEXT(ShareOfSearch_SERPS!D633),ShareOfSearch_SERPS!D633,\"\")","v":""},{"$f":"IF(NOT(ISBLANK(ShareOfSearch_SERPS!A633)),ShareOfSearch_SERPS!A633,\"\")","v":""},{"$f":"IF(NOT(ISBLANK(ShareOfSearch_SERPS!G633)),ShareOfSearch_SERPS!G633,\"\")","v":""},{"$f":"IF(NOT(ISBLANK(ShareOfSearch_SERPS!K633)),ShareOfSearch_SERPS!K633,\"\")","v":""},{"$f":"IFERROR(VLOOKUP(C633,ShareOfSearch_CTR!$A$1:$B$100,2,FALSE)*VLOOKUP(A633&B633,ShareOfSearch_Volume!$C$1:$D$1000,2,FALSE),\"\")","v":""}]
[{"$f":"IF(ISTEXT(ShareOfSearch_SERPS!C634),ShareOfSearch_SERPS!C634,\"\")","v":""},{"$f":"IF(ISTEXT(ShareOfSearch_SERPS!D634),ShareOfSearch_SERPS!D634,\"\")","v":""},{"$f":"IF(NOT(ISBLANK(ShareOfSearch_SERPS!A634)),ShareOfSearch_SERPS!A634,\"\")","v":""},{"$f":"IF(NOT(ISBLANK(ShareOfSearch_SERPS!G634)),ShareOfSearch_SERPS!G634,\"\")","v":""},{"$f":"IF(NOT(ISBLANK(ShareOfSearch_SERPS!K634)),ShareOfSearch_SERPS!K634,\"\")","v":""},{"$f":"IFERROR(VLOOKUP(C634,ShareOfSearch_CTR!$A$1:$B$100,2,FALSE)*VLOOKUP(A634&B634,ShareOfSearch_Volume!$C$1:$D$1000,2,FALSE),\"\")","v":""}]
[{"$f":"IF(ISTEXT(ShareOfSearch_SERPS!C635),ShareOfSearch_SERPS!C635,\"\")","v":""},{"$f":"IF(ISTEXT(ShareOfSearch_SERPS!D635),ShareOfSearch_SERPS!D635,\"\")","v":""},{"$f":"IF(NOT(ISBLANK(ShareOfSearch_SERPS!A635)),ShareOfSearch_SERPS!A635,\"\")","v":""},{"$f":"IF(NOT(ISBLANK(ShareOfSearch_SERPS!G635)),ShareOfSearch_SERPS!G635,\"\")","v":""},{"$f":"IF(NOT(ISBLANK(ShareOfSearch_SERPS!K635)),ShareOfSearch_SERPS!K635,\"\")","v":""},{"$f":"IFERROR(VLOOKUP(C635,ShareOfSearch_CTR!$A$1:$B$100,2,FALSE)*VLOOKUP(A635&B635,ShareOfSearch_Volume!$C$1:$D$1000,2,FALSE),\"\")","v":""}]
[{"$f":"IF(ISTEXT(ShareOfSearch_SERPS!C636),ShareOfSearch_SERPS!C636,\"\")","v":""},{"$f":"IF(ISTEXT(ShareOfSearch_SERPS!D636),ShareOfSearch_SERPS!D636,\"\")","v":""},{"$f":"IF(NOT(ISBLANK(ShareOfSearch_SERPS!A636)),ShareOfSearch_SERPS!A636,\"\")","v":""},{"$f":"IF(NOT(ISBLANK(ShareOfSearch_SERPS!G636)),ShareOfSearch_SERPS!G636,\"\")","v":""},{"$f":"IF(NOT(ISBLANK(ShareOfSearch_SERPS!K636)),ShareOfSearch_SERPS!K636,\"\")","v":""},{"$f":"IFERROR(VLOOKUP(C636,ShareOfSearch_CTR!$A$1:$B$100,2,FALSE)*VLOOKUP(A636&B636,ShareOfSearch_Volume!$C$1:$D$1000,2,FALSE),\"\")","v":""}]
[{"$f":"IF(ISTEXT(ShareOfSearch_SERPS!C637),ShareOfSearch_SERPS!C637,\"\")","v":""},{"$f":"IF(ISTEXT(ShareOfSearch_SERPS!D637),ShareOfSearch_SERPS!D637,\"\")","v":""},{"$f":"IF(NOT(ISBLANK(ShareOfSearch_SERPS!A637)),ShareOfSearch_SERPS!A637,\"\")","v":""},{"$f":"IF(NOT(ISBLANK(ShareOfSearch_SERPS!G637)),ShareOfSearch_SERPS!G637,\"\")","v":""},{"$f":"IF(NOT(ISBLANK(ShareOfSearch_SERPS!K637)),ShareOfSearch_SERPS!K637,\"\")","v":""},{"$f":"IFERROR(VLOOKUP(C637,ShareOfSearch_CTR!$A$1:$B$100,2,FALSE)*VLOOKUP(A637&B637,ShareOfSearch_Volume!$C$1:$D$1000,2,FALSE),\"\")","v":""}]
[{"$f":"IF(ISTEXT(ShareOfSearch_SERPS!C638),ShareOfSearch_SERPS!C638,\"\")","v":""},{"$f":"IF(ISTEXT(ShareOfSearch_SERPS!D638),ShareOfSearch_SERPS!D638,\"\")","v":""},{"$f":"IF(NOT(ISBLANK(ShareOfSearch_SERPS!A638)),ShareOfSearch_SERPS!A638,\"\")","v":""},{"$f":"IF(NOT(ISBLANK(ShareOfSearch_SERPS!G638)),ShareOfSearch_SERPS!G638,\"\")","v":""},{"$f":"IF(NOT(ISBLANK(ShareOfSearch_SERPS!K638)),ShareOfSearch_SERPS!K638,\"\")","v":""},{"$f":"IFERROR(VLOOKUP(C638,ShareOfSearch_CTR!$A$1:$B$100,2,FALSE)*VLOOKUP(A638&B638,ShareOfSearch_Volume!$C$1:$D$1000,2,FALSE),\"\")","v":""}]
[{"$f":"IF(ISTEXT(ShareOfSearch_SERPS!C639),ShareOfSearch_SERPS!C639,\"\")","v":""},{"$f":"IF(ISTEXT(ShareOfSearch_SERPS!D639),ShareOfSearch_SERPS!D639,\"\")","v":""},{"$f":"IF(NOT(ISBLANK(ShareOfSearch_SERPS!A639)),ShareOfSearch_SERPS!A639,\"\")","v":""},{"$f":"IF(NOT(ISBLANK(ShareOfSearch_SERPS!G639)),ShareOfSearch_SERPS!G639,\"\")","v":""},{"$f":"IF(NOT(ISBLANK(ShareOfSearch_SERPS!K639)),ShareOfSearch_SERPS!K639,\"\")","v":""},{"$f":"IFERROR(VLOOKUP(C639,ShareOfSearch_CTR!$A$1:$B$100,2,FALSE)*VLOOKUP(A639&B639,ShareOfSearch_Volume!$C$1:$D$1000,2,FALSE),\"\")","v":""}]
[{"$f":"IF(ISTEXT(ShareOfSearch_SERPS!C640),ShareOfSearch_SERPS!C640,\"\")","v":""},{"$f":"IF(ISTEXT(ShareOfSearch_SERPS!D640),ShareOfSearch_SERPS!D640,\"\")","v":""},{"$f":"IF(NOT(ISBLANK(ShareOfSearch_SERPS!A640)),ShareOfSearch_SERPS!A640,\"\")","v":""},{"$f":"IF(NOT(ISBLANK(ShareOfSearch_SERPS!G640)),ShareOfSearch_SERPS!G640,\"\")","v":""},{"$f":"IF(NOT(ISBLANK(ShareOfSearch_SERPS!K640)),ShareOfSearch_SERPS!K640,\"\")","v":""},{"$f":"IFERROR(VLOOKUP(C640,ShareOfSearch_CTR!$A$1:$B$100,2,FALSE)*VLOOKUP(A640&B640,ShareOfSearch_Volume!$C$1:$D$1000,2,FALSE),\"\")","v":""}]
[{"$f":"IF(ISTEXT(ShareOfSearch_SERPS!C641),ShareOfSearch_SERPS!C641,\"\")","v":""},{"$f":"IF(ISTEXT(ShareOfSearch_SERPS!D641),ShareOfSearch_SERPS!D641,\"\")","v":""},{"$f":"IF(NOT(ISBLANK(ShareOfSearch_SERPS!A641)),ShareOfSearch_SERPS!A641,\"\")","v":""},{"$f":"IF(NOT(ISBLANK(ShareOfSearch_SERPS!G641)),ShareOfSearch_SERPS!G641,\"\")","v":""},{"$f":"IF(NOT(ISBLANK(ShareOfSearch_SERPS!K641)),ShareOfSearch_SERPS!K641,\"\")","v":""},{"$f":"IFERROR(VLOOKUP(C641,ShareOfSearch_CTR!$A$1:$B$100,2,FALSE)*VLOOKUP(A641&B641,ShareOfSearch_Volume!$C$1:$D$1000,2,FALSE),\"\")","v":""}]
[{"$f":"IF(ISTEXT(ShareOfSearch_SERPS!C642),ShareOfSearch_SERPS!C642,\"\")","v":""},{"$f":"IF(ISTEXT(ShareOfSearch_SERPS!D642),ShareOfSearch_SERPS!D642,\"\")","v":""},{"$f":"IF(NOT(ISBLANK(ShareOfSearch_SERPS!A642)),ShareOfSearch_SERPS!A642,\"\")","v":""},{"$f":"IF(NOT(ISBLANK(ShareOfSearch_SERPS!G642)),ShareOfSearch_SERPS!G642,\"\")","v":""},{"$f":"IF(NOT(ISBLANK(ShareOfSearch_SERPS!K642)),ShareOfSearch_SERPS!K642,\"\")","v":""},{"$f":"IFERROR(VLOOKUP(C642,ShareOfSearch_CTR!$A$1:$B$100,2,FALSE)*VLOOKUP(A642&B642,ShareOfSearch_Volume!$C$1:$D$1000,2,FALSE),\"\")","v":""}]
[{"$f":"IF(ISTEXT(ShareOfSearch_SERPS!C643),ShareOfSearch_SERPS!C643,\"\")","v":""},{"$f":"IF(ISTEXT(ShareOfSearch_SERPS!D643),ShareOfSearch_SERPS!D643,\"\")","v":""},{"$f":"IF(NOT(ISBLANK(ShareOfSearch_SERPS!A643)),ShareOfSearch_SERPS!A643,\"\")","v":""},{"$f":"IF(NOT(ISBLANK(ShareOfSearch_SERPS!G643)),ShareOfSearch_SERPS!G643,\"\")","v":""},{"$f":"IF(NOT(ISBLANK(ShareOfSearch_SERPS!K643)),ShareOfSearch_SERPS!K643,\"\")","v":""},{"$f":"IFERROR(VLOOKUP(C643,ShareOfSearch_CTR!$A$1:$B$100,2,FALSE)*VLOOKUP(A643&B643,ShareOfSearch_Volume!$C$1:$D$1000,2,FALSE),\"\")","v":""}]
[{"$f":"IF(ISTEXT(ShareOfSearch_SERPS!C644),ShareOfSearch_SERPS!C644,\"\")","v":""},{"$f":"IF(ISTEXT(ShareOfSearch_SERPS!D644),ShareOfSearch_SERPS!D644,\"\")","v":""},{"$f":"IF(NOT(ISBLANK(ShareOfSearch_SERPS!A644)),ShareOfSearch_SERPS!A644,\"\")","v":""},{"$f":"IF(NOT(ISBLANK(ShareOfSearch_SERPS!G644)),ShareOfSearch_SERPS!G644,\"\")","v":""},{"$f":"IF(NOT(ISBLANK(ShareOfSearch_SERPS!K644)),ShareOfSearch_SERPS!K644,\"\")","v":""},{"$f":"IFERROR(VLOOKUP(C644,ShareOfSearch_CTR!$A$1:$B$100,2,FALSE)*VLOOKUP(A644&B644,ShareOfSearch_Volume!$C$1:$D$1000,2,FALSE),\"\")","v":""}]
[{"$f":"IF(ISTEXT(ShareOfSearch_SERPS!C645),ShareOfSearch_SERPS!C645,\"\")","v":""},{"$f":"IF(ISTEXT(ShareOfSearch_SERPS!D645),ShareOfSearch_SERPS!D645,\"\")","v":""},{"$f":"IF(NOT(ISBLANK(ShareOfSearch_SERPS!A645)),ShareOfSearch_SERPS!A645,\"\")","v":""},{"$f":"IF(NOT(ISBLANK(ShareOfSearch_SERPS!G645)),ShareOfSearch_SERPS!G645,\"\")","v":""},{"$f":"IF(NOT(ISBLANK(ShareOfSearch_SERPS!K645)),ShareOfSearch_SERPS!K645,\"\")","v":""},{"$f":"IFERROR(VLOOKUP(C645,ShareOfSearch_CTR!$A$1:$B$100,2,FALSE)*VLOOKUP(A645&B645,ShareOfSearch_Volume!$C$1:$D$1000,2,FALSE),\"\")","v":""}]
[{"$f":"IF(ISTEXT(ShareOfSearch_SERPS!C646),ShareOfSearch_SERPS!C646,\"\")","v":""},{"$f":"IF(ISTEXT(ShareOfSearch_SERPS!D646),ShareOfSearch_SERPS!D646,\"\")","v":""},{"$f":"IF(NOT(ISBLANK(ShareOfSearch_SERPS!A646)),ShareOfSearch_SERPS!A646,\"\")","v":""},{"$f":"IF(NOT(ISBLANK(ShareOfSearch_SERPS!G646)),ShareOfSearch_SERPS!G646,\"\")","v":""},{"$f":"IF(NOT(ISBLANK(ShareOfSearch_SERPS!K646)),ShareOfSearch_SERPS!K646,\"\")","v":""},{"$f":"IFERROR(VLOOKUP(C646,ShareOfSearch_CTR!$A$1:$B$100,2,FALSE)*VLOOKUP(A646&B646,ShareOfSearch_Volume!$C$1:$D$1000,2,FALSE),\"\")","v":""}]
[{"$f":"IF(ISTEXT(ShareOfSearch_SERPS!C647),ShareOfSearch_SERPS!C647,\"\")","v":""},{"$f":"IF(ISTEXT(ShareOfSearch_SERPS!D647),ShareOfSearch_SERPS!D647,\"\")","v":""},{"$f":"IF(NOT(ISBLANK(ShareOfSearch_SERPS!A647)),ShareOfSearch_SERPS!A647,\"\")","v":""},{"$f":"IF(NOT(ISBLANK(ShareOfSearch_SERPS!G647)),ShareOfSearch_SERPS!G647,\"\")","v":""},{"$f":"IF(NOT(ISBLANK(ShareOfSearch_SERPS!K647)),ShareOfSearch_SERPS!K647,\"\")","v":""},{"$f":"IFERROR(VLOOKUP(C647,ShareOfSearch_CTR!$A$1:$B$100,2,FALSE)*VLOOKUP(A647&B647,ShareOfSearch_Volume!$C$1:$D$1000,2,FALSE),\"\")","v":""}]
[{"$f":"IF(ISTEXT(ShareOfSearch_SERPS!C648),ShareOfSearch_SERPS!C648,\"\")","v":""},{"$f":"IF(ISTEXT(ShareOfSearch_SERPS!D648),ShareOfSearch_SERPS!D648,\"\")","v":""},{"$f":"IF(NOT(ISBLANK(ShareOfSearch_SERPS!A648)),ShareOfSearch_SERPS!A648,\"\")","v":""},{"$f":"IF(NOT(ISBLANK(ShareOfSearch_SERPS!G648)),ShareOfSearch_SERPS!G648,\"\")","v":""},{"$f":"IF(NOT(ISBLANK(ShareOfSearch_SERPS!K648)),ShareOfSearch_SERPS!K648,\"\")","v":""},{"$f":"IFERROR(VLOOKUP(C648,ShareOfSearch_CTR!$A$1:$B$100,2,FALSE)*VLOOKUP(A648&B648,ShareOfSearch_Volume!$C$1:$D$1000,2,FALSE),\"\")","v":""}]
[{"$f":"IF(ISTEXT(ShareOfSearch_SERPS!C649),ShareOfSearch_SERPS!C649,\"\")","v":""},{"$f":"IF(ISTEXT(ShareOfSearch_SERPS!D649),ShareOfSearch_SERPS!D649,\"\")","v":""},{"$f":"IF(NOT(ISBLANK(ShareOfSearch_SERPS!A649)),ShareOfSearch_SERPS!A649,\"\")","v":""},{"$f":"IF(NOT(ISBLANK(ShareOfSearch_SERPS!G649)),ShareOfSearch_SERPS!G649,\"\")","v":""},{"$f":"IF(NOT(ISBLANK(ShareOfSearch_SERPS!K649)),ShareOfSearch_SERPS!K649,\"\")","v":""},{"$f":"IFERROR(VLOOKUP(C649,ShareOfSearch_CTR!$A$1:$B$100,2,FALSE)*VLOOKUP(A649&B649,ShareOfSearch_Volume!$C$1:$D$1000,2,FALSE),\"\")","v":""}]
[{"$f":"IF(ISTEXT(ShareOfSearch_SERPS!C650),ShareOfSearch_SERPS!C650,\"\")","v":""},{"$f":"IF(ISTEXT(ShareOfSearch_SERPS!D650),ShareOfSearch_SERPS!D650,\"\")","v":""},{"$f":"IF(NOT(ISBLANK(ShareOfSearch_SERPS!A650)),ShareOfSearch_SERPS!A650,\"\")","v":""},{"$f":"IF(NOT(ISBLANK(ShareOfSearch_SERPS!G650)),ShareOfSearch_SERPS!G650,\"\")","v":""},{"$f":"IF(NOT(ISBLANK(ShareOfSearch_SERPS!K650)),ShareOfSearch_SERPS!K650,\"\")","v":""},{"$f":"IFERROR(VLOOKUP(C650,ShareOfSearch_CTR!$A$1:$B$100,2,FALSE)*VLOOKUP(A650&B650,ShareOfSearch_Volume!$C$1:$D$1000,2,FALSE),\"\")","v":""}]
[{"$f":"IF(ISTEXT(ShareOfSearch_SERPS!C651),ShareOfSearch_SERPS!C651,\"\")","v":""},{"$f":"IF(ISTEXT(ShareOfSearch_SERPS!D651),ShareOfSearch_SERPS!D651,\"\")","v":""},{"$f":"IF(NOT(ISBLANK(ShareOfSearch_SERPS!A651)),ShareOfSearch_SERPS!A651,\"\")","v":""},{"$f":"IF(NOT(ISBLANK(ShareOfSearch_SERPS!G651)),ShareOfSearch_SERPS!G651,\"\")","v":""},{"$f":"IF(NOT(ISBLANK(ShareOfSearch_SERPS!K651)),ShareOfSearch_SERPS!K651,\"\")","v":""},{"$f":"IFERROR(VLOOKUP(C651,ShareOfSearch_CTR!$A$1:$B$100,2,FALSE)*VLOOKUP(A651&B651,ShareOfSearch_Volume!$C$1:$D$1000,2,FALSE),\"\")","v":""}]
[{"$f":"IF(ISTEXT(ShareOfSearch_SERPS!C652),ShareOfSearch_SERPS!C652,\"\")","v":""},{"$f":"IF(ISTEXT(ShareOfSearch_SERPS!D652),ShareOfSearch_SERPS!D652,\"\")","v":""},{"$f":"IF(NOT(ISBLANK(ShareOfSearch_SERPS!A652)),ShareOfSearch_SERPS!A652,\"\")","v":""},{"$f":"IF(NOT(ISBLANK(ShareOfSearch_SERPS!G652)),ShareOfSearch_SERPS!G652,\"\")","v":""},{"$f":"IF(NOT(ISBLANK(ShareOfSearch_SERPS!K652)),ShareOfSearch_SERPS!K652,\"\")","v":""},{"$f":"IFERROR(VLOOKUP(C652,ShareOfSearch_CTR!$A$1:$B$100,2,FALSE)*VLOOKUP(A652&B652,ShareOfSearch_Volume!$C$1:$D$1000,2,FALSE),\"\")","v":""}]
[{"$f":"IF(ISTEXT(ShareOfSearch_SERPS!C653),ShareOfSearch_SERPS!C653,\"\")","v":""},{"$f":"IF(ISTEXT(ShareOfSearch_SERPS!D653),ShareOfSearch_SERPS!D653,\"\")","v":""},{"$f":"IF(NOT(ISBLANK(ShareOfSearch_SERPS!A653)),ShareOfSearch_SERPS!A653,\"\")","v":""},{"$f":"IF(NOT(ISBLANK(ShareOfSearch_SERPS!G653)),ShareOfSearch_SERPS!G653,\"\")","v":""},{"$f":"IF(NOT(ISBLANK(ShareOfSearch_SERPS!K653)),ShareOfSearch_SERPS!K653,\"\")","v":""},{"$f":"IFERROR(VLOOKUP(C653,ShareOfSearch_CTR!$A$1:$B$100,2,FALSE)*VLOOKUP(A653&B653,ShareOfSearch_Volume!$C$1:$D$1000,2,FALSE),\"\")","v":""}]
[{"$f":"IF(ISTEXT(ShareOfSearch_SERPS!C654),ShareOfSearch_SERPS!C654,\"\")","v":""},{"$f":"IF(ISTEXT(ShareOfSearch_SERPS!D654),ShareOfSearch_SERPS!D654,\"\")","v":""},{"$f":"IF(NOT(ISBLANK(ShareOfSearch_SERPS!A654)),ShareOfSearch_SERPS!A654,\"\")","v":""},{"$f":"IF(NOT(ISBLANK(ShareOfSearch_SERPS!G654)),ShareOfSearch_SERPS!G654,\"\")","v":""},{"$f":"IF(NOT(ISBLANK(ShareOfSearch_SERPS!K654)),ShareOfSearch_SERPS!K654,\"\")","v":""},{"$f":"IFERROR(VLOOKUP(C654,ShareOfSearch_CTR!$A$1:$B$100,2,FALSE)*VLOOKUP(A654&B654,ShareOfSearch_Volume!$C$1:$D$1000,2,FALSE),\"\")","v":""}]
[{"$f":"IF(ISTEXT(ShareOfSearch_SERPS!C655),ShareOfSearch_SERPS!C655,\"\")","v":""},{"$f":"IF(ISTEXT(ShareOfSearch_SERPS!D655),ShareOfSearch_SERPS!D655,\"\")","v":""},{"$f":"IF(NOT(ISBLANK(ShareOfSearch_SERPS!A655)),ShareOfSearch_SERPS!A655,\"\")","v":""},{"$f":"IF(NOT(ISBLANK(ShareOfSearch_SERPS!G655)),ShareOfSearch_SERPS!G655,\"\")","v":""},{"$f":"IF(NOT(ISBLANK(ShareOfSearch_SERPS!K655)),ShareOfSearch_SERPS!K655,\"\")","v":""},{"$f":"IFERROR(VLOOKUP(C655,ShareOfSearch_CTR!$A$1:$B$100,2,FALSE)*VLOOKUP(A655&B655,ShareOfSearch_Volume!$C$1:$D$1000,2,FALSE),\"\")","v":""}]
[{"$f":"IF(ISTEXT(ShareOfSearch_SERPS!C656),ShareOfSearch_SERPS!C656,\"\")","v":""},{"$f":"IF(ISTEXT(ShareOfSearch_SERPS!D656),ShareOfSearch_SERPS!D656,\"\")","v":""},{"$f":"IF(NOT(ISBLANK(ShareOfSearch_SERPS!A656)),ShareOfSearch_SERPS!A656,\"\")","v":""},{"$f":"IF(NOT(ISBLANK(ShareOfSearch_SERPS!G656)),ShareOfSearch_SERPS!G656,\"\")","v":""},{"$f":"IF(NOT(ISBLANK(ShareOfSearch_SERPS!K656)),ShareOfSearch_SERPS!K656,\"\")","v":""},{"$f":"IFERROR(VLOOKUP(C656,ShareOfSearch_CTR!$A$1:$B$100,2,FALSE)*VLOOKUP(A656&B656,ShareOfSearch_Volume!$C$1:$D$1000,2,FALSE),\"\")","v":""}]
[{"$f":"IF(ISTEXT(ShareOfSearch_SERPS!C657),ShareOfSearch_SERPS!C657,\"\")","v":""},{"$f":"IF(ISTEXT(ShareOfSearch_SERPS!D657),ShareOfSearch_SERPS!D657,\"\")","v":""},{"$f":"IF(NOT(ISBLANK(ShareOfSearch_SERPS!A657)),ShareOfSearch_SERPS!A657,\"\")","v":""},{"$f":"IF(NOT(ISBLANK(ShareOfSearch_SERPS!G657)),ShareOfSearch_SERPS!G657,\"\")","v":""},{"$f":"IF(NOT(ISBLANK(ShareOfSearch_SERPS!K657)),ShareOfSearch_SERPS!K657,\"\")","v":""},{"$f":"IFERROR(VLOOKUP(C657,ShareOfSearch_CTR!$A$1:$B$100,2,FALSE)*VLOOKUP(A657&B657,ShareOfSearch_Volume!$C$1:$D$1000,2,FALSE),\"\")","v":""}]
[{"$f":"IF(ISTEXT(ShareOfSearch_SERPS!C658),ShareOfSearch_SERPS!C658,\"\")","v":""},{"$f":"IF(ISTEXT(ShareOfSearch_SERPS!D658),ShareOfSearch_SERPS!D658,\"\")","v":""},{"$f":"IF(NOT(ISBLANK(ShareOfSearch_SERPS!A658)),ShareOfSearch_SERPS!A658,\"\")","v":""},{"$f":"IF(NOT(ISBLANK(ShareOfSearch_SERPS!G658)),ShareOfSearch_SERPS!G658,\"\")","v":""},{"$f":"IF(NOT(ISBLANK(ShareOfSearch_SERPS!K658)),ShareOfSearch_SERPS!K658,\"\")","v":""},{"$f":"IFERROR(VLOOKUP(C658,ShareOfSearch_CTR!$A$1:$B$100,2,FALSE)*VLOOKUP(A658&B658,ShareOfSearch_Volume!$C$1:$D$1000,2,FALSE),\"\")","v":""}]
[{"$f":"IF(ISTEXT(ShareOfSearch_SERPS!C659),ShareOfSearch_SERPS!C659,\"\")","v":""},{"$f":"IF(ISTEXT(ShareOfSearch_SERPS!D659),ShareOfSearch_SERPS!D659,\"\")","v":""},{"$f":"IF(NOT(ISBLANK(ShareOfSearch_SERPS!A659)),ShareOfSearch_SERPS!A659,\"\")","v":""},{"$f":"IF(NOT(ISBLANK(ShareOfSearch_SERPS!G659)),ShareOfSearch_SERPS!G659,\"\")","v":""},{"$f":"IF(NOT(ISBLANK(ShareOfSearch_SERPS!K659)),ShareOfSearch_SERPS!K659,\"\")","v":""},{"$f":"IFERROR(VLOOKUP(C659,ShareOfSearch_CTR!$A$1:$B$100,2,FALSE)*VLOOKUP(A659&B659,ShareOfSearch_Volume!$C$1:$D$1000,2,FALSE),\"\")","v":""}]
[{"$f":"IF(ISTEXT(ShareOfSearch_SERPS!C660),ShareOfSearch_SERPS!C660,\"\")","v":""},{"$f":"IF(ISTEXT(ShareOfSearch_SERPS!D660),ShareOfSearch_SERPS!D660,\"\")","v":""},{"$f":"IF(NOT(ISBLANK(ShareOfSearch_SERPS!A660)),ShareOfSearch_SERPS!A660,\"\")","v":""},{"$f":"IF(NOT(ISBLANK(ShareOfSearch_SERPS!G660)),ShareOfSearch_SERPS!G660,\"\")","v":""},{"$f":"IF(NOT(ISBLANK(ShareOfSearch_SERPS!K660)),ShareOfSearch_SERPS!K660,\"\")","v":""},{"$f":"IFERROR(VLOOKUP(C660,ShareOfSearch_CTR!$A$1:$B$100,2,FALSE)*VLOOKUP(A660&B660,ShareOfSearch_Volume!$C$1:$D$1000,2,FALSE),\"\")","v":""}]
[{"$f":"IF(ISTEXT(ShareOfSearch_SERPS!C661),ShareOfSearch_SERPS!C661,\"\")","v":""},{"$f":"IF(ISTEXT(ShareOfSearch_SERPS!D661),ShareOfSearch_SERPS!D661,\"\")","v":""},{"$f":"IF(NOT(ISBLANK(ShareOfSearch_SERPS!A661)),ShareOfSearch_SERPS!A661,\"\")","v":""},{"$f":"IF(NOT(ISBLANK(ShareOfSearch_SERPS!G661)),ShareOfSearch_SERPS!G661,\"\")","v":""},{"$f":"IF(NOT(ISBLANK(ShareOfSearch_SERPS!K661)),ShareOfSearch_SERPS!K661,\"\")","v":""},{"$f":"IFERROR(VLOOKUP(C661,ShareOfSearch_CTR!$A$1:$B$100,2,FALSE)*VLOOKUP(A661&B661,ShareOfSearch_Volume!$C$1:$D$1000,2,FALSE),\"\")","v":""}]
[{"$f":"IF(ISTEXT(ShareOfSearch_SERPS!C662),ShareOfSearch_SERPS!C662,\"\")","v":""},{"$f":"IF(ISTEXT(ShareOfSearch_SERPS!D662),ShareOfSearch_SERPS!D662,\"\")","v":""},{"$f":"IF(NOT(ISBLANK(ShareOfSearch_SERPS!A662)),ShareOfSearch_SERPS!A662,\"\")","v":""},{"$f":"IF(NOT(ISBLANK(ShareOfSearch_SERPS!G662)),ShareOfSearch_SERPS!G662,\"\")","v":""},{"$f":"IF(NOT(ISBLANK(ShareOfSearch_SERPS!K662)),ShareOfSearch_SERPS!K662,\"\")","v":""},{"$f":"IFERROR(VLOOKUP(C662,ShareOfSearch_CTR!$A$1:$B$100,2,FALSE)*VLOOKUP(A662&B662,ShareOfSearch_Volume!$C$1:$D$1000,2,FALSE),\"\")","v":""}]
[{"$f":"IF(ISTEXT(ShareOfSearch_SERPS!C663),ShareOfSearch_SERPS!C663,\"\")","v":""},{"$f":"IF(ISTEXT(ShareOfSearch_SERPS!D663),ShareOfSearch_SERPS!D663,\"\")","v":""},{"$f":"IF(NOT(ISBLANK(ShareOfSearch_SERPS!A663)),ShareOfSearch_SERPS!A663,\"\")","v":""},{"$f":"IF(NOT(ISBLANK(ShareOfSearch_SERPS!G663)),ShareOfSearch_SERPS!G663,\"\")","v":""},{"$f":"IF(NOT(ISBLANK(ShareOfSearch_SERPS!K663)),ShareOfSearch_SERPS!K663,\"\")","v":""},{"$f":"IFERROR(VLOOKUP(C663,ShareOfSearch_CTR!$A$1:$B$100,2,FALSE)*VLOOKUP(A663&B663,ShareOfSearch_Volume!$C$1:$D$1000,2,FALSE),\"\")","v":""}]
[{"$f":"IF(ISTEXT(ShareOfSearch_SERPS!C664),ShareOfSearch_SERPS!C664,\"\")","v":""},{"$f":"IF(ISTEXT(ShareOfSearch_SERPS!D664),ShareOfSearch_SERPS!D664,\"\")","v":""},{"$f":"IF(NOT(ISBLANK(ShareOfSearch_SERPS!A664)),ShareOfSearch_SERPS!A664,\"\")","v":""},{"$f":"IF(NOT(ISBLANK(ShareOfSearch_SERPS!G664)),ShareOfSearch_SERPS!G664,\"\")","v":""},{"$f":"IF(NOT(ISBLANK(ShareOfSearch_SERPS!K664)),ShareOfSearch_SERPS!K664,\"\")","v":""},{"$f":"IFERROR(VLOOKUP(C664,ShareOfSearch_CTR!$A$1:$B$100,2,FALSE)*VLOOKUP(A664&B664,ShareOfSearch_Volume!$C$1:$D$1000,2,FALSE),\"\")","v":""}]
[{"$f":"IF(ISTEXT(ShareOfSearch_SERPS!C665),ShareOfSearch_SERPS!C665,\"\")","v":""},{"$f":"IF(ISTEXT(ShareOfSearch_SERPS!D665),ShareOfSearch_SERPS!D665,\"\")","v":""},{"$f":"IF(NOT(ISBLANK(ShareOfSearch_SERPS!A665)),ShareOfSearch_SERPS!A665,\"\")","v":""},{"$f":"IF(NOT(ISBLANK(ShareOfSearch_SERPS!G665)),ShareOfSearch_SERPS!G665,\"\")","v":""},{"$f":"IF(NOT(ISBLANK(ShareOfSearch_SERPS!K665)),ShareOfSearch_SERPS!K665,\"\")","v":""},{"$f":"IFERROR(VLOOKUP(C665,ShareOfSearch_CTR!$A$1:$B$100,2,FALSE)*VLOOKUP(A665&B665,ShareOfSearch_Volume!$C$1:$D$1000,2,FALSE),\"\")","v":""}]
[{"$f":"IF(ISTEXT(ShareOfSearch_SERPS!C666),ShareOfSearch_SERPS!C666,\"\")","v":""},{"$f":"IF(ISTEXT(ShareOfSearch_SERPS!D666),ShareOfSearch_SERPS!D666,\"\")","v":""},{"$f":"IF(NOT(ISBLANK(ShareOfSearch_SERPS!A666)),ShareOfSearch_SERPS!A666,\"\")","v":""},{"$f":"IF(NOT(ISBLANK(ShareOfSearch_SERPS!G666)),ShareOfSearch_SERPS!G666,\"\")","v":""},{"$f":"IF(NOT(ISBLANK(ShareOfSearch_SERPS!K666)),ShareOfSearch_SERPS!K666,\"\")","v":""},{"$f":"IFERROR(VLOOKUP(C666,ShareOfSearch_CTR!$A$1:$B$100,2,FALSE)*VLOOKUP(A666&B666,ShareOfSearch_Volume!$C$1:$D$1000,2,FALSE),\"\")","v":""}]
[{"$f":"IF(ISTEXT(ShareOfSearch_SERPS!C667),ShareOfSearch_SERPS!C667,\"\")","v":""},{"$f":"IF(ISTEXT(ShareOfSearch_SERPS!D667),ShareOfSearch_SERPS!D667,\"\")","v":""},{"$f":"IF(NOT(ISBLANK(ShareOfSearch_SERPS!A667)),ShareOfSearch_SERPS!A667,\"\")","v":""},{"$f":"IF(NOT(ISBLANK(ShareOfSearch_SERPS!G667)),ShareOfSearch_SERPS!G667,\"\")","v":""},{"$f":"IF(NOT(ISBLANK(ShareOfSearch_SERPS!K667)),ShareOfSearch_SERPS!K667,\"\")","v":""},{"$f":"IFERROR(VLOOKUP(C667,ShareOfSearch_CTR!$A$1:$B$100,2,FALSE)*VLOOKUP(A667&B667,ShareOfSearch_Volume!$C$1:$D$1000,2,FALSE),\"\")","v":""}]
[{"$f":"IF(ISTEXT(ShareOfSearch_SERPS!C668),ShareOfSearch_SERPS!C668,\"\")","v":""},{"$f":"IF(ISTEXT(ShareOfSearch_SERPS!D668),ShareOfSearch_SERPS!D668,\"\")","v":""},{"$f":"IF(NOT(ISBLANK(ShareOfSearch_SERPS!A668)),ShareOfSearch_SERPS!A668,\"\")","v":""},{"$f":"IF(NOT(ISBLANK(ShareOfSearch_SERPS!G668)),ShareOfSearch_SERPS!G668,\"\")","v":""},{"$f":"IF(NOT(ISBLANK(ShareOfSearch_SERPS!K668)),ShareOfSearch_SERPS!K668,\"\")","v":""},{"$f":"IFERROR(VLOOKUP(C668,ShareOfSearch_CTR!$A$1:$B$100,2,FALSE)*VLOOKUP(A668&B668,ShareOfSearch_Volume!$C$1:$D$1000,2,FALSE),\"\")","v":""}]
[{"$f":"IF(ISTEXT(ShareOfSearch_SERPS!C669),ShareOfSearch_SERPS!C669,\"\")","v":""},{"$f":"IF(ISTEXT(ShareOfSearch_SERPS!D669),ShareOfSearch_SERPS!D669,\"\")","v":""},{"$f":"IF(NOT(ISBLANK(ShareOfSearch_SERPS!A669)),ShareOfSearch_SERPS!A669,\"\")","v":""},{"$f":"IF(NOT(ISBLANK(ShareOfSearch_SERPS!G669)),ShareOfSearch_SERPS!G669,\"\")","v":""},{"$f":"IF(NOT(ISBLANK(ShareOfSearch_SERPS!K669)),ShareOfSearch_SERPS!K669,\"\")","v":""},{"$f":"IFERROR(VLOOKUP(C669,ShareOfSearch_CTR!$A$1:$B$100,2,FALSE)*VLOOKUP(A669&B669,ShareOfSearch_Volume!$C$1:$D$1000,2,FALSE),\"\")","v":""}]
[{"$f":"IF(ISTEXT(ShareOfSearch_SERPS!C670),ShareOfSearch_SERPS!C670,\"\")","v":""},{"$f":"IF(ISTEXT(ShareOfSearch_SERPS!D670),ShareOfSearch_SERPS!D670,\"\")","v":""},{"$f":"IF(NOT(ISBLANK(ShareOfSearch_SERPS!A670)),ShareOfSearch_SERPS!A670,\"\")","v":""},{"$f":"IF(NOT(ISBLANK(ShareOfSearch_SERPS!G670)),ShareOfSearch_SERPS!G670,\"\")","v":""},{"$f":"IF(NOT(ISBLANK(ShareOfSearch_SERPS!K670)),ShareOfSearch_SERPS!K670,\"\")","v":""},{"$f":"IFERROR(VLOOKUP(C670,ShareOfSearch_CTR!$A$1:$B$100,2,FALSE)*VLOOKUP(A670&B670,ShareOfSearch_Volume!$C$1:$D$1000,2,FALSE),\"\")","v":""}]
[{"$f":"IF(ISTEXT(ShareOfSearch_SERPS!C671),ShareOfSearch_SERPS!C671,\"\")","v":""},{"$f":"IF(ISTEXT(ShareOfSearch_SERPS!D671),ShareOfSearch_SERPS!D671,\"\")","v":""},{"$f":"IF(NOT(ISBLANK(ShareOfSearch_SERPS!A671)),ShareOfSearch_SERPS!A671,\"\")","v":""},{"$f":"IF(NOT(ISBLANK(ShareOfSearch_SERPS!G671)),ShareOfSearch_SERPS!G671,\"\")","v":""},{"$f":"IF(NOT(ISBLANK(ShareOfSearch_SERPS!K671)),ShareOfSearch_SERPS!K671,\"\")","v":""},{"$f":"IFERROR(VLOOKUP(C671,ShareOfSearch_CTR!$A$1:$B$100,2,FALSE)*VLOOKUP(A671&B671,ShareOfSearch_Volume!$C$1:$D$1000,2,FALSE),\"\")","v":""}]
[{"$f":"IF(ISTEXT(ShareOfSearch_SERPS!C672),ShareOfSearch_SERPS!C672,\"\")","v":""},{"$f":"IF(ISTEXT(ShareOfSearch_SERPS!D672),ShareOfSearch_SERPS!D672,\"\")","v":""},{"$f":"IF(NOT(ISBLANK(ShareOfSearch_SERPS!A672)),ShareOfSearch_SERPS!A672,\"\")","v":""},{"$f":"IF(NOT(ISBLANK(ShareOfSearch_SERPS!G672)),ShareOfSearch_SERPS!G672,\"\")","v":""},{"$f":"IF(NOT(ISBLANK(ShareOfSearch_SERPS!K672)),ShareOfSearch_SERPS!K672,\"\")","v":""},{"$f":"IFERROR(VLOOKUP(C672,ShareOfSearch_CTR!$A$1:$B$100,2,FALSE)*VLOOKUP(A672&B672,ShareOfSearch_Volume!$C$1:$D$1000,2,FALSE),\"\")","v":""}]
[{"$f":"IF(ISTEXT(ShareOfSearch_SERPS!C673),ShareOfSearch_SERPS!C673,\"\")","v":""},{"$f":"IF(ISTEXT(ShareOfSearch_SERPS!D673),ShareOfSearch_SERPS!D673,\"\")","v":""},{"$f":"IF(NOT(ISBLANK(ShareOfSearch_SERPS!A673)),ShareOfSearch_SERPS!A673,\"\")","v":""},{"$f":"IF(NOT(ISBLANK(ShareOfSearch_SERPS!G673)),ShareOfSearch_SERPS!G673,\"\")","v":""},{"$f":"IF(NOT(ISBLANK(ShareOfSearch_SERPS!K673)),ShareOfSearch_SERPS!K673,\"\")","v":""},{"$f":"IFERROR(VLOOKUP(C673,ShareOfSearch_CTR!$A$1:$B$100,2,FALSE)*VLOOKUP(A673&B673,ShareOfSearch_Volume!$C$1:$D$1000,2,FALSE),\"\")","v":""}]
[{"$f":"IF(ISTEXT(ShareOfSearch_SERPS!C674),ShareOfSearch_SERPS!C674,\"\")","v":""},{"$f":"IF(ISTEXT(ShareOfSearch_SERPS!D674),ShareOfSearch_SERPS!D674,\"\")","v":""},{"$f":"IF(NOT(ISBLANK(ShareOfSearch_SERPS!A674)),ShareOfSearch_SERPS!A674,\"\")","v":""},{"$f":"IF(NOT(ISBLANK(ShareOfSearch_SERPS!G674)),ShareOfSearch_SERPS!G674,\"\")","v":""},{"$f":"IF(NOT(ISBLANK(ShareOfSearch_SERPS!K674)),ShareOfSearch_SERPS!K674,\"\")","v":""},{"$f":"IFERROR(VLOOKUP(C674,ShareOfSearch_CTR!$A$1:$B$100,2,FALSE)*VLOOKUP(A674&B674,ShareOfSearch_Volume!$C$1:$D$1000,2,FALSE),\"\")","v":""}]
[{"$f":"IF(ISTEXT(ShareOfSearch_SERPS!C675),ShareOfSearch_SERPS!C675,\"\")","v":""},{"$f":"IF(ISTEXT(ShareOfSearch_SERPS!D675),ShareOfSearch_SERPS!D675,\"\")","v":""},{"$f":"IF(NOT(ISBLANK(ShareOfSearch_SERPS!A675)),ShareOfSearch_SERPS!A675,\"\")","v":""},{"$f":"IF(NOT(ISBLANK(ShareOfSearch_SERPS!G675)),ShareOfSearch_SERPS!G675,\"\")","v":""},{"$f":"IF(NOT(ISBLANK(ShareOfSearch_SERPS!K675)),ShareOfSearch_SERPS!K675,\"\")","v":""},{"$f":"IFERROR(VLOOKUP(C675,ShareOfSearch_CTR!$A$1:$B$100,2,FALSE)*VLOOKUP(A675&B675,ShareOfSearch_Volume!$C$1:$D$1000,2,FALSE),\"\")","v":""}]
[{"$f":"IF(ISTEXT(ShareOfSearch_SERPS!C676),ShareOfSearch_SERPS!C676,\"\")","v":""},{"$f":"IF(ISTEXT(ShareOfSearch_SERPS!D676),ShareOfSearch_SERPS!D676,\"\")","v":""},{"$f":"IF(NOT(ISBLANK(ShareOfSearch_SERPS!A676)),ShareOfSearch_SERPS!A676,\"\")","v":""},{"$f":"IF(NOT(ISBLANK(ShareOfSearch_SERPS!G676)),ShareOfSearch_SERPS!G676,\"\")","v":""},{"$f":"IF(NOT(ISBLANK(ShareOfSearch_SERPS!K676)),ShareOfSearch_SERPS!K676,\"\")","v":""},{"$f":"IFERROR(VLOOKUP(C676,ShareOfSearch_CTR!$A$1:$B$100,2,FALSE)*VLOOKUP(A676&B676,ShareOfSearch_Volume!$C$1:$D$1000,2,FALSE),\"\")","v":""}]
[{"$f":"IF(ISTEXT(ShareOfSearch_SERPS!C677),ShareOfSearch_SERPS!C677,\"\")","v":""},{"$f":"IF(ISTEXT(ShareOfSearch_SERPS!D677),ShareOfSearch_SERPS!D677,\"\")","v":""},{"$f":"IF(NOT(ISBLANK(ShareOfSearch_SERPS!A677)),ShareOfSearch_SERPS!A677,\"\")","v":""},{"$f":"IF(NOT(ISBLANK(ShareOfSearch_SERPS!G677)),ShareOfSearch_SERPS!G677,\"\")","v":""},{"$f":"IF(NOT(ISBLANK(ShareOfSearch_SERPS!K677)),ShareOfSearch_SERPS!K677,\"\")","v":""},{"$f":"IFERROR(VLOOKUP(C677,ShareOfSearch_CTR!$A$1:$B$100,2,FALSE)*VLOOKUP(A677&B677,ShareOfSearch_Volume!$C$1:$D$1000,2,FALSE),\"\")","v":""}]
[{"$f":"IF(ISTEXT(ShareOfSearch_SERPS!C678),ShareOfSearch_SERPS!C678,\"\")","v":""},{"$f":"IF(ISTEXT(ShareOfSearch_SERPS!D678),ShareOfSearch_SERPS!D678,\"\")","v":""},{"$f":"IF(NOT(ISBLANK(ShareOfSearch_SERPS!A678)),ShareOfSearch_SERPS!A678,\"\")","v":""},{"$f":"IF(NOT(ISBLANK(ShareOfSearch_SERPS!G678)),ShareOfSearch_SERPS!G678,\"\")","v":""},{"$f":"IF(NOT(ISBLANK(ShareOfSearch_SERPS!K678)),ShareOfSearch_SERPS!K678,\"\")","v":""},{"$f":"IFERROR(VLOOKUP(C678,ShareOfSearch_CTR!$A$1:$B$100,2,FALSE)*VLOOKUP(A678&B678,ShareOfSearch_Volume!$C$1:$D$1000,2,FALSE),\"\")","v":""}]
[{"$f":"IF(ISTEXT(ShareOfSearch_SERPS!C679),ShareOfSearch_SERPS!C679,\"\")","v":""},{"$f":"IF(ISTEXT(ShareOfSearch_SERPS!D679),ShareOfSearch_SERPS!D679,\"\")","v":""},{"$f":"IF(NOT(ISBLANK(ShareOfSearch_SERPS!A679)),ShareOfSearch_SERPS!A679,\"\")","v":""},{"$f":"IF(NOT(ISBLANK(ShareOfSearch_SERPS!G679)),ShareOfSearch_SERPS!G679,\"\")","v":""},{"$f":"IF(NOT(ISBLANK(ShareOfSearch_SERPS!K679)),ShareOfSearch_SERPS!K679,\"\")","v":""},{"$f":"IFERROR(VLOOKUP(C679,ShareOfSearch_CTR!$A$1:$B$100,2,FALSE)*VLOOKUP(A679&B679,ShareOfSearch_Volume!$C$1:$D$1000,2,FALSE),\"\")","v":""}]
[{"$f":"IF(ISTEXT(ShareOfSearch_SERPS!C680),ShareOfSearch_SERPS!C680,\"\")","v":""},{"$f":"IF(ISTEXT(ShareOfSearch_SERPS!D680),ShareOfSearch_SERPS!D680,\"\")","v":""},{"$f":"IF(NOT(ISBLANK(ShareOfSearch_SERPS!A680)),ShareOfSearch_SERPS!A680,\"\")","v":""},{"$f":"IF(NOT(ISBLANK(ShareOfSearch_SERPS!G680)),ShareOfSearch_SERPS!G680,\"\")","v":""},{"$f":"IF(NOT(ISBLANK(ShareOfSearch_SERPS!K680)),ShareOfSearch_SERPS!K680,\"\")","v":""},{"$f":"IFERROR(VLOOKUP(C680,ShareOfSearch_CTR!$A$1:$B$100,2,FALSE)*VLOOKUP(A680&B680,ShareOfSearch_Volume!$C$1:$D$1000,2,FALSE),\"\")","v":""}]
[{"$f":"IF(ISTEXT(ShareOfSearch_SERPS!C681),ShareOfSearch_SERPS!C681,\"\")","v":""},{"$f":"IF(ISTEXT(ShareOfSearch_SERPS!D681),ShareOfSearch_SERPS!D681,\"\")","v":""},{"$f":"IF(NOT(ISBLANK(ShareOfSearch_SERPS!A681)),ShareOfSearch_SERPS!A681,\"\")","v":""},{"$f":"IF(NOT(ISBLANK(ShareOfSearch_SERPS!G681)),ShareOfSearch_SERPS!G681,\"\")","v":""},{"$f":"IF(NOT(ISBLANK(ShareOfSearch_SERPS!K681)),ShareOfSearch_SERPS!K681,\"\")","v":""},{"$f":"IFERROR(VLOOKUP(C681,ShareOfSearch_CTR!$A$1:$B$100,2,FALSE)*VLOOKUP(A681&B681,ShareOfSearch_Volume!$C$1:$D$1000,2,FALSE),\"\")","v":""}]
[{"$f":"IF(ISTEXT(ShareOfSearch_SERPS!C682),ShareOfSearch_SERPS!C682,\"\")","v":""},{"$f":"IF(ISTEXT(ShareOfSearch_SERPS!D682),ShareOfSearch_SERPS!D682,\"\")","v":""},{"$f":"IF(NOT(ISBLANK(ShareOfSearch_SERPS!A682)),ShareOfSearch_SERPS!A682,\"\")","v":""},{"$f":"IF(NOT(ISBLANK(ShareOfSearch_SERPS!G682)),ShareOfSearch_SERPS!G682,\"\")","v":""},{"$f":"IF(NOT(ISBLANK(ShareOfSearch_SERPS!K682)),ShareOfSearch_SERPS!K682,\"\")","v":""},{"$f":"IFERROR(VLOOKUP(C682,ShareOfSearch_CTR!$A$1:$B$100,2,FALSE)*VLOOKUP(A682&B682,ShareOfSearch_Volume!$C$1:$D$1000,2,FALSE),\"\")","v":""}]
[{"$f":"IF(ISTEXT(ShareOfSearch_SERPS!C683),ShareOfSearch_SERPS!C683,\"\")","v":""},{"$f":"IF(ISTEXT(ShareOfSearch_SERPS!D683),ShareOfSearch_SERPS!D683,\"\")","v":""},{"$f":"IF(NOT(ISBLANK(ShareOfSearch_SERPS!A683)),ShareOfSearch_SERPS!A683,\"\")","v":""},{"$f":"IF(NOT(ISBLANK(ShareOfSearch_SERPS!G683)),ShareOfSearch_SERPS!G683,\"\")","v":""},{"$f":"IF(NOT(ISBLANK(ShareOfSearch_SERPS!K683)),ShareOfSearch_SERPS!K683,\"\")","v":""},{"$f":"IFERROR(VLOOKUP(C683,ShareOfSearch_CTR!$A$1:$B$100,2,FALSE)*VLOOKUP(A683&B683,ShareOfSearch_Volume!$C$1:$D$1000,2,FALSE),\"\")","v":""}]
[{"$f":"IF(ISTEXT(ShareOfSearch_SERPS!C684),ShareOfSearch_SERPS!C684,\"\")","v":""},{"$f":"IF(ISTEXT(ShareOfSearch_SERPS!D684),ShareOfSearch_SERPS!D684,\"\")","v":""},{"$f":"IF(NOT(ISBLANK(ShareOfSearch_SERPS!A684)),ShareOfSearch_SERPS!A684,\"\")","v":""},{"$f":"IF(NOT(ISBLANK(ShareOfSearch_SERPS!G684)),ShareOfSearch_SERPS!G684,\"\")","v":""},{"$f":"IF(NOT(ISBLANK(ShareOfSearch_SERPS!K684)),ShareOfSearch_SERPS!K684,\"\")","v":""},{"$f":"IFERROR(VLOOKUP(C684,ShareOfSearch_CTR!$A$1:$B$100,2,FALSE)*VLOOKUP(A684&B684,ShareOfSearch_Volume!$C$1:$D$1000,2,FALSE),\"\")","v":""}]
[{"$f":"IF(ISTEXT(ShareOfSearch_SERPS!C685),ShareOfSearch_SERPS!C685,\"\")","v":""},{"$f":"IF(ISTEXT(ShareOfSearch_SERPS!D685),ShareOfSearch_SERPS!D685,\"\")","v":""},{"$f":"IF(NOT(ISBLANK(ShareOfSearch_SERPS!A685)),ShareOfSearch_SERPS!A685,\"\")","v":""},{"$f":"IF(NOT(ISBLANK(ShareOfSearch_SERPS!G685)),ShareOfSearch_SERPS!G685,\"\")","v":""},{"$f":"IF(NOT(ISBLANK(ShareOfSearch_SERPS!K685)),ShareOfSearch_SERPS!K685,\"\")","v":""},{"$f":"IFERROR(VLOOKUP(C685,ShareOfSearch_CTR!$A$1:$B$100,2,FALSE)*VLOOKUP(A685&B685,ShareOfSearch_Volume!$C$1:$D$1000,2,FALSE),\"\")","v":""}]
[{"$f":"IF(ISTEXT(ShareOfSearch_SERPS!C686),ShareOfSearch_SERPS!C686,\"\")","v":""},{"$f":"IF(ISTEXT(ShareOfSearch_SERPS!D686),ShareOfSearch_SERPS!D686,\"\")","v":""},{"$f":"IF(NOT(ISBLANK(ShareOfSearch_SERPS!A686)),ShareOfSearch_SERPS!A686,\"\")","v":""},{"$f":"IF(NOT(ISBLANK(ShareOfSearch_SERPS!G686)),ShareOfSearch_SERPS!G686,\"\")","v":""},{"$f":"IF(NOT(ISBLANK(ShareOfSearch_SERPS!K686)),ShareOfSearch_SERPS!K686,\"\")","v":""},{"$f":"IFERROR(VLOOKUP(C686,ShareOfSearch_CTR!$A$1:$B$100,2,FALSE)*VLOOKUP(A686&B686,ShareOfSearch_Volume!$C$1:$D$1000,2,FALSE),\"\")","v":""}]
[{"$f":"IF(ISTEXT(ShareOfSearch_SERPS!C687),ShareOfSearch_SERPS!C687,\"\")","v":""},{"$f":"IF(ISTEXT(ShareOfSearch_SERPS!D687),ShareOfSearch_SERPS!D687,\"\")","v":""},{"$f":"IF(NOT(ISBLANK(ShareOfSearch_SERPS!A687)),ShareOfSearch_SERPS!A687,\"\")","v":""},{"$f":"IF(NOT(ISBLANK(ShareOfSearch_SERPS!G687)),ShareOfSearch_SERPS!G687,\"\")","v":""},{"$f":"IF(NOT(ISBLANK(ShareOfSearch_SERPS!K687)),ShareOfSearch_SERPS!K687,\"\")","v":""},{"$f":"IFERROR(VLOOKUP(C687,ShareOfSearch_CTR!$A$1:$B$100,2,FALSE)*VLOOKUP(A687&B687,ShareOfSearch_Volume!$C$1:$D$1000,2,FALSE),\"\")","v":""}]
[{"$f":"IF(ISTEXT(ShareOfSearch_SERPS!C688),ShareOfSearch_SERPS!C688,\"\")","v":""},{"$f":"IF(ISTEXT(ShareOfSearch_SERPS!D688),ShareOfSearch_SERPS!D688,\"\")","v":""},{"$f":"IF(NOT(ISBLANK(ShareOfSearch_SERPS!A688)),ShareOfSearch_SERPS!A688,\"\")","v":""},{"$f":"IF(NOT(ISBLANK(ShareOfSearch_SERPS!G688)),ShareOfSearch_SERPS!G688,\"\")","v":""},{"$f":"IF(NOT(ISBLANK(ShareOfSearch_SERPS!K688)),ShareOfSearch_SERPS!K688,\"\")","v":""},{"$f":"IFERROR(VLOOKUP(C688,ShareOfSearch_CTR!$A$1:$B$100,2,FALSE)*VLOOKUP(A688&B688,ShareOfSearch_Volume!$C$1:$D$1000,2,FALSE),\"\")","v":""}]
[{"$f":"IF(ISTEXT(ShareOfSearch_SERPS!C689),ShareOfSearch_SERPS!C689,\"\")","v":""},{"$f":"IF(ISTEXT(ShareOfSearch_SERPS!D689),ShareOfSearch_SERPS!D689,\"\")","v":""},{"$f":"IF(NOT(ISBLANK(ShareOfSearch_SERPS!A689)),ShareOfSearch_SERPS!A689,\"\")","v":""},{"$f":"IF(NOT(ISBLANK(ShareOfSearch_SERPS!G689)),ShareOfSearch_SERPS!G689,\"\")","v":""},{"$f":"IF(NOT(ISBLANK(ShareOfSearch_SERPS!K689)),ShareOfSearch_SERPS!K689,\"\")","v":""},{"$f":"IFERROR(VLOOKUP(C689,ShareOfSearch_CTR!$A$1:$B$100,2,FALSE)*VLOOKUP(A689&B689,ShareOfSearch_Volume!$C$1:$D$1000,2,FALSE),\"\")","v":""}]
[{"$f":"IF(ISTEXT(ShareOfSearch_SERPS!C690),ShareOfSearch_SERPS!C690,\"\")","v":""},{"$f":"IF(ISTEXT(ShareOfSearch_SERPS!D690),ShareOfSearch_SERPS!D690,\"\")","v":""},{"$f":"IF(NOT(ISBLANK(ShareOfSearch_SERPS!A690)),ShareOfSearch_SERPS!A690,\"\")","v":""},{"$f":"IF(NOT(ISBLANK(ShareOfSearch_SERPS!G690)),ShareOfSearch_SERPS!G690,\"\")","v":""},{"$f":"IF(NOT(ISBLANK(ShareOfSearch_SERPS!K690)),ShareOfSearch_SERPS!K690,\"\")","v":""},{"$f":"IFERROR(VLOOKUP(C690,ShareOfSearch_CTR!$A$1:$B$100,2,FALSE)*VLOOKUP(A690&B690,ShareOfSearch_Volume!$C$1:$D$1000,2,FALSE),\"\")","v":""}]
[{"$f":"IF(ISTEXT(ShareOfSearch_SERPS!C691),ShareOfSearch_SERPS!C691,\"\")","v":""},{"$f":"IF(ISTEXT(ShareOfSearch_SERPS!D691),ShareOfSearch_SERPS!D691,\"\")","v":""},{"$f":"IF(NOT(ISBLANK(ShareOfSearch_SERPS!A691)),ShareOfSearch_SERPS!A691,\"\")","v":""},{"$f":"IF(NOT(ISBLANK(ShareOfSearch_SERPS!G691)),ShareOfSearch_SERPS!G691,\"\")","v":""},{"$f":"IF(NOT(ISBLANK(ShareOfSearch_SERPS!K691)),ShareOfSearch_SERPS!K691,\"\")","v":""},{"$f":"IFERROR(VLOOKUP(C691,ShareOfSearch_CTR!$A$1:$B$100,2,FALSE)*VLOOKUP(A691&B691,ShareOfSearch_Volume!$C$1:$D$1000,2,FALSE),\"\")","v":""}]
[{"$f":"IF(ISTEXT(ShareOfSearch_SERPS!C692),ShareOfSearch_SERPS!C692,\"\")","v":""},{"$f":"IF(ISTEXT(ShareOfSearch_SERPS!D692),ShareOfSearch_SERPS!D692,\"\")","v":""},{"$f":"IF(NOT(ISBLANK(ShareOfSearch_SERPS!A692)),ShareOfSearch_SERPS!A692,\"\")","v":""},{"$f":"IF(NOT(ISBLANK(ShareOfSearch_SERPS!G692)),ShareOfSearch_SERPS!G692,\"\")","v":""},{"$f":"IF(NOT(ISBLANK(ShareOfSearch_SERPS!K692)),ShareOfSearch_SERPS!K692,\"\")","v":""},{"$f":"IFERROR(VLOOKUP(C692,ShareOfSearch_CTR!$A$1:$B$100,2,FALSE)*VLOOKUP(A692&B692,ShareOfSearch_Volume!$C$1:$D$1000,2,FALSE),\"\")","v":""}]
[{"$f":"IF(ISTEXT(ShareOfSearch_SERPS!C693),ShareOfSearch_SERPS!C693,\"\")","v":""},{"$f":"IF(ISTEXT(ShareOfSearch_SERPS!D693),ShareOfSearch_SERPS!D693,\"\")","v":""},{"$f":"IF(NOT(ISBLANK(ShareOfSearch_SERPS!A693)),ShareOfSearch_SERPS!A693,\"\")","v":""},{"$f":"IF(NOT(ISBLANK(ShareOfSearch_SERPS!G693)),ShareOfSearch_SERPS!G693,\"\")","v":""},{"$f":"IF(NOT(ISBLANK(ShareOfSearch_SERPS!K693)),ShareOfSearch_SERPS!K693,\"\")","v":""},{"$f":"IFERROR(VLOOKUP(C693,ShareOfSearch_CTR!$A$1:$B$100,2,FALSE)*VLOOKUP(A693&B693,ShareOfSearch_Volume!$C$1:$D$1000,2,FALSE),\"\")","v":""}]
[{"$f":"IF(ISTEXT(ShareOfSearch_SERPS!C694),ShareOfSearch_SERPS!C694,\"\")","v":""},{"$f":"IF(ISTEXT(ShareOfSearch_SERPS!D694),ShareOfSearch_SERPS!D694,\"\")","v":""},{"$f":"IF(NOT(ISBLANK(ShareOfSearch_SERPS!A694)),ShareOfSearch_SERPS!A694,\"\")","v":""},{"$f":"IF(NOT(ISBLANK(ShareOfSearch_SERPS!G694)),ShareOfSearch_SERPS!G694,\"\")","v":""},{"$f":"IF(NOT(ISBLANK(ShareOfSearch_SERPS!K694)),ShareOfSearch_SERPS!K694,\"\")","v":""},{"$f":"IFERROR(VLOOKUP(C694,ShareOfSearch_CTR!$A$1:$B$100,2,FALSE)*VLOOKUP(A694&B694,ShareOfSearch_Volume!$C$1:$D$1000,2,FALSE),\"\")","v":""}]
[{"$f":"IF(ISTEXT(ShareOfSearch_SERPS!C695),ShareOfSearch_SERPS!C695,\"\")","v":""},{"$f":"IF(ISTEXT(ShareOfSearch_SERPS!D695),ShareOfSearch_SERPS!D695,\"\")","v":""},{"$f":"IF(NOT(ISBLANK(ShareOfSearch_SERPS!A695)),ShareOfSearch_SERPS!A695,\"\")","v":""},{"$f":"IF(NOT(ISBLANK(ShareOfSearch_SERPS!G695)),ShareOfSearch_SERPS!G695,\"\")","v":""},{"$f":"IF(NOT(ISBLANK(ShareOfSearch_SERPS!K695)),ShareOfSearch_SERPS!K695,\"\")","v":""},{"$f":"IFERROR(VLOOKUP(C695,ShareOfSearch_CTR!$A$1:$B$100,2,FALSE)*VLOOKUP(A695&B695,ShareOfSearch_Volume!$C$1:$D$1000,2,FALSE),\"\")","v":""}]
[{"$f":"IF(ISTEXT(ShareOfSearch_SERPS!C696),ShareOfSearch_SERPS!C696,\"\")","v":""},{"$f":"IF(ISTEXT(ShareOfSearch_SERPS!D696),ShareOfSearch_SERPS!D696,\"\")","v":""},{"$f":"IF(NOT(ISBLANK(ShareOfSearch_SERPS!A696)),ShareOfSearch_SERPS!A696,\"\")","v":""},{"$f":"IF(NOT(ISBLANK(ShareOfSearch_SERPS!G696)),ShareOfSearch_SERPS!G696,\"\")","v":""},{"$f":"IF(NOT(ISBLANK(ShareOfSearch_SERPS!K696)),ShareOfSearch_SERPS!K696,\"\")","v":""},{"$f":"IFERROR(VLOOKUP(C696,ShareOfSearch_CTR!$A$1:$B$100,2,FALSE)*VLOOKUP(A696&B696,ShareOfSearch_Volume!$C$1:$D$1000,2,FALSE),\"\")","v":""}]
[{"$f":"IF(ISTEXT(ShareOfSearch_SERPS!C697),ShareOfSearch_SERPS!C697,\"\")","v":""},{"$f":"IF(ISTEXT(ShareOfSearch_SERPS!D697),ShareOfSearch_SERPS!D697,\"\")","v":""},{"$f":"IF(NOT(ISBLANK(ShareOfSearch_SERPS!A697)),ShareOfSearch_SERPS!A697,\"\")","v":""},{"$f":"IF(NOT(ISBLANK(ShareOfSearch_SERPS!G697)),ShareOfSearch_SERPS!G697,\"\")","v":""},{"$f":"IF(NOT(ISBLANK(ShareOfSearch_SERPS!K697)),ShareOfSearch_SERPS!K697,\"\")","v":""},{"$f":"IFERROR(VLOOKUP(C697,ShareOfSearch_CTR!$A$1:$B$100,2,FALSE)*VLOOKUP(A697&B697,ShareOfSearch_Volume!$C$1:$D$1000,2,FALSE),\"\")","v":""}]
[{"$f":"IF(ISTEXT(ShareOfSearch_SERPS!C698),ShareOfSearch_SERPS!C698,\"\")","v":""},{"$f":"IF(ISTEXT(ShareOfSearch_SERPS!D698),ShareOfSearch_SERPS!D698,\"\")","v":""},{"$f":"IF(NOT(ISBLANK(ShareOfSearch_SERPS!A698)),ShareOfSearch_SERPS!A698,\"\")","v":""},{"$f":"IF(NOT(ISBLANK(ShareOfSearch_SERPS!G698)),ShareOfSearch_SERPS!G698,\"\")","v":""},{"$f":"IF(NOT(ISBLANK(ShareOfSearch_SERPS!K698)),ShareOfSearch_SERPS!K698,\"\")","v":""},{"$f":"IFERROR(VLOOKUP(C698,ShareOfSearch_CTR!$A$1:$B$100,2,FALSE)*VLOOKUP(A698&B698,ShareOfSearch_Volume!$C$1:$D$1000,2,FALSE),\"\")","v":""}]
[{"$f":"IF(ISTEXT(ShareOfSearch_SERPS!C699),ShareOfSearch_SERPS!C699,\"\")","v":""},{"$f":"IF(ISTEXT(ShareOfSearch_SERPS!D699),ShareOfSearch_SERPS!D699,\"\")","v":""},{"$f":"IF(NOT(ISBLANK(ShareOfSearch_SERPS!A699)),ShareOfSearch_SERPS!A699,\"\")","v":""},{"$f":"IF(NOT(ISBLANK(ShareOfSearch_SERPS!G699)),ShareOfSearch_SERPS!G699,\"\")","v":""},{"$f":"IF(NOT(ISBLANK(ShareOfSearch_SERPS!K699)),ShareOfSearch_SERPS!K699,\"\")","v":""},{"$f":"IFERROR(VLOOKUP(C699,ShareOfSearch_CTR!$A$1:$B$100,2,FALSE)*VLOOKUP(A699&B699,ShareOfSearch_Volume!$C$1:$D$1000,2,FALSE),\"\")","v":""}]
[{"$f":"IF(ISTEXT(ShareOfSearch_SERPS!C700),ShareOfSearch_SERPS!C700,\"\")","v":""},{"$f":"IF(ISTEXT(ShareOfSearch_SERPS!D700),ShareOfSearch_SERPS!D700,\"\")","v":""},{"$f":"IF(NOT(ISBLANK(ShareOfSearch_SERPS!A700)),ShareOfSearch_SERPS!A700,\"\")","v":""},{"$f":"IF(NOT(ISBLANK(ShareOfSearch_SERPS!G700)),ShareOfSearch_SERPS!G700,\"\")","v":""},{"$f":"IF(NOT(ISBLANK(ShareOfSearch_SERPS!K700)),ShareOfSearch_SERPS!K700,\"\")","v":""},{"$f":"IFERROR(VLOOKUP(C700,ShareOfSearch_CTR!$A$1:$B$100,2,FALSE)*VLOOKUP(A700&B700,ShareOfSearch_Volume!$C$1:$D$1000,2,FALSE),\"\")","v":""}]
[{"$f":"IF(ISTEXT(ShareOfSearch_SERPS!C701),ShareOfSearch_SERPS!C701,\"\")","v":""},{"$f":"IF(ISTEXT(ShareOfSearch_SERPS!D701),ShareOfSearch_SERPS!D701,\"\")","v":""},{"$f":"IF(NOT(ISBLANK(ShareOfSearch_SERPS!A701)),ShareOfSearch_SERPS!A701,\"\")","v":""},{"$f":"IF(NOT(ISBLANK(ShareOfSearch_SERPS!G701)),ShareOfSearch_SERPS!G701,\"\")","v":""},{"$f":"IF(NOT(ISBLANK(ShareOfSearch_SERPS!K701)),ShareOfSearch_SERPS!K701,\"\")","v":""},{"$f":"IFERROR(VLOOKUP(C701,ShareOfSearch_CTR!$A$1:$B$100,2,FALSE)*VLOOKUP(A701&B701,ShareOfSearch_Volume!$C$1:$D$1000,2,FALSE),\"\")","v":""}]
[{"$f":"IF(ISTEXT(ShareOfSearch_SERPS!C702),ShareOfSearch_SERPS!C702,\"\")","v":""},{"$f":"IF(ISTEXT(ShareOfSearch_SERPS!D702),ShareOfSearch_SERPS!D702,\"\")","v":""},{"$f":"IF(NOT(ISBLANK(ShareOfSearch_SERPS!A702)),ShareOfSearch_SERPS!A702,\"\")","v":""},{"$f":"IF(NOT(ISBLANK(ShareOfSearch_SERPS!G702)),ShareOfSearch_SERPS!G702,\"\")","v":""},{"$f":"IF(NOT(ISBLANK(ShareOfSearch_SERPS!K702)),ShareOfSearch_SERPS!K702,\"\")","v":""},{"$f":"IFERROR(VLOOKUP(C702,ShareOfSearch_CTR!$A$1:$B$100,2,FALSE)*VLOOKUP(A702&B702,ShareOfSearch_Volume!$C$1:$D$1000,2,FALSE),\"\")","v":""}]
[{"$f":"IF(ISTEXT(ShareOfSearch_SERPS!C703),ShareOfSearch_SERPS!C703,\"\")","v":""},{"$f":"IF(ISTEXT(ShareOfSearch_SERPS!D703),ShareOfSearch_SERPS!D703,\"\")","v":""},{"$f":"IF(NOT(ISBLANK(ShareOfSearch_SERPS!A703)),ShareOfSearch_SERPS!A703,\"\")","v":""},{"$f":"IF(NOT(ISBLANK(ShareOfSearch_SERPS!G703)),ShareOfSearch_SERPS!G703,\"\")","v":""},{"$f":"IF(NOT(ISBLANK(ShareOfSearch_SERPS!K703)),ShareOfSearch_SERPS!K703,\"\")","v":""},{"$f":"IFERROR(VLOOKUP(C703,ShareOfSearch_CTR!$A$1:$B$100,2,FALSE)*VLOOKUP(A703&B703,ShareOfSearch_Volume!$C$1:$D$1000,2,FALSE),\"\")","v":""}]
[{"$f":"IF(ISTEXT(ShareOfSearch_SERPS!C704),ShareOfSearch_SERPS!C704,\"\")","v":""},{"$f":"IF(ISTEXT(ShareOfSearch_SERPS!D704),ShareOfSearch_SERPS!D704,\"\")","v":""},{"$f":"IF(NOT(ISBLANK(ShareOfSearch_SERPS!A704)),ShareOfSearch_SERPS!A704,\"\")","v":""},{"$f":"IF(NOT(ISBLANK(ShareOfSearch_SERPS!G704)),ShareOfSearch_SERPS!G704,\"\")","v":""},{"$f":"IF(NOT(ISBLANK(ShareOfSearch_SERPS!K704)),ShareOfSearch_SERPS!K704,\"\")","v":""},{"$f":"IFERROR(VLOOKUP(C704,ShareOfSearch_CTR!$A$1:$B$100,2,FALSE)*VLOOKUP(A704&B704,ShareOfSearch_Volume!$C$1:$D$1000,2,FALSE),\"\")","v":""}]
[{"$f":"IF(ISTEXT(ShareOfSearch_SERPS!C705),ShareOfSearch_SERPS!C705,\"\")","v":""},{"$f":"IF(ISTEXT(ShareOfSearch_SERPS!D705),ShareOfSearch_SERPS!D705,\"\")","v":""},{"$f":"IF(NOT(ISBLANK(ShareOfSearch_SERPS!A705)),ShareOfSearch_SERPS!A705,\"\")","v":""},{"$f":"IF(NOT(ISBLANK(ShareOfSearch_SERPS!G705)),ShareOfSearch_SERPS!G705,\"\")","v":""},{"$f":"IF(NOT(ISBLANK(ShareOfSearch_SERPS!K705)),ShareOfSearch_SERPS!K705,\"\")","v":""},{"$f":"IFERROR(VLOOKUP(C705,ShareOfSearch_CTR!$A$1:$B$100,2,FALSE)*VLOOKUP(A705&B705,ShareOfSearch_Volume!$C$1:$D$1000,2,FALSE),\"\")","v":""}]
[{"$f":"IF(ISTEXT(ShareOfSearch_SERPS!C706),ShareOfSearch_SERPS!C706,\"\")","v":""},{"$f":"IF(ISTEXT(ShareOfSearch_SERPS!D706),ShareOfSearch_SERPS!D706,\"\")","v":""},{"$f":"IF(NOT(ISBLANK(ShareOfSearch_SERPS!A706)),ShareOfSearch_SERPS!A706,\"\")","v":""},{"$f":"IF(NOT(ISBLANK(ShareOfSearch_SERPS!G706)),ShareOfSearch_SERPS!G706,\"\")","v":""},{"$f":"IF(NOT(ISBLANK(ShareOfSearch_SERPS!K706)),ShareOfSearch_SERPS!K706,\"\")","v":""},{"$f":"IFERROR(VLOOKUP(C706,ShareOfSearch_CTR!$A$1:$B$100,2,FALSE)*VLOOKUP(A706&B706,ShareOfSearch_Volume!$C$1:$D$1000,2,FALSE),\"\")","v":""}]
[{"$f":"IF(ISTEXT(ShareOfSearch_SERPS!C707),ShareOfSearch_SERPS!C707,\"\")","v":""},{"$f":"IF(ISTEXT(ShareOfSearch_SERPS!D707),ShareOfSearch_SERPS!D707,\"\")","v":""},{"$f":"IF(NOT(ISBLANK(ShareOfSearch_SERPS!A707)),ShareOfSearch_SERPS!A707,\"\")","v":""},{"$f":"IF(NOT(ISBLANK(ShareOfSearch_SERPS!G707)),ShareOfSearch_SERPS!G707,\"\")","v":""},{"$f":"IF(NOT(ISBLANK(ShareOfSearch_SERPS!K707)),ShareOfSearch_SERPS!K707,\"\")","v":""},{"$f":"IFERROR(VLOOKUP(C707,ShareOfSearch_CTR!$A$1:$B$100,2,FALSE)*VLOOKUP(A707&B707,ShareOfSearch_Volume!$C$1:$D$1000,2,FALSE),\"\")","v":""}]
[{"$f":"IF(ISTEXT(ShareOfSearch_SERPS!C708),ShareOfSearch_SERPS!C708,\"\")","v":""},{"$f":"IF(ISTEXT(ShareOfSearch_SERPS!D708),ShareOfSearch_SERPS!D708,\"\")","v":""},{"$f":"IF(NOT(ISBLANK(ShareOfSearch_SERPS!A708)),ShareOfSearch_SERPS!A708,\"\")","v":""},{"$f":"IF(NOT(ISBLANK(ShareOfSearch_SERPS!G708)),ShareOfSearch_SERPS!G708,\"\")","v":""},{"$f":"IF(NOT(ISBLANK(ShareOfSearch_SERPS!K708)),ShareOfSearch_SERPS!K708,\"\")","v":""},{"$f":"IFERROR(VLOOKUP(C708,ShareOfSearch_CTR!$A$1:$B$100,2,FALSE)*VLOOKUP(A708&B708,ShareOfSearch_Volume!$C$1:$D$1000,2,FALSE),\"\")","v":""}]
[{"$f":"IF(ISTEXT(ShareOfSearch_SERPS!C709),ShareOfSearch_SERPS!C709,\"\")","v":""},{"$f":"IF(ISTEXT(ShareOfSearch_SERPS!D709),ShareOfSearch_SERPS!D709,\"\")","v":""},{"$f":"IF(NOT(ISBLANK(ShareOfSearch_SERPS!A709)),ShareOfSearch_SERPS!A709,\"\")","v":""},{"$f":"IF(NOT(ISBLANK(ShareOfSearch_SERPS!G709)),ShareOfSearch_SERPS!G709,\"\")","v":""},{"$f":"IF(NOT(ISBLANK(ShareOfSearch_SERPS!K709)),ShareOfSearch_SERPS!K709,\"\")","v":""},{"$f":"IFERROR(VLOOKUP(C709,ShareOfSearch_CTR!$A$1:$B$100,2,FALSE)*VLOOKUP(A709&B709,ShareOfSearch_Volume!$C$1:$D$1000,2,FALSE),\"\")","v":""}]
[{"$f":"IF(ISTEXT(ShareOfSearch_SERPS!C710),ShareOfSearch_SERPS!C710,\"\")","v":""},{"$f":"IF(ISTEXT(ShareOfSearch_SERPS!D710),ShareOfSearch_SERPS!D710,\"\")","v":""},{"$f":"IF(NOT(ISBLANK(ShareOfSearch_SERPS!A710)),ShareOfSearch_SERPS!A710,\"\")","v":""},{"$f":"IF(NOT(ISBLANK(ShareOfSearch_SERPS!G710)),ShareOfSearch_SERPS!G710,\"\")","v":""},{"$f":"IF(NOT(ISBLANK(ShareOfSearch_SERPS!K710)),ShareOfSearch_SERPS!K710,\"\")","v":""},{"$f":"IFERROR(VLOOKUP(C710,ShareOfSearch_CTR!$A$1:$B$100,2,FALSE)*VLOOKUP(A710&B710,ShareOfSearch_Volume!$C$1:$D$1000,2,FALSE),\"\")","v":""}]
[{"$f":"IF(ISTEXT(ShareOfSearch_SERPS!C711),ShareOfSearch_SERPS!C711,\"\")","v":""},{"$f":"IF(ISTEXT(ShareOfSearch_SERPS!D711),ShareOfSearch_SERPS!D711,\"\")","v":""},{"$f":"IF(NOT(ISBLANK(ShareOfSearch_SERPS!A711)),ShareOfSearch_SERPS!A711,\"\")","v":""},{"$f":"IF(NOT(ISBLANK(ShareOfSearch_SERPS!G711)),ShareOfSearch_SERPS!G711,\"\")","v":""},{"$f":"IF(NOT(ISBLANK(ShareOfSearch_SERPS!K711)),ShareOfSearch_SERPS!K711,\"\")","v":""},{"$f":"IFERROR(VLOOKUP(C711,ShareOfSearch_CTR!$A$1:$B$100,2,FALSE)*VLOOKUP(A711&B711,ShareOfSearch_Volume!$C$1:$D$1000,2,FALSE),\"\")","v":""}]
[{"$f":"IF(ISTEXT(ShareOfSearch_SERPS!C712),ShareOfSearch_SERPS!C712,\"\")","v":""},{"$f":"IF(ISTEXT(ShareOfSearch_SERPS!D712),ShareOfSearch_SERPS!D712,\"\")","v":""},{"$f":"IF(NOT(ISBLANK(ShareOfSearch_SERPS!A712)),ShareOfSearch_SERPS!A712,\"\")","v":""},{"$f":"IF(NOT(ISBLANK(ShareOfSearch_SERPS!G712)),ShareOfSearch_SERPS!G712,\"\")","v":""},{"$f":"IF(NOT(ISBLANK(ShareOfSearch_SERPS!K712)),ShareOfSearch_SERPS!K712,\"\")","v":""},{"$f":"IFERROR(VLOOKUP(C712,ShareOfSearch_CTR!$A$1:$B$100,2,FALSE)*VLOOKUP(A712&B712,ShareOfSearch_Volume!$C$1:$D$1000,2,FALSE),\"\")","v":""}]
[{"$f":"IF(ISTEXT(ShareOfSearch_SERPS!C713),ShareOfSearch_SERPS!C713,\"\")","v":""},{"$f":"IF(ISTEXT(ShareOfSearch_SERPS!D713),ShareOfSearch_SERPS!D713,\"\")","v":""},{"$f":"IF(NOT(ISBLANK(ShareOfSearch_SERPS!A713)),ShareOfSearch_SERPS!A713,\"\")","v":""},{"$f":"IF(NOT(ISBLANK(ShareOfSearch_SERPS!G713)),ShareOfSearch_SERPS!G713,\"\")","v":""},{"$f":"IF(NOT(ISBLANK(ShareOfSearch_SERPS!K713)),ShareOfSearch_SERPS!K713,\"\")","v":""},{"$f":"IFERROR(VLOOKUP(C713,ShareOfSearch_CTR!$A$1:$B$100,2,FALSE)*VLOOKUP(A713&B713,ShareOfSearch_Volume!$C$1:$D$1000,2,FALSE),\"\")","v":""}]
[{"$f":"IF(ISTEXT(ShareOfSearch_SERPS!C714),ShareOfSearch_SERPS!C714,\"\")","v":""},{"$f":"IF(ISTEXT(ShareOfSearch_SERPS!D714),ShareOfSearch_SERPS!D714,\"\")","v":""},{"$f":"IF(NOT(ISBLANK(ShareOfSearch_SERPS!A714)),ShareOfSearch_SERPS!A714,\"\")","v":""},{"$f":"IF(NOT(ISBLANK(ShareOfSearch_SERPS!G714)),ShareOfSearch_SERPS!G714,\"\")","v":""},{"$f":"IF(NOT(ISBLANK(ShareOfSearch_SERPS!K714)),ShareOfSearch_SERPS!K714,\"\")","v":""},{"$f":"IFERROR(VLOOKUP(C714,ShareOfSearch_CTR!$A$1:$B$100,2,FALSE)*VLOOKUP(A714&B714,ShareOfSearch_Volume!$C$1:$D$1000,2,FALSE),\"\")","v":""}]
[{"$f":"IF(ISTEXT(ShareOfSearch_SERPS!C715),ShareOfSearch_SERPS!C715,\"\")","v":""},{"$f":"IF(ISTEXT(ShareOfSearch_SERPS!D715),ShareOfSearch_SERPS!D715,\"\")","v":""},{"$f":"IF(NOT(ISBLANK(ShareOfSearch_SERPS!A715)),ShareOfSearch_SERPS!A715,\"\")","v":""},{"$f":"IF(NOT(ISBLANK(ShareOfSearch_SERPS!G715)),ShareOfSearch_SERPS!G715,\"\")","v":""},{"$f":"IF(NOT(ISBLANK(ShareOfSearch_SERPS!K715)),ShareOfSearch_SERPS!K715,\"\")","v":""},{"$f":"IFERROR(VLOOKUP(C715,ShareOfSearch_CTR!$A$1:$B$100,2,FALSE)*VLOOKUP(A715&B715,ShareOfSearch_Volume!$C$1:$D$1000,2,FALSE),\"\")","v":""}]
[{"$f":"IF(ISTEXT(ShareOfSearch_SERPS!C716),ShareOfSearch_SERPS!C716,\"\")","v":""},{"$f":"IF(ISTEXT(ShareOfSearch_SERPS!D716),ShareOfSearch_SERPS!D716,\"\")","v":""},{"$f":"IF(NOT(ISBLANK(ShareOfSearch_SERPS!A716)),ShareOfSearch_SERPS!A716,\"\")","v":""},{"$f":"IF(NOT(ISBLANK(ShareOfSearch_SERPS!G716)),ShareOfSearch_SERPS!G716,\"\")","v":""},{"$f":"IF(NOT(ISBLANK(ShareOfSearch_SERPS!K716)),ShareOfSearch_SERPS!K716,\"\")","v":""},{"$f":"IFERROR(VLOOKUP(C716,ShareOfSearch_CTR!$A$1:$B$100,2,FALSE)*VLOOKUP(A716&B716,ShareOfSearch_Volume!$C$1:$D$1000,2,FALSE),\"\")","v":""}]
[{"$f":"IF(ISTEXT(ShareOfSearch_SERPS!C717),ShareOfSearch_SERPS!C717,\"\")","v":""},{"$f":"IF(ISTEXT(ShareOfSearch_SERPS!D717),ShareOfSearch_SERPS!D717,\"\")","v":""},{"$f":"IF(NOT(ISBLANK(ShareOfSearch_SERPS!A717)),ShareOfSearch_SERPS!A717,\"\")","v":""},{"$f":"IF(NOT(ISBLANK(ShareOfSearch_SERPS!G717)),ShareOfSearch_SERPS!G717,\"\")","v":""},{"$f":"IF(NOT(ISBLANK(ShareOfSearch_SERPS!K717)),ShareOfSearch_SERPS!K717,\"\")","v":""},{"$f":"IFERROR(VLOOKUP(C717,ShareOfSearch_CTR!$A$1:$B$100,2,FALSE)*VLOOKUP(A717&B717,ShareOfSearch_Volume!$C$1:$D$1000,2,FALSE),\"\")","v":""}]
[{"$f":"IF(ISTEXT(ShareOfSearch_SERPS!C718),ShareOfSearch_SERPS!C718,\"\")","v":""},{"$f":"IF(ISTEXT(ShareOfSearch_SERPS!D718),ShareOfSearch_SERPS!D718,\"\")","v":""},{"$f":"IF(NOT(ISBLANK(ShareOfSearch_SERPS!A718)),ShareOfSearch_SERPS!A718,\"\")","v":""},{"$f":"IF(NOT(ISBLANK(ShareOfSearch_SERPS!G718)),ShareOfSearch_SERPS!G718,\"\")","v":""},{"$f":"IF(NOT(ISBLANK(ShareOfSearch_SERPS!K718)),ShareOfSearch_SERPS!K718,\"\")","v":""},{"$f":"IFERROR(VLOOKUP(C718,ShareOfSearch_CTR!$A$1:$B$100,2,FALSE)*VLOOKUP(A718&B718,ShareOfSearch_Volume!$C$1:$D$1000,2,FALSE),\"\")","v":""}]
[{"$f":"IF(ISTEXT(ShareOfSearch_SERPS!C719),ShareOfSearch_SERPS!C719,\"\")","v":""},{"$f":"IF(ISTEXT(ShareOfSearch_SERPS!D719),ShareOfSearch_SERPS!D719,\"\")","v":""},{"$f":"IF(NOT(ISBLANK(ShareOfSearch_SERPS!A719)),ShareOfSearch_SERPS!A719,\"\")","v":""},{"$f":"IF(NOT(ISBLANK(ShareOfSearch_SERPS!G719)),ShareOfSearch_SERPS!G719,\"\")","v":""},{"$f":"IF(NOT(ISBLANK(ShareOfSearch_SERPS!K719)),ShareOfSearch_SERPS!K719,\"\")","v":""},{"$f":"IFERROR(VLOOKUP(C719,ShareOfSearch_CTR!$A$1:$B$100,2,FALSE)*VLOOKUP(A719&B719,ShareOfSearch_Volume!$C$1:$D$1000,2,FALSE),\"\")","v":""}]
[{"$f":"IF(ISTEXT(ShareOfSearch_SERPS!C720),ShareOfSearch_SERPS!C720,\"\")","v":""},{"$f":"IF(ISTEXT(ShareOfSearch_SERPS!D720),ShareOfSearch_SERPS!D720,\"\")","v":""},{"$f":"IF(NOT(ISBLANK(ShareOfSearch_SERPS!A720)),ShareOfSearch_SERPS!A720,\"\")","v":""},{"$f":"IF(NOT(ISBLANK(ShareOfSearch_SERPS!G720)),ShareOfSearch_SERPS!G720,\"\")","v":""},{"$f":"IF(NOT(ISBLANK(ShareOfSearch_SERPS!K720)),ShareOfSearch_SERPS!K720,\"\")","v":""},{"$f":"IFERROR(VLOOKUP(C720,ShareOfSearch_CTR!$A$1:$B$100,2,FALSE)*VLOOKUP(A720&B720,ShareOfSearch_Volume!$C$1:$D$1000,2,FALSE),\"\")","v":""}]
[{"$f":"IF(ISTEXT(ShareOfSearch_SERPS!C721),ShareOfSearch_SERPS!C721,\"\")","v":""},{"$f":"IF(ISTEXT(ShareOfSearch_SERPS!D721),ShareOfSearch_SERPS!D721,\"\")","v":""},{"$f":"IF(NOT(ISBLANK(ShareOfSearch_SERPS!A721)),ShareOfSearch_SERPS!A721,\"\")","v":""},{"$f":"IF(NOT(ISBLANK(ShareOfSearch_SERPS!G721)),ShareOfSearch_SERPS!G721,\"\")","v":""},{"$f":"IF(NOT(ISBLANK(ShareOfSearch_SERPS!K721)),ShareOfSearch_SERPS!K721,\"\")","v":""},{"$f":"IFERROR(VLOOKUP(C721,ShareOfSearch_CTR!$A$1:$B$100,2,FALSE)*VLOOKUP(A721&B721,ShareOfSearch_Volume!$C$1:$D$1000,2,FALSE),\"\")","v":""}]
[{"$f":"IF(ISTEXT(ShareOfSearch_SERPS!C722),ShareOfSearch_SERPS!C722,\"\")","v":""},{"$f":"IF(ISTEXT(ShareOfSearch_SERPS!D722),ShareOfSearch_SERPS!D722,\"\")","v":""},{"$f":"IF(NOT(ISBLANK(ShareOfSearch_SERPS!A722)),ShareOfSearch_SERPS!A722,\"\")","v":""},{"$f":"IF(NOT(ISBLANK(ShareOfSearch_SERPS!G722)),ShareOfSearch_SERPS!G722,\"\")","v":""},{"$f":"IF(NOT(ISBLANK(ShareOfSearch_SERPS!K722)),ShareOfSearch_SERPS!K722,\"\")","v":""},{"$f":"IFERROR(VLOOKUP(C722,ShareOfSearch_CTR!$A$1:$B$100,2,FALSE)*VLOOKUP(A722&B722,ShareOfSearch_Volume!$C$1:$D$1000,2,FALSE),\"\")","v":""}]
[{"$f":"IF(ISTEXT(ShareOfSearch_SERPS!C723),ShareOfSearch_SERPS!C723,\"\")","v":""},{"$f":"IF(ISTEXT(ShareOfSearch_SERPS!D723),ShareOfSearch_SERPS!D723,\"\")","v":""},{"$f":"IF(NOT(ISBLANK(ShareOfSearch_SERPS!A723)),ShareOfSearch_SERPS!A723,\"\")","v":""},{"$f":"IF(NOT(ISBLANK(ShareOfSearch_SERPS!G723)),ShareOfSearch_SERPS!G723,\"\")","v":""},{"$f":"IF(NOT(ISBLANK(ShareOfSearch_SERPS!K723)),ShareOfSearch_SERPS!K723,\"\")","v":""},{"$f":"IFERROR(VLOOKUP(C723,ShareOfSearch_CTR!$A$1:$B$100,2,FALSE)*VLOOKUP(A723&B723,ShareOfSearch_Volume!$C$1:$D$1000,2,FALSE),\"\")","v":""}]
[{"$f":"IF(ISTEXT(ShareOfSearch_SERPS!C724),ShareOfSearch_SERPS!C724,\"\")","v":""},{"$f":"IF(ISTEXT(ShareOfSearch_SERPS!D724),ShareOfSearch_SERPS!D724,\"\")","v":""},{"$f":"IF(NOT(ISBLANK(ShareOfSearch_SERPS!A724)),ShareOfSearch_SERPS!A724,\"\")","v":""},{"$f":"IF(NOT(ISBLANK(ShareOfSearch_SERPS!G724)),ShareOfSearch_SERPS!G724,\"\")","v":""},{"$f":"IF(NOT(ISBLANK(ShareOfSearch_SERPS!K724)),ShareOfSearch_SERPS!K724,\"\")","v":""},{"$f":"IFERROR(VLOOKUP(C724,ShareOfSearch_CTR!$A$1:$B$100,2,FALSE)*VLOOKUP(A724&B724,ShareOfSearch_Volume!$C$1:$D$1000,2,FALSE),\"\")","v":""}]
[{"$f":"IF(ISTEXT(ShareOfSearch_SERPS!C725),ShareOfSearch_SERPS!C725,\"\")","v":""},{"$f":"IF(ISTEXT(ShareOfSearch_SERPS!D725),ShareOfSearch_SERPS!D725,\"\")","v":""},{"$f":"IF(NOT(ISBLANK(ShareOfSearch_SERPS!A725)),ShareOfSearch_SERPS!A725,\"\")","v":""},{"$f":"IF(NOT(ISBLANK(ShareOfSearch_SERPS!G725)),ShareOfSearch_SERPS!G725,\"\")","v":""},{"$f":"IF(NOT(ISBLANK(ShareOfSearch_SERPS!K725)),ShareOfSearch_SERPS!K725,\"\")","v":""},{"$f":"IFERROR(VLOOKUP(C725,ShareOfSearch_CTR!$A$1:$B$100,2,FALSE)*VLOOKUP(A725&B725,ShareOfSearch_Volume!$C$1:$D$1000,2,FALSE),\"\")","v":""}]
[{"$f":"IF(ISTEXT(ShareOfSearch_SERPS!C726),ShareOfSearch_SERPS!C726,\"\")","v":""},{"$f":"IF(ISTEXT(ShareOfSearch_SERPS!D726),ShareOfSearch_SERPS!D726,\"\")","v":""},{"$f":"IF(NOT(ISBLANK(ShareOfSearch_SERPS!A726)),ShareOfSearch_SERPS!A726,\"\")","v":""},{"$f":"IF(NOT(ISBLANK(ShareOfSearch_SERPS!G726)),ShareOfSearch_SERPS!G726,\"\")","v":""},{"$f":"IF(NOT(ISBLANK(ShareOfSearch_SERPS!K726)),ShareOfSearch_SERPS!K726,\"\")","v":""},{"$f":"IFERROR(VLOOKUP(C726,ShareOfSearch_CTR!$A$1:$B$100,2,FALSE)*VLOOKUP(A726&B726,ShareOfSearch_Volume!$C$1:$D$1000,2,FALSE),\"\")","v":""}]
[{"$f":"IF(ISTEXT(ShareOfSearch_SERPS!C727),ShareOfSearch_SERPS!C727,\"\")","v":""},{"$f":"IF(ISTEXT(ShareOfSearch_SERPS!D727),ShareOfSearch_SERPS!D727,\"\")","v":""},{"$f":"IF(NOT(ISBLANK(ShareOfSearch_SERPS!A727)),ShareOfSearch_SERPS!A727,\"\")","v":""},{"$f":"IF(NOT(ISBLANK(ShareOfSearch_SERPS!G727)),ShareOfSearch_SERPS!G727,\"\")","v":""},{"$f":"IF(NOT(ISBLANK(ShareOfSearch_SERPS!K727)),ShareOfSearch_SERPS!K727,\"\")","v":""},{"$f":"IFERROR(VLOOKUP(C727,ShareOfSearch_CTR!$A$1:$B$100,2,FALSE)*VLOOKUP(A727&B727,ShareOfSearch_Volume!$C$1:$D$1000,2,FALSE),\"\")","v":""}]
[{"$f":"IF(ISTEXT(ShareOfSearch_SERPS!C728),ShareOfSearch_SERPS!C728,\"\")","v":""},{"$f":"IF(ISTEXT(ShareOfSearch_SERPS!D728),ShareOfSearch_SERPS!D728,\"\")","v":""},{"$f":"IF(NOT(ISBLANK(ShareOfSearch_SERPS!A728)),ShareOfSearch_SERPS!A728,\"\")","v":""},{"$f":"IF(NOT(ISBLANK(ShareOfSearch_SERPS!G728)),ShareOfSearch_SERPS!G728,\"\")","v":""},{"$f":"IF(NOT(ISBLANK(ShareOfSearch_SERPS!K728)),ShareOfSearch_SERPS!K728,\"\")","v":""},{"$f":"IFERROR(VLOOKUP(C728,ShareOfSearch_CTR!$A$1:$B$100,2,FALSE)*VLOOKUP(A728&B728,ShareOfSearch_Volume!$C$1:$D$1000,2,FALSE),\"\")","v":""}]
[{"$f":"IF(ISTEXT(ShareOfSearch_SERPS!C729),ShareOfSearch_SERPS!C729,\"\")","v":""},{"$f":"IF(ISTEXT(ShareOfSearch_SERPS!D729),ShareOfSearch_SERPS!D729,\"\")","v":""},{"$f":"IF(NOT(ISBLANK(ShareOfSearch_SERPS!A729)),ShareOfSearch_SERPS!A729,\"\")","v":""},{"$f":"IF(NOT(ISBLANK(ShareOfSearch_SERPS!G729)),ShareOfSearch_SERPS!G729,\"\")","v":""},{"$f":"IF(NOT(ISBLANK(ShareOfSearch_SERPS!K729)),ShareOfSearch_SERPS!K729,\"\")","v":""},{"$f":"IFERROR(VLOOKUP(C729,ShareOfSearch_CTR!$A$1:$B$100,2,FALSE)*VLOOKUP(A729&B729,ShareOfSearch_Volume!$C$1:$D$1000,2,FALSE),\"\")","v":""}]
[{"$f":"IF(ISTEXT(ShareOfSearch_SERPS!C730),ShareOfSearch_SERPS!C730,\"\")","v":""},{"$f":"IF(ISTEXT(ShareOfSearch_SERPS!D730),ShareOfSearch_SERPS!D730,\"\")","v":""},{"$f":"IF(NOT(ISBLANK(ShareOfSearch_SERPS!A730)),ShareOfSearch_SERPS!A730,\"\")","v":""},{"$f":"IF(NOT(ISBLANK(ShareOfSearch_SERPS!G730)),ShareOfSearch_SERPS!G730,\"\")","v":""},{"$f":"IF(NOT(ISBLANK(ShareOfSearch_SERPS!K730)),ShareOfSearch_SERPS!K730,\"\")","v":""},{"$f":"IFERROR(VLOOKUP(C730,ShareOfSearch_CTR!$A$1:$B$100,2,FALSE)*VLOOKUP(A730&B730,ShareOfSearch_Volume!$C$1:$D$1000,2,FALSE),\"\")","v":""}]
[{"$f":"IF(ISTEXT(ShareOfSearch_SERPS!C731),ShareOfSearch_SERPS!C731,\"\")","v":""},{"$f":"IF(ISTEXT(ShareOfSearch_SERPS!D731),ShareOfSearch_SERPS!D731,\"\")","v":""},{"$f":"IF(NOT(ISBLANK(ShareOfSearch_SERPS!A731)),ShareOfSearch_SERPS!A731,\"\")","v":""},{"$f":"IF(NOT(ISBLANK(ShareOfSearch_SERPS!G731)),ShareOfSearch_SERPS!G731,\"\")","v":""},{"$f":"IF(NOT(ISBLANK(ShareOfSearch_SERPS!K731)),ShareOfSearch_SERPS!K731,\"\")","v":""},{"$f":"IFERROR(VLOOKUP(C731,ShareOfSearch_CTR!$A$1:$B$100,2,FALSE)*VLOOKUP(A731&B731,ShareOfSearch_Volume!$C$1:$D$1000,2,FALSE),\"\")","v":""}]
[{"$f":"IF(ISTEXT(ShareOfSearch_SERPS!C732),ShareOfSearch_SERPS!C732,\"\")","v":""},{"$f":"IF(ISTEXT(ShareOfSearch_SERPS!D732),ShareOfSearch_SERPS!D732,\"\")","v":""},{"$f":"IF(NOT(ISBLANK(ShareOfSearch_SERPS!A732)),ShareOfSearch_SERPS!A732,\"\")","v":""},{"$f":"IF(NOT(ISBLANK(ShareOfSearch_SERPS!G732)),ShareOfSearch_SERPS!G732,\"\")","v":""},{"$f":"IF(NOT(ISBLANK(ShareOfSearch_SERPS!K732)),ShareOfSearch_SERPS!K732,\"\")","v":""},{"$f":"IFERROR(VLOOKUP(C732,ShareOfSearch_CTR!$A$1:$B$100,2,FALSE)*VLOOKUP(A732&B732,ShareOfSearch_Volume!$C$1:$D$1000,2,FALSE),\"\")","v":""}]
[{"$f":"IF(ISTEXT(ShareOfSearch_SERPS!C733),ShareOfSearch_SERPS!C733,\"\")","v":""},{"$f":"IF(ISTEXT(ShareOfSearch_SERPS!D733),ShareOfSearch_SERPS!D733,\"\")","v":""},{"$f":"IF(NOT(ISBLANK(ShareOfSearch_SERPS!A733)),ShareOfSearch_SERPS!A733,\"\")","v":""},{"$f":"IF(NOT(ISBLANK(ShareOfSearch_SERPS!G733)),ShareOfSearch_SERPS!G733,\"\")","v":""},{"$f":"IF(NOT(ISBLANK(ShareOfSearch_SERPS!K733)),ShareOfSearch_SERPS!K733,\"\")","v":""},{"$f":"IFERROR(VLOOKUP(C733,ShareOfSearch_CTR!$A$1:$B$100,2,FALSE)*VLOOKUP(A733&B733,ShareOfSearch_Volume!$C$1:$D$1000,2,FALSE),\"\")","v":""}]
[{"$f":"IF(ISTEXT(ShareOfSearch_SERPS!C734),ShareOfSearch_SERPS!C734,\"\")","v":""},{"$f":"IF(ISTEXT(ShareOfSearch_SERPS!D734),ShareOfSearch_SERPS!D734,\"\")","v":""},{"$f":"IF(NOT(ISBLANK(ShareOfSearch_SERPS!A734)),ShareOfSearch_SERPS!A734,\"\")","v":""},{"$f":"IF(NOT(ISBLANK(ShareOfSearch_SERPS!G734)),ShareOfSearch_SERPS!G734,\"\")","v":""},{"$f":"IF(NOT(ISBLANK(ShareOfSearch_SERPS!K734)),ShareOfSearch_SERPS!K734,\"\")","v":""},{"$f":"IFERROR(VLOOKUP(C734,ShareOfSearch_CTR!$A$1:$B$100,2,FALSE)*VLOOKUP(A734&B734,ShareOfSearch_Volume!$C$1:$D$1000,2,FALSE),\"\")","v":""}]
[{"$f":"IF(ISTEXT(ShareOfSearch_SERPS!C735),ShareOfSearch_SERPS!C735,\"\")","v":""},{"$f":"IF(ISTEXT(ShareOfSearch_SERPS!D735),ShareOfSearch_SERPS!D735,\"\")","v":""},{"$f":"IF(NOT(ISBLANK(ShareOfSearch_SERPS!A735)),ShareOfSearch_SERPS!A735,\"\")","v":""},{"$f":"IF(NOT(ISBLANK(ShareOfSearch_SERPS!G735)),ShareOfSearch_SERPS!G735,\"\")","v":""},{"$f":"IF(NOT(ISBLANK(ShareOfSearch_SERPS!K735)),ShareOfSearch_SERPS!K735,\"\")","v":""},{"$f":"IFERROR(VLOOKUP(C735,ShareOfSearch_CTR!$A$1:$B$100,2,FALSE)*VLOOKUP(A735&B735,ShareOfSearch_Volume!$C$1:$D$1000,2,FALSE),\"\")","v":""}]
[{"$f":"IF(ISTEXT(ShareOfSearch_SERPS!C736),ShareOfSearch_SERPS!C736,\"\")","v":""},{"$f":"IF(ISTEXT(ShareOfSearch_SERPS!D736),ShareOfSearch_SERPS!D736,\"\")","v":""},{"$f":"IF(NOT(ISBLANK(ShareOfSearch_SERPS!A736)),ShareOfSearch_SERPS!A736,\"\")","v":""},{"$f":"IF(NOT(ISBLANK(ShareOfSearch_SERPS!G736)),ShareOfSearch_SERPS!G736,\"\")","v":""},{"$f":"IF(NOT(ISBLANK(ShareOfSearch_SERPS!K736)),ShareOfSearch_SERPS!K736,\"\")","v":""},{"$f":"IFERROR(VLOOKUP(C736,ShareOfSearch_CTR!$A$1:$B$100,2,FALSE)*VLOOKUP(A736&B736,ShareOfSearch_Volume!$C$1:$D$1000,2,FALSE),\"\")","v":""}]
[{"$f":"IF(ISTEXT(ShareOfSearch_SERPS!C737),ShareOfSearch_SERPS!C737,\"\")","v":""},{"$f":"IF(ISTEXT(ShareOfSearch_SERPS!D737),ShareOfSearch_SERPS!D737,\"\")","v":""},{"$f":"IF(NOT(ISBLANK(ShareOfSearch_SERPS!A737)),ShareOfSearch_SERPS!A737,\"\")","v":""},{"$f":"IF(NOT(ISBLANK(ShareOfSearch_SERPS!G737)),ShareOfSearch_SERPS!G737,\"\")","v":""},{"$f":"IF(NOT(ISBLANK(ShareOfSearch_SERPS!K737)),ShareOfSearch_SERPS!K737,\"\")","v":""},{"$f":"IFERROR(VLOOKUP(C737,ShareOfSearch_CTR!$A$1:$B$100,2,FALSE)*VLOOKUP(A737&B737,ShareOfSearch_Volume!$C$1:$D$1000,2,FALSE),\"\")","v":""}]
[{"$f":"IF(ISTEXT(ShareOfSearch_SERPS!C738),ShareOfSearch_SERPS!C738,\"\")","v":""},{"$f":"IF(ISTEXT(ShareOfSearch_SERPS!D738),ShareOfSearch_SERPS!D738,\"\")","v":""},{"$f":"IF(NOT(ISBLANK(ShareOfSearch_SERPS!A738)),ShareOfSearch_SERPS!A738,\"\")","v":""},{"$f":"IF(NOT(ISBLANK(ShareOfSearch_SERPS!G738)),ShareOfSearch_SERPS!G738,\"\")","v":""},{"$f":"IF(NOT(ISBLANK(ShareOfSearch_SERPS!K738)),ShareOfSearch_SERPS!K738,\"\")","v":""},{"$f":"IFERROR(VLOOKUP(C738,ShareOfSearch_CTR!$A$1:$B$100,2,FALSE)*VLOOKUP(A738&B738,ShareOfSearch_Volume!$C$1:$D$1000,2,FALSE),\"\")","v":""}]
[{"$f":"IF(ISTEXT(ShareOfSearch_SERPS!C739),ShareOfSearch_SERPS!C739,\"\")","v":""},{"$f":"IF(ISTEXT(ShareOfSearch_SERPS!D739),ShareOfSearch_SERPS!D739,\"\")","v":""},{"$f":"IF(NOT(ISBLANK(ShareOfSearch_SERPS!A739)),ShareOfSearch_SERPS!A739,\"\")","v":""},{"$f":"IF(NOT(ISBLANK(ShareOfSearch_SERPS!G739)),ShareOfSearch_SERPS!G739,\"\")","v":""},{"$f":"IF(NOT(ISBLANK(ShareOfSearch_SERPS!K739)),ShareOfSearch_SERPS!K739,\"\")","v":""},{"$f":"IFERROR(VLOOKUP(C739,ShareOfSearch_CTR!$A$1:$B$100,2,FALSE)*VLOOKUP(A739&B739,ShareOfSearch_Volume!$C$1:$D$1000,2,FALSE),\"\")","v":""}]
[{"$f":"IF(ISTEXT(ShareOfSearch_SERPS!C740),ShareOfSearch_SERPS!C740,\"\")","v":""},{"$f":"IF(ISTEXT(ShareOfSearch_SERPS!D740),ShareOfSearch_SERPS!D740,\"\")","v":""},{"$f":"IF(NOT(ISBLANK(ShareOfSearch_SERPS!A740)),ShareOfSearch_SERPS!A740,\"\")","v":""},{"$f":"IF(NOT(ISBLANK(ShareOfSearch_SERPS!G740)),ShareOfSearch_SERPS!G740,\"\")","v":""},{"$f":"IF(NOT(ISBLANK(ShareOfSearch_SERPS!K740)),ShareOfSearch_SERPS!K740,\"\")","v":""},{"$f":"IFERROR(VLOOKUP(C740,ShareOfSearch_CTR!$A$1:$B$100,2,FALSE)*VLOOKUP(A740&B740,ShareOfSearch_Volume!$C$1:$D$1000,2,FALSE),\"\")","v":""}]
[{"$f":"IF(ISTEXT(ShareOfSearch_SERPS!C741),ShareOfSearch_SERPS!C741,\"\")","v":""},{"$f":"IF(ISTEXT(ShareOfSearch_SERPS!D741),ShareOfSearch_SERPS!D741,\"\")","v":""},{"$f":"IF(NOT(ISBLANK(ShareOfSearch_SERPS!A741)),ShareOfSearch_SERPS!A741,\"\")","v":""},{"$f":"IF(NOT(ISBLANK(ShareOfSearch_SERPS!G741)),ShareOfSearch_SERPS!G741,\"\")","v":""},{"$f":"IF(NOT(ISBLANK(ShareOfSearch_SERPS!K741)),ShareOfSearch_SERPS!K741,\"\")","v":""},{"$f":"IFERROR(VLOOKUP(C741,ShareOfSearch_CTR!$A$1:$B$100,2,FALSE)*VLOOKUP(A741&B741,ShareOfSearch_Volume!$C$1:$D$1000,2,FALSE),\"\")","v":""}]
[{"$f":"IF(ISTEXT(ShareOfSearch_SERPS!C742),ShareOfSearch_SERPS!C742,\"\")","v":""},{"$f":"IF(ISTEXT(ShareOfSearch_SERPS!D742),ShareOfSearch_SERPS!D742,\"\")","v":""},{"$f":"IF(NOT(ISBLANK(ShareOfSearch_SERPS!A742)),ShareOfSearch_SERPS!A742,\"\")","v":""},{"$f":"IF(NOT(ISBLANK(ShareOfSearch_SERPS!G742)),ShareOfSearch_SERPS!G742,\"\")","v":""},{"$f":"IF(NOT(ISBLANK(ShareOfSearch_SERPS!K742)),ShareOfSearch_SERPS!K742,\"\")","v":""},{"$f":"IFERROR(VLOOKUP(C742,ShareOfSearch_CTR!$A$1:$B$100,2,FALSE)*VLOOKUP(A742&B742,ShareOfSearch_Volume!$C$1:$D$1000,2,FALSE),\"\")","v":""}]
[{"$f":"IF(ISTEXT(ShareOfSearch_SERPS!C743),ShareOfSearch_SERPS!C743,\"\")","v":""},{"$f":"IF(ISTEXT(ShareOfSearch_SERPS!D743),ShareOfSearch_SERPS!D743,\"\")","v":""},{"$f":"IF(NOT(ISBLANK(ShareOfSearch_SERPS!A743)),ShareOfSearch_SERPS!A743,\"\")","v":""},{"$f":"IF(NOT(ISBLANK(ShareOfSearch_SERPS!G743)),ShareOfSearch_SERPS!G743,\"\")","v":""},{"$f":"IF(NOT(ISBLANK(ShareOfSearch_SERPS!K743)),ShareOfSearch_SERPS!K743,\"\")","v":""},{"$f":"IFERROR(VLOOKUP(C743,ShareOfSearch_CTR!$A$1:$B$100,2,FALSE)*VLOOKUP(A743&B743,ShareOfSearch_Volume!$C$1:$D$1000,2,FALSE),\"\")","v":""}]
[{"$f":"IF(ISTEXT(ShareOfSearch_SERPS!C744),ShareOfSearch_SERPS!C744,\"\")","v":""},{"$f":"IF(ISTEXT(ShareOfSearch_SERPS!D744),ShareOfSearch_SERPS!D744,\"\")","v":""},{"$f":"IF(NOT(ISBLANK(ShareOfSearch_SERPS!A744)),ShareOfSearch_SERPS!A744,\"\")","v":""},{"$f":"IF(NOT(ISBLANK(ShareOfSearch_SERPS!G744)),ShareOfSearch_SERPS!G744,\"\")","v":""},{"$f":"IF(NOT(ISBLANK(ShareOfSearch_SERPS!K744)),ShareOfSearch_SERPS!K744,\"\")","v":""},{"$f":"IFERROR(VLOOKUP(C744,ShareOfSearch_CTR!$A$1:$B$100,2,FALSE)*VLOOKUP(A744&B744,ShareOfSearch_Volume!$C$1:$D$1000,2,FALSE),\"\")","v":""}]
[{"$f":"IF(ISTEXT(ShareOfSearch_SERPS!C745),ShareOfSearch_SERPS!C745,\"\")","v":""},{"$f":"IF(ISTEXT(ShareOfSearch_SERPS!D745),ShareOfSearch_SERPS!D745,\"\")","v":""},{"$f":"IF(NOT(ISBLANK(ShareOfSearch_SERPS!A745)),ShareOfSearch_SERPS!A745,\"\")","v":""},{"$f":"IF(NOT(ISBLANK(ShareOfSearch_SERPS!G745)),ShareOfSearch_SERPS!G745,\"\")","v":""},{"$f":"IF(NOT(ISBLANK(ShareOfSearch_SERPS!K745)),ShareOfSearch_SERPS!K745,\"\")","v":""},{"$f":"IFERROR(VLOOKUP(C745,ShareOfSearch_CTR!$A$1:$B$100,2,FALSE)*VLOOKUP(A745&B745,ShareOfSearch_Volume!$C$1:$D$1000,2,FALSE),\"\")","v":""}]
[{"$f":"IF(ISTEXT(ShareOfSearch_SERPS!C746),ShareOfSearch_SERPS!C746,\"\")","v":""},{"$f":"IF(ISTEXT(ShareOfSearch_SERPS!D746),ShareOfSearch_SERPS!D746,\"\")","v":""},{"$f":"IF(NOT(ISBLANK(ShareOfSearch_SERPS!A746)),ShareOfSearch_SERPS!A746,\"\")","v":""},{"$f":"IF(NOT(ISBLANK(ShareOfSearch_SERPS!G746)),ShareOfSearch_SERPS!G746,\"\")","v":""},{"$f":"IF(NOT(ISBLANK(ShareOfSearch_SERPS!K746)),ShareOfSearch_SERPS!K746,\"\")","v":""},{"$f":"IFERROR(VLOOKUP(C746,ShareOfSearch_CTR!$A$1:$B$100,2,FALSE)*VLOOKUP(A746&B746,ShareOfSearch_Volume!$C$1:$D$1000,2,FALSE),\"\")","v":""}]
[{"$f":"IF(ISTEXT(ShareOfSearch_SERPS!C747),ShareOfSearch_SERPS!C747,\"\")","v":""},{"$f":"IF(ISTEXT(ShareOfSearch_SERPS!D747),ShareOfSearch_SERPS!D747,\"\")","v":""},{"$f":"IF(NOT(ISBLANK(ShareOfSearch_SERPS!A747)),ShareOfSearch_SERPS!A747,\"\")","v":""},{"$f":"IF(NOT(ISBLANK(ShareOfSearch_SERPS!G747)),ShareOfSearch_SERPS!G747,\"\")","v":""},{"$f":"IF(NOT(ISBLANK(ShareOfSearch_SERPS!K747)),ShareOfSearch_SERPS!K747,\"\")","v":""},{"$f":"IFERROR(VLOOKUP(C747,ShareOfSearch_CTR!$A$1:$B$100,2,FALSE)*VLOOKUP(A747&B747,ShareOfSearch_Volume!$C$1:$D$1000,2,FALSE),\"\")","v":""}]
[{"$f":"IF(ISTEXT(ShareOfSearch_SERPS!C748),ShareOfSearch_SERPS!C748,\"\")","v":""},{"$f":"IF(ISTEXT(ShareOfSearch_SERPS!D748),ShareOfSearch_SERPS!D748,\"\")","v":""},{"$f":"IF(NOT(ISBLANK(ShareOfSearch_SERPS!A748)),ShareOfSearch_SERPS!A748,\"\")","v":""},{"$f":"IF(NOT(ISBLANK(ShareOfSearch_SERPS!G748)),ShareOfSearch_SERPS!G748,\"\")","v":""},{"$f":"IF(NOT(ISBLANK(ShareOfSearch_SERPS!K748)),ShareOfSearch_SERPS!K748,\"\")","v":""},{"$f":"IFERROR(VLOOKUP(C748,ShareOfSearch_CTR!$A$1:$B$100,2,FALSE)*VLOOKUP(A748&B748,ShareOfSearch_Volume!$C$1:$D$1000,2,FALSE),\"\")","v":""}]
[{"$f":"IF(ISTEXT(ShareOfSearch_SERPS!C749),ShareOfSearch_SERPS!C749,\"\")","v":""},{"$f":"IF(ISTEXT(ShareOfSearch_SERPS!D749),ShareOfSearch_SERPS!D749,\"\")","v":""},{"$f":"IF(NOT(ISBLANK(ShareOfSearch_SERPS!A749)),ShareOfSearch_SERPS!A749,\"\")","v":""},{"$f":"IF(NOT(ISBLANK(ShareOfSearch_SERPS!G749)),ShareOfSearch_SERPS!G749,\"\")","v":""},{"$f":"IF(NOT(ISBLANK(ShareOfSearch_SERPS!K749)),ShareOfSearch_SERPS!K749,\"\")","v":""},{"$f":"IFERROR(VLOOKUP(C749,ShareOfSearch_CTR!$A$1:$B$100,2,FALSE)*VLOOKUP(A749&B749,ShareOfSearch_Volume!$C$1:$D$1000,2,FALSE),\"\")","v":""}]
[{"$f":"IF(ISTEXT(ShareOfSearch_SERPS!C750),ShareOfSearch_SERPS!C750,\"\")","v":""},{"$f":"IF(ISTEXT(ShareOfSearch_SERPS!D750),ShareOfSearch_SERPS!D750,\"\")","v":""},{"$f":"IF(NOT(ISBLANK(ShareOfSearch_SERPS!A750)),ShareOfSearch_SERPS!A750,\"\")","v":""},{"$f":"IF(NOT(ISBLANK(ShareOfSearch_SERPS!G750)),ShareOfSearch_SERPS!G750,\"\")","v":""},{"$f":"IF(NOT(ISBLANK(ShareOfSearch_SERPS!K750)),ShareOfSearch_SERPS!K750,\"\")","v":""},{"$f":"IFERROR(VLOOKUP(C750,ShareOfSearch_CTR!$A$1:$B$100,2,FALSE)*VLOOKUP(A750&B750,ShareOfSearch_Volume!$C$1:$D$1000,2,FALSE),\"\")","v":""}]
[{"$f":"IF(ISTEXT(ShareOfSearch_SERPS!C751),ShareOfSearch_SERPS!C751,\"\")","v":""},{"$f":"IF(ISTEXT(ShareOfSearch_SERPS!D751),ShareOfSearch_SERPS!D751,\"\")","v":""},{"$f":"IF(NOT(ISBLANK(ShareOfSearch_SERPS!A751)),ShareOfSearch_SERPS!A751,\"\")","v":""},{"$f":"IF(NOT(ISBLANK(ShareOfSearch_SERPS!G751)),ShareOfSearch_SERPS!G751,\"\")","v":""},{"$f":"IF(NOT(ISBLANK(ShareOfSearch_SERPS!K751)),ShareOfSearch_SERPS!K751,\"\")","v":""},{"$f":"IFERROR(VLOOKUP(C751,ShareOfSearch_CTR!$A$1:$B$100,2,FALSE)*VLOOKUP(A751&B751,ShareOfSearch_Volume!$C$1:$D$1000,2,FALSE),\"\")","v":""}]
[{"$f":"IF(ISTEXT(ShareOfSearch_SERPS!C752),ShareOfSearch_SERPS!C752,\"\")","v":""},{"$f":"IF(ISTEXT(ShareOfSearch_SERPS!D752),ShareOfSearch_SERPS!D752,\"\")","v":""},{"$f":"IF(NOT(ISBLANK(ShareOfSearch_SERPS!A752)),ShareOfSearch_SERPS!A752,\"\")","v":""},{"$f":"IF(NOT(ISBLANK(ShareOfSearch_SERPS!G752)),ShareOfSearch_SERPS!G752,\"\")","v":""},{"$f":"IF(NOT(ISBLANK(ShareOfSearch_SERPS!K752)),ShareOfSearch_SERPS!K752,\"\")","v":""},{"$f":"IFERROR(VLOOKUP(C752,ShareOfSearch_CTR!$A$1:$B$100,2,FALSE)*VLOOKUP(A752&B752,ShareOfSearch_Volume!$C$1:$D$1000,2,FALSE),\"\")","v":""}]
[{"$f":"IF(ISTEXT(ShareOfSearch_SERPS!C753),ShareOfSearch_SERPS!C753,\"\")","v":""},{"$f":"IF(ISTEXT(ShareOfSearch_SERPS!D753),ShareOfSearch_SERPS!D753,\"\")","v":""},{"$f":"IF(NOT(ISBLANK(ShareOfSearch_SERPS!A753)),ShareOfSearch_SERPS!A753,\"\")","v":""},{"$f":"IF(NOT(ISBLANK(ShareOfSearch_SERPS!G753)),ShareOfSearch_SERPS!G753,\"\")","v":""},{"$f":"IF(NOT(ISBLANK(ShareOfSearch_SERPS!K753)),ShareOfSearch_SERPS!K753,\"\")","v":""},{"$f":"IFERROR(VLOOKUP(C753,ShareOfSearch_CTR!$A$1:$B$100,2,FALSE)*VLOOKUP(A753&B753,ShareOfSearch_Volume!$C$1:$D$1000,2,FALSE),\"\")","v":""}]
[{"$f":"IF(ISTEXT(ShareOfSearch_SERPS!C754),ShareOfSearch_SERPS!C754,\"\")","v":""},{"$f":"IF(ISTEXT(ShareOfSearch_SERPS!D754),ShareOfSearch_SERPS!D754,\"\")","v":""},{"$f":"IF(NOT(ISBLANK(ShareOfSearch_SERPS!A754)),ShareOfSearch_SERPS!A754,\"\")","v":""},{"$f":"IF(NOT(ISBLANK(ShareOfSearch_SERPS!G754)),ShareOfSearch_SERPS!G754,\"\")","v":""},{"$f":"IF(NOT(ISBLANK(ShareOfSearch_SERPS!K754)),ShareOfSearch_SERPS!K754,\"\")","v":""},{"$f":"IFERROR(VLOOKUP(C754,ShareOfSearch_CTR!$A$1:$B$100,2,FALSE)*VLOOKUP(A754&B754,ShareOfSearch_Volume!$C$1:$D$1000,2,FALSE),\"\")","v":""}]
[{"$f":"IF(ISTEXT(ShareOfSearch_SERPS!C755),ShareOfSearch_SERPS!C755,\"\")","v":""},{"$f":"IF(ISTEXT(ShareOfSearch_SERPS!D755),ShareOfSearch_SERPS!D755,\"\")","v":""},{"$f":"IF(NOT(ISBLANK(ShareOfSearch_SERPS!A755)),ShareOfSearch_SERPS!A755,\"\")","v":""},{"$f":"IF(NOT(ISBLANK(ShareOfSearch_SERPS!G755)),ShareOfSearch_SERPS!G755,\"\")","v":""},{"$f":"IF(NOT(ISBLANK(ShareOfSearch_SERPS!K755)),ShareOfSearch_SERPS!K755,\"\")","v":""},{"$f":"IFERROR(VLOOKUP(C755,ShareOfSearch_CTR!$A$1:$B$100,2,FALSE)*VLOOKUP(A755&B755,ShareOfSearch_Volume!$C$1:$D$1000,2,FALSE),\"\")","v":""}]
[{"$f":"IF(ISTEXT(ShareOfSearch_SERPS!C756),ShareOfSearch_SERPS!C756,\"\")","v":""},{"$f":"IF(ISTEXT(ShareOfSearch_SERPS!D756),ShareOfSearch_SERPS!D756,\"\")","v":""},{"$f":"IF(NOT(ISBLANK(ShareOfSearch_SERPS!A756)),ShareOfSearch_SERPS!A756,\"\")","v":""},{"$f":"IF(NOT(ISBLANK(ShareOfSearch_SERPS!G756)),ShareOfSearch_SERPS!G756,\"\")","v":""},{"$f":"IF(NOT(ISBLANK(ShareOfSearch_SERPS!K756)),ShareOfSearch_SERPS!K756,\"\")","v":""},{"$f":"IFERROR(VLOOKUP(C756,ShareOfSearch_CTR!$A$1:$B$100,2,FALSE)*VLOOKUP(A756&B756,ShareOfSearch_Volume!$C$1:$D$1000,2,FALSE),\"\")","v":""}]
[{"$f":"IF(ISTEXT(ShareOfSearch_SERPS!C757),ShareOfSearch_SERPS!C757,\"\")","v":""},{"$f":"IF(ISTEXT(ShareOfSearch_SERPS!D757),ShareOfSearch_SERPS!D757,\"\")","v":""},{"$f":"IF(NOT(ISBLANK(ShareOfSearch_SERPS!A757)),ShareOfSearch_SERPS!A757,\"\")","v":""},{"$f":"IF(NOT(ISBLANK(ShareOfSearch_SERPS!G757)),ShareOfSearch_SERPS!G757,\"\")","v":""},{"$f":"IF(NOT(ISBLANK(ShareOfSearch_SERPS!K757)),ShareOfSearch_SERPS!K757,\"\")","v":""},{"$f":"IFERROR(VLOOKUP(C757,ShareOfSearch_CTR!$A$1:$B$100,2,FALSE)*VLOOKUP(A757&B757,ShareOfSearch_Volume!$C$1:$D$1000,2,FALSE),\"\")","v":""}]
[{"$f":"IF(ISTEXT(ShareOfSearch_SERPS!C758),ShareOfSearch_SERPS!C758,\"\")","v":""},{"$f":"IF(ISTEXT(ShareOfSearch_SERPS!D758),ShareOfSearch_SERPS!D758,\"\")","v":""},{"$f":"IF(NOT(ISBLANK(ShareOfSearch_SERPS!A758)),ShareOfSearch_SERPS!A758,\"\")","v":""},{"$f":"IF(NOT(ISBLANK(ShareOfSearch_SERPS!G758)),ShareOfSearch_SERPS!G758,\"\")","v":""},{"$f":"IF(NOT(ISBLANK(ShareOfSearch_SERPS!K758)),ShareOfSearch_SERPS!K758,\"\")","v":""},{"$f":"IFERROR(VLOOKUP(C758,ShareOfSearch_CTR!$A$1:$B$100,2,FALSE)*VLOOKUP(A758&B758,ShareOfSearch_Volume!$C$1:$D$1000,2,FALSE),\"\")","v":""}]
[{"$f":"IF(ISTEXT(ShareOfSearch_SERPS!C759),ShareOfSearch_SERPS!C759,\"\")","v":""},{"$f":"IF(ISTEXT(ShareOfSearch_SERPS!D759),ShareOfSearch_SERPS!D759,\"\")","v":""},{"$f":"IF(NOT(ISBLANK(ShareOfSearch_SERPS!A759)),ShareOfSearch_SERPS!A759,\"\")","v":""},{"$f":"IF(NOT(ISBLANK(ShareOfSearch_SERPS!G759)),ShareOfSearch_SERPS!G759,\"\")","v":""},{"$f":"IF(NOT(ISBLANK(ShareOfSearch_SERPS!K759)),ShareOfSearch_SERPS!K759,\"\")","v":""},{"$f":"IFERROR(VLOOKUP(C759,ShareOfSearch_CTR!$A$1:$B$100,2,FALSE)*VLOOKUP(A759&B759,ShareOfSearch_Volume!$C$1:$D$1000,2,FALSE),\"\")","v":""}]
[{"$f":"IF(ISTEXT(ShareOfSearch_SERPS!C760),ShareOfSearch_SERPS!C760,\"\")","v":""},{"$f":"IF(ISTEXT(ShareOfSearch_SERPS!D760),ShareOfSearch_SERPS!D760,\"\")","v":""},{"$f":"IF(NOT(ISBLANK(ShareOfSearch_SERPS!A760)),ShareOfSearch_SERPS!A760,\"\")","v":""},{"$f":"IF(NOT(ISBLANK(ShareOfSearch_SERPS!G760)),ShareOfSearch_SERPS!G760,\"\")","v":""},{"$f":"IF(NOT(ISBLANK(ShareOfSearch_SERPS!K760)),ShareOfSearch_SERPS!K760,\"\")","v":""},{"$f":"IFERROR(VLOOKUP(C760,ShareOfSearch_CTR!$A$1:$B$100,2,FALSE)*VLOOKUP(A760&B760,ShareOfSearch_Volume!$C$1:$D$1000,2,FALSE),\"\")","v":""}]
[{"$f":"IF(ISTEXT(ShareOfSearch_SERPS!C761),ShareOfSearch_SERPS!C761,\"\")","v":""},{"$f":"IF(ISTEXT(ShareOfSearch_SERPS!D761),ShareOfSearch_SERPS!D761,\"\")","v":""},{"$f":"IF(NOT(ISBLANK(ShareOfSearch_SERPS!A761)),ShareOfSearch_SERPS!A761,\"\")","v":""},{"$f":"IF(NOT(ISBLANK(ShareOfSearch_SERPS!G761)),ShareOfSearch_SERPS!G761,\"\")","v":""},{"$f":"IF(NOT(ISBLANK(ShareOfSearch_SERPS!K761)),ShareOfSearch_SERPS!K761,\"\")","v":""},{"$f":"IFERROR(VLOOKUP(C761,ShareOfSearch_CTR!$A$1:$B$100,2,FALSE)*VLOOKUP(A761&B761,ShareOfSearch_Volume!$C$1:$D$1000,2,FALSE),\"\")","v":""}]
[{"$f":"IF(ISTEXT(ShareOfSearch_SERPS!C762),ShareOfSearch_SERPS!C762,\"\")","v":""},{"$f":"IF(ISTEXT(ShareOfSearch_SERPS!D762),ShareOfSearch_SERPS!D762,\"\")","v":""},{"$f":"IF(NOT(ISBLANK(ShareOfSearch_SERPS!A762)),ShareOfSearch_SERPS!A762,\"\")","v":""},{"$f":"IF(NOT(ISBLANK(ShareOfSearch_SERPS!G762)),ShareOfSearch_SERPS!G762,\"\")","v":""},{"$f":"IF(NOT(ISBLANK(ShareOfSearch_SERPS!K762)),ShareOfSearch_SERPS!K762,\"\")","v":""},{"$f":"IFERROR(VLOOKUP(C762,ShareOfSearch_CTR!$A$1:$B$100,2,FALSE)*VLOOKUP(A762&B762,ShareOfSearch_Volume!$C$1:$D$1000,2,FALSE),\"\")","v":""}]
[{"$f":"IF(ISTEXT(ShareOfSearch_SERPS!C763),ShareOfSearch_SERPS!C763,\"\")","v":""},{"$f":"IF(ISTEXT(ShareOfSearch_SERPS!D763),ShareOfSearch_SERPS!D763,\"\")","v":""},{"$f":"IF(NOT(ISBLANK(ShareOfSearch_SERPS!A763)),ShareOfSearch_SERPS!A763,\"\")","v":""},{"$f":"IF(NOT(ISBLANK(ShareOfSearch_SERPS!G763)),ShareOfSearch_SERPS!G763,\"\")","v":""},{"$f":"IF(NOT(ISBLANK(ShareOfSearch_SERPS!K763)),ShareOfSearch_SERPS!K763,\"\")","v":""},{"$f":"IFERROR(VLOOKUP(C763,ShareOfSearch_CTR!$A$1:$B$100,2,FALSE)*VLOOKUP(A763&B763,ShareOfSearch_Volume!$C$1:$D$1000,2,FALSE),\"\")","v":""}]
[{"$f":"IF(ISTEXT(ShareOfSearch_SERPS!C764),ShareOfSearch_SERPS!C764,\"\")","v":""},{"$f":"IF(ISTEXT(ShareOfSearch_SERPS!D764),ShareOfSearch_SERPS!D764,\"\")","v":""},{"$f":"IF(NOT(ISBLANK(ShareOfSearch_SERPS!A764)),ShareOfSearch_SERPS!A764,\"\")","v":""},{"$f":"IF(NOT(ISBLANK(ShareOfSearch_SERPS!G764)),ShareOfSearch_SERPS!G764,\"\")","v":""},{"$f":"IF(NOT(ISBLANK(ShareOfSearch_SERPS!K764)),ShareOfSearch_SERPS!K764,\"\")","v":""},{"$f":"IFERROR(VLOOKUP(C764,ShareOfSearch_CTR!$A$1:$B$100,2,FALSE)*VLOOKUP(A764&B764,ShareOfSearch_Volume!$C$1:$D$1000,2,FALSE),\"\")","v":""}]
[{"$f":"IF(ISTEXT(ShareOfSearch_SERPS!C765),ShareOfSearch_SERPS!C765,\"\")","v":""},{"$f":"IF(ISTEXT(ShareOfSearch_SERPS!D765),ShareOfSearch_SERPS!D765,\"\")","v":""},{"$f":"IF(NOT(ISBLANK(ShareOfSearch_SERPS!A765)),ShareOfSearch_SERPS!A765,\"\")","v":""},{"$f":"IF(NOT(ISBLANK(ShareOfSearch_SERPS!G765)),ShareOfSearch_SERPS!G765,\"\")","v":""},{"$f":"IF(NOT(ISBLANK(ShareOfSearch_SERPS!K765)),ShareOfSearch_SERPS!K765,\"\")","v":""},{"$f":"IFERROR(VLOOKUP(C765,ShareOfSearch_CTR!$A$1:$B$100,2,FALSE)*VLOOKUP(A765&B765,ShareOfSearch_Volume!$C$1:$D$1000,2,FALSE),\"\")","v":""}]
[{"$f":"IF(ISTEXT(ShareOfSearch_SERPS!C766),ShareOfSearch_SERPS!C766,\"\")","v":""},{"$f":"IF(ISTEXT(ShareOfSearch_SERPS!D766),ShareOfSearch_SERPS!D766,\"\")","v":""},{"$f":"IF(NOT(ISBLANK(ShareOfSearch_SERPS!A766)),ShareOfSearch_SERPS!A766,\"\")","v":""},{"$f":"IF(NOT(ISBLANK(ShareOfSearch_SERPS!G766)),ShareOfSearch_SERPS!G766,\"\")","v":""},{"$f":"IF(NOT(ISBLANK(ShareOfSearch_SERPS!K766)),ShareOfSearch_SERPS!K766,\"\")","v":""},{"$f":"IFERROR(VLOOKUP(C766,ShareOfSearch_CTR!$A$1:$B$100,2,FALSE)*VLOOKUP(A766&B766,ShareOfSearch_Volume!$C$1:$D$1000,2,FALSE),\"\")","v":""}]
[{"$f":"IF(ISTEXT(ShareOfSearch_SERPS!C767),ShareOfSearch_SERPS!C767,\"\")","v":""},{"$f":"IF(ISTEXT(ShareOfSearch_SERPS!D767),ShareOfSearch_SERPS!D767,\"\")","v":""},{"$f":"IF(NOT(ISBLANK(ShareOfSearch_SERPS!A767)),ShareOfSearch_SERPS!A767,\"\")","v":""},{"$f":"IF(NOT(ISBLANK(ShareOfSearch_SERPS!G767)),ShareOfSearch_SERPS!G767,\"\")","v":""},{"$f":"IF(NOT(ISBLANK(ShareOfSearch_SERPS!K767)),ShareOfSearch_SERPS!K767,\"\")","v":""},{"$f":"IFERROR(VLOOKUP(C767,ShareOfSearch_CTR!$A$1:$B$100,2,FALSE)*VLOOKUP(A767&B767,ShareOfSearch_Volume!$C$1:$D$1000,2,FALSE),\"\")","v":""}]
[{"$f":"IF(ISTEXT(ShareOfSearch_SERPS!C768),ShareOfSearch_SERPS!C768,\"\")","v":""},{"$f":"IF(ISTEXT(ShareOfSearch_SERPS!D768),ShareOfSearch_SERPS!D768,\"\")","v":""},{"$f":"IF(NOT(ISBLANK(ShareOfSearch_SERPS!A768)),ShareOfSearch_SERPS!A768,\"\")","v":""},{"$f":"IF(NOT(ISBLANK(ShareOfSearch_SERPS!G768)),ShareOfSearch_SERPS!G768,\"\")","v":""},{"$f":"IF(NOT(ISBLANK(ShareOfSearch_SERPS!K768)),ShareOfSearch_SERPS!K768,\"\")","v":""},{"$f":"IFERROR(VLOOKUP(C768,ShareOfSearch_CTR!$A$1:$B$100,2,FALSE)*VLOOKUP(A768&B768,ShareOfSearch_Volume!$C$1:$D$1000,2,FALSE),\"\")","v":""}]
[{"$f":"IF(ISTEXT(ShareOfSearch_SERPS!C769),ShareOfSearch_SERPS!C769,\"\")","v":""},{"$f":"IF(ISTEXT(ShareOfSearch_SERPS!D769),ShareOfSearch_SERPS!D769,\"\")","v":""},{"$f":"IF(NOT(ISBLANK(ShareOfSearch_SERPS!A769)),ShareOfSearch_SERPS!A769,\"\")","v":""},{"$f":"IF(NOT(ISBLANK(ShareOfSearch_SERPS!G769)),ShareOfSearch_SERPS!G769,\"\")","v":""},{"$f":"IF(NOT(ISBLANK(ShareOfSearch_SERPS!K769)),ShareOfSearch_SERPS!K769,\"\")","v":""},{"$f":"IFERROR(VLOOKUP(C769,ShareOfSearch_CTR!$A$1:$B$100,2,FALSE)*VLOOKUP(A769&B769,ShareOfSearch_Volume!$C$1:$D$1000,2,FALSE),\"\")","v":""}]
[{"$f":"IF(ISTEXT(ShareOfSearch_SERPS!C770),ShareOfSearch_SERPS!C770,\"\")","v":""},{"$f":"IF(ISTEXT(ShareOfSearch_SERPS!D770),ShareOfSearch_SERPS!D770,\"\")","v":""},{"$f":"IF(NOT(ISBLANK(ShareOfSearch_SERPS!A770)),ShareOfSearch_SERPS!A770,\"\")","v":""},{"$f":"IF(NOT(ISBLANK(ShareOfSearch_SERPS!G770)),ShareOfSearch_SERPS!G770,\"\")","v":""},{"$f":"IF(NOT(ISBLANK(ShareOfSearch_SERPS!K770)),ShareOfSearch_SERPS!K770,\"\")","v":""},{"$f":"IFERROR(VLOOKUP(C770,ShareOfSearch_CTR!$A$1:$B$100,2,FALSE)*VLOOKUP(A770&B770,ShareOfSearch_Volume!$C$1:$D$1000,2,FALSE),\"\")","v":""}]
[{"$f":"IF(ISTEXT(ShareOfSearch_SERPS!C771),ShareOfSearch_SERPS!C771,\"\")","v":""},{"$f":"IF(ISTEXT(ShareOfSearch_SERPS!D771),ShareOfSearch_SERPS!D771,\"\")","v":""},{"$f":"IF(NOT(ISBLANK(ShareOfSearch_SERPS!A771)),ShareOfSearch_SERPS!A771,\"\")","v":""},{"$f":"IF(NOT(ISBLANK(ShareOfSearch_SERPS!G771)),ShareOfSearch_SERPS!G771,\"\")","v":""},{"$f":"IF(NOT(ISBLANK(ShareOfSearch_SERPS!K771)),ShareOfSearch_SERPS!K771,\"\")","v":""},{"$f":"IFERROR(VLOOKUP(C771,ShareOfSearch_CTR!$A$1:$B$100,2,FALSE)*VLOOKUP(A771&B771,ShareOfSearch_Volume!$C$1:$D$1000,2,FALSE),\"\")","v":""}]
[{"$f":"IF(ISTEXT(ShareOfSearch_SERPS!C772),ShareOfSearch_SERPS!C772,\"\")","v":""},{"$f":"IF(ISTEXT(ShareOfSearch_SERPS!D772),ShareOfSearch_SERPS!D772,\"\")","v":""},{"$f":"IF(NOT(ISBLANK(ShareOfSearch_SERPS!A772)),ShareOfSearch_SERPS!A772,\"\")","v":""},{"$f":"IF(NOT(ISBLANK(ShareOfSearch_SERPS!G772)),ShareOfSearch_SERPS!G772,\"\")","v":""},{"$f":"IF(NOT(ISBLANK(ShareOfSearch_SERPS!K772)),ShareOfSearch_SERPS!K772,\"\")","v":""},{"$f":"IFERROR(VLOOKUP(C772,ShareOfSearch_CTR!$A$1:$B$100,2,FALSE)*VLOOKUP(A772&B772,ShareOfSearch_Volume!$C$1:$D$1000,2,FALSE),\"\")","v":""}]
[{"$f":"IF(ISTEXT(ShareOfSearch_SERPS!C773),ShareOfSearch_SERPS!C773,\"\")","v":""},{"$f":"IF(ISTEXT(ShareOfSearch_SERPS!D773),ShareOfSearch_SERPS!D773,\"\")","v":""},{"$f":"IF(NOT(ISBLANK(ShareOfSearch_SERPS!A773)),ShareOfSearch_SERPS!A773,\"\")","v":""},{"$f":"IF(NOT(ISBLANK(ShareOfSearch_SERPS!G773)),ShareOfSearch_SERPS!G773,\"\")","v":""},{"$f":"IF(NOT(ISBLANK(ShareOfSearch_SERPS!K773)),ShareOfSearch_SERPS!K773,\"\")","v":""},{"$f":"IFERROR(VLOOKUP(C773,ShareOfSearch_CTR!$A$1:$B$100,2,FALSE)*VLOOKUP(A773&B773,ShareOfSearch_Volume!$C$1:$D$1000,2,FALSE),\"\")","v":""}]
[{"$f":"IF(ISTEXT(ShareOfSearch_SERPS!C774),ShareOfSearch_SERPS!C774,\"\")","v":""},{"$f":"IF(ISTEXT(ShareOfSearch_SERPS!D774),ShareOfSearch_SERPS!D774,\"\")","v":""},{"$f":"IF(NOT(ISBLANK(ShareOfSearch_SERPS!A774)),ShareOfSearch_SERPS!A774,\"\")","v":""},{"$f":"IF(NOT(ISBLANK(ShareOfSearch_SERPS!G774)),ShareOfSearch_SERPS!G774,\"\")","v":""},{"$f":"IF(NOT(ISBLANK(ShareOfSearch_SERPS!K774)),ShareOfSearch_SERPS!K774,\"\")","v":""},{"$f":"IFERROR(VLOOKUP(C774,ShareOfSearch_CTR!$A$1:$B$100,2,FALSE)*VLOOKUP(A774&B774,ShareOfSearch_Volume!$C$1:$D$1000,2,FALSE),\"\")","v":""}]
[{"$f":"IF(ISTEXT(ShareOfSearch_SERPS!C775),ShareOfSearch_SERPS!C775,\"\")","v":""},{"$f":"IF(ISTEXT(ShareOfSearch_SERPS!D775),ShareOfSearch_SERPS!D775,\"\")","v":""},{"$f":"IF(NOT(ISBLANK(ShareOfSearch_SERPS!A775)),ShareOfSearch_SERPS!A775,\"\")","v":""},{"$f":"IF(NOT(ISBLANK(ShareOfSearch_SERPS!G775)),ShareOfSearch_SERPS!G775,\"\")","v":""},{"$f":"IF(NOT(ISBLANK(ShareOfSearch_SERPS!K775)),ShareOfSearch_SERPS!K775,\"\")","v":""},{"$f":"IFERROR(VLOOKUP(C775,ShareOfSearch_CTR!$A$1:$B$100,2,FALSE)*VLOOKUP(A775&B775,ShareOfSearch_Volume!$C$1:$D$1000,2,FALSE),\"\")","v":""}]
[{"$f":"IF(ISTEXT(ShareOfSearch_SERPS!C776),ShareOfSearch_SERPS!C776,\"\")","v":""},{"$f":"IF(ISTEXT(ShareOfSearch_SERPS!D776),ShareOfSearch_SERPS!D776,\"\")","v":""},{"$f":"IF(NOT(ISBLANK(ShareOfSearch_SERPS!A776)),ShareOfSearch_SERPS!A776,\"\")","v":""},{"$f":"IF(NOT(ISBLANK(ShareOfSearch_SERPS!G776)),ShareOfSearch_SERPS!G776,\"\")","v":""},{"$f":"IF(NOT(ISBLANK(ShareOfSearch_SERPS!K776)),ShareOfSearch_SERPS!K776,\"\")","v":""},{"$f":"IFERROR(VLOOKUP(C776,ShareOfSearch_CTR!$A$1:$B$100,2,FALSE)*VLOOKUP(A776&B776,ShareOfSearch_Volume!$C$1:$D$1000,2,FALSE),\"\")","v":""}]
[{"$f":"IF(ISTEXT(ShareOfSearch_SERPS!C777),ShareOfSearch_SERPS!C777,\"\")","v":""},{"$f":"IF(ISTEXT(ShareOfSearch_SERPS!D777),ShareOfSearch_SERPS!D777,\"\")","v":""},{"$f":"IF(NOT(ISBLANK(ShareOfSearch_SERPS!A777)),ShareOfSearch_SERPS!A777,\"\")","v":""},{"$f":"IF(NOT(ISBLANK(ShareOfSearch_SERPS!G777)),ShareOfSearch_SERPS!G777,\"\")","v":""},{"$f":"IF(NOT(ISBLANK(ShareOfSearch_SERPS!K777)),ShareOfSearch_SERPS!K777,\"\")","v":""},{"$f":"IFERROR(VLOOKUP(C777,ShareOfSearch_CTR!$A$1:$B$100,2,FALSE)*VLOOKUP(A777&B777,ShareOfSearch_Volume!$C$1:$D$1000,2,FALSE),\"\")","v":""}]
[{"$f":"IF(ISTEXT(ShareOfSearch_SERPS!C778),ShareOfSearch_SERPS!C778,\"\")","v":""},{"$f":"IF(ISTEXT(ShareOfSearch_SERPS!D778),ShareOfSearch_SERPS!D778,\"\")","v":""},{"$f":"IF(NOT(ISBLANK(ShareOfSearch_SERPS!A778)),ShareOfSearch_SERPS!A778,\"\")","v":""},{"$f":"IF(NOT(ISBLANK(ShareOfSearch_SERPS!G778)),ShareOfSearch_SERPS!G778,\"\")","v":""},{"$f":"IF(NOT(ISBLANK(ShareOfSearch_SERPS!K778)),ShareOfSearch_SERPS!K778,\"\")","v":""},{"$f":"IFERROR(VLOOKUP(C778,ShareOfSearch_CTR!$A$1:$B$100,2,FALSE)*VLOOKUP(A778&B778,ShareOfSearch_Volume!$C$1:$D$1000,2,FALSE),\"\")","v":""}]
[{"$f":"IF(ISTEXT(ShareOfSearch_SERPS!C779),ShareOfSearch_SERPS!C779,\"\")","v":""},{"$f":"IF(ISTEXT(ShareOfSearch_SERPS!D779),ShareOfSearch_SERPS!D779,\"\")","v":""},{"$f":"IF(NOT(ISBLANK(ShareOfSearch_SERPS!A779)),ShareOfSearch_SERPS!A779,\"\")","v":""},{"$f":"IF(NOT(ISBLANK(ShareOfSearch_SERPS!G779)),ShareOfSearch_SERPS!G779,\"\")","v":""},{"$f":"IF(NOT(ISBLANK(ShareOfSearch_SERPS!K779)),ShareOfSearch_SERPS!K779,\"\")","v":""},{"$f":"IFERROR(VLOOKUP(C779,ShareOfSearch_CTR!$A$1:$B$100,2,FALSE)*VLOOKUP(A779&B779,ShareOfSearch_Volume!$C$1:$D$1000,2,FALSE),\"\")","v":""}]
[{"$f":"IF(ISTEXT(ShareOfSearch_SERPS!C780),ShareOfSearch_SERPS!C780,\"\")","v":""},{"$f":"IF(ISTEXT(ShareOfSearch_SERPS!D780),ShareOfSearch_SERPS!D780,\"\")","v":""},{"$f":"IF(NOT(ISBLANK(ShareOfSearch_SERPS!A780)),ShareOfSearch_SERPS!A780,\"\")","v":""},{"$f":"IF(NOT(ISBLANK(ShareOfSearch_SERPS!G780)),ShareOfSearch_SERPS!G780,\"\")","v":""},{"$f":"IF(NOT(ISBLANK(ShareOfSearch_SERPS!K780)),ShareOfSearch_SERPS!K780,\"\")","v":""},{"$f":"IFERROR(VLOOKUP(C780,ShareOfSearch_CTR!$A$1:$B$100,2,FALSE)*VLOOKUP(A780&B780,ShareOfSearch_Volume!$C$1:$D$1000,2,FALSE),\"\")","v":""}]
[{"$f":"IF(ISTEXT(ShareOfSearch_SERPS!C781),ShareOfSearch_SERPS!C781,\"\")","v":""},{"$f":"IF(ISTEXT(ShareOfSearch_SERPS!D781),ShareOfSearch_SERPS!D781,\"\")","v":""},{"$f":"IF(NOT(ISBLANK(ShareOfSearch_SERPS!A781)),ShareOfSearch_SERPS!A781,\"\")","v":""},{"$f":"IF(NOT(ISBLANK(ShareOfSearch_SERPS!G781)),ShareOfSearch_SERPS!G781,\"\")","v":""},{"$f":"IF(NOT(ISBLANK(ShareOfSearch_SERPS!K781)),ShareOfSearch_SERPS!K781,\"\")","v":""},{"$f":"IFERROR(VLOOKUP(C781,ShareOfSearch_CTR!$A$1:$B$100,2,FALSE)*VLOOKUP(A781&B781,ShareOfSearch_Volume!$C$1:$D$1000,2,FALSE),\"\")","v":""}]
[{"$f":"IF(ISTEXT(ShareOfSearch_SERPS!C782),ShareOfSearch_SERPS!C782,\"\")","v":""},{"$f":"IF(ISTEXT(ShareOfSearch_SERPS!D782),ShareOfSearch_SERPS!D782,\"\")","v":""},{"$f":"IF(NOT(ISBLANK(ShareOfSearch_SERPS!A782)),ShareOfSearch_SERPS!A782,\"\")","v":""},{"$f":"IF(NOT(ISBLANK(ShareOfSearch_SERPS!G782)),ShareOfSearch_SERPS!G782,\"\")","v":""},{"$f":"IF(NOT(ISBLANK(ShareOfSearch_SERPS!K782)),ShareOfSearch_SERPS!K782,\"\")","v":""},{"$f":"IFERROR(VLOOKUP(C782,ShareOfSearch_CTR!$A$1:$B$100,2,FALSE)*VLOOKUP(A782&B782,ShareOfSearch_Volume!$C$1:$D$1000,2,FALSE),\"\")","v":""}]
[{"$f":"IF(ISTEXT(ShareOfSearch_SERPS!C783),ShareOfSearch_SERPS!C783,\"\")","v":""},{"$f":"IF(ISTEXT(ShareOfSearch_SERPS!D783),ShareOfSearch_SERPS!D783,\"\")","v":""},{"$f":"IF(NOT(ISBLANK(ShareOfSearch_SERPS!A783)),ShareOfSearch_SERPS!A783,\"\")","v":""},{"$f":"IF(NOT(ISBLANK(ShareOfSearch_SERPS!G783)),ShareOfSearch_SERPS!G783,\"\")","v":""},{"$f":"IF(NOT(ISBLANK(ShareOfSearch_SERPS!K783)),ShareOfSearch_SERPS!K783,\"\")","v":""},{"$f":"IFERROR(VLOOKUP(C783,ShareOfSearch_CTR!$A$1:$B$100,2,FALSE)*VLOOKUP(A783&B783,ShareOfSearch_Volume!$C$1:$D$1000,2,FALSE),\"\")","v":""}]
[{"$f":"IF(ISTEXT(ShareOfSearch_SERPS!C784),ShareOfSearch_SERPS!C784,\"\")","v":""},{"$f":"IF(ISTEXT(ShareOfSearch_SERPS!D784),ShareOfSearch_SERPS!D784,\"\")","v":""},{"$f":"IF(NOT(ISBLANK(ShareOfSearch_SERPS!A784)),ShareOfSearch_SERPS!A784,\"\")","v":""},{"$f":"IF(NOT(ISBLANK(ShareOfSearch_SERPS!G784)),ShareOfSearch_SERPS!G784,\"\")","v":""},{"$f":"IF(NOT(ISBLANK(ShareOfSearch_SERPS!K784)),ShareOfSearch_SERPS!K784,\"\")","v":""},{"$f":"IFERROR(VLOOKUP(C784,ShareOfSearch_CTR!$A$1:$B$100,2,FALSE)*VLOOKUP(A784&B784,ShareOfSearch_Volume!$C$1:$D$1000,2,FALSE),\"\")","v":""}]
[{"$f":"IF(ISTEXT(ShareOfSearch_SERPS!C785),ShareOfSearch_SERPS!C785,\"\")","v":""},{"$f":"IF(ISTEXT(ShareOfSearch_SERPS!D785),ShareOfSearch_SERPS!D785,\"\")","v":""},{"$f":"IF(NOT(ISBLANK(ShareOfSearch_SERPS!A785)),ShareOfSearch_SERPS!A785,\"\")","v":""},{"$f":"IF(NOT(ISBLANK(ShareOfSearch_SERPS!G785)),ShareOfSearch_SERPS!G785,\"\")","v":""},{"$f":"IF(NOT(ISBLANK(ShareOfSearch_SERPS!K785)),ShareOfSearch_SERPS!K785,\"\")","v":""},{"$f":"IFERROR(VLOOKUP(C785,ShareOfSearch_CTR!$A$1:$B$100,2,FALSE)*VLOOKUP(A785&B785,ShareOfSearch_Volume!$C$1:$D$1000,2,FALSE),\"\")","v":""}]
[{"$f":"IF(ISTEXT(ShareOfSearch_SERPS!C786),ShareOfSearch_SERPS!C786,\"\")","v":""},{"$f":"IF(ISTEXT(ShareOfSearch_SERPS!D786),ShareOfSearch_SERPS!D786,\"\")","v":""},{"$f":"IF(NOT(ISBLANK(ShareOfSearch_SERPS!A786)),ShareOfSearch_SERPS!A786,\"\")","v":""},{"$f":"IF(NOT(ISBLANK(ShareOfSearch_SERPS!G786)),ShareOfSearch_SERPS!G786,\"\")","v":""},{"$f":"IF(NOT(ISBLANK(ShareOfSearch_SERPS!K786)),ShareOfSearch_SERPS!K786,\"\")","v":""},{"$f":"IFERROR(VLOOKUP(C786,ShareOfSearch_CTR!$A$1:$B$100,2,FALSE)*VLOOKUP(A786&B786,ShareOfSearch_Volume!$C$1:$D$1000,2,FALSE),\"\")","v":""}]
[{"$f":"IF(ISTEXT(ShareOfSearch_SERPS!C787),ShareOfSearch_SERPS!C787,\"\")","v":""},{"$f":"IF(ISTEXT(ShareOfSearch_SERPS!D787),ShareOfSearch_SERPS!D787,\"\")","v":""},{"$f":"IF(NOT(ISBLANK(ShareOfSearch_SERPS!A787)),ShareOfSearch_SERPS!A787,\"\")","v":""},{"$f":"IF(NOT(ISBLANK(ShareOfSearch_SERPS!G787)),ShareOfSearch_SERPS!G787,\"\")","v":""},{"$f":"IF(NOT(ISBLANK(ShareOfSearch_SERPS!K787)),ShareOfSearch_SERPS!K787,\"\")","v":""},{"$f":"IFERROR(VLOOKUP(C787,ShareOfSearch_CTR!$A$1:$B$100,2,FALSE)*VLOOKUP(A787&B787,ShareOfSearch_Volume!$C$1:$D$1000,2,FALSE),\"\")","v":""}]
[{"$f":"IF(ISTEXT(ShareOfSearch_SERPS!C788),ShareOfSearch_SERPS!C788,\"\")","v":""},{"$f":"IF(ISTEXT(ShareOfSearch_SERPS!D788),ShareOfSearch_SERPS!D788,\"\")","v":""},{"$f":"IF(NOT(ISBLANK(ShareOfSearch_SERPS!A788)),ShareOfSearch_SERPS!A788,\"\")","v":""},{"$f":"IF(NOT(ISBLANK(ShareOfSearch_SERPS!G788)),ShareOfSearch_SERPS!G788,\"\")","v":""},{"$f":"IF(NOT(ISBLANK(ShareOfSearch_SERPS!K788)),ShareOfSearch_SERPS!K788,\"\")","v":""},{"$f":"IFERROR(VLOOKUP(C788,ShareOfSearch_CTR!$A$1:$B$100,2,FALSE)*VLOOKUP(A788&B788,ShareOfSearch_Volume!$C$1:$D$1000,2,FALSE),\"\")","v":""}]
[{"$f":"IF(ISTEXT(ShareOfSearch_SERPS!C789),ShareOfSearch_SERPS!C789,\"\")","v":""},{"$f":"IF(ISTEXT(ShareOfSearch_SERPS!D789),ShareOfSearch_SERPS!D789,\"\")","v":""},{"$f":"IF(NOT(ISBLANK(ShareOfSearch_SERPS!A789)),ShareOfSearch_SERPS!A789,\"\")","v":""},{"$f":"IF(NOT(ISBLANK(ShareOfSearch_SERPS!G789)),ShareOfSearch_SERPS!G789,\"\")","v":""},{"$f":"IF(NOT(ISBLANK(ShareOfSearch_SERPS!K789)),ShareOfSearch_SERPS!K789,\"\")","v":""},{"$f":"IFERROR(VLOOKUP(C789,ShareOfSearch_CTR!$A$1:$B$100,2,FALSE)*VLOOKUP(A789&B789,ShareOfSearch_Volume!$C$1:$D$1000,2,FALSE),\"\")","v":""}]
[{"$f":"IF(ISTEXT(ShareOfSearch_SERPS!C790),ShareOfSearch_SERPS!C790,\"\")","v":""},{"$f":"IF(ISTEXT(ShareOfSearch_SERPS!D790),ShareOfSearch_SERPS!D790,\"\")","v":""},{"$f":"IF(NOT(ISBLANK(ShareOfSearch_SERPS!A790)),ShareOfSearch_SERPS!A790,\"\")","v":""},{"$f":"IF(NOT(ISBLANK(ShareOfSearch_SERPS!G790)),ShareOfSearch_SERPS!G790,\"\")","v":""},{"$f":"IF(NOT(ISBLANK(ShareOfSearch_SERPS!K790)),ShareOfSearch_SERPS!K790,\"\")","v":""},{"$f":"IFERROR(VLOOKUP(C790,ShareOfSearch_CTR!$A$1:$B$100,2,FALSE)*VLOOKUP(A790&B790,ShareOfSearch_Volume!$C$1:$D$1000,2,FALSE),\"\")","v":""}]
[{"$f":"IF(ISTEXT(ShareOfSearch_SERPS!C791),ShareOfSearch_SERPS!C791,\"\")","v":""},{"$f":"IF(ISTEXT(ShareOfSearch_SERPS!D791),ShareOfSearch_SERPS!D791,\"\")","v":""},{"$f":"IF(NOT(ISBLANK(ShareOfSearch_SERPS!A791)),ShareOfSearch_SERPS!A791,\"\")","v":""},{"$f":"IF(NOT(ISBLANK(ShareOfSearch_SERPS!G791)),ShareOfSearch_SERPS!G791,\"\")","v":""},{"$f":"IF(NOT(ISBLANK(ShareOfSearch_SERPS!K791)),ShareOfSearch_SERPS!K791,\"\")","v":""},{"$f":"IFERROR(VLOOKUP(C791,ShareOfSearch_CTR!$A$1:$B$100,2,FALSE)*VLOOKUP(A791&B791,ShareOfSearch_Volume!$C$1:$D$1000,2,FALSE),\"\")","v":""}]
[{"$f":"IF(ISTEXT(ShareOfSearch_SERPS!C792),ShareOfSearch_SERPS!C792,\"\")","v":""},{"$f":"IF(ISTEXT(ShareOfSearch_SERPS!D792),ShareOfSearch_SERPS!D792,\"\")","v":""},{"$f":"IF(NOT(ISBLANK(ShareOfSearch_SERPS!A792)),ShareOfSearch_SERPS!A792,\"\")","v":""},{"$f":"IF(NOT(ISBLANK(ShareOfSearch_SERPS!G792)),ShareOfSearch_SERPS!G792,\"\")","v":""},{"$f":"IF(NOT(ISBLANK(ShareOfSearch_SERPS!K792)),ShareOfSearch_SERPS!K792,\"\")","v":""},{"$f":"IFERROR(VLOOKUP(C792,ShareOfSearch_CTR!$A$1:$B$100,2,FALSE)*VLOOKUP(A792&B792,ShareOfSearch_Volume!$C$1:$D$1000,2,FALSE),\"\")","v":""}]
[{"$f":"IF(ISTEXT(ShareOfSearch_SERPS!C793),ShareOfSearch_SERPS!C793,\"\")","v":""},{"$f":"IF(ISTEXT(ShareOfSearch_SERPS!D793),ShareOfSearch_SERPS!D793,\"\")","v":""},{"$f":"IF(NOT(ISBLANK(ShareOfSearch_SERPS!A793)),ShareOfSearch_SERPS!A793,\"\")","v":""},{"$f":"IF(NOT(ISBLANK(ShareOfSearch_SERPS!G793)),ShareOfSearch_SERPS!G793,\"\")","v":""},{"$f":"IF(NOT(ISBLANK(ShareOfSearch_SERPS!K793)),ShareOfSearch_SERPS!K793,\"\")","v":""},{"$f":"IFERROR(VLOOKUP(C793,ShareOfSearch_CTR!$A$1:$B$100,2,FALSE)*VLOOKUP(A793&B793,ShareOfSearch_Volume!$C$1:$D$1000,2,FALSE),\"\")","v":""}]
[{"$f":"IF(ISTEXT(ShareOfSearch_SERPS!C794),ShareOfSearch_SERPS!C794,\"\")","v":""},{"$f":"IF(ISTEXT(ShareOfSearch_SERPS!D794),ShareOfSearch_SERPS!D794,\"\")","v":""},{"$f":"IF(NOT(ISBLANK(ShareOfSearch_SERPS!A794)),ShareOfSearch_SERPS!A794,\"\")","v":""},{"$f":"IF(NOT(ISBLANK(ShareOfSearch_SERPS!G794)),ShareOfSearch_SERPS!G794,\"\")","v":""},{"$f":"IF(NOT(ISBLANK(ShareOfSearch_SERPS!K794)),ShareOfSearch_SERPS!K794,\"\")","v":""},{"$f":"IFERROR(VLOOKUP(C794,ShareOfSearch_CTR!$A$1:$B$100,2,FALSE)*VLOOKUP(A794&B794,ShareOfSearch_Volume!$C$1:$D$1000,2,FALSE),\"\")","v":""}]
[{"$f":"IF(ISTEXT(ShareOfSearch_SERPS!C795),ShareOfSearch_SERPS!C795,\"\")","v":""},{"$f":"IF(ISTEXT(ShareOfSearch_SERPS!D795),ShareOfSearch_SERPS!D795,\"\")","v":""},{"$f":"IF(NOT(ISBLANK(ShareOfSearch_SERPS!A795)),ShareOfSearch_SERPS!A795,\"\")","v":""},{"$f":"IF(NOT(ISBLANK(ShareOfSearch_SERPS!G795)),ShareOfSearch_SERPS!G795,\"\")","v":""},{"$f":"IF(NOT(ISBLANK(ShareOfSearch_SERPS!K795)),ShareOfSearch_SERPS!K795,\"\")","v":""},{"$f":"IFERROR(VLOOKUP(C795,ShareOfSearch_CTR!$A$1:$B$100,2,FALSE)*VLOOKUP(A795&B795,ShareOfSearch_Volume!$C$1:$D$1000,2,FALSE),\"\")","v":""}]
[{"$f":"IF(ISTEXT(ShareOfSearch_SERPS!C796),ShareOfSearch_SERPS!C796,\"\")","v":""},{"$f":"IF(ISTEXT(ShareOfSearch_SERPS!D796),ShareOfSearch_SERPS!D796,\"\")","v":""},{"$f":"IF(NOT(ISBLANK(ShareOfSearch_SERPS!A796)),ShareOfSearch_SERPS!A796,\"\")","v":""},{"$f":"IF(NOT(ISBLANK(ShareOfSearch_SERPS!G796)),ShareOfSearch_SERPS!G796,\"\")","v":""},{"$f":"IF(NOT(ISBLANK(ShareOfSearch_SERPS!K796)),ShareOfSearch_SERPS!K796,\"\")","v":""},{"$f":"IFERROR(VLOOKUP(C796,ShareOfSearch_CTR!$A$1:$B$100,2,FALSE)*VLOOKUP(A796&B796,ShareOfSearch_Volume!$C$1:$D$1000,2,FALSE),\"\")","v":""}]
[{"$f":"IF(ISTEXT(ShareOfSearch_SERPS!C797),ShareOfSearch_SERPS!C797,\"\")","v":""},{"$f":"IF(ISTEXT(ShareOfSearch_SERPS!D797),ShareOfSearch_SERPS!D797,\"\")","v":""},{"$f":"IF(NOT(ISBLANK(ShareOfSearch_SERPS!A797)),ShareOfSearch_SERPS!A797,\"\")","v":""},{"$f":"IF(NOT(ISBLANK(ShareOfSearch_SERPS!G797)),ShareOfSearch_SERPS!G797,\"\")","v":""},{"$f":"IF(NOT(ISBLANK(ShareOfSearch_SERPS!K797)),ShareOfSearch_SERPS!K797,\"\")","v":""},{"$f":"IFERROR(VLOOKUP(C797,ShareOfSearch_CTR!$A$1:$B$100,2,FALSE)*VLOOKUP(A797&B797,ShareOfSearch_Volume!$C$1:$D$1000,2,FALSE),\"\")","v":""}]
[{"$f":"IF(ISTEXT(ShareOfSearch_SERPS!C798),ShareOfSearch_SERPS!C798,\"\")","v":""},{"$f":"IF(ISTEXT(ShareOfSearch_SERPS!D798),ShareOfSearch_SERPS!D798,\"\")","v":""},{"$f":"IF(NOT(ISBLANK(ShareOfSearch_SERPS!A798)),ShareOfSearch_SERPS!A798,\"\")","v":""},{"$f":"IF(NOT(ISBLANK(ShareOfSearch_SERPS!G798)),ShareOfSearch_SERPS!G798,\"\")","v":""},{"$f":"IF(NOT(ISBLANK(ShareOfSearch_SERPS!K798)),ShareOfSearch_SERPS!K798,\"\")","v":""},{"$f":"IFERROR(VLOOKUP(C798,ShareOfSearch_CTR!$A$1:$B$100,2,FALSE)*VLOOKUP(A798&B798,ShareOfSearch_Volume!$C$1:$D$1000,2,FALSE),\"\")","v":""}]
[{"$f":"IF(ISTEXT(ShareOfSearch_SERPS!C799),ShareOfSearch_SERPS!C799,\"\")","v":""},{"$f":"IF(ISTEXT(ShareOfSearch_SERPS!D799),ShareOfSearch_SERPS!D799,\"\")","v":""},{"$f":"IF(NOT(ISBLANK(ShareOfSearch_SERPS!A799)),ShareOfSearch_SERPS!A799,\"\")","v":""},{"$f":"IF(NOT(ISBLANK(ShareOfSearch_SERPS!G799)),ShareOfSearch_SERPS!G799,\"\")","v":""},{"$f":"IF(NOT(ISBLANK(ShareOfSearch_SERPS!K799)),ShareOfSearch_SERPS!K799,\"\")","v":""},{"$f":"IFERROR(VLOOKUP(C799,ShareOfSearch_CTR!$A$1:$B$100,2,FALSE)*VLOOKUP(A799&B799,ShareOfSearch_Volume!$C$1:$D$1000,2,FALSE),\"\")","v":""}]
[{"$f":"IF(ISTEXT(ShareOfSearch_SERPS!C800),ShareOfSearch_SERPS!C800,\"\")","v":""},{"$f":"IF(ISTEXT(ShareOfSearch_SERPS!D800),ShareOfSearch_SERPS!D800,\"\")","v":""},{"$f":"IF(NOT(ISBLANK(ShareOfSearch_SERPS!A800)),ShareOfSearch_SERPS!A800,\"\")","v":""},{"$f":"IF(NOT(ISBLANK(ShareOfSearch_SERPS!G800)),ShareOfSearch_SERPS!G800,\"\")","v":""},{"$f":"IF(NOT(ISBLANK(ShareOfSearch_SERPS!K800)),ShareOfSearch_SERPS!K800,\"\")","v":""},{"$f":"IFERROR(VLOOKUP(C800,ShareOfSearch_CTR!$A$1:$B$100,2,FALSE)*VLOOKUP(A800&B800,ShareOfSearch_Volume!$C$1:$D$1000,2,FALSE),\"\")","v":""}]
[{"$f":"IF(ISTEXT(ShareOfSearch_SERPS!C801),ShareOfSearch_SERPS!C801,\"\")","v":""},{"$f":"IF(ISTEXT(ShareOfSearch_SERPS!D801),ShareOfSearch_SERPS!D801,\"\")","v":""},{"$f":"IF(NOT(ISBLANK(ShareOfSearch_SERPS!A801)),ShareOfSearch_SERPS!A801,\"\")","v":""},{"$f":"IF(NOT(ISBLANK(ShareOfSearch_SERPS!G801)),ShareOfSearch_SERPS!G801,\"\")","v":""},{"$f":"IF(NOT(ISBLANK(ShareOfSearch_SERPS!K801)),ShareOfSearch_SERPS!K801,\"\")","v":""},{"$f":"IFERROR(VLOOKUP(C801,ShareOfSearch_CTR!$A$1:$B$100,2,FALSE)*VLOOKUP(A801&B801,ShareOfSearch_Volume!$C$1:$D$1000,2,FALSE),\"\")","v":""}]
[{"$f":"IF(ISTEXT(ShareOfSearch_SERPS!C802),ShareOfSearch_SERPS!C802,\"\")","v":""},{"$f":"IF(ISTEXT(ShareOfSearch_SERPS!D802),ShareOfSearch_SERPS!D802,\"\")","v":""},{"$f":"IF(NOT(ISBLANK(ShareOfSearch_SERPS!A802)),ShareOfSearch_SERPS!A802,\"\")","v":""},{"$f":"IF(NOT(ISBLANK(ShareOfSearch_SERPS!G802)),ShareOfSearch_SERPS!G802,\"\")","v":""},{"$f":"IF(NOT(ISBLANK(ShareOfSearch_SERPS!K802)),ShareOfSearch_SERPS!K802,\"\")","v":""},{"$f":"IFERROR(VLOOKUP(C802,ShareOfSearch_CTR!$A$1:$B$100,2,FALSE)*VLOOKUP(A802&B802,ShareOfSearch_Volume!$C$1:$D$1000,2,FALSE),\"\")","v":""}]
[{"$f":"IF(ISTEXT(ShareOfSearch_SERPS!C803),ShareOfSearch_SERPS!C803,\"\")","v":""},{"$f":"IF(ISTEXT(ShareOfSearch_SERPS!D803),ShareOfSearch_SERPS!D803,\"\")","v":""},{"$f":"IF(NOT(ISBLANK(ShareOfSearch_SERPS!A803)),ShareOfSearch_SERPS!A803,\"\")","v":""},{"$f":"IF(NOT(ISBLANK(ShareOfSearch_SERPS!G803)),ShareOfSearch_SERPS!G803,\"\")","v":""},{"$f":"IF(NOT(ISBLANK(ShareOfSearch_SERPS!K803)),ShareOfSearch_SERPS!K803,\"\")","v":""},{"$f":"IFERROR(VLOOKUP(C803,ShareOfSearch_CTR!$A$1:$B$100,2,FALSE)*VLOOKUP(A803&B803,ShareOfSearch_Volume!$C$1:$D$1000,2,FALSE),\"\")","v":""}]
[{"$f":"IF(ISTEXT(ShareOfSearch_SERPS!C804),ShareOfSearch_SERPS!C804,\"\")","v":""},{"$f":"IF(ISTEXT(ShareOfSearch_SERPS!D804),ShareOfSearch_SERPS!D804,\"\")","v":""},{"$f":"IF(NOT(ISBLANK(ShareOfSearch_SERPS!A804)),ShareOfSearch_SERPS!A804,\"\")","v":""},{"$f":"IF(NOT(ISBLANK(ShareOfSearch_SERPS!G804)),ShareOfSearch_SERPS!G804,\"\")","v":""},{"$f":"IF(NOT(ISBLANK(ShareOfSearch_SERPS!K804)),ShareOfSearch_SERPS!K804,\"\")","v":""},{"$f":"IFERROR(VLOOKUP(C804,ShareOfSearch_CTR!$A$1:$B$100,2,FALSE)*VLOOKUP(A804&B804,ShareOfSearch_Volume!$C$1:$D$1000,2,FALSE),\"\")","v":""}]
[{"$f":"IF(ISTEXT(ShareOfSearch_SERPS!C805),ShareOfSearch_SERPS!C805,\"\")","v":""},{"$f":"IF(ISTEXT(ShareOfSearch_SERPS!D805),ShareOfSearch_SERPS!D805,\"\")","v":""},{"$f":"IF(NOT(ISBLANK(ShareOfSearch_SERPS!A805)),ShareOfSearch_SERPS!A805,\"\")","v":""},{"$f":"IF(NOT(ISBLANK(ShareOfSearch_SERPS!G805)),ShareOfSearch_SERPS!G805,\"\")","v":""},{"$f":"IF(NOT(ISBLANK(ShareOfSearch_SERPS!K805)),ShareOfSearch_SERPS!K805,\"\")","v":""},{"$f":"IFERROR(VLOOKUP(C805,ShareOfSearch_CTR!$A$1:$B$100,2,FALSE)*VLOOKUP(A805&B805,ShareOfSearch_Volume!$C$1:$D$1000,2,FALSE),\"\")","v":""}]
[{"$f":"IF(ISTEXT(ShareOfSearch_SERPS!C806),ShareOfSearch_SERPS!C806,\"\")","v":""},{"$f":"IF(ISTEXT(ShareOfSearch_SERPS!D806),ShareOfSearch_SERPS!D806,\"\")","v":""},{"$f":"IF(NOT(ISBLANK(ShareOfSearch_SERPS!A806)),ShareOfSearch_SERPS!A806,\"\")","v":""},{"$f":"IF(NOT(ISBLANK(ShareOfSearch_SERPS!G806)),ShareOfSearch_SERPS!G806,\"\")","v":""},{"$f":"IF(NOT(ISBLANK(ShareOfSearch_SERPS!K806)),ShareOfSearch_SERPS!K806,\"\")","v":""},{"$f":"IFERROR(VLOOKUP(C806,ShareOfSearch_CTR!$A$1:$B$100,2,FALSE)*VLOOKUP(A806&B806,ShareOfSearch_Volume!$C$1:$D$1000,2,FALSE),\"\")","v":""}]
[{"$f":"IF(ISTEXT(ShareOfSearch_SERPS!C807),ShareOfSearch_SERPS!C807,\"\")","v":""},{"$f":"IF(ISTEXT(ShareOfSearch_SERPS!D807),ShareOfSearch_SERPS!D807,\"\")","v":""},{"$f":"IF(NOT(ISBLANK(ShareOfSearch_SERPS!A807)),ShareOfSearch_SERPS!A807,\"\")","v":""},{"$f":"IF(NOT(ISBLANK(ShareOfSearch_SERPS!G807)),ShareOfSearch_SERPS!G807,\"\")","v":""},{"$f":"IF(NOT(ISBLANK(ShareOfSearch_SERPS!K807)),ShareOfSearch_SERPS!K807,\"\")","v":""},{"$f":"IFERROR(VLOOKUP(C807,ShareOfSearch_CTR!$A$1:$B$100,2,FALSE)*VLOOKUP(A807&B807,ShareOfSearch_Volume!$C$1:$D$1000,2,FALSE),\"\")","v":""}]
[{"$f":"IF(ISTEXT(ShareOfSearch_SERPS!C808),ShareOfSearch_SERPS!C808,\"\")","v":""},{"$f":"IF(ISTEXT(ShareOfSearch_SERPS!D808),ShareOfSearch_SERPS!D808,\"\")","v":""},{"$f":"IF(NOT(ISBLANK(ShareOfSearch_SERPS!A808)),ShareOfSearch_SERPS!A808,\"\")","v":""},{"$f":"IF(NOT(ISBLANK(ShareOfSearch_SERPS!G808)),ShareOfSearch_SERPS!G808,\"\")","v":""},{"$f":"IF(NOT(ISBLANK(ShareOfSearch_SERPS!K808)),ShareOfSearch_SERPS!K808,\"\")","v":""},{"$f":"IFERROR(VLOOKUP(C808,ShareOfSearch_CTR!$A$1:$B$100,2,FALSE)*VLOOKUP(A808&B808,ShareOfSearch_Volume!$C$1:$D$1000,2,FALSE),\"\")","v":""}]
[{"$f":"IF(ISTEXT(ShareOfSearch_SERPS!C809),ShareOfSearch_SERPS!C809,\"\")","v":""},{"$f":"IF(ISTEXT(ShareOfSearch_SERPS!D809),ShareOfSearch_SERPS!D809,\"\")","v":""},{"$f":"IF(NOT(ISBLANK(ShareOfSearch_SERPS!A809)),ShareOfSearch_SERPS!A809,\"\")","v":""},{"$f":"IF(NOT(ISBLANK(ShareOfSearch_SERPS!G809)),ShareOfSearch_SERPS!G809,\"\")","v":""},{"$f":"IF(NOT(ISBLANK(ShareOfSearch_SERPS!K809)),ShareOfSearch_SERPS!K809,\"\")","v":""},{"$f":"IFERROR(VLOOKUP(C809,ShareOfSearch_CTR!$A$1:$B$100,2,FALSE)*VLOOKUP(A809&B809,ShareOfSearch_Volume!$C$1:$D$1000,2,FALSE),\"\")","v":""}]
[{"$f":"IF(ISTEXT(ShareOfSearch_SERPS!C810),ShareOfSearch_SERPS!C810,\"\")","v":""},{"$f":"IF(ISTEXT(ShareOfSearch_SERPS!D810),ShareOfSearch_SERPS!D810,\"\")","v":""},{"$f":"IF(NOT(ISBLANK(ShareOfSearch_SERPS!A810)),ShareOfSearch_SERPS!A810,\"\")","v":""},{"$f":"IF(NOT(ISBLANK(ShareOfSearch_SERPS!G810)),ShareOfSearch_SERPS!G810,\"\")","v":""},{"$f":"IF(NOT(ISBLANK(ShareOfSearch_SERPS!K810)),ShareOfSearch_SERPS!K810,\"\")","v":""},{"$f":"IFERROR(VLOOKUP(C810,ShareOfSearch_CTR!$A$1:$B$100,2,FALSE)*VLOOKUP(A810&B810,ShareOfSearch_Volume!$C$1:$D$1000,2,FALSE),\"\")","v":""}]
[{"$f":"IF(ISTEXT(ShareOfSearch_SERPS!C811),ShareOfSearch_SERPS!C811,\"\")","v":""},{"$f":"IF(ISTEXT(ShareOfSearch_SERPS!D811),ShareOfSearch_SERPS!D811,\"\")","v":""},{"$f":"IF(NOT(ISBLANK(ShareOfSearch_SERPS!A811)),ShareOfSearch_SERPS!A811,\"\")","v":""},{"$f":"IF(NOT(ISBLANK(ShareOfSearch_SERPS!G811)),ShareOfSearch_SERPS!G811,\"\")","v":""},{"$f":"IF(NOT(ISBLANK(ShareOfSearch_SERPS!K811)),ShareOfSearch_SERPS!K811,\"\")","v":""},{"$f":"IFERROR(VLOOKUP(C811,ShareOfSearch_CTR!$A$1:$B$100,2,FALSE)*VLOOKUP(A811&B811,ShareOfSearch_Volume!$C$1:$D$1000,2,FALSE),\"\")","v":""}]
[{"$f":"IF(ISTEXT(ShareOfSearch_SERPS!C812),ShareOfSearch_SERPS!C812,\"\")","v":""},{"$f":"IF(ISTEXT(ShareOfSearch_SERPS!D812),ShareOfSearch_SERPS!D812,\"\")","v":""},{"$f":"IF(NOT(ISBLANK(ShareOfSearch_SERPS!A812)),ShareOfSearch_SERPS!A812,\"\")","v":""},{"$f":"IF(NOT(ISBLANK(ShareOfSearch_SERPS!G812)),ShareOfSearch_SERPS!G812,\"\")","v":""},{"$f":"IF(NOT(ISBLANK(ShareOfSearch_SERPS!K812)),ShareOfSearch_SERPS!K812,\"\")","v":""},{"$f":"IFERROR(VLOOKUP(C812,ShareOfSearch_CTR!$A$1:$B$100,2,FALSE)*VLOOKUP(A812&B812,ShareOfSearch_Volume!$C$1:$D$1000,2,FALSE),\"\")","v":""}]
[{"$f":"IF(ISTEXT(ShareOfSearch_SERPS!C813),ShareOfSearch_SERPS!C813,\"\")","v":""},{"$f":"IF(ISTEXT(ShareOfSearch_SERPS!D813),ShareOfSearch_SERPS!D813,\"\")","v":""},{"$f":"IF(NOT(ISBLANK(ShareOfSearch_SERPS!A813)),ShareOfSearch_SERPS!A813,\"\")","v":""},{"$f":"IF(NOT(ISBLANK(ShareOfSearch_SERPS!G813)),ShareOfSearch_SERPS!G813,\"\")","v":""},{"$f":"IF(NOT(ISBLANK(ShareOfSearch_SERPS!K813)),ShareOfSearch_SERPS!K813,\"\")","v":""},{"$f":"IFERROR(VLOOKUP(C813,ShareOfSearch_CTR!$A$1:$B$100,2,FALSE)*VLOOKUP(A813&B813,ShareOfSearch_Volume!$C$1:$D$1000,2,FALSE),\"\")","v":""}]
[{"$f":"IF(ISTEXT(ShareOfSearch_SERPS!C814),ShareOfSearch_SERPS!C814,\"\")","v":""},{"$f":"IF(ISTEXT(ShareOfSearch_SERPS!D814),ShareOfSearch_SERPS!D814,\"\")","v":""},{"$f":"IF(NOT(ISBLANK(ShareOfSearch_SERPS!A814)),ShareOfSearch_SERPS!A814,\"\")","v":""},{"$f":"IF(NOT(ISBLANK(ShareOfSearch_SERPS!G814)),ShareOfSearch_SERPS!G814,\"\")","v":""},{"$f":"IF(NOT(ISBLANK(ShareOfSearch_SERPS!K814)),ShareOfSearch_SERPS!K814,\"\")","v":""},{"$f":"IFERROR(VLOOKUP(C814,ShareOfSearch_CTR!$A$1:$B$100,2,FALSE)*VLOOKUP(A814&B814,ShareOfSearch_Volume!$C$1:$D$1000,2,FALSE),\"\")","v":""}]
[{"$f":"IF(ISTEXT(ShareOfSearch_SERPS!C815),ShareOfSearch_SERPS!C815,\"\")","v":""},{"$f":"IF(ISTEXT(ShareOfSearch_SERPS!D815),ShareOfSearch_SERPS!D815,\"\")","v":""},{"$f":"IF(NOT(ISBLANK(ShareOfSearch_SERPS!A815)),ShareOfSearch_SERPS!A815,\"\")","v":""},{"$f":"IF(NOT(ISBLANK(ShareOfSearch_SERPS!G815)),ShareOfSearch_SERPS!G815,\"\")","v":""},{"$f":"IF(NOT(ISBLANK(ShareOfSearch_SERPS!K815)),ShareOfSearch_SERPS!K815,\"\")","v":""},{"$f":"IFERROR(VLOOKUP(C815,ShareOfSearch_CTR!$A$1:$B$100,2,FALSE)*VLOOKUP(A815&B815,ShareOfSearch_Volume!$C$1:$D$1000,2,FALSE),\"\")","v":""}]
[{"$f":"IF(ISTEXT(ShareOfSearch_SERPS!C816),ShareOfSearch_SERPS!C816,\"\")","v":""},{"$f":"IF(ISTEXT(ShareOfSearch_SERPS!D816),ShareOfSearch_SERPS!D816,\"\")","v":""},{"$f":"IF(NOT(ISBLANK(ShareOfSearch_SERPS!A816)),ShareOfSearch_SERPS!A816,\"\")","v":""},{"$f":"IF(NOT(ISBLANK(ShareOfSearch_SERPS!G816)),ShareOfSearch_SERPS!G816,\"\")","v":""},{"$f":"IF(NOT(ISBLANK(ShareOfSearch_SERPS!K816)),ShareOfSearch_SERPS!K816,\"\")","v":""},{"$f":"IFERROR(VLOOKUP(C816,ShareOfSearch_CTR!$A$1:$B$100,2,FALSE)*VLOOKUP(A816&B816,ShareOfSearch_Volume!$C$1:$D$1000,2,FALSE),\"\")","v":""}]
[{"$f":"IF(ISTEXT(ShareOfSearch_SERPS!C817),ShareOfSearch_SERPS!C817,\"\")","v":""},{"$f":"IF(ISTEXT(ShareOfSearch_SERPS!D817),ShareOfSearch_SERPS!D817,\"\")","v":""},{"$f":"IF(NOT(ISBLANK(ShareOfSearch_SERPS!A817)),ShareOfSearch_SERPS!A817,\"\")","v":""},{"$f":"IF(NOT(ISBLANK(ShareOfSearch_SERPS!G817)),ShareOfSearch_SERPS!G817,\"\")","v":""},{"$f":"IF(NOT(ISBLANK(ShareOfSearch_SERPS!K817)),ShareOfSearch_SERPS!K817,\"\")","v":""},{"$f":"IFERROR(VLOOKUP(C817,ShareOfSearch_CTR!$A$1:$B$100,2,FALSE)*VLOOKUP(A817&B817,ShareOfSearch_Volume!$C$1:$D$1000,2,FALSE),\"\")","v":""}]
[{"$f":"IF(ISTEXT(ShareOfSearch_SERPS!C818),ShareOfSearch_SERPS!C818,\"\")","v":""},{"$f":"IF(ISTEXT(ShareOfSearch_SERPS!D818),ShareOfSearch_SERPS!D818,\"\")","v":""},{"$f":"IF(NOT(ISBLANK(ShareOfSearch_SERPS!A818)),ShareOfSearch_SERPS!A818,\"\")","v":""},{"$f":"IF(NOT(ISBLANK(ShareOfSearch_SERPS!G818)),ShareOfSearch_SERPS!G818,\"\")","v":""},{"$f":"IF(NOT(ISBLANK(ShareOfSearch_SERPS!K818)),ShareOfSearch_SERPS!K818,\"\")","v":""},{"$f":"IFERROR(VLOOKUP(C818,ShareOfSearch_CTR!$A$1:$B$100,2,FALSE)*VLOOKUP(A818&B818,ShareOfSearch_Volume!$C$1:$D$1000,2,FALSE),\"\")","v":""}]
[{"$f":"IF(ISTEXT(ShareOfSearch_SERPS!C819),ShareOfSearch_SERPS!C819,\"\")","v":""},{"$f":"IF(ISTEXT(ShareOfSearch_SERPS!D819),ShareOfSearch_SERPS!D819,\"\")","v":""},{"$f":"IF(NOT(ISBLANK(ShareOfSearch_SERPS!A819)),ShareOfSearch_SERPS!A819,\"\")","v":""},{"$f":"IF(NOT(ISBLANK(ShareOfSearch_SERPS!G819)),ShareOfSearch_SERPS!G819,\"\")","v":""},{"$f":"IF(NOT(ISBLANK(ShareOfSearch_SERPS!K819)),ShareOfSearch_SERPS!K819,\"\")","v":""},{"$f":"IFERROR(VLOOKUP(C819,ShareOfSearch_CTR!$A$1:$B$100,2,FALSE)*VLOOKUP(A819&B819,ShareOfSearch_Volume!$C$1:$D$1000,2,FALSE),\"\")","v":""}]
[{"$f":"IF(ISTEXT(ShareOfSearch_SERPS!C820),ShareOfSearch_SERPS!C820,\"\")","v":""},{"$f":"IF(ISTEXT(ShareOfSearch_SERPS!D820),ShareOfSearch_SERPS!D820,\"\")","v":""},{"$f":"IF(NOT(ISBLANK(ShareOfSearch_SERPS!A820)),ShareOfSearch_SERPS!A820,\"\")","v":""},{"$f":"IF(NOT(ISBLANK(ShareOfSearch_SERPS!G820)),ShareOfSearch_SERPS!G820,\"\")","v":""},{"$f":"IF(NOT(ISBLANK(ShareOfSearch_SERPS!K820)),ShareOfSearch_SERPS!K820,\"\")","v":""},{"$f":"IFERROR(VLOOKUP(C820,ShareOfSearch_CTR!$A$1:$B$100,2,FALSE)*VLOOKUP(A820&B820,ShareOfSearch_Volume!$C$1:$D$1000,2,FALSE),\"\")","v":""}]
[{"$f":"IF(ISTEXT(ShareOfSearch_SERPS!C821),ShareOfSearch_SERPS!C821,\"\")","v":""},{"$f":"IF(ISTEXT(ShareOfSearch_SERPS!D821),ShareOfSearch_SERPS!D821,\"\")","v":""},{"$f":"IF(NOT(ISBLANK(ShareOfSearch_SERPS!A821)),ShareOfSearch_SERPS!A821,\"\")","v":""},{"$f":"IF(NOT(ISBLANK(ShareOfSearch_SERPS!G821)),ShareOfSearch_SERPS!G821,\"\")","v":""},{"$f":"IF(NOT(ISBLANK(ShareOfSearch_SERPS!K821)),ShareOfSearch_SERPS!K821,\"\")","v":""},{"$f":"IFERROR(VLOOKUP(C821,ShareOfSearch_CTR!$A$1:$B$100,2,FALSE)*VLOOKUP(A821&B821,ShareOfSearch_Volume!$C$1:$D$1000,2,FALSE),\"\")","v":""}]
[{"$f":"IF(ISTEXT(ShareOfSearch_SERPS!C822),ShareOfSearch_SERPS!C822,\"\")","v":""},{"$f":"IF(ISTEXT(ShareOfSearch_SERPS!D822),ShareOfSearch_SERPS!D822,\"\")","v":""},{"$f":"IF(NOT(ISBLANK(ShareOfSearch_SERPS!A822)),ShareOfSearch_SERPS!A822,\"\")","v":""},{"$f":"IF(NOT(ISBLANK(ShareOfSearch_SERPS!G822)),ShareOfSearch_SERPS!G822,\"\")","v":""},{"$f":"IF(NOT(ISBLANK(ShareOfSearch_SERPS!K822)),ShareOfSearch_SERPS!K822,\"\")","v":""},{"$f":"IFERROR(VLOOKUP(C822,ShareOfSearch_CTR!$A$1:$B$100,2,FALSE)*VLOOKUP(A822&B822,ShareOfSearch_Volume!$C$1:$D$1000,2,FALSE),\"\")","v":""}]
[{"$f":"IF(ISTEXT(ShareOfSearch_SERPS!C823),ShareOfSearch_SERPS!C823,\"\")","v":""},{"$f":"IF(ISTEXT(ShareOfSearch_SERPS!D823),ShareOfSearch_SERPS!D823,\"\")","v":""},{"$f":"IF(NOT(ISBLANK(ShareOfSearch_SERPS!A823)),ShareOfSearch_SERPS!A823,\"\")","v":""},{"$f":"IF(NOT(ISBLANK(ShareOfSearch_SERPS!G823)),ShareOfSearch_SERPS!G823,\"\")","v":""},{"$f":"IF(NOT(ISBLANK(ShareOfSearch_SERPS!K823)),ShareOfSearch_SERPS!K823,\"\")","v":""},{"$f":"IFERROR(VLOOKUP(C823,ShareOfSearch_CTR!$A$1:$B$100,2,FALSE)*VLOOKUP(A823&B823,ShareOfSearch_Volume!$C$1:$D$1000,2,FALSE),\"\")","v":""}]
[{"$f":"IF(ISTEXT(ShareOfSearch_SERPS!C824),ShareOfSearch_SERPS!C824,\"\")","v":""},{"$f":"IF(ISTEXT(ShareOfSearch_SERPS!D824),ShareOfSearch_SERPS!D824,\"\")","v":""},{"$f":"IF(NOT(ISBLANK(ShareOfSearch_SERPS!A824)),ShareOfSearch_SERPS!A824,\"\")","v":""},{"$f":"IF(NOT(ISBLANK(ShareOfSearch_SERPS!G824)),ShareOfSearch_SERPS!G824,\"\")","v":""},{"$f":"IF(NOT(ISBLANK(ShareOfSearch_SERPS!K824)),ShareOfSearch_SERPS!K824,\"\")","v":""},{"$f":"IFERROR(VLOOKUP(C824,ShareOfSearch_CTR!$A$1:$B$100,2,FALSE)*VLOOKUP(A824&B824,ShareOfSearch_Volume!$C$1:$D$1000,2,FALSE),\"\")","v":""}]
[{"$f":"IF(ISTEXT(ShareOfSearch_SERPS!C825),ShareOfSearch_SERPS!C825,\"\")","v":""},{"$f":"IF(ISTEXT(ShareOfSearch_SERPS!D825),ShareOfSearch_SERPS!D825,\"\")","v":""},{"$f":"IF(NOT(ISBLANK(ShareOfSearch_SERPS!A825)),ShareOfSearch_SERPS!A825,\"\")","v":""},{"$f":"IF(NOT(ISBLANK(ShareOfSearch_SERPS!G825)),ShareOfSearch_SERPS!G825,\"\")","v":""},{"$f":"IF(NOT(ISBLANK(ShareOfSearch_SERPS!K825)),ShareOfSearch_SERPS!K825,\"\")","v":""},{"$f":"IFERROR(VLOOKUP(C825,ShareOfSearch_CTR!$A$1:$B$100,2,FALSE)*VLOOKUP(A825&B825,ShareOfSearch_Volume!$C$1:$D$1000,2,FALSE),\"\")","v":""}]
[{"$f":"IF(ISTEXT(ShareOfSearch_SERPS!C826),ShareOfSearch_SERPS!C826,\"\")","v":""},{"$f":"IF(ISTEXT(ShareOfSearch_SERPS!D826),ShareOfSearch_SERPS!D826,\"\")","v":""},{"$f":"IF(NOT(ISBLANK(ShareOfSearch_SERPS!A826)),ShareOfSearch_SERPS!A826,\"\")","v":""},{"$f":"IF(NOT(ISBLANK(ShareOfSearch_SERPS!G826)),ShareOfSearch_SERPS!G826,\"\")","v":""},{"$f":"IF(NOT(ISBLANK(ShareOfSearch_SERPS!K826)),ShareOfSearch_SERPS!K826,\"\")","v":""},{"$f":"IFERROR(VLOOKUP(C826,ShareOfSearch_CTR!$A$1:$B$100,2,FALSE)*VLOOKUP(A826&B826,ShareOfSearch_Volume!$C$1:$D$1000,2,FALSE),\"\")","v":""}]
[{"$f":"IF(ISTEXT(ShareOfSearch_SERPS!C827),ShareOfSearch_SERPS!C827,\"\")","v":""},{"$f":"IF(ISTEXT(ShareOfSearch_SERPS!D827),ShareOfSearch_SERPS!D827,\"\")","v":""},{"$f":"IF(NOT(ISBLANK(ShareOfSearch_SERPS!A827)),ShareOfSearch_SERPS!A827,\"\")","v":""},{"$f":"IF(NOT(ISBLANK(ShareOfSearch_SERPS!G827)),ShareOfSearch_SERPS!G827,\"\")","v":""},{"$f":"IF(NOT(ISBLANK(ShareOfSearch_SERPS!K827)),ShareOfSearch_SERPS!K827,\"\")","v":""},{"$f":"IFERROR(VLOOKUP(C827,ShareOfSearch_CTR!$A$1:$B$100,2,FALSE)*VLOOKUP(A827&B827,ShareOfSearch_Volume!$C$1:$D$1000,2,FALSE),\"\")","v":""}]
[{"$f":"IF(ISTEXT(ShareOfSearch_SERPS!C828),ShareOfSearch_SERPS!C828,\"\")","v":""},{"$f":"IF(ISTEXT(ShareOfSearch_SERPS!D828),ShareOfSearch_SERPS!D828,\"\")","v":""},{"$f":"IF(NOT(ISBLANK(ShareOfSearch_SERPS!A828)),ShareOfSearch_SERPS!A828,\"\")","v":""},{"$f":"IF(NOT(ISBLANK(ShareOfSearch_SERPS!G828)),ShareOfSearch_SERPS!G828,\"\")","v":""},{"$f":"IF(NOT(ISBLANK(ShareOfSearch_SERPS!K828)),ShareOfSearch_SERPS!K828,\"\")","v":""},{"$f":"IFERROR(VLOOKUP(C828,ShareOfSearch_CTR!$A$1:$B$100,2,FALSE)*VLOOKUP(A828&B828,ShareOfSearch_Volume!$C$1:$D$1000,2,FALSE),\"\")","v":""}]
[{"$f":"IF(ISTEXT(ShareOfSearch_SERPS!C829),ShareOfSearch_SERPS!C829,\"\")","v":""},{"$f":"IF(ISTEXT(ShareOfSearch_SERPS!D829),ShareOfSearch_SERPS!D829,\"\")","v":""},{"$f":"IF(NOT(ISBLANK(ShareOfSearch_SERPS!A829)),ShareOfSearch_SERPS!A829,\"\")","v":""},{"$f":"IF(NOT(ISBLANK(ShareOfSearch_SERPS!G829)),ShareOfSearch_SERPS!G829,\"\")","v":""},{"$f":"IF(NOT(ISBLANK(ShareOfSearch_SERPS!K829)),ShareOfSearch_SERPS!K829,\"\")","v":""},{"$f":"IFERROR(VLOOKUP(C829,ShareOfSearch_CTR!$A$1:$B$100,2,FALSE)*VLOOKUP(A829&B829,ShareOfSearch_Volume!$C$1:$D$1000,2,FALSE),\"\")","v":""}]
[{"$f":"IF(ISTEXT(ShareOfSearch_SERPS!C830),ShareOfSearch_SERPS!C830,\"\")","v":""},{"$f":"IF(ISTEXT(ShareOfSearch_SERPS!D830),ShareOfSearch_SERPS!D830,\"\")","v":""},{"$f":"IF(NOT(ISBLANK(ShareOfSearch_SERPS!A830)),ShareOfSearch_SERPS!A830,\"\")","v":""},{"$f":"IF(NOT(ISBLANK(ShareOfSearch_SERPS!G830)),ShareOfSearch_SERPS!G830,\"\")","v":""},{"$f":"IF(NOT(ISBLANK(ShareOfSearch_SERPS!K830)),ShareOfSearch_SERPS!K830,\"\")","v":""},{"$f":"IFERROR(VLOOKUP(C830,ShareOfSearch_CTR!$A$1:$B$100,2,FALSE)*VLOOKUP(A830&B830,ShareOfSearch_Volume!$C$1:$D$1000,2,FALSE),\"\")","v":""}]
[{"$f":"IF(ISTEXT(ShareOfSearch_SERPS!C831),ShareOfSearch_SERPS!C831,\"\")","v":""},{"$f":"IF(ISTEXT(ShareOfSearch_SERPS!D831),ShareOfSearch_SERPS!D831,\"\")","v":""},{"$f":"IF(NOT(ISBLANK(ShareOfSearch_SERPS!A831)),ShareOfSearch_SERPS!A831,\"\")","v":""},{"$f":"IF(NOT(ISBLANK(ShareOfSearch_SERPS!G831)),ShareOfSearch_SERPS!G831,\"\")","v":""},{"$f":"IF(NOT(ISBLANK(ShareOfSearch_SERPS!K831)),ShareOfSearch_SERPS!K831,\"\")","v":""},{"$f":"IFERROR(VLOOKUP(C831,ShareOfSearch_CTR!$A$1:$B$100,2,FALSE)*VLOOKUP(A831&B831,ShareOfSearch_Volume!$C$1:$D$1000,2,FALSE),\"\")","v":""}]
[{"$f":"IF(ISTEXT(ShareOfSearch_SERPS!C832),ShareOfSearch_SERPS!C832,\"\")","v":""},{"$f":"IF(ISTEXT(ShareOfSearch_SERPS!D832),ShareOfSearch_SERPS!D832,\"\")","v":""},{"$f":"IF(NOT(ISBLANK(ShareOfSearch_SERPS!A832)),ShareOfSearch_SERPS!A832,\"\")","v":""},{"$f":"IF(NOT(ISBLANK(ShareOfSearch_SERPS!G832)),ShareOfSearch_SERPS!G832,\"\")","v":""},{"$f":"IF(NOT(ISBLANK(ShareOfSearch_SERPS!K832)),ShareOfSearch_SERPS!K832,\"\")","v":""},{"$f":"IFERROR(VLOOKUP(C832,ShareOfSearch_CTR!$A$1:$B$100,2,FALSE)*VLOOKUP(A832&B832,ShareOfSearch_Volume!$C$1:$D$1000,2,FALSE),\"\")","v":""}]
[{"$f":"IF(ISTEXT(ShareOfSearch_SERPS!C833),ShareOfSearch_SERPS!C833,\"\")","v":""},{"$f":"IF(ISTEXT(ShareOfSearch_SERPS!D833),ShareOfSearch_SERPS!D833,\"\")","v":""},{"$f":"IF(NOT(ISBLANK(ShareOfSearch_SERPS!A833)),ShareOfSearch_SERPS!A833,\"\")","v":""},{"$f":"IF(NOT(ISBLANK(ShareOfSearch_SERPS!G833)),ShareOfSearch_SERPS!G833,\"\")","v":""},{"$f":"IF(NOT(ISBLANK(ShareOfSearch_SERPS!K833)),ShareOfSearch_SERPS!K833,\"\")","v":""},{"$f":"IFERROR(VLOOKUP(C833,ShareOfSearch_CTR!$A$1:$B$100,2,FALSE)*VLOOKUP(A833&B833,ShareOfSearch_Volume!$C$1:$D$1000,2,FALSE),\"\")","v":""}]
[{"$f":"IF(ISTEXT(ShareOfSearch_SERPS!C834),ShareOfSearch_SERPS!C834,\"\")","v":""},{"$f":"IF(ISTEXT(ShareOfSearch_SERPS!D834),ShareOfSearch_SERPS!D834,\"\")","v":""},{"$f":"IF(NOT(ISBLANK(ShareOfSearch_SERPS!A834)),ShareOfSearch_SERPS!A834,\"\")","v":""},{"$f":"IF(NOT(ISBLANK(ShareOfSearch_SERPS!G834)),ShareOfSearch_SERPS!G834,\"\")","v":""},{"$f":"IF(NOT(ISBLANK(ShareOfSearch_SERPS!K834)),ShareOfSearch_SERPS!K834,\"\")","v":""},{"$f":"IFERROR(VLOOKUP(C834,ShareOfSearch_CTR!$A$1:$B$100,2,FALSE)*VLOOKUP(A834&B834,ShareOfSearch_Volume!$C$1:$D$1000,2,FALSE),\"\")","v":""}]
[{"$f":"IF(ISTEXT(ShareOfSearch_SERPS!C835),ShareOfSearch_SERPS!C835,\"\")","v":""},{"$f":"IF(ISTEXT(ShareOfSearch_SERPS!D835),ShareOfSearch_SERPS!D835,\"\")","v":""},{"$f":"IF(NOT(ISBLANK(ShareOfSearch_SERPS!A835)),ShareOfSearch_SERPS!A835,\"\")","v":""},{"$f":"IF(NOT(ISBLANK(ShareOfSearch_SERPS!G835)),ShareOfSearch_SERPS!G835,\"\")","v":""},{"$f":"IF(NOT(ISBLANK(ShareOfSearch_SERPS!K835)),ShareOfSearch_SERPS!K835,\"\")","v":""},{"$f":"IFERROR(VLOOKUP(C835,ShareOfSearch_CTR!$A$1:$B$100,2,FALSE)*VLOOKUP(A835&B835,ShareOfSearch_Volume!$C$1:$D$1000,2,FALSE),\"\")","v":""}]
[{"$f":"IF(ISTEXT(ShareOfSearch_SERPS!C836),ShareOfSearch_SERPS!C836,\"\")","v":""},{"$f":"IF(ISTEXT(ShareOfSearch_SERPS!D836),ShareOfSearch_SERPS!D836,\"\")","v":""},{"$f":"IF(NOT(ISBLANK(ShareOfSearch_SERPS!A836)),ShareOfSearch_SERPS!A836,\"\")","v":""},{"$f":"IF(NOT(ISBLANK(ShareOfSearch_SERPS!G836)),ShareOfSearch_SERPS!G836,\"\")","v":""},{"$f":"IF(NOT(ISBLANK(ShareOfSearch_SERPS!K836)),ShareOfSearch_SERPS!K836,\"\")","v":""},{"$f":"IFERROR(VLOOKUP(C836,ShareOfSearch_CTR!$A$1:$B$100,2,FALSE)*VLOOKUP(A836&B836,ShareOfSearch_Volume!$C$1:$D$1000,2,FALSE),\"\")","v":""}]
[{"$f":"IF(ISTEXT(ShareOfSearch_SERPS!C837),ShareOfSearch_SERPS!C837,\"\")","v":""},{"$f":"IF(ISTEXT(ShareOfSearch_SERPS!D837),ShareOfSearch_SERPS!D837,\"\")","v":""},{"$f":"IF(NOT(ISBLANK(ShareOfSearch_SERPS!A837)),ShareOfSearch_SERPS!A837,\"\")","v":""},{"$f":"IF(NOT(ISBLANK(ShareOfSearch_SERPS!G837)),ShareOfSearch_SERPS!G837,\"\")","v":""},{"$f":"IF(NOT(ISBLANK(ShareOfSearch_SERPS!K837)),ShareOfSearch_SERPS!K837,\"\")","v":""},{"$f":"IFERROR(VLOOKUP(C837,ShareOfSearch_CTR!$A$1:$B$100,2,FALSE)*VLOOKUP(A837&B837,ShareOfSearch_Volume!$C$1:$D$1000,2,FALSE),\"\")","v":""}]
[{"$f":"IF(ISTEXT(ShareOfSearch_SERPS!C838),ShareOfSearch_SERPS!C838,\"\")","v":""},{"$f":"IF(ISTEXT(ShareOfSearch_SERPS!D838),ShareOfSearch_SERPS!D838,\"\")","v":""},{"$f":"IF(NOT(ISBLANK(ShareOfSearch_SERPS!A838)),ShareOfSearch_SERPS!A838,\"\")","v":""},{"$f":"IF(NOT(ISBLANK(ShareOfSearch_SERPS!G838)),ShareOfSearch_SERPS!G838,\"\")","v":""},{"$f":"IF(NOT(ISBLANK(ShareOfSearch_SERPS!K838)),ShareOfSearch_SERPS!K838,\"\")","v":""},{"$f":"IFERROR(VLOOKUP(C838,ShareOfSearch_CTR!$A$1:$B$100,2,FALSE)*VLOOKUP(A838&B838,ShareOfSearch_Volume!$C$1:$D$1000,2,FALSE),\"\")","v":""}]
[{"$f":"IF(ISTEXT(ShareOfSearch_SERPS!C839),ShareOfSearch_SERPS!C839,\"\")","v":""},{"$f":"IF(ISTEXT(ShareOfSearch_SERPS!D839),ShareOfSearch_SERPS!D839,\"\")","v":""},{"$f":"IF(NOT(ISBLANK(ShareOfSearch_SERPS!A839)),ShareOfSearch_SERPS!A839,\"\")","v":""},{"$f":"IF(NOT(ISBLANK(ShareOfSearch_SERPS!G839)),ShareOfSearch_SERPS!G839,\"\")","v":""},{"$f":"IF(NOT(ISBLANK(ShareOfSearch_SERPS!K839)),ShareOfSearch_SERPS!K839,\"\")","v":""},{"$f":"IFERROR(VLOOKUP(C839,ShareOfSearch_CTR!$A$1:$B$100,2,FALSE)*VLOOKUP(A839&B839,ShareOfSearch_Volume!$C$1:$D$1000,2,FALSE),\"\")","v":""}]
[{"$f":"IF(ISTEXT(ShareOfSearch_SERPS!C840),ShareOfSearch_SERPS!C840,\"\")","v":""},{"$f":"IF(ISTEXT(ShareOfSearch_SERPS!D840),ShareOfSearch_SERPS!D840,\"\")","v":""},{"$f":"IF(NOT(ISBLANK(ShareOfSearch_SERPS!A840)),ShareOfSearch_SERPS!A840,\"\")","v":""},{"$f":"IF(NOT(ISBLANK(ShareOfSearch_SERPS!G840)),ShareOfSearch_SERPS!G840,\"\")","v":""},{"$f":"IF(NOT(ISBLANK(ShareOfSearch_SERPS!K840)),ShareOfSearch_SERPS!K840,\"\")","v":""},{"$f":"IFERROR(VLOOKUP(C840,ShareOfSearch_CTR!$A$1:$B$100,2,FALSE)*VLOOKUP(A840&B840,ShareOfSearch_Volume!$C$1:$D$1000,2,FALSE),\"\")","v":""}]
[{"$f":"IF(ISTEXT(ShareOfSearch_SERPS!C841),ShareOfSearch_SERPS!C841,\"\")","v":""},{"$f":"IF(ISTEXT(ShareOfSearch_SERPS!D841),ShareOfSearch_SERPS!D841,\"\")","v":""},{"$f":"IF(NOT(ISBLANK(ShareOfSearch_SERPS!A841)),ShareOfSearch_SERPS!A841,\"\")","v":""},{"$f":"IF(NOT(ISBLANK(ShareOfSearch_SERPS!G841)),ShareOfSearch_SERPS!G841,\"\")","v":""},{"$f":"IF(NOT(ISBLANK(ShareOfSearch_SERPS!K841)),ShareOfSearch_SERPS!K841,\"\")","v":""},{"$f":"IFERROR(VLOOKUP(C841,ShareOfSearch_CTR!$A$1:$B$100,2,FALSE)*VLOOKUP(A841&B841,ShareOfSearch_Volume!$C$1:$D$1000,2,FALSE),\"\")","v":""}]
[{"$f":"IF(ISTEXT(ShareOfSearch_SERPS!C842),ShareOfSearch_SERPS!C842,\"\")","v":""},{"$f":"IF(ISTEXT(ShareOfSearch_SERPS!D842),ShareOfSearch_SERPS!D842,\"\")","v":""},{"$f":"IF(NOT(ISBLANK(ShareOfSearch_SERPS!A842)),ShareOfSearch_SERPS!A842,\"\")","v":""},{"$f":"IF(NOT(ISBLANK(ShareOfSearch_SERPS!G842)),ShareOfSearch_SERPS!G842,\"\")","v":""},{"$f":"IF(NOT(ISBLANK(ShareOfSearch_SERPS!K842)),ShareOfSearch_SERPS!K842,\"\")","v":""},{"$f":"IFERROR(VLOOKUP(C842,ShareOfSearch_CTR!$A$1:$B$100,2,FALSE)*VLOOKUP(A842&B842,ShareOfSearch_Volume!$C$1:$D$1000,2,FALSE),\"\")","v":""}]
[{"$f":"IF(ISTEXT(ShareOfSearch_SERPS!C843),ShareOfSearch_SERPS!C843,\"\")","v":""},{"$f":"IF(ISTEXT(ShareOfSearch_SERPS!D843),ShareOfSearch_SERPS!D843,\"\")","v":""},{"$f":"IF(NOT(ISBLANK(ShareOfSearch_SERPS!A843)),ShareOfSearch_SERPS!A843,\"\")","v":""},{"$f":"IF(NOT(ISBLANK(ShareOfSearch_SERPS!G843)),ShareOfSearch_SERPS!G843,\"\")","v":""},{"$f":"IF(NOT(ISBLANK(ShareOfSearch_SERPS!K843)),ShareOfSearch_SERPS!K843,\"\")","v":""},{"$f":"IFERROR(VLOOKUP(C843,ShareOfSearch_CTR!$A$1:$B$100,2,FALSE)*VLOOKUP(A843&B843,ShareOfSearch_Volume!$C$1:$D$1000,2,FALSE),\"\")","v":""}]
[{"$f":"IF(ISTEXT(ShareOfSearch_SERPS!C844),ShareOfSearch_SERPS!C844,\"\")","v":""},{"$f":"IF(ISTEXT(ShareOfSearch_SERPS!D844),ShareOfSearch_SERPS!D844,\"\")","v":""},{"$f":"IF(NOT(ISBLANK(ShareOfSearch_SERPS!A844)),ShareOfSearch_SERPS!A844,\"\")","v":""},{"$f":"IF(NOT(ISBLANK(ShareOfSearch_SERPS!G844)),ShareOfSearch_SERPS!G844,\"\")","v":""},{"$f":"IF(NOT(ISBLANK(ShareOfSearch_SERPS!K844)),ShareOfSearch_SERPS!K844,\"\")","v":""},{"$f":"IFERROR(VLOOKUP(C844,ShareOfSearch_CTR!$A$1:$B$100,2,FALSE)*VLOOKUP(A844&B844,ShareOfSearch_Volume!$C$1:$D$1000,2,FALSE),\"\")","v":""}]
[{"$f":"IF(ISTEXT(ShareOfSearch_SERPS!C845),ShareOfSearch_SERPS!C845,\"\")","v":""},{"$f":"IF(ISTEXT(ShareOfSearch_SERPS!D845),ShareOfSearch_SERPS!D845,\"\")","v":""},{"$f":"IF(NOT(ISBLANK(ShareOfSearch_SERPS!A845)),ShareOfSearch_SERPS!A845,\"\")","v":""},{"$f":"IF(NOT(ISBLANK(ShareOfSearch_SERPS!G845)),ShareOfSearch_SERPS!G845,\"\")","v":""},{"$f":"IF(NOT(ISBLANK(ShareOfSearch_SERPS!K845)),ShareOfSearch_SERPS!K845,\"\")","v":""},{"$f":"IFERROR(VLOOKUP(C845,ShareOfSearch_CTR!$A$1:$B$100,2,FALSE)*VLOOKUP(A845&B845,ShareOfSearch_Volume!$C$1:$D$1000,2,FALSE),\"\")","v":""}]
[{"$f":"IF(ISTEXT(ShareOfSearch_SERPS!C846),ShareOfSearch_SERPS!C846,\"\")","v":""},{"$f":"IF(ISTEXT(ShareOfSearch_SERPS!D846),ShareOfSearch_SERPS!D846,\"\")","v":""},{"$f":"IF(NOT(ISBLANK(ShareOfSearch_SERPS!A846)),ShareOfSearch_SERPS!A846,\"\")","v":""},{"$f":"IF(NOT(ISBLANK(ShareOfSearch_SERPS!G846)),ShareOfSearch_SERPS!G846,\"\")","v":""},{"$f":"IF(NOT(ISBLANK(ShareOfSearch_SERPS!K846)),ShareOfSearch_SERPS!K846,\"\")","v":""},{"$f":"IFERROR(VLOOKUP(C846,ShareOfSearch_CTR!$A$1:$B$100,2,FALSE)*VLOOKUP(A846&B846,ShareOfSearch_Volume!$C$1:$D$1000,2,FALSE),\"\")","v":""}]
[{"$f":"IF(ISTEXT(ShareOfSearch_SERPS!C847),ShareOfSearch_SERPS!C847,\"\")","v":""},{"$f":"IF(ISTEXT(ShareOfSearch_SERPS!D847),ShareOfSearch_SERPS!D847,\"\")","v":""},{"$f":"IF(NOT(ISBLANK(ShareOfSearch_SERPS!A847)),ShareOfSearch_SERPS!A847,\"\")","v":""},{"$f":"IF(NOT(ISBLANK(ShareOfSearch_SERPS!G847)),ShareOfSearch_SERPS!G847,\"\")","v":""},{"$f":"IF(NOT(ISBLANK(ShareOfSearch_SERPS!K847)),ShareOfSearch_SERPS!K847,\"\")","v":""},{"$f":"IFERROR(VLOOKUP(C847,ShareOfSearch_CTR!$A$1:$B$100,2,FALSE)*VLOOKUP(A847&B847,ShareOfSearch_Volume!$C$1:$D$1000,2,FALSE),\"\")","v":""}]
[{"$f":"IF(ISTEXT(ShareOfSearch_SERPS!C848),ShareOfSearch_SERPS!C848,\"\")","v":""},{"$f":"IF(ISTEXT(ShareOfSearch_SERPS!D848),ShareOfSearch_SERPS!D848,\"\")","v":""},{"$f":"IF(NOT(ISBLANK(ShareOfSearch_SERPS!A848)),ShareOfSearch_SERPS!A848,\"\")","v":""},{"$f":"IF(NOT(ISBLANK(ShareOfSearch_SERPS!G848)),ShareOfSearch_SERPS!G848,\"\")","v":""},{"$f":"IF(NOT(ISBLANK(ShareOfSearch_SERPS!K848)),ShareOfSearch_SERPS!K848,\"\")","v":""},{"$f":"IFERROR(VLOOKUP(C848,ShareOfSearch_CTR!$A$1:$B$100,2,FALSE)*VLOOKUP(A848&B848,ShareOfSearch_Volume!$C$1:$D$1000,2,FALSE),\"\")","v":""}]
[{"$f":"IF(ISTEXT(ShareOfSearch_SERPS!C849),ShareOfSearch_SERPS!C849,\"\")","v":""},{"$f":"IF(ISTEXT(ShareOfSearch_SERPS!D849),ShareOfSearch_SERPS!D849,\"\")","v":""},{"$f":"IF(NOT(ISBLANK(ShareOfSearch_SERPS!A849)),ShareOfSearch_SERPS!A849,\"\")","v":""},{"$f":"IF(NOT(ISBLANK(ShareOfSearch_SERPS!G849)),ShareOfSearch_SERPS!G849,\"\")","v":""},{"$f":"IF(NOT(ISBLANK(ShareOfSearch_SERPS!K849)),ShareOfSearch_SERPS!K849,\"\")","v":""},{"$f":"IFERROR(VLOOKUP(C849,ShareOfSearch_CTR!$A$1:$B$100,2,FALSE)*VLOOKUP(A849&B849,ShareOfSearch_Volume!$C$1:$D$1000,2,FALSE),\"\")","v":""}]
[{"$f":"IF(ISTEXT(ShareOfSearch_SERPS!C850),ShareOfSearch_SERPS!C850,\"\")","v":""},{"$f":"IF(ISTEXT(ShareOfSearch_SERPS!D850),ShareOfSearch_SERPS!D850,\"\")","v":""},{"$f":"IF(NOT(ISBLANK(ShareOfSearch_SERPS!A850)),ShareOfSearch_SERPS!A850,\"\")","v":""},{"$f":"IF(NOT(ISBLANK(ShareOfSearch_SERPS!G850)),ShareOfSearch_SERPS!G850,\"\")","v":""},{"$f":"IF(NOT(ISBLANK(ShareOfSearch_SERPS!K850)),ShareOfSearch_SERPS!K850,\"\")","v":""},{"$f":"IFERROR(VLOOKUP(C850,ShareOfSearch_CTR!$A$1:$B$100,2,FALSE)*VLOOKUP(A850&B850,ShareOfSearch_Volume!$C$1:$D$1000,2,FALSE),\"\")","v":""}]
[{"$f":"IF(ISTEXT(ShareOfSearch_SERPS!C851),ShareOfSearch_SERPS!C851,\"\")","v":""},{"$f":"IF(ISTEXT(ShareOfSearch_SERPS!D851),ShareOfSearch_SERPS!D851,\"\")","v":""},{"$f":"IF(NOT(ISBLANK(ShareOfSearch_SERPS!A851)),ShareOfSearch_SERPS!A851,\"\")","v":""},{"$f":"IF(NOT(ISBLANK(ShareOfSearch_SERPS!G851)),ShareOfSearch_SERPS!G851,\"\")","v":""},{"$f":"IF(NOT(ISBLANK(ShareOfSearch_SERPS!K851)),ShareOfSearch_SERPS!K851,\"\")","v":""},{"$f":"IFERROR(VLOOKUP(C851,ShareOfSearch_CTR!$A$1:$B$100,2,FALSE)*VLOOKUP(A851&B851,ShareOfSearch_Volume!$C$1:$D$1000,2,FALSE),\"\")","v":""}]
[{"$f":"IF(ISTEXT(ShareOfSearch_SERPS!C852),ShareOfSearch_SERPS!C852,\"\")","v":""},{"$f":"IF(ISTEXT(ShareOfSearch_SERPS!D852),ShareOfSearch_SERPS!D852,\"\")","v":""},{"$f":"IF(NOT(ISBLANK(ShareOfSearch_SERPS!A852)),ShareOfSearch_SERPS!A852,\"\")","v":""},{"$f":"IF(NOT(ISBLANK(ShareOfSearch_SERPS!G852)),ShareOfSearch_SERPS!G852,\"\")","v":""},{"$f":"IF(NOT(ISBLANK(ShareOfSearch_SERPS!K852)),ShareOfSearch_SERPS!K852,\"\")","v":""},{"$f":"IFERROR(VLOOKUP(C852,ShareOfSearch_CTR!$A$1:$B$100,2,FALSE)*VLOOKUP(A852&B852,ShareOfSearch_Volume!$C$1:$D$1000,2,FALSE),\"\")","v":""}]
[{"$f":"IF(ISTEXT(ShareOfSearch_SERPS!C853),ShareOfSearch_SERPS!C853,\"\")","v":""},{"$f":"IF(ISTEXT(ShareOfSearch_SERPS!D853),ShareOfSearch_SERPS!D853,\"\")","v":""},{"$f":"IF(NOT(ISBLANK(ShareOfSearch_SERPS!A853)),ShareOfSearch_SERPS!A853,\"\")","v":""},{"$f":"IF(NOT(ISBLANK(ShareOfSearch_SERPS!G853)),ShareOfSearch_SERPS!G853,\"\")","v":""},{"$f":"IF(NOT(ISBLANK(ShareOfSearch_SERPS!K853)),ShareOfSearch_SERPS!K853,\"\")","v":""},{"$f":"IFERROR(VLOOKUP(C853,ShareOfSearch_CTR!$A$1:$B$100,2,FALSE)*VLOOKUP(A853&B853,ShareOfSearch_Volume!$C$1:$D$1000,2,FALSE),\"\")","v":""}]
[{"$f":"IF(ISTEXT(ShareOfSearch_SERPS!C854),ShareOfSearch_SERPS!C854,\"\")","v":""},{"$f":"IF(ISTEXT(ShareOfSearch_SERPS!D854),ShareOfSearch_SERPS!D854,\"\")","v":""},{"$f":"IF(NOT(ISBLANK(ShareOfSearch_SERPS!A854)),ShareOfSearch_SERPS!A854,\"\")","v":""},{"$f":"IF(NOT(ISBLANK(ShareOfSearch_SERPS!G854)),ShareOfSearch_SERPS!G854,\"\")","v":""},{"$f":"IF(NOT(ISBLANK(ShareOfSearch_SERPS!K854)),ShareOfSearch_SERPS!K854,\"\")","v":""},{"$f":"IFERROR(VLOOKUP(C854,ShareOfSearch_CTR!$A$1:$B$100,2,FALSE)*VLOOKUP(A854&B854,ShareOfSearch_Volume!$C$1:$D$1000,2,FALSE),\"\")","v":""}]
[{"$f":"IF(ISTEXT(ShareOfSearch_SERPS!C855),ShareOfSearch_SERPS!C855,\"\")","v":""},{"$f":"IF(ISTEXT(ShareOfSearch_SERPS!D855),ShareOfSearch_SERPS!D855,\"\")","v":""},{"$f":"IF(NOT(ISBLANK(ShareOfSearch_SERPS!A855)),ShareOfSearch_SERPS!A855,\"\")","v":""},{"$f":"IF(NOT(ISBLANK(ShareOfSearch_SERPS!G855)),ShareOfSearch_SERPS!G855,\"\")","v":""},{"$f":"IF(NOT(ISBLANK(ShareOfSearch_SERPS!K855)),ShareOfSearch_SERPS!K855,\"\")","v":""},{"$f":"IFERROR(VLOOKUP(C855,ShareOfSearch_CTR!$A$1:$B$100,2,FALSE)*VLOOKUP(A855&B855,ShareOfSearch_Volume!$C$1:$D$1000,2,FALSE),\"\")","v":""}]
[{"$f":"IF(ISTEXT(ShareOfSearch_SERPS!C856),ShareOfSearch_SERPS!C856,\"\")","v":""},{"$f":"IF(ISTEXT(ShareOfSearch_SERPS!D856),ShareOfSearch_SERPS!D856,\"\")","v":""},{"$f":"IF(NOT(ISBLANK(ShareOfSearch_SERPS!A856)),ShareOfSearch_SERPS!A856,\"\")","v":""},{"$f":"IF(NOT(ISBLANK(ShareOfSearch_SERPS!G856)),ShareOfSearch_SERPS!G856,\"\")","v":""},{"$f":"IF(NOT(ISBLANK(ShareOfSearch_SERPS!K856)),ShareOfSearch_SERPS!K856,\"\")","v":""},{"$f":"IFERROR(VLOOKUP(C856,ShareOfSearch_CTR!$A$1:$B$100,2,FALSE)*VLOOKUP(A856&B856,ShareOfSearch_Volume!$C$1:$D$1000,2,FALSE),\"\")","v":""}]
[{"$f":"IF(ISTEXT(ShareOfSearch_SERPS!C857),ShareOfSearch_SERPS!C857,\"\")","v":""},{"$f":"IF(ISTEXT(ShareOfSearch_SERPS!D857),ShareOfSearch_SERPS!D857,\"\")","v":""},{"$f":"IF(NOT(ISBLANK(ShareOfSearch_SERPS!A857)),ShareOfSearch_SERPS!A857,\"\")","v":""},{"$f":"IF(NOT(ISBLANK(ShareOfSearch_SERPS!G857)),ShareOfSearch_SERPS!G857,\"\")","v":""},{"$f":"IF(NOT(ISBLANK(ShareOfSearch_SERPS!K857)),ShareOfSearch_SERPS!K857,\"\")","v":""},{"$f":"IFERROR(VLOOKUP(C857,ShareOfSearch_CTR!$A$1:$B$100,2,FALSE)*VLOOKUP(A857&B857,ShareOfSearch_Volume!$C$1:$D$1000,2,FALSE),\"\")","v":""}]
[{"$f":"IF(ISTEXT(ShareOfSearch_SERPS!C858),ShareOfSearch_SERPS!C858,\"\")","v":""},{"$f":"IF(ISTEXT(ShareOfSearch_SERPS!D858),ShareOfSearch_SERPS!D858,\"\")","v":""},{"$f":"IF(NOT(ISBLANK(ShareOfSearch_SERPS!A858)),ShareOfSearch_SERPS!A858,\"\")","v":""},{"$f":"IF(NOT(ISBLANK(ShareOfSearch_SERPS!G858)),ShareOfSearch_SERPS!G858,\"\")","v":""},{"$f":"IF(NOT(ISBLANK(ShareOfSearch_SERPS!K858)),ShareOfSearch_SERPS!K858,\"\")","v":""},{"$f":"IFERROR(VLOOKUP(C858,ShareOfSearch_CTR!$A$1:$B$100,2,FALSE)*VLOOKUP(A858&B858,ShareOfSearch_Volume!$C$1:$D$1000,2,FALSE),\"\")","v":""}]
[{"$f":"IF(ISTEXT(ShareOfSearch_SERPS!C859),ShareOfSearch_SERPS!C859,\"\")","v":""},{"$f":"IF(ISTEXT(ShareOfSearch_SERPS!D859),ShareOfSearch_SERPS!D859,\"\")","v":""},{"$f":"IF(NOT(ISBLANK(ShareOfSearch_SERPS!A859)),ShareOfSearch_SERPS!A859,\"\")","v":""},{"$f":"IF(NOT(ISBLANK(ShareOfSearch_SERPS!G859)),ShareOfSearch_SERPS!G859,\"\")","v":""},{"$f":"IF(NOT(ISBLANK(ShareOfSearch_SERPS!K859)),ShareOfSearch_SERPS!K859,\"\")","v":""},{"$f":"IFERROR(VLOOKUP(C859,ShareOfSearch_CTR!$A$1:$B$100,2,FALSE)*VLOOKUP(A859&B859,ShareOfSearch_Volume!$C$1:$D$1000,2,FALSE),\"\")","v":""}]
[{"$f":"IF(ISTEXT(ShareOfSearch_SERPS!C860),ShareOfSearch_SERPS!C860,\"\")","v":""},{"$f":"IF(ISTEXT(ShareOfSearch_SERPS!D860),ShareOfSearch_SERPS!D860,\"\")","v":""},{"$f":"IF(NOT(ISBLANK(ShareOfSearch_SERPS!A860)),ShareOfSearch_SERPS!A860,\"\")","v":""},{"$f":"IF(NOT(ISBLANK(ShareOfSearch_SERPS!G860)),ShareOfSearch_SERPS!G860,\"\")","v":""},{"$f":"IF(NOT(ISBLANK(ShareOfSearch_SERPS!K860)),ShareOfSearch_SERPS!K860,\"\")","v":""},{"$f":"IFERROR(VLOOKUP(C860,ShareOfSearch_CTR!$A$1:$B$100,2,FALSE)*VLOOKUP(A860&B860,ShareOfSearch_Volume!$C$1:$D$1000,2,FALSE),\"\")","v":""}]
[{"$f":"IF(ISTEXT(ShareOfSearch_SERPS!C861),ShareOfSearch_SERPS!C861,\"\")","v":""},{"$f":"IF(ISTEXT(ShareOfSearch_SERPS!D861),ShareOfSearch_SERPS!D861,\"\")","v":""},{"$f":"IF(NOT(ISBLANK(ShareOfSearch_SERPS!A861)),ShareOfSearch_SERPS!A861,\"\")","v":""},{"$f":"IF(NOT(ISBLANK(ShareOfSearch_SERPS!G861)),ShareOfSearch_SERPS!G861,\"\")","v":""},{"$f":"IF(NOT(ISBLANK(ShareOfSearch_SERPS!K861)),ShareOfSearch_SERPS!K861,\"\")","v":""},{"$f":"IFERROR(VLOOKUP(C861,ShareOfSearch_CTR!$A$1:$B$100,2,FALSE)*VLOOKUP(A861&B861,ShareOfSearch_Volume!$C$1:$D$1000,2,FALSE),\"\")","v":""}]
[{"$f":"IF(ISTEXT(ShareOfSearch_SERPS!C862),ShareOfSearch_SERPS!C862,\"\")","v":""},{"$f":"IF(ISTEXT(ShareOfSearch_SERPS!D862),ShareOfSearch_SERPS!D862,\"\")","v":""},{"$f":"IF(NOT(ISBLANK(ShareOfSearch_SERPS!A862)),ShareOfSearch_SERPS!A862,\"\")","v":""},{"$f":"IF(NOT(ISBLANK(ShareOfSearch_SERPS!G862)),ShareOfSearch_SERPS!G862,\"\")","v":""},{"$f":"IF(NOT(ISBLANK(ShareOfSearch_SERPS!K862)),ShareOfSearch_SERPS!K862,\"\")","v":""},{"$f":"IFERROR(VLOOKUP(C862,ShareOfSearch_CTR!$A$1:$B$100,2,FALSE)*VLOOKUP(A862&B862,ShareOfSearch_Volume!$C$1:$D$1000,2,FALSE),\"\")","v":""}]
[{"$f":"IF(ISTEXT(ShareOfSearch_SERPS!C863),ShareOfSearch_SERPS!C863,\"\")","v":""},{"$f":"IF(ISTEXT(ShareOfSearch_SERPS!D863),ShareOfSearch_SERPS!D863,\"\")","v":""},{"$f":"IF(NOT(ISBLANK(ShareOfSearch_SERPS!A863)),ShareOfSearch_SERPS!A863,\"\")","v":""},{"$f":"IF(NOT(ISBLANK(ShareOfSearch_SERPS!G863)),ShareOfSearch_SERPS!G863,\"\")","v":""},{"$f":"IF(NOT(ISBLANK(ShareOfSearch_SERPS!K863)),ShareOfSearch_SERPS!K863,\"\")","v":""},{"$f":"IFERROR(VLOOKUP(C863,ShareOfSearch_CTR!$A$1:$B$100,2,FALSE)*VLOOKUP(A863&B863,ShareOfSearch_Volume!$C$1:$D$1000,2,FALSE),\"\")","v":""}]
[{"$f":"IF(ISTEXT(ShareOfSearch_SERPS!C864),ShareOfSearch_SERPS!C864,\"\")","v":""},{"$f":"IF(ISTEXT(ShareOfSearch_SERPS!D864),ShareOfSearch_SERPS!D864,\"\")","v":""},{"$f":"IF(NOT(ISBLANK(ShareOfSearch_SERPS!A864)),ShareOfSearch_SERPS!A864,\"\")","v":""},{"$f":"IF(NOT(ISBLANK(ShareOfSearch_SERPS!G864)),ShareOfSearch_SERPS!G864,\"\")","v":""},{"$f":"IF(NOT(ISBLANK(ShareOfSearch_SERPS!K864)),ShareOfSearch_SERPS!K864,\"\")","v":""},{"$f":"IFERROR(VLOOKUP(C864,ShareOfSearch_CTR!$A$1:$B$100,2,FALSE)*VLOOKUP(A864&B864,ShareOfSearch_Volume!$C$1:$D$1000,2,FALSE),\"\")","v":""}]
[{"$f":"IF(ISTEXT(ShareOfSearch_SERPS!C865),ShareOfSearch_SERPS!C865,\"\")","v":""},{"$f":"IF(ISTEXT(ShareOfSearch_SERPS!D865),ShareOfSearch_SERPS!D865,\"\")","v":""},{"$f":"IF(NOT(ISBLANK(ShareOfSearch_SERPS!A865)),ShareOfSearch_SERPS!A865,\"\")","v":""},{"$f":"IF(NOT(ISBLANK(ShareOfSearch_SERPS!G865)),ShareOfSearch_SERPS!G865,\"\")","v":""},{"$f":"IF(NOT(ISBLANK(ShareOfSearch_SERPS!K865)),ShareOfSearch_SERPS!K865,\"\")","v":""},{"$f":"IFERROR(VLOOKUP(C865,ShareOfSearch_CTR!$A$1:$B$100,2,FALSE)*VLOOKUP(A865&B865,ShareOfSearch_Volume!$C$1:$D$1000,2,FALSE),\"\")","v":""}]
[{"$f":"IF(ISTEXT(ShareOfSearch_SERPS!C866),ShareOfSearch_SERPS!C866,\"\")","v":""},{"$f":"IF(ISTEXT(ShareOfSearch_SERPS!D866),ShareOfSearch_SERPS!D866,\"\")","v":""},{"$f":"IF(NOT(ISBLANK(ShareOfSearch_SERPS!A866)),ShareOfSearch_SERPS!A866,\"\")","v":""},{"$f":"IF(NOT(ISBLANK(ShareOfSearch_SERPS!G866)),ShareOfSearch_SERPS!G866,\"\")","v":""},{"$f":"IF(NOT(ISBLANK(ShareOfSearch_SERPS!K866)),ShareOfSearch_SERPS!K866,\"\")","v":""},{"$f":"IFERROR(VLOOKUP(C866,ShareOfSearch_CTR!$A$1:$B$100,2,FALSE)*VLOOKUP(A866&B866,ShareOfSearch_Volume!$C$1:$D$1000,2,FALSE),\"\")","v":""}]
[{"$f":"IF(ISTEXT(ShareOfSearch_SERPS!C867),ShareOfSearch_SERPS!C867,\"\")","v":""},{"$f":"IF(ISTEXT(ShareOfSearch_SERPS!D867),ShareOfSearch_SERPS!D867,\"\")","v":""},{"$f":"IF(NOT(ISBLANK(ShareOfSearch_SERPS!A867)),ShareOfSearch_SERPS!A867,\"\")","v":""},{"$f":"IF(NOT(ISBLANK(ShareOfSearch_SERPS!G867)),ShareOfSearch_SERPS!G867,\"\")","v":""},{"$f":"IF(NOT(ISBLANK(ShareOfSearch_SERPS!K867)),ShareOfSearch_SERPS!K867,\"\")","v":""},{"$f":"IFERROR(VLOOKUP(C867,ShareOfSearch_CTR!$A$1:$B$100,2,FALSE)*VLOOKUP(A867&B867,ShareOfSearch_Volume!$C$1:$D$1000,2,FALSE),\"\")","v":""}]
[{"$f":"IF(ISTEXT(ShareOfSearch_SERPS!C868),ShareOfSearch_SERPS!C868,\"\")","v":""},{"$f":"IF(ISTEXT(ShareOfSearch_SERPS!D868),ShareOfSearch_SERPS!D868,\"\")","v":""},{"$f":"IF(NOT(ISBLANK(ShareOfSearch_SERPS!A868)),ShareOfSearch_SERPS!A868,\"\")","v":""},{"$f":"IF(NOT(ISBLANK(ShareOfSearch_SERPS!G868)),ShareOfSearch_SERPS!G868,\"\")","v":""},{"$f":"IF(NOT(ISBLANK(ShareOfSearch_SERPS!K868)),ShareOfSearch_SERPS!K868,\"\")","v":""},{"$f":"IFERROR(VLOOKUP(C868,ShareOfSearch_CTR!$A$1:$B$100,2,FALSE)*VLOOKUP(A868&B868,ShareOfSearch_Volume!$C$1:$D$1000,2,FALSE),\"\")","v":""}]
[{"$f":"IF(ISTEXT(ShareOfSearch_SERPS!C869),ShareOfSearch_SERPS!C869,\"\")","v":""},{"$f":"IF(ISTEXT(ShareOfSearch_SERPS!D869),ShareOfSearch_SERPS!D869,\"\")","v":""},{"$f":"IF(NOT(ISBLANK(ShareOfSearch_SERPS!A869)),ShareOfSearch_SERPS!A869,\"\")","v":""},{"$f":"IF(NOT(ISBLANK(ShareOfSearch_SERPS!G869)),ShareOfSearch_SERPS!G869,\"\")","v":""},{"$f":"IF(NOT(ISBLANK(ShareOfSearch_SERPS!K869)),ShareOfSearch_SERPS!K869,\"\")","v":""},{"$f":"IFERROR(VLOOKUP(C869,ShareOfSearch_CTR!$A$1:$B$100,2,FALSE)*VLOOKUP(A869&B869,ShareOfSearch_Volume!$C$1:$D$1000,2,FALSE),\"\")","v":""}]
[{"$f":"IF(ISTEXT(ShareOfSearch_SERPS!C870),ShareOfSearch_SERPS!C870,\"\")","v":""},{"$f":"IF(ISTEXT(ShareOfSearch_SERPS!D870),ShareOfSearch_SERPS!D870,\"\")","v":""},{"$f":"IF(NOT(ISBLANK(ShareOfSearch_SERPS!A870)),ShareOfSearch_SERPS!A870,\"\")","v":""},{"$f":"IF(NOT(ISBLANK(ShareOfSearch_SERPS!G870)),ShareOfSearch_SERPS!G870,\"\")","v":""},{"$f":"IF(NOT(ISBLANK(ShareOfSearch_SERPS!K870)),ShareOfSearch_SERPS!K870,\"\")","v":""},{"$f":"IFERROR(VLOOKUP(C870,ShareOfSearch_CTR!$A$1:$B$100,2,FALSE)*VLOOKUP(A870&B870,ShareOfSearch_Volume!$C$1:$D$1000,2,FALSE),\"\")","v":""}]
[{"$f":"IF(ISTEXT(ShareOfSearch_SERPS!C871),ShareOfSearch_SERPS!C871,\"\")","v":""},{"$f":"IF(ISTEXT(ShareOfSearch_SERPS!D871),ShareOfSearch_SERPS!D871,\"\")","v":""},{"$f":"IF(NOT(ISBLANK(ShareOfSearch_SERPS!A871)),ShareOfSearch_SERPS!A871,\"\")","v":""},{"$f":"IF(NOT(ISBLANK(ShareOfSearch_SERPS!G871)),ShareOfSearch_SERPS!G871,\"\")","v":""},{"$f":"IF(NOT(ISBLANK(ShareOfSearch_SERPS!K871)),ShareOfSearch_SERPS!K871,\"\")","v":""},{"$f":"IFERROR(VLOOKUP(C871,ShareOfSearch_CTR!$A$1:$B$100,2,FALSE)*VLOOKUP(A871&B871,ShareOfSearch_Volume!$C$1:$D$1000,2,FALSE),\"\")","v":""}]
[{"$f":"IF(ISTEXT(ShareOfSearch_SERPS!C872),ShareOfSearch_SERPS!C872,\"\")","v":""},{"$f":"IF(ISTEXT(ShareOfSearch_SERPS!D872),ShareOfSearch_SERPS!D872,\"\")","v":""},{"$f":"IF(NOT(ISBLANK(ShareOfSearch_SERPS!A872)),ShareOfSearch_SERPS!A872,\"\")","v":""},{"$f":"IF(NOT(ISBLANK(ShareOfSearch_SERPS!G872)),ShareOfSearch_SERPS!G872,\"\")","v":""},{"$f":"IF(NOT(ISBLANK(ShareOfSearch_SERPS!K872)),ShareOfSearch_SERPS!K872,\"\")","v":""},{"$f":"IFERROR(VLOOKUP(C872,ShareOfSearch_CTR!$A$1:$B$100,2,FALSE)*VLOOKUP(A872&B872,ShareOfSearch_Volume!$C$1:$D$1000,2,FALSE),\"\")","v":""}]
[{"$f":"IF(ISTEXT(ShareOfSearch_SERPS!C873),ShareOfSearch_SERPS!C873,\"\")","v":""},{"$f":"IF(ISTEXT(ShareOfSearch_SERPS!D873),ShareOfSearch_SERPS!D873,\"\")","v":""},{"$f":"IF(NOT(ISBLANK(ShareOfSearch_SERPS!A873)),ShareOfSearch_SERPS!A873,\"\")","v":""},{"$f":"IF(NOT(ISBLANK(ShareOfSearch_SERPS!G873)),ShareOfSearch_SERPS!G873,\"\")","v":""},{"$f":"IF(NOT(ISBLANK(ShareOfSearch_SERPS!K873)),ShareOfSearch_SERPS!K873,\"\")","v":""},{"$f":"IFERROR(VLOOKUP(C873,ShareOfSearch_CTR!$A$1:$B$100,2,FALSE)*VLOOKUP(A873&B873,ShareOfSearch_Volume!$C$1:$D$1000,2,FALSE),\"\")","v":""}]
[{"$f":"IF(ISTEXT(ShareOfSearch_SERPS!C874),ShareOfSearch_SERPS!C874,\"\")","v":""},{"$f":"IF(ISTEXT(ShareOfSearch_SERPS!D874),ShareOfSearch_SERPS!D874,\"\")","v":""},{"$f":"IF(NOT(ISBLANK(ShareOfSearch_SERPS!A874)),ShareOfSearch_SERPS!A874,\"\")","v":""},{"$f":"IF(NOT(ISBLANK(ShareOfSearch_SERPS!G874)),ShareOfSearch_SERPS!G874,\"\")","v":""},{"$f":"IF(NOT(ISBLANK(ShareOfSearch_SERPS!K874)),ShareOfSearch_SERPS!K874,\"\")","v":""},{"$f":"IFERROR(VLOOKUP(C874,ShareOfSearch_CTR!$A$1:$B$100,2,FALSE)*VLOOKUP(A874&B874,ShareOfSearch_Volume!$C$1:$D$1000,2,FALSE),\"\")","v":""}]
[{"$f":"IF(ISTEXT(ShareOfSearch_SERPS!C875),ShareOfSearch_SERPS!C875,\"\")","v":""},{"$f":"IF(ISTEXT(ShareOfSearch_SERPS!D875),ShareOfSearch_SERPS!D875,\"\")","v":""},{"$f":"IF(NOT(ISBLANK(ShareOfSearch_SERPS!A875)),ShareOfSearch_SERPS!A875,\"\")","v":""},{"$f":"IF(NOT(ISBLANK(ShareOfSearch_SERPS!G875)),ShareOfSearch_SERPS!G875,\"\")","v":""},{"$f":"IF(NOT(ISBLANK(ShareOfSearch_SERPS!K875)),ShareOfSearch_SERPS!K875,\"\")","v":""},{"$f":"IFERROR(VLOOKUP(C875,ShareOfSearch_CTR!$A$1:$B$100,2,FALSE)*VLOOKUP(A875&B875,ShareOfSearch_Volume!$C$1:$D$1000,2,FALSE),\"\")","v":""}]
[{"$f":"IF(ISTEXT(ShareOfSearch_SERPS!C876),ShareOfSearch_SERPS!C876,\"\")","v":""},{"$f":"IF(ISTEXT(ShareOfSearch_SERPS!D876),ShareOfSearch_SERPS!D876,\"\")","v":""},{"$f":"IF(NOT(ISBLANK(ShareOfSearch_SERPS!A876)),ShareOfSearch_SERPS!A876,\"\")","v":""},{"$f":"IF(NOT(ISBLANK(ShareOfSearch_SERPS!G876)),ShareOfSearch_SERPS!G876,\"\")","v":""},{"$f":"IF(NOT(ISBLANK(ShareOfSearch_SERPS!K876)),ShareOfSearch_SERPS!K876,\"\")","v":""},{"$f":"IFERROR(VLOOKUP(C876,ShareOfSearch_CTR!$A$1:$B$100,2,FALSE)*VLOOKUP(A876&B876,ShareOfSearch_Volume!$C$1:$D$1000,2,FALSE),\"\")","v":""}]
[{"$f":"IF(ISTEXT(ShareOfSearch_SERPS!C877),ShareOfSearch_SERPS!C877,\"\")","v":""},{"$f":"IF(ISTEXT(ShareOfSearch_SERPS!D877),ShareOfSearch_SERPS!D877,\"\")","v":""},{"$f":"IF(NOT(ISBLANK(ShareOfSearch_SERPS!A877)),ShareOfSearch_SERPS!A877,\"\")","v":""},{"$f":"IF(NOT(ISBLANK(ShareOfSearch_SERPS!G877)),ShareOfSearch_SERPS!G877,\"\")","v":""},{"$f":"IF(NOT(ISBLANK(ShareOfSearch_SERPS!K877)),ShareOfSearch_SERPS!K877,\"\")","v":""},{"$f":"IFERROR(VLOOKUP(C877,ShareOfSearch_CTR!$A$1:$B$100,2,FALSE)*VLOOKUP(A877&B877,ShareOfSearch_Volume!$C$1:$D$1000,2,FALSE),\"\")","v":""}]
[{"$f":"IF(ISTEXT(ShareOfSearch_SERPS!C878),ShareOfSearch_SERPS!C878,\"\")","v":""},{"$f":"IF(ISTEXT(ShareOfSearch_SERPS!D878),ShareOfSearch_SERPS!D878,\"\")","v":""},{"$f":"IF(NOT(ISBLANK(ShareOfSearch_SERPS!A878)),ShareOfSearch_SERPS!A878,\"\")","v":""},{"$f":"IF(NOT(ISBLANK(ShareOfSearch_SERPS!G878)),ShareOfSearch_SERPS!G878,\"\")","v":""},{"$f":"IF(NOT(ISBLANK(ShareOfSearch_SERPS!K878)),ShareOfSearch_SERPS!K878,\"\")","v":""},{"$f":"IFERROR(VLOOKUP(C878,ShareOfSearch_CTR!$A$1:$B$100,2,FALSE)*VLOOKUP(A878&B878,ShareOfSearch_Volume!$C$1:$D$1000,2,FALSE),\"\")","v":""}]
[{"$f":"IF(ISTEXT(ShareOfSearch_SERPS!C879),ShareOfSearch_SERPS!C879,\"\")","v":""},{"$f":"IF(ISTEXT(ShareOfSearch_SERPS!D879),ShareOfSearch_SERPS!D879,\"\")","v":""},{"$f":"IF(NOT(ISBLANK(ShareOfSearch_SERPS!A879)),ShareOfSearch_SERPS!A879,\"\")","v":""},{"$f":"IF(NOT(ISBLANK(ShareOfSearch_SERPS!G879)),ShareOfSearch_SERPS!G879,\"\")","v":""},{"$f":"IF(NOT(ISBLANK(ShareOfSearch_SERPS!K879)),ShareOfSearch_SERPS!K879,\"\")","v":""},{"$f":"IFERROR(VLOOKUP(C879,ShareOfSearch_CTR!$A$1:$B$100,2,FALSE)*VLOOKUP(A879&B879,ShareOfSearch_Volume!$C$1:$D$1000,2,FALSE),\"\")","v":""}]
[{"$f":"IF(ISTEXT(ShareOfSearch_SERPS!C880),ShareOfSearch_SERPS!C880,\"\")","v":""},{"$f":"IF(ISTEXT(ShareOfSearch_SERPS!D880),ShareOfSearch_SERPS!D880,\"\")","v":""},{"$f":"IF(NOT(ISBLANK(ShareOfSearch_SERPS!A880)),ShareOfSearch_SERPS!A880,\"\")","v":""},{"$f":"IF(NOT(ISBLANK(ShareOfSearch_SERPS!G880)),ShareOfSearch_SERPS!G880,\"\")","v":""},{"$f":"IF(NOT(ISBLANK(ShareOfSearch_SERPS!K880)),ShareOfSearch_SERPS!K880,\"\")","v":""},{"$f":"IFERROR(VLOOKUP(C880,ShareOfSearch_CTR!$A$1:$B$100,2,FALSE)*VLOOKUP(A880&B880,ShareOfSearch_Volume!$C$1:$D$1000,2,FALSE),\"\")","v":""}]
[{"$f":"IF(ISTEXT(ShareOfSearch_SERPS!C881),ShareOfSearch_SERPS!C881,\"\")","v":""},{"$f":"IF(ISTEXT(ShareOfSearch_SERPS!D881),ShareOfSearch_SERPS!D881,\"\")","v":""},{"$f":"IF(NOT(ISBLANK(ShareOfSearch_SERPS!A881)),ShareOfSearch_SERPS!A881,\"\")","v":""},{"$f":"IF(NOT(ISBLANK(ShareOfSearch_SERPS!G881)),ShareOfSearch_SERPS!G881,\"\")","v":""},{"$f":"IF(NOT(ISBLANK(ShareOfSearch_SERPS!K881)),ShareOfSearch_SERPS!K881,\"\")","v":""},{"$f":"IFERROR(VLOOKUP(C881,ShareOfSearch_CTR!$A$1:$B$100,2,FALSE)*VLOOKUP(A881&B881,ShareOfSearch_Volume!$C$1:$D$1000,2,FALSE),\"\")","v":""}]
[{"$f":"IF(ISTEXT(ShareOfSearch_SERPS!C882),ShareOfSearch_SERPS!C882,\"\")","v":""},{"$f":"IF(ISTEXT(ShareOfSearch_SERPS!D882),ShareOfSearch_SERPS!D882,\"\")","v":""},{"$f":"IF(NOT(ISBLANK(ShareOfSearch_SERPS!A882)),ShareOfSearch_SERPS!A882,\"\")","v":""},{"$f":"IF(NOT(ISBLANK(ShareOfSearch_SERPS!G882)),ShareOfSearch_SERPS!G882,\"\")","v":""},{"$f":"IF(NOT(ISBLANK(ShareOfSearch_SERPS!K882)),ShareOfSearch_SERPS!K882,\"\")","v":""},{"$f":"IFERROR(VLOOKUP(C882,ShareOfSearch_CTR!$A$1:$B$100,2,FALSE)*VLOOKUP(A882&B882,ShareOfSearch_Volume!$C$1:$D$1000,2,FALSE),\"\")","v":""}]
[{"$f":"IF(ISTEXT(ShareOfSearch_SERPS!C883),ShareOfSearch_SERPS!C883,\"\")","v":""},{"$f":"IF(ISTEXT(ShareOfSearch_SERPS!D883),ShareOfSearch_SERPS!D883,\"\")","v":""},{"$f":"IF(NOT(ISBLANK(ShareOfSearch_SERPS!A883)),ShareOfSearch_SERPS!A883,\"\")","v":""},{"$f":"IF(NOT(ISBLANK(ShareOfSearch_SERPS!G883)),ShareOfSearch_SERPS!G883,\"\")","v":""},{"$f":"IF(NOT(ISBLANK(ShareOfSearch_SERPS!K883)),ShareOfSearch_SERPS!K883,\"\")","v":""},{"$f":"IFERROR(VLOOKUP(C883,ShareOfSearch_CTR!$A$1:$B$100,2,FALSE)*VLOOKUP(A883&B883,ShareOfSearch_Volume!$C$1:$D$1000,2,FALSE),\"\")","v":""}]
[{"$f":"IF(ISTEXT(ShareOfSearch_SERPS!C884),ShareOfSearch_SERPS!C884,\"\")","v":""},{"$f":"IF(ISTEXT(ShareOfSearch_SERPS!D884),ShareOfSearch_SERPS!D884,\"\")","v":""},{"$f":"IF(NOT(ISBLANK(ShareOfSearch_SERPS!A884)),ShareOfSearch_SERPS!A884,\"\")","v":""},{"$f":"IF(NOT(ISBLANK(ShareOfSearch_SERPS!G884)),ShareOfSearch_SERPS!G884,\"\")","v":""},{"$f":"IF(NOT(ISBLANK(ShareOfSearch_SERPS!K884)),ShareOfSearch_SERPS!K884,\"\")","v":""},{"$f":"IFERROR(VLOOKUP(C884,ShareOfSearch_CTR!$A$1:$B$100,2,FALSE)*VLOOKUP(A884&B884,ShareOfSearch_Volume!$C$1:$D$1000,2,FALSE),\"\")","v":""}]
[{"$f":"IF(ISTEXT(ShareOfSearch_SERPS!C885),ShareOfSearch_SERPS!C885,\"\")","v":""},{"$f":"IF(ISTEXT(ShareOfSearch_SERPS!D885),ShareOfSearch_SERPS!D885,\"\")","v":""},{"$f":"IF(NOT(ISBLANK(ShareOfSearch_SERPS!A885)),ShareOfSearch_SERPS!A885,\"\")","v":""},{"$f":"IF(NOT(ISBLANK(ShareOfSearch_SERPS!G885)),ShareOfSearch_SERPS!G885,\"\")","v":""},{"$f":"IF(NOT(ISBLANK(ShareOfSearch_SERPS!K885)),ShareOfSearch_SERPS!K885,\"\")","v":""},{"$f":"IFERROR(VLOOKUP(C885,ShareOfSearch_CTR!$A$1:$B$100,2,FALSE)*VLOOKUP(A885&B885,ShareOfSearch_Volume!$C$1:$D$1000,2,FALSE),\"\")","v":""}]
[{"$f":"IF(ISTEXT(ShareOfSearch_SERPS!C886),ShareOfSearch_SERPS!C886,\"\")","v":""},{"$f":"IF(ISTEXT(ShareOfSearch_SERPS!D886),ShareOfSearch_SERPS!D886,\"\")","v":""},{"$f":"IF(NOT(ISBLANK(ShareOfSearch_SERPS!A886)),ShareOfSearch_SERPS!A886,\"\")","v":""},{"$f":"IF(NOT(ISBLANK(ShareOfSearch_SERPS!G886)),ShareOfSearch_SERPS!G886,\"\")","v":""},{"$f":"IF(NOT(ISBLANK(ShareOfSearch_SERPS!K886)),ShareOfSearch_SERPS!K886,\"\")","v":""},{"$f":"IFERROR(VLOOKUP(C886,ShareOfSearch_CTR!$A$1:$B$100,2,FALSE)*VLOOKUP(A886&B886,ShareOfSearch_Volume!$C$1:$D$1000,2,FALSE),\"\")","v":""}]
[{"$f":"IF(ISTEXT(ShareOfSearch_SERPS!C887),ShareOfSearch_SERPS!C887,\"\")","v":""},{"$f":"IF(ISTEXT(ShareOfSearch_SERPS!D887),ShareOfSearch_SERPS!D887,\"\")","v":""},{"$f":"IF(NOT(ISBLANK(ShareOfSearch_SERPS!A887)),ShareOfSearch_SERPS!A887,\"\")","v":""},{"$f":"IF(NOT(ISBLANK(ShareOfSearch_SERPS!G887)),ShareOfSearch_SERPS!G887,\"\")","v":""},{"$f":"IF(NOT(ISBLANK(ShareOfSearch_SERPS!K887)),ShareOfSearch_SERPS!K887,\"\")","v":""},{"$f":"IFERROR(VLOOKUP(C887,ShareOfSearch_CTR!$A$1:$B$100,2,FALSE)*VLOOKUP(A887&B887,ShareOfSearch_Volume!$C$1:$D$1000,2,FALSE),\"\")","v":""}]
[{"$f":"IF(ISTEXT(ShareOfSearch_SERPS!C888),ShareOfSearch_SERPS!C888,\"\")","v":""},{"$f":"IF(ISTEXT(ShareOfSearch_SERPS!D888),ShareOfSearch_SERPS!D888,\"\")","v":""},{"$f":"IF(NOT(ISBLANK(ShareOfSearch_SERPS!A888)),ShareOfSearch_SERPS!A888,\"\")","v":""},{"$f":"IF(NOT(ISBLANK(ShareOfSearch_SERPS!G888)),ShareOfSearch_SERPS!G888,\"\")","v":""},{"$f":"IF(NOT(ISBLANK(ShareOfSearch_SERPS!K888)),ShareOfSearch_SERPS!K888,\"\")","v":""},{"$f":"IFERROR(VLOOKUP(C888,ShareOfSearch_CTR!$A$1:$B$100,2,FALSE)*VLOOKUP(A888&B888,ShareOfSearch_Volume!$C$1:$D$1000,2,FALSE),\"\")","v":""}]
[{"$f":"IF(ISTEXT(ShareOfSearch_SERPS!C889),ShareOfSearch_SERPS!C889,\"\")","v":""},{"$f":"IF(ISTEXT(ShareOfSearch_SERPS!D889),ShareOfSearch_SERPS!D889,\"\")","v":""},{"$f":"IF(NOT(ISBLANK(ShareOfSearch_SERPS!A889)),ShareOfSearch_SERPS!A889,\"\")","v":""},{"$f":"IF(NOT(ISBLANK(ShareOfSearch_SERPS!G889)),ShareOfSearch_SERPS!G889,\"\")","v":""},{"$f":"IF(NOT(ISBLANK(ShareOfSearch_SERPS!K889)),ShareOfSearch_SERPS!K889,\"\")","v":""},{"$f":"IFERROR(VLOOKUP(C889,ShareOfSearch_CTR!$A$1:$B$100,2,FALSE)*VLOOKUP(A889&B889,ShareOfSearch_Volume!$C$1:$D$1000,2,FALSE),\"\")","v":""}]
[{"$f":"IF(ISTEXT(ShareOfSearch_SERPS!C890),ShareOfSearch_SERPS!C890,\"\")","v":""},{"$f":"IF(ISTEXT(ShareOfSearch_SERPS!D890),ShareOfSearch_SERPS!D890,\"\")","v":""},{"$f":"IF(NOT(ISBLANK(ShareOfSearch_SERPS!A890)),ShareOfSearch_SERPS!A890,\"\")","v":""},{"$f":"IF(NOT(ISBLANK(ShareOfSearch_SERPS!G890)),ShareOfSearch_SERPS!G890,\"\")","v":""},{"$f":"IF(NOT(ISBLANK(ShareOfSearch_SERPS!K890)),ShareOfSearch_SERPS!K890,\"\")","v":""},{"$f":"IFERROR(VLOOKUP(C890,ShareOfSearch_CTR!$A$1:$B$100,2,FALSE)*VLOOKUP(A890&B890,ShareOfSearch_Volume!$C$1:$D$1000,2,FALSE),\"\")","v":""}]
[{"$f":"IF(ISTEXT(ShareOfSearch_SERPS!C891),ShareOfSearch_SERPS!C891,\"\")","v":""},{"$f":"IF(ISTEXT(ShareOfSearch_SERPS!D891),ShareOfSearch_SERPS!D891,\"\")","v":""},{"$f":"IF(NOT(ISBLANK(ShareOfSearch_SERPS!A891)),ShareOfSearch_SERPS!A891,\"\")","v":""},{"$f":"IF(NOT(ISBLANK(ShareOfSearch_SERPS!G891)),ShareOfSearch_SERPS!G891,\"\")","v":""},{"$f":"IF(NOT(ISBLANK(ShareOfSearch_SERPS!K891)),ShareOfSearch_SERPS!K891,\"\")","v":""},{"$f":"IFERROR(VLOOKUP(C891,ShareOfSearch_CTR!$A$1:$B$100,2,FALSE)*VLOOKUP(A891&B891,ShareOfSearch_Volume!$C$1:$D$1000,2,FALSE),\"\")","v":""}]
[{"$f":"IF(ISTEXT(ShareOfSearch_SERPS!C892),ShareOfSearch_SERPS!C892,\"\")","v":""},{"$f":"IF(ISTEXT(ShareOfSearch_SERPS!D892),ShareOfSearch_SERPS!D892,\"\")","v":""},{"$f":"IF(NOT(ISBLANK(ShareOfSearch_SERPS!A892)),ShareOfSearch_SERPS!A892,\"\")","v":""},{"$f":"IF(NOT(ISBLANK(ShareOfSearch_SERPS!G892)),ShareOfSearch_SERPS!G892,\"\")","v":""},{"$f":"IF(NOT(ISBLANK(ShareOfSearch_SERPS!K892)),ShareOfSearch_SERPS!K892,\"\")","v":""},{"$f":"IFERROR(VLOOKUP(C892,ShareOfSearch_CTR!$A$1:$B$100,2,FALSE)*VLOOKUP(A892&B892,ShareOfSearch_Volume!$C$1:$D$1000,2,FALSE),\"\")","v":""}]
[{"$f":"IF(ISTEXT(ShareOfSearch_SERPS!C893),ShareOfSearch_SERPS!C893,\"\")","v":""},{"$f":"IF(ISTEXT(ShareOfSearch_SERPS!D893),ShareOfSearch_SERPS!D893,\"\")","v":""},{"$f":"IF(NOT(ISBLANK(ShareOfSearch_SERPS!A893)),ShareOfSearch_SERPS!A893,\"\")","v":""},{"$f":"IF(NOT(ISBLANK(ShareOfSearch_SERPS!G893)),ShareOfSearch_SERPS!G893,\"\")","v":""},{"$f":"IF(NOT(ISBLANK(ShareOfSearch_SERPS!K893)),ShareOfSearch_SERPS!K893,\"\")","v":""},{"$f":"IFERROR(VLOOKUP(C893,ShareOfSearch_CTR!$A$1:$B$100,2,FALSE)*VLOOKUP(A893&B893,ShareOfSearch_Volume!$C$1:$D$1000,2,FALSE),\"\")","v":""}]
[{"$f":"IF(ISTEXT(ShareOfSearch_SERPS!C894),ShareOfSearch_SERPS!C894,\"\")","v":""},{"$f":"IF(ISTEXT(ShareOfSearch_SERPS!D894),ShareOfSearch_SERPS!D894,\"\")","v":""},{"$f":"IF(NOT(ISBLANK(ShareOfSearch_SERPS!A894)),ShareOfSearch_SERPS!A894,\"\")","v":""},{"$f":"IF(NOT(ISBLANK(ShareOfSearch_SERPS!G894)),ShareOfSearch_SERPS!G894,\"\")","v":""},{"$f":"IF(NOT(ISBLANK(ShareOfSearch_SERPS!K894)),ShareOfSearch_SERPS!K894,\"\")","v":""},{"$f":"IFERROR(VLOOKUP(C894,ShareOfSearch_CTR!$A$1:$B$100,2,FALSE)*VLOOKUP(A894&B894,ShareOfSearch_Volume!$C$1:$D$1000,2,FALSE),\"\")","v":""}]
[{"$f":"IF(ISTEXT(ShareOfSearch_SERPS!C895),ShareOfSearch_SERPS!C895,\"\")","v":""},{"$f":"IF(ISTEXT(ShareOfSearch_SERPS!D895),ShareOfSearch_SERPS!D895,\"\")","v":""},{"$f":"IF(NOT(ISBLANK(ShareOfSearch_SERPS!A895)),ShareOfSearch_SERPS!A895,\"\")","v":""},{"$f":"IF(NOT(ISBLANK(ShareOfSearch_SERPS!G895)),ShareOfSearch_SERPS!G895,\"\")","v":""},{"$f":"IF(NOT(ISBLANK(ShareOfSearch_SERPS!K895)),ShareOfSearch_SERPS!K895,\"\")","v":""},{"$f":"IFERROR(VLOOKUP(C895,ShareOfSearch_CTR!$A$1:$B$100,2,FALSE)*VLOOKUP(A895&B895,ShareOfSearch_Volume!$C$1:$D$1000,2,FALSE),\"\")","v":""}]
[{"$f":"IF(ISTEXT(ShareOfSearch_SERPS!C896),ShareOfSearch_SERPS!C896,\"\")","v":""},{"$f":"IF(ISTEXT(ShareOfSearch_SERPS!D896),ShareOfSearch_SERPS!D896,\"\")","v":""},{"$f":"IF(NOT(ISBLANK(ShareOfSearch_SERPS!A896)),ShareOfSearch_SERPS!A896,\"\")","v":""},{"$f":"IF(NOT(ISBLANK(ShareOfSearch_SERPS!G896)),ShareOfSearch_SERPS!G896,\"\")","v":""},{"$f":"IF(NOT(ISBLANK(ShareOfSearch_SERPS!K896)),ShareOfSearch_SERPS!K896,\"\")","v":""},{"$f":"IFERROR(VLOOKUP(C896,ShareOfSearch_CTR!$A$1:$B$100,2,FALSE)*VLOOKUP(A896&B896,ShareOfSearch_Volume!$C$1:$D$1000,2,FALSE),\"\")","v":""}]
[{"$f":"IF(ISTEXT(ShareOfSearch_SERPS!C897),ShareOfSearch_SERPS!C897,\"\")","v":""},{"$f":"IF(ISTEXT(ShareOfSearch_SERPS!D897),ShareOfSearch_SERPS!D897,\"\")","v":""},{"$f":"IF(NOT(ISBLANK(ShareOfSearch_SERPS!A897)),ShareOfSearch_SERPS!A897,\"\")","v":""},{"$f":"IF(NOT(ISBLANK(ShareOfSearch_SERPS!G897)),ShareOfSearch_SERPS!G897,\"\")","v":""},{"$f":"IF(NOT(ISBLANK(ShareOfSearch_SERPS!K897)),ShareOfSearch_SERPS!K897,\"\")","v":""},{"$f":"IFERROR(VLOOKUP(C897,ShareOfSearch_CTR!$A$1:$B$100,2,FALSE)*VLOOKUP(A897&B897,ShareOfSearch_Volume!$C$1:$D$1000,2,FALSE),\"\")","v":""}]
[{"$f":"IF(ISTEXT(ShareOfSearch_SERPS!C898),ShareOfSearch_SERPS!C898,\"\")","v":""},{"$f":"IF(ISTEXT(ShareOfSearch_SERPS!D898),ShareOfSearch_SERPS!D898,\"\")","v":""},{"$f":"IF(NOT(ISBLANK(ShareOfSearch_SERPS!A898)),ShareOfSearch_SERPS!A898,\"\")","v":""},{"$f":"IF(NOT(ISBLANK(ShareOfSearch_SERPS!G898)),ShareOfSearch_SERPS!G898,\"\")","v":""},{"$f":"IF(NOT(ISBLANK(ShareOfSearch_SERPS!K898)),ShareOfSearch_SERPS!K898,\"\")","v":""},{"$f":"IFERROR(VLOOKUP(C898,ShareOfSearch_CTR!$A$1:$B$100,2,FALSE)*VLOOKUP(A898&B898,ShareOfSearch_Volume!$C$1:$D$1000,2,FALSE),\"\")","v":""}]
[{"$f":"IF(ISTEXT(ShareOfSearch_SERPS!C899),ShareOfSearch_SERPS!C899,\"\")","v":""},{"$f":"IF(ISTEXT(ShareOfSearch_SERPS!D899),ShareOfSearch_SERPS!D899,\"\")","v":""},{"$f":"IF(NOT(ISBLANK(ShareOfSearch_SERPS!A899)),ShareOfSearch_SERPS!A899,\"\")","v":""},{"$f":"IF(NOT(ISBLANK(ShareOfSearch_SERPS!G899)),ShareOfSearch_SERPS!G899,\"\")","v":""},{"$f":"IF(NOT(ISBLANK(ShareOfSearch_SERPS!K899)),ShareOfSearch_SERPS!K899,\"\")","v":""},{"$f":"IFERROR(VLOOKUP(C899,ShareOfSearch_CTR!$A$1:$B$100,2,FALSE)*VLOOKUP(A899&B899,ShareOfSearch_Volume!$C$1:$D$1000,2,FALSE),\"\")","v":""}]
[{"$f":"IF(ISTEXT(ShareOfSearch_SERPS!C900),ShareOfSearch_SERPS!C900,\"\")","v":""},{"$f":"IF(ISTEXT(ShareOfSearch_SERPS!D900),ShareOfSearch_SERPS!D900,\"\")","v":""},{"$f":"IF(NOT(ISBLANK(ShareOfSearch_SERPS!A900)),ShareOfSearch_SERPS!A900,\"\")","v":""},{"$f":"IF(NOT(ISBLANK(ShareOfSearch_SERPS!G900)),ShareOfSearch_SERPS!G900,\"\")","v":""},{"$f":"IF(NOT(ISBLANK(ShareOfSearch_SERPS!K900)),ShareOfSearch_SERPS!K900,\"\")","v":""},{"$f":"IFERROR(VLOOKUP(C900,ShareOfSearch_CTR!$A$1:$B$100,2,FALSE)*VLOOKUP(A900&B900,ShareOfSearch_Volume!$C$1:$D$1000,2,FALSE),\"\")","v":""}]
[{"$f":"IF(ISTEXT(ShareOfSearch_SERPS!C901),ShareOfSearch_SERPS!C901,\"\")","v":""},{"$f":"IF(ISTEXT(ShareOfSearch_SERPS!D901),ShareOfSearch_SERPS!D901,\"\")","v":""},{"$f":"IF(NOT(ISBLANK(ShareOfSearch_SERPS!A901)),ShareOfSearch_SERPS!A901,\"\")","v":""},{"$f":"IF(NOT(ISBLANK(ShareOfSearch_SERPS!G901)),ShareOfSearch_SERPS!G901,\"\")","v":""},{"$f":"IF(NOT(ISBLANK(ShareOfSearch_SERPS!K901)),ShareOfSearch_SERPS!K901,\"\")","v":""},{"$f":"IFERROR(VLOOKUP(C901,ShareOfSearch_CTR!$A$1:$B$100,2,FALSE)*VLOOKUP(A901&B901,ShareOfSearch_Volume!$C$1:$D$1000,2,FALSE),\"\")","v":""}]
[{"$f":"IF(ISTEXT(ShareOfSearch_SERPS!C902),ShareOfSearch_SERPS!C902,\"\")","v":""},{"$f":"IF(ISTEXT(ShareOfSearch_SERPS!D902),ShareOfSearch_SERPS!D902,\"\")","v":""},{"$f":"IF(NOT(ISBLANK(ShareOfSearch_SERPS!A902)),ShareOfSearch_SERPS!A902,\"\")","v":""},{"$f":"IF(NOT(ISBLANK(ShareOfSearch_SERPS!G902)),ShareOfSearch_SERPS!G902,\"\")","v":""},{"$f":"IF(NOT(ISBLANK(ShareOfSearch_SERPS!K902)),ShareOfSearch_SERPS!K902,\"\")","v":""},{"$f":"IFERROR(VLOOKUP(C902,ShareOfSearch_CTR!$A$1:$B$100,2,FALSE)*VLOOKUP(A902&B902,ShareOfSearch_Volume!$C$1:$D$1000,2,FALSE),\"\")","v":""}]
[{"$f":"IF(ISTEXT(ShareOfSearch_SERPS!C903),ShareOfSearch_SERPS!C903,\"\")","v":""},{"$f":"IF(ISTEXT(ShareOfSearch_SERPS!D903),ShareOfSearch_SERPS!D903,\"\")","v":""},{"$f":"IF(NOT(ISBLANK(ShareOfSearch_SERPS!A903)),ShareOfSearch_SERPS!A903,\"\")","v":""},{"$f":"IF(NOT(ISBLANK(ShareOfSearch_SERPS!G903)),ShareOfSearch_SERPS!G903,\"\")","v":""},{"$f":"IF(NOT(ISBLANK(ShareOfSearch_SERPS!K903)),ShareOfSearch_SERPS!K903,\"\")","v":""},{"$f":"IFERROR(VLOOKUP(C903,ShareOfSearch_CTR!$A$1:$B$100,2,FALSE)*VLOOKUP(A903&B903,ShareOfSearch_Volume!$C$1:$D$1000,2,FALSE),\"\")","v":""}]
[{"$f":"IF(ISTEXT(ShareOfSearch_SERPS!C904),ShareOfSearch_SERPS!C904,\"\")","v":""},{"$f":"IF(ISTEXT(ShareOfSearch_SERPS!D904),ShareOfSearch_SERPS!D904,\"\")","v":""},{"$f":"IF(NOT(ISBLANK(ShareOfSearch_SERPS!A904)),ShareOfSearch_SERPS!A904,\"\")","v":""},{"$f":"IF(NOT(ISBLANK(ShareOfSearch_SERPS!G904)),ShareOfSearch_SERPS!G904,\"\")","v":""},{"$f":"IF(NOT(ISBLANK(ShareOfSearch_SERPS!K904)),ShareOfSearch_SERPS!K904,\"\")","v":""},{"$f":"IFERROR(VLOOKUP(C904,ShareOfSearch_CTR!$A$1:$B$100,2,FALSE)*VLOOKUP(A904&B904,ShareOfSearch_Volume!$C$1:$D$1000,2,FALSE),\"\")","v":""}]
[{"$f":"IF(ISTEXT(ShareOfSearch_SERPS!C905),ShareOfSearch_SERPS!C905,\"\")","v":""},{"$f":"IF(ISTEXT(ShareOfSearch_SERPS!D905),ShareOfSearch_SERPS!D905,\"\")","v":""},{"$f":"IF(NOT(ISBLANK(ShareOfSearch_SERPS!A905)),ShareOfSearch_SERPS!A905,\"\")","v":""},{"$f":"IF(NOT(ISBLANK(ShareOfSearch_SERPS!G905)),ShareOfSearch_SERPS!G905,\"\")","v":""},{"$f":"IF(NOT(ISBLANK(ShareOfSearch_SERPS!K905)),ShareOfSearch_SERPS!K905,\"\")","v":""},{"$f":"IFERROR(VLOOKUP(C905,ShareOfSearch_CTR!$A$1:$B$100,2,FALSE)*VLOOKUP(A905&B905,ShareOfSearch_Volume!$C$1:$D$1000,2,FALSE),\"\")","v":""}]
[{"$f":"IF(ISTEXT(ShareOfSearch_SERPS!C906),ShareOfSearch_SERPS!C906,\"\")","v":""},{"$f":"IF(ISTEXT(ShareOfSearch_SERPS!D906),ShareOfSearch_SERPS!D906,\"\")","v":""},{"$f":"IF(NOT(ISBLANK(ShareOfSearch_SERPS!A906)),ShareOfSearch_SERPS!A906,\"\")","v":""},{"$f":"IF(NOT(ISBLANK(ShareOfSearch_SERPS!G906)),ShareOfSearch_SERPS!G906,\"\")","v":""},{"$f":"IF(NOT(ISBLANK(ShareOfSearch_SERPS!K906)),ShareOfSearch_SERPS!K906,\"\")","v":""},{"$f":"IFERROR(VLOOKUP(C906,ShareOfSearch_CTR!$A$1:$B$100,2,FALSE)*VLOOKUP(A906&B906,ShareOfSearch_Volume!$C$1:$D$1000,2,FALSE),\"\")","v":""}]
[{"$f":"IF(ISTEXT(ShareOfSearch_SERPS!C907),ShareOfSearch_SERPS!C907,\"\")","v":""},{"$f":"IF(ISTEXT(ShareOfSearch_SERPS!D907),ShareOfSearch_SERPS!D907,\"\")","v":""},{"$f":"IF(NOT(ISBLANK(ShareOfSearch_SERPS!A907)),ShareOfSearch_SERPS!A907,\"\")","v":""},{"$f":"IF(NOT(ISBLANK(ShareOfSearch_SERPS!G907)),ShareOfSearch_SERPS!G907,\"\")","v":""},{"$f":"IF(NOT(ISBLANK(ShareOfSearch_SERPS!K907)),ShareOfSearch_SERPS!K907,\"\")","v":""},{"$f":"IFERROR(VLOOKUP(C907,ShareOfSearch_CTR!$A$1:$B$100,2,FALSE)*VLOOKUP(A907&B907,ShareOfSearch_Volume!$C$1:$D$1000,2,FALSE),\"\")","v":""}]
[{"$f":"IF(ISTEXT(ShareOfSearch_SERPS!C908),ShareOfSearch_SERPS!C908,\"\")","v":""},{"$f":"IF(ISTEXT(ShareOfSearch_SERPS!D908),ShareOfSearch_SERPS!D908,\"\")","v":""},{"$f":"IF(NOT(ISBLANK(ShareOfSearch_SERPS!A908)),ShareOfSearch_SERPS!A908,\"\")","v":""},{"$f":"IF(NOT(ISBLANK(ShareOfSearch_SERPS!G908)),ShareOfSearch_SERPS!G908,\"\")","v":""},{"$f":"IF(NOT(ISBLANK(ShareOfSearch_SERPS!K908)),ShareOfSearch_SERPS!K908,\"\")","v":""},{"$f":"IFERROR(VLOOKUP(C908,ShareOfSearch_CTR!$A$1:$B$100,2,FALSE)*VLOOKUP(A908&B908,ShareOfSearch_Volume!$C$1:$D$1000,2,FALSE),\"\")","v":""}]
[{"$f":"IF(ISTEXT(ShareOfSearch_SERPS!C909),ShareOfSearch_SERPS!C909,\"\")","v":""},{"$f":"IF(ISTEXT(ShareOfSearch_SERPS!D909),ShareOfSearch_SERPS!D909,\"\")","v":""},{"$f":"IF(NOT(ISBLANK(ShareOfSearch_SERPS!A909)),ShareOfSearch_SERPS!A909,\"\")","v":""},{"$f":"IF(NOT(ISBLANK(ShareOfSearch_SERPS!G909)),ShareOfSearch_SERPS!G909,\"\")","v":""},{"$f":"IF(NOT(ISBLANK(ShareOfSearch_SERPS!K909)),ShareOfSearch_SERPS!K909,\"\")","v":""},{"$f":"IFERROR(VLOOKUP(C909,ShareOfSearch_CTR!$A$1:$B$100,2,FALSE)*VLOOKUP(A909&B909,ShareOfSearch_Volume!$C$1:$D$1000,2,FALSE),\"\")","v":""}]
[{"$f":"IF(ISTEXT(ShareOfSearch_SERPS!C910),ShareOfSearch_SERPS!C910,\"\")","v":""},{"$f":"IF(ISTEXT(ShareOfSearch_SERPS!D910),ShareOfSearch_SERPS!D910,\"\")","v":""},{"$f":"IF(NOT(ISBLANK(ShareOfSearch_SERPS!A910)),ShareOfSearch_SERPS!A910,\"\")","v":""},{"$f":"IF(NOT(ISBLANK(ShareOfSearch_SERPS!G910)),ShareOfSearch_SERPS!G910,\"\")","v":""},{"$f":"IF(NOT(ISBLANK(ShareOfSearch_SERPS!K910)),ShareOfSearch_SERPS!K910,\"\")","v":""},{"$f":"IFERROR(VLOOKUP(C910,ShareOfSearch_CTR!$A$1:$B$100,2,FALSE)*VLOOKUP(A910&B910,ShareOfSearch_Volume!$C$1:$D$1000,2,FALSE),\"\")","v":""}]
[{"$f":"IF(ISTEXT(ShareOfSearch_SERPS!C911),ShareOfSearch_SERPS!C911,\"\")","v":""},{"$f":"IF(ISTEXT(ShareOfSearch_SERPS!D911),ShareOfSearch_SERPS!D911,\"\")","v":""},{"$f":"IF(NOT(ISBLANK(ShareOfSearch_SERPS!A911)),ShareOfSearch_SERPS!A911,\"\")","v":""},{"$f":"IF(NOT(ISBLANK(ShareOfSearch_SERPS!G911)),ShareOfSearch_SERPS!G911,\"\")","v":""},{"$f":"IF(NOT(ISBLANK(ShareOfSearch_SERPS!K911)),ShareOfSearch_SERPS!K911,\"\")","v":""},{"$f":"IFERROR(VLOOKUP(C911,ShareOfSearch_CTR!$A$1:$B$100,2,FALSE)*VLOOKUP(A911&B911,ShareOfSearch_Volume!$C$1:$D$1000,2,FALSE),\"\")","v":""}]
[{"$f":"IF(ISTEXT(ShareOfSearch_SERPS!C912),ShareOfSearch_SERPS!C912,\"\")","v":""},{"$f":"IF(ISTEXT(ShareOfSearch_SERPS!D912),ShareOfSearch_SERPS!D912,\"\")","v":""},{"$f":"IF(NOT(ISBLANK(ShareOfSearch_SERPS!A912)),ShareOfSearch_SERPS!A912,\"\")","v":""},{"$f":"IF(NOT(ISBLANK(ShareOfSearch_SERPS!G912)),ShareOfSearch_SERPS!G912,\"\")","v":""},{"$f":"IF(NOT(ISBLANK(ShareOfSearch_SERPS!K912)),ShareOfSearch_SERPS!K912,\"\")","v":""},{"$f":"IFERROR(VLOOKUP(C912,ShareOfSearch_CTR!$A$1:$B$100,2,FALSE)*VLOOKUP(A912&B912,ShareOfSearch_Volume!$C$1:$D$1000,2,FALSE),\"\")","v":""}]
[{"$f":"IF(ISTEXT(ShareOfSearch_SERPS!C913),ShareOfSearch_SERPS!C913,\"\")","v":""},{"$f":"IF(ISTEXT(ShareOfSearch_SERPS!D913),ShareOfSearch_SERPS!D913,\"\")","v":""},{"$f":"IF(NOT(ISBLANK(ShareOfSearch_SERPS!A913)),ShareOfSearch_SERPS!A913,\"\")","v":""},{"$f":"IF(NOT(ISBLANK(ShareOfSearch_SERPS!G913)),ShareOfSearch_SERPS!G913,\"\")","v":""},{"$f":"IF(NOT(ISBLANK(ShareOfSearch_SERPS!K913)),ShareOfSearch_SERPS!K913,\"\")","v":""},{"$f":"IFERROR(VLOOKUP(C913,ShareOfSearch_CTR!$A$1:$B$100,2,FALSE)*VLOOKUP(A913&B913,ShareOfSearch_Volume!$C$1:$D$1000,2,FALSE),\"\")","v":""}]
[{"$f":"IF(ISTEXT(ShareOfSearch_SERPS!C914),ShareOfSearch_SERPS!C914,\"\")","v":""},{"$f":"IF(ISTEXT(ShareOfSearch_SERPS!D914),ShareOfSearch_SERPS!D914,\"\")","v":""},{"$f":"IF(NOT(ISBLANK(ShareOfSearch_SERPS!A914)),ShareOfSearch_SERPS!A914,\"\")","v":""},{"$f":"IF(NOT(ISBLANK(ShareOfSearch_SERPS!G914)),ShareOfSearch_SERPS!G914,\"\")","v":""},{"$f":"IF(NOT(ISBLANK(ShareOfSearch_SERPS!K914)),ShareOfSearch_SERPS!K914,\"\")","v":""},{"$f":"IFERROR(VLOOKUP(C914,ShareOfSearch_CTR!$A$1:$B$100,2,FALSE)*VLOOKUP(A914&B914,ShareOfSearch_Volume!$C$1:$D$1000,2,FALSE),\"\")","v":""}]
[{"$f":"IF(ISTEXT(ShareOfSearch_SERPS!C915),ShareOfSearch_SERPS!C915,\"\")","v":""},{"$f":"IF(ISTEXT(ShareOfSearch_SERPS!D915),ShareOfSearch_SERPS!D915,\"\")","v":""},{"$f":"IF(NOT(ISBLANK(ShareOfSearch_SERPS!A915)),ShareOfSearch_SERPS!A915,\"\")","v":""},{"$f":"IF(NOT(ISBLANK(ShareOfSearch_SERPS!G915)),ShareOfSearch_SERPS!G915,\"\")","v":""},{"$f":"IF(NOT(ISBLANK(ShareOfSearch_SERPS!K915)),ShareOfSearch_SERPS!K915,\"\")","v":""},{"$f":"IFERROR(VLOOKUP(C915,ShareOfSearch_CTR!$A$1:$B$100,2,FALSE)*VLOOKUP(A915&B915,ShareOfSearch_Volume!$C$1:$D$1000,2,FALSE),\"\")","v":""}]
[{"$f":"IF(ISTEXT(ShareOfSearch_SERPS!C916),ShareOfSearch_SERPS!C916,\"\")","v":""},{"$f":"IF(ISTEXT(ShareOfSearch_SERPS!D916),ShareOfSearch_SERPS!D916,\"\")","v":""},{"$f":"IF(NOT(ISBLANK(ShareOfSearch_SERPS!A916)),ShareOfSearch_SERPS!A916,\"\")","v":""},{"$f":"IF(NOT(ISBLANK(ShareOfSearch_SERPS!G916)),ShareOfSearch_SERPS!G916,\"\")","v":""},{"$f":"IF(NOT(ISBLANK(ShareOfSearch_SERPS!K916)),ShareOfSearch_SERPS!K916,\"\")","v":""},{"$f":"IFERROR(VLOOKUP(C916,ShareOfSearch_CTR!$A$1:$B$100,2,FALSE)*VLOOKUP(A916&B916,ShareOfSearch_Volume!$C$1:$D$1000,2,FALSE),\"\")","v":""}]
[{"$f":"IF(ISTEXT(ShareOfSearch_SERPS!C917),ShareOfSearch_SERPS!C917,\"\")","v":""},{"$f":"IF(ISTEXT(ShareOfSearch_SERPS!D917),ShareOfSearch_SERPS!D917,\"\")","v":""},{"$f":"IF(NOT(ISBLANK(ShareOfSearch_SERPS!A917)),ShareOfSearch_SERPS!A917,\"\")","v":""},{"$f":"IF(NOT(ISBLANK(ShareOfSearch_SERPS!G917)),ShareOfSearch_SERPS!G917,\"\")","v":""},{"$f":"IF(NOT(ISBLANK(ShareOfSearch_SERPS!K917)),ShareOfSearch_SERPS!K917,\"\")","v":""},{"$f":"IFERROR(VLOOKUP(C917,ShareOfSearch_CTR!$A$1:$B$100,2,FALSE)*VLOOKUP(A917&B917,ShareOfSearch_Volume!$C$1:$D$1000,2,FALSE),\"\")","v":""}]
[{"$f":"IF(ISTEXT(ShareOfSearch_SERPS!C918),ShareOfSearch_SERPS!C918,\"\")","v":""},{"$f":"IF(ISTEXT(ShareOfSearch_SERPS!D918),ShareOfSearch_SERPS!D918,\"\")","v":""},{"$f":"IF(NOT(ISBLANK(ShareOfSearch_SERPS!A918)),ShareOfSearch_SERPS!A918,\"\")","v":""},{"$f":"IF(NOT(ISBLANK(ShareOfSearch_SERPS!G918)),ShareOfSearch_SERPS!G918,\"\")","v":""},{"$f":"IF(NOT(ISBLANK(ShareOfSearch_SERPS!K918)),ShareOfSearch_SERPS!K918,\"\")","v":""},{"$f":"IFERROR(VLOOKUP(C918,ShareOfSearch_CTR!$A$1:$B$100,2,FALSE)*VLOOKUP(A918&B918,ShareOfSearch_Volume!$C$1:$D$1000,2,FALSE),\"\")","v":""}]
[{"$f":"IF(ISTEXT(ShareOfSearch_SERPS!C919),ShareOfSearch_SERPS!C919,\"\")","v":""},{"$f":"IF(ISTEXT(ShareOfSearch_SERPS!D919),ShareOfSearch_SERPS!D919,\"\")","v":""},{"$f":"IF(NOT(ISBLANK(ShareOfSearch_SERPS!A919)),ShareOfSearch_SERPS!A919,\"\")","v":""},{"$f":"IF(NOT(ISBLANK(ShareOfSearch_SERPS!G919)),ShareOfSearch_SERPS!G919,\"\")","v":""},{"$f":"IF(NOT(ISBLANK(ShareOfSearch_SERPS!K919)),ShareOfSearch_SERPS!K919,\"\")","v":""},{"$f":"IFERROR(VLOOKUP(C919,ShareOfSearch_CTR!$A$1:$B$100,2,FALSE)*VLOOKUP(A919&B919,ShareOfSearch_Volume!$C$1:$D$1000,2,FALSE),\"\")","v":""}]
[{"$f":"IF(ISTEXT(ShareOfSearch_SERPS!C920),ShareOfSearch_SERPS!C920,\"\")","v":""},{"$f":"IF(ISTEXT(ShareOfSearch_SERPS!D920),ShareOfSearch_SERPS!D920,\"\")","v":""},{"$f":"IF(NOT(ISBLANK(ShareOfSearch_SERPS!A920)),ShareOfSearch_SERPS!A920,\"\")","v":""},{"$f":"IF(NOT(ISBLANK(ShareOfSearch_SERPS!G920)),ShareOfSearch_SERPS!G920,\"\")","v":""},{"$f":"IF(NOT(ISBLANK(ShareOfSearch_SERPS!K920)),ShareOfSearch_SERPS!K920,\"\")","v":""},{"$f":"IFERROR(VLOOKUP(C920,ShareOfSearch_CTR!$A$1:$B$100,2,FALSE)*VLOOKUP(A920&B920,ShareOfSearch_Volume!$C$1:$D$1000,2,FALSE),\"\")","v":""}]
[{"$f":"IF(ISTEXT(ShareOfSearch_SERPS!C921),ShareOfSearch_SERPS!C921,\"\")","v":""},{"$f":"IF(ISTEXT(ShareOfSearch_SERPS!D921),ShareOfSearch_SERPS!D921,\"\")","v":""},{"$f":"IF(NOT(ISBLANK(ShareOfSearch_SERPS!A921)),ShareOfSearch_SERPS!A921,\"\")","v":""},{"$f":"IF(NOT(ISBLANK(ShareOfSearch_SERPS!G921)),ShareOfSearch_SERPS!G921,\"\")","v":""},{"$f":"IF(NOT(ISBLANK(ShareOfSearch_SERPS!K921)),ShareOfSearch_SERPS!K921,\"\")","v":""},{"$f":"IFERROR(VLOOKUP(C921,ShareOfSearch_CTR!$A$1:$B$100,2,FALSE)*VLOOKUP(A921&B921,ShareOfSearch_Volume!$C$1:$D$1000,2,FALSE),\"\")","v":""}]
[{"$f":"IF(ISTEXT(ShareOfSearch_SERPS!C922),ShareOfSearch_SERPS!C922,\"\")","v":""},{"$f":"IF(ISTEXT(ShareOfSearch_SERPS!D922),ShareOfSearch_SERPS!D922,\"\")","v":""},{"$f":"IF(NOT(ISBLANK(ShareOfSearch_SERPS!A922)),ShareOfSearch_SERPS!A922,\"\")","v":""},{"$f":"IF(NOT(ISBLANK(ShareOfSearch_SERPS!G922)),ShareOfSearch_SERPS!G922,\"\")","v":""},{"$f":"IF(NOT(ISBLANK(ShareOfSearch_SERPS!K922)),ShareOfSearch_SERPS!K922,\"\")","v":""},{"$f":"IFERROR(VLOOKUP(C922,ShareOfSearch_CTR!$A$1:$B$100,2,FALSE)*VLOOKUP(A922&B922,ShareOfSearch_Volume!$C$1:$D$1000,2,FALSE),\"\")","v":""}]
[{"$f":"IF(ISTEXT(ShareOfSearch_SERPS!C923),ShareOfSearch_SERPS!C923,\"\")","v":""},{"$f":"IF(ISTEXT(ShareOfSearch_SERPS!D923),ShareOfSearch_SERPS!D923,\"\")","v":""},{"$f":"IF(NOT(ISBLANK(ShareOfSearch_SERPS!A923)),ShareOfSearch_SERPS!A923,\"\")","v":""},{"$f":"IF(NOT(ISBLANK(ShareOfSearch_SERPS!G923)),ShareOfSearch_SERPS!G923,\"\")","v":""},{"$f":"IF(NOT(ISBLANK(ShareOfSearch_SERPS!K923)),ShareOfSearch_SERPS!K923,\"\")","v":""},{"$f":"IFERROR(VLOOKUP(C923,ShareOfSearch_CTR!$A$1:$B$100,2,FALSE)*VLOOKUP(A923&B923,ShareOfSearch_Volume!$C$1:$D$1000,2,FALSE),\"\")","v":""}]
[{"$f":"IF(ISTEXT(ShareOfSearch_SERPS!C924),ShareOfSearch_SERPS!C924,\"\")","v":""},{"$f":"IF(ISTEXT(ShareOfSearch_SERPS!D924),ShareOfSearch_SERPS!D924,\"\")","v":""},{"$f":"IF(NOT(ISBLANK(ShareOfSearch_SERPS!A924)),ShareOfSearch_SERPS!A924,\"\")","v":""},{"$f":"IF(NOT(ISBLANK(ShareOfSearch_SERPS!G924)),ShareOfSearch_SERPS!G924,\"\")","v":""},{"$f":"IF(NOT(ISBLANK(ShareOfSearch_SERPS!K924)),ShareOfSearch_SERPS!K924,\"\")","v":""},{"$f":"IFERROR(VLOOKUP(C924,ShareOfSearch_CTR!$A$1:$B$100,2,FALSE)*VLOOKUP(A924&B924,ShareOfSearch_Volume!$C$1:$D$1000,2,FALSE),\"\")","v":""}]
[{"$f":"IF(ISTEXT(ShareOfSearch_SERPS!C925),ShareOfSearch_SERPS!C925,\"\")","v":""},{"$f":"IF(ISTEXT(ShareOfSearch_SERPS!D925),ShareOfSearch_SERPS!D925,\"\")","v":""},{"$f":"IF(NOT(ISBLANK(ShareOfSearch_SERPS!A925)),ShareOfSearch_SERPS!A925,\"\")","v":""},{"$f":"IF(NOT(ISBLANK(ShareOfSearch_SERPS!G925)),ShareOfSearch_SERPS!G925,\"\")","v":""},{"$f":"IF(NOT(ISBLANK(ShareOfSearch_SERPS!K925)),ShareOfSearch_SERPS!K925,\"\")","v":""},{"$f":"IFERROR(VLOOKUP(C925,ShareOfSearch_CTR!$A$1:$B$100,2,FALSE)*VLOOKUP(A925&B925,ShareOfSearch_Volume!$C$1:$D$1000,2,FALSE),\"\")","v":""}]
[{"$f":"IF(ISTEXT(ShareOfSearch_SERPS!C926),ShareOfSearch_SERPS!C926,\"\")","v":""},{"$f":"IF(ISTEXT(ShareOfSearch_SERPS!D926),ShareOfSearch_SERPS!D926,\"\")","v":""},{"$f":"IF(NOT(ISBLANK(ShareOfSearch_SERPS!A926)),ShareOfSearch_SERPS!A926,\"\")","v":""},{"$f":"IF(NOT(ISBLANK(ShareOfSearch_SERPS!G926)),ShareOfSearch_SERPS!G926,\"\")","v":""},{"$f":"IF(NOT(ISBLANK(ShareOfSearch_SERPS!K926)),ShareOfSearch_SERPS!K926,\"\")","v":""},{"$f":"IFERROR(VLOOKUP(C926,ShareOfSearch_CTR!$A$1:$B$100,2,FALSE)*VLOOKUP(A926&B926,ShareOfSearch_Volume!$C$1:$D$1000,2,FALSE),\"\")","v":""}]
[{"$f":"IF(ISTEXT(ShareOfSearch_SERPS!C927),ShareOfSearch_SERPS!C927,\"\")","v":""},{"$f":"IF(ISTEXT(ShareOfSearch_SERPS!D927),ShareOfSearch_SERPS!D927,\"\")","v":""},{"$f":"IF(NOT(ISBLANK(ShareOfSearch_SERPS!A927)),ShareOfSearch_SERPS!A927,\"\")","v":""},{"$f":"IF(NOT(ISBLANK(ShareOfSearch_SERPS!G927)),ShareOfSearch_SERPS!G927,\"\")","v":""},{"$f":"IF(NOT(ISBLANK(ShareOfSearch_SERPS!K927)),ShareOfSearch_SERPS!K927,\"\")","v":""},{"$f":"IFERROR(VLOOKUP(C927,ShareOfSearch_CTR!$A$1:$B$100,2,FALSE)*VLOOKUP(A927&B927,ShareOfSearch_Volume!$C$1:$D$1000,2,FALSE),\"\")","v":""}]
[{"$f":"IF(ISTEXT(ShareOfSearch_SERPS!C928),ShareOfSearch_SERPS!C928,\"\")","v":""},{"$f":"IF(ISTEXT(ShareOfSearch_SERPS!D928),ShareOfSearch_SERPS!D928,\"\")","v":""},{"$f":"IF(NOT(ISBLANK(ShareOfSearch_SERPS!A928)),ShareOfSearch_SERPS!A928,\"\")","v":""},{"$f":"IF(NOT(ISBLANK(ShareOfSearch_SERPS!G928)),ShareOfSearch_SERPS!G928,\"\")","v":""},{"$f":"IF(NOT(ISBLANK(ShareOfSearch_SERPS!K928)),ShareOfSearch_SERPS!K928,\"\")","v":""},{"$f":"IFERROR(VLOOKUP(C928,ShareOfSearch_CTR!$A$1:$B$100,2,FALSE)*VLOOKUP(A928&B928,ShareOfSearch_Volume!$C$1:$D$1000,2,FALSE),\"\")","v":""}]
[{"$f":"IF(ISTEXT(ShareOfSearch_SERPS!C929),ShareOfSearch_SERPS!C929,\"\")","v":""},{"$f":"IF(ISTEXT(ShareOfSearch_SERPS!D929),ShareOfSearch_SERPS!D929,\"\")","v":""},{"$f":"IF(NOT(ISBLANK(ShareOfSearch_SERPS!A929)),ShareOfSearch_SERPS!A929,\"\")","v":""},{"$f":"IF(NOT(ISBLANK(ShareOfSearch_SERPS!G929)),ShareOfSearch_SERPS!G929,\"\")","v":""},{"$f":"IF(NOT(ISBLANK(ShareOfSearch_SERPS!K929)),ShareOfSearch_SERPS!K929,\"\")","v":""},{"$f":"IFERROR(VLOOKUP(C929,ShareOfSearch_CTR!$A$1:$B$100,2,FALSE)*VLOOKUP(A929&B929,ShareOfSearch_Volume!$C$1:$D$1000,2,FALSE),\"\")","v":""}]
[{"$f":"IF(ISTEXT(ShareOfSearch_SERPS!C930),ShareOfSearch_SERPS!C930,\"\")","v":""},{"$f":"IF(ISTEXT(ShareOfSearch_SERPS!D930),ShareOfSearch_SERPS!D930,\"\")","v":""},{"$f":"IF(NOT(ISBLANK(ShareOfSearch_SERPS!A930)),ShareOfSearch_SERPS!A930,\"\")","v":""},{"$f":"IF(NOT(ISBLANK(ShareOfSearch_SERPS!G930)),ShareOfSearch_SERPS!G930,\"\")","v":""},{"$f":"IF(NOT(ISBLANK(ShareOfSearch_SERPS!K930)),ShareOfSearch_SERPS!K930,\"\")","v":""},{"$f":"IFERROR(VLOOKUP(C930,ShareOfSearch_CTR!$A$1:$B$100,2,FALSE)*VLOOKUP(A930&B930,ShareOfSearch_Volume!$C$1:$D$1000,2,FALSE),\"\")","v":""}]
[{"$f":"IF(ISTEXT(ShareOfSearch_SERPS!C931),ShareOfSearch_SERPS!C931,\"\")","v":""},{"$f":"IF(ISTEXT(ShareOfSearch_SERPS!D931),ShareOfSearch_SERPS!D931,\"\")","v":""},{"$f":"IF(NOT(ISBLANK(ShareOfSearch_SERPS!A931)),ShareOfSearch_SERPS!A931,\"\")","v":""},{"$f":"IF(NOT(ISBLANK(ShareOfSearch_SERPS!G931)),ShareOfSearch_SERPS!G931,\"\")","v":""},{"$f":"IF(NOT(ISBLANK(ShareOfSearch_SERPS!K931)),ShareOfSearch_SERPS!K931,\"\")","v":""},{"$f":"IFERROR(VLOOKUP(C931,ShareOfSearch_CTR!$A$1:$B$100,2,FALSE)*VLOOKUP(A931&B931,ShareOfSearch_Volume!$C$1:$D$1000,2,FALSE),\"\")","v":""}]
[{"$f":"IF(ISTEXT(ShareOfSearch_SERPS!C932),ShareOfSearch_SERPS!C932,\"\")","v":""},{"$f":"IF(ISTEXT(ShareOfSearch_SERPS!D932),ShareOfSearch_SERPS!D932,\"\")","v":""},{"$f":"IF(NOT(ISBLANK(ShareOfSearch_SERPS!A932)),ShareOfSearch_SERPS!A932,\"\")","v":""},{"$f":"IF(NOT(ISBLANK(ShareOfSearch_SERPS!G932)),ShareOfSearch_SERPS!G932,\"\")","v":""},{"$f":"IF(NOT(ISBLANK(ShareOfSearch_SERPS!K932)),ShareOfSearch_SERPS!K932,\"\")","v":""},{"$f":"IFERROR(VLOOKUP(C932,ShareOfSearch_CTR!$A$1:$B$100,2,FALSE)*VLOOKUP(A932&B932,ShareOfSearch_Volume!$C$1:$D$1000,2,FALSE),\"\")","v":""}]
[{"$f":"IF(ISTEXT(ShareOfSearch_SERPS!C933),ShareOfSearch_SERPS!C933,\"\")","v":""},{"$f":"IF(ISTEXT(ShareOfSearch_SERPS!D933),ShareOfSearch_SERPS!D933,\"\")","v":""},{"$f":"IF(NOT(ISBLANK(ShareOfSearch_SERPS!A933)),ShareOfSearch_SERPS!A933,\"\")","v":""},{"$f":"IF(NOT(ISBLANK(ShareOfSearch_SERPS!G933)),ShareOfSearch_SERPS!G933,\"\")","v":""},{"$f":"IF(NOT(ISBLANK(ShareOfSearch_SERPS!K933)),ShareOfSearch_SERPS!K933,\"\")","v":""},{"$f":"IFERROR(VLOOKUP(C933,ShareOfSearch_CTR!$A$1:$B$100,2,FALSE)*VLOOKUP(A933&B933,ShareOfSearch_Volume!$C$1:$D$1000,2,FALSE),\"\")","v":""}]
[{"$f":"IF(ISTEXT(ShareOfSearch_SERPS!C934),ShareOfSearch_SERPS!C934,\"\")","v":""},{"$f":"IF(ISTEXT(ShareOfSearch_SERPS!D934),ShareOfSearch_SERPS!D934,\"\")","v":""},{"$f":"IF(NOT(ISBLANK(ShareOfSearch_SERPS!A934)),ShareOfSearch_SERPS!A934,\"\")","v":""},{"$f":"IF(NOT(ISBLANK(ShareOfSearch_SERPS!G934)),ShareOfSearch_SERPS!G934,\"\")","v":""},{"$f":"IF(NOT(ISBLANK(ShareOfSearch_SERPS!K934)),ShareOfSearch_SERPS!K934,\"\")","v":""},{"$f":"IFERROR(VLOOKUP(C934,ShareOfSearch_CTR!$A$1:$B$100,2,FALSE)*VLOOKUP(A934&B934,ShareOfSearch_Volume!$C$1:$D$1000,2,FALSE),\"\")","v":""}]
[{"$f":"IF(ISTEXT(ShareOfSearch_SERPS!C935),ShareOfSearch_SERPS!C935,\"\")","v":""},{"$f":"IF(ISTEXT(ShareOfSearch_SERPS!D935),ShareOfSearch_SERPS!D935,\"\")","v":""},{"$f":"IF(NOT(ISBLANK(ShareOfSearch_SERPS!A935)),ShareOfSearch_SERPS!A935,\"\")","v":""},{"$f":"IF(NOT(ISBLANK(ShareOfSearch_SERPS!G935)),ShareOfSearch_SERPS!G935,\"\")","v":""},{"$f":"IF(NOT(ISBLANK(ShareOfSearch_SERPS!K935)),ShareOfSearch_SERPS!K935,\"\")","v":""},{"$f":"IFERROR(VLOOKUP(C935,ShareOfSearch_CTR!$A$1:$B$100,2,FALSE)*VLOOKUP(A935&B935,ShareOfSearch_Volume!$C$1:$D$1000,2,FALSE),\"\")","v":""}]
[{"$f":"IF(ISTEXT(ShareOfSearch_SERPS!C936),ShareOfSearch_SERPS!C936,\"\")","v":""},{"$f":"IF(ISTEXT(ShareOfSearch_SERPS!D936),ShareOfSearch_SERPS!D936,\"\")","v":""},{"$f":"IF(NOT(ISBLANK(ShareOfSearch_SERPS!A936)),ShareOfSearch_SERPS!A936,\"\")","v":""},{"$f":"IF(NOT(ISBLANK(ShareOfSearch_SERPS!G936)),ShareOfSearch_SERPS!G936,\"\")","v":""},{"$f":"IF(NOT(ISBLANK(ShareOfSearch_SERPS!K936)),ShareOfSearch_SERPS!K936,\"\")","v":""},{"$f":"IFERROR(VLOOKUP(C936,ShareOfSearch_CTR!$A$1:$B$100,2,FALSE)*VLOOKUP(A936&B936,ShareOfSearch_Volume!$C$1:$D$1000,2,FALSE),\"\")","v":""}]
[{"$f":"IF(ISTEXT(ShareOfSearch_SERPS!C937),ShareOfSearch_SERPS!C937,\"\")","v":""},{"$f":"IF(ISTEXT(ShareOfSearch_SERPS!D937),ShareOfSearch_SERPS!D937,\"\")","v":""},{"$f":"IF(NOT(ISBLANK(ShareOfSearch_SERPS!A937)),ShareOfSearch_SERPS!A937,\"\")","v":""},{"$f":"IF(NOT(ISBLANK(ShareOfSearch_SERPS!G937)),ShareOfSearch_SERPS!G937,\"\")","v":""},{"$f":"IF(NOT(ISBLANK(ShareOfSearch_SERPS!K937)),ShareOfSearch_SERPS!K937,\"\")","v":""},{"$f":"IFERROR(VLOOKUP(C937,ShareOfSearch_CTR!$A$1:$B$100,2,FALSE)*VLOOKUP(A937&B937,ShareOfSearch_Volume!$C$1:$D$1000,2,FALSE),\"\")","v":""}]
[{"$f":"IF(ISTEXT(ShareOfSearch_SERPS!C938),ShareOfSearch_SERPS!C938,\"\")","v":""},{"$f":"IF(ISTEXT(ShareOfSearch_SERPS!D938),ShareOfSearch_SERPS!D938,\"\")","v":""},{"$f":"IF(NOT(ISBLANK(ShareOfSearch_SERPS!A938)),ShareOfSearch_SERPS!A938,\"\")","v":""},{"$f":"IF(NOT(ISBLANK(ShareOfSearch_SERPS!G938)),ShareOfSearch_SERPS!G938,\"\")","v":""},{"$f":"IF(NOT(ISBLANK(ShareOfSearch_SERPS!K938)),ShareOfSearch_SERPS!K938,\"\")","v":""},{"$f":"IFERROR(VLOOKUP(C938,ShareOfSearch_CTR!$A$1:$B$100,2,FALSE)*VLOOKUP(A938&B938,ShareOfSearch_Volume!$C$1:$D$1000,2,FALSE),\"\")","v":""}]
[{"$f":"IF(ISTEXT(ShareOfSearch_SERPS!C939),ShareOfSearch_SERPS!C939,\"\")","v":""},{"$f":"IF(ISTEXT(ShareOfSearch_SERPS!D939),ShareOfSearch_SERPS!D939,\"\")","v":""},{"$f":"IF(NOT(ISBLANK(ShareOfSearch_SERPS!A939)),ShareOfSearch_SERPS!A939,\"\")","v":""},{"$f":"IF(NOT(ISBLANK(ShareOfSearch_SERPS!G939)),ShareOfSearch_SERPS!G939,\"\")","v":""},{"$f":"IF(NOT(ISBLANK(ShareOfSearch_SERPS!K939)),ShareOfSearch_SERPS!K939,\"\")","v":""},{"$f":"IFERROR(VLOOKUP(C939,ShareOfSearch_CTR!$A$1:$B$100,2,FALSE)*VLOOKUP(A939&B939,ShareOfSearch_Volume!$C$1:$D$1000,2,FALSE),\"\")","v":""}]
[{"$f":"IF(ISTEXT(ShareOfSearch_SERPS!C940),ShareOfSearch_SERPS!C940,\"\")","v":""},{"$f":"IF(ISTEXT(ShareOfSearch_SERPS!D940),ShareOfSearch_SERPS!D940,\"\")","v":""},{"$f":"IF(NOT(ISBLANK(ShareOfSearch_SERPS!A940)),ShareOfSearch_SERPS!A940,\"\")","v":""},{"$f":"IF(NOT(ISBLANK(ShareOfSearch_SERPS!G940)),ShareOfSearch_SERPS!G940,\"\")","v":""},{"$f":"IF(NOT(ISBLANK(ShareOfSearch_SERPS!K940)),ShareOfSearch_SERPS!K940,\"\")","v":""},{"$f":"IFERROR(VLOOKUP(C940,ShareOfSearch_CTR!$A$1:$B$100,2,FALSE)*VLOOKUP(A940&B940,ShareOfSearch_Volume!$C$1:$D$1000,2,FALSE),\"\")","v":""}]
[{"$f":"IF(ISTEXT(ShareOfSearch_SERPS!C941),ShareOfSearch_SERPS!C941,\"\")","v":""},{"$f":"IF(ISTEXT(ShareOfSearch_SERPS!D941),ShareOfSearch_SERPS!D941,\"\")","v":""},{"$f":"IF(NOT(ISBLANK(ShareOfSearch_SERPS!A941)),ShareOfSearch_SERPS!A941,\"\")","v":""},{"$f":"IF(NOT(ISBLANK(ShareOfSearch_SERPS!G941)),ShareOfSearch_SERPS!G941,\"\")","v":""},{"$f":"IF(NOT(ISBLANK(ShareOfSearch_SERPS!K941)),ShareOfSearch_SERPS!K941,\"\")","v":""},{"$f":"IFERROR(VLOOKUP(C941,ShareOfSearch_CTR!$A$1:$B$100,2,FALSE)*VLOOKUP(A941&B941,ShareOfSearch_Volume!$C$1:$D$1000,2,FALSE),\"\")","v":""}]
[{"$f":"IF(ISTEXT(ShareOfSearch_SERPS!C942),ShareOfSearch_SERPS!C942,\"\")","v":""},{"$f":"IF(ISTEXT(ShareOfSearch_SERPS!D942),ShareOfSearch_SERPS!D942,\"\")","v":""},{"$f":"IF(NOT(ISBLANK(ShareOfSearch_SERPS!A942)),ShareOfSearch_SERPS!A942,\"\")","v":""},{"$f":"IF(NOT(ISBLANK(ShareOfSearch_SERPS!G942)),ShareOfSearch_SERPS!G942,\"\")","v":""},{"$f":"IF(NOT(ISBLANK(ShareOfSearch_SERPS!K942)),ShareOfSearch_SERPS!K942,\"\")","v":""},{"$f":"IFERROR(VLOOKUP(C942,ShareOfSearch_CTR!$A$1:$B$100,2,FALSE)*VLOOKUP(A942&B942,ShareOfSearch_Volume!$C$1:$D$1000,2,FALSE),\"\")","v":""}]
[{"$f":"IF(ISTEXT(ShareOfSearch_SERPS!C943),ShareOfSearch_SERPS!C943,\"\")","v":""},{"$f":"IF(ISTEXT(ShareOfSearch_SERPS!D943),ShareOfSearch_SERPS!D943,\"\")","v":""},{"$f":"IF(NOT(ISBLANK(ShareOfSearch_SERPS!A943)),ShareOfSearch_SERPS!A943,\"\")","v":""},{"$f":"IF(NOT(ISBLANK(ShareOfSearch_SERPS!G943)),ShareOfSearch_SERPS!G943,\"\")","v":""},{"$f":"IF(NOT(ISBLANK(ShareOfSearch_SERPS!K943)),ShareOfSearch_SERPS!K943,\"\")","v":""},{"$f":"IFERROR(VLOOKUP(C943,ShareOfSearch_CTR!$A$1:$B$100,2,FALSE)*VLOOKUP(A943&B943,ShareOfSearch_Volume!$C$1:$D$1000,2,FALSE),\"\")","v":""}]
[{"$f":"IF(ISTEXT(ShareOfSearch_SERPS!C944),ShareOfSearch_SERPS!C944,\"\")","v":""},{"$f":"IF(ISTEXT(ShareOfSearch_SERPS!D944),ShareOfSearch_SERPS!D944,\"\")","v":""},{"$f":"IF(NOT(ISBLANK(ShareOfSearch_SERPS!A944)),ShareOfSearch_SERPS!A944,\"\")","v":""},{"$f":"IF(NOT(ISBLANK(ShareOfSearch_SERPS!G944)),ShareOfSearch_SERPS!G944,\"\")","v":""},{"$f":"IF(NOT(ISBLANK(ShareOfSearch_SERPS!K944)),ShareOfSearch_SERPS!K944,\"\")","v":""},{"$f":"IFERROR(VLOOKUP(C944,ShareOfSearch_CTR!$A$1:$B$100,2,FALSE)*VLOOKUP(A944&B944,ShareOfSearch_Volume!$C$1:$D$1000,2,FALSE),\"\")","v":""}]
[{"$f":"IF(ISTEXT(ShareOfSearch_SERPS!C945),ShareOfSearch_SERPS!C945,\"\")","v":""},{"$f":"IF(ISTEXT(ShareOfSearch_SERPS!D945),ShareOfSearch_SERPS!D945,\"\")","v":""},{"$f":"IF(NOT(ISBLANK(ShareOfSearch_SERPS!A945)),ShareOfSearch_SERPS!A945,\"\")","v":""},{"$f":"IF(NOT(ISBLANK(ShareOfSearch_SERPS!G945)),ShareOfSearch_SERPS!G945,\"\")","v":""},{"$f":"IF(NOT(ISBLANK(ShareOfSearch_SERPS!K945)),ShareOfSearch_SERPS!K945,\"\")","v":""},{"$f":"IFERROR(VLOOKUP(C945,ShareOfSearch_CTR!$A$1:$B$100,2,FALSE)*VLOOKUP(A945&B945,ShareOfSearch_Volume!$C$1:$D$1000,2,FALSE),\"\")","v":""}]
[{"$f":"IF(ISTEXT(ShareOfSearch_SERPS!C946),ShareOfSearch_SERPS!C946,\"\")","v":""},{"$f":"IF(ISTEXT(ShareOfSearch_SERPS!D946),ShareOfSearch_SERPS!D946,\"\")","v":""},{"$f":"IF(NOT(ISBLANK(ShareOfSearch_SERPS!A946)),ShareOfSearch_SERPS!A946,\"\")","v":""},{"$f":"IF(NOT(ISBLANK(ShareOfSearch_SERPS!G946)),ShareOfSearch_SERPS!G946,\"\")","v":""},{"$f":"IF(NOT(ISBLANK(ShareOfSearch_SERPS!K946)),ShareOfSearch_SERPS!K946,\"\")","v":""},{"$f":"IFERROR(VLOOKUP(C946,ShareOfSearch_CTR!$A$1:$B$100,2,FALSE)*VLOOKUP(A946&B946,ShareOfSearch_Volume!$C$1:$D$1000,2,FALSE),\"\")","v":""}]
[{"$f":"IF(ISTEXT(ShareOfSearch_SERPS!C947),ShareOfSearch_SERPS!C947,\"\")","v":""},{"$f":"IF(ISTEXT(ShareOfSearch_SERPS!D947),ShareOfSearch_SERPS!D947,\"\")","v":""},{"$f":"IF(NOT(ISBLANK(ShareOfSearch_SERPS!A947)),ShareOfSearch_SERPS!A947,\"\")","v":""},{"$f":"IF(NOT(ISBLANK(ShareOfSearch_SERPS!G947)),ShareOfSearch_SERPS!G947,\"\")","v":""},{"$f":"IF(NOT(ISBLANK(ShareOfSearch_SERPS!K947)),ShareOfSearch_SERPS!K947,\"\")","v":""},{"$f":"IFERROR(VLOOKUP(C947,ShareOfSearch_CTR!$A$1:$B$100,2,FALSE)*VLOOKUP(A947&B947,ShareOfSearch_Volume!$C$1:$D$1000,2,FALSE),\"\")","v":""}]
[{"$f":"IF(ISTEXT(ShareOfSearch_SERPS!C948),ShareOfSearch_SERPS!C948,\"\")","v":""},{"$f":"IF(ISTEXT(ShareOfSearch_SERPS!D948),ShareOfSearch_SERPS!D948,\"\")","v":""},{"$f":"IF(NOT(ISBLANK(ShareOfSearch_SERPS!A948)),ShareOfSearch_SERPS!A948,\"\")","v":""},{"$f":"IF(NOT(ISBLANK(ShareOfSearch_SERPS!G948)),ShareOfSearch_SERPS!G948,\"\")","v":""},{"$f":"IF(NOT(ISBLANK(ShareOfSearch_SERPS!K948)),ShareOfSearch_SERPS!K948,\"\")","v":""},{"$f":"IFERROR(VLOOKUP(C948,ShareOfSearch_CTR!$A$1:$B$100,2,FALSE)*VLOOKUP(A948&B948,ShareOfSearch_Volume!$C$1:$D$1000,2,FALSE),\"\")","v":""}]
[{"$f":"IF(ISTEXT(ShareOfSearch_SERPS!C949),ShareOfSearch_SERPS!C949,\"\")","v":""},{"$f":"IF(ISTEXT(ShareOfSearch_SERPS!D949),ShareOfSearch_SERPS!D949,\"\")","v":""},{"$f":"IF(NOT(ISBLANK(ShareOfSearch_SERPS!A949)),ShareOfSearch_SERPS!A949,\"\")","v":""},{"$f":"IF(NOT(ISBLANK(ShareOfSearch_SERPS!G949)),ShareOfSearch_SERPS!G949,\"\")","v":""},{"$f":"IF(NOT(ISBLANK(ShareOfSearch_SERPS!K949)),ShareOfSearch_SERPS!K949,\"\")","v":""},{"$f":"IFERROR(VLOOKUP(C949,ShareOfSearch_CTR!$A$1:$B$100,2,FALSE)*VLOOKUP(A949&B949,ShareOfSearch_Volume!$C$1:$D$1000,2,FALSE),\"\")","v":""}]
[{"$f":"IF(ISTEXT(ShareOfSearch_SERPS!C950),ShareOfSearch_SERPS!C950,\"\")","v":""},{"$f":"IF(ISTEXT(ShareOfSearch_SERPS!D950),ShareOfSearch_SERPS!D950,\"\")","v":""},{"$f":"IF(NOT(ISBLANK(ShareOfSearch_SERPS!A950)),ShareOfSearch_SERPS!A950,\"\")","v":""},{"$f":"IF(NOT(ISBLANK(ShareOfSearch_SERPS!G950)),ShareOfSearch_SERPS!G950,\"\")","v":""},{"$f":"IF(NOT(ISBLANK(ShareOfSearch_SERPS!K950)),ShareOfSearch_SERPS!K950,\"\")","v":""},{"$f":"IFERROR(VLOOKUP(C950,ShareOfSearch_CTR!$A$1:$B$100,2,FALSE)*VLOOKUP(A950&B950,ShareOfSearch_Volume!$C$1:$D$1000,2,FALSE),\"\")","v":""}]
[{"$f":"IF(ISTEXT(ShareOfSearch_SERPS!C951),ShareOfSearch_SERPS!C951,\"\")","v":""},{"$f":"IF(ISTEXT(ShareOfSearch_SERPS!D951),ShareOfSearch_SERPS!D951,\"\")","v":""},{"$f":"IF(NOT(ISBLANK(ShareOfSearch_SERPS!A951)),ShareOfSearch_SERPS!A951,\"\")","v":""},{"$f":"IF(NOT(ISBLANK(ShareOfSearch_SERPS!G951)),ShareOfSearch_SERPS!G951,\"\")","v":""},{"$f":"IF(NOT(ISBLANK(ShareOfSearch_SERPS!K951)),ShareOfSearch_SERPS!K951,\"\")","v":""},{"$f":"IFERROR(VLOOKUP(C951,ShareOfSearch_CTR!$A$1:$B$100,2,FALSE)*VLOOKUP(A951&B951,ShareOfSearch_Volume!$C$1:$D$1000,2,FALSE),\"\")","v":""}]
[{"$f":"IF(ISTEXT(ShareOfSearch_SERPS!C952),ShareOfSearch_SERPS!C952,\"\")","v":""},{"$f":"IF(ISTEXT(ShareOfSearch_SERPS!D952),ShareOfSearch_SERPS!D952,\"\")","v":""},{"$f":"IF(NOT(ISBLANK(ShareOfSearch_SERPS!A952)),ShareOfSearch_SERPS!A952,\"\")","v":""},{"$f":"IF(NOT(ISBLANK(ShareOfSearch_SERPS!G952)),ShareOfSearch_SERPS!G952,\"\")","v":""},{"$f":"IF(NOT(ISBLANK(ShareOfSearch_SERPS!K952)),ShareOfSearch_SERPS!K952,\"\")","v":""},{"$f":"IFERROR(VLOOKUP(C952,ShareOfSearch_CTR!$A$1:$B$100,2,FALSE)*VLOOKUP(A952&B952,ShareOfSearch_Volume!$C$1:$D$1000,2,FALSE),\"\")","v":""}]
[{"$f":"IF(ISTEXT(ShareOfSearch_SERPS!C953),ShareOfSearch_SERPS!C953,\"\")","v":""},{"$f":"IF(ISTEXT(ShareOfSearch_SERPS!D953),ShareOfSearch_SERPS!D953,\"\")","v":""},{"$f":"IF(NOT(ISBLANK(ShareOfSearch_SERPS!A953)),ShareOfSearch_SERPS!A953,\"\")","v":""},{"$f":"IF(NOT(ISBLANK(ShareOfSearch_SERPS!G953)),ShareOfSearch_SERPS!G953,\"\")","v":""},{"$f":"IF(NOT(ISBLANK(ShareOfSearch_SERPS!K953)),ShareOfSearch_SERPS!K953,\"\")","v":""},{"$f":"IFERROR(VLOOKUP(C953,ShareOfSearch_CTR!$A$1:$B$100,2,FALSE)*VLOOKUP(A953&B953,ShareOfSearch_Volume!$C$1:$D$1000,2,FALSE),\"\")","v":""}]
[{"$f":"IF(ISTEXT(ShareOfSearch_SERPS!C954),ShareOfSearch_SERPS!C954,\"\")","v":""},{"$f":"IF(ISTEXT(ShareOfSearch_SERPS!D954),ShareOfSearch_SERPS!D954,\"\")","v":""},{"$f":"IF(NOT(ISBLANK(ShareOfSearch_SERPS!A954)),ShareOfSearch_SERPS!A954,\"\")","v":""},{"$f":"IF(NOT(ISBLANK(ShareOfSearch_SERPS!G954)),ShareOfSearch_SERPS!G954,\"\")","v":""},{"$f":"IF(NOT(ISBLANK(ShareOfSearch_SERPS!K954)),ShareOfSearch_SERPS!K954,\"\")","v":""},{"$f":"IFERROR(VLOOKUP(C954,ShareOfSearch_CTR!$A$1:$B$100,2,FALSE)*VLOOKUP(A954&B954,ShareOfSearch_Volume!$C$1:$D$1000,2,FALSE),\"\")","v":""}]
[{"$f":"IF(ISTEXT(ShareOfSearch_SERPS!C955),ShareOfSearch_SERPS!C955,\"\")","v":""},{"$f":"IF(ISTEXT(ShareOfSearch_SERPS!D955),ShareOfSearch_SERPS!D955,\"\")","v":""},{"$f":"IF(NOT(ISBLANK(ShareOfSearch_SERPS!A955)),ShareOfSearch_SERPS!A955,\"\")","v":""},{"$f":"IF(NOT(ISBLANK(ShareOfSearch_SERPS!G955)),ShareOfSearch_SERPS!G955,\"\")","v":""},{"$f":"IF(NOT(ISBLANK(ShareOfSearch_SERPS!K955)),ShareOfSearch_SERPS!K955,\"\")","v":""},{"$f":"IFERROR(VLOOKUP(C955,ShareOfSearch_CTR!$A$1:$B$100,2,FALSE)*VLOOKUP(A955&B955,ShareOfSearch_Volume!$C$1:$D$1000,2,FALSE),\"\")","v":""}]
[{"$f":"IF(ISTEXT(ShareOfSearch_SERPS!C956),ShareOfSearch_SERPS!C956,\"\")","v":""},{"$f":"IF(ISTEXT(ShareOfSearch_SERPS!D956),ShareOfSearch_SERPS!D956,\"\")","v":""},{"$f":"IF(NOT(ISBLANK(ShareOfSearch_SERPS!A956)),ShareOfSearch_SERPS!A956,\"\")","v":""},{"$f":"IF(NOT(ISBLANK(ShareOfSearch_SERPS!G956)),ShareOfSearch_SERPS!G956,\"\")","v":""},{"$f":"IF(NOT(ISBLANK(ShareOfSearch_SERPS!K956)),ShareOfSearch_SERPS!K956,\"\")","v":""},{"$f":"IFERROR(VLOOKUP(C956,ShareOfSearch_CTR!$A$1:$B$100,2,FALSE)*VLOOKUP(A956&B956,ShareOfSearch_Volume!$C$1:$D$1000,2,FALSE),\"\")","v":""}]
[{"$f":"IF(ISTEXT(ShareOfSearch_SERPS!C957),ShareOfSearch_SERPS!C957,\"\")","v":""},{"$f":"IF(ISTEXT(ShareOfSearch_SERPS!D957),ShareOfSearch_SERPS!D957,\"\")","v":""},{"$f":"IF(NOT(ISBLANK(ShareOfSearch_SERPS!A957)),ShareOfSearch_SERPS!A957,\"\")","v":""},{"$f":"IF(NOT(ISBLANK(ShareOfSearch_SERPS!G957)),ShareOfSearch_SERPS!G957,\"\")","v":""},{"$f":"IF(NOT(ISBLANK(ShareOfSearch_SERPS!K957)),ShareOfSearch_SERPS!K957,\"\")","v":""},{"$f":"IFERROR(VLOOKUP(C957,ShareOfSearch_CTR!$A$1:$B$100,2,FALSE)*VLOOKUP(A957&B957,ShareOfSearch_Volume!$C$1:$D$1000,2,FALSE),\"\")","v":""}]
[{"$f":"IF(ISTEXT(ShareOfSearch_SERPS!C958),ShareOfSearch_SERPS!C958,\"\")","v":""},{"$f":"IF(ISTEXT(ShareOfSearch_SERPS!D958),ShareOfSearch_SERPS!D958,\"\")","v":""},{"$f":"IF(NOT(ISBLANK(ShareOfSearch_SERPS!A958)),ShareOfSearch_SERPS!A958,\"\")","v":""},{"$f":"IF(NOT(ISBLANK(ShareOfSearch_SERPS!G958)),ShareOfSearch_SERPS!G958,\"\")","v":""},{"$f":"IF(NOT(ISBLANK(ShareOfSearch_SERPS!K958)),ShareOfSearch_SERPS!K958,\"\")","v":""},{"$f":"IFERROR(VLOOKUP(C958,ShareOfSearch_CTR!$A$1:$B$100,2,FALSE)*VLOOKUP(A958&B958,ShareOfSearch_Volume!$C$1:$D$1000,2,FALSE),\"\")","v":""}]
[{"$f":"IF(ISTEXT(ShareOfSearch_SERPS!C959),ShareOfSearch_SERPS!C959,\"\")","v":""},{"$f":"IF(ISTEXT(ShareOfSearch_SERPS!D959),ShareOfSearch_SERPS!D959,\"\")","v":""},{"$f":"IF(NOT(ISBLANK(ShareOfSearch_SERPS!A959)),ShareOfSearch_SERPS!A959,\"\")","v":""},{"$f":"IF(NOT(ISBLANK(ShareOfSearch_SERPS!G959)),ShareOfSearch_SERPS!G959,\"\")","v":""},{"$f":"IF(NOT(ISBLANK(ShareOfSearch_SERPS!K959)),ShareOfSearch_SERPS!K959,\"\")","v":""},{"$f":"IFERROR(VLOOKUP(C959,ShareOfSearch_CTR!$A$1:$B$100,2,FALSE)*VLOOKUP(A959&B959,ShareOfSearch_Volume!$C$1:$D$1000,2,FALSE),\"\")","v":""}]
[{"$f":"IF(ISTEXT(ShareOfSearch_SERPS!C960),ShareOfSearch_SERPS!C960,\"\")","v":""},{"$f":"IF(ISTEXT(ShareOfSearch_SERPS!D960),ShareOfSearch_SERPS!D960,\"\")","v":""},{"$f":"IF(NOT(ISBLANK(ShareOfSearch_SERPS!A960)),ShareOfSearch_SERPS!A960,\"\")","v":""},{"$f":"IF(NOT(ISBLANK(ShareOfSearch_SERPS!G960)),ShareOfSearch_SERPS!G960,\"\")","v":""},{"$f":"IF(NOT(ISBLANK(ShareOfSearch_SERPS!K960)),ShareOfSearch_SERPS!K960,\"\")","v":""},{"$f":"IFERROR(VLOOKUP(C960,ShareOfSearch_CTR!$A$1:$B$100,2,FALSE)*VLOOKUP(A960&B960,ShareOfSearch_Volume!$C$1:$D$1000,2,FALSE),\"\")","v":""}]
[{"$f":"IF(ISTEXT(ShareOfSearch_SERPS!C961),ShareOfSearch_SERPS!C961,\"\")","v":""},{"$f":"IF(ISTEXT(ShareOfSearch_SERPS!D961),ShareOfSearch_SERPS!D961,\"\")","v":""},{"$f":"IF(NOT(ISBLANK(ShareOfSearch_SERPS!A961)),ShareOfSearch_SERPS!A961,\"\")","v":""},{"$f":"IF(NOT(ISBLANK(ShareOfSearch_SERPS!G961)),ShareOfSearch_SERPS!G961,\"\")","v":""},{"$f":"IF(NOT(ISBLANK(ShareOfSearch_SERPS!K961)),ShareOfSearch_SERPS!K961,\"\")","v":""},{"$f":"IFERROR(VLOOKUP(C961,ShareOfSearch_CTR!$A$1:$B$100,2,FALSE)*VLOOKUP(A961&B961,ShareOfSearch_Volume!$C$1:$D$1000,2,FALSE),\"\")","v":""}]
[{"$f":"IF(ISTEXT(ShareOfSearch_SERPS!C962),ShareOfSearch_SERPS!C962,\"\")","v":""},{"$f":"IF(ISTEXT(ShareOfSearch_SERPS!D962),ShareOfSearch_SERPS!D962,\"\")","v":""},{"$f":"IF(NOT(ISBLANK(ShareOfSearch_SERPS!A962)),ShareOfSearch_SERPS!A962,\"\")","v":""},{"$f":"IF(NOT(ISBLANK(ShareOfSearch_SERPS!G962)),ShareOfSearch_SERPS!G962,\"\")","v":""},{"$f":"IF(NOT(ISBLANK(ShareOfSearch_SERPS!K962)),ShareOfSearch_SERPS!K962,\"\")","v":""},{"$f":"IFERROR(VLOOKUP(C962,ShareOfSearch_CTR!$A$1:$B$100,2,FALSE)*VLOOKUP(A962&B962,ShareOfSearch_Volume!$C$1:$D$1000,2,FALSE),\"\")","v":""}]
[{"$f":"IF(ISTEXT(ShareOfSearch_SERPS!C963),ShareOfSearch_SERPS!C963,\"\")","v":""},{"$f":"IF(ISTEXT(ShareOfSearch_SERPS!D963),ShareOfSearch_SERPS!D963,\"\")","v":""},{"$f":"IF(NOT(ISBLANK(ShareOfSearch_SERPS!A963)),ShareOfSearch_SERPS!A963,\"\")","v":""},{"$f":"IF(NOT(ISBLANK(ShareOfSearch_SERPS!G963)),ShareOfSearch_SERPS!G963,\"\")","v":""},{"$f":"IF(NOT(ISBLANK(ShareOfSearch_SERPS!K963)),ShareOfSearch_SERPS!K963,\"\")","v":""},{"$f":"IFERROR(VLOOKUP(C963,ShareOfSearch_CTR!$A$1:$B$100,2,FALSE)*VLOOKUP(A963&B963,ShareOfSearch_Volume!$C$1:$D$1000,2,FALSE),\"\")","v":""}]
[{"$f":"IF(ISTEXT(ShareOfSearch_SERPS!C964),ShareOfSearch_SERPS!C964,\"\")","v":""},{"$f":"IF(ISTEXT(ShareOfSearch_SERPS!D964),ShareOfSearch_SERPS!D964,\"\")","v":""},{"$f":"IF(NOT(ISBLANK(ShareOfSearch_SERPS!A964)),ShareOfSearch_SERPS!A964,\"\")","v":""},{"$f":"IF(NOT(ISBLANK(ShareOfSearch_SERPS!G964)),ShareOfSearch_SERPS!G964,\"\")","v":""},{"$f":"IF(NOT(ISBLANK(ShareOfSearch_SERPS!K964)),ShareOfSearch_SERPS!K964,\"\")","v":""},{"$f":"IFERROR(VLOOKUP(C964,ShareOfSearch_CTR!$A$1:$B$100,2,FALSE)*VLOOKUP(A964&B964,ShareOfSearch_Volume!$C$1:$D$1000,2,FALSE),\"\")","v":""}]
[{"$f":"IF(ISTEXT(ShareOfSearch_SERPS!C965),ShareOfSearch_SERPS!C965,\"\")","v":""},{"$f":"IF(ISTEXT(ShareOfSearch_SERPS!D965),ShareOfSearch_SERPS!D965,\"\")","v":""},{"$f":"IF(NOT(ISBLANK(ShareOfSearch_SERPS!A965)),ShareOfSearch_SERPS!A965,\"\")","v":""},{"$f":"IF(NOT(ISBLANK(ShareOfSearch_SERPS!G965)),ShareOfSearch_SERPS!G965,\"\")","v":""},{"$f":"IF(NOT(ISBLANK(ShareOfSearch_SERPS!K965)),ShareOfSearch_SERPS!K965,\"\")","v":""},{"$f":"IFERROR(VLOOKUP(C965,ShareOfSearch_CTR!$A$1:$B$100,2,FALSE)*VLOOKUP(A965&B965,ShareOfSearch_Volume!$C$1:$D$1000,2,FALSE),\"\")","v":""}]
[{"$f":"IF(ISTEXT(ShareOfSearch_SERPS!C966),ShareOfSearch_SERPS!C966,\"\")","v":""},{"$f":"IF(ISTEXT(ShareOfSearch_SERPS!D966),ShareOfSearch_SERPS!D966,\"\")","v":""},{"$f":"IF(NOT(ISBLANK(ShareOfSearch_SERPS!A966)),ShareOfSearch_SERPS!A966,\"\")","v":""},{"$f":"IF(NOT(ISBLANK(ShareOfSearch_SERPS!G966)),ShareOfSearch_SERPS!G966,\"\")","v":""},{"$f":"IF(NOT(ISBLANK(ShareOfSearch_SERPS!K966)),ShareOfSearch_SERPS!K966,\"\")","v":""},{"$f":"IFERROR(VLOOKUP(C966,ShareOfSearch_CTR!$A$1:$B$100,2,FALSE)*VLOOKUP(A966&B966,ShareOfSearch_Volume!$C$1:$D$1000,2,FALSE),\"\")","v":""}]
[{"$f":"IF(ISTEXT(ShareOfSearch_SERPS!C967),ShareOfSearch_SERPS!C967,\"\")","v":""},{"$f":"IF(ISTEXT(ShareOfSearch_SERPS!D967),ShareOfSearch_SERPS!D967,\"\")","v":""},{"$f":"IF(NOT(ISBLANK(ShareOfSearch_SERPS!A967)),ShareOfSearch_SERPS!A967,\"\")","v":""},{"$f":"IF(NOT(ISBLANK(ShareOfSearch_SERPS!G967)),ShareOfSearch_SERPS!G967,\"\")","v":""},{"$f":"IF(NOT(ISBLANK(ShareOfSearch_SERPS!K967)),ShareOfSearch_SERPS!K967,\"\")","v":""},{"$f":"IFERROR(VLOOKUP(C967,ShareOfSearch_CTR!$A$1:$B$100,2,FALSE)*VLOOKUP(A967&B967,ShareOfSearch_Volume!$C$1:$D$1000,2,FALSE),\"\")","v":""}]
[{"$f":"IF(ISTEXT(ShareOfSearch_SERPS!C968),ShareOfSearch_SERPS!C968,\"\")","v":""},{"$f":"IF(ISTEXT(ShareOfSearch_SERPS!D968),ShareOfSearch_SERPS!D968,\"\")","v":""},{"$f":"IF(NOT(ISBLANK(ShareOfSearch_SERPS!A968)),ShareOfSearch_SERPS!A968,\"\")","v":""},{"$f":"IF(NOT(ISBLANK(ShareOfSearch_SERPS!G968)),ShareOfSearch_SERPS!G968,\"\")","v":""},{"$f":"IF(NOT(ISBLANK(ShareOfSearch_SERPS!K968)),ShareOfSearch_SERPS!K968,\"\")","v":""},{"$f":"IFERROR(VLOOKUP(C968,ShareOfSearch_CTR!$A$1:$B$100,2,FALSE)*VLOOKUP(A968&B968,ShareOfSearch_Volume!$C$1:$D$1000,2,FALSE),\"\")","v":""}]
[{"$f":"IF(ISTEXT(ShareOfSearch_SERPS!C969),ShareOfSearch_SERPS!C969,\"\")","v":""},{"$f":"IF(ISTEXT(ShareOfSearch_SERPS!D969),ShareOfSearch_SERPS!D969,\"\")","v":""},{"$f":"IF(NOT(ISBLANK(ShareOfSearch_SERPS!A969)),ShareOfSearch_SERPS!A969,\"\")","v":""},{"$f":"IF(NOT(ISBLANK(ShareOfSearch_SERPS!G969)),ShareOfSearch_SERPS!G969,\"\")","v":""},{"$f":"IF(NOT(ISBLANK(ShareOfSearch_SERPS!K969)),ShareOfSearch_SERPS!K969,\"\")","v":""},{"$f":"IFERROR(VLOOKUP(C969,ShareOfSearch_CTR!$A$1:$B$100,2,FALSE)*VLOOKUP(A969&B969,ShareOfSearch_Volume!$C$1:$D$1000,2,FALSE),\"\")","v":""}]
[{"$f":"IF(ISTEXT(ShareOfSearch_SERPS!C970),ShareOfSearch_SERPS!C970,\"\")","v":""},{"$f":"IF(ISTEXT(ShareOfSearch_SERPS!D970),ShareOfSearch_SERPS!D970,\"\")","v":""},{"$f":"IF(NOT(ISBLANK(ShareOfSearch_SERPS!A970)),ShareOfSearch_SERPS!A970,\"\")","v":""},{"$f":"IF(NOT(ISBLANK(ShareOfSearch_SERPS!G970)),ShareOfSearch_SERPS!G970,\"\")","v":""},{"$f":"IF(NOT(ISBLANK(ShareOfSearch_SERPS!K970)),ShareOfSearch_SERPS!K970,\"\")","v":""},{"$f":"IFERROR(VLOOKUP(C970,ShareOfSearch_CTR!$A$1:$B$100,2,FALSE)*VLOOKUP(A970&B970,ShareOfSearch_Volume!$C$1:$D$1000,2,FALSE),\"\")","v":""}]
[{"$f":"IF(ISTEXT(ShareOfSearch_SERPS!C971),ShareOfSearch_SERPS!C971,\"\")","v":""},{"$f":"IF(ISTEXT(ShareOfSearch_SERPS!D971),ShareOfSearch_SERPS!D971,\"\")","v":""},{"$f":"IF(NOT(ISBLANK(ShareOfSearch_SERPS!A971)),ShareOfSearch_SERPS!A971,\"\")","v":""},{"$f":"IF(NOT(ISBLANK(ShareOfSearch_SERPS!G971)),ShareOfSearch_SERPS!G971,\"\")","v":""},{"$f":"IF(NOT(ISBLANK(ShareOfSearch_SERPS!K971)),ShareOfSearch_SERPS!K971,\"\")","v":""},{"$f":"IFERROR(VLOOKUP(C971,ShareOfSearch_CTR!$A$1:$B$100,2,FALSE)*VLOOKUP(A971&B971,ShareOfSearch_Volume!$C$1:$D$1000,2,FALSE),\"\")","v":""}]
[{"$f":"IF(ISTEXT(ShareOfSearch_SERPS!C972),ShareOfSearch_SERPS!C972,\"\")","v":""},{"$f":"IF(ISTEXT(ShareOfSearch_SERPS!D972),ShareOfSearch_SERPS!D972,\"\")","v":""},{"$f":"IF(NOT(ISBLANK(ShareOfSearch_SERPS!A972)),ShareOfSearch_SERPS!A972,\"\")","v":""},{"$f":"IF(NOT(ISBLANK(ShareOfSearch_SERPS!G972)),ShareOfSearch_SERPS!G972,\"\")","v":""},{"$f":"IF(NOT(ISBLANK(ShareOfSearch_SERPS!K972)),ShareOfSearch_SERPS!K972,\"\")","v":""},{"$f":"IFERROR(VLOOKUP(C972,ShareOfSearch_CTR!$A$1:$B$100,2,FALSE)*VLOOKUP(A972&B972,ShareOfSearch_Volume!$C$1:$D$1000,2,FALSE),\"\")","v":""}]
[{"$f":"IF(ISTEXT(ShareOfSearch_SERPS!C973),ShareOfSearch_SERPS!C973,\"\")","v":""},{"$f":"IF(ISTEXT(ShareOfSearch_SERPS!D973),ShareOfSearch_SERPS!D973,\"\")","v":""},{"$f":"IF(NOT(ISBLANK(ShareOfSearch_SERPS!A973)),ShareOfSearch_SERPS!A973,\"\")","v":""},{"$f":"IF(NOT(ISBLANK(ShareOfSearch_SERPS!G973)),ShareOfSearch_SERPS!G973,\"\")","v":""},{"$f":"IF(NOT(ISBLANK(ShareOfSearch_SERPS!K973)),ShareOfSearch_SERPS!K973,\"\")","v":""},{"$f":"IFERROR(VLOOKUP(C973,ShareOfSearch_CTR!$A$1:$B$100,2,FALSE)*VLOOKUP(A973&B973,ShareOfSearch_Volume!$C$1:$D$1000,2,FALSE),\"\")","v":""}]
[{"$f":"IF(ISTEXT(ShareOfSearch_SERPS!C974),ShareOfSearch_SERPS!C974,\"\")","v":""},{"$f":"IF(ISTEXT(ShareOfSearch_SERPS!D974),ShareOfSearch_SERPS!D974,\"\")","v":""},{"$f":"IF(NOT(ISBLANK(ShareOfSearch_SERPS!A974)),ShareOfSearch_SERPS!A974,\"\")","v":""},{"$f":"IF(NOT(ISBLANK(ShareOfSearch_SERPS!G974)),ShareOfSearch_SERPS!G974,\"\")","v":""},{"$f":"IF(NOT(ISBLANK(ShareOfSearch_SERPS!K974)),ShareOfSearch_SERPS!K974,\"\")","v":""},{"$f":"IFERROR(VLOOKUP(C974,ShareOfSearch_CTR!$A$1:$B$100,2,FALSE)*VLOOKUP(A974&B974,ShareOfSearch_Volume!$C$1:$D$1000,2,FALSE),\"\")","v":""}]
[{"$f":"IF(ISTEXT(ShareOfSearch_SERPS!C975),ShareOfSearch_SERPS!C975,\"\")","v":""},{"$f":"IF(ISTEXT(ShareOfSearch_SERPS!D975),ShareOfSearch_SERPS!D975,\"\")","v":""},{"$f":"IF(NOT(ISBLANK(ShareOfSearch_SERPS!A975)),ShareOfSearch_SERPS!A975,\"\")","v":""},{"$f":"IF(NOT(ISBLANK(ShareOfSearch_SERPS!G975)),ShareOfSearch_SERPS!G975,\"\")","v":""},{"$f":"IF(NOT(ISBLANK(ShareOfSearch_SERPS!K975)),ShareOfSearch_SERPS!K975,\"\")","v":""},{"$f":"IFERROR(VLOOKUP(C975,ShareOfSearch_CTR!$A$1:$B$100,2,FALSE)*VLOOKUP(A975&B975,ShareOfSearch_Volume!$C$1:$D$1000,2,FALSE),\"\")","v":""}]
[{"$f":"IF(ISTEXT(ShareOfSearch_SERPS!C976),ShareOfSearch_SERPS!C976,\"\")","v":""},{"$f":"IF(ISTEXT(ShareOfSearch_SERPS!D976),ShareOfSearch_SERPS!D976,\"\")","v":""},{"$f":"IF(NOT(ISBLANK(ShareOfSearch_SERPS!A976)),ShareOfSearch_SERPS!A976,\"\")","v":""},{"$f":"IF(NOT(ISBLANK(ShareOfSearch_SERPS!G976)),ShareOfSearch_SERPS!G976,\"\")","v":""},{"$f":"IF(NOT(ISBLANK(ShareOfSearch_SERPS!K976)),ShareOfSearch_SERPS!K976,\"\")","v":""},{"$f":"IFERROR(VLOOKUP(C976,ShareOfSearch_CTR!$A$1:$B$100,2,FALSE)*VLOOKUP(A976&B976,ShareOfSearch_Volume!$C$1:$D$1000,2,FALSE),\"\")","v":""}]
[{"$f":"IF(ISTEXT(ShareOfSearch_SERPS!C977),ShareOfSearch_SERPS!C977,\"\")","v":""},{"$f":"IF(ISTEXT(ShareOfSearch_SERPS!D977),ShareOfSearch_SERPS!D977,\"\")","v":""},{"$f":"IF(NOT(ISBLANK(ShareOfSearch_SERPS!A977)),ShareOfSearch_SERPS!A977,\"\")","v":""},{"$f":"IF(NOT(ISBLANK(ShareOfSearch_SERPS!G977)),ShareOfSearch_SERPS!G977,\"\")","v":""},{"$f":"IF(NOT(ISBLANK(ShareOfSearch_SERPS!K977)),ShareOfSearch_SERPS!K977,\"\")","v":""},{"$f":"IFERROR(VLOOKUP(C977,ShareOfSearch_CTR!$A$1:$B$100,2,FALSE)*VLOOKUP(A977&B977,ShareOfSearch_Volume!$C$1:$D$1000,2,FALSE),\"\")","v":""}]
[{"$f":"IF(ISTEXT(ShareOfSearch_SERPS!C978),ShareOfSearch_SERPS!C978,\"\")","v":""},{"$f":"IF(ISTEXT(ShareOfSearch_SERPS!D978),ShareOfSearch_SERPS!D978,\"\")","v":""},{"$f":"IF(NOT(ISBLANK(ShareOfSearch_SERPS!A978)),ShareOfSearch_SERPS!A978,\"\")","v":""},{"$f":"IF(NOT(ISBLANK(ShareOfSearch_SERPS!G978)),ShareOfSearch_SERPS!G978,\"\")","v":""},{"$f":"IF(NOT(ISBLANK(ShareOfSearch_SERPS!K978)),ShareOfSearch_SERPS!K978,\"\")","v":""},{"$f":"IFERROR(VLOOKUP(C978,ShareOfSearch_CTR!$A$1:$B$100,2,FALSE)*VLOOKUP(A978&B978,ShareOfSearch_Volume!$C$1:$D$1000,2,FALSE),\"\")","v":""}]
[{"$f":"IF(ISTEXT(ShareOfSearch_SERPS!C979),ShareOfSearch_SERPS!C979,\"\")","v":""},{"$f":"IF(ISTEXT(ShareOfSearch_SERPS!D979),ShareOfSearch_SERPS!D979,\"\")","v":""},{"$f":"IF(NOT(ISBLANK(ShareOfSearch_SERPS!A979)),ShareOfSearch_SERPS!A979,\"\")","v":""},{"$f":"IF(NOT(ISBLANK(ShareOfSearch_SERPS!G979)),ShareOfSearch_SERPS!G979,\"\")","v":""},{"$f":"IF(NOT(ISBLANK(ShareOfSearch_SERPS!K979)),ShareOfSearch_SERPS!K979,\"\")","v":""},{"$f":"IFERROR(VLOOKUP(C979,ShareOfSearch_CTR!$A$1:$B$100,2,FALSE)*VLOOKUP(A979&B979,ShareOfSearch_Volume!$C$1:$D$1000,2,FALSE),\"\")","v":""}]
[{"$f":"IF(ISTEXT(ShareOfSearch_SERPS!C980),ShareOfSearch_SERPS!C980,\"\")","v":""},{"$f":"IF(ISTEXT(ShareOfSearch_SERPS!D980),ShareOfSearch_SERPS!D980,\"\")","v":""},{"$f":"IF(NOT(ISBLANK(ShareOfSearch_SERPS!A980)),ShareOfSearch_SERPS!A980,\"\")","v":""},{"$f":"IF(NOT(ISBLANK(ShareOfSearch_SERPS!G980)),ShareOfSearch_SERPS!G980,\"\")","v":""},{"$f":"IF(NOT(ISBLANK(ShareOfSearch_SERPS!K980)),ShareOfSearch_SERPS!K980,\"\")","v":""},{"$f":"IFERROR(VLOOKUP(C980,ShareOfSearch_CTR!$A$1:$B$100,2,FALSE)*VLOOKUP(A980&B980,ShareOfSearch_Volume!$C$1:$D$1000,2,FALSE),\"\")","v":""}]
[{"$f":"IF(ISTEXT(ShareOfSearch_SERPS!C981),ShareOfSearch_SERPS!C981,\"\")","v":""},{"$f":"IF(ISTEXT(ShareOfSearch_SERPS!D981),ShareOfSearch_SERPS!D981,\"\")","v":""},{"$f":"IF(NOT(ISBLANK(ShareOfSearch_SERPS!A981)),ShareOfSearch_SERPS!A981,\"\")","v":""},{"$f":"IF(NOT(ISBLANK(ShareOfSearch_SERPS!G981)),ShareOfSearch_SERPS!G981,\"\")","v":""},{"$f":"IF(NOT(ISBLANK(ShareOfSearch_SERPS!K981)),ShareOfSearch_SERPS!K981,\"\")","v":""},{"$f":"IFERROR(VLOOKUP(C981,ShareOfSearch_CTR!$A$1:$B$100,2,FALSE)*VLOOKUP(A981&B981,ShareOfSearch_Volume!$C$1:$D$1000,2,FALSE),\"\")","v":""}]
[{"$f":"IF(ISTEXT(ShareOfSearch_SERPS!C982),ShareOfSearch_SERPS!C982,\"\")","v":""},{"$f":"IF(ISTEXT(ShareOfSearch_SERPS!D982),ShareOfSearch_SERPS!D982,\"\")","v":""},{"$f":"IF(NOT(ISBLANK(ShareOfSearch_SERPS!A982)),ShareOfSearch_SERPS!A982,\"\")","v":""},{"$f":"IF(NOT(ISBLANK(ShareOfSearch_SERPS!G982)),ShareOfSearch_SERPS!G982,\"\")","v":""},{"$f":"IF(NOT(ISBLANK(ShareOfSearch_SERPS!K982)),ShareOfSearch_SERPS!K982,\"\")","v":""},{"$f":"IFERROR(VLOOKUP(C982,ShareOfSearch_CTR!$A$1:$B$100,2,FALSE)*VLOOKUP(A982&B982,ShareOfSearch_Volume!$C$1:$D$1000,2,FALSE),\"\")","v":""}]
[{"$f":"IF(ISTEXT(ShareOfSearch_SERPS!C983),ShareOfSearch_SERPS!C983,\"\")","v":""},{"$f":"IF(ISTEXT(ShareOfSearch_SERPS!D983),ShareOfSearch_SERPS!D983,\"\")","v":""},{"$f":"IF(NOT(ISBLANK(ShareOfSearch_SERPS!A983)),ShareOfSearch_SERPS!A983,\"\")","v":""},{"$f":"IF(NOT(ISBLANK(ShareOfSearch_SERPS!G983)),ShareOfSearch_SERPS!G983,\"\")","v":""},{"$f":"IF(NOT(ISBLANK(ShareOfSearch_SERPS!K983)),ShareOfSearch_SERPS!K983,\"\")","v":""},{"$f":"IFERROR(VLOOKUP(C983,ShareOfSearch_CTR!$A$1:$B$100,2,FALSE)*VLOOKUP(A983&B983,ShareOfSearch_Volume!$C$1:$D$1000,2,FALSE),\"\")","v":""}]
[{"$f":"IF(ISTEXT(ShareOfSearch_SERPS!C984),ShareOfSearch_SERPS!C984,\"\")","v":""},{"$f":"IF(ISTEXT(ShareOfSearch_SERPS!D984),ShareOfSearch_SERPS!D984,\"\")","v":""},{"$f":"IF(NOT(ISBLANK(ShareOfSearch_SERPS!A984)),ShareOfSearch_SERPS!A984,\"\")","v":""},{"$f":"IF(NOT(ISBLANK(ShareOfSearch_SERPS!G984)),ShareOfSearch_SERPS!G984,\"\")","v":""},{"$f":"IF(NOT(ISBLANK(ShareOfSearch_SERPS!K984)),ShareOfSearch_SERPS!K984,\"\")","v":""},{"$f":"IFERROR(VLOOKUP(C984,ShareOfSearch_CTR!$A$1:$B$100,2,FALSE)*VLOOKUP(A984&B984,ShareOfSearch_Volume!$C$1:$D$1000,2,FALSE),\"\")","v":""}]
[{"$f":"IF(ISTEXT(ShareOfSearch_SERPS!C985),ShareOfSearch_SERPS!C985,\"\")","v":""},{"$f":"IF(ISTEXT(ShareOfSearch_SERPS!D985),ShareOfSearch_SERPS!D985,\"\")","v":""},{"$f":"IF(NOT(ISBLANK(ShareOfSearch_SERPS!A985)),ShareOfSearch_SERPS!A985,\"\")","v":""},{"$f":"IF(NOT(ISBLANK(ShareOfSearch_SERPS!G985)),ShareOfSearch_SERPS!G985,\"\")","v":""},{"$f":"IF(NOT(ISBLANK(ShareOfSearch_SERPS!K985)),ShareOfSearch_SERPS!K985,\"\")","v":""},{"$f":"IFERROR(VLOOKUP(C985,ShareOfSearch_CTR!$A$1:$B$100,2,FALSE)*VLOOKUP(A985&B985,ShareOfSearch_Volume!$C$1:$D$1000,2,FALSE),\"\")","v":""}]
[{"$f":"IF(ISTEXT(ShareOfSearch_SERPS!C986),ShareOfSearch_SERPS!C986,\"\")","v":""},{"$f":"IF(ISTEXT(ShareOfSearch_SERPS!D986),ShareOfSearch_SERPS!D986,\"\")","v":""},{"$f":"IF(NOT(ISBLANK(ShareOfSearch_SERPS!A986)),ShareOfSearch_SERPS!A986,\"\")","v":""},{"$f":"IF(NOT(ISBLANK(ShareOfSearch_SERPS!G986)),ShareOfSearch_SERPS!G986,\"\")","v":""},{"$f":"IF(NOT(ISBLANK(ShareOfSearch_SERPS!K986)),ShareOfSearch_SERPS!K986,\"\")","v":""},{"$f":"IFERROR(VLOOKUP(C986,ShareOfSearch_CTR!$A$1:$B$100,2,FALSE)*VLOOKUP(A986&B986,ShareOfSearch_Volume!$C$1:$D$1000,2,FALSE),\"\")","v":""}]
[{"$f":"IF(ISTEXT(ShareOfSearch_SERPS!C987),ShareOfSearch_SERPS!C987,\"\")","v":""},{"$f":"IF(ISTEXT(ShareOfSearch_SERPS!D987),ShareOfSearch_SERPS!D987,\"\")","v":""},{"$f":"IF(NOT(ISBLANK(ShareOfSearch_SERPS!A987)),ShareOfSearch_SERPS!A987,\"\")","v":""},{"$f":"IF(NOT(ISBLANK(ShareOfSearch_SERPS!G987)),ShareOfSearch_SERPS!G987,\"\")","v":""},{"$f":"IF(NOT(ISBLANK(ShareOfSearch_SERPS!K987)),ShareOfSearch_SERPS!K987,\"\")","v":""},{"$f":"IFERROR(VLOOKUP(C987,ShareOfSearch_CTR!$A$1:$B$100,2,FALSE)*VLOOKUP(A987&B987,ShareOfSearch_Volume!$C$1:$D$1000,2,FALSE),\"\")","v":""}]
[{"$f":"IF(ISTEXT(ShareOfSearch_SERPS!C988),ShareOfSearch_SERPS!C988,\"\")","v":""},{"$f":"IF(ISTEXT(ShareOfSearch_SERPS!D988),ShareOfSearch_SERPS!D988,\"\")","v":""},{"$f":"IF(NOT(ISBLANK(ShareOfSearch_SERPS!A988)),ShareOfSearch_SERPS!A988,\"\")","v":""},{"$f":"IF(NOT(ISBLANK(ShareOfSearch_SERPS!G988)),ShareOfSearch_SERPS!G988,\"\")","v":""},{"$f":"IF(NOT(ISBLANK(ShareOfSearch_SERPS!K988)),ShareOfSearch_SERPS!K988,\"\")","v":""},{"$f":"IFERROR(VLOOKUP(C988,ShareOfSearch_CTR!$A$1:$B$100,2,FALSE)*VLOOKUP(A988&B988,ShareOfSearch_Volume!$C$1:$D$1000,2,FALSE),\"\")","v":""}]
[{"$f":"IF(ISTEXT(ShareOfSearch_SERPS!C989),ShareOfSearch_SERPS!C989,\"\")","v":""},{"$f":"IF(ISTEXT(ShareOfSearch_SERPS!D989),ShareOfSearch_SERPS!D989,\"\")","v":""},{"$f":"IF(NOT(ISBLANK(ShareOfSearch_SERPS!A989)),ShareOfSearch_SERPS!A989,\"\")","v":""},{"$f":"IF(NOT(ISBLANK(ShareOfSearch_SERPS!G989)),ShareOfSearch_SERPS!G989,\"\")","v":""},{"$f":"IF(NOT(ISBLANK(ShareOfSearch_SERPS!K989)),ShareOfSearch_SERPS!K989,\"\")","v":""},{"$f":"IFERROR(VLOOKUP(C989,ShareOfSearch_CTR!$A$1:$B$100,2,FALSE)*VLOOKUP(A989&B989,ShareOfSearch_Volume!$C$1:$D$1000,2,FALSE),\"\")","v":""}]
[{"$f":"IF(ISTEXT(ShareOfSearch_SERPS!C990),ShareOfSearch_SERPS!C990,\"\")","v":""},{"$f":"IF(ISTEXT(ShareOfSearch_SERPS!D990),ShareOfSearch_SERPS!D990,\"\")","v":""},{"$f":"IF(NOT(ISBLANK(ShareOfSearch_SERPS!A990)),ShareOfSearch_SERPS!A990,\"\")","v":""},{"$f":"IF(NOT(ISBLANK(ShareOfSearch_SERPS!G990)),ShareOfSearch_SERPS!G990,\"\")","v":""},{"$f":"IF(NOT(ISBLANK(ShareOfSearch_SERPS!K990)),ShareOfSearch_SERPS!K990,\"\")","v":""},{"$f":"IFERROR(VLOOKUP(C990,ShareOfSearch_CTR!$A$1:$B$100,2,FALSE)*VLOOKUP(A990&B990,ShareOfSearch_Volume!$C$1:$D$1000,2,FALSE),\"\")","v":""}]
[{"$f":"IF(ISTEXT(ShareOfSearch_SERPS!C991),ShareOfSearch_SERPS!C991,\"\")","v":""},{"$f":"IF(ISTEXT(ShareOfSearch_SERPS!D991),ShareOfSearch_SERPS!D991,\"\")","v":""},{"$f":"IF(NOT(ISBLANK(ShareOfSearch_SERPS!A991)),ShareOfSearch_SERPS!A991,\"\")","v":""},{"$f":"IF(NOT(ISBLANK(ShareOfSearch_SERPS!G991)),ShareOfSearch_SERPS!G991,\"\")","v":""},{"$f":"IF(NOT(ISBLANK(ShareOfSearch_SERPS!K991)),ShareOfSearch_SERPS!K991,\"\")","v":""},{"$f":"IFERROR(VLOOKUP(C991,ShareOfSearch_CTR!$A$1:$B$100,2,FALSE)*VLOOKUP(A991&B991,ShareOfSearch_Volume!$C$1:$D$1000,2,FALSE),\"\")","v":""}]
[{"$f":"IF(ISTEXT(ShareOfSearch_SERPS!C992),ShareOfSearch_SERPS!C992,\"\")","v":""},{"$f":"IF(ISTEXT(ShareOfSearch_SERPS!D992),ShareOfSearch_SERPS!D992,\"\")","v":""},{"$f":"IF(NOT(ISBLANK(ShareOfSearch_SERPS!A992)),ShareOfSearch_SERPS!A992,\"\")","v":""},{"$f":"IF(NOT(ISBLANK(ShareOfSearch_SERPS!G992)),ShareOfSearch_SERPS!G992,\"\")","v":""},{"$f":"IF(NOT(ISBLANK(ShareOfSearch_SERPS!K992)),ShareOfSearch_SERPS!K992,\"\")","v":""},{"$f":"IFERROR(VLOOKUP(C992,ShareOfSearch_CTR!$A$1:$B$100,2,FALSE)*VLOOKUP(A992&B992,ShareOfSearch_Volume!$C$1:$D$1000,2,FALSE),\"\")","v":""}]
[{"$f":"IF(ISTEXT(ShareOfSearch_SERPS!C993),ShareOfSearch_SERPS!C993,\"\")","v":""},{"$f":"IF(ISTEXT(ShareOfSearch_SERPS!D993),ShareOfSearch_SERPS!D993,\"\")","v":""},{"$f":"IF(NOT(ISBLANK(ShareOfSearch_SERPS!A993)),ShareOfSearch_SERPS!A993,\"\")","v":""},{"$f":"IF(NOT(ISBLANK(ShareOfSearch_SERPS!G993)),ShareOfSearch_SERPS!G993,\"\")","v":""},{"$f":"IF(NOT(ISBLANK(ShareOfSearch_SERPS!K993)),ShareOfSearch_SERPS!K993,\"\")","v":""},{"$f":"IFERROR(VLOOKUP(C993,ShareOfSearch_CTR!$A$1:$B$100,2,FALSE)*VLOOKUP(A993&B993,ShareOfSearch_Volume!$C$1:$D$1000,2,FALSE),\"\")","v":""}]
[{"$f":"IF(ISTEXT(ShareOfSearch_SERPS!C994),ShareOfSearch_SERPS!C994,\"\")","v":""},{"$f":"IF(ISTEXT(ShareOfSearch_SERPS!D994),ShareOfSearch_SERPS!D994,\"\")","v":""},{"$f":"IF(NOT(ISBLANK(ShareOfSearch_SERPS!A994)),ShareOfSearch_SERPS!A994,\"\")","v":""},{"$f":"IF(NOT(ISBLANK(ShareOfSearch_SERPS!G994)),ShareOfSearch_SERPS!G994,\"\")","v":""},{"$f":"IF(NOT(ISBLANK(ShareOfSearch_SERPS!K994)),ShareOfSearch_SERPS!K994,\"\")","v":""},{"$f":"IFERROR(VLOOKUP(C994,ShareOfSearch_CTR!$A$1:$B$100,2,FALSE)*VLOOKUP(A994&B994,ShareOfSearch_Volume!$C$1:$D$1000,2,FALSE),\"\")","v":""}]
[{"$f":"IF(ISTEXT(ShareOfSearch_SERPS!C995),ShareOfSearch_SERPS!C995,\"\")","v":""},{"$f":"IF(ISTEXT(ShareOfSearch_SERPS!D995),ShareOfSearch_SERPS!D995,\"\")","v":""},{"$f":"IF(NOT(ISBLANK(ShareOfSearch_SERPS!A995)),ShareOfSearch_SERPS!A995,\"\")","v":""},{"$f":"IF(NOT(ISBLANK(ShareOfSearch_SERPS!G995)),ShareOfSearch_SERPS!G995,\"\")","v":""},{"$f":"IF(NOT(ISBLANK(ShareOfSearch_SERPS!K995)),ShareOfSearch_SERPS!K995,\"\")","v":""},{"$f":"IFERROR(VLOOKUP(C995,ShareOfSearch_CTR!$A$1:$B$100,2,FALSE)*VLOOKUP(A995&B995,ShareOfSearch_Volume!$C$1:$D$1000,2,FALSE),\"\")","v":""}]
[{"$f":"IF(ISTEXT(ShareOfSearch_SERPS!C996),ShareOfSearch_SERPS!C996,\"\")","v":""},{"$f":"IF(ISTEXT(ShareOfSearch_SERPS!D996),ShareOfSearch_SERPS!D996,\"\")","v":""},{"$f":"IF(NOT(ISBLANK(ShareOfSearch_SERPS!A996)),ShareOfSearch_SERPS!A996,\"\")","v":""},{"$f":"IF(NOT(ISBLANK(ShareOfSearch_SERPS!G996)),ShareOfSearch_SERPS!G996,\"\")","v":""},{"$f":"IF(NOT(ISBLANK(ShareOfSearch_SERPS!K996)),ShareOfSearch_SERPS!K996,\"\")","v":""},{"$f":"IFERROR(VLOOKUP(C996,ShareOfSearch_CTR!$A$1:$B$100,2,FALSE)*VLOOKUP(A996&B996,ShareOfSearch_Volume!$C$1:$D$1000,2,FALSE),\"\")","v":""}]
[{"$f":"IF(ISTEXT(ShareOfSearch_SERPS!C997),ShareOfSearch_SERPS!C997,\"\")","v":""},{"$f":"IF(ISTEXT(ShareOfSearch_SERPS!D997),ShareOfSearch_SERPS!D997,\"\")","v":""},{"$f":"IF(NOT(ISBLANK(ShareOfSearch_SERPS!A997)),ShareOfSearch_SERPS!A997,\"\")","v":""},{"$f":"IF(NOT(ISBLANK(ShareOfSearch_SERPS!G997)),ShareOfSearch_SERPS!G997,\"\")","v":""},{"$f":"IF(NOT(ISBLANK(ShareOfSearch_SERPS!K997)),ShareOfSearch_SERPS!K997,\"\")","v":""},{"$f":"IFERROR(VLOOKUP(C997,ShareOfSearch_CTR!$A$1:$B$100,2,FALSE)*VLOOKUP(A997&B997,ShareOfSearch_Volume!$C$1:$D$1000,2,FALSE),\"\")","v":""}]
[{"$f":"IF(ISTEXT(ShareOfSearch_SERPS!C998),ShareOfSearch_SERPS!C998,\"\")","v":""},{"$f":"IF(ISTEXT(ShareOfSearch_SERPS!D998),ShareOfSearch_SERPS!D998,\"\")","v":""},{"$f":"IF(NOT(ISBLANK(ShareOfSearch_SERPS!A998)),ShareOfSearch_SERPS!A998,\"\")","v":""},{"$f":"IF(NOT(ISBLANK(ShareOfSearch_SERPS!G998)),ShareOfSearch_SERPS!G998,\"\")","v":""},{"$f":"IF(NOT(ISBLANK(ShareOfSearch_SERPS!K998)),ShareOfSearch_SERPS!K998,\"\")","v":""},{"$f":"IFERROR(VLOOKUP(C998,ShareOfSearch_CTR!$A$1:$B$100,2,FALSE)*VLOOKUP(A998&B998,ShareOfSearch_Volume!$C$1:$D$1000,2,FALSE),\"\")","v":""}]
[{"$f":"IF(ISTEXT(ShareOfSearch_SERPS!C999),ShareOfSearch_SERPS!C999,\"\")","v":""},{"$f":"IF(ISTEXT(ShareOfSearch_SERPS!D999),ShareOfSearch_SERPS!D999,\"\")","v":""},{"$f":"IF(NOT(ISBLANK(ShareOfSearch_SERPS!A999)),ShareOfSearch_SERPS!A999,\"\")","v":""},{"$f":"IF(NOT(ISBLANK(ShareOfSearch_SERPS!G999)),ShareOfSearch_SERPS!G999,\"\")","v":""},{"$f":"IF(NOT(ISBLANK(ShareOfSearch_SERPS!K999)),ShareOfSearch_SERPS!K999,\"\")","v":""},{"$f":"IFERROR(VLOOKUP(C999,ShareOfSearch_CTR!$A$1:$B$100,2,FALSE)*VLOOKUP(A999&B999,ShareOfSearch_Volume!$C$1:$D$1000,2,FALSE),\"\")","v":""}]
[{"$f":"IF(ISTEXT(ShareOfSearch_SERPS!C1000),ShareOfSearch_SERPS!C1000,\"\")","v":""},{"$f":"IF(ISTEXT(ShareOfSearch_SERPS!D1000),ShareOfSearch_SERPS!D1000,\"\")","v":""},{"$f":"IF(NOT(ISBLANK(ShareOfSearch_SERPS!A1000)),ShareOfSearch_SERPS!A1000,\"\")","v":""},{"$f":"IF(NOT(ISBLANK(ShareOfSearch_SERPS!G1000)),ShareOfSearch_SERPS!G1000,\"\")","v":""},{"$f":"IF(NOT(ISBLANK(ShareOfSearch_SERPS!K1000)),ShareOfSearch_SERPS!K1000,\"\")","v":""},{"$f":"IFERROR(VLOOKUP(C1000,ShareOfSearch_CTR!$A$1:$B$100,2,FALSE)*VLOOKUP(A1000&B1000,ShareOfSearch_Volume!$C$1:$D$1000,2,FALSE),\"\")","v":""}]
[{"$f":"IF(ISTEXT(ShareOfSearch_SERPS!C1001),ShareOfSearch_SERPS!C1001,\"\")","v":""},{"$f":"IF(ISTEXT(ShareOfSearch_SERPS!D1001),ShareOfSearch_SERPS!D1001,\"\")","v":""},{"$f":"IF(NOT(ISBLANK(ShareOfSearch_SERPS!A1001)),ShareOfSearch_SERPS!A1001,\"\")","v":""},{"$f":"IF(NOT(ISBLANK(ShareOfSearch_SERPS!G1001)),ShareOfSearch_SERPS!G1001,\"\")","v":""},{"$f":"IF(NOT(ISBLANK(ShareOfSearch_SERPS!K1001)),ShareOfSearch_SERPS!K1001,\"\")","v":""},{"$f":"IFERROR(VLOOKUP(C1001,ShareOfSearch_CTR!$A$1:$B$100,2,FALSE)*VLOOKUP(A1001&B1001,ShareOfSearch_Volume!$C$1:$D$1000,2,FALSE),\"\")","v":""}]
[{"$f":"IF(ISTEXT(ShareOfSearch_SERPS!C1002),ShareOfSearch_SERPS!C1002,\"\")","v":""},{"$f":"IF(ISTEXT(ShareOfSearch_SERPS!D1002),ShareOfSearch_SERPS!D1002,\"\")","v":""},{"$f":"IF(NOT(ISBLANK(ShareOfSearch_SERPS!A1002)),ShareOfSearch_SERPS!A1002,\"\")","v":""},{"$f":"IF(NOT(ISBLANK(ShareOfSearch_SERPS!G1002)),ShareOfSearch_SERPS!G1002,\"\")","v":""},{"$f":"IF(NOT(ISBLANK(ShareOfSearch_SERPS!K1002)),ShareOfSearch_SERPS!K1002,\"\")","v":""},{"$f":"IFERROR(VLOOKUP(C1002,ShareOfSearch_CTR!$A$1:$B$100,2,FALSE)*VLOOKUP(A1002&B1002,ShareOfSearch_Volume!$C$1:$D$1000,2,FALSE),\"\")","v":""}]
[{"$f":"IF(ISTEXT(ShareOfSearch_SERPS!C1003),ShareOfSearch_SERPS!C1003,\"\")","v":""},{"$f":"IF(ISTEXT(ShareOfSearch_SERPS!D1003),ShareOfSearch_SERPS!D1003,\"\")","v":""},{"$f":"IF(NOT(ISBLANK(ShareOfSearch_SERPS!A1003)),ShareOfSearch_SERPS!A1003,\"\")","v":""},{"$f":"IF(NOT(ISBLANK(ShareOfSearch_SERPS!G1003)),ShareOfSearch_SERPS!G1003,\"\")","v":""},{"$f":"IF(NOT(ISBLANK(ShareOfSearch_SERPS!K1003)),ShareOfSearch_SERPS!K1003,\"\")","v":""},{"$f":"IFERROR(VLOOKUP(C1003,ShareOfSearch_CTR!$A$1:$B$100,2,FALSE)*VLOOKUP(A1003&B1003,ShareOfSearch_Volume!$C$1:$D$1000,2,FALSE),\"\")","v":""}]
[{"$f":"IF(ISTEXT(ShareOfSearch_SERPS!C1004),ShareOfSearch_SERPS!C1004,\"\")","v":""},{"$f":"IF(ISTEXT(ShareOfSearch_SERPS!D1004),ShareOfSearch_SERPS!D1004,\"\")","v":""},{"$f":"IF(NOT(ISBLANK(ShareOfSearch_SERPS!A1004)),ShareOfSearch_SERPS!A1004,\"\")","v":""},{"$f":"IF(NOT(ISBLANK(ShareOfSearch_SERPS!G1004)),ShareOfSearch_SERPS!G1004,\"\")","v":""},{"$f":"IF(NOT(ISBLANK(ShareOfSearch_SERPS!K1004)),ShareOfSearch_SERPS!K1004,\"\")","v":""},{"$f":"IFERROR(VLOOKUP(C1004,ShareOfSearch_CTR!$A$1:$B$100,2,FALSE)*VLOOKUP(A1004&B1004,ShareOfSearch_Volume!$C$1:$D$1000,2,FALSE),\"\")","v":""}]
[{"$f":"IF(ISTEXT(ShareOfSearch_SERPS!C1005),ShareOfSearch_SERPS!C1005,\"\")","v":""},{"$f":"IF(ISTEXT(ShareOfSearch_SERPS!D1005),ShareOfSearch_SERPS!D1005,\"\")","v":""},{"$f":"IF(NOT(ISBLANK(ShareOfSearch_SERPS!A1005)),ShareOfSearch_SERPS!A1005,\"\")","v":""},{"$f":"IF(NOT(ISBLANK(ShareOfSearch_SERPS!G1005)),ShareOfSearch_SERPS!G1005,\"\")","v":""},{"$f":"IF(NOT(ISBLANK(ShareOfSearch_SERPS!K1005)),ShareOfSearch_SERPS!K1005,\"\")","v":""},{"$f":"IFERROR(VLOOKUP(C1005,ShareOfSearch_CTR!$A$1:$B$100,2,FALSE)*VLOOKUP(A1005&B1005,ShareOfSearch_Volume!$C$1:$D$1000,2,FALSE),\"\")","v":""}]
[{"$f":"IF(ISTEXT(ShareOfSearch_SERPS!C1006),ShareOfSearch_SERPS!C1006,\"\")","v":""},{"$f":"IF(ISTEXT(ShareOfSearch_SERPS!D1006),ShareOfSearch_SERPS!D1006,\"\")","v":""},{"$f":"IF(NOT(ISBLANK(ShareOfSearch_SERPS!A1006)),ShareOfSearch_SERPS!A1006,\"\")","v":""},{"$f":"IF(NOT(ISBLANK(ShareOfSearch_SERPS!G1006)),ShareOfSearch_SERPS!G1006,\"\")","v":""},{"$f":"IF(NOT(ISBLANK(ShareOfSearch_SERPS!K1006)),ShareOfSearch_SERPS!K1006,\"\")","v":""},{"$f":"IFERROR(VLOOKUP(C1006,ShareOfSearch_CTR!$A$1:$B$100,2,FALSE)*VLOOKUP(A1006&B1006,ShareOfSearch_Volume!$C$1:$D$1000,2,FALSE),\"\")","v":""}]
[{"$f":"IF(ISTEXT(ShareOfSearch_SERPS!C1007),ShareOfSearch_SERPS!C1007,\"\")","v":""},{"$f":"IF(ISTEXT(ShareOfSearch_SERPS!D1007),ShareOfSearch_SERPS!D1007,\"\")","v":""},{"$f":"IF(NOT(ISBLANK(ShareOfSearch_SERPS!A1007)),ShareOfSearch_SERPS!A1007,\"\")","v":""},{"$f":"IF(NOT(ISBLANK(ShareOfSearch_SERPS!G1007)),ShareOfSearch_SERPS!G1007,\"\")","v":""},{"$f":"IF(NOT(ISBLANK(ShareOfSearch_SERPS!K1007)),ShareOfSearch_SERPS!K1007,\"\")","v":""},{"$f":"IFERROR(VLOOKUP(C1007,ShareOfSearch_CTR!$A$1:$B$100,2,FALSE)*VLOOKUP(A1007&B1007,ShareOfSearch_Volume!$C$1:$D$1000,2,FALSE),\"\")","v":""}]
[{"$f":"IF(ISTEXT(ShareOfSearch_SERPS!C1008),ShareOfSearch_SERPS!C1008,\"\")","v":""},{"$f":"IF(ISTEXT(ShareOfSearch_SERPS!D1008),ShareOfSearch_SERPS!D1008,\"\")","v":""},{"$f":"IF(NOT(ISBLANK(ShareOfSearch_SERPS!A1008)),ShareOfSearch_SERPS!A1008,\"\")","v":""},{"$f":"IF(NOT(ISBLANK(ShareOfSearch_SERPS!G1008)),ShareOfSearch_SERPS!G1008,\"\")","v":""},{"$f":"IF(NOT(ISBLANK(ShareOfSearch_SERPS!K1008)),ShareOfSearch_SERPS!K1008,\"\")","v":""},{"$f":"IFERROR(VLOOKUP(C1008,ShareOfSearch_CTR!$A$1:$B$100,2,FALSE)*VLOOKUP(A1008&B1008,ShareOfSearch_Volume!$C$1:$D$1000,2,FALSE),\"\")","v":""}]
[{"$f":"IF(ISTEXT(ShareOfSearch_SERPS!C1009),ShareOfSearch_SERPS!C1009,\"\")","v":""},{"$f":"IF(ISTEXT(ShareOfSearch_SERPS!D1009),ShareOfSearch_SERPS!D1009,\"\")","v":""},{"$f":"IF(NOT(ISBLANK(ShareOfSearch_SERPS!A1009)),ShareOfSearch_SERPS!A1009,\"\")","v":""},{"$f":"IF(NOT(ISBLANK(ShareOfSearch_SERPS!G1009)),ShareOfSearch_SERPS!G1009,\"\")","v":""},{"$f":"IF(NOT(ISBLANK(ShareOfSearch_SERPS!K1009)),ShareOfSearch_SERPS!K1009,\"\")","v":""},{"$f":"IFERROR(VLOOKUP(C1009,ShareOfSearch_CTR!$A$1:$B$100,2,FALSE)*VLOOKUP(A1009&B1009,ShareOfSearch_Volume!$C$1:$D$1000,2,FALSE),\"\")","v":""}]
[{"$f":"IF(ISTEXT(ShareOfSearch_SERPS!C1010),ShareOfSearch_SERPS!C1010,\"\")","v":""},{"$f":"IF(ISTEXT(ShareOfSearch_SERPS!D1010),ShareOfSearch_SERPS!D1010,\"\")","v":""},{"$f":"IF(NOT(ISBLANK(ShareOfSearch_SERPS!A1010)),ShareOfSearch_SERPS!A1010,\"\")","v":""},{"$f":"IF(NOT(ISBLANK(ShareOfSearch_SERPS!G1010)),ShareOfSearch_SERPS!G1010,\"\")","v":""},{"$f":"IF(NOT(ISBLANK(ShareOfSearch_SERPS!K1010)),ShareOfSearch_SERPS!K1010,\"\")","v":""},{"$f":"IFERROR(VLOOKUP(C1010,ShareOfSearch_CTR!$A$1:$B$100,2,FALSE)*VLOOKUP(A1010&B1010,ShareOfSearch_Volume!$C$1:$D$1000,2,FALSE),\"\")","v":""}]
[{"$f":"IF(ISTEXT(ShareOfSearch_SERPS!C1011),ShareOfSearch_SERPS!C1011,\"\")","v":""},{"$f":"IF(ISTEXT(ShareOfSearch_SERPS!D1011),ShareOfSearch_SERPS!D1011,\"\")","v":""},{"$f":"IF(NOT(ISBLANK(ShareOfSearch_SERPS!A1011)),ShareOfSearch_SERPS!A1011,\"\")","v":""},{"$f":"IF(NOT(ISBLANK(ShareOfSearch_SERPS!G1011)),ShareOfSearch_SERPS!G1011,\"\")","v":""},{"$f":"IF(NOT(ISBLANK(ShareOfSearch_SERPS!K1011)),ShareOfSearch_SERPS!K1011,\"\")","v":""},{"$f":"IFERROR(VLOOKUP(C1011,ShareOfSearch_CTR!$A$1:$B$100,2,FALSE)*VLOOKUP(A1011&B1011,ShareOfSearch_Volume!$C$1:$D$1000,2,FALSE),\"\")","v":""}]
[{"$f":"IF(ISTEXT(ShareOfSearch_SERPS!C1012),ShareOfSearch_SERPS!C1012,\"\")","v":""},{"$f":"IF(ISTEXT(ShareOfSearch_SERPS!D1012),ShareOfSearch_SERPS!D1012,\"\")","v":""},{"$f":"IF(NOT(ISBLANK(ShareOfSearch_SERPS!A1012)),ShareOfSearch_SERPS!A1012,\"\")","v":""},{"$f":"IF(NOT(ISBLANK(ShareOfSearch_SERPS!G1012)),ShareOfSearch_SERPS!G1012,\"\")","v":""},{"$f":"IF(NOT(ISBLANK(ShareOfSearch_SERPS!K1012)),ShareOfSearch_SERPS!K1012,\"\")","v":""},{"$f":"IFERROR(VLOOKUP(C1012,ShareOfSearch_CTR!$A$1:$B$100,2,FALSE)*VLOOKUP(A1012&B1012,ShareOfSearch_Volume!$C$1:$D$1000,2,FALSE),\"\")","v":""}]
[{"$f":"IF(ISTEXT(ShareOfSearch_SERPS!C1013),ShareOfSearch_SERPS!C1013,\"\")","v":""},{"$f":"IF(ISTEXT(ShareOfSearch_SERPS!D1013),ShareOfSearch_SERPS!D1013,\"\")","v":""},{"$f":"IF(NOT(ISBLANK(ShareOfSearch_SERPS!A1013)),ShareOfSearch_SERPS!A1013,\"\")","v":""},{"$f":"IF(NOT(ISBLANK(ShareOfSearch_SERPS!G1013)),ShareOfSearch_SERPS!G1013,\"\")","v":""},{"$f":"IF(NOT(ISBLANK(ShareOfSearch_SERPS!K1013)),ShareOfSearch_SERPS!K1013,\"\")","v":""},{"$f":"IFERROR(VLOOKUP(C1013,ShareOfSearch_CTR!$A$1:$B$100,2,FALSE)*VLOOKUP(A1013&B1013,ShareOfSearch_Volume!$C$1:$D$1000,2,FALSE),\"\")","v":""}]
[{"$f":"IF(ISTEXT(ShareOfSearch_SERPS!C1014),ShareOfSearch_SERPS!C1014,\"\")","v":""},{"$f":"IF(ISTEXT(ShareOfSearch_SERPS!D1014),ShareOfSearch_SERPS!D1014,\"\")","v":""},{"$f":"IF(NOT(ISBLANK(ShareOfSearch_SERPS!A1014)),ShareOfSearch_SERPS!A1014,\"\")","v":""},{"$f":"IF(NOT(ISBLANK(ShareOfSearch_SERPS!G1014)),ShareOfSearch_SERPS!G1014,\"\")","v":""},{"$f":"IF(NOT(ISBLANK(ShareOfSearch_SERPS!K1014)),ShareOfSearch_SERPS!K1014,\"\")","v":""},{"$f":"IFERROR(VLOOKUP(C1014,ShareOfSearch_CTR!$A$1:$B$100,2,FALSE)*VLOOKUP(A1014&B1014,ShareOfSearch_Volume!$C$1:$D$1000,2,FALSE),\"\")","v":""}]
[{"$f":"IF(ISTEXT(ShareOfSearch_SERPS!C1015),ShareOfSearch_SERPS!C1015,\"\")","v":""},{"$f":"IF(ISTEXT(ShareOfSearch_SERPS!D1015),ShareOfSearch_SERPS!D1015,\"\")","v":""},{"$f":"IF(NOT(ISBLANK(ShareOfSearch_SERPS!A1015)),ShareOfSearch_SERPS!A1015,\"\")","v":""},{"$f":"IF(NOT(ISBLANK(ShareOfSearch_SERPS!G1015)),ShareOfSearch_SERPS!G1015,\"\")","v":""},{"$f":"IF(NOT(ISBLANK(ShareOfSearch_SERPS!K1015)),ShareOfSearch_SERPS!K1015,\"\")","v":""},{"$f":"IFERROR(VLOOKUP(C1015,ShareOfSearch_CTR!$A$1:$B$100,2,FALSE)*VLOOKUP(A1015&B1015,ShareOfSearch_Volume!$C$1:$D$1000,2,FALSE),\"\")","v":""}]
[{"$f":"IF(ISTEXT(ShareOfSearch_SERPS!C1016),ShareOfSearch_SERPS!C1016,\"\")","v":""},{"$f":"IF(ISTEXT(ShareOfSearch_SERPS!D1016),ShareOfSearch_SERPS!D1016,\"\")","v":""},{"$f":"IF(NOT(ISBLANK(ShareOfSearch_SERPS!A1016)),ShareOfSearch_SERPS!A1016,\"\")","v":""},{"$f":"IF(NOT(ISBLANK(ShareOfSearch_SERPS!G1016)),ShareOfSearch_SERPS!G1016,\"\")","v":""},{"$f":"IF(NOT(ISBLANK(ShareOfSearch_SERPS!K1016)),ShareOfSearch_SERPS!K1016,\"\")","v":""},{"$f":"IFERROR(VLOOKUP(C1016,ShareOfSearch_CTR!$A$1:$B$100,2,FALSE)*VLOOKUP(A1016&B1016,ShareOfSearch_Volume!$C$1:$D$1000,2,FALSE),\"\")","v":""}]
[{"$f":"IF(ISTEXT(ShareOfSearch_SERPS!C1017),ShareOfSearch_SERPS!C1017,\"\")","v":""},{"$f":"IF(ISTEXT(ShareOfSearch_SERPS!D1017),ShareOfSearch_SERPS!D1017,\"\")","v":""},{"$f":"IF(NOT(ISBLANK(ShareOfSearch_SERPS!A1017)),ShareOfSearch_SERPS!A1017,\"\")","v":""},{"$f":"IF(NOT(ISBLANK(ShareOfSearch_SERPS!G1017)),ShareOfSearch_SERPS!G1017,\"\")","v":""},{"$f":"IF(NOT(ISBLANK(ShareOfSearch_SERPS!K1017)),ShareOfSearch_SERPS!K1017,\"\")","v":""},{"$f":"IFERROR(VLOOKUP(C1017,ShareOfSearch_CTR!$A$1:$B$100,2,FALSE)*VLOOKUP(A1017&B1017,ShareOfSearch_Volume!$C$1:$D$1000,2,FALSE),\"\")","v":""}]
[{"$f":"IF(ISTEXT(ShareOfSearch_SERPS!C1018),ShareOfSearch_SERPS!C1018,\"\")","v":""},{"$f":"IF(ISTEXT(ShareOfSearch_SERPS!D1018),ShareOfSearch_SERPS!D1018,\"\")","v":""},{"$f":"IF(NOT(ISBLANK(ShareOfSearch_SERPS!A1018)),ShareOfSearch_SERPS!A1018,\"\")","v":""},{"$f":"IF(NOT(ISBLANK(ShareOfSearch_SERPS!G1018)),ShareOfSearch_SERPS!G1018,\"\")","v":""},{"$f":"IF(NOT(ISBLANK(ShareOfSearch_SERPS!K1018)),ShareOfSearch_SERPS!K1018,\"\")","v":""},{"$f":"IFERROR(VLOOKUP(C1018,ShareOfSearch_CTR!$A$1:$B$100,2,FALSE)*VLOOKUP(A1018&B1018,ShareOfSearch_Volume!$C$1:$D$1000,2,FALSE),\"\")","v":""}]
[{"$f":"IF(ISTEXT(ShareOfSearch_SERPS!C1019),ShareOfSearch_SERPS!C1019,\"\")","v":""},{"$f":"IF(ISTEXT(ShareOfSearch_SERPS!D1019),ShareOfSearch_SERPS!D1019,\"\")","v":""},{"$f":"IF(NOT(ISBLANK(ShareOfSearch_SERPS!A1019)),ShareOfSearch_SERPS!A1019,\"\")","v":""},{"$f":"IF(NOT(ISBLANK(ShareOfSearch_SERPS!G1019)),ShareOfSearch_SERPS!G1019,\"\")","v":""},{"$f":"IF(NOT(ISBLANK(ShareOfSearch_SERPS!K1019)),ShareOfSearch_SERPS!K1019,\"\")","v":""},{"$f":"IFERROR(VLOOKUP(C1019,ShareOfSearch_CTR!$A$1:$B$100,2,FALSE)*VLOOKUP(A1019&B1019,ShareOfSearch_Volume!$C$1:$D$1000,2,FALSE),\"\")","v":""}]
[{"$f":"IF(ISTEXT(ShareOfSearch_SERPS!C1020),ShareOfSearch_SERPS!C1020,\"\")","v":""},{"$f":"IF(ISTEXT(ShareOfSearch_SERPS!D1020),ShareOfSearch_SERPS!D1020,\"\")","v":""},{"$f":"IF(NOT(ISBLANK(ShareOfSearch_SERPS!A1020)),ShareOfSearch_SERPS!A1020,\"\")","v":""},{"$f":"IF(NOT(ISBLANK(ShareOfSearch_SERPS!G1020)),ShareOfSearch_SERPS!G1020,\"\")","v":""},{"$f":"IF(NOT(ISBLANK(ShareOfSearch_SERPS!K1020)),ShareOfSearch_SERPS!K1020,\"\")","v":""},{"$f":"IFERROR(VLOOKUP(C1020,ShareOfSearch_CTR!$A$1:$B$100,2,FALSE)*VLOOKUP(A1020&B1020,ShareOfSearch_Volume!$C$1:$D$1000,2,FALSE),\"\")","v":""}]
[{"$f":"IF(ISTEXT(ShareOfSearch_SERPS!C1021),ShareOfSearch_SERPS!C1021,\"\")","v":""},{"$f":"IF(ISTEXT(ShareOfSearch_SERPS!D1021),ShareOfSearch_SERPS!D1021,\"\")","v":""},{"$f":"IF(NOT(ISBLANK(ShareOfSearch_SERPS!A1021)),ShareOfSearch_SERPS!A1021,\"\")","v":""},{"$f":"IF(NOT(ISBLANK(ShareOfSearch_SERPS!G1021)),ShareOfSearch_SERPS!G1021,\"\")","v":""},{"$f":"IF(NOT(ISBLANK(ShareOfSearch_SERPS!K1021)),ShareOfSearch_SERPS!K1021,\"\")","v":""},{"$f":"IFERROR(VLOOKUP(C1021,ShareOfSearch_CTR!$A$1:$B$100,2,FALSE)*VLOOKUP(A1021&B1021,ShareOfSearch_Volume!$C$1:$D$1000,2,FALSE),\"\")","v":""}]
[{"$f":"IF(ISTEXT(ShareOfSearch_SERPS!C1022),ShareOfSearch_SERPS!C1022,\"\")","v":""},{"$f":"IF(ISTEXT(ShareOfSearch_SERPS!D1022),ShareOfSearch_SERPS!D1022,\"\")","v":""},{"$f":"IF(NOT(ISBLANK(ShareOfSearch_SERPS!A1022)),ShareOfSearch_SERPS!A1022,\"\")","v":""},{"$f":"IF(NOT(ISBLANK(ShareOfSearch_SERPS!G1022)),ShareOfSearch_SERPS!G1022,\"\")","v":""},{"$f":"IF(NOT(ISBLANK(ShareOfSearch_SERPS!K1022)),ShareOfSearch_SERPS!K1022,\"\")","v":""},{"$f":"IFERROR(VLOOKUP(C1022,ShareOfSearch_CTR!$A$1:$B$100,2,FALSE)*VLOOKUP(A1022&B1022,ShareOfSearch_Volume!$C$1:$D$1000,2,FALSE),\"\")","v":""}]
[{"$f":"IF(ISTEXT(ShareOfSearch_SERPS!C1023),ShareOfSearch_SERPS!C1023,\"\")","v":""},{"$f":"IF(ISTEXT(ShareOfSearch_SERPS!D1023),ShareOfSearch_SERPS!D1023,\"\")","v":""},{"$f":"IF(NOT(ISBLANK(ShareOfSearch_SERPS!A1023)),ShareOfSearch_SERPS!A1023,\"\")","v":""},{"$f":"IF(NOT(ISBLANK(ShareOfSearch_SERPS!G1023)),ShareOfSearch_SERPS!G1023,\"\")","v":""},{"$f":"IF(NOT(ISBLANK(ShareOfSearch_SERPS!K1023)),ShareOfSearch_SERPS!K1023,\"\")","v":""},{"$f":"IFERROR(VLOOKUP(C1023,ShareOfSearch_CTR!$A$1:$B$100,2,FALSE)*VLOOKUP(A1023&B1023,ShareOfSearch_Volume!$C$1:$D$1000,2,FALSE),\"\")","v":""}]
[{"$f":"IF(ISTEXT(ShareOfSearch_SERPS!C1024),ShareOfSearch_SERPS!C1024,\"\")","v":""},{"$f":"IF(ISTEXT(ShareOfSearch_SERPS!D1024),ShareOfSearch_SERPS!D1024,\"\")","v":""},{"$f":"IF(NOT(ISBLANK(ShareOfSearch_SERPS!A1024)),ShareOfSearch_SERPS!A1024,\"\")","v":""},{"$f":"IF(NOT(ISBLANK(ShareOfSearch_SERPS!G1024)),ShareOfSearch_SERPS!G1024,\"\")","v":""},{"$f":"IF(NOT(ISBLANK(ShareOfSearch_SERPS!K1024)),ShareOfSearch_SERPS!K1024,\"\")","v":""},{"$f":"IFERROR(VLOOKUP(C1024,ShareOfSearch_CTR!$A$1:$B$100,2,FALSE)*VLOOKUP(A1024&B1024,ShareOfSearch_Volume!$C$1:$D$1000,2,FALSE),\"\")","v":""}]
[{"$f":"IF(ISTEXT(ShareOfSearch_SERPS!C1025),ShareOfSearch_SERPS!C1025,\"\")","v":""},{"$f":"IF(ISTEXT(ShareOfSearch_SERPS!D1025),ShareOfSearch_SERPS!D1025,\"\")","v":""},{"$f":"IF(NOT(ISBLANK(ShareOfSearch_SERPS!A1025)),ShareOfSearch_SERPS!A1025,\"\")","v":""},{"$f":"IF(NOT(ISBLANK(ShareOfSearch_SERPS!G1025)),ShareOfSearch_SERPS!G1025,\"\")","v":""},{"$f":"IF(NOT(ISBLANK(ShareOfSearch_SERPS!K1025)),ShareOfSearch_SERPS!K1025,\"\")","v":""},{"$f":"IFERROR(VLOOKUP(C1025,ShareOfSearch_CTR!$A$1:$B$100,2,FALSE)*VLOOKUP(A1025&B1025,ShareOfSearch_Volume!$C$1:$D$1000,2,FALSE),\"\")","v":""}]
[{"$f":"IF(ISTEXT(ShareOfSearch_SERPS!C1026),ShareOfSearch_SERPS!C1026,\"\")","v":""},{"$f":"IF(ISTEXT(ShareOfSearch_SERPS!D1026),ShareOfSearch_SERPS!D1026,\"\")","v":""},{"$f":"IF(NOT(ISBLANK(ShareOfSearch_SERPS!A1026)),ShareOfSearch_SERPS!A1026,\"\")","v":""},{"$f":"IF(NOT(ISBLANK(ShareOfSearch_SERPS!G1026)),ShareOfSearch_SERPS!G1026,\"\")","v":""},{"$f":"IF(NOT(ISBLANK(ShareOfSearch_SERPS!K1026)),ShareOfSearch_SERPS!K1026,\"\")","v":""},{"$f":"IFERROR(VLOOKUP(C1026,ShareOfSearch_CTR!$A$1:$B$100,2,FALSE)*VLOOKUP(A1026&B1026,ShareOfSearch_Volume!$C$1:$D$1000,2,FALSE),\"\")","v":""}]
[{"$f":"IF(ISTEXT(ShareOfSearch_SERPS!C1027),ShareOfSearch_SERPS!C1027,\"\")","v":""},{"$f":"IF(ISTEXT(ShareOfSearch_SERPS!D1027),ShareOfSearch_SERPS!D1027,\"\")","v":""},{"$f":"IF(NOT(ISBLANK(ShareOfSearch_SERPS!A1027)),ShareOfSearch_SERPS!A1027,\"\")","v":""},{"$f":"IF(NOT(ISBLANK(ShareOfSearch_SERPS!G1027)),ShareOfSearch_SERPS!G1027,\"\")","v":""},{"$f":"IF(NOT(ISBLANK(ShareOfSearch_SERPS!K1027)),ShareOfSearch_SERPS!K1027,\"\")","v":""},{"$f":"IFERROR(VLOOKUP(C1027,ShareOfSearch_CTR!$A$1:$B$100,2,FALSE)*VLOOKUP(A1027&B1027,ShareOfSearch_Volume!$C$1:$D$1000,2,FALSE),\"\")","v":""}]
[{"$f":"IF(ISTEXT(ShareOfSearch_SERPS!C1028),ShareOfSearch_SERPS!C1028,\"\")","v":""},{"$f":"IF(ISTEXT(ShareOfSearch_SERPS!D1028),ShareOfSearch_SERPS!D1028,\"\")","v":""},{"$f":"IF(NOT(ISBLANK(ShareOfSearch_SERPS!A1028)),ShareOfSearch_SERPS!A1028,\"\")","v":""},{"$f":"IF(NOT(ISBLANK(ShareOfSearch_SERPS!G1028)),ShareOfSearch_SERPS!G1028,\"\")","v":""},{"$f":"IF(NOT(ISBLANK(ShareOfSearch_SERPS!K1028)),ShareOfSearch_SERPS!K1028,\"\")","v":""},{"$f":"IFERROR(VLOOKUP(C1028,ShareOfSearch_CTR!$A$1:$B$100,2,FALSE)*VLOOKUP(A1028&B1028,ShareOfSearch_Volume!$C$1:$D$1000,2,FALSE),\"\")","v":""}]
[{"$f":"IF(ISTEXT(ShareOfSearch_SERPS!C1029),ShareOfSearch_SERPS!C1029,\"\")","v":""},{"$f":"IF(ISTEXT(ShareOfSearch_SERPS!D1029),ShareOfSearch_SERPS!D1029,\"\")","v":""},{"$f":"IF(NOT(ISBLANK(ShareOfSearch_SERPS!A1029)),ShareOfSearch_SERPS!A1029,\"\")","v":""},{"$f":"IF(NOT(ISBLANK(ShareOfSearch_SERPS!G1029)),ShareOfSearch_SERPS!G1029,\"\")","v":""},{"$f":"IF(NOT(ISBLANK(ShareOfSearch_SERPS!K1029)),ShareOfSearch_SERPS!K1029,\"\")","v":""},{"$f":"IFERROR(VLOOKUP(C1029,ShareOfSearch_CTR!$A$1:$B$100,2,FALSE)*VLOOKUP(A1029&B1029,ShareOfSearch_Volume!$C$1:$D$1000,2,FALSE),\"\")","v":""}]
[{"$f":"IF(ISTEXT(ShareOfSearch_SERPS!C1030),ShareOfSearch_SERPS!C1030,\"\")","v":""},{"$f":"IF(ISTEXT(ShareOfSearch_SERPS!D1030),ShareOfSearch_SERPS!D1030,\"\")","v":""},{"$f":"IF(NOT(ISBLANK(ShareOfSearch_SERPS!A1030)),ShareOfSearch_SERPS!A1030,\"\")","v":""},{"$f":"IF(NOT(ISBLANK(ShareOfSearch_SERPS!G1030)),ShareOfSearch_SERPS!G1030,\"\")","v":""},{"$f":"IF(NOT(ISBLANK(ShareOfSearch_SERPS!K1030)),ShareOfSearch_SERPS!K1030,\"\")","v":""},{"$f":"IFERROR(VLOOKUP(C1030,ShareOfSearch_CTR!$A$1:$B$100,2,FALSE)*VLOOKUP(A1030&B1030,ShareOfSearch_Volume!$C$1:$D$1000,2,FALSE),\"\")","v":""}]
[{"$f":"IF(ISTEXT(ShareOfSearch_SERPS!C1031),ShareOfSearch_SERPS!C1031,\"\")","v":""},{"$f":"IF(ISTEXT(ShareOfSearch_SERPS!D1031),ShareOfSearch_SERPS!D1031,\"\")","v":""},{"$f":"IF(NOT(ISBLANK(ShareOfSearch_SERPS!A1031)),ShareOfSearch_SERPS!A1031,\"\")","v":""},{"$f":"IF(NOT(ISBLANK(ShareOfSearch_SERPS!G1031)),ShareOfSearch_SERPS!G1031,\"\")","v":""},{"$f":"IF(NOT(ISBLANK(ShareOfSearch_SERPS!K1031)),ShareOfSearch_SERPS!K1031,\"\")","v":""},{"$f":"IFERROR(VLOOKUP(C1031,ShareOfSearch_CTR!$A$1:$B$100,2,FALSE)*VLOOKUP(A1031&B1031,ShareOfSearch_Volume!$C$1:$D$1000,2,FALSE),\"\")","v":""}]
[{"$f":"IF(ISTEXT(ShareOfSearch_SERPS!C1032),ShareOfSearch_SERPS!C1032,\"\")","v":""},{"$f":"IF(ISTEXT(ShareOfSearch_SERPS!D1032),ShareOfSearch_SERPS!D1032,\"\")","v":""},{"$f":"IF(NOT(ISBLANK(ShareOfSearch_SERPS!A1032)),ShareOfSearch_SERPS!A1032,\"\")","v":""},{"$f":"IF(NOT(ISBLANK(ShareOfSearch_SERPS!G1032)),ShareOfSearch_SERPS!G1032,\"\")","v":""},{"$f":"IF(NOT(ISBLANK(ShareOfSearch_SERPS!K1032)),ShareOfSearch_SERPS!K1032,\"\")","v":""},{"$f":"IFERROR(VLOOKUP(C1032,ShareOfSearch_CTR!$A$1:$B$100,2,FALSE)*VLOOKUP(A1032&B1032,ShareOfSearch_Volume!$C$1:$D$1000,2,FALSE),\"\")","v":""}]
[{"$f":"IF(ISTEXT(ShareOfSearch_SERPS!C1033),ShareOfSearch_SERPS!C1033,\"\")","v":""},{"$f":"IF(ISTEXT(ShareOfSearch_SERPS!D1033),ShareOfSearch_SERPS!D1033,\"\")","v":""},{"$f":"IF(NOT(ISBLANK(ShareOfSearch_SERPS!A1033)),ShareOfSearch_SERPS!A1033,\"\")","v":""},{"$f":"IF(NOT(ISBLANK(ShareOfSearch_SERPS!G1033)),ShareOfSearch_SERPS!G1033,\"\")","v":""},{"$f":"IF(NOT(ISBLANK(ShareOfSearch_SERPS!K1033)),ShareOfSearch_SERPS!K1033,\"\")","v":""},{"$f":"IFERROR(VLOOKUP(C1033,ShareOfSearch_CTR!$A$1:$B$100,2,FALSE)*VLOOKUP(A1033&B1033,ShareOfSearch_Volume!$C$1:$D$1000,2,FALSE),\"\")","v":""}]
[{"$f":"IF(ISTEXT(ShareOfSearch_SERPS!C1034),ShareOfSearch_SERPS!C1034,\"\")","v":""},{"$f":"IF(ISTEXT(ShareOfSearch_SERPS!D1034),ShareOfSearch_SERPS!D1034,\"\")","v":""},{"$f":"IF(NOT(ISBLANK(ShareOfSearch_SERPS!A1034)),ShareOfSearch_SERPS!A1034,\"\")","v":""},{"$f":"IF(NOT(ISBLANK(ShareOfSearch_SERPS!G1034)),ShareOfSearch_SERPS!G1034,\"\")","v":""},{"$f":"IF(NOT(ISBLANK(ShareOfSearch_SERPS!K1034)),ShareOfSearch_SERPS!K1034,\"\")","v":""},{"$f":"IFERROR(VLOOKUP(C1034,ShareOfSearch_CTR!$A$1:$B$100,2,FALSE)*VLOOKUP(A1034&B1034,ShareOfSearch_Volume!$C$1:$D$1000,2,FALSE),\"\")","v":""}]
[{"$f":"IF(ISTEXT(ShareOfSearch_SERPS!C1035),ShareOfSearch_SERPS!C1035,\"\")","v":""},{"$f":"IF(ISTEXT(ShareOfSearch_SERPS!D1035),ShareOfSearch_SERPS!D1035,\"\")","v":""},{"$f":"IF(NOT(ISBLANK(ShareOfSearch_SERPS!A1035)),ShareOfSearch_SERPS!A1035,\"\")","v":""},{"$f":"IF(NOT(ISBLANK(ShareOfSearch_SERPS!G1035)),ShareOfSearch_SERPS!G1035,\"\")","v":""},{"$f":"IF(NOT(ISBLANK(ShareOfSearch_SERPS!K1035)),ShareOfSearch_SERPS!K1035,\"\")","v":""},{"$f":"IFERROR(VLOOKUP(C1035,ShareOfSearch_CTR!$A$1:$B$100,2,FALSE)*VLOOKUP(A1035&B1035,ShareOfSearch_Volume!$C$1:$D$1000,2,FALSE),\"\")","v":""}]
[{"$f":"IF(ISTEXT(ShareOfSearch_SERPS!C1036),ShareOfSearch_SERPS!C1036,\"\")","v":""},{"$f":"IF(ISTEXT(ShareOfSearch_SERPS!D1036),ShareOfSearch_SERPS!D1036,\"\")","v":""},{"$f":"IF(NOT(ISBLANK(ShareOfSearch_SERPS!A1036)),ShareOfSearch_SERPS!A1036,\"\")","v":""},{"$f":"IF(NOT(ISBLANK(ShareOfSearch_SERPS!G1036)),ShareOfSearch_SERPS!G1036,\"\")","v":""},{"$f":"IF(NOT(ISBLANK(ShareOfSearch_SERPS!K1036)),ShareOfSearch_SERPS!K1036,\"\")","v":""},{"$f":"IFERROR(VLOOKUP(C1036,ShareOfSearch_CTR!$A$1:$B$100,2,FALSE)*VLOOKUP(A1036&B1036,ShareOfSearch_Volume!$C$1:$D$1000,2,FALSE),\"\")","v":""}]
[{"$f":"IF(ISTEXT(ShareOfSearch_SERPS!C1037),ShareOfSearch_SERPS!C1037,\"\")","v":""},{"$f":"IF(ISTEXT(ShareOfSearch_SERPS!D1037),ShareOfSearch_SERPS!D1037,\"\")","v":""},{"$f":"IF(NOT(ISBLANK(ShareOfSearch_SERPS!A1037)),ShareOfSearch_SERPS!A1037,\"\")","v":""},{"$f":"IF(NOT(ISBLANK(ShareOfSearch_SERPS!G1037)),ShareOfSearch_SERPS!G1037,\"\")","v":""},{"$f":"IF(NOT(ISBLANK(ShareOfSearch_SERPS!K1037)),ShareOfSearch_SERPS!K1037,\"\")","v":""},{"$f":"IFERROR(VLOOKUP(C1037,ShareOfSearch_CTR!$A$1:$B$100,2,FALSE)*VLOOKUP(A1037&B1037,ShareOfSearch_Volume!$C$1:$D$1000,2,FALSE),\"\")","v":""}]
[{"$f":"IF(ISTEXT(ShareOfSearch_SERPS!C1038),ShareOfSearch_SERPS!C1038,\"\")","v":""},{"$f":"IF(ISTEXT(ShareOfSearch_SERPS!D1038),ShareOfSearch_SERPS!D1038,\"\")","v":""},{"$f":"IF(NOT(ISBLANK(ShareOfSearch_SERPS!A1038)),ShareOfSearch_SERPS!A1038,\"\")","v":""},{"$f":"IF(NOT(ISBLANK(ShareOfSearch_SERPS!G1038)),ShareOfSearch_SERPS!G1038,\"\")","v":""},{"$f":"IF(NOT(ISBLANK(ShareOfSearch_SERPS!K1038)),ShareOfSearch_SERPS!K1038,\"\")","v":""},{"$f":"IFERROR(VLOOKUP(C1038,ShareOfSearch_CTR!$A$1:$B$100,2,FALSE)*VLOOKUP(A1038&B1038,ShareOfSearch_Volume!$C$1:$D$1000,2,FALSE),\"\")","v":""}]
[{"$f":"IF(ISTEXT(ShareOfSearch_SERPS!C1039),ShareOfSearch_SERPS!C1039,\"\")","v":""},{"$f":"IF(ISTEXT(ShareOfSearch_SERPS!D1039),ShareOfSearch_SERPS!D1039,\"\")","v":""},{"$f":"IF(NOT(ISBLANK(ShareOfSearch_SERPS!A1039)),ShareOfSearch_SERPS!A1039,\"\")","v":""},{"$f":"IF(NOT(ISBLANK(ShareOfSearch_SERPS!G1039)),ShareOfSearch_SERPS!G1039,\"\")","v":""},{"$f":"IF(NOT(ISBLANK(ShareOfSearch_SERPS!K1039)),ShareOfSearch_SERPS!K1039,\"\")","v":""},{"$f":"IFERROR(VLOOKUP(C1039,ShareOfSearch_CTR!$A$1:$B$100,2,FALSE)*VLOOKUP(A1039&B1039,ShareOfSearch_Volume!$C$1:$D$1000,2,FALSE),\"\")","v":""}]
[{"$f":"IF(ISTEXT(ShareOfSearch_SERPS!C1040),ShareOfSearch_SERPS!C1040,\"\")","v":""},{"$f":"IF(ISTEXT(ShareOfSearch_SERPS!D1040),ShareOfSearch_SERPS!D1040,\"\")","v":""},{"$f":"IF(NOT(ISBLANK(ShareOfSearch_SERPS!A1040)),ShareOfSearch_SERPS!A1040,\"\")","v":""},{"$f":"IF(NOT(ISBLANK(ShareOfSearch_SERPS!G1040)),ShareOfSearch_SERPS!G1040,\"\")","v":""},{"$f":"IF(NOT(ISBLANK(ShareOfSearch_SERPS!K1040)),ShareOfSearch_SERPS!K1040,\"\")","v":""},{"$f":"IFERROR(VLOOKUP(C1040,ShareOfSearch_CTR!$A$1:$B$100,2,FALSE)*VLOOKUP(A1040&B1040,ShareOfSearch_Volume!$C$1:$D$1000,2,FALSE),\"\")","v":""}]
[{"$f":"IF(ISTEXT(ShareOfSearch_SERPS!C1041),ShareOfSearch_SERPS!C1041,\"\")","v":""},{"$f":"IF(ISTEXT(ShareOfSearch_SERPS!D1041),ShareOfSearch_SERPS!D1041,\"\")","v":""},{"$f":"IF(NOT(ISBLANK(ShareOfSearch_SERPS!A1041)),ShareOfSearch_SERPS!A1041,\"\")","v":""},{"$f":"IF(NOT(ISBLANK(ShareOfSearch_SERPS!G1041)),ShareOfSearch_SERPS!G1041,\"\")","v":""},{"$f":"IF(NOT(ISBLANK(ShareOfSearch_SERPS!K1041)),ShareOfSearch_SERPS!K1041,\"\")","v":""},{"$f":"IFERROR(VLOOKUP(C1041,ShareOfSearch_CTR!$A$1:$B$100,2,FALSE)*VLOOKUP(A1041&B1041,ShareOfSearch_Volume!$C$1:$D$1000,2,FALSE),\"\")","v":""}]
[{"$f":"IF(ISTEXT(ShareOfSearch_SERPS!C1042),ShareOfSearch_SERPS!C1042,\"\")","v":""},{"$f":"IF(ISTEXT(ShareOfSearch_SERPS!D1042),ShareOfSearch_SERPS!D1042,\"\")","v":""},{"$f":"IF(NOT(ISBLANK(ShareOfSearch_SERPS!A1042)),ShareOfSearch_SERPS!A1042,\"\")","v":""},{"$f":"IF(NOT(ISBLANK(ShareOfSearch_SERPS!G1042)),ShareOfSearch_SERPS!G1042,\"\")","v":""},{"$f":"IF(NOT(ISBLANK(ShareOfSearch_SERPS!K1042)),ShareOfSearch_SERPS!K1042,\"\")","v":""},{"$f":"IFERROR(VLOOKUP(C1042,ShareOfSearch_CTR!$A$1:$B$100,2,FALSE)*VLOOKUP(A1042&B1042,ShareOfSearch_Volume!$C$1:$D$1000,2,FALSE),\"\")","v":""}]
[{"$f":"IF(ISTEXT(ShareOfSearch_SERPS!C1043),ShareOfSearch_SERPS!C1043,\"\")","v":""},{"$f":"IF(ISTEXT(ShareOfSearch_SERPS!D1043),ShareOfSearch_SERPS!D1043,\"\")","v":""},{"$f":"IF(NOT(ISBLANK(ShareOfSearch_SERPS!A1043)),ShareOfSearch_SERPS!A1043,\"\")","v":""},{"$f":"IF(NOT(ISBLANK(ShareOfSearch_SERPS!G1043)),ShareOfSearch_SERPS!G1043,\"\")","v":""},{"$f":"IF(NOT(ISBLANK(ShareOfSearch_SERPS!K1043)),ShareOfSearch_SERPS!K1043,\"\")","v":""},{"$f":"IFERROR(VLOOKUP(C1043,ShareOfSearch_CTR!$A$1:$B$100,2,FALSE)*VLOOKUP(A1043&B1043,ShareOfSearch_Volume!$C$1:$D$1000,2,FALSE),\"\")","v":""}]
[{"$f":"IF(ISTEXT(ShareOfSearch_SERPS!C1044),ShareOfSearch_SERPS!C1044,\"\")","v":""},{"$f":"IF(ISTEXT(ShareOfSearch_SERPS!D1044),ShareOfSearch_SERPS!D1044,\"\")","v":""},{"$f":"IF(NOT(ISBLANK(ShareOfSearch_SERPS!A1044)),ShareOfSearch_SERPS!A1044,\"\")","v":""},{"$f":"IF(NOT(ISBLANK(ShareOfSearch_SERPS!G1044)),ShareOfSearch_SERPS!G1044,\"\")","v":""},{"$f":"IF(NOT(ISBLANK(ShareOfSearch_SERPS!K1044)),ShareOfSearch_SERPS!K1044,\"\")","v":""},{"$f":"IFERROR(VLOOKUP(C1044,ShareOfSearch_CTR!$A$1:$B$100,2,FALSE)*VLOOKUP(A1044&B1044,ShareOfSearch_Volume!$C$1:$D$1000,2,FALSE),\"\")","v":""}]
[{"$f":"IF(ISTEXT(ShareOfSearch_SERPS!C1045),ShareOfSearch_SERPS!C1045,\"\")","v":""},{"$f":"IF(ISTEXT(ShareOfSearch_SERPS!D1045),ShareOfSearch_SERPS!D1045,\"\")","v":""},{"$f":"IF(NOT(ISBLANK(ShareOfSearch_SERPS!A1045)),ShareOfSearch_SERPS!A1045,\"\")","v":""},{"$f":"IF(NOT(ISBLANK(ShareOfSearch_SERPS!G1045)),ShareOfSearch_SERPS!G1045,\"\")","v":""},{"$f":"IF(NOT(ISBLANK(ShareOfSearch_SERPS!K1045)),ShareOfSearch_SERPS!K1045,\"\")","v":""},{"$f":"IFERROR(VLOOKUP(C1045,ShareOfSearch_CTR!$A$1:$B$100,2,FALSE)*VLOOKUP(A1045&B1045,ShareOfSearch_Volume!$C$1:$D$1000,2,FALSE),\"\")","v":""}]
[{"$f":"IF(ISTEXT(ShareOfSearch_SERPS!C1046),ShareOfSearch_SERPS!C1046,\"\")","v":""},{"$f":"IF(ISTEXT(ShareOfSearch_SERPS!D1046),ShareOfSearch_SERPS!D1046,\"\")","v":""},{"$f":"IF(NOT(ISBLANK(ShareOfSearch_SERPS!A1046)),ShareOfSearch_SERPS!A1046,\"\")","v":""},{"$f":"IF(NOT(ISBLANK(ShareOfSearch_SERPS!G1046)),ShareOfSearch_SERPS!G1046,\"\")","v":""},{"$f":"IF(NOT(ISBLANK(ShareOfSearch_SERPS!K1046)),ShareOfSearch_SERPS!K1046,\"\")","v":""},{"$f":"IFERROR(VLOOKUP(C1046,ShareOfSearch_CTR!$A$1:$B$100,2,FALSE)*VLOOKUP(A1046&B1046,ShareOfSearch_Volume!$C$1:$D$1000,2,FALSE),\"\")","v":""}]
[{"$f":"IF(ISTEXT(ShareOfSearch_SERPS!C1047),ShareOfSearch_SERPS!C1047,\"\")","v":""},{"$f":"IF(ISTEXT(ShareOfSearch_SERPS!D1047),ShareOfSearch_SERPS!D1047,\"\")","v":""},{"$f":"IF(NOT(ISBLANK(ShareOfSearch_SERPS!A1047)),ShareOfSearch_SERPS!A1047,\"\")","v":""},{"$f":"IF(NOT(ISBLANK(ShareOfSearch_SERPS!G1047)),ShareOfSearch_SERPS!G1047,\"\")","v":""},{"$f":"IF(NOT(ISBLANK(ShareOfSearch_SERPS!K1047)),ShareOfSearch_SERPS!K1047,\"\")","v":""},{"$f":"IFERROR(VLOOKUP(C1047,ShareOfSearch_CTR!$A$1:$B$100,2,FALSE)*VLOOKUP(A1047&B1047,ShareOfSearch_Volume!$C$1:$D$1000,2,FALSE),\"\")","v":""}]
[{"$f":"IF(ISTEXT(ShareOfSearch_SERPS!C1048),ShareOfSearch_SERPS!C1048,\"\")","v":""},{"$f":"IF(ISTEXT(ShareOfSearch_SERPS!D1048),ShareOfSearch_SERPS!D1048,\"\")","v":""},{"$f":"IF(NOT(ISBLANK(ShareOfSearch_SERPS!A1048)),ShareOfSearch_SERPS!A1048,\"\")","v":""},{"$f":"IF(NOT(ISBLANK(ShareOfSearch_SERPS!G1048)),ShareOfSearch_SERPS!G1048,\"\")","v":""},{"$f":"IF(NOT(ISBLANK(ShareOfSearch_SERPS!K1048)),ShareOfSearch_SERPS!K1048,\"\")","v":""},{"$f":"IFERROR(VLOOKUP(C1048,ShareOfSearch_CTR!$A$1:$B$100,2,FALSE)*VLOOKUP(A1048&B1048,ShareOfSearch_Volume!$C$1:$D$1000,2,FALSE),\"\")","v":""}]
[{"$f":"IF(ISTEXT(ShareOfSearch_SERPS!C1049),ShareOfSearch_SERPS!C1049,\"\")","v":""},{"$f":"IF(ISTEXT(ShareOfSearch_SERPS!D1049),ShareOfSearch_SERPS!D1049,\"\")","v":""},{"$f":"IF(NOT(ISBLANK(ShareOfSearch_SERPS!A1049)),ShareOfSearch_SERPS!A1049,\"\")","v":""},{"$f":"IF(NOT(ISBLANK(ShareOfSearch_SERPS!G1049)),ShareOfSearch_SERPS!G1049,\"\")","v":""},{"$f":"IF(NOT(ISBLANK(ShareOfSearch_SERPS!K1049)),ShareOfSearch_SERPS!K1049,\"\")","v":""},{"$f":"IFERROR(VLOOKUP(C1049,ShareOfSearch_CTR!$A$1:$B$100,2,FALSE)*VLOOKUP(A1049&B1049,ShareOfSearch_Volume!$C$1:$D$1000,2,FALSE),\"\")","v":""}]
[{"$f":"IF(ISTEXT(ShareOfSearch_SERPS!C1050),ShareOfSearch_SERPS!C1050,\"\")","v":""},{"$f":"IF(ISTEXT(ShareOfSearch_SERPS!D1050),ShareOfSearch_SERPS!D1050,\"\")","v":""},{"$f":"IF(NOT(ISBLANK(ShareOfSearch_SERPS!A1050)),ShareOfSearch_SERPS!A1050,\"\")","v":""},{"$f":"IF(NOT(ISBLANK(ShareOfSearch_SERPS!G1050)),ShareOfSearch_SERPS!G1050,\"\")","v":""},{"$f":"IF(NOT(ISBLANK(ShareOfSearch_SERPS!K1050)),ShareOfSearch_SERPS!K1050,\"\")","v":""},{"$f":"IFERROR(VLOOKUP(C1050,ShareOfSearch_CTR!$A$1:$B$100,2,FALSE)*VLOOKUP(A1050&B1050,ShareOfSearch_Volume!$C$1:$D$1000,2,FALSE),\"\")","v":""}]
[{"$f":"IF(ISTEXT(ShareOfSearch_SERPS!C1051),ShareOfSearch_SERPS!C1051,\"\")","v":""},{"$f":"IF(ISTEXT(ShareOfSearch_SERPS!D1051),ShareOfSearch_SERPS!D1051,\"\")","v":""},{"$f":"IF(NOT(ISBLANK(ShareOfSearch_SERPS!A1051)),ShareOfSearch_SERPS!A1051,\"\")","v":""},{"$f":"IF(NOT(ISBLANK(ShareOfSearch_SERPS!G1051)),ShareOfSearch_SERPS!G1051,\"\")","v":""},{"$f":"IF(NOT(ISBLANK(ShareOfSearch_SERPS!K1051)),ShareOfSearch_SERPS!K1051,\"\")","v":""},{"$f":"IFERROR(VLOOKUP(C1051,ShareOfSearch_CTR!$A$1:$B$100,2,FALSE)*VLOOKUP(A1051&B1051,ShareOfSearch_Volume!$C$1:$D$1000,2,FALSE),\"\")","v":""}]
[{"$f":"IF(ISTEXT(ShareOfSearch_SERPS!C1052),ShareOfSearch_SERPS!C1052,\"\")","v":""},{"$f":"IF(ISTEXT(ShareOfSearch_SERPS!D1052),ShareOfSearch_SERPS!D1052,\"\")","v":""},{"$f":"IF(NOT(ISBLANK(ShareOfSearch_SERPS!A1052)),ShareOfSearch_SERPS!A1052,\"\")","v":""},{"$f":"IF(NOT(ISBLANK(ShareOfSearch_SERPS!G1052)),ShareOfSearch_SERPS!G1052,\"\")","v":""},{"$f":"IF(NOT(ISBLANK(ShareOfSearch_SERPS!K1052)),ShareOfSearch_SERPS!K1052,\"\")","v":""},{"$f":"IFERROR(VLOOKUP(C1052,ShareOfSearch_CTR!$A$1:$B$100,2,FALSE)*VLOOKUP(A1052&B1052,ShareOfSearch_Volume!$C$1:$D$1000,2,FALSE),\"\")","v":""}]
[{"$f":"IF(ISTEXT(ShareOfSearch_SERPS!C1053),ShareOfSearch_SERPS!C1053,\"\")","v":""},{"$f":"IF(ISTEXT(ShareOfSearch_SERPS!D1053),ShareOfSearch_SERPS!D1053,\"\")","v":""},{"$f":"IF(NOT(ISBLANK(ShareOfSearch_SERPS!A1053)),ShareOfSearch_SERPS!A1053,\"\")","v":""},{"$f":"IF(NOT(ISBLANK(ShareOfSearch_SERPS!G1053)),ShareOfSearch_SERPS!G1053,\"\")","v":""},{"$f":"IF(NOT(ISBLANK(ShareOfSearch_SERPS!K1053)),ShareOfSearch_SERPS!K1053,\"\")","v":""},{"$f":"IFERROR(VLOOKUP(C1053,ShareOfSearch_CTR!$A$1:$B$100,2,FALSE)*VLOOKUP(A1053&B1053,ShareOfSearch_Volume!$C$1:$D$1000,2,FALSE),\"\")","v":""}]
[{"$f":"IF(ISTEXT(ShareOfSearch_SERPS!C1054),ShareOfSearch_SERPS!C1054,\"\")","v":""},{"$f":"IF(ISTEXT(ShareOfSearch_SERPS!D1054),ShareOfSearch_SERPS!D1054,\"\")","v":""},{"$f":"IF(NOT(ISBLANK(ShareOfSearch_SERPS!A1054)),ShareOfSearch_SERPS!A1054,\"\")","v":""},{"$f":"IF(NOT(ISBLANK(ShareOfSearch_SERPS!G1054)),ShareOfSearch_SERPS!G1054,\"\")","v":""},{"$f":"IF(NOT(ISBLANK(ShareOfSearch_SERPS!K1054)),ShareOfSearch_SERPS!K1054,\"\")","v":""},{"$f":"IFERROR(VLOOKUP(C1054,ShareOfSearch_CTR!$A$1:$B$100,2,FALSE)*VLOOKUP(A1054&B1054,ShareOfSearch_Volume!$C$1:$D$1000,2,FALSE),\"\")","v":""}]
[{"$f":"IF(ISTEXT(ShareOfSearch_SERPS!C1055),ShareOfSearch_SERPS!C1055,\"\")","v":""},{"$f":"IF(ISTEXT(ShareOfSearch_SERPS!D1055),ShareOfSearch_SERPS!D1055,\"\")","v":""},{"$f":"IF(NOT(ISBLANK(ShareOfSearch_SERPS!A1055)),ShareOfSearch_SERPS!A1055,\"\")","v":""},{"$f":"IF(NOT(ISBLANK(ShareOfSearch_SERPS!G1055)),ShareOfSearch_SERPS!G1055,\"\")","v":""},{"$f":"IF(NOT(ISBLANK(ShareOfSearch_SERPS!K1055)),ShareOfSearch_SERPS!K1055,\"\")","v":""},{"$f":"IFERROR(VLOOKUP(C1055,ShareOfSearch_CTR!$A$1:$B$100,2,FALSE)*VLOOKUP(A1055&B1055,ShareOfSearch_Volume!$C$1:$D$1000,2,FALSE),\"\")","v":""}]
[{"$f":"IF(ISTEXT(ShareOfSearch_SERPS!C1056),ShareOfSearch_SERPS!C1056,\"\")","v":""},{"$f":"IF(ISTEXT(ShareOfSearch_SERPS!D1056),ShareOfSearch_SERPS!D1056,\"\")","v":""},{"$f":"IF(NOT(ISBLANK(ShareOfSearch_SERPS!A1056)),ShareOfSearch_SERPS!A1056,\"\")","v":""},{"$f":"IF(NOT(ISBLANK(ShareOfSearch_SERPS!G1056)),ShareOfSearch_SERPS!G1056,\"\")","v":""},{"$f":"IF(NOT(ISBLANK(ShareOfSearch_SERPS!K1056)),ShareOfSearch_SERPS!K1056,\"\")","v":""},{"$f":"IFERROR(VLOOKUP(C1056,ShareOfSearch_CTR!$A$1:$B$100,2,FALSE)*VLOOKUP(A1056&B1056,ShareOfSearch_Volume!$C$1:$D$1000,2,FALSE),\"\")","v":""}]
[{"$f":"IF(ISTEXT(ShareOfSearch_SERPS!C1057),ShareOfSearch_SERPS!C1057,\"\")","v":""},{"$f":"IF(ISTEXT(ShareOfSearch_SERPS!D1057),ShareOfSearch_SERPS!D1057,\"\")","v":""},{"$f":"IF(NOT(ISBLANK(ShareOfSearch_SERPS!A1057)),ShareOfSearch_SERPS!A1057,\"\")","v":""},{"$f":"IF(NOT(ISBLANK(ShareOfSearch_SERPS!G1057)),ShareOfSearch_SERPS!G1057,\"\")","v":""},{"$f":"IF(NOT(ISBLANK(ShareOfSearch_SERPS!K1057)),ShareOfSearch_SERPS!K1057,\"\")","v":""},{"$f":"IFERROR(VLOOKUP(C1057,ShareOfSearch_CTR!$A$1:$B$100,2,FALSE)*VLOOKUP(A1057&B1057,ShareOfSearch_Volume!$C$1:$D$1000,2,FALSE),\"\")","v":""}]
[{"$f":"IF(ISTEXT(ShareOfSearch_SERPS!C1058),ShareOfSearch_SERPS!C1058,\"\")","v":""},{"$f":"IF(ISTEXT(ShareOfSearch_SERPS!D1058),ShareOfSearch_SERPS!D1058,\"\")","v":""},{"$f":"IF(NOT(ISBLANK(ShareOfSearch_SERPS!A1058)),ShareOfSearch_SERPS!A1058,\"\")","v":""},{"$f":"IF(NOT(ISBLANK(ShareOfSearch_SERPS!G1058)),ShareOfSearch_SERPS!G1058,\"\")","v":""},{"$f":"IF(NOT(ISBLANK(ShareOfSearch_SERPS!K1058)),ShareOfSearch_SERPS!K1058,\"\")","v":""},{"$f":"IFERROR(VLOOKUP(C1058,ShareOfSearch_CTR!$A$1:$B$100,2,FALSE)*VLOOKUP(A1058&B1058,ShareOfSearch_Volume!$C$1:$D$1000,2,FALSE),\"\")","v":""}]
[{"$f":"IF(ISTEXT(ShareOfSearch_SERPS!C1059),ShareOfSearch_SERPS!C1059,\"\")","v":""},{"$f":"IF(ISTEXT(ShareOfSearch_SERPS!D1059),ShareOfSearch_SERPS!D1059,\"\")","v":""},{"$f":"IF(NOT(ISBLANK(ShareOfSearch_SERPS!A1059)),ShareOfSearch_SERPS!A1059,\"\")","v":""},{"$f":"IF(NOT(ISBLANK(ShareOfSearch_SERPS!G1059)),ShareOfSearch_SERPS!G1059,\"\")","v":""},{"$f":"IF(NOT(ISBLANK(ShareOfSearch_SERPS!K1059)),ShareOfSearch_SERPS!K1059,\"\")","v":""},{"$f":"IFERROR(VLOOKUP(C1059,ShareOfSearch_CTR!$A$1:$B$100,2,FALSE)*VLOOKUP(A1059&B1059,ShareOfSearch_Volume!$C$1:$D$1000,2,FALSE),\"\")","v":""}]
[{"$f":"IF(ISTEXT(ShareOfSearch_SERPS!C1060),ShareOfSearch_SERPS!C1060,\"\")","v":""},{"$f":"IF(ISTEXT(ShareOfSearch_SERPS!D1060),ShareOfSearch_SERPS!D1060,\"\")","v":""},{"$f":"IF(NOT(ISBLANK(ShareOfSearch_SERPS!A1060)),ShareOfSearch_SERPS!A1060,\"\")","v":""},{"$f":"IF(NOT(ISBLANK(ShareOfSearch_SERPS!G1060)),ShareOfSearch_SERPS!G1060,\"\")","v":""},{"$f":"IF(NOT(ISBLANK(ShareOfSearch_SERPS!K1060)),ShareOfSearch_SERPS!K1060,\"\")","v":""},{"$f":"IFERROR(VLOOKUP(C1060,ShareOfSearch_CTR!$A$1:$B$100,2,FALSE)*VLOOKUP(A1060&B1060,ShareOfSearch_Volume!$C$1:$D$1000,2,FALSE),\"\")","v":""}]
[{"$f":"IF(ISTEXT(ShareOfSearch_SERPS!C1061),ShareOfSearch_SERPS!C1061,\"\")","v":""},{"$f":"IF(ISTEXT(ShareOfSearch_SERPS!D1061),ShareOfSearch_SERPS!D1061,\"\")","v":""},{"$f":"IF(NOT(ISBLANK(ShareOfSearch_SERPS!A1061)),ShareOfSearch_SERPS!A1061,\"\")","v":""},{"$f":"IF(NOT(ISBLANK(ShareOfSearch_SERPS!G1061)),ShareOfSearch_SERPS!G1061,\"\")","v":""},{"$f":"IF(NOT(ISBLANK(ShareOfSearch_SERPS!K1061)),ShareOfSearch_SERPS!K1061,\"\")","v":""},{"$f":"IFERROR(VLOOKUP(C1061,ShareOfSearch_CTR!$A$1:$B$100,2,FALSE)*VLOOKUP(A1061&B1061,ShareOfSearch_Volume!$C$1:$D$1000,2,FALSE),\"\")","v":""}]
[{"$f":"IF(ISTEXT(ShareOfSearch_SERPS!C1062),ShareOfSearch_SERPS!C1062,\"\")","v":""},{"$f":"IF(ISTEXT(ShareOfSearch_SERPS!D1062),ShareOfSearch_SERPS!D1062,\"\")","v":""},{"$f":"IF(NOT(ISBLANK(ShareOfSearch_SERPS!A1062)),ShareOfSearch_SERPS!A1062,\"\")","v":""},{"$f":"IF(NOT(ISBLANK(ShareOfSearch_SERPS!G1062)),ShareOfSearch_SERPS!G1062,\"\")","v":""},{"$f":"IF(NOT(ISBLANK(ShareOfSearch_SERPS!K1062)),ShareOfSearch_SERPS!K1062,\"\")","v":""},{"$f":"IFERROR(VLOOKUP(C1062,ShareOfSearch_CTR!$A$1:$B$100,2,FALSE)*VLOOKUP(A1062&B1062,ShareOfSearch_Volume!$C$1:$D$1000,2,FALSE),\"\")","v":""}]
[{"$f":"IF(ISTEXT(ShareOfSearch_SERPS!C1063),ShareOfSearch_SERPS!C1063,\"\")","v":""},{"$f":"IF(ISTEXT(ShareOfSearch_SERPS!D1063),ShareOfSearch_SERPS!D1063,\"\")","v":""},{"$f":"IF(NOT(ISBLANK(ShareOfSearch_SERPS!A1063)),ShareOfSearch_SERPS!A1063,\"\")","v":""},{"$f":"IF(NOT(ISBLANK(ShareOfSearch_SERPS!G1063)),ShareOfSearch_SERPS!G1063,\"\")","v":""},{"$f":"IF(NOT(ISBLANK(ShareOfSearch_SERPS!K1063)),ShareOfSearch_SERPS!K1063,\"\")","v":""},{"$f":"IFERROR(VLOOKUP(C1063,ShareOfSearch_CTR!$A$1:$B$100,2,FALSE)*VLOOKUP(A1063&B1063,ShareOfSearch_Volume!$C$1:$D$1000,2,FALSE),\"\")","v":""}]
[{"$f":"IF(ISTEXT(ShareOfSearch_SERPS!C1064),ShareOfSearch_SERPS!C1064,\"\")","v":""},{"$f":"IF(ISTEXT(ShareOfSearch_SERPS!D1064),ShareOfSearch_SERPS!D1064,\"\")","v":""},{"$f":"IF(NOT(ISBLANK(ShareOfSearch_SERPS!A1064)),ShareOfSearch_SERPS!A1064,\"\")","v":""},{"$f":"IF(NOT(ISBLANK(ShareOfSearch_SERPS!G1064)),ShareOfSearch_SERPS!G1064,\"\")","v":""},{"$f":"IF(NOT(ISBLANK(ShareOfSearch_SERPS!K1064)),ShareOfSearch_SERPS!K1064,\"\")","v":""},{"$f":"IFERROR(VLOOKUP(C1064,ShareOfSearch_CTR!$A$1:$B$100,2,FALSE)*VLOOKUP(A1064&B1064,ShareOfSearch_Volume!$C$1:$D$1000,2,FALSE),\"\")","v":""}]
[{"$f":"IF(ISTEXT(ShareOfSearch_SERPS!C1065),ShareOfSearch_SERPS!C1065,\"\")","v":""},{"$f":"IF(ISTEXT(ShareOfSearch_SERPS!D1065),ShareOfSearch_SERPS!D1065,\"\")","v":""},{"$f":"IF(NOT(ISBLANK(ShareOfSearch_SERPS!A1065)),ShareOfSearch_SERPS!A1065,\"\")","v":""},{"$f":"IF(NOT(ISBLANK(ShareOfSearch_SERPS!G1065)),ShareOfSearch_SERPS!G1065,\"\")","v":""},{"$f":"IF(NOT(ISBLANK(ShareOfSearch_SERPS!K1065)),ShareOfSearch_SERPS!K1065,\"\")","v":""},{"$f":"IFERROR(VLOOKUP(C1065,ShareOfSearch_CTR!$A$1:$B$100,2,FALSE)*VLOOKUP(A1065&B1065,ShareOfSearch_Volume!$C$1:$D$1000,2,FALSE),\"\")","v":""}]
[{"$f":"IF(ISTEXT(ShareOfSearch_SERPS!C1066),ShareOfSearch_SERPS!C1066,\"\")","v":""},{"$f":"IF(ISTEXT(ShareOfSearch_SERPS!D1066),ShareOfSearch_SERPS!D1066,\"\")","v":""},{"$f":"IF(NOT(ISBLANK(ShareOfSearch_SERPS!A1066)),ShareOfSearch_SERPS!A1066,\"\")","v":""},{"$f":"IF(NOT(ISBLANK(ShareOfSearch_SERPS!G1066)),ShareOfSearch_SERPS!G1066,\"\")","v":""},{"$f":"IF(NOT(ISBLANK(ShareOfSearch_SERPS!K1066)),ShareOfSearch_SERPS!K1066,\"\")","v":""},{"$f":"IFERROR(VLOOKUP(C1066,ShareOfSearch_CTR!$A$1:$B$100,2,FALSE)*VLOOKUP(A1066&B1066,ShareOfSearch_Volume!$C$1:$D$1000,2,FALSE),\"\")","v":""}]
[{"$f":"IF(ISTEXT(ShareOfSearch_SERPS!C1067),ShareOfSearch_SERPS!C1067,\"\")","v":""},{"$f":"IF(ISTEXT(ShareOfSearch_SERPS!D1067),ShareOfSearch_SERPS!D1067,\"\")","v":""},{"$f":"IF(NOT(ISBLANK(ShareOfSearch_SERPS!A1067)),ShareOfSearch_SERPS!A1067,\"\")","v":""},{"$f":"IF(NOT(ISBLANK(ShareOfSearch_SERPS!G1067)),ShareOfSearch_SERPS!G1067,\"\")","v":""},{"$f":"IF(NOT(ISBLANK(ShareOfSearch_SERPS!K1067)),ShareOfSearch_SERPS!K1067,\"\")","v":""},{"$f":"IFERROR(VLOOKUP(C1067,ShareOfSearch_CTR!$A$1:$B$100,2,FALSE)*VLOOKUP(A1067&B1067,ShareOfSearch_Volume!$C$1:$D$1000,2,FALSE),\"\")","v":""}]
[{"$f":"IF(ISTEXT(ShareOfSearch_SERPS!C1068),ShareOfSearch_SERPS!C1068,\"\")","v":""},{"$f":"IF(ISTEXT(ShareOfSearch_SERPS!D1068),ShareOfSearch_SERPS!D1068,\"\")","v":""},{"$f":"IF(NOT(ISBLANK(ShareOfSearch_SERPS!A1068)),ShareOfSearch_SERPS!A1068,\"\")","v":""},{"$f":"IF(NOT(ISBLANK(ShareOfSearch_SERPS!G1068)),ShareOfSearch_SERPS!G1068,\"\")","v":""},{"$f":"IF(NOT(ISBLANK(ShareOfSearch_SERPS!K1068)),ShareOfSearch_SERPS!K1068,\"\")","v":""},{"$f":"IFERROR(VLOOKUP(C1068,ShareOfSearch_CTR!$A$1:$B$100,2,FALSE)*VLOOKUP(A1068&B1068,ShareOfSearch_Volume!$C$1:$D$1000,2,FALSE),\"\")","v":""}]
[{"$f":"IF(ISTEXT(ShareOfSearch_SERPS!C1069),ShareOfSearch_SERPS!C1069,\"\")","v":""},{"$f":"IF(ISTEXT(ShareOfSearch_SERPS!D1069),ShareOfSearch_SERPS!D1069,\"\")","v":""},{"$f":"IF(NOT(ISBLANK(ShareOfSearch_SERPS!A1069)),ShareOfSearch_SERPS!A1069,\"\")","v":""},{"$f":"IF(NOT(ISBLANK(ShareOfSearch_SERPS!G1069)),ShareOfSearch_SERPS!G1069,\"\")","v":""},{"$f":"IF(NOT(ISBLANK(ShareOfSearch_SERPS!K1069)),ShareOfSearch_SERPS!K1069,\"\")","v":""},{"$f":"IFERROR(VLOOKUP(C1069,ShareOfSearch_CTR!$A$1:$B$100,2,FALSE)*VLOOKUP(A1069&B1069,ShareOfSearch_Volume!$C$1:$D$1000,2,FALSE),\"\")","v":""}]
[{"$f":"IF(ISTEXT(ShareOfSearch_SERPS!C1070),ShareOfSearch_SERPS!C1070,\"\")","v":""},{"$f":"IF(ISTEXT(ShareOfSearch_SERPS!D1070),ShareOfSearch_SERPS!D1070,\"\")","v":""},{"$f":"IF(NOT(ISBLANK(ShareOfSearch_SERPS!A1070)),ShareOfSearch_SERPS!A1070,\"\")","v":""},{"$f":"IF(NOT(ISBLANK(ShareOfSearch_SERPS!G1070)),ShareOfSearch_SERPS!G1070,\"\")","v":""},{"$f":"IF(NOT(ISBLANK(ShareOfSearch_SERPS!K1070)),ShareOfSearch_SERPS!K1070,\"\")","v":""},{"$f":"IFERROR(VLOOKUP(C1070,ShareOfSearch_CTR!$A$1:$B$100,2,FALSE)*VLOOKUP(A1070&B1070,ShareOfSearch_Volume!$C$1:$D$1000,2,FALSE),\"\")","v":""}]
[{"$f":"IF(ISTEXT(ShareOfSearch_SERPS!C1071),ShareOfSearch_SERPS!C1071,\"\")","v":""},{"$f":"IF(ISTEXT(ShareOfSearch_SERPS!D1071),ShareOfSearch_SERPS!D1071,\"\")","v":""},{"$f":"IF(NOT(ISBLANK(ShareOfSearch_SERPS!A1071)),ShareOfSearch_SERPS!A1071,\"\")","v":""},{"$f":"IF(NOT(ISBLANK(ShareOfSearch_SERPS!G1071)),ShareOfSearch_SERPS!G1071,\"\")","v":""},{"$f":"IF(NOT(ISBLANK(ShareOfSearch_SERPS!K1071)),ShareOfSearch_SERPS!K1071,\"\")","v":""},{"$f":"IFERROR(VLOOKUP(C1071,ShareOfSearch_CTR!$A$1:$B$100,2,FALSE)*VLOOKUP(A1071&B1071,ShareOfSearch_Volume!$C$1:$D$1000,2,FALSE),\"\")","v":""}]
[{"$f":"IF(ISTEXT(ShareOfSearch_SERPS!C1072),ShareOfSearch_SERPS!C1072,\"\")","v":""},{"$f":"IF(ISTEXT(ShareOfSearch_SERPS!D1072),ShareOfSearch_SERPS!D1072,\"\")","v":""},{"$f":"IF(NOT(ISBLANK(ShareOfSearch_SERPS!A1072)),ShareOfSearch_SERPS!A1072,\"\")","v":""},{"$f":"IF(NOT(ISBLANK(ShareOfSearch_SERPS!G1072)),ShareOfSearch_SERPS!G1072,\"\")","v":""},{"$f":"IF(NOT(ISBLANK(ShareOfSearch_SERPS!K1072)),ShareOfSearch_SERPS!K1072,\"\")","v":""},{"$f":"IFERROR(VLOOKUP(C1072,ShareOfSearch_CTR!$A$1:$B$100,2,FALSE)*VLOOKUP(A1072&B1072,ShareOfSearch_Volume!$C$1:$D$1000,2,FALSE),\"\")","v":""}]
[{"$f":"IF(ISTEXT(ShareOfSearch_SERPS!C1073),ShareOfSearch_SERPS!C1073,\"\")","v":""},{"$f":"IF(ISTEXT(ShareOfSearch_SERPS!D1073),ShareOfSearch_SERPS!D1073,\"\")","v":""},{"$f":"IF(NOT(ISBLANK(ShareOfSearch_SERPS!A1073)),ShareOfSearch_SERPS!A1073,\"\")","v":""},{"$f":"IF(NOT(ISBLANK(ShareOfSearch_SERPS!G1073)),ShareOfSearch_SERPS!G1073,\"\")","v":""},{"$f":"IF(NOT(ISBLANK(ShareOfSearch_SERPS!K1073)),ShareOfSearch_SERPS!K1073,\"\")","v":""},{"$f":"IFERROR(VLOOKUP(C1073,ShareOfSearch_CTR!$A$1:$B$100,2,FALSE)*VLOOKUP(A1073&B1073,ShareOfSearch_Volume!$C$1:$D$1000,2,FALSE),\"\")","v":""}]
[{"$f":"IF(ISTEXT(ShareOfSearch_SERPS!C1074),ShareOfSearch_SERPS!C1074,\"\")","v":""},{"$f":"IF(ISTEXT(ShareOfSearch_SERPS!D1074),ShareOfSearch_SERPS!D1074,\"\")","v":""},{"$f":"IF(NOT(ISBLANK(ShareOfSearch_SERPS!A1074)),ShareOfSearch_SERPS!A1074,\"\")","v":""},{"$f":"IF(NOT(ISBLANK(ShareOfSearch_SERPS!G1074)),ShareOfSearch_SERPS!G1074,\"\")","v":""},{"$f":"IF(NOT(ISBLANK(ShareOfSearch_SERPS!K1074)),ShareOfSearch_SERPS!K1074,\"\")","v":""},{"$f":"IFERROR(VLOOKUP(C1074,ShareOfSearch_CTR!$A$1:$B$100,2,FALSE)*VLOOKUP(A1074&B1074,ShareOfSearch_Volume!$C$1:$D$1000,2,FALSE),\"\")","v":""}]
[{"$f":"IF(ISTEXT(ShareOfSearch_SERPS!C1075),ShareOfSearch_SERPS!C1075,\"\")","v":""},{"$f":"IF(ISTEXT(ShareOfSearch_SERPS!D1075),ShareOfSearch_SERPS!D1075,\"\")","v":""},{"$f":"IF(NOT(ISBLANK(ShareOfSearch_SERPS!A1075)),ShareOfSearch_SERPS!A1075,\"\")","v":""},{"$f":"IF(NOT(ISBLANK(ShareOfSearch_SERPS!G1075)),ShareOfSearch_SERPS!G1075,\"\")","v":""},{"$f":"IF(NOT(ISBLANK(ShareOfSearch_SERPS!K1075)),ShareOfSearch_SERPS!K1075,\"\")","v":""},{"$f":"IFERROR(VLOOKUP(C1075,ShareOfSearch_CTR!$A$1:$B$100,2,FALSE)*VLOOKUP(A1075&B1075,ShareOfSearch_Volume!$C$1:$D$1000,2,FALSE),\"\")","v":""}]
[{"$f":"IF(ISTEXT(ShareOfSearch_SERPS!C1076),ShareOfSearch_SERPS!C1076,\"\")","v":""},{"$f":"IF(ISTEXT(ShareOfSearch_SERPS!D1076),ShareOfSearch_SERPS!D1076,\"\")","v":""},{"$f":"IF(NOT(ISBLANK(ShareOfSearch_SERPS!A1076)),ShareOfSearch_SERPS!A1076,\"\")","v":""},{"$f":"IF(NOT(ISBLANK(ShareOfSearch_SERPS!G1076)),ShareOfSearch_SERPS!G1076,\"\")","v":""},{"$f":"IF(NOT(ISBLANK(ShareOfSearch_SERPS!K1076)),ShareOfSearch_SERPS!K1076,\"\")","v":""},{"$f":"IFERROR(VLOOKUP(C1076,ShareOfSearch_CTR!$A$1:$B$100,2,FALSE)*VLOOKUP(A1076&B1076,ShareOfSearch_Volume!$C$1:$D$1000,2,FALSE),\"\")","v":""}]
[{"$f":"IF(ISTEXT(ShareOfSearch_SERPS!C1077),ShareOfSearch_SERPS!C1077,\"\")","v":""},{"$f":"IF(ISTEXT(ShareOfSearch_SERPS!D1077),ShareOfSearch_SERPS!D1077,\"\")","v":""},{"$f":"IF(NOT(ISBLANK(ShareOfSearch_SERPS!A1077)),ShareOfSearch_SERPS!A1077,\"\")","v":""},{"$f":"IF(NOT(ISBLANK(ShareOfSearch_SERPS!G1077)),ShareOfSearch_SERPS!G1077,\"\")","v":""},{"$f":"IF(NOT(ISBLANK(ShareOfSearch_SERPS!K1077)),ShareOfSearch_SERPS!K1077,\"\")","v":""},{"$f":"IFERROR(VLOOKUP(C1077,ShareOfSearch_CTR!$A$1:$B$100,2,FALSE)*VLOOKUP(A1077&B1077,ShareOfSearch_Volume!$C$1:$D$1000,2,FALSE),\"\")","v":""}]
[{"$f":"IF(ISTEXT(ShareOfSearch_SERPS!C1078),ShareOfSearch_SERPS!C1078,\"\")","v":""},{"$f":"IF(ISTEXT(ShareOfSearch_SERPS!D1078),ShareOfSearch_SERPS!D1078,\"\")","v":""},{"$f":"IF(NOT(ISBLANK(ShareOfSearch_SERPS!A1078)),ShareOfSearch_SERPS!A1078,\"\")","v":""},{"$f":"IF(NOT(ISBLANK(ShareOfSearch_SERPS!G1078)),ShareOfSearch_SERPS!G1078,\"\")","v":""},{"$f":"IF(NOT(ISBLANK(ShareOfSearch_SERPS!K1078)),ShareOfSearch_SERPS!K1078,\"\")","v":""},{"$f":"IFERROR(VLOOKUP(C1078,ShareOfSearch_CTR!$A$1:$B$100,2,FALSE)*VLOOKUP(A1078&B1078,ShareOfSearch_Volume!$C$1:$D$1000,2,FALSE),\"\")","v":""}]
[{"$f":"IF(ISTEXT(ShareOfSearch_SERPS!C1079),ShareOfSearch_SERPS!C1079,\"\")","v":""},{"$f":"IF(ISTEXT(ShareOfSearch_SERPS!D1079),ShareOfSearch_SERPS!D1079,\"\")","v":""},{"$f":"IF(NOT(ISBLANK(ShareOfSearch_SERPS!A1079)),ShareOfSearch_SERPS!A1079,\"\")","v":""},{"$f":"IF(NOT(ISBLANK(ShareOfSearch_SERPS!G1079)),ShareOfSearch_SERPS!G1079,\"\")","v":""},{"$f":"IF(NOT(ISBLANK(ShareOfSearch_SERPS!K1079)),ShareOfSearch_SERPS!K1079,\"\")","v":""},{"$f":"IFERROR(VLOOKUP(C1079,ShareOfSearch_CTR!$A$1:$B$100,2,FALSE)*VLOOKUP(A1079&B1079,ShareOfSearch_Volume!$C$1:$D$1000,2,FALSE),\"\")","v":""}]
[{"$f":"IF(ISTEXT(ShareOfSearch_SERPS!C1080),ShareOfSearch_SERPS!C1080,\"\")","v":""},{"$f":"IF(ISTEXT(ShareOfSearch_SERPS!D1080),ShareOfSearch_SERPS!D1080,\"\")","v":""},{"$f":"IF(NOT(ISBLANK(ShareOfSearch_SERPS!A1080)),ShareOfSearch_SERPS!A1080,\"\")","v":""},{"$f":"IF(NOT(ISBLANK(ShareOfSearch_SERPS!G1080)),ShareOfSearch_SERPS!G1080,\"\")","v":""},{"$f":"IF(NOT(ISBLANK(ShareOfSearch_SERPS!K1080)),ShareOfSearch_SERPS!K1080,\"\")","v":""},{"$f":"IFERROR(VLOOKUP(C1080,ShareOfSearch_CTR!$A$1:$B$100,2,FALSE)*VLOOKUP(A1080&B1080,ShareOfSearch_Volume!$C$1:$D$1000,2,FALSE),\"\")","v":""}]
[{"$f":"IF(ISTEXT(ShareOfSearch_SERPS!C1081),ShareOfSearch_SERPS!C1081,\"\")","v":""},{"$f":"IF(ISTEXT(ShareOfSearch_SERPS!D1081),ShareOfSearch_SERPS!D1081,\"\")","v":""},{"$f":"IF(NOT(ISBLANK(ShareOfSearch_SERPS!A1081)),ShareOfSearch_SERPS!A1081,\"\")","v":""},{"$f":"IF(NOT(ISBLANK(ShareOfSearch_SERPS!G1081)),ShareOfSearch_SERPS!G1081,\"\")","v":""},{"$f":"IF(NOT(ISBLANK(ShareOfSearch_SERPS!K1081)),ShareOfSearch_SERPS!K1081,\"\")","v":""},{"$f":"IFERROR(VLOOKUP(C1081,ShareOfSearch_CTR!$A$1:$B$100,2,FALSE)*VLOOKUP(A1081&B1081,ShareOfSearch_Volume!$C$1:$D$1000,2,FALSE),\"\")","v":""}]
[{"$f":"IF(ISTEXT(ShareOfSearch_SERPS!C1082),ShareOfSearch_SERPS!C1082,\"\")","v":""},{"$f":"IF(ISTEXT(ShareOfSearch_SERPS!D1082),ShareOfSearch_SERPS!D1082,\"\")","v":""},{"$f":"IF(NOT(ISBLANK(ShareOfSearch_SERPS!A1082)),ShareOfSearch_SERPS!A1082,\"\")","v":""},{"$f":"IF(NOT(ISBLANK(ShareOfSearch_SERPS!G1082)),ShareOfSearch_SERPS!G1082,\"\")","v":""},{"$f":"IF(NOT(ISBLANK(ShareOfSearch_SERPS!K1082)),ShareOfSearch_SERPS!K1082,\"\")","v":""},{"$f":"IFERROR(VLOOKUP(C1082,ShareOfSearch_CTR!$A$1:$B$100,2,FALSE)*VLOOKUP(A1082&B1082,ShareOfSearch_Volume!$C$1:$D$1000,2,FALSE),\"\")","v":""}]
[{"$f":"IF(ISTEXT(ShareOfSearch_SERPS!C1083),ShareOfSearch_SERPS!C1083,\"\")","v":""},{"$f":"IF(ISTEXT(ShareOfSearch_SERPS!D1083),ShareOfSearch_SERPS!D1083,\"\")","v":""},{"$f":"IF(NOT(ISBLANK(ShareOfSearch_SERPS!A1083)),ShareOfSearch_SERPS!A1083,\"\")","v":""},{"$f":"IF(NOT(ISBLANK(ShareOfSearch_SERPS!G1083)),ShareOfSearch_SERPS!G1083,\"\")","v":""},{"$f":"IF(NOT(ISBLANK(ShareOfSearch_SERPS!K1083)),ShareOfSearch_SERPS!K1083,\"\")","v":""},{"$f":"IFERROR(VLOOKUP(C1083,ShareOfSearch_CTR!$A$1:$B$100,2,FALSE)*VLOOKUP(A1083&B1083,ShareOfSearch_Volume!$C$1:$D$1000,2,FALSE),\"\")","v":""}]
[{"$f":"IF(ISTEXT(ShareOfSearch_SERPS!C1084),ShareOfSearch_SERPS!C1084,\"\")","v":""},{"$f":"IF(ISTEXT(ShareOfSearch_SERPS!D1084),ShareOfSearch_SERPS!D1084,\"\")","v":""},{"$f":"IF(NOT(ISBLANK(ShareOfSearch_SERPS!A1084)),ShareOfSearch_SERPS!A1084,\"\")","v":""},{"$f":"IF(NOT(ISBLANK(ShareOfSearch_SERPS!G1084)),ShareOfSearch_SERPS!G1084,\"\")","v":""},{"$f":"IF(NOT(ISBLANK(ShareOfSearch_SERPS!K1084)),ShareOfSearch_SERPS!K1084,\"\")","v":""},{"$f":"IFERROR(VLOOKUP(C1084,ShareOfSearch_CTR!$A$1:$B$100,2,FALSE)*VLOOKUP(A1084&B1084,ShareOfSearch_Volume!$C$1:$D$1000,2,FALSE),\"\")","v":""}]
[{"$f":"IF(ISTEXT(ShareOfSearch_SERPS!C1085),ShareOfSearch_SERPS!C1085,\"\")","v":""},{"$f":"IF(ISTEXT(ShareOfSearch_SERPS!D1085),ShareOfSearch_SERPS!D1085,\"\")","v":""},{"$f":"IF(NOT(ISBLANK(ShareOfSearch_SERPS!A1085)),ShareOfSearch_SERPS!A1085,\"\")","v":""},{"$f":"IF(NOT(ISBLANK(ShareOfSearch_SERPS!G1085)),ShareOfSearch_SERPS!G1085,\"\")","v":""},{"$f":"IF(NOT(ISBLANK(ShareOfSearch_SERPS!K1085)),ShareOfSearch_SERPS!K1085,\"\")","v":""},{"$f":"IFERROR(VLOOKUP(C1085,ShareOfSearch_CTR!$A$1:$B$100,2,FALSE)*VLOOKUP(A1085&B1085,ShareOfSearch_Volume!$C$1:$D$1000,2,FALSE),\"\")","v":""}]
[{"$f":"IF(ISTEXT(ShareOfSearch_SERPS!C1086),ShareOfSearch_SERPS!C1086,\"\")","v":""},{"$f":"IF(ISTEXT(ShareOfSearch_SERPS!D1086),ShareOfSearch_SERPS!D1086,\"\")","v":""},{"$f":"IF(NOT(ISBLANK(ShareOfSearch_SERPS!A1086)),ShareOfSearch_SERPS!A1086,\"\")","v":""},{"$f":"IF(NOT(ISBLANK(ShareOfSearch_SERPS!G1086)),ShareOfSearch_SERPS!G1086,\"\")","v":""},{"$f":"IF(NOT(ISBLANK(ShareOfSearch_SERPS!K1086)),ShareOfSearch_SERPS!K1086,\"\")","v":""},{"$f":"IFERROR(VLOOKUP(C1086,ShareOfSearch_CTR!$A$1:$B$100,2,FALSE)*VLOOKUP(A1086&B1086,ShareOfSearch_Volume!$C$1:$D$1000,2,FALSE),\"\")","v":""}]
[{"$f":"IF(ISTEXT(ShareOfSearch_SERPS!C1087),ShareOfSearch_SERPS!C1087,\"\")","v":""},{"$f":"IF(ISTEXT(ShareOfSearch_SERPS!D1087),ShareOfSearch_SERPS!D1087,\"\")","v":""},{"$f":"IF(NOT(ISBLANK(ShareOfSearch_SERPS!A1087)),ShareOfSearch_SERPS!A1087,\"\")","v":""},{"$f":"IF(NOT(ISBLANK(ShareOfSearch_SERPS!G1087)),ShareOfSearch_SERPS!G1087,\"\")","v":""},{"$f":"IF(NOT(ISBLANK(ShareOfSearch_SERPS!K1087)),ShareOfSearch_SERPS!K1087,\"\")","v":""},{"$f":"IFERROR(VLOOKUP(C1087,ShareOfSearch_CTR!$A$1:$B$100,2,FALSE)*VLOOKUP(A1087&B1087,ShareOfSearch_Volume!$C$1:$D$1000,2,FALSE),\"\")","v":""}]
[{"$f":"IF(ISTEXT(ShareOfSearch_SERPS!C1088),ShareOfSearch_SERPS!C1088,\"\")","v":""},{"$f":"IF(ISTEXT(ShareOfSearch_SERPS!D1088),ShareOfSearch_SERPS!D1088,\"\")","v":""},{"$f":"IF(NOT(ISBLANK(ShareOfSearch_SERPS!A1088)),ShareOfSearch_SERPS!A1088,\"\")","v":""},{"$f":"IF(NOT(ISBLANK(ShareOfSearch_SERPS!G1088)),ShareOfSearch_SERPS!G1088,\"\")","v":""},{"$f":"IF(NOT(ISBLANK(ShareOfSearch_SERPS!K1088)),ShareOfSearch_SERPS!K1088,\"\")","v":""},{"$f":"IFERROR(VLOOKUP(C1088,ShareOfSearch_CTR!$A$1:$B$100,2,FALSE)*VLOOKUP(A1088&B1088,ShareOfSearch_Volume!$C$1:$D$1000,2,FALSE),\"\")","v":""}]
[{"$f":"IF(ISTEXT(ShareOfSearch_SERPS!C1089),ShareOfSearch_SERPS!C1089,\"\")","v":""},{"$f":"IF(ISTEXT(ShareOfSearch_SERPS!D1089),ShareOfSearch_SERPS!D1089,\"\")","v":""},{"$f":"IF(NOT(ISBLANK(ShareOfSearch_SERPS!A1089)),ShareOfSearch_SERPS!A1089,\"\")","v":""},{"$f":"IF(NOT(ISBLANK(ShareOfSearch_SERPS!G1089)),ShareOfSearch_SERPS!G1089,\"\")","v":""},{"$f":"IF(NOT(ISBLANK(ShareOfSearch_SERPS!K1089)),ShareOfSearch_SERPS!K1089,\"\")","v":""},{"$f":"IFERROR(VLOOKUP(C1089,ShareOfSearch_CTR!$A$1:$B$100,2,FALSE)*VLOOKUP(A1089&B1089,ShareOfSearch_Volume!$C$1:$D$1000,2,FALSE),\"\")","v":""}]
[{"$f":"IF(ISTEXT(ShareOfSearch_SERPS!C1090),ShareOfSearch_SERPS!C1090,\"\")","v":""},{"$f":"IF(ISTEXT(ShareOfSearch_SERPS!D1090),ShareOfSearch_SERPS!D1090,\"\")","v":""},{"$f":"IF(NOT(ISBLANK(ShareOfSearch_SERPS!A1090)),ShareOfSearch_SERPS!A1090,\"\")","v":""},{"$f":"IF(NOT(ISBLANK(ShareOfSearch_SERPS!G1090)),ShareOfSearch_SERPS!G1090,\"\")","v":""},{"$f":"IF(NOT(ISBLANK(ShareOfSearch_SERPS!K1090)),ShareOfSearch_SERPS!K1090,\"\")","v":""},{"$f":"IFERROR(VLOOKUP(C1090,ShareOfSearch_CTR!$A$1:$B$100,2,FALSE)*VLOOKUP(A1090&B1090,ShareOfSearch_Volume!$C$1:$D$1000,2,FALSE),\"\")","v":""}]
[{"$f":"IF(ISTEXT(ShareOfSearch_SERPS!C1091),ShareOfSearch_SERPS!C1091,\"\")","v":""},{"$f":"IF(ISTEXT(ShareOfSearch_SERPS!D1091),ShareOfSearch_SERPS!D1091,\"\")","v":""},{"$f":"IF(NOT(ISBLANK(ShareOfSearch_SERPS!A1091)),ShareOfSearch_SERPS!A1091,\"\")","v":""},{"$f":"IF(NOT(ISBLANK(ShareOfSearch_SERPS!G1091)),ShareOfSearch_SERPS!G1091,\"\")","v":""},{"$f":"IF(NOT(ISBLANK(ShareOfSearch_SERPS!K1091)),ShareOfSearch_SERPS!K1091,\"\")","v":""},{"$f":"IFERROR(VLOOKUP(C1091,ShareOfSearch_CTR!$A$1:$B$100,2,FALSE)*VLOOKUP(A1091&B1091,ShareOfSearch_Volume!$C$1:$D$1000,2,FALSE),\"\")","v":""}]
[{"$f":"IF(ISTEXT(ShareOfSearch_SERPS!C1092),ShareOfSearch_SERPS!C1092,\"\")","v":""},{"$f":"IF(ISTEXT(ShareOfSearch_SERPS!D1092),ShareOfSearch_SERPS!D1092,\"\")","v":""},{"$f":"IF(NOT(ISBLANK(ShareOfSearch_SERPS!A1092)),ShareOfSearch_SERPS!A1092,\"\")","v":""},{"$f":"IF(NOT(ISBLANK(ShareOfSearch_SERPS!G1092)),ShareOfSearch_SERPS!G1092,\"\")","v":""},{"$f":"IF(NOT(ISBLANK(ShareOfSearch_SERPS!K1092)),ShareOfSearch_SERPS!K1092,\"\")","v":""},{"$f":"IFERROR(VLOOKUP(C1092,ShareOfSearch_CTR!$A$1:$B$100,2,FALSE)*VLOOKUP(A1092&B1092,ShareOfSearch_Volume!$C$1:$D$1000,2,FALSE),\"\")","v":""}]
[{"$f":"IF(ISTEXT(ShareOfSearch_SERPS!C1093),ShareOfSearch_SERPS!C1093,\"\")","v":""},{"$f":"IF(ISTEXT(ShareOfSearch_SERPS!D1093),ShareOfSearch_SERPS!D1093,\"\")","v":""},{"$f":"IF(NOT(ISBLANK(ShareOfSearch_SERPS!A1093)),ShareOfSearch_SERPS!A1093,\"\")","v":""},{"$f":"IF(NOT(ISBLANK(ShareOfSearch_SERPS!G1093)),ShareOfSearch_SERPS!G1093,\"\")","v":""},{"$f":"IF(NOT(ISBLANK(ShareOfSearch_SERPS!K1093)),ShareOfSearch_SERPS!K1093,\"\")","v":""},{"$f":"IFERROR(VLOOKUP(C1093,ShareOfSearch_CTR!$A$1:$B$100,2,FALSE)*VLOOKUP(A1093&B1093,ShareOfSearch_Volume!$C$1:$D$1000,2,FALSE),\"\")","v":""}]
[{"$f":"IF(ISTEXT(ShareOfSearch_SERPS!C1094),ShareOfSearch_SERPS!C1094,\"\")","v":""},{"$f":"IF(ISTEXT(ShareOfSearch_SERPS!D1094),ShareOfSearch_SERPS!D1094,\"\")","v":""},{"$f":"IF(NOT(ISBLANK(ShareOfSearch_SERPS!A1094)),ShareOfSearch_SERPS!A1094,\"\")","v":""},{"$f":"IF(NOT(ISBLANK(ShareOfSearch_SERPS!G1094)),ShareOfSearch_SERPS!G1094,\"\")","v":""},{"$f":"IF(NOT(ISBLANK(ShareOfSearch_SERPS!K1094)),ShareOfSearch_SERPS!K1094,\"\")","v":""},{"$f":"IFERROR(VLOOKUP(C1094,ShareOfSearch_CTR!$A$1:$B$100,2,FALSE)*VLOOKUP(A1094&B1094,ShareOfSearch_Volume!$C$1:$D$1000,2,FALSE),\"\")","v":""}]
[{"$f":"IF(ISTEXT(ShareOfSearch_SERPS!C1095),ShareOfSearch_SERPS!C1095,\"\")","v":""},{"$f":"IF(ISTEXT(ShareOfSearch_SERPS!D1095),ShareOfSearch_SERPS!D1095,\"\")","v":""},{"$f":"IF(NOT(ISBLANK(ShareOfSearch_SERPS!A1095)),ShareOfSearch_SERPS!A1095,\"\")","v":""},{"$f":"IF(NOT(ISBLANK(ShareOfSearch_SERPS!G1095)),ShareOfSearch_SERPS!G1095,\"\")","v":""},{"$f":"IF(NOT(ISBLANK(ShareOfSearch_SERPS!K1095)),ShareOfSearch_SERPS!K1095,\"\")","v":""},{"$f":"IFERROR(VLOOKUP(C1095,ShareOfSearch_CTR!$A$1:$B$100,2,FALSE)*VLOOKUP(A1095&B1095,ShareOfSearch_Volume!$C$1:$D$1000,2,FALSE),\"\")","v":""}]
[{"$f":"IF(ISTEXT(ShareOfSearch_SERPS!C1096),ShareOfSearch_SERPS!C1096,\"\")","v":""},{"$f":"IF(ISTEXT(ShareOfSearch_SERPS!D1096),ShareOfSearch_SERPS!D1096,\"\")","v":""},{"$f":"IF(NOT(ISBLANK(ShareOfSearch_SERPS!A1096)),ShareOfSearch_SERPS!A1096,\"\")","v":""},{"$f":"IF(NOT(ISBLANK(ShareOfSearch_SERPS!G1096)),ShareOfSearch_SERPS!G1096,\"\")","v":""},{"$f":"IF(NOT(ISBLANK(ShareOfSearch_SERPS!K1096)),ShareOfSearch_SERPS!K1096,\"\")","v":""},{"$f":"IFERROR(VLOOKUP(C1096,ShareOfSearch_CTR!$A$1:$B$100,2,FALSE)*VLOOKUP(A1096&B1096,ShareOfSearch_Volume!$C$1:$D$1000,2,FALSE),\"\")","v":""}]
[{"$f":"IF(ISTEXT(ShareOfSearch_SERPS!C1097),ShareOfSearch_SERPS!C1097,\"\")","v":""},{"$f":"IF(ISTEXT(ShareOfSearch_SERPS!D1097),ShareOfSearch_SERPS!D1097,\"\")","v":""},{"$f":"IF(NOT(ISBLANK(ShareOfSearch_SERPS!A1097)),ShareOfSearch_SERPS!A1097,\"\")","v":""},{"$f":"IF(NOT(ISBLANK(ShareOfSearch_SERPS!G1097)),ShareOfSearch_SERPS!G1097,\"\")","v":""},{"$f":"IF(NOT(ISBLANK(ShareOfSearch_SERPS!K1097)),ShareOfSearch_SERPS!K1097,\"\")","v":""},{"$f":"IFERROR(VLOOKUP(C1097,ShareOfSearch_CTR!$A$1:$B$100,2,FALSE)*VLOOKUP(A1097&B1097,ShareOfSearch_Volume!$C$1:$D$1000,2,FALSE),\"\")","v":""}]
[{"$f":"IF(ISTEXT(ShareOfSearch_SERPS!C1098),ShareOfSearch_SERPS!C1098,\"\")","v":""},{"$f":"IF(ISTEXT(ShareOfSearch_SERPS!D1098),ShareOfSearch_SERPS!D1098,\"\")","v":""},{"$f":"IF(NOT(ISBLANK(ShareOfSearch_SERPS!A1098)),ShareOfSearch_SERPS!A1098,\"\")","v":""},{"$f":"IF(NOT(ISBLANK(ShareOfSearch_SERPS!G1098)),ShareOfSearch_SERPS!G1098,\"\")","v":""},{"$f":"IF(NOT(ISBLANK(ShareOfSearch_SERPS!K1098)),ShareOfSearch_SERPS!K1098,\"\")","v":""},{"$f":"IFERROR(VLOOKUP(C1098,ShareOfSearch_CTR!$A$1:$B$100,2,FALSE)*VLOOKUP(A1098&B1098,ShareOfSearch_Volume!$C$1:$D$1000,2,FALSE),\"\")","v":""}]
[{"$f":"IF(ISTEXT(ShareOfSearch_SERPS!C1099),ShareOfSearch_SERPS!C1099,\"\")","v":""},{"$f":"IF(ISTEXT(ShareOfSearch_SERPS!D1099),ShareOfSearch_SERPS!D1099,\"\")","v":""},{"$f":"IF(NOT(ISBLANK(ShareOfSearch_SERPS!A1099)),ShareOfSearch_SERPS!A1099,\"\")","v":""},{"$f":"IF(NOT(ISBLANK(ShareOfSearch_SERPS!G1099)),ShareOfSearch_SERPS!G1099,\"\")","v":""},{"$f":"IF(NOT(ISBLANK(ShareOfSearch_SERPS!K1099)),ShareOfSearch_SERPS!K1099,\"\")","v":""},{"$f":"IFERROR(VLOOKUP(C1099,ShareOfSearch_CTR!$A$1:$B$100,2,FALSE)*VLOOKUP(A1099&B1099,ShareOfSearch_Volume!$C$1:$D$1000,2,FALSE),\"\")","v":""}]
[{"$f":"IF(ISTEXT(ShareOfSearch_SERPS!C1100),ShareOfSearch_SERPS!C1100,\"\")","v":""},{"$f":"IF(ISTEXT(ShareOfSearch_SERPS!D1100),ShareOfSearch_SERPS!D1100,\"\")","v":""},{"$f":"IF(NOT(ISBLANK(ShareOfSearch_SERPS!A1100)),ShareOfSearch_SERPS!A1100,\"\")","v":""},{"$f":"IF(NOT(ISBLANK(ShareOfSearch_SERPS!G1100)),ShareOfSearch_SERPS!G1100,\"\")","v":""},{"$f":"IF(NOT(ISBLANK(ShareOfSearch_SERPS!K1100)),ShareOfSearch_SERPS!K1100,\"\")","v":""},{"$f":"IFERROR(VLOOKUP(C1100,ShareOfSearch_CTR!$A$1:$B$100,2,FALSE)*VLOOKUP(A1100&B1100,ShareOfSearch_Volume!$C$1:$D$1000,2,FALSE),\"\")","v":""}]
[{"$f":"IF(ISTEXT(ShareOfSearch_SERPS!C1101),ShareOfSearch_SERPS!C1101,\"\")","v":""},{"$f":"IF(ISTEXT(ShareOfSearch_SERPS!D1101),ShareOfSearch_SERPS!D1101,\"\")","v":""},{"$f":"IF(NOT(ISBLANK(ShareOfSearch_SERPS!A1101)),ShareOfSearch_SERPS!A1101,\"\")","v":""},{"$f":"IF(NOT(ISBLANK(ShareOfSearch_SERPS!G1101)),ShareOfSearch_SERPS!G1101,\"\")","v":""},{"$f":"IF(NOT(ISBLANK(ShareOfSearch_SERPS!K1101)),ShareOfSearch_SERPS!K1101,\"\")","v":""},{"$f":"IFERROR(VLOOKUP(C1101,ShareOfSearch_CTR!$A$1:$B$100,2,FALSE)*VLOOKUP(A1101&B1101,ShareOfSearch_Volume!$C$1:$D$1000,2,FALSE),\"\")","v":""}]
[{"$f":"IF(ISTEXT(ShareOfSearch_SERPS!C1102),ShareOfSearch_SERPS!C1102,\"\")","v":""},{"$f":"IF(ISTEXT(ShareOfSearch_SERPS!D1102),ShareOfSearch_SERPS!D1102,\"\")","v":""},{"$f":"IF(NOT(ISBLANK(ShareOfSearch_SERPS!A1102)),ShareOfSearch_SERPS!A1102,\"\")","v":""},{"$f":"IF(NOT(ISBLANK(ShareOfSearch_SERPS!G1102)),ShareOfSearch_SERPS!G1102,\"\")","v":""},{"$f":"IF(NOT(ISBLANK(ShareOfSearch_SERPS!K1102)),ShareOfSearch_SERPS!K1102,\"\")","v":""},{"$f":"IFERROR(VLOOKUP(C1102,ShareOfSearch_CTR!$A$1:$B$100,2,FALSE)*VLOOKUP(A1102&B1102,ShareOfSearch_Volume!$C$1:$D$1000,2,FALSE),\"\")","v":""}]
[{"$f":"IF(ISTEXT(ShareOfSearch_SERPS!C1103),ShareOfSearch_SERPS!C1103,\"\")","v":""},{"$f":"IF(ISTEXT(ShareOfSearch_SERPS!D1103),ShareOfSearch_SERPS!D1103,\"\")","v":""},{"$f":"IF(NOT(ISBLANK(ShareOfSearch_SERPS!A1103)),ShareOfSearch_SERPS!A1103,\"\")","v":""},{"$f":"IF(NOT(ISBLANK(ShareOfSearch_SERPS!G1103)),ShareOfSearch_SERPS!G1103,\"\")","v":""},{"$f":"IF(NOT(ISBLANK(ShareOfSearch_SERPS!K1103)),ShareOfSearch_SERPS!K1103,\"\")","v":""},{"$f":"IFERROR(VLOOKUP(C1103,ShareOfSearch_CTR!$A$1:$B$100,2,FALSE)*VLOOKUP(A1103&B1103,ShareOfSearch_Volume!$C$1:$D$1000,2,FALSE),\"\")","v":""}]
[{"$f":"IF(ISTEXT(ShareOfSearch_SERPS!C1104),ShareOfSearch_SERPS!C1104,\"\")","v":""},{"$f":"IF(ISTEXT(ShareOfSearch_SERPS!D1104),ShareOfSearch_SERPS!D1104,\"\")","v":""},{"$f":"IF(NOT(ISBLANK(ShareOfSearch_SERPS!A1104)),ShareOfSearch_SERPS!A1104,\"\")","v":""},{"$f":"IF(NOT(ISBLANK(ShareOfSearch_SERPS!G1104)),ShareOfSearch_SERPS!G1104,\"\")","v":""},{"$f":"IF(NOT(ISBLANK(ShareOfSearch_SERPS!K1104)),ShareOfSearch_SERPS!K1104,\"\")","v":""},{"$f":"IFERROR(VLOOKUP(C1104,ShareOfSearch_CTR!$A$1:$B$100,2,FALSE)*VLOOKUP(A1104&B1104,ShareOfSearch_Volume!$C$1:$D$1000,2,FALSE),\"\")","v":""}]
[{"$f":"IF(ISTEXT(ShareOfSearch_SERPS!C1105),ShareOfSearch_SERPS!C1105,\"\")","v":""},{"$f":"IF(ISTEXT(ShareOfSearch_SERPS!D1105),ShareOfSearch_SERPS!D1105,\"\")","v":""},{"$f":"IF(NOT(ISBLANK(ShareOfSearch_SERPS!A1105)),ShareOfSearch_SERPS!A1105,\"\")","v":""},{"$f":"IF(NOT(ISBLANK(ShareOfSearch_SERPS!G1105)),ShareOfSearch_SERPS!G1105,\"\")","v":""},{"$f":"IF(NOT(ISBLANK(ShareOfSearch_SERPS!K1105)),ShareOfSearch_SERPS!K1105,\"\")","v":""},{"$f":"IFERROR(VLOOKUP(C1105,ShareOfSearch_CTR!$A$1:$B$100,2,FALSE)*VLOOKUP(A1105&B1105,ShareOfSearch_Volume!$C$1:$D$1000,2,FALSE),\"\")","v":""}]
[{"$f":"IF(ISTEXT(ShareOfSearch_SERPS!C1106),ShareOfSearch_SERPS!C1106,\"\")","v":""},{"$f":"IF(ISTEXT(ShareOfSearch_SERPS!D1106),ShareOfSearch_SERPS!D1106,\"\")","v":""},{"$f":"IF(NOT(ISBLANK(ShareOfSearch_SERPS!A1106)),ShareOfSearch_SERPS!A1106,\"\")","v":""},{"$f":"IF(NOT(ISBLANK(ShareOfSearch_SERPS!G1106)),ShareOfSearch_SERPS!G1106,\"\")","v":""},{"$f":"IF(NOT(ISBLANK(ShareOfSearch_SERPS!K1106)),ShareOfSearch_SERPS!K1106,\"\")","v":""},{"$f":"IFERROR(VLOOKUP(C1106,ShareOfSearch_CTR!$A$1:$B$100,2,FALSE)*VLOOKUP(A1106&B1106,ShareOfSearch_Volume!$C$1:$D$1000,2,FALSE),\"\")","v":""}]
[{"$f":"IF(ISTEXT(ShareOfSearch_SERPS!C1107),ShareOfSearch_SERPS!C1107,\"\")","v":""},{"$f":"IF(ISTEXT(ShareOfSearch_SERPS!D1107),ShareOfSearch_SERPS!D1107,\"\")","v":""},{"$f":"IF(NOT(ISBLANK(ShareOfSearch_SERPS!A1107)),ShareOfSearch_SERPS!A1107,\"\")","v":""},{"$f":"IF(NOT(ISBLANK(ShareOfSearch_SERPS!G1107)),ShareOfSearch_SERPS!G1107,\"\")","v":""},{"$f":"IF(NOT(ISBLANK(ShareOfSearch_SERPS!K1107)),ShareOfSearch_SERPS!K1107,\"\")","v":""},{"$f":"IFERROR(VLOOKUP(C1107,ShareOfSearch_CTR!$A$1:$B$100,2,FALSE)*VLOOKUP(A1107&B1107,ShareOfSearch_Volume!$C$1:$D$1000,2,FALSE),\"\")","v":""}]
[{"$f":"IF(ISTEXT(ShareOfSearch_SERPS!C1108),ShareOfSearch_SERPS!C1108,\"\")","v":""},{"$f":"IF(ISTEXT(ShareOfSearch_SERPS!D1108),ShareOfSearch_SERPS!D1108,\"\")","v":""},{"$f":"IF(NOT(ISBLANK(ShareOfSearch_SERPS!A1108)),ShareOfSearch_SERPS!A1108,\"\")","v":""},{"$f":"IF(NOT(ISBLANK(ShareOfSearch_SERPS!G1108)),ShareOfSearch_SERPS!G1108,\"\")","v":""},{"$f":"IF(NOT(ISBLANK(ShareOfSearch_SERPS!K1108)),ShareOfSearch_SERPS!K1108,\"\")","v":""},{"$f":"IFERROR(VLOOKUP(C1108,ShareOfSearch_CTR!$A$1:$B$100,2,FALSE)*VLOOKUP(A1108&B1108,ShareOfSearch_Volume!$C$1:$D$1000,2,FALSE),\"\")","v":""}]
[{"$f":"IF(ISTEXT(ShareOfSearch_SERPS!C1109),ShareOfSearch_SERPS!C1109,\"\")","v":""},{"$f":"IF(ISTEXT(ShareOfSearch_SERPS!D1109),ShareOfSearch_SERPS!D1109,\"\")","v":""},{"$f":"IF(NOT(ISBLANK(ShareOfSearch_SERPS!A1109)),ShareOfSearch_SERPS!A1109,\"\")","v":""},{"$f":"IF(NOT(ISBLANK(ShareOfSearch_SERPS!G1109)),ShareOfSearch_SERPS!G1109,\"\")","v":""},{"$f":"IF(NOT(ISBLANK(ShareOfSearch_SERPS!K1109)),ShareOfSearch_SERPS!K1109,\"\")","v":""},{"$f":"IFERROR(VLOOKUP(C1109,ShareOfSearch_CTR!$A$1:$B$100,2,FALSE)*VLOOKUP(A1109&B1109,ShareOfSearch_Volume!$C$1:$D$1000,2,FALSE),\"\")","v":""}]
[{"$f":"IF(ISTEXT(ShareOfSearch_SERPS!C1110),ShareOfSearch_SERPS!C1110,\"\")","v":""},{"$f":"IF(ISTEXT(ShareOfSearch_SERPS!D1110),ShareOfSearch_SERPS!D1110,\"\")","v":""},{"$f":"IF(NOT(ISBLANK(ShareOfSearch_SERPS!A1110)),ShareOfSearch_SERPS!A1110,\"\")","v":""},{"$f":"IF(NOT(ISBLANK(ShareOfSearch_SERPS!G1110)),ShareOfSearch_SERPS!G1110,\"\")","v":""},{"$f":"IF(NOT(ISBLANK(ShareOfSearch_SERPS!K1110)),ShareOfSearch_SERPS!K1110,\"\")","v":""},{"$f":"IFERROR(VLOOKUP(C1110,ShareOfSearch_CTR!$A$1:$B$100,2,FALSE)*VLOOKUP(A1110&B1110,ShareOfSearch_Volume!$C$1:$D$1000,2,FALSE),\"\")","v":""}]
[{"$f":"IF(ISTEXT(ShareOfSearch_SERPS!C1111),ShareOfSearch_SERPS!C1111,\"\")","v":""},{"$f":"IF(ISTEXT(ShareOfSearch_SERPS!D1111),ShareOfSearch_SERPS!D1111,\"\")","v":""},{"$f":"IF(NOT(ISBLANK(ShareOfSearch_SERPS!A1111)),ShareOfSearch_SERPS!A1111,\"\")","v":""},{"$f":"IF(NOT(ISBLANK(ShareOfSearch_SERPS!G1111)),ShareOfSearch_SERPS!G1111,\"\")","v":""},{"$f":"IF(NOT(ISBLANK(ShareOfSearch_SERPS!K1111)),ShareOfSearch_SERPS!K1111,\"\")","v":""},{"$f":"IFERROR(VLOOKUP(C1111,ShareOfSearch_CTR!$A$1:$B$100,2,FALSE)*VLOOKUP(A1111&B1111,ShareOfSearch_Volume!$C$1:$D$1000,2,FALSE),\"\")","v":""}]
[{"$f":"IF(ISTEXT(ShareOfSearch_SERPS!C1112),ShareOfSearch_SERPS!C1112,\"\")","v":""},{"$f":"IF(ISTEXT(ShareOfSearch_SERPS!D1112),ShareOfSearch_SERPS!D1112,\"\")","v":""},{"$f":"IF(NOT(ISBLANK(ShareOfSearch_SERPS!A1112)),ShareOfSearch_SERPS!A1112,\"\")","v":""},{"$f":"IF(NOT(ISBLANK(ShareOfSearch_SERPS!G1112)),ShareOfSearch_SERPS!G1112,\"\")","v":""},{"$f":"IF(NOT(ISBLANK(ShareOfSearch_SERPS!K1112)),ShareOfSearch_SERPS!K1112,\"\")","v":""},{"$f":"IFERROR(VLOOKUP(C1112,ShareOfSearch_CTR!$A$1:$B$100,2,FALSE)*VLOOKUP(A1112&B1112,ShareOfSearch_Volume!$C$1:$D$1000,2,FALSE),\"\")","v":""}]
[{"$f":"IF(ISTEXT(ShareOfSearch_SERPS!C1113),ShareOfSearch_SERPS!C1113,\"\")","v":""},{"$f":"IF(ISTEXT(ShareOfSearch_SERPS!D1113),ShareOfSearch_SERPS!D1113,\"\")","v":""},{"$f":"IF(NOT(ISBLANK(ShareOfSearch_SERPS!A1113)),ShareOfSearch_SERPS!A1113,\"\")","v":""},{"$f":"IF(NOT(ISBLANK(ShareOfSearch_SERPS!G1113)),ShareOfSearch_SERPS!G1113,\"\")","v":""},{"$f":"IF(NOT(ISBLANK(ShareOfSearch_SERPS!K1113)),ShareOfSearch_SERPS!K1113,\"\")","v":""},{"$f":"IFERROR(VLOOKUP(C1113,ShareOfSearch_CTR!$A$1:$B$100,2,FALSE)*VLOOKUP(A1113&B1113,ShareOfSearch_Volume!$C$1:$D$1000,2,FALSE),\"\")","v":""}]
[{"$f":"IF(ISTEXT(ShareOfSearch_SERPS!C1114),ShareOfSearch_SERPS!C1114,\"\")","v":""},{"$f":"IF(ISTEXT(ShareOfSearch_SERPS!D1114),ShareOfSearch_SERPS!D1114,\"\")","v":""},{"$f":"IF(NOT(ISBLANK(ShareOfSearch_SERPS!A1114)),ShareOfSearch_SERPS!A1114,\"\")","v":""},{"$f":"IF(NOT(ISBLANK(ShareOfSearch_SERPS!G1114)),ShareOfSearch_SERPS!G1114,\"\")","v":""},{"$f":"IF(NOT(ISBLANK(ShareOfSearch_SERPS!K1114)),ShareOfSearch_SERPS!K1114,\"\")","v":""},{"$f":"IFERROR(VLOOKUP(C1114,ShareOfSearch_CTR!$A$1:$B$100,2,FALSE)*VLOOKUP(A1114&B1114,ShareOfSearch_Volume!$C$1:$D$1000,2,FALSE),\"\")","v":""}]
[{"$f":"IF(ISTEXT(ShareOfSearch_SERPS!C1115),ShareOfSearch_SERPS!C1115,\"\")","v":""},{"$f":"IF(ISTEXT(ShareOfSearch_SERPS!D1115),ShareOfSearch_SERPS!D1115,\"\")","v":""},{"$f":"IF(NOT(ISBLANK(ShareOfSearch_SERPS!A1115)),ShareOfSearch_SERPS!A1115,\"\")","v":""},{"$f":"IF(NOT(ISBLANK(ShareOfSearch_SERPS!G1115)),ShareOfSearch_SERPS!G1115,\"\")","v":""},{"$f":"IF(NOT(ISBLANK(ShareOfSearch_SERPS!K1115)),ShareOfSearch_SERPS!K1115,\"\")","v":""},{"$f":"IFERROR(VLOOKUP(C1115,ShareOfSearch_CTR!$A$1:$B$100,2,FALSE)*VLOOKUP(A1115&B1115,ShareOfSearch_Volume!$C$1:$D$1000,2,FALSE),\"\")","v":""}]
[{"$f":"IF(ISTEXT(ShareOfSearch_SERPS!C1116),ShareOfSearch_SERPS!C1116,\"\")","v":""},{"$f":"IF(ISTEXT(ShareOfSearch_SERPS!D1116),ShareOfSearch_SERPS!D1116,\"\")","v":""},{"$f":"IF(NOT(ISBLANK(ShareOfSearch_SERPS!A1116)),ShareOfSearch_SERPS!A1116,\"\")","v":""},{"$f":"IF(NOT(ISBLANK(ShareOfSearch_SERPS!G1116)),ShareOfSearch_SERPS!G1116,\"\")","v":""},{"$f":"IF(NOT(ISBLANK(ShareOfSearch_SERPS!K1116)),ShareOfSearch_SERPS!K1116,\"\")","v":""},{"$f":"IFERROR(VLOOKUP(C1116,ShareOfSearch_CTR!$A$1:$B$100,2,FALSE)*VLOOKUP(A1116&B1116,ShareOfSearch_Volume!$C$1:$D$1000,2,FALSE),\"\")","v":""}]
[{"$f":"IF(ISTEXT(ShareOfSearch_SERPS!C1117),ShareOfSearch_SERPS!C1117,\"\")","v":""},{"$f":"IF(ISTEXT(ShareOfSearch_SERPS!D1117),ShareOfSearch_SERPS!D1117,\"\")","v":""},{"$f":"IF(NOT(ISBLANK(ShareOfSearch_SERPS!A1117)),ShareOfSearch_SERPS!A1117,\"\")","v":""},{"$f":"IF(NOT(ISBLANK(ShareOfSearch_SERPS!G1117)),ShareOfSearch_SERPS!G1117,\"\")","v":""},{"$f":"IF(NOT(ISBLANK(ShareOfSearch_SERPS!K1117)),ShareOfSearch_SERPS!K1117,\"\")","v":""},{"$f":"IFERROR(VLOOKUP(C1117,ShareOfSearch_CTR!$A$1:$B$100,2,FALSE)*VLOOKUP(A1117&B1117,ShareOfSearch_Volume!$C$1:$D$1000,2,FALSE),\"\")","v":""}]
[{"$f":"IF(ISTEXT(ShareOfSearch_SERPS!C1118),ShareOfSearch_SERPS!C1118,\"\")","v":""},{"$f":"IF(ISTEXT(ShareOfSearch_SERPS!D1118),ShareOfSearch_SERPS!D1118,\"\")","v":""},{"$f":"IF(NOT(ISBLANK(ShareOfSearch_SERPS!A1118)),ShareOfSearch_SERPS!A1118,\"\")","v":""},{"$f":"IF(NOT(ISBLANK(ShareOfSearch_SERPS!G1118)),ShareOfSearch_SERPS!G1118,\"\")","v":""},{"$f":"IF(NOT(ISBLANK(ShareOfSearch_SERPS!K1118)),ShareOfSearch_SERPS!K1118,\"\")","v":""},{"$f":"IFERROR(VLOOKUP(C1118,ShareOfSearch_CTR!$A$1:$B$100,2,FALSE)*VLOOKUP(A1118&B1118,ShareOfSearch_Volume!$C$1:$D$1000,2,FALSE),\"\")","v":""}]
[{"$f":"IF(ISTEXT(ShareOfSearch_SERPS!C1119),ShareOfSearch_SERPS!C1119,\"\")","v":""},{"$f":"IF(ISTEXT(ShareOfSearch_SERPS!D1119),ShareOfSearch_SERPS!D1119,\"\")","v":""},{"$f":"IF(NOT(ISBLANK(ShareOfSearch_SERPS!A1119)),ShareOfSearch_SERPS!A1119,\"\")","v":""},{"$f":"IF(NOT(ISBLANK(ShareOfSearch_SERPS!G1119)),ShareOfSearch_SERPS!G1119,\"\")","v":""},{"$f":"IF(NOT(ISBLANK(ShareOfSearch_SERPS!K1119)),ShareOfSearch_SERPS!K1119,\"\")","v":""},{"$f":"IFERROR(VLOOKUP(C1119,ShareOfSearch_CTR!$A$1:$B$100,2,FALSE)*VLOOKUP(A1119&B1119,ShareOfSearch_Volume!$C$1:$D$1000,2,FALSE),\"\")","v":""}]
[{"$f":"IF(ISTEXT(ShareOfSearch_SERPS!C1120),ShareOfSearch_SERPS!C1120,\"\")","v":""},{"$f":"IF(ISTEXT(ShareOfSearch_SERPS!D1120),ShareOfSearch_SERPS!D1120,\"\")","v":""},{"$f":"IF(NOT(ISBLANK(ShareOfSearch_SERPS!A1120)),ShareOfSearch_SERPS!A1120,\"\")","v":""},{"$f":"IF(NOT(ISBLANK(ShareOfSearch_SERPS!G1120)),ShareOfSearch_SERPS!G1120,\"\")","v":""},{"$f":"IF(NOT(ISBLANK(ShareOfSearch_SERPS!K1120)),ShareOfSearch_SERPS!K1120,\"\")","v":""},{"$f":"IFERROR(VLOOKUP(C1120,ShareOfSearch_CTR!$A$1:$B$100,2,FALSE)*VLOOKUP(A1120&B1120,ShareOfSearch_Volume!$C$1:$D$1000,2,FALSE),\"\")","v":""}]
[{"$f":"IF(ISTEXT(ShareOfSearch_SERPS!C1121),ShareOfSearch_SERPS!C1121,\"\")","v":""},{"$f":"IF(ISTEXT(ShareOfSearch_SERPS!D1121),ShareOfSearch_SERPS!D1121,\"\")","v":""},{"$f":"IF(NOT(ISBLANK(ShareOfSearch_SERPS!A1121)),ShareOfSearch_SERPS!A1121,\"\")","v":""},{"$f":"IF(NOT(ISBLANK(ShareOfSearch_SERPS!G1121)),ShareOfSearch_SERPS!G1121,\"\")","v":""},{"$f":"IF(NOT(ISBLANK(ShareOfSearch_SERPS!K1121)),ShareOfSearch_SERPS!K1121,\"\")","v":""},{"$f":"IFERROR(VLOOKUP(C1121,ShareOfSearch_CTR!$A$1:$B$100,2,FALSE)*VLOOKUP(A1121&B1121,ShareOfSearch_Volume!$C$1:$D$1000,2,FALSE),\"\")","v":""}]
[{"$f":"IF(ISTEXT(ShareOfSearch_SERPS!C1122),ShareOfSearch_SERPS!C1122,\"\")","v":""},{"$f":"IF(ISTEXT(ShareOfSearch_SERPS!D1122),ShareOfSearch_SERPS!D1122,\"\")","v":""},{"$f":"IF(NOT(ISBLANK(ShareOfSearch_SERPS!A1122)),ShareOfSearch_SERPS!A1122,\"\")","v":""},{"$f":"IF(NOT(ISBLANK(ShareOfSearch_SERPS!G1122)),ShareOfSearch_SERPS!G1122,\"\")","v":""},{"$f":"IF(NOT(ISBLANK(ShareOfSearch_SERPS!K1122)),ShareOfSearch_SERPS!K1122,\"\")","v":""},{"$f":"IFERROR(VLOOKUP(C1122,ShareOfSearch_CTR!$A$1:$B$100,2,FALSE)*VLOOKUP(A1122&B1122,ShareOfSearch_Volume!$C$1:$D$1000,2,FALSE),\"\")","v":""}]
[{"$f":"IF(ISTEXT(ShareOfSearch_SERPS!C1123),ShareOfSearch_SERPS!C1123,\"\")","v":""},{"$f":"IF(ISTEXT(ShareOfSearch_SERPS!D1123),ShareOfSearch_SERPS!D1123,\"\")","v":""},{"$f":"IF(NOT(ISBLANK(ShareOfSearch_SERPS!A1123)),ShareOfSearch_SERPS!A1123,\"\")","v":""},{"$f":"IF(NOT(ISBLANK(ShareOfSearch_SERPS!G1123)),ShareOfSearch_SERPS!G1123,\"\")","v":""},{"$f":"IF(NOT(ISBLANK(ShareOfSearch_SERPS!K1123)),ShareOfSearch_SERPS!K1123,\"\")","v":""},{"$f":"IFERROR(VLOOKUP(C1123,ShareOfSearch_CTR!$A$1:$B$100,2,FALSE)*VLOOKUP(A1123&B1123,ShareOfSearch_Volume!$C$1:$D$1000,2,FALSE),\"\")","v":""}]
[{"$f":"IF(ISTEXT(ShareOfSearch_SERPS!C1124),ShareOfSearch_SERPS!C1124,\"\")","v":""},{"$f":"IF(ISTEXT(ShareOfSearch_SERPS!D1124),ShareOfSearch_SERPS!D1124,\"\")","v":""},{"$f":"IF(NOT(ISBLANK(ShareOfSearch_SERPS!A1124)),ShareOfSearch_SERPS!A1124,\"\")","v":""},{"$f":"IF(NOT(ISBLANK(ShareOfSearch_SERPS!G1124)),ShareOfSearch_SERPS!G1124,\"\")","v":""},{"$f":"IF(NOT(ISBLANK(ShareOfSearch_SERPS!K1124)),ShareOfSearch_SERPS!K1124,\"\")","v":""},{"$f":"IFERROR(VLOOKUP(C1124,ShareOfSearch_CTR!$A$1:$B$100,2,FALSE)*VLOOKUP(A1124&B1124,ShareOfSearch_Volume!$C$1:$D$1000,2,FALSE),\"\")","v":""}]
[{"$f":"IF(ISTEXT(ShareOfSearch_SERPS!C1125),ShareOfSearch_SERPS!C1125,\"\")","v":""},{"$f":"IF(ISTEXT(ShareOfSearch_SERPS!D1125),ShareOfSearch_SERPS!D1125,\"\")","v":""},{"$f":"IF(NOT(ISBLANK(ShareOfSearch_SERPS!A1125)),ShareOfSearch_SERPS!A1125,\"\")","v":""},{"$f":"IF(NOT(ISBLANK(ShareOfSearch_SERPS!G1125)),ShareOfSearch_SERPS!G1125,\"\")","v":""},{"$f":"IF(NOT(ISBLANK(ShareOfSearch_SERPS!K1125)),ShareOfSearch_SERPS!K1125,\"\")","v":""},{"$f":"IFERROR(VLOOKUP(C1125,ShareOfSearch_CTR!$A$1:$B$100,2,FALSE)*VLOOKUP(A1125&B1125,ShareOfSearch_Volume!$C$1:$D$1000,2,FALSE),\"\")","v":""}]
[{"$f":"IF(ISTEXT(ShareOfSearch_SERPS!C1126),ShareOfSearch_SERPS!C1126,\"\")","v":""},{"$f":"IF(ISTEXT(ShareOfSearch_SERPS!D1126),ShareOfSearch_SERPS!D1126,\"\")","v":""},{"$f":"IF(NOT(ISBLANK(ShareOfSearch_SERPS!A1126)),ShareOfSearch_SERPS!A1126,\"\")","v":""},{"$f":"IF(NOT(ISBLANK(ShareOfSearch_SERPS!G1126)),ShareOfSearch_SERPS!G1126,\"\")","v":""},{"$f":"IF(NOT(ISBLANK(ShareOfSearch_SERPS!K1126)),ShareOfSearch_SERPS!K1126,\"\")","v":""},{"$f":"IFERROR(VLOOKUP(C1126,ShareOfSearch_CTR!$A$1:$B$100,2,FALSE)*VLOOKUP(A1126&B1126,ShareOfSearch_Volume!$C$1:$D$1000,2,FALSE),\"\")","v":""}]
[{"$f":"IF(ISTEXT(ShareOfSearch_SERPS!C1127),ShareOfSearch_SERPS!C1127,\"\")","v":""},{"$f":"IF(ISTEXT(ShareOfSearch_SERPS!D1127),ShareOfSearch_SERPS!D1127,\"\")","v":""},{"$f":"IF(NOT(ISBLANK(ShareOfSearch_SERPS!A1127)),ShareOfSearch_SERPS!A1127,\"\")","v":""},{"$f":"IF(NOT(ISBLANK(ShareOfSearch_SERPS!G1127)),ShareOfSearch_SERPS!G1127,\"\")","v":""},{"$f":"IF(NOT(ISBLANK(ShareOfSearch_SERPS!K1127)),ShareOfSearch_SERPS!K1127,\"\")","v":""},{"$f":"IFERROR(VLOOKUP(C1127,ShareOfSearch_CTR!$A$1:$B$100,2,FALSE)*VLOOKUP(A1127&B1127,ShareOfSearch_Volume!$C$1:$D$1000,2,FALSE),\"\")","v":""}]
[{"$f":"IF(ISTEXT(ShareOfSearch_SERPS!C1128),ShareOfSearch_SERPS!C1128,\"\")","v":""},{"$f":"IF(ISTEXT(ShareOfSearch_SERPS!D1128),ShareOfSearch_SERPS!D1128,\"\")","v":""},{"$f":"IF(NOT(ISBLANK(ShareOfSearch_SERPS!A1128)),ShareOfSearch_SERPS!A1128,\"\")","v":""},{"$f":"IF(NOT(ISBLANK(ShareOfSearch_SERPS!G1128)),ShareOfSearch_SERPS!G1128,\"\")","v":""},{"$f":"IF(NOT(ISBLANK(ShareOfSearch_SERPS!K1128)),ShareOfSearch_SERPS!K1128,\"\")","v":""},{"$f":"IFERROR(VLOOKUP(C1128,ShareOfSearch_CTR!$A$1:$B$100,2,FALSE)*VLOOKUP(A1128&B1128,ShareOfSearch_Volume!$C$1:$D$1000,2,FALSE),\"\")","v":""}]
[{"$f":"IF(ISTEXT(ShareOfSearch_SERPS!C1129),ShareOfSearch_SERPS!C1129,\"\")","v":""},{"$f":"IF(ISTEXT(ShareOfSearch_SERPS!D1129),ShareOfSearch_SERPS!D1129,\"\")","v":""},{"$f":"IF(NOT(ISBLANK(ShareOfSearch_SERPS!A1129)),ShareOfSearch_SERPS!A1129,\"\")","v":""},{"$f":"IF(NOT(ISBLANK(ShareOfSearch_SERPS!G1129)),ShareOfSearch_SERPS!G1129,\"\")","v":""},{"$f":"IF(NOT(ISBLANK(ShareOfSearch_SERPS!K1129)),ShareOfSearch_SERPS!K1129,\"\")","v":""},{"$f":"IFERROR(VLOOKUP(C1129,ShareOfSearch_CTR!$A$1:$B$100,2,FALSE)*VLOOKUP(A1129&B1129,ShareOfSearch_Volume!$C$1:$D$1000,2,FALSE),\"\")","v":""}]
[{"$f":"IF(ISTEXT(ShareOfSearch_SERPS!C1130),ShareOfSearch_SERPS!C1130,\"\")","v":""},{"$f":"IF(ISTEXT(ShareOfSearch_SERPS!D1130),ShareOfSearch_SERPS!D1130,\"\")","v":""},{"$f":"IF(NOT(ISBLANK(ShareOfSearch_SERPS!A1130)),ShareOfSearch_SERPS!A1130,\"\")","v":""},{"$f":"IF(NOT(ISBLANK(ShareOfSearch_SERPS!G1130)),ShareOfSearch_SERPS!G1130,\"\")","v":""},{"$f":"IF(NOT(ISBLANK(ShareOfSearch_SERPS!K1130)),ShareOfSearch_SERPS!K1130,\"\")","v":""},{"$f":"IFERROR(VLOOKUP(C1130,ShareOfSearch_CTR!$A$1:$B$100,2,FALSE)*VLOOKUP(A1130&B1130,ShareOfSearch_Volume!$C$1:$D$1000,2,FALSE),\"\")","v":""}]
[{"$f":"IF(ISTEXT(ShareOfSearch_SERPS!C1131),ShareOfSearch_SERPS!C1131,\"\")","v":""},{"$f":"IF(ISTEXT(ShareOfSearch_SERPS!D1131),ShareOfSearch_SERPS!D1131,\"\")","v":""},{"$f":"IF(NOT(ISBLANK(ShareOfSearch_SERPS!A1131)),ShareOfSearch_SERPS!A1131,\"\")","v":""},{"$f":"IF(NOT(ISBLANK(ShareOfSearch_SERPS!G1131)),ShareOfSearch_SERPS!G1131,\"\")","v":""},{"$f":"IF(NOT(ISBLANK(ShareOfSearch_SERPS!K1131)),ShareOfSearch_SERPS!K1131,\"\")","v":""},{"$f":"IFERROR(VLOOKUP(C1131,ShareOfSearch_CTR!$A$1:$B$100,2,FALSE)*VLOOKUP(A1131&B1131,ShareOfSearch_Volume!$C$1:$D$1000,2,FALSE),\"\")","v":""}]
[{"$f":"IF(ISTEXT(ShareOfSearch_SERPS!C1132),ShareOfSearch_SERPS!C1132,\"\")","v":""},{"$f":"IF(ISTEXT(ShareOfSearch_SERPS!D1132),ShareOfSearch_SERPS!D1132,\"\")","v":""},{"$f":"IF(NOT(ISBLANK(ShareOfSearch_SERPS!A1132)),ShareOfSearch_SERPS!A1132,\"\")","v":""},{"$f":"IF(NOT(ISBLANK(ShareOfSearch_SERPS!G1132)),ShareOfSearch_SERPS!G1132,\"\")","v":""},{"$f":"IF(NOT(ISBLANK(ShareOfSearch_SERPS!K1132)),ShareOfSearch_SERPS!K1132,\"\")","v":""},{"$f":"IFERROR(VLOOKUP(C1132,ShareOfSearch_CTR!$A$1:$B$100,2,FALSE)*VLOOKUP(A1132&B1132,ShareOfSearch_Volume!$C$1:$D$1000,2,FALSE),\"\")","v":""}]
[{"$f":"IF(ISTEXT(ShareOfSearch_SERPS!C1133),ShareOfSearch_SERPS!C1133,\"\")","v":""},{"$f":"IF(ISTEXT(ShareOfSearch_SERPS!D1133),ShareOfSearch_SERPS!D1133,\"\")","v":""},{"$f":"IF(NOT(ISBLANK(ShareOfSearch_SERPS!A1133)),ShareOfSearch_SERPS!A1133,\"\")","v":""},{"$f":"IF(NOT(ISBLANK(ShareOfSearch_SERPS!G1133)),ShareOfSearch_SERPS!G1133,\"\")","v":""},{"$f":"IF(NOT(ISBLANK(ShareOfSearch_SERPS!K1133)),ShareOfSearch_SERPS!K1133,\"\")","v":""},{"$f":"IFERROR(VLOOKUP(C1133,ShareOfSearch_CTR!$A$1:$B$100,2,FALSE)*VLOOKUP(A1133&B1133,ShareOfSearch_Volume!$C$1:$D$1000,2,FALSE),\"\")","v":""}]
[{"$f":"IF(ISTEXT(ShareOfSearch_SERPS!C1134),ShareOfSearch_SERPS!C1134,\"\")","v":""},{"$f":"IF(ISTEXT(ShareOfSearch_SERPS!D1134),ShareOfSearch_SERPS!D1134,\"\")","v":""},{"$f":"IF(NOT(ISBLANK(ShareOfSearch_SERPS!A1134)),ShareOfSearch_SERPS!A1134,\"\")","v":""},{"$f":"IF(NOT(ISBLANK(ShareOfSearch_SERPS!G1134)),ShareOfSearch_SERPS!G1134,\"\")","v":""},{"$f":"IF(NOT(ISBLANK(ShareOfSearch_SERPS!K1134)),ShareOfSearch_SERPS!K1134,\"\")","v":""},{"$f":"IFERROR(VLOOKUP(C1134,ShareOfSearch_CTR!$A$1:$B$100,2,FALSE)*VLOOKUP(A1134&B1134,ShareOfSearch_Volume!$C$1:$D$1000,2,FALSE),\"\")","v":""}]
[{"$f":"IF(ISTEXT(ShareOfSearch_SERPS!C1135),ShareOfSearch_SERPS!C1135,\"\")","v":""},{"$f":"IF(ISTEXT(ShareOfSearch_SERPS!D1135),ShareOfSearch_SERPS!D1135,\"\")","v":""},{"$f":"IF(NOT(ISBLANK(ShareOfSearch_SERPS!A1135)),ShareOfSearch_SERPS!A1135,\"\")","v":""},{"$f":"IF(NOT(ISBLANK(ShareOfSearch_SERPS!G1135)),ShareOfSearch_SERPS!G1135,\"\")","v":""},{"$f":"IF(NOT(ISBLANK(ShareOfSearch_SERPS!K1135)),ShareOfSearch_SERPS!K1135,\"\")","v":""},{"$f":"IFERROR(VLOOKUP(C1135,ShareOfSearch_CTR!$A$1:$B$100,2,FALSE)*VLOOKUP(A1135&B1135,ShareOfSearch_Volume!$C$1:$D$1000,2,FALSE),\"\")","v":""}]
[{"$f":"IF(ISTEXT(ShareOfSearch_SERPS!C1136),ShareOfSearch_SERPS!C1136,\"\")","v":""},{"$f":"IF(ISTEXT(ShareOfSearch_SERPS!D1136),ShareOfSearch_SERPS!D1136,\"\")","v":""},{"$f":"IF(NOT(ISBLANK(ShareOfSearch_SERPS!A1136)),ShareOfSearch_SERPS!A1136,\"\")","v":""},{"$f":"IF(NOT(ISBLANK(ShareOfSearch_SERPS!G1136)),ShareOfSearch_SERPS!G1136,\"\")","v":""},{"$f":"IF(NOT(ISBLANK(ShareOfSearch_SERPS!K1136)),ShareOfSearch_SERPS!K1136,\"\")","v":""},{"$f":"IFERROR(VLOOKUP(C1136,ShareOfSearch_CTR!$A$1:$B$100,2,FALSE)*VLOOKUP(A1136&B1136,ShareOfSearch_Volume!$C$1:$D$1000,2,FALSE),\"\")","v":""}]
[{"$f":"IF(ISTEXT(ShareOfSearch_SERPS!C1137),ShareOfSearch_SERPS!C1137,\"\")","v":""},{"$f":"IF(ISTEXT(ShareOfSearch_SERPS!D1137),ShareOfSearch_SERPS!D1137,\"\")","v":""},{"$f":"IF(NOT(ISBLANK(ShareOfSearch_SERPS!A1137)),ShareOfSearch_SERPS!A1137,\"\")","v":""},{"$f":"IF(NOT(ISBLANK(ShareOfSearch_SERPS!G1137)),ShareOfSearch_SERPS!G1137,\"\")","v":""},{"$f":"IF(NOT(ISBLANK(ShareOfSearch_SERPS!K1137)),ShareOfSearch_SERPS!K1137,\"\")","v":""},{"$f":"IFERROR(VLOOKUP(C1137,ShareOfSearch_CTR!$A$1:$B$100,2,FALSE)*VLOOKUP(A1137&B1137,ShareOfSearch_Volume!$C$1:$D$1000,2,FALSE),\"\")","v":""}]
[{"$f":"IF(ISTEXT(ShareOfSearch_SERPS!C1138),ShareOfSearch_SERPS!C1138,\"\")","v":""},{"$f":"IF(ISTEXT(ShareOfSearch_SERPS!D1138),ShareOfSearch_SERPS!D1138,\"\")","v":""},{"$f":"IF(NOT(ISBLANK(ShareOfSearch_SERPS!A1138)),ShareOfSearch_SERPS!A1138,\"\")","v":""},{"$f":"IF(NOT(ISBLANK(ShareOfSearch_SERPS!G1138)),ShareOfSearch_SERPS!G1138,\"\")","v":""},{"$f":"IF(NOT(ISBLANK(ShareOfSearch_SERPS!K1138)),ShareOfSearch_SERPS!K1138,\"\")","v":""},{"$f":"IFERROR(VLOOKUP(C1138,ShareOfSearch_CTR!$A$1:$B$100,2,FALSE)*VLOOKUP(A1138&B1138,ShareOfSearch_Volume!$C$1:$D$1000,2,FALSE),\"\")","v":""}]
[{"$f":"IF(ISTEXT(ShareOfSearch_SERPS!C1139),ShareOfSearch_SERPS!C1139,\"\")","v":""},{"$f":"IF(ISTEXT(ShareOfSearch_SERPS!D1139),ShareOfSearch_SERPS!D1139,\"\")","v":""},{"$f":"IF(NOT(ISBLANK(ShareOfSearch_SERPS!A1139)),ShareOfSearch_SERPS!A1139,\"\")","v":""},{"$f":"IF(NOT(ISBLANK(ShareOfSearch_SERPS!G1139)),ShareOfSearch_SERPS!G1139,\"\")","v":""},{"$f":"IF(NOT(ISBLANK(ShareOfSearch_SERPS!K1139)),ShareOfSearch_SERPS!K1139,\"\")","v":""},{"$f":"IFERROR(VLOOKUP(C1139,ShareOfSearch_CTR!$A$1:$B$100,2,FALSE)*VLOOKUP(A1139&B1139,ShareOfSearch_Volume!$C$1:$D$1000,2,FALSE),\"\")","v":""}]
[{"$f":"IF(ISTEXT(ShareOfSearch_SERPS!C1140),ShareOfSearch_SERPS!C1140,\"\")","v":""},{"$f":"IF(ISTEXT(ShareOfSearch_SERPS!D1140),ShareOfSearch_SERPS!D1140,\"\")","v":""},{"$f":"IF(NOT(ISBLANK(ShareOfSearch_SERPS!A1140)),ShareOfSearch_SERPS!A1140,\"\")","v":""},{"$f":"IF(NOT(ISBLANK(ShareOfSearch_SERPS!G1140)),ShareOfSearch_SERPS!G1140,\"\")","v":""},{"$f":"IF(NOT(ISBLANK(ShareOfSearch_SERPS!K1140)),ShareOfSearch_SERPS!K1140,\"\")","v":""},{"$f":"IFERROR(VLOOKUP(C1140,ShareOfSearch_CTR!$A$1:$B$100,2,FALSE)*VLOOKUP(A1140&B1140,ShareOfSearch_Volume!$C$1:$D$1000,2,FALSE),\"\")","v":""}]
[{"$f":"IF(ISTEXT(ShareOfSearch_SERPS!C1141),ShareOfSearch_SERPS!C1141,\"\")","v":""},{"$f":"IF(ISTEXT(ShareOfSearch_SERPS!D1141),ShareOfSearch_SERPS!D1141,\"\")","v":""},{"$f":"IF(NOT(ISBLANK(ShareOfSearch_SERPS!A1141)),ShareOfSearch_SERPS!A1141,\"\")","v":""},{"$f":"IF(NOT(ISBLANK(ShareOfSearch_SERPS!G1141)),ShareOfSearch_SERPS!G1141,\"\")","v":""},{"$f":"IF(NOT(ISBLANK(ShareOfSearch_SERPS!K1141)),ShareOfSearch_SERPS!K1141,\"\")","v":""},{"$f":"IFERROR(VLOOKUP(C1141,ShareOfSearch_CTR!$A$1:$B$100,2,FALSE)*VLOOKUP(A1141&B1141,ShareOfSearch_Volume!$C$1:$D$1000,2,FALSE),\"\")","v":""}]
[{"$f":"IF(ISTEXT(ShareOfSearch_SERPS!C1142),ShareOfSearch_SERPS!C1142,\"\")","v":""},{"$f":"IF(ISTEXT(ShareOfSearch_SERPS!D1142),ShareOfSearch_SERPS!D1142,\"\")","v":""},{"$f":"IF(NOT(ISBLANK(ShareOfSearch_SERPS!A1142)),ShareOfSearch_SERPS!A1142,\"\")","v":""},{"$f":"IF(NOT(ISBLANK(ShareOfSearch_SERPS!G1142)),ShareOfSearch_SERPS!G1142,\"\")","v":""},{"$f":"IF(NOT(ISBLANK(ShareOfSearch_SERPS!K1142)),ShareOfSearch_SERPS!K1142,\"\")","v":""},{"$f":"IFERROR(VLOOKUP(C1142,ShareOfSearch_CTR!$A$1:$B$100,2,FALSE)*VLOOKUP(A1142&B1142,ShareOfSearch_Volume!$C$1:$D$1000,2,FALSE),\"\")","v":""}]
[{"$f":"IF(ISTEXT(ShareOfSearch_SERPS!C1143),ShareOfSearch_SERPS!C1143,\"\")","v":""},{"$f":"IF(ISTEXT(ShareOfSearch_SERPS!D1143),ShareOfSearch_SERPS!D1143,\"\")","v":""},{"$f":"IF(NOT(ISBLANK(ShareOfSearch_SERPS!A1143)),ShareOfSearch_SERPS!A1143,\"\")","v":""},{"$f":"IF(NOT(ISBLANK(ShareOfSearch_SERPS!G1143)),ShareOfSearch_SERPS!G1143,\"\")","v":""},{"$f":"IF(NOT(ISBLANK(ShareOfSearch_SERPS!K1143)),ShareOfSearch_SERPS!K1143,\"\")","v":""},{"$f":"IFERROR(VLOOKUP(C1143,ShareOfSearch_CTR!$A$1:$B$100,2,FALSE)*VLOOKUP(A1143&B1143,ShareOfSearch_Volume!$C$1:$D$1000,2,FALSE),\"\")","v":""}]
[{"$f":"IF(ISTEXT(ShareOfSearch_SERPS!C1144),ShareOfSearch_SERPS!C1144,\"\")","v":""},{"$f":"IF(ISTEXT(ShareOfSearch_SERPS!D1144),ShareOfSearch_SERPS!D1144,\"\")","v":""},{"$f":"IF(NOT(ISBLANK(ShareOfSearch_SERPS!A1144)),ShareOfSearch_SERPS!A1144,\"\")","v":""},{"$f":"IF(NOT(ISBLANK(ShareOfSearch_SERPS!G1144)),ShareOfSearch_SERPS!G1144,\"\")","v":""},{"$f":"IF(NOT(ISBLANK(ShareOfSearch_SERPS!K1144)),ShareOfSearch_SERPS!K1144,\"\")","v":""},{"$f":"IFERROR(VLOOKUP(C1144,ShareOfSearch_CTR!$A$1:$B$100,2,FALSE)*VLOOKUP(A1144&B1144,ShareOfSearch_Volume!$C$1:$D$1000,2,FALSE),\"\")","v":""}]
[{"$f":"IF(ISTEXT(ShareOfSearch_SERPS!C1145),ShareOfSearch_SERPS!C1145,\"\")","v":""},{"$f":"IF(ISTEXT(ShareOfSearch_SERPS!D1145),ShareOfSearch_SERPS!D1145,\"\")","v":""},{"$f":"IF(NOT(ISBLANK(ShareOfSearch_SERPS!A1145)),ShareOfSearch_SERPS!A1145,\"\")","v":""},{"$f":"IF(NOT(ISBLANK(ShareOfSearch_SERPS!G1145)),ShareOfSearch_SERPS!G1145,\"\")","v":""},{"$f":"IF(NOT(ISBLANK(ShareOfSearch_SERPS!K1145)),ShareOfSearch_SERPS!K1145,\"\")","v":""},{"$f":"IFERROR(VLOOKUP(C1145,ShareOfSearch_CTR!$A$1:$B$100,2,FALSE)*VLOOKUP(A1145&B1145,ShareOfSearch_Volume!$C$1:$D$1000,2,FALSE),\"\")","v":""}]
[{"$f":"IF(ISTEXT(ShareOfSearch_SERPS!C1146),ShareOfSearch_SERPS!C1146,\"\")","v":""},{"$f":"IF(ISTEXT(ShareOfSearch_SERPS!D1146),ShareOfSearch_SERPS!D1146,\"\")","v":""},{"$f":"IF(NOT(ISBLANK(ShareOfSearch_SERPS!A1146)),ShareOfSearch_SERPS!A1146,\"\")","v":""},{"$f":"IF(NOT(ISBLANK(ShareOfSearch_SERPS!G1146)),ShareOfSearch_SERPS!G1146,\"\")","v":""},{"$f":"IF(NOT(ISBLANK(ShareOfSearch_SERPS!K1146)),ShareOfSearch_SERPS!K1146,\"\")","v":""},{"$f":"IFERROR(VLOOKUP(C1146,ShareOfSearch_CTR!$A$1:$B$100,2,FALSE)*VLOOKUP(A1146&B1146,ShareOfSearch_Volume!$C$1:$D$1000,2,FALSE),\"\")","v":""}]
[{"$f":"IF(ISTEXT(ShareOfSearch_SERPS!C1147),ShareOfSearch_SERPS!C1147,\"\")","v":""},{"$f":"IF(ISTEXT(ShareOfSearch_SERPS!D1147),ShareOfSearch_SERPS!D1147,\"\")","v":""},{"$f":"IF(NOT(ISBLANK(ShareOfSearch_SERPS!A1147)),ShareOfSearch_SERPS!A1147,\"\")","v":""},{"$f":"IF(NOT(ISBLANK(ShareOfSearch_SERPS!G1147)),ShareOfSearch_SERPS!G1147,\"\")","v":""},{"$f":"IF(NOT(ISBLANK(ShareOfSearch_SERPS!K1147)),ShareOfSearch_SERPS!K1147,\"\")","v":""},{"$f":"IFERROR(VLOOKUP(C1147,ShareOfSearch_CTR!$A$1:$B$100,2,FALSE)*VLOOKUP(A1147&B1147,ShareOfSearch_Volume!$C$1:$D$1000,2,FALSE),\"\")","v":""}]
[{"$f":"IF(ISTEXT(ShareOfSearch_SERPS!C1148),ShareOfSearch_SERPS!C1148,\"\")","v":""},{"$f":"IF(ISTEXT(ShareOfSearch_SERPS!D1148),ShareOfSearch_SERPS!D1148,\"\")","v":""},{"$f":"IF(NOT(ISBLANK(ShareOfSearch_SERPS!A1148)),ShareOfSearch_SERPS!A1148,\"\")","v":""},{"$f":"IF(NOT(ISBLANK(ShareOfSearch_SERPS!G1148)),ShareOfSearch_SERPS!G1148,\"\")","v":""},{"$f":"IF(NOT(ISBLANK(ShareOfSearch_SERPS!K1148)),ShareOfSearch_SERPS!K1148,\"\")","v":""},{"$f":"IFERROR(VLOOKUP(C1148,ShareOfSearch_CTR!$A$1:$B$100,2,FALSE)*VLOOKUP(A1148&B1148,ShareOfSearch_Volume!$C$1:$D$1000,2,FALSE),\"\")","v":""}]
[{"$f":"IF(ISTEXT(ShareOfSearch_SERPS!C1149),ShareOfSearch_SERPS!C1149,\"\")","v":""},{"$f":"IF(ISTEXT(ShareOfSearch_SERPS!D1149),ShareOfSearch_SERPS!D1149,\"\")","v":""},{"$f":"IF(NOT(ISBLANK(ShareOfSearch_SERPS!A1149)),ShareOfSearch_SERPS!A1149,\"\")","v":""},{"$f":"IF(NOT(ISBLANK(ShareOfSearch_SERPS!G1149)),ShareOfSearch_SERPS!G1149,\"\")","v":""},{"$f":"IF(NOT(ISBLANK(ShareOfSearch_SERPS!K1149)),ShareOfSearch_SERPS!K1149,\"\")","v":""},{"$f":"IFERROR(VLOOKUP(C1149,ShareOfSearch_CTR!$A$1:$B$100,2,FALSE)*VLOOKUP(A1149&B1149,ShareOfSearch_Volume!$C$1:$D$1000,2,FALSE),\"\")","v":""}]
[{"$f":"IF(ISTEXT(ShareOfSearch_SERPS!C1150),ShareOfSearch_SERPS!C1150,\"\")","v":""},{"$f":"IF(ISTEXT(ShareOfSearch_SERPS!D1150),ShareOfSearch_SERPS!D1150,\"\")","v":""},{"$f":"IF(NOT(ISBLANK(ShareOfSearch_SERPS!A1150)),ShareOfSearch_SERPS!A1150,\"\")","v":""},{"$f":"IF(NOT(ISBLANK(ShareOfSearch_SERPS!G1150)),ShareOfSearch_SERPS!G1150,\"\")","v":""},{"$f":"IF(NOT(ISBLANK(ShareOfSearch_SERPS!K1150)),ShareOfSearch_SERPS!K1150,\"\")","v":""},{"$f":"IFERROR(VLOOKUP(C1150,ShareOfSearch_CTR!$A$1:$B$100,2,FALSE)*VLOOKUP(A1150&B1150,ShareOfSearch_Volume!$C$1:$D$1000,2,FALSE),\"\")","v":""}]
[{"$f":"IF(ISTEXT(ShareOfSearch_SERPS!C1151),ShareOfSearch_SERPS!C1151,\"\")","v":""},{"$f":"IF(ISTEXT(ShareOfSearch_SERPS!D1151),ShareOfSearch_SERPS!D1151,\"\")","v":""},{"$f":"IF(NOT(ISBLANK(ShareOfSearch_SERPS!A1151)),ShareOfSearch_SERPS!A1151,\"\")","v":""},{"$f":"IF(NOT(ISBLANK(ShareOfSearch_SERPS!G1151)),ShareOfSearch_SERPS!G1151,\"\")","v":""},{"$f":"IF(NOT(ISBLANK(ShareOfSearch_SERPS!K1151)),ShareOfSearch_SERPS!K1151,\"\")","v":""},{"$f":"IFERROR(VLOOKUP(C1151,ShareOfSearch_CTR!$A$1:$B$100,2,FALSE)*VLOOKUP(A1151&B1151,ShareOfSearch_Volume!$C$1:$D$1000,2,FALSE),\"\")","v":""}]
[{"$f":"IF(ISTEXT(ShareOfSearch_SERPS!C1152),ShareOfSearch_SERPS!C1152,\"\")","v":""},{"$f":"IF(ISTEXT(ShareOfSearch_SERPS!D1152),ShareOfSearch_SERPS!D1152,\"\")","v":""},{"$f":"IF(NOT(ISBLANK(ShareOfSearch_SERPS!A1152)),ShareOfSearch_SERPS!A1152,\"\")","v":""},{"$f":"IF(NOT(ISBLANK(ShareOfSearch_SERPS!G1152)),ShareOfSearch_SERPS!G1152,\"\")","v":""},{"$f":"IF(NOT(ISBLANK(ShareOfSearch_SERPS!K1152)),ShareOfSearch_SERPS!K1152,\"\")","v":""},{"$f":"IFERROR(VLOOKUP(C1152,ShareOfSearch_CTR!$A$1:$B$100,2,FALSE)*VLOOKUP(A1152&B1152,ShareOfSearch_Volume!$C$1:$D$1000,2,FALSE),\"\")","v":""}]
[{"$f":"IF(ISTEXT(ShareOfSearch_SERPS!C1153),ShareOfSearch_SERPS!C1153,\"\")","v":""},{"$f":"IF(ISTEXT(ShareOfSearch_SERPS!D1153),ShareOfSearch_SERPS!D1153,\"\")","v":""},{"$f":"IF(NOT(ISBLANK(ShareOfSearch_SERPS!A1153)),ShareOfSearch_SERPS!A1153,\"\")","v":""},{"$f":"IF(NOT(ISBLANK(ShareOfSearch_SERPS!G1153)),ShareOfSearch_SERPS!G1153,\"\")","v":""},{"$f":"IF(NOT(ISBLANK(ShareOfSearch_SERPS!K1153)),ShareOfSearch_SERPS!K1153,\"\")","v":""},{"$f":"IFERROR(VLOOKUP(C1153,ShareOfSearch_CTR!$A$1:$B$100,2,FALSE)*VLOOKUP(A1153&B1153,ShareOfSearch_Volume!$C$1:$D$1000,2,FALSE),\"\")","v":""}]
[{"$f":"IF(ISTEXT(ShareOfSearch_SERPS!C1154),ShareOfSearch_SERPS!C1154,\"\")","v":""},{"$f":"IF(ISTEXT(ShareOfSearch_SERPS!D1154),ShareOfSearch_SERPS!D1154,\"\")","v":""},{"$f":"IF(NOT(ISBLANK(ShareOfSearch_SERPS!A1154)),ShareOfSearch_SERPS!A1154,\"\")","v":""},{"$f":"IF(NOT(ISBLANK(ShareOfSearch_SERPS!G1154)),ShareOfSearch_SERPS!G1154,\"\")","v":""},{"$f":"IF(NOT(ISBLANK(ShareOfSearch_SERPS!K1154)),ShareOfSearch_SERPS!K1154,\"\")","v":""},{"$f":"IFERROR(VLOOKUP(C1154,ShareOfSearch_CTR!$A$1:$B$100,2,FALSE)*VLOOKUP(A1154&B1154,ShareOfSearch_Volume!$C$1:$D$1000,2,FALSE),\"\")","v":""}]
[{"$f":"IF(ISTEXT(ShareOfSearch_SERPS!C1155),ShareOfSearch_SERPS!C1155,\"\")","v":""},{"$f":"IF(ISTEXT(ShareOfSearch_SERPS!D1155),ShareOfSearch_SERPS!D1155,\"\")","v":""},{"$f":"IF(NOT(ISBLANK(ShareOfSearch_SERPS!A1155)),ShareOfSearch_SERPS!A1155,\"\")","v":""},{"$f":"IF(NOT(ISBLANK(ShareOfSearch_SERPS!G1155)),ShareOfSearch_SERPS!G1155,\"\")","v":""},{"$f":"IF(NOT(ISBLANK(ShareOfSearch_SERPS!K1155)),ShareOfSearch_SERPS!K1155,\"\")","v":""},{"$f":"IFERROR(VLOOKUP(C1155,ShareOfSearch_CTR!$A$1:$B$100,2,FALSE)*VLOOKUP(A1155&B1155,ShareOfSearch_Volume!$C$1:$D$1000,2,FALSE),\"\")","v":""}]
[{"$f":"IF(ISTEXT(ShareOfSearch_SERPS!C1156),ShareOfSearch_SERPS!C1156,\"\")","v":""},{"$f":"IF(ISTEXT(ShareOfSearch_SERPS!D1156),ShareOfSearch_SERPS!D1156,\"\")","v":""},{"$f":"IF(NOT(ISBLANK(ShareOfSearch_SERPS!A1156)),ShareOfSearch_SERPS!A1156,\"\")","v":""},{"$f":"IF(NOT(ISBLANK(ShareOfSearch_SERPS!G1156)),ShareOfSearch_SERPS!G1156,\"\")","v":""},{"$f":"IF(NOT(ISBLANK(ShareOfSearch_SERPS!K1156)),ShareOfSearch_SERPS!K1156,\"\")","v":""},{"$f":"IFERROR(VLOOKUP(C1156,ShareOfSearch_CTR!$A$1:$B$100,2,FALSE)*VLOOKUP(A1156&B1156,ShareOfSearch_Volume!$C$1:$D$1000,2,FALSE),\"\")","v":""}]
[{"$f":"IF(ISTEXT(ShareOfSearch_SERPS!C1157),ShareOfSearch_SERPS!C1157,\"\")","v":""},{"$f":"IF(ISTEXT(ShareOfSearch_SERPS!D1157),ShareOfSearch_SERPS!D1157,\"\")","v":""},{"$f":"IF(NOT(ISBLANK(ShareOfSearch_SERPS!A1157)),ShareOfSearch_SERPS!A1157,\"\")","v":""},{"$f":"IF(NOT(ISBLANK(ShareOfSearch_SERPS!G1157)),ShareOfSearch_SERPS!G1157,\"\")","v":""},{"$f":"IF(NOT(ISBLANK(ShareOfSearch_SERPS!K1157)),ShareOfSearch_SERPS!K1157,\"\")","v":""},{"$f":"IFERROR(VLOOKUP(C1157,ShareOfSearch_CTR!$A$1:$B$100,2,FALSE)*VLOOKUP(A1157&B1157,ShareOfSearch_Volume!$C$1:$D$1000,2,FALSE),\"\")","v":""}]
[{"$f":"IF(ISTEXT(ShareOfSearch_SERPS!C1158),ShareOfSearch_SERPS!C1158,\"\")","v":""},{"$f":"IF(ISTEXT(ShareOfSearch_SERPS!D1158),ShareOfSearch_SERPS!D1158,\"\")","v":""},{"$f":"IF(NOT(ISBLANK(ShareOfSearch_SERPS!A1158)),ShareOfSearch_SERPS!A1158,\"\")","v":""},{"$f":"IF(NOT(ISBLANK(ShareOfSearch_SERPS!G1158)),ShareOfSearch_SERPS!G1158,\"\")","v":""},{"$f":"IF(NOT(ISBLANK(ShareOfSearch_SERPS!K1158)),ShareOfSearch_SERPS!K1158,\"\")","v":""},{"$f":"IFERROR(VLOOKUP(C1158,ShareOfSearch_CTR!$A$1:$B$100,2,FALSE)*VLOOKUP(A1158&B1158,ShareOfSearch_Volume!$C$1:$D$1000,2,FALSE),\"\")","v":""}]
[{"$f":"IF(ISTEXT(ShareOfSearch_SERPS!C1159),ShareOfSearch_SERPS!C1159,\"\")","v":""},{"$f":"IF(ISTEXT(ShareOfSearch_SERPS!D1159),ShareOfSearch_SERPS!D1159,\"\")","v":""},{"$f":"IF(NOT(ISBLANK(ShareOfSearch_SERPS!A1159)),ShareOfSearch_SERPS!A1159,\"\")","v":""},{"$f":"IF(NOT(ISBLANK(ShareOfSearch_SERPS!G1159)),ShareOfSearch_SERPS!G1159,\"\")","v":""},{"$f":"IF(NOT(ISBLANK(ShareOfSearch_SERPS!K1159)),ShareOfSearch_SERPS!K1159,\"\")","v":""},{"$f":"IFERROR(VLOOKUP(C1159,ShareOfSearch_CTR!$A$1:$B$100,2,FALSE)*VLOOKUP(A1159&B1159,ShareOfSearch_Volume!$C$1:$D$1000,2,FALSE),\"\")","v":""}]
[{"$f":"IF(ISTEXT(ShareOfSearch_SERPS!C1160),ShareOfSearch_SERPS!C1160,\"\")","v":""},{"$f":"IF(ISTEXT(ShareOfSearch_SERPS!D1160),ShareOfSearch_SERPS!D1160,\"\")","v":""},{"$f":"IF(NOT(ISBLANK(ShareOfSearch_SERPS!A1160)),ShareOfSearch_SERPS!A1160,\"\")","v":""},{"$f":"IF(NOT(ISBLANK(ShareOfSearch_SERPS!G1160)),ShareOfSearch_SERPS!G1160,\"\")","v":""},{"$f":"IF(NOT(ISBLANK(ShareOfSearch_SERPS!K1160)),ShareOfSearch_SERPS!K1160,\"\")","v":""},{"$f":"IFERROR(VLOOKUP(C1160,ShareOfSearch_CTR!$A$1:$B$100,2,FALSE)*VLOOKUP(A1160&B1160,ShareOfSearch_Volume!$C$1:$D$1000,2,FALSE),\"\")","v":""}]
[{"$f":"IF(ISTEXT(ShareOfSearch_SERPS!C1161),ShareOfSearch_SERPS!C1161,\"\")","v":""},{"$f":"IF(ISTEXT(ShareOfSearch_SERPS!D1161),ShareOfSearch_SERPS!D1161,\"\")","v":""},{"$f":"IF(NOT(ISBLANK(ShareOfSearch_SERPS!A1161)),ShareOfSearch_SERPS!A1161,\"\")","v":""},{"$f":"IF(NOT(ISBLANK(ShareOfSearch_SERPS!G1161)),ShareOfSearch_SERPS!G1161,\"\")","v":""},{"$f":"IF(NOT(ISBLANK(ShareOfSearch_SERPS!K1161)),ShareOfSearch_SERPS!K1161,\"\")","v":""},{"$f":"IFERROR(VLOOKUP(C1161,ShareOfSearch_CTR!$A$1:$B$100,2,FALSE)*VLOOKUP(A1161&B1161,ShareOfSearch_Volume!$C$1:$D$1000,2,FALSE),\"\")","v":""}]
[{"$f":"IF(ISTEXT(ShareOfSearch_SERPS!C1162),ShareOfSearch_SERPS!C1162,\"\")","v":""},{"$f":"IF(ISTEXT(ShareOfSearch_SERPS!D1162),ShareOfSearch_SERPS!D1162,\"\")","v":""},{"$f":"IF(NOT(ISBLANK(ShareOfSearch_SERPS!A1162)),ShareOfSearch_SERPS!A1162,\"\")","v":""},{"$f":"IF(NOT(ISBLANK(ShareOfSearch_SERPS!G1162)),ShareOfSearch_SERPS!G1162,\"\")","v":""},{"$f":"IF(NOT(ISBLANK(ShareOfSearch_SERPS!K1162)),ShareOfSearch_SERPS!K1162,\"\")","v":""},{"$f":"IFERROR(VLOOKUP(C1162,ShareOfSearch_CTR!$A$1:$B$100,2,FALSE)*VLOOKUP(A1162&B1162,ShareOfSearch_Volume!$C$1:$D$1000,2,FALSE),\"\")","v":""}]
[{"$f":"IF(ISTEXT(ShareOfSearch_SERPS!C1163),ShareOfSearch_SERPS!C1163,\"\")","v":""},{"$f":"IF(ISTEXT(ShareOfSearch_SERPS!D1163),ShareOfSearch_SERPS!D1163,\"\")","v":""},{"$f":"IF(NOT(ISBLANK(ShareOfSearch_SERPS!A1163)),ShareOfSearch_SERPS!A1163,\"\")","v":""},{"$f":"IF(NOT(ISBLANK(ShareOfSearch_SERPS!G1163)),ShareOfSearch_SERPS!G1163,\"\")","v":""},{"$f":"IF(NOT(ISBLANK(ShareOfSearch_SERPS!K1163)),ShareOfSearch_SERPS!K1163,\"\")","v":""},{"$f":"IFERROR(VLOOKUP(C1163,ShareOfSearch_CTR!$A$1:$B$100,2,FALSE)*VLOOKUP(A1163&B1163,ShareOfSearch_Volume!$C$1:$D$1000,2,FALSE),\"\")","v":""}]
[{"$f":"IF(ISTEXT(ShareOfSearch_SERPS!C1164),ShareOfSearch_SERPS!C1164,\"\")","v":""},{"$f":"IF(ISTEXT(ShareOfSearch_SERPS!D1164),ShareOfSearch_SERPS!D1164,\"\")","v":""},{"$f":"IF(NOT(ISBLANK(ShareOfSearch_SERPS!A1164)),ShareOfSearch_SERPS!A1164,\"\")","v":""},{"$f":"IF(NOT(ISBLANK(ShareOfSearch_SERPS!G1164)),ShareOfSearch_SERPS!G1164,\"\")","v":""},{"$f":"IF(NOT(ISBLANK(ShareOfSearch_SERPS!K1164)),ShareOfSearch_SERPS!K1164,\"\")","v":""},{"$f":"IFERROR(VLOOKUP(C1164,ShareOfSearch_CTR!$A$1:$B$100,2,FALSE)*VLOOKUP(A1164&B1164,ShareOfSearch_Volume!$C$1:$D$1000,2,FALSE),\"\")","v":""}]
[{"$f":"IF(ISTEXT(ShareOfSearch_SERPS!C1165),ShareOfSearch_SERPS!C1165,\"\")","v":""},{"$f":"IF(ISTEXT(ShareOfSearch_SERPS!D1165),ShareOfSearch_SERPS!D1165,\"\")","v":""},{"$f":"IF(NOT(ISBLANK(ShareOfSearch_SERPS!A1165)),ShareOfSearch_SERPS!A1165,\"\")","v":""},{"$f":"IF(NOT(ISBLANK(ShareOfSearch_SERPS!G1165)),ShareOfSearch_SERPS!G1165,\"\")","v":""},{"$f":"IF(NOT(ISBLANK(ShareOfSearch_SERPS!K1165)),ShareOfSearch_SERPS!K1165,\"\")","v":""},{"$f":"IFERROR(VLOOKUP(C1165,ShareOfSearch_CTR!$A$1:$B$100,2,FALSE)*VLOOKUP(A1165&B1165,ShareOfSearch_Volume!$C$1:$D$1000,2,FALSE),\"\")","v":""}]
[{"$f":"IF(ISTEXT(ShareOfSearch_SERPS!C1166),ShareOfSearch_SERPS!C1166,\"\")","v":""},{"$f":"IF(ISTEXT(ShareOfSearch_SERPS!D1166),ShareOfSearch_SERPS!D1166,\"\")","v":""},{"$f":"IF(NOT(ISBLANK(ShareOfSearch_SERPS!A1166)),ShareOfSearch_SERPS!A1166,\"\")","v":""},{"$f":"IF(NOT(ISBLANK(ShareOfSearch_SERPS!G1166)),ShareOfSearch_SERPS!G1166,\"\")","v":""},{"$f":"IF(NOT(ISBLANK(ShareOfSearch_SERPS!K1166)),ShareOfSearch_SERPS!K1166,\"\")","v":""},{"$f":"IFERROR(VLOOKUP(C1166,ShareOfSearch_CTR!$A$1:$B$100,2,FALSE)*VLOOKUP(A1166&B1166,ShareOfSearch_Volume!$C$1:$D$1000,2,FALSE),\"\")","v":""}]
[{"$f":"IF(ISTEXT(ShareOfSearch_SERPS!C1167),ShareOfSearch_SERPS!C1167,\"\")","v":""},{"$f":"IF(ISTEXT(ShareOfSearch_SERPS!D1167),ShareOfSearch_SERPS!D1167,\"\")","v":""},{"$f":"IF(NOT(ISBLANK(ShareOfSearch_SERPS!A1167)),ShareOfSearch_SERPS!A1167,\"\")","v":""},{"$f":"IF(NOT(ISBLANK(ShareOfSearch_SERPS!G1167)),ShareOfSearch_SERPS!G1167,\"\")","v":""},{"$f":"IF(NOT(ISBLANK(ShareOfSearch_SERPS!K1167)),ShareOfSearch_SERPS!K1167,\"\")","v":""},{"$f":"IFERROR(VLOOKUP(C1167,ShareOfSearch_CTR!$A$1:$B$100,2,FALSE)*VLOOKUP(A1167&B1167,ShareOfSearch_Volume!$C$1:$D$1000,2,FALSE),\"\")","v":""}]
[{"$f":"IF(ISTEXT(ShareOfSearch_SERPS!C1168),ShareOfSearch_SERPS!C1168,\"\")","v":""},{"$f":"IF(ISTEXT(ShareOfSearch_SERPS!D1168),ShareOfSearch_SERPS!D1168,\"\")","v":""},{"$f":"IF(NOT(ISBLANK(ShareOfSearch_SERPS!A1168)),ShareOfSearch_SERPS!A1168,\"\")","v":""},{"$f":"IF(NOT(ISBLANK(ShareOfSearch_SERPS!G1168)),ShareOfSearch_SERPS!G1168,\"\")","v":""},{"$f":"IF(NOT(ISBLANK(ShareOfSearch_SERPS!K1168)),ShareOfSearch_SERPS!K1168,\"\")","v":""},{"$f":"IFERROR(VLOOKUP(C1168,ShareOfSearch_CTR!$A$1:$B$100,2,FALSE)*VLOOKUP(A1168&B1168,ShareOfSearch_Volume!$C$1:$D$1000,2,FALSE),\"\")","v":""}]
[{"$f":"IF(ISTEXT(ShareOfSearch_SERPS!C1169),ShareOfSearch_SERPS!C1169,\"\")","v":""},{"$f":"IF(ISTEXT(ShareOfSearch_SERPS!D1169),ShareOfSearch_SERPS!D1169,\"\")","v":""},{"$f":"IF(NOT(ISBLANK(ShareOfSearch_SERPS!A1169)),ShareOfSearch_SERPS!A1169,\"\")","v":""},{"$f":"IF(NOT(ISBLANK(ShareOfSearch_SERPS!G1169)),ShareOfSearch_SERPS!G1169,\"\")","v":""},{"$f":"IF(NOT(ISBLANK(ShareOfSearch_SERPS!K1169)),ShareOfSearch_SERPS!K1169,\"\")","v":""},{"$f":"IFERROR(VLOOKUP(C1169,ShareOfSearch_CTR!$A$1:$B$100,2,FALSE)*VLOOKUP(A1169&B1169,ShareOfSearch_Volume!$C$1:$D$1000,2,FALSE),\"\")","v":""}]
[{"$f":"IF(ISTEXT(ShareOfSearch_SERPS!C1170),ShareOfSearch_SERPS!C1170,\"\")","v":""},{"$f":"IF(ISTEXT(ShareOfSearch_SERPS!D1170),ShareOfSearch_SERPS!D1170,\"\")","v":""},{"$f":"IF(NOT(ISBLANK(ShareOfSearch_SERPS!A1170)),ShareOfSearch_SERPS!A1170,\"\")","v":""},{"$f":"IF(NOT(ISBLANK(ShareOfSearch_SERPS!G1170)),ShareOfSearch_SERPS!G1170,\"\")","v":""},{"$f":"IF(NOT(ISBLANK(ShareOfSearch_SERPS!K1170)),ShareOfSearch_SERPS!K1170,\"\")","v":""},{"$f":"IFERROR(VLOOKUP(C1170,ShareOfSearch_CTR!$A$1:$B$100,2,FALSE)*VLOOKUP(A1170&B1170,ShareOfSearch_Volume!$C$1:$D$1000,2,FALSE),\"\")","v":""}]
[{"$f":"IF(ISTEXT(ShareOfSearch_SERPS!C1171),ShareOfSearch_SERPS!C1171,\"\")","v":""},{"$f":"IF(ISTEXT(ShareOfSearch_SERPS!D1171),ShareOfSearch_SERPS!D1171,\"\")","v":""},{"$f":"IF(NOT(ISBLANK(ShareOfSearch_SERPS!A1171)),ShareOfSearch_SERPS!A1171,\"\")","v":""},{"$f":"IF(NOT(ISBLANK(ShareOfSearch_SERPS!G1171)),ShareOfSearch_SERPS!G1171,\"\")","v":""},{"$f":"IF(NOT(ISBLANK(ShareOfSearch_SERPS!K1171)),ShareOfSearch_SERPS!K1171,\"\")","v":""},{"$f":"IFERROR(VLOOKUP(C1171,ShareOfSearch_CTR!$A$1:$B$100,2,FALSE)*VLOOKUP(A1171&B1171,ShareOfSearch_Volume!$C$1:$D$1000,2,FALSE),\"\")","v":""}]
[{"$f":"IF(ISTEXT(ShareOfSearch_SERPS!C1172),ShareOfSearch_SERPS!C1172,\"\")","v":""},{"$f":"IF(ISTEXT(ShareOfSearch_SERPS!D1172),ShareOfSearch_SERPS!D1172,\"\")","v":""},{"$f":"IF(NOT(ISBLANK(ShareOfSearch_SERPS!A1172)),ShareOfSearch_SERPS!A1172,\"\")","v":""},{"$f":"IF(NOT(ISBLANK(ShareOfSearch_SERPS!G1172)),ShareOfSearch_SERPS!G1172,\"\")","v":""},{"$f":"IF(NOT(ISBLANK(ShareOfSearch_SERPS!K1172)),ShareOfSearch_SERPS!K1172,\"\")","v":""},{"$f":"IFERROR(VLOOKUP(C1172,ShareOfSearch_CTR!$A$1:$B$100,2,FALSE)*VLOOKUP(A1172&B1172,ShareOfSearch_Volume!$C$1:$D$1000,2,FALSE),\"\")","v":""}]
[{"$f":"IF(ISTEXT(ShareOfSearch_SERPS!C1173),ShareOfSearch_SERPS!C1173,\"\")","v":""},{"$f":"IF(ISTEXT(ShareOfSearch_SERPS!D1173),ShareOfSearch_SERPS!D1173,\"\")","v":""},{"$f":"IF(NOT(ISBLANK(ShareOfSearch_SERPS!A1173)),ShareOfSearch_SERPS!A1173,\"\")","v":""},{"$f":"IF(NOT(ISBLANK(ShareOfSearch_SERPS!G1173)),ShareOfSearch_SERPS!G1173,\"\")","v":""},{"$f":"IF(NOT(ISBLANK(ShareOfSearch_SERPS!K1173)),ShareOfSearch_SERPS!K1173,\"\")","v":""},{"$f":"IFERROR(VLOOKUP(C1173,ShareOfSearch_CTR!$A$1:$B$100,2,FALSE)*VLOOKUP(A1173&B1173,ShareOfSearch_Volume!$C$1:$D$1000,2,FALSE),\"\")","v":""}]
[{"$f":"IF(ISTEXT(ShareOfSearch_SERPS!C1174),ShareOfSearch_SERPS!C1174,\"\")","v":""},{"$f":"IF(ISTEXT(ShareOfSearch_SERPS!D1174),ShareOfSearch_SERPS!D1174,\"\")","v":""},{"$f":"IF(NOT(ISBLANK(ShareOfSearch_SERPS!A1174)),ShareOfSearch_SERPS!A1174,\"\")","v":""},{"$f":"IF(NOT(ISBLANK(ShareOfSearch_SERPS!G1174)),ShareOfSearch_SERPS!G1174,\"\")","v":""},{"$f":"IF(NOT(ISBLANK(ShareOfSearch_SERPS!K1174)),ShareOfSearch_SERPS!K1174,\"\")","v":""},{"$f":"IFERROR(VLOOKUP(C1174,ShareOfSearch_CTR!$A$1:$B$100,2,FALSE)*VLOOKUP(A1174&B1174,ShareOfSearch_Volume!$C$1:$D$1000,2,FALSE),\"\")","v":""}]
[{"$f":"IF(ISTEXT(ShareOfSearch_SERPS!C1175),ShareOfSearch_SERPS!C1175,\"\")","v":""},{"$f":"IF(ISTEXT(ShareOfSearch_SERPS!D1175),ShareOfSearch_SERPS!D1175,\"\")","v":""},{"$f":"IF(NOT(ISBLANK(ShareOfSearch_SERPS!A1175)),ShareOfSearch_SERPS!A1175,\"\")","v":""},{"$f":"IF(NOT(ISBLANK(ShareOfSearch_SERPS!G1175)),ShareOfSearch_SERPS!G1175,\"\")","v":""},{"$f":"IF(NOT(ISBLANK(ShareOfSearch_SERPS!K1175)),ShareOfSearch_SERPS!K1175,\"\")","v":""},{"$f":"IFERROR(VLOOKUP(C1175,ShareOfSearch_CTR!$A$1:$B$100,2,FALSE)*VLOOKUP(A1175&B1175,ShareOfSearch_Volume!$C$1:$D$1000,2,FALSE),\"\")","v":""}]
[{"$f":"IF(ISTEXT(ShareOfSearch_SERPS!C1176),ShareOfSearch_SERPS!C1176,\"\")","v":""},{"$f":"IF(ISTEXT(ShareOfSearch_SERPS!D1176),ShareOfSearch_SERPS!D1176,\"\")","v":""},{"$f":"IF(NOT(ISBLANK(ShareOfSearch_SERPS!A1176)),ShareOfSearch_SERPS!A1176,\"\")","v":""},{"$f":"IF(NOT(ISBLANK(ShareOfSearch_SERPS!G1176)),ShareOfSearch_SERPS!G1176,\"\")","v":""},{"$f":"IF(NOT(ISBLANK(ShareOfSearch_SERPS!K1176)),ShareOfSearch_SERPS!K1176,\"\")","v":""},{"$f":"IFERROR(VLOOKUP(C1176,ShareOfSearch_CTR!$A$1:$B$100,2,FALSE)*VLOOKUP(A1176&B1176,ShareOfSearch_Volume!$C$1:$D$1000,2,FALSE),\"\")","v":""}]
[{"$f":"IF(ISTEXT(ShareOfSearch_SERPS!C1177),ShareOfSearch_SERPS!C1177,\"\")","v":""},{"$f":"IF(ISTEXT(ShareOfSearch_SERPS!D1177),ShareOfSearch_SERPS!D1177,\"\")","v":""},{"$f":"IF(NOT(ISBLANK(ShareOfSearch_SERPS!A1177)),ShareOfSearch_SERPS!A1177,\"\")","v":""},{"$f":"IF(NOT(ISBLANK(ShareOfSearch_SERPS!G1177)),ShareOfSearch_SERPS!G1177,\"\")","v":""},{"$f":"IF(NOT(ISBLANK(ShareOfSearch_SERPS!K1177)),ShareOfSearch_SERPS!K1177,\"\")","v":""},{"$f":"IFERROR(VLOOKUP(C1177,ShareOfSearch_CTR!$A$1:$B$100,2,FALSE)*VLOOKUP(A1177&B1177,ShareOfSearch_Volume!$C$1:$D$1000,2,FALSE),\"\")","v":""}]
[{"$f":"IF(ISTEXT(ShareOfSearch_SERPS!C1178),ShareOfSearch_SERPS!C1178,\"\")","v":""},{"$f":"IF(ISTEXT(ShareOfSearch_SERPS!D1178),ShareOfSearch_SERPS!D1178,\"\")","v":""},{"$f":"IF(NOT(ISBLANK(ShareOfSearch_SERPS!A1178)),ShareOfSearch_SERPS!A1178,\"\")","v":""},{"$f":"IF(NOT(ISBLANK(ShareOfSearch_SERPS!G1178)),ShareOfSearch_SERPS!G1178,\"\")","v":""},{"$f":"IF(NOT(ISBLANK(ShareOfSearch_SERPS!K1178)),ShareOfSearch_SERPS!K1178,\"\")","v":""},{"$f":"IFERROR(VLOOKUP(C1178,ShareOfSearch_CTR!$A$1:$B$100,2,FALSE)*VLOOKUP(A1178&B1178,ShareOfSearch_Volume!$C$1:$D$1000,2,FALSE),\"\")","v":""}]
[{"$f":"IF(ISTEXT(ShareOfSearch_SERPS!C1179),ShareOfSearch_SERPS!C1179,\"\")","v":""},{"$f":"IF(ISTEXT(ShareOfSearch_SERPS!D1179),ShareOfSearch_SERPS!D1179,\"\")","v":""},{"$f":"IF(NOT(ISBLANK(ShareOfSearch_SERPS!A1179)),ShareOfSearch_SERPS!A1179,\"\")","v":""},{"$f":"IF(NOT(ISBLANK(ShareOfSearch_SERPS!G1179)),ShareOfSearch_SERPS!G1179,\"\")","v":""},{"$f":"IF(NOT(ISBLANK(ShareOfSearch_SERPS!K1179)),ShareOfSearch_SERPS!K1179,\"\")","v":""},{"$f":"IFERROR(VLOOKUP(C1179,ShareOfSearch_CTR!$A$1:$B$100,2,FALSE)*VLOOKUP(A1179&B1179,ShareOfSearch_Volume!$C$1:$D$1000,2,FALSE),\"\")","v":""}]
[{"$f":"IF(ISTEXT(ShareOfSearch_SERPS!C1180),ShareOfSearch_SERPS!C1180,\"\")","v":""},{"$f":"IF(ISTEXT(ShareOfSearch_SERPS!D1180),ShareOfSearch_SERPS!D1180,\"\")","v":""},{"$f":"IF(NOT(ISBLANK(ShareOfSearch_SERPS!A1180)),ShareOfSearch_SERPS!A1180,\"\")","v":""},{"$f":"IF(NOT(ISBLANK(ShareOfSearch_SERPS!G1180)),ShareOfSearch_SERPS!G1180,\"\")","v":""},{"$f":"IF(NOT(ISBLANK(ShareOfSearch_SERPS!K1180)),ShareOfSearch_SERPS!K1180,\"\")","v":""},{"$f":"IFERROR(VLOOKUP(C1180,ShareOfSearch_CTR!$A$1:$B$100,2,FALSE)*VLOOKUP(A1180&B1180,ShareOfSearch_Volume!$C$1:$D$1000,2,FALSE),\"\")","v":""}]
[{"$f":"IF(ISTEXT(ShareOfSearch_SERPS!C1181),ShareOfSearch_SERPS!C1181,\"\")","v":""},{"$f":"IF(ISTEXT(ShareOfSearch_SERPS!D1181),ShareOfSearch_SERPS!D1181,\"\")","v":""},{"$f":"IF(NOT(ISBLANK(ShareOfSearch_SERPS!A1181)),ShareOfSearch_SERPS!A1181,\"\")","v":""},{"$f":"IF(NOT(ISBLANK(ShareOfSearch_SERPS!G1181)),ShareOfSearch_SERPS!G1181,\"\")","v":""},{"$f":"IF(NOT(ISBLANK(ShareOfSearch_SERPS!K1181)),ShareOfSearch_SERPS!K1181,\"\")","v":""},{"$f":"IFERROR(VLOOKUP(C1181,ShareOfSearch_CTR!$A$1:$B$100,2,FALSE)*VLOOKUP(A1181&B1181,ShareOfSearch_Volume!$C$1:$D$1000,2,FALSE),\"\")","v":""}]
[{"$f":"IF(ISTEXT(ShareOfSearch_SERPS!C1182),ShareOfSearch_SERPS!C1182,\"\")","v":""},{"$f":"IF(ISTEXT(ShareOfSearch_SERPS!D1182),ShareOfSearch_SERPS!D1182,\"\")","v":""},{"$f":"IF(NOT(ISBLANK(ShareOfSearch_SERPS!A1182)),ShareOfSearch_SERPS!A1182,\"\")","v":""},{"$f":"IF(NOT(ISBLANK(ShareOfSearch_SERPS!G1182)),ShareOfSearch_SERPS!G1182,\"\")","v":""},{"$f":"IF(NOT(ISBLANK(ShareOfSearch_SERPS!K1182)),ShareOfSearch_SERPS!K1182,\"\")","v":""},{"$f":"IFERROR(VLOOKUP(C1182,ShareOfSearch_CTR!$A$1:$B$100,2,FALSE)*VLOOKUP(A1182&B1182,ShareOfSearch_Volume!$C$1:$D$1000,2,FALSE),\"\")","v":""}]
[{"$f":"IF(ISTEXT(ShareOfSearch_SERPS!C1183),ShareOfSearch_SERPS!C1183,\"\")","v":""},{"$f":"IF(ISTEXT(ShareOfSearch_SERPS!D1183),ShareOfSearch_SERPS!D1183,\"\")","v":""},{"$f":"IF(NOT(ISBLANK(ShareOfSearch_SERPS!A1183)),ShareOfSearch_SERPS!A1183,\"\")","v":""},{"$f":"IF(NOT(ISBLANK(ShareOfSearch_SERPS!G1183)),ShareOfSearch_SERPS!G1183,\"\")","v":""},{"$f":"IF(NOT(ISBLANK(ShareOfSearch_SERPS!K1183)),ShareOfSearch_SERPS!K1183,\"\")","v":""},{"$f":"IFERROR(VLOOKUP(C1183,ShareOfSearch_CTR!$A$1:$B$100,2,FALSE)*VLOOKUP(A1183&B1183,ShareOfSearch_Volume!$C$1:$D$1000,2,FALSE),\"\")","v":""}]
[{"$f":"IF(ISTEXT(ShareOfSearch_SERPS!C1184),ShareOfSearch_SERPS!C1184,\"\")","v":""},{"$f":"IF(ISTEXT(ShareOfSearch_SERPS!D1184),ShareOfSearch_SERPS!D1184,\"\")","v":""},{"$f":"IF(NOT(ISBLANK(ShareOfSearch_SERPS!A1184)),ShareOfSearch_SERPS!A1184,\"\")","v":""},{"$f":"IF(NOT(ISBLANK(ShareOfSearch_SERPS!G1184)),ShareOfSearch_SERPS!G1184,\"\")","v":""},{"$f":"IF(NOT(ISBLANK(ShareOfSearch_SERPS!K1184)),ShareOfSearch_SERPS!K1184,\"\")","v":""},{"$f":"IFERROR(VLOOKUP(C1184,ShareOfSearch_CTR!$A$1:$B$100,2,FALSE)*VLOOKUP(A1184&B1184,ShareOfSearch_Volume!$C$1:$D$1000,2,FALSE),\"\")","v":""}]
[{"$f":"IF(ISTEXT(ShareOfSearch_SERPS!C1185),ShareOfSearch_SERPS!C1185,\"\")","v":""},{"$f":"IF(ISTEXT(ShareOfSearch_SERPS!D1185),ShareOfSearch_SERPS!D1185,\"\")","v":""},{"$f":"IF(NOT(ISBLANK(ShareOfSearch_SERPS!A1185)),ShareOfSearch_SERPS!A1185,\"\")","v":""},{"$f":"IF(NOT(ISBLANK(ShareOfSearch_SERPS!G1185)),ShareOfSearch_SERPS!G1185,\"\")","v":""},{"$f":"IF(NOT(ISBLANK(ShareOfSearch_SERPS!K1185)),ShareOfSearch_SERPS!K1185,\"\")","v":""},{"$f":"IFERROR(VLOOKUP(C1185,ShareOfSearch_CTR!$A$1:$B$100,2,FALSE)*VLOOKUP(A1185&B1185,ShareOfSearch_Volume!$C$1:$D$1000,2,FALSE),\"\")","v":""}]
[{"$f":"IF(ISTEXT(ShareOfSearch_SERPS!C1186),ShareOfSearch_SERPS!C1186,\"\")","v":""},{"$f":"IF(ISTEXT(ShareOfSearch_SERPS!D1186),ShareOfSearch_SERPS!D1186,\"\")","v":""},{"$f":"IF(NOT(ISBLANK(ShareOfSearch_SERPS!A1186)),ShareOfSearch_SERPS!A1186,\"\")","v":""},{"$f":"IF(NOT(ISBLANK(ShareOfSearch_SERPS!G1186)),ShareOfSearch_SERPS!G1186,\"\")","v":""},{"$f":"IF(NOT(ISBLANK(ShareOfSearch_SERPS!K1186)),ShareOfSearch_SERPS!K1186,\"\")","v":""},{"$f":"IFERROR(VLOOKUP(C1186,ShareOfSearch_CTR!$A$1:$B$100,2,FALSE)*VLOOKUP(A1186&B1186,ShareOfSearch_Volume!$C$1:$D$1000,2,FALSE),\"\")","v":""}]
[{"$f":"IF(ISTEXT(ShareOfSearch_SERPS!C1187),ShareOfSearch_SERPS!C1187,\"\")","v":""},{"$f":"IF(ISTEXT(ShareOfSearch_SERPS!D1187),ShareOfSearch_SERPS!D1187,\"\")","v":""},{"$f":"IF(NOT(ISBLANK(ShareOfSearch_SERPS!A1187)),ShareOfSearch_SERPS!A1187,\"\")","v":""},{"$f":"IF(NOT(ISBLANK(ShareOfSearch_SERPS!G1187)),ShareOfSearch_SERPS!G1187,\"\")","v":""},{"$f":"IF(NOT(ISBLANK(ShareOfSearch_SERPS!K1187)),ShareOfSearch_SERPS!K1187,\"\")","v":""},{"$f":"IFERROR(VLOOKUP(C1187,ShareOfSearch_CTR!$A$1:$B$100,2,FALSE)*VLOOKUP(A1187&B1187,ShareOfSearch_Volume!$C$1:$D$1000,2,FALSE),\"\")","v":""}]
[{"$f":"IF(ISTEXT(ShareOfSearch_SERPS!C1188),ShareOfSearch_SERPS!C1188,\"\")","v":""},{"$f":"IF(ISTEXT(ShareOfSearch_SERPS!D1188),ShareOfSearch_SERPS!D1188,\"\")","v":""},{"$f":"IF(NOT(ISBLANK(ShareOfSearch_SERPS!A1188)),ShareOfSearch_SERPS!A1188,\"\")","v":""},{"$f":"IF(NOT(ISBLANK(ShareOfSearch_SERPS!G1188)),ShareOfSearch_SERPS!G1188,\"\")","v":""},{"$f":"IF(NOT(ISBLANK(ShareOfSearch_SERPS!K1188)),ShareOfSearch_SERPS!K1188,\"\")","v":""},{"$f":"IFERROR(VLOOKUP(C1188,ShareOfSearch_CTR!$A$1:$B$100,2,FALSE)*VLOOKUP(A1188&B1188,ShareOfSearch_Volume!$C$1:$D$1000,2,FALSE),\"\")","v":""}]
[{"$f":"IF(ISTEXT(ShareOfSearch_SERPS!C1189),ShareOfSearch_SERPS!C1189,\"\")","v":""},{"$f":"IF(ISTEXT(ShareOfSearch_SERPS!D1189),ShareOfSearch_SERPS!D1189,\"\")","v":""},{"$f":"IF(NOT(ISBLANK(ShareOfSearch_SERPS!A1189)),ShareOfSearch_SERPS!A1189,\"\")","v":""},{"$f":"IF(NOT(ISBLANK(ShareOfSearch_SERPS!G1189)),ShareOfSearch_SERPS!G1189,\"\")","v":""},{"$f":"IF(NOT(ISBLANK(ShareOfSearch_SERPS!K1189)),ShareOfSearch_SERPS!K1189,\"\")","v":""},{"$f":"IFERROR(VLOOKUP(C1189,ShareOfSearch_CTR!$A$1:$B$100,2,FALSE)*VLOOKUP(A1189&B1189,ShareOfSearch_Volume!$C$1:$D$1000,2,FALSE),\"\")","v":""}]
[{"$f":"IF(ISTEXT(ShareOfSearch_SERPS!C1190),ShareOfSearch_SERPS!C1190,\"\")","v":""},{"$f":"IF(ISTEXT(ShareOfSearch_SERPS!D1190),ShareOfSearch_SERPS!D1190,\"\")","v":""},{"$f":"IF(NOT(ISBLANK(ShareOfSearch_SERPS!A1190)),ShareOfSearch_SERPS!A1190,\"\")","v":""},{"$f":"IF(NOT(ISBLANK(ShareOfSearch_SERPS!G1190)),ShareOfSearch_SERPS!G1190,\"\")","v":""},{"$f":"IF(NOT(ISBLANK(ShareOfSearch_SERPS!K1190)),ShareOfSearch_SERPS!K1190,\"\")","v":""},{"$f":"IFERROR(VLOOKUP(C1190,ShareOfSearch_CTR!$A$1:$B$100,2,FALSE)*VLOOKUP(A1190&B1190,ShareOfSearch_Volume!$C$1:$D$1000,2,FALSE),\"\")","v":""}]
[{"$f":"IF(ISTEXT(ShareOfSearch_SERPS!C1191),ShareOfSearch_SERPS!C1191,\"\")","v":""},{"$f":"IF(ISTEXT(ShareOfSearch_SERPS!D1191),ShareOfSearch_SERPS!D1191,\"\")","v":""},{"$f":"IF(NOT(ISBLANK(ShareOfSearch_SERPS!A1191)),ShareOfSearch_SERPS!A1191,\"\")","v":""},{"$f":"IF(NOT(ISBLANK(ShareOfSearch_SERPS!G1191)),ShareOfSearch_SERPS!G1191,\"\")","v":""},{"$f":"IF(NOT(ISBLANK(ShareOfSearch_SERPS!K1191)),ShareOfSearch_SERPS!K1191,\"\")","v":""},{"$f":"IFERROR(VLOOKUP(C1191,ShareOfSearch_CTR!$A$1:$B$100,2,FALSE)*VLOOKUP(A1191&B1191,ShareOfSearch_Volume!$C$1:$D$1000,2,FALSE),\"\")","v":""}]
[{"$f":"IF(ISTEXT(ShareOfSearch_SERPS!C1192),ShareOfSearch_SERPS!C1192,\"\")","v":""},{"$f":"IF(ISTEXT(ShareOfSearch_SERPS!D1192),ShareOfSearch_SERPS!D1192,\"\")","v":""},{"$f":"IF(NOT(ISBLANK(ShareOfSearch_SERPS!A1192)),ShareOfSearch_SERPS!A1192,\"\")","v":""},{"$f":"IF(NOT(ISBLANK(ShareOfSearch_SERPS!G1192)),ShareOfSearch_SERPS!G1192,\"\")","v":""},{"$f":"IF(NOT(ISBLANK(ShareOfSearch_SERPS!K1192)),ShareOfSearch_SERPS!K1192,\"\")","v":""},{"$f":"IFERROR(VLOOKUP(C1192,ShareOfSearch_CTR!$A$1:$B$100,2,FALSE)*VLOOKUP(A1192&B1192,ShareOfSearch_Volume!$C$1:$D$1000,2,FALSE),\"\")","v":""}]
[{"$f":"IF(ISTEXT(ShareOfSearch_SERPS!C1193),ShareOfSearch_SERPS!C1193,\"\")","v":""},{"$f":"IF(ISTEXT(ShareOfSearch_SERPS!D1193),ShareOfSearch_SERPS!D1193,\"\")","v":""},{"$f":"IF(NOT(ISBLANK(ShareOfSearch_SERPS!A1193)),ShareOfSearch_SERPS!A1193,\"\")","v":""},{"$f":"IF(NOT(ISBLANK(ShareOfSearch_SERPS!G1193)),ShareOfSearch_SERPS!G1193,\"\")","v":""},{"$f":"IF(NOT(ISBLANK(ShareOfSearch_SERPS!K1193)),ShareOfSearch_SERPS!K1193,\"\")","v":""},{"$f":"IFERROR(VLOOKUP(C1193,ShareOfSearch_CTR!$A$1:$B$100,2,FALSE)*VLOOKUP(A1193&B1193,ShareOfSearch_Volume!$C$1:$D$1000,2,FALSE),\"\")","v":""}]
[{"$f":"IF(ISTEXT(ShareOfSearch_SERPS!C1194),ShareOfSearch_SERPS!C1194,\"\")","v":""},{"$f":"IF(ISTEXT(ShareOfSearch_SERPS!D1194),ShareOfSearch_SERPS!D1194,\"\")","v":""},{"$f":"IF(NOT(ISBLANK(ShareOfSearch_SERPS!A1194)),ShareOfSearch_SERPS!A1194,\"\")","v":""},{"$f":"IF(NOT(ISBLANK(ShareOfSearch_SERPS!G1194)),ShareOfSearch_SERPS!G1194,\"\")","v":""},{"$f":"IF(NOT(ISBLANK(ShareOfSearch_SERPS!K1194)),ShareOfSearch_SERPS!K1194,\"\")","v":""},{"$f":"IFERROR(VLOOKUP(C1194,ShareOfSearch_CTR!$A$1:$B$100,2,FALSE)*VLOOKUP(A1194&B1194,ShareOfSearch_Volume!$C$1:$D$1000,2,FALSE),\"\")","v":""}]
[{"$f":"IF(ISTEXT(ShareOfSearch_SERPS!C1195),ShareOfSearch_SERPS!C1195,\"\")","v":""},{"$f":"IF(ISTEXT(ShareOfSearch_SERPS!D1195),ShareOfSearch_SERPS!D1195,\"\")","v":""},{"$f":"IF(NOT(ISBLANK(ShareOfSearch_SERPS!A1195)),ShareOfSearch_SERPS!A1195,\"\")","v":""},{"$f":"IF(NOT(ISBLANK(ShareOfSearch_SERPS!G1195)),ShareOfSearch_SERPS!G1195,\"\")","v":""},{"$f":"IF(NOT(ISBLANK(ShareOfSearch_SERPS!K1195)),ShareOfSearch_SERPS!K1195,\"\")","v":""},{"$f":"IFERROR(VLOOKUP(C1195,ShareOfSearch_CTR!$A$1:$B$100,2,FALSE)*VLOOKUP(A1195&B1195,ShareOfSearch_Volume!$C$1:$D$1000,2,FALSE),\"\")","v":""}]
[{"$f":"IF(ISTEXT(ShareOfSearch_SERPS!C1196),ShareOfSearch_SERPS!C1196,\"\")","v":""},{"$f":"IF(ISTEXT(ShareOfSearch_SERPS!D1196),ShareOfSearch_SERPS!D1196,\"\")","v":""},{"$f":"IF(NOT(ISBLANK(ShareOfSearch_SERPS!A1196)),ShareOfSearch_SERPS!A1196,\"\")","v":""},{"$f":"IF(NOT(ISBLANK(ShareOfSearch_SERPS!G1196)),ShareOfSearch_SERPS!G1196,\"\")","v":""},{"$f":"IF(NOT(ISBLANK(ShareOfSearch_SERPS!K1196)),ShareOfSearch_SERPS!K1196,\"\")","v":""},{"$f":"IFERROR(VLOOKUP(C1196,ShareOfSearch_CTR!$A$1:$B$100,2,FALSE)*VLOOKUP(A1196&B1196,ShareOfSearch_Volume!$C$1:$D$1000,2,FALSE),\"\")","v":""}]
[{"$f":"IF(ISTEXT(ShareOfSearch_SERPS!C1197),ShareOfSearch_SERPS!C1197,\"\")","v":""},{"$f":"IF(ISTEXT(ShareOfSearch_SERPS!D1197),ShareOfSearch_SERPS!D1197,\"\")","v":""},{"$f":"IF(NOT(ISBLANK(ShareOfSearch_SERPS!A1197)),ShareOfSearch_SERPS!A1197,\"\")","v":""},{"$f":"IF(NOT(ISBLANK(ShareOfSearch_SERPS!G1197)),ShareOfSearch_SERPS!G1197,\"\")","v":""},{"$f":"IF(NOT(ISBLANK(ShareOfSearch_SERPS!K1197)),ShareOfSearch_SERPS!K1197,\"\")","v":""},{"$f":"IFERROR(VLOOKUP(C1197,ShareOfSearch_CTR!$A$1:$B$100,2,FALSE)*VLOOKUP(A1197&B1197,ShareOfSearch_Volume!$C$1:$D$1000,2,FALSE),\"\")","v":""}]
[{"$f":"IF(ISTEXT(ShareOfSearch_SERPS!C1198),ShareOfSearch_SERPS!C1198,\"\")","v":""},{"$f":"IF(ISTEXT(ShareOfSearch_SERPS!D1198),ShareOfSearch_SERPS!D1198,\"\")","v":""},{"$f":"IF(NOT(ISBLANK(ShareOfSearch_SERPS!A1198)),ShareOfSearch_SERPS!A1198,\"\")","v":""},{"$f":"IF(NOT(ISBLANK(ShareOfSearch_SERPS!G1198)),ShareOfSearch_SERPS!G1198,\"\")","v":""},{"$f":"IF(NOT(ISBLANK(ShareOfSearch_SERPS!K1198)),ShareOfSearch_SERPS!K1198,\"\")","v":""},{"$f":"IFERROR(VLOOKUP(C1198,ShareOfSearch_CTR!$A$1:$B$100,2,FALSE)*VLOOKUP(A1198&B1198,ShareOfSearch_Volume!$C$1:$D$1000,2,FALSE),\"\")","v":""}]
[{"$f":"IF(ISTEXT(ShareOfSearch_SERPS!C1199),ShareOfSearch_SERPS!C1199,\"\")","v":""},{"$f":"IF(ISTEXT(ShareOfSearch_SERPS!D1199),ShareOfSearch_SERPS!D1199,\"\")","v":""},{"$f":"IF(NOT(ISBLANK(ShareOfSearch_SERPS!A1199)),ShareOfSearch_SERPS!A1199,\"\")","v":""},{"$f":"IF(NOT(ISBLANK(ShareOfSearch_SERPS!G1199)),ShareOfSearch_SERPS!G1199,\"\")","v":""},{"$f":"IF(NOT(ISBLANK(ShareOfSearch_SERPS!K1199)),ShareOfSearch_SERPS!K1199,\"\")","v":""},{"$f":"IFERROR(VLOOKUP(C1199,ShareOfSearch_CTR!$A$1:$B$100,2,FALSE)*VLOOKUP(A1199&B1199,ShareOfSearch_Volume!$C$1:$D$1000,2,FALSE),\"\")","v":""}]
[{"$f":"IF(ISTEXT(ShareOfSearch_SERPS!C1200),ShareOfSearch_SERPS!C1200,\"\")","v":""},{"$f":"IF(ISTEXT(ShareOfSearch_SERPS!D1200),ShareOfSearch_SERPS!D1200,\"\")","v":""},{"$f":"IF(NOT(ISBLANK(ShareOfSearch_SERPS!A1200)),ShareOfSearch_SERPS!A1200,\"\")","v":""},{"$f":"IF(NOT(ISBLANK(ShareOfSearch_SERPS!G1200)),ShareOfSearch_SERPS!G1200,\"\")","v":""},{"$f":"IF(NOT(ISBLANK(ShareOfSearch_SERPS!K1200)),ShareOfSearch_SERPS!K1200,\"\")","v":""},{"$f":"IFERROR(VLOOKUP(C1200,ShareOfSearch_CTR!$A$1:$B$100,2,FALSE)*VLOOKUP(A1200&B1200,ShareOfSearch_Volume!$C$1:$D$1000,2,FALSE),\"\")","v":""}]
[{"$f":"IF(ISTEXT(ShareOfSearch_SERPS!C1201),ShareOfSearch_SERPS!C1201,\"\")","v":""},{"$f":"IF(ISTEXT(ShareOfSearch_SERPS!D1201),ShareOfSearch_SERPS!D1201,\"\")","v":""},{"$f":"IF(NOT(ISBLANK(ShareOfSearch_SERPS!A1201)),ShareOfSearch_SERPS!A1201,\"\")","v":""},{"$f":"IF(NOT(ISBLANK(ShareOfSearch_SERPS!G1201)),ShareOfSearch_SERPS!G1201,\"\")","v":""},{"$f":"IF(NOT(ISBLANK(ShareOfSearch_SERPS!K1201)),ShareOfSearch_SERPS!K1201,\"\")","v":""},{"$f":"IFERROR(VLOOKUP(C1201,ShareOfSearch_CTR!$A$1:$B$100,2,FALSE)*VLOOKUP(A1201&B1201,ShareOfSearch_Volume!$C$1:$D$1000,2,FALSE),\"\")","v":""}]
[{"$f":"IF(ISTEXT(ShareOfSearch_SERPS!C1202),ShareOfSearch_SERPS!C1202,\"\")","v":""},{"$f":"IF(ISTEXT(ShareOfSearch_SERPS!D1202),ShareOfSearch_SERPS!D1202,\"\")","v":""},{"$f":"IF(NOT(ISBLANK(ShareOfSearch_SERPS!A1202)),ShareOfSearch_SERPS!A1202,\"\")","v":""},{"$f":"IF(NOT(ISBLANK(ShareOfSearch_SERPS!G1202)),ShareOfSearch_SERPS!G1202,\"\")","v":""},{"$f":"IF(NOT(ISBLANK(ShareOfSearch_SERPS!K1202)),ShareOfSearch_SERPS!K1202,\"\")","v":""},{"$f":"IFERROR(VLOOKUP(C1202,ShareOfSearch_CTR!$A$1:$B$100,2,FALSE)*VLOOKUP(A1202&B1202,ShareOfSearch_Volume!$C$1:$D$1000,2,FALSE),\"\")","v":""}]
[{"$f":"IF(ISTEXT(ShareOfSearch_SERPS!C1203),ShareOfSearch_SERPS!C1203,\"\")","v":""},{"$f":"IF(ISTEXT(ShareOfSearch_SERPS!D1203),ShareOfSearch_SERPS!D1203,\"\")","v":""},{"$f":"IF(NOT(ISBLANK(ShareOfSearch_SERPS!A1203)),ShareOfSearch_SERPS!A1203,\"\")","v":""},{"$f":"IF(NOT(ISBLANK(ShareOfSearch_SERPS!G1203)),ShareOfSearch_SERPS!G1203,\"\")","v":""},{"$f":"IF(NOT(ISBLANK(ShareOfSearch_SERPS!K1203)),ShareOfSearch_SERPS!K1203,\"\")","v":""},{"$f":"IFERROR(VLOOKUP(C1203,ShareOfSearch_CTR!$A$1:$B$100,2,FALSE)*VLOOKUP(A1203&B1203,ShareOfSearch_Volume!$C$1:$D$1000,2,FALSE),\"\")","v":""}]
[{"$f":"IF(ISTEXT(ShareOfSearch_SERPS!C1204),ShareOfSearch_SERPS!C1204,\"\")","v":""},{"$f":"IF(ISTEXT(ShareOfSearch_SERPS!D1204),ShareOfSearch_SERPS!D1204,\"\")","v":""},{"$f":"IF(NOT(ISBLANK(ShareOfSearch_SERPS!A1204)),ShareOfSearch_SERPS!A1204,\"\")","v":""},{"$f":"IF(NOT(ISBLANK(ShareOfSearch_SERPS!G1204)),ShareOfSearch_SERPS!G1204,\"\")","v":""},{"$f":"IF(NOT(ISBLANK(ShareOfSearch_SERPS!K1204)),ShareOfSearch_SERPS!K1204,\"\")","v":""},{"$f":"IFERROR(VLOOKUP(C1204,ShareOfSearch_CTR!$A$1:$B$100,2,FALSE)*VLOOKUP(A1204&B1204,ShareOfSearch_Volume!$C$1:$D$1000,2,FALSE),\"\")","v":""}]
[{"$f":"IF(ISTEXT(ShareOfSearch_SERPS!C1205),ShareOfSearch_SERPS!C1205,\"\")","v":""},{"$f":"IF(ISTEXT(ShareOfSearch_SERPS!D1205),ShareOfSearch_SERPS!D1205,\"\")","v":""},{"$f":"IF(NOT(ISBLANK(ShareOfSearch_SERPS!A1205)),ShareOfSearch_SERPS!A1205,\"\")","v":""},{"$f":"IF(NOT(ISBLANK(ShareOfSearch_SERPS!G1205)),ShareOfSearch_SERPS!G1205,\"\")","v":""},{"$f":"IF(NOT(ISBLANK(ShareOfSearch_SERPS!K1205)),ShareOfSearch_SERPS!K1205,\"\")","v":""},{"$f":"IFERROR(VLOOKUP(C1205,ShareOfSearch_CTR!$A$1:$B$100,2,FALSE)*VLOOKUP(A1205&B1205,ShareOfSearch_Volume!$C$1:$D$1000,2,FALSE),\"\")","v":""}]
[{"$f":"IF(ISTEXT(ShareOfSearch_SERPS!C1206),ShareOfSearch_SERPS!C1206,\"\")","v":""},{"$f":"IF(ISTEXT(ShareOfSearch_SERPS!D1206),ShareOfSearch_SERPS!D1206,\"\")","v":""},{"$f":"IF(NOT(ISBLANK(ShareOfSearch_SERPS!A1206)),ShareOfSearch_SERPS!A1206,\"\")","v":""},{"$f":"IF(NOT(ISBLANK(ShareOfSearch_SERPS!G1206)),ShareOfSearch_SERPS!G1206,\"\")","v":""},{"$f":"IF(NOT(ISBLANK(ShareOfSearch_SERPS!K1206)),ShareOfSearch_SERPS!K1206,\"\")","v":""},{"$f":"IFERROR(VLOOKUP(C1206,ShareOfSearch_CTR!$A$1:$B$100,2,FALSE)*VLOOKUP(A1206&B1206,ShareOfSearch_Volume!$C$1:$D$1000,2,FALSE),\"\")","v":""}]
[{"$f":"IF(ISTEXT(ShareOfSearch_SERPS!C1207),ShareOfSearch_SERPS!C1207,\"\")","v":""},{"$f":"IF(ISTEXT(ShareOfSearch_SERPS!D1207),ShareOfSearch_SERPS!D1207,\"\")","v":""},{"$f":"IF(NOT(ISBLANK(ShareOfSearch_SERPS!A1207)),ShareOfSearch_SERPS!A1207,\"\")","v":""},{"$f":"IF(NOT(ISBLANK(ShareOfSearch_SERPS!G1207)),ShareOfSearch_SERPS!G1207,\"\")","v":""},{"$f":"IF(NOT(ISBLANK(ShareOfSearch_SERPS!K1207)),ShareOfSearch_SERPS!K1207,\"\")","v":""},{"$f":"IFERROR(VLOOKUP(C1207,ShareOfSearch_CTR!$A$1:$B$100,2,FALSE)*VLOOKUP(A1207&B1207,ShareOfSearch_Volume!$C$1:$D$1000,2,FALSE),\"\")","v":""}]
[{"$f":"IF(ISTEXT(ShareOfSearch_SERPS!C1208),ShareOfSearch_SERPS!C1208,\"\")","v":""},{"$f":"IF(ISTEXT(ShareOfSearch_SERPS!D1208),ShareOfSearch_SERPS!D1208,\"\")","v":""},{"$f":"IF(NOT(ISBLANK(ShareOfSearch_SERPS!A1208)),ShareOfSearch_SERPS!A1208,\"\")","v":""},{"$f":"IF(NOT(ISBLANK(ShareOfSearch_SERPS!G1208)),ShareOfSearch_SERPS!G1208,\"\")","v":""},{"$f":"IF(NOT(ISBLANK(ShareOfSearch_SERPS!K1208)),ShareOfSearch_SERPS!K1208,\"\")","v":""},{"$f":"IFERROR(VLOOKUP(C1208,ShareOfSearch_CTR!$A$1:$B$100,2,FALSE)*VLOOKUP(A1208&B1208,ShareOfSearch_Volume!$C$1:$D$1000,2,FALSE),\"\")","v":""}]
[{"$f":"IF(ISTEXT(ShareOfSearch_SERPS!C1209),ShareOfSearch_SERPS!C1209,\"\")","v":""},{"$f":"IF(ISTEXT(ShareOfSearch_SERPS!D1209),ShareOfSearch_SERPS!D1209,\"\")","v":""},{"$f":"IF(NOT(ISBLANK(ShareOfSearch_SERPS!A1209)),ShareOfSearch_SERPS!A1209,\"\")","v":""},{"$f":"IF(NOT(ISBLANK(ShareOfSearch_SERPS!G1209)),ShareOfSearch_SERPS!G1209,\"\")","v":""},{"$f":"IF(NOT(ISBLANK(ShareOfSearch_SERPS!K1209)),ShareOfSearch_SERPS!K1209,\"\")","v":""},{"$f":"IFERROR(VLOOKUP(C1209,ShareOfSearch_CTR!$A$1:$B$100,2,FALSE)*VLOOKUP(A1209&B1209,ShareOfSearch_Volume!$C$1:$D$1000,2,FALSE),\"\")","v":""}]
[{"$f":"IF(ISTEXT(ShareOfSearch_SERPS!C1210),ShareOfSearch_SERPS!C1210,\"\")","v":""},{"$f":"IF(ISTEXT(ShareOfSearch_SERPS!D1210),ShareOfSearch_SERPS!D1210,\"\")","v":""},{"$f":"IF(NOT(ISBLANK(ShareOfSearch_SERPS!A1210)),ShareOfSearch_SERPS!A1210,\"\")","v":""},{"$f":"IF(NOT(ISBLANK(ShareOfSearch_SERPS!G1210)),ShareOfSearch_SERPS!G1210,\"\")","v":""},{"$f":"IF(NOT(ISBLANK(ShareOfSearch_SERPS!K1210)),ShareOfSearch_SERPS!K1210,\"\")","v":""},{"$f":"IFERROR(VLOOKUP(C1210,ShareOfSearch_CTR!$A$1:$B$100,2,FALSE)*VLOOKUP(A1210&B1210,ShareOfSearch_Volume!$C$1:$D$1000,2,FALSE),\"\")","v":""}]
[{"$f":"IF(ISTEXT(ShareOfSearch_SERPS!C1211),ShareOfSearch_SERPS!C1211,\"\")","v":""},{"$f":"IF(ISTEXT(ShareOfSearch_SERPS!D1211),ShareOfSearch_SERPS!D1211,\"\")","v":""},{"$f":"IF(NOT(ISBLANK(ShareOfSearch_SERPS!A1211)),ShareOfSearch_SERPS!A1211,\"\")","v":""},{"$f":"IF(NOT(ISBLANK(ShareOfSearch_SERPS!G1211)),ShareOfSearch_SERPS!G1211,\"\")","v":""},{"$f":"IF(NOT(ISBLANK(ShareOfSearch_SERPS!K1211)),ShareOfSearch_SERPS!K1211,\"\")","v":""},{"$f":"IFERROR(VLOOKUP(C1211,ShareOfSearch_CTR!$A$1:$B$100,2,FALSE)*VLOOKUP(A1211&B1211,ShareOfSearch_Volume!$C$1:$D$1000,2,FALSE),\"\")","v":""}]
[{"$f":"IF(ISTEXT(ShareOfSearch_SERPS!C1212),ShareOfSearch_SERPS!C1212,\"\")","v":""},{"$f":"IF(ISTEXT(ShareOfSearch_SERPS!D1212),ShareOfSearch_SERPS!D1212,\"\")","v":""},{"$f":"IF(NOT(ISBLANK(ShareOfSearch_SERPS!A1212)),ShareOfSearch_SERPS!A1212,\"\")","v":""},{"$f":"IF(NOT(ISBLANK(ShareOfSearch_SERPS!G1212)),ShareOfSearch_SERPS!G1212,\"\")","v":""},{"$f":"IF(NOT(ISBLANK(ShareOfSearch_SERPS!K1212)),ShareOfSearch_SERPS!K1212,\"\")","v":""},{"$f":"IFERROR(VLOOKUP(C1212,ShareOfSearch_CTR!$A$1:$B$100,2,FALSE)*VLOOKUP(A1212&B1212,ShareOfSearch_Volume!$C$1:$D$1000,2,FALSE),\"\")","v":""}]
[{"$f":"IF(ISTEXT(ShareOfSearch_SERPS!C1213),ShareOfSearch_SERPS!C1213,\"\")","v":""},{"$f":"IF(ISTEXT(ShareOfSearch_SERPS!D1213),ShareOfSearch_SERPS!D1213,\"\")","v":""},{"$f":"IF(NOT(ISBLANK(ShareOfSearch_SERPS!A1213)),ShareOfSearch_SERPS!A1213,\"\")","v":""},{"$f":"IF(NOT(ISBLANK(ShareOfSearch_SERPS!G1213)),ShareOfSearch_SERPS!G1213,\"\")","v":""},{"$f":"IF(NOT(ISBLANK(ShareOfSearch_SERPS!K1213)),ShareOfSearch_SERPS!K1213,\"\")","v":""},{"$f":"IFERROR(VLOOKUP(C1213,ShareOfSearch_CTR!$A$1:$B$100,2,FALSE)*VLOOKUP(A1213&B1213,ShareOfSearch_Volume!$C$1:$D$1000,2,FALSE),\"\")","v":""}]
[{"$f":"IF(ISTEXT(ShareOfSearch_SERPS!C1214),ShareOfSearch_SERPS!C1214,\"\")","v":""},{"$f":"IF(ISTEXT(ShareOfSearch_SERPS!D1214),ShareOfSearch_SERPS!D1214,\"\")","v":""},{"$f":"IF(NOT(ISBLANK(ShareOfSearch_SERPS!A1214)),ShareOfSearch_SERPS!A1214,\"\")","v":""},{"$f":"IF(NOT(ISBLANK(ShareOfSearch_SERPS!G1214)),ShareOfSearch_SERPS!G1214,\"\")","v":""},{"$f":"IF(NOT(ISBLANK(ShareOfSearch_SERPS!K1214)),ShareOfSearch_SERPS!K1214,\"\")","v":""},{"$f":"IFERROR(VLOOKUP(C1214,ShareOfSearch_CTR!$A$1:$B$100,2,FALSE)*VLOOKUP(A1214&B1214,ShareOfSearch_Volume!$C$1:$D$1000,2,FALSE),\"\")","v":""}]
[{"$f":"IF(ISTEXT(ShareOfSearch_SERPS!C1215),ShareOfSearch_SERPS!C1215,\"\")","v":""},{"$f":"IF(ISTEXT(ShareOfSearch_SERPS!D1215),ShareOfSearch_SERPS!D1215,\"\")","v":""},{"$f":"IF(NOT(ISBLANK(ShareOfSearch_SERPS!A1215)),ShareOfSearch_SERPS!A1215,\"\")","v":""},{"$f":"IF(NOT(ISBLANK(ShareOfSearch_SERPS!G1215)),ShareOfSearch_SERPS!G1215,\"\")","v":""},{"$f":"IF(NOT(ISBLANK(ShareOfSearch_SERPS!K1215)),ShareOfSearch_SERPS!K1215,\"\")","v":""},{"$f":"IFERROR(VLOOKUP(C1215,ShareOfSearch_CTR!$A$1:$B$100,2,FALSE)*VLOOKUP(A1215&B1215,ShareOfSearch_Volume!$C$1:$D$1000,2,FALSE),\"\")","v":""}]
[{"$f":"IF(ISTEXT(ShareOfSearch_SERPS!C1216),ShareOfSearch_SERPS!C1216,\"\")","v":""},{"$f":"IF(ISTEXT(ShareOfSearch_SERPS!D1216),ShareOfSearch_SERPS!D1216,\"\")","v":""},{"$f":"IF(NOT(ISBLANK(ShareOfSearch_SERPS!A1216)),ShareOfSearch_SERPS!A1216,\"\")","v":""},{"$f":"IF(NOT(ISBLANK(ShareOfSearch_SERPS!G1216)),ShareOfSearch_SERPS!G1216,\"\")","v":""},{"$f":"IF(NOT(ISBLANK(ShareOfSearch_SERPS!K1216)),ShareOfSearch_SERPS!K1216,\"\")","v":""},{"$f":"IFERROR(VLOOKUP(C1216,ShareOfSearch_CTR!$A$1:$B$100,2,FALSE)*VLOOKUP(A1216&B1216,ShareOfSearch_Volume!$C$1:$D$1000,2,FALSE),\"\")","v":""}]
[{"$f":"IF(ISTEXT(ShareOfSearch_SERPS!C1217),ShareOfSearch_SERPS!C1217,\"\")","v":""},{"$f":"IF(ISTEXT(ShareOfSearch_SERPS!D1217),ShareOfSearch_SERPS!D1217,\"\")","v":""},{"$f":"IF(NOT(ISBLANK(ShareOfSearch_SERPS!A1217)),ShareOfSearch_SERPS!A1217,\"\")","v":""},{"$f":"IF(NOT(ISBLANK(ShareOfSearch_SERPS!G1217)),ShareOfSearch_SERPS!G1217,\"\")","v":""},{"$f":"IF(NOT(ISBLANK(ShareOfSearch_SERPS!K1217)),ShareOfSearch_SERPS!K1217,\"\")","v":""},{"$f":"IFERROR(VLOOKUP(C1217,ShareOfSearch_CTR!$A$1:$B$100,2,FALSE)*VLOOKUP(A1217&B1217,ShareOfSearch_Volume!$C$1:$D$1000,2,FALSE),\"\")","v":""}]
[{"$f":"IF(ISTEXT(ShareOfSearch_SERPS!C1218),ShareOfSearch_SERPS!C1218,\"\")","v":""},{"$f":"IF(ISTEXT(ShareOfSearch_SERPS!D1218),ShareOfSearch_SERPS!D1218,\"\")","v":""},{"$f":"IF(NOT(ISBLANK(ShareOfSearch_SERPS!A1218)),ShareOfSearch_SERPS!A1218,\"\")","v":""},{"$f":"IF(NOT(ISBLANK(ShareOfSearch_SERPS!G1218)),ShareOfSearch_SERPS!G1218,\"\")","v":""},{"$f":"IF(NOT(ISBLANK(ShareOfSearch_SERPS!K1218)),ShareOfSearch_SERPS!K1218,\"\")","v":""},{"$f":"IFERROR(VLOOKUP(C1218,ShareOfSearch_CTR!$A$1:$B$100,2,FALSE)*VLOOKUP(A1218&B1218,ShareOfSearch_Volume!$C$1:$D$1000,2,FALSE),\"\")","v":""}]
[{"$f":"IF(ISTEXT(ShareOfSearch_SERPS!C1219),ShareOfSearch_SERPS!C1219,\"\")","v":""},{"$f":"IF(ISTEXT(ShareOfSearch_SERPS!D1219),ShareOfSearch_SERPS!D1219,\"\")","v":""},{"$f":"IF(NOT(ISBLANK(ShareOfSearch_SERPS!A1219)),ShareOfSearch_SERPS!A1219,\"\")","v":""},{"$f":"IF(NOT(ISBLANK(ShareOfSearch_SERPS!G1219)),ShareOfSearch_SERPS!G1219,\"\")","v":""},{"$f":"IF(NOT(ISBLANK(ShareOfSearch_SERPS!K1219)),ShareOfSearch_SERPS!K1219,\"\")","v":""},{"$f":"IFERROR(VLOOKUP(C1219,ShareOfSearch_CTR!$A$1:$B$100,2,FALSE)*VLOOKUP(A1219&B1219,ShareOfSearch_Volume!$C$1:$D$1000,2,FALSE),\"\")","v":""}]
[{"$f":"IF(ISTEXT(ShareOfSearch_SERPS!C1220),ShareOfSearch_SERPS!C1220,\"\")","v":""},{"$f":"IF(ISTEXT(ShareOfSearch_SERPS!D1220),ShareOfSearch_SERPS!D1220,\"\")","v":""},{"$f":"IF(NOT(ISBLANK(ShareOfSearch_SERPS!A1220)),ShareOfSearch_SERPS!A1220,\"\")","v":""},{"$f":"IF(NOT(ISBLANK(ShareOfSearch_SERPS!G1220)),ShareOfSearch_SERPS!G1220,\"\")","v":""},{"$f":"IF(NOT(ISBLANK(ShareOfSearch_SERPS!K1220)),ShareOfSearch_SERPS!K1220,\"\")","v":""},{"$f":"IFERROR(VLOOKUP(C1220,ShareOfSearch_CTR!$A$1:$B$100,2,FALSE)*VLOOKUP(A1220&B1220,ShareOfSearch_Volume!$C$1:$D$1000,2,FALSE),\"\")","v":""}]
[{"$f":"IF(ISTEXT(ShareOfSearch_SERPS!C1221),ShareOfSearch_SERPS!C1221,\"\")","v":""},{"$f":"IF(ISTEXT(ShareOfSearch_SERPS!D1221),ShareOfSearch_SERPS!D1221,\"\")","v":""},{"$f":"IF(NOT(ISBLANK(ShareOfSearch_SERPS!A1221)),ShareOfSearch_SERPS!A1221,\"\")","v":""},{"$f":"IF(NOT(ISBLANK(ShareOfSearch_SERPS!G1221)),ShareOfSearch_SERPS!G1221,\"\")","v":""},{"$f":"IF(NOT(ISBLANK(ShareOfSearch_SERPS!K1221)),ShareOfSearch_SERPS!K1221,\"\")","v":""},{"$f":"IFERROR(VLOOKUP(C1221,ShareOfSearch_CTR!$A$1:$B$100,2,FALSE)*VLOOKUP(A1221&B1221,ShareOfSearch_Volume!$C$1:$D$1000,2,FALSE),\"\")","v":""}]
[{"$f":"IF(ISTEXT(ShareOfSearch_SERPS!C1222),ShareOfSearch_SERPS!C1222,\"\")","v":""},{"$f":"IF(ISTEXT(ShareOfSearch_SERPS!D1222),ShareOfSearch_SERPS!D1222,\"\")","v":""},{"$f":"IF(NOT(ISBLANK(ShareOfSearch_SERPS!A1222)),ShareOfSearch_SERPS!A1222,\"\")","v":""},{"$f":"IF(NOT(ISBLANK(ShareOfSearch_SERPS!G1222)),ShareOfSearch_SERPS!G1222,\"\")","v":""},{"$f":"IF(NOT(ISBLANK(ShareOfSearch_SERPS!K1222)),ShareOfSearch_SERPS!K1222,\"\")","v":""},{"$f":"IFERROR(VLOOKUP(C1222,ShareOfSearch_CTR!$A$1:$B$100,2,FALSE)*VLOOKUP(A1222&B1222,ShareOfSearch_Volume!$C$1:$D$1000,2,FALSE),\"\")","v":""}]
[{"$f":"IF(ISTEXT(ShareOfSearch_SERPS!C1223),ShareOfSearch_SERPS!C1223,\"\")","v":""},{"$f":"IF(ISTEXT(ShareOfSearch_SERPS!D1223),ShareOfSearch_SERPS!D1223,\"\")","v":""},{"$f":"IF(NOT(ISBLANK(ShareOfSearch_SERPS!A1223)),ShareOfSearch_SERPS!A1223,\"\")","v":""},{"$f":"IF(NOT(ISBLANK(ShareOfSearch_SERPS!G1223)),ShareOfSearch_SERPS!G1223,\"\")","v":""},{"$f":"IF(NOT(ISBLANK(ShareOfSearch_SERPS!K1223)),ShareOfSearch_SERPS!K1223,\"\")","v":""},{"$f":"IFERROR(VLOOKUP(C1223,ShareOfSearch_CTR!$A$1:$B$100,2,FALSE)*VLOOKUP(A1223&B1223,ShareOfSearch_Volume!$C$1:$D$1000,2,FALSE),\"\")","v":""}]
[{"$f":"IF(ISTEXT(ShareOfSearch_SERPS!C1224),ShareOfSearch_SERPS!C1224,\"\")","v":""},{"$f":"IF(ISTEXT(ShareOfSearch_SERPS!D1224),ShareOfSearch_SERPS!D1224,\"\")","v":""},{"$f":"IF(NOT(ISBLANK(ShareOfSearch_SERPS!A1224)),ShareOfSearch_SERPS!A1224,\"\")","v":""},{"$f":"IF(NOT(ISBLANK(ShareOfSearch_SERPS!G1224)),ShareOfSearch_SERPS!G1224,\"\")","v":""},{"$f":"IF(NOT(ISBLANK(ShareOfSearch_SERPS!K1224)),ShareOfSearch_SERPS!K1224,\"\")","v":""},{"$f":"IFERROR(VLOOKUP(C1224,ShareOfSearch_CTR!$A$1:$B$100,2,FALSE)*VLOOKUP(A1224&B1224,ShareOfSearch_Volume!$C$1:$D$1000,2,FALSE),\"\")","v":""}]
[{"$f":"IF(ISTEXT(ShareOfSearch_SERPS!C1225),ShareOfSearch_SERPS!C1225,\"\")","v":""},{"$f":"IF(ISTEXT(ShareOfSearch_SERPS!D1225),ShareOfSearch_SERPS!D1225,\"\")","v":""},{"$f":"IF(NOT(ISBLANK(ShareOfSearch_SERPS!A1225)),ShareOfSearch_SERPS!A1225,\"\")","v":""},{"$f":"IF(NOT(ISBLANK(ShareOfSearch_SERPS!G1225)),ShareOfSearch_SERPS!G1225,\"\")","v":""},{"$f":"IF(NOT(ISBLANK(ShareOfSearch_SERPS!K1225)),ShareOfSearch_SERPS!K1225,\"\")","v":""},{"$f":"IFERROR(VLOOKUP(C1225,ShareOfSearch_CTR!$A$1:$B$100,2,FALSE)*VLOOKUP(A1225&B1225,ShareOfSearch_Volume!$C$1:$D$1000,2,FALSE),\"\")","v":""}]
[{"$f":"IF(ISTEXT(ShareOfSearch_SERPS!C1226),ShareOfSearch_SERPS!C1226,\"\")","v":""},{"$f":"IF(ISTEXT(ShareOfSearch_SERPS!D1226),ShareOfSearch_SERPS!D1226,\"\")","v":""},{"$f":"IF(NOT(ISBLANK(ShareOfSearch_SERPS!A1226)),ShareOfSearch_SERPS!A1226,\"\")","v":""},{"$f":"IF(NOT(ISBLANK(ShareOfSearch_SERPS!G1226)),ShareOfSearch_SERPS!G1226,\"\")","v":""},{"$f":"IF(NOT(ISBLANK(ShareOfSearch_SERPS!K1226)),ShareOfSearch_SERPS!K1226,\"\")","v":""},{"$f":"IFERROR(VLOOKUP(C1226,ShareOfSearch_CTR!$A$1:$B$100,2,FALSE)*VLOOKUP(A1226&B1226,ShareOfSearch_Volume!$C$1:$D$1000,2,FALSE),\"\")","v":""}]
[{"$f":"IF(ISTEXT(ShareOfSearch_SERPS!C1227),ShareOfSearch_SERPS!C1227,\"\")","v":""},{"$f":"IF(ISTEXT(ShareOfSearch_SERPS!D1227),ShareOfSearch_SERPS!D1227,\"\")","v":""},{"$f":"IF(NOT(ISBLANK(ShareOfSearch_SERPS!A1227)),ShareOfSearch_SERPS!A1227,\"\")","v":""},{"$f":"IF(NOT(ISBLANK(ShareOfSearch_SERPS!G1227)),ShareOfSearch_SERPS!G1227,\"\")","v":""},{"$f":"IF(NOT(ISBLANK(ShareOfSearch_SERPS!K1227)),ShareOfSearch_SERPS!K1227,\"\")","v":""},{"$f":"IFERROR(VLOOKUP(C1227,ShareOfSearch_CTR!$A$1:$B$100,2,FALSE)*VLOOKUP(A1227&B1227,ShareOfSearch_Volume!$C$1:$D$1000,2,FALSE),\"\")","v":""}]
[{"$f":"IF(ISTEXT(ShareOfSearch_SERPS!C1228),ShareOfSearch_SERPS!C1228,\"\")","v":""},{"$f":"IF(ISTEXT(ShareOfSearch_SERPS!D1228),ShareOfSearch_SERPS!D1228,\"\")","v":""},{"$f":"IF(NOT(ISBLANK(ShareOfSearch_SERPS!A1228)),ShareOfSearch_SERPS!A1228,\"\")","v":""},{"$f":"IF(NOT(ISBLANK(ShareOfSearch_SERPS!G1228)),ShareOfSearch_SERPS!G1228,\"\")","v":""},{"$f":"IF(NOT(ISBLANK(ShareOfSearch_SERPS!K1228)),ShareOfSearch_SERPS!K1228,\"\")","v":""},{"$f":"IFERROR(VLOOKUP(C1228,ShareOfSearch_CTR!$A$1:$B$100,2,FALSE)*VLOOKUP(A1228&B1228,ShareOfSearch_Volume!$C$1:$D$1000,2,FALSE),\"\")","v":""}]
[{"$f":"IF(ISTEXT(ShareOfSearch_SERPS!C1229),ShareOfSearch_SERPS!C1229,\"\")","v":""},{"$f":"IF(ISTEXT(ShareOfSearch_SERPS!D1229),ShareOfSearch_SERPS!D1229,\"\")","v":""},{"$f":"IF(NOT(ISBLANK(ShareOfSearch_SERPS!A1229)),ShareOfSearch_SERPS!A1229,\"\")","v":""},{"$f":"IF(NOT(ISBLANK(ShareOfSearch_SERPS!G1229)),ShareOfSearch_SERPS!G1229,\"\")","v":""},{"$f":"IF(NOT(ISBLANK(ShareOfSearch_SERPS!K1229)),ShareOfSearch_SERPS!K1229,\"\")","v":""},{"$f":"IFERROR(VLOOKUP(C1229,ShareOfSearch_CTR!$A$1:$B$100,2,FALSE)*VLOOKUP(A1229&B1229,ShareOfSearch_Volume!$C$1:$D$1000,2,FALSE),\"\")","v":""}]
[{"$f":"IF(ISTEXT(ShareOfSearch_SERPS!C1230),ShareOfSearch_SERPS!C1230,\"\")","v":""},{"$f":"IF(ISTEXT(ShareOfSearch_SERPS!D1230),ShareOfSearch_SERPS!D1230,\"\")","v":""},{"$f":"IF(NOT(ISBLANK(ShareOfSearch_SERPS!A1230)),ShareOfSearch_SERPS!A1230,\"\")","v":""},{"$f":"IF(NOT(ISBLANK(ShareOfSearch_SERPS!G1230)),ShareOfSearch_SERPS!G1230,\"\")","v":""},{"$f":"IF(NOT(ISBLANK(ShareOfSearch_SERPS!K1230)),ShareOfSearch_SERPS!K1230,\"\")","v":""},{"$f":"IFERROR(VLOOKUP(C1230,ShareOfSearch_CTR!$A$1:$B$100,2,FALSE)*VLOOKUP(A1230&B1230,ShareOfSearch_Volume!$C$1:$D$1000,2,FALSE),\"\")","v":""}]
[{"$f":"IF(ISTEXT(ShareOfSearch_SERPS!C1231),ShareOfSearch_SERPS!C1231,\"\")","v":""},{"$f":"IF(ISTEXT(ShareOfSearch_SERPS!D1231),ShareOfSearch_SERPS!D1231,\"\")","v":""},{"$f":"IF(NOT(ISBLANK(ShareOfSearch_SERPS!A1231)),ShareOfSearch_SERPS!A1231,\"\")","v":""},{"$f":"IF(NOT(ISBLANK(ShareOfSearch_SERPS!G1231)),ShareOfSearch_SERPS!G1231,\"\")","v":""},{"$f":"IF(NOT(ISBLANK(ShareOfSearch_SERPS!K1231)),ShareOfSearch_SERPS!K1231,\"\")","v":""},{"$f":"IFERROR(VLOOKUP(C1231,ShareOfSearch_CTR!$A$1:$B$100,2,FALSE)*VLOOKUP(A1231&B1231,ShareOfSearch_Volume!$C$1:$D$1000,2,FALSE),\"\")","v":""}]
[{"$f":"IF(ISTEXT(ShareOfSearch_SERPS!C1232),ShareOfSearch_SERPS!C1232,\"\")","v":""},{"$f":"IF(ISTEXT(ShareOfSearch_SERPS!D1232),ShareOfSearch_SERPS!D1232,\"\")","v":""},{"$f":"IF(NOT(ISBLANK(ShareOfSearch_SERPS!A1232)),ShareOfSearch_SERPS!A1232,\"\")","v":""},{"$f":"IF(NOT(ISBLANK(ShareOfSearch_SERPS!G1232)),ShareOfSearch_SERPS!G1232,\"\")","v":""},{"$f":"IF(NOT(ISBLANK(ShareOfSearch_SERPS!K1232)),ShareOfSearch_SERPS!K1232,\"\")","v":""},{"$f":"IFERROR(VLOOKUP(C1232,ShareOfSearch_CTR!$A$1:$B$100,2,FALSE)*VLOOKUP(A1232&B1232,ShareOfSearch_Volume!$C$1:$D$1000,2,FALSE),\"\")","v":""}]
[{"$f":"IF(ISTEXT(ShareOfSearch_SERPS!C1233),ShareOfSearch_SERPS!C1233,\"\")","v":""},{"$f":"IF(ISTEXT(ShareOfSearch_SERPS!D1233),ShareOfSearch_SERPS!D1233,\"\")","v":""},{"$f":"IF(NOT(ISBLANK(ShareOfSearch_SERPS!A1233)),ShareOfSearch_SERPS!A1233,\"\")","v":""},{"$f":"IF(NOT(ISBLANK(ShareOfSearch_SERPS!G1233)),ShareOfSearch_SERPS!G1233,\"\")","v":""},{"$f":"IF(NOT(ISBLANK(ShareOfSearch_SERPS!K1233)),ShareOfSearch_SERPS!K1233,\"\")","v":""},{"$f":"IFERROR(VLOOKUP(C1233,ShareOfSearch_CTR!$A$1:$B$100,2,FALSE)*VLOOKUP(A1233&B1233,ShareOfSearch_Volume!$C$1:$D$1000,2,FALSE),\"\")","v":""}]
[{"$f":"IF(ISTEXT(ShareOfSearch_SERPS!C1234),ShareOfSearch_SERPS!C1234,\"\")","v":""},{"$f":"IF(ISTEXT(ShareOfSearch_SERPS!D1234),ShareOfSearch_SERPS!D1234,\"\")","v":""},{"$f":"IF(NOT(ISBLANK(ShareOfSearch_SERPS!A1234)),ShareOfSearch_SERPS!A1234,\"\")","v":""},{"$f":"IF(NOT(ISBLANK(ShareOfSearch_SERPS!G1234)),ShareOfSearch_SERPS!G1234,\"\")","v":""},{"$f":"IF(NOT(ISBLANK(ShareOfSearch_SERPS!K1234)),ShareOfSearch_SERPS!K1234,\"\")","v":""},{"$f":"IFERROR(VLOOKUP(C1234,ShareOfSearch_CTR!$A$1:$B$100,2,FALSE)*VLOOKUP(A1234&B1234,ShareOfSearch_Volume!$C$1:$D$1000,2,FALSE),\"\")","v":""}]
[{"$f":"IF(ISTEXT(ShareOfSearch_SERPS!C1235),ShareOfSearch_SERPS!C1235,\"\")","v":""},{"$f":"IF(ISTEXT(ShareOfSearch_SERPS!D1235),ShareOfSearch_SERPS!D1235,\"\")","v":""},{"$f":"IF(NOT(ISBLANK(ShareOfSearch_SERPS!A1235)),ShareOfSearch_SERPS!A1235,\"\")","v":""},{"$f":"IF(NOT(ISBLANK(ShareOfSearch_SERPS!G1235)),ShareOfSearch_SERPS!G1235,\"\")","v":""},{"$f":"IF(NOT(ISBLANK(ShareOfSearch_SERPS!K1235)),ShareOfSearch_SERPS!K1235,\"\")","v":""},{"$f":"IFERROR(VLOOKUP(C1235,ShareOfSearch_CTR!$A$1:$B$100,2,FALSE)*VLOOKUP(A1235&B1235,ShareOfSearch_Volume!$C$1:$D$1000,2,FALSE),\"\")","v":""}]
[{"$f":"IF(ISTEXT(ShareOfSearch_SERPS!C1236),ShareOfSearch_SERPS!C1236,\"\")","v":""},{"$f":"IF(ISTEXT(ShareOfSearch_SERPS!D1236),ShareOfSearch_SERPS!D1236,\"\")","v":""},{"$f":"IF(NOT(ISBLANK(ShareOfSearch_SERPS!A1236)),ShareOfSearch_SERPS!A1236,\"\")","v":""},{"$f":"IF(NOT(ISBLANK(ShareOfSearch_SERPS!G1236)),ShareOfSearch_SERPS!G1236,\"\")","v":""},{"$f":"IF(NOT(ISBLANK(ShareOfSearch_SERPS!K1236)),ShareOfSearch_SERPS!K1236,\"\")","v":""},{"$f":"IFERROR(VLOOKUP(C1236,ShareOfSearch_CTR!$A$1:$B$100,2,FALSE)*VLOOKUP(A1236&B1236,ShareOfSearch_Volume!$C$1:$D$1000,2,FALSE),\"\")","v":""}]
[{"$f":"IF(ISTEXT(ShareOfSearch_SERPS!C1237),ShareOfSearch_SERPS!C1237,\"\")","v":""},{"$f":"IF(ISTEXT(ShareOfSearch_SERPS!D1237),ShareOfSearch_SERPS!D1237,\"\")","v":""},{"$f":"IF(NOT(ISBLANK(ShareOfSearch_SERPS!A1237)),ShareOfSearch_SERPS!A1237,\"\")","v":""},{"$f":"IF(NOT(ISBLANK(ShareOfSearch_SERPS!G1237)),ShareOfSearch_SERPS!G1237,\"\")","v":""},{"$f":"IF(NOT(ISBLANK(ShareOfSearch_SERPS!K1237)),ShareOfSearch_SERPS!K1237,\"\")","v":""},{"$f":"IFERROR(VLOOKUP(C1237,ShareOfSearch_CTR!$A$1:$B$100,2,FALSE)*VLOOKUP(A1237&B1237,ShareOfSearch_Volume!$C$1:$D$1000,2,FALSE),\"\")","v":""}]
[{"$f":"IF(ISTEXT(ShareOfSearch_SERPS!C1238),ShareOfSearch_SERPS!C1238,\"\")","v":""},{"$f":"IF(ISTEXT(ShareOfSearch_SERPS!D1238),ShareOfSearch_SERPS!D1238,\"\")","v":""},{"$f":"IF(NOT(ISBLANK(ShareOfSearch_SERPS!A1238)),ShareOfSearch_SERPS!A1238,\"\")","v":""},{"$f":"IF(NOT(ISBLANK(ShareOfSearch_SERPS!G1238)),ShareOfSearch_SERPS!G1238,\"\")","v":""},{"$f":"IF(NOT(ISBLANK(ShareOfSearch_SERPS!K1238)),ShareOfSearch_SERPS!K1238,\"\")","v":""},{"$f":"IFERROR(VLOOKUP(C1238,ShareOfSearch_CTR!$A$1:$B$100,2,FALSE)*VLOOKUP(A1238&B1238,ShareOfSearch_Volume!$C$1:$D$1000,2,FALSE),\"\")","v":""}]
[{"$f":"IF(ISTEXT(ShareOfSearch_SERPS!C1239),ShareOfSearch_SERPS!C1239,\"\")","v":""},{"$f":"IF(ISTEXT(ShareOfSearch_SERPS!D1239),ShareOfSearch_SERPS!D1239,\"\")","v":""},{"$f":"IF(NOT(ISBLANK(ShareOfSearch_SERPS!A1239)),ShareOfSearch_SERPS!A1239,\"\")","v":""},{"$f":"IF(NOT(ISBLANK(ShareOfSearch_SERPS!G1239)),ShareOfSearch_SERPS!G1239,\"\")","v":""},{"$f":"IF(NOT(ISBLANK(ShareOfSearch_SERPS!K1239)),ShareOfSearch_SERPS!K1239,\"\")","v":""},{"$f":"IFERROR(VLOOKUP(C1239,ShareOfSearch_CTR!$A$1:$B$100,2,FALSE)*VLOOKUP(A1239&B1239,ShareOfSearch_Volume!$C$1:$D$1000,2,FALSE),\"\")","v":""}]
[{"$f":"IF(ISTEXT(ShareOfSearch_SERPS!C1240),ShareOfSearch_SERPS!C1240,\"\")","v":""},{"$f":"IF(ISTEXT(ShareOfSearch_SERPS!D1240),ShareOfSearch_SERPS!D1240,\"\")","v":""},{"$f":"IF(NOT(ISBLANK(ShareOfSearch_SERPS!A1240)),ShareOfSearch_SERPS!A1240,\"\")","v":""},{"$f":"IF(NOT(ISBLANK(ShareOfSearch_SERPS!G1240)),ShareOfSearch_SERPS!G1240,\"\")","v":""},{"$f":"IF(NOT(ISBLANK(ShareOfSearch_SERPS!K1240)),ShareOfSearch_SERPS!K1240,\"\")","v":""},{"$f":"IFERROR(VLOOKUP(C1240,ShareOfSearch_CTR!$A$1:$B$100,2,FALSE)*VLOOKUP(A1240&B1240,ShareOfSearch_Volume!$C$1:$D$1000,2,FALSE),\"\")","v":""}]
[{"$f":"IF(ISTEXT(ShareOfSearch_SERPS!C1241),ShareOfSearch_SERPS!C1241,\"\")","v":""},{"$f":"IF(ISTEXT(ShareOfSearch_SERPS!D1241),ShareOfSearch_SERPS!D1241,\"\")","v":""},{"$f":"IF(NOT(ISBLANK(ShareOfSearch_SERPS!A1241)),ShareOfSearch_SERPS!A1241,\"\")","v":""},{"$f":"IF(NOT(ISBLANK(ShareOfSearch_SERPS!G1241)),ShareOfSearch_SERPS!G1241,\"\")","v":""},{"$f":"IF(NOT(ISBLANK(ShareOfSearch_SERPS!K1241)),ShareOfSearch_SERPS!K1241,\"\")","v":""},{"$f":"IFERROR(VLOOKUP(C1241,ShareOfSearch_CTR!$A$1:$B$100,2,FALSE)*VLOOKUP(A1241&B1241,ShareOfSearch_Volume!$C$1:$D$1000,2,FALSE),\"\")","v":""}]
[{"$f":"IF(ISTEXT(ShareOfSearch_SERPS!C1242),ShareOfSearch_SERPS!C1242,\"\")","v":""},{"$f":"IF(ISTEXT(ShareOfSearch_SERPS!D1242),ShareOfSearch_SERPS!D1242,\"\")","v":""},{"$f":"IF(NOT(ISBLANK(ShareOfSearch_SERPS!A1242)),ShareOfSearch_SERPS!A1242,\"\")","v":""},{"$f":"IF(NOT(ISBLANK(ShareOfSearch_SERPS!G1242)),ShareOfSearch_SERPS!G1242,\"\")","v":""},{"$f":"IF(NOT(ISBLANK(ShareOfSearch_SERPS!K1242)),ShareOfSearch_SERPS!K1242,\"\")","v":""},{"$f":"IFERROR(VLOOKUP(C1242,ShareOfSearch_CTR!$A$1:$B$100,2,FALSE)*VLOOKUP(A1242&B1242,ShareOfSearch_Volume!$C$1:$D$1000,2,FALSE),\"\")","v":""}]
[{"$f":"IF(ISTEXT(ShareOfSearch_SERPS!C1243),ShareOfSearch_SERPS!C1243,\"\")","v":""},{"$f":"IF(ISTEXT(ShareOfSearch_SERPS!D1243),ShareOfSearch_SERPS!D1243,\"\")","v":""},{"$f":"IF(NOT(ISBLANK(ShareOfSearch_SERPS!A1243)),ShareOfSearch_SERPS!A1243,\"\")","v":""},{"$f":"IF(NOT(ISBLANK(ShareOfSearch_SERPS!G1243)),ShareOfSearch_SERPS!G1243,\"\")","v":""},{"$f":"IF(NOT(ISBLANK(ShareOfSearch_SERPS!K1243)),ShareOfSearch_SERPS!K1243,\"\")","v":""},{"$f":"IFERROR(VLOOKUP(C1243,ShareOfSearch_CTR!$A$1:$B$100,2,FALSE)*VLOOKUP(A1243&B1243,ShareOfSearch_Volume!$C$1:$D$1000,2,FALSE),\"\")","v":""}]
[{"$f":"IF(ISTEXT(ShareOfSearch_SERPS!C1244),ShareOfSearch_SERPS!C1244,\"\")","v":""},{"$f":"IF(ISTEXT(ShareOfSearch_SERPS!D1244),ShareOfSearch_SERPS!D1244,\"\")","v":""},{"$f":"IF(NOT(ISBLANK(ShareOfSearch_SERPS!A1244)),ShareOfSearch_SERPS!A1244,\"\")","v":""},{"$f":"IF(NOT(ISBLANK(ShareOfSearch_SERPS!G1244)),ShareOfSearch_SERPS!G1244,\"\")","v":""},{"$f":"IF(NOT(ISBLANK(ShareOfSearch_SERPS!K1244)),ShareOfSearch_SERPS!K1244,\"\")","v":""},{"$f":"IFERROR(VLOOKUP(C1244,ShareOfSearch_CTR!$A$1:$B$100,2,FALSE)*VLOOKUP(A1244&B1244,ShareOfSearch_Volume!$C$1:$D$1000,2,FALSE),\"\")","v":""}]
[{"$f":"IF(ISTEXT(ShareOfSearch_SERPS!C1245),ShareOfSearch_SERPS!C1245,\"\")","v":""},{"$f":"IF(ISTEXT(ShareOfSearch_SERPS!D1245),ShareOfSearch_SERPS!D1245,\"\")","v":""},{"$f":"IF(NOT(ISBLANK(ShareOfSearch_SERPS!A1245)),ShareOfSearch_SERPS!A1245,\"\")","v":""},{"$f":"IF(NOT(ISBLANK(ShareOfSearch_SERPS!G1245)),ShareOfSearch_SERPS!G1245,\"\")","v":""},{"$f":"IF(NOT(ISBLANK(ShareOfSearch_SERPS!K1245)),ShareOfSearch_SERPS!K1245,\"\")","v":""},{"$f":"IFERROR(VLOOKUP(C1245,ShareOfSearch_CTR!$A$1:$B$100,2,FALSE)*VLOOKUP(A1245&B1245,ShareOfSearch_Volume!$C$1:$D$1000,2,FALSE),\"\")","v":""}]
[{"$f":"IF(ISTEXT(ShareOfSearch_SERPS!C1246),ShareOfSearch_SERPS!C1246,\"\")","v":""},{"$f":"IF(ISTEXT(ShareOfSearch_SERPS!D1246),ShareOfSearch_SERPS!D1246,\"\")","v":""},{"$f":"IF(NOT(ISBLANK(ShareOfSearch_SERPS!A1246)),ShareOfSearch_SERPS!A1246,\"\")","v":""},{"$f":"IF(NOT(ISBLANK(ShareOfSearch_SERPS!G1246)),ShareOfSearch_SERPS!G1246,\"\")","v":""},{"$f":"IF(NOT(ISBLANK(ShareOfSearch_SERPS!K1246)),ShareOfSearch_SERPS!K1246,\"\")","v":""},{"$f":"IFERROR(VLOOKUP(C1246,ShareOfSearch_CTR!$A$1:$B$100,2,FALSE)*VLOOKUP(A1246&B1246,ShareOfSearch_Volume!$C$1:$D$1000,2,FALSE),\"\")","v":""}]
[{"$f":"IF(ISTEXT(ShareOfSearch_SERPS!C1247),ShareOfSearch_SERPS!C1247,\"\")","v":""},{"$f":"IF(ISTEXT(ShareOfSearch_SERPS!D1247),ShareOfSearch_SERPS!D1247,\"\")","v":""},{"$f":"IF(NOT(ISBLANK(ShareOfSearch_SERPS!A1247)),ShareOfSearch_SERPS!A1247,\"\")","v":""},{"$f":"IF(NOT(ISBLANK(ShareOfSearch_SERPS!G1247)),ShareOfSearch_SERPS!G1247,\"\")","v":""},{"$f":"IF(NOT(ISBLANK(ShareOfSearch_SERPS!K1247)),ShareOfSearch_SERPS!K1247,\"\")","v":""},{"$f":"IFERROR(VLOOKUP(C1247,ShareOfSearch_CTR!$A$1:$B$100,2,FALSE)*VLOOKUP(A1247&B1247,ShareOfSearch_Volume!$C$1:$D$1000,2,FALSE),\"\")","v":""}]
[{"$f":"IF(ISTEXT(ShareOfSearch_SERPS!C1248),ShareOfSearch_SERPS!C1248,\"\")","v":""},{"$f":"IF(ISTEXT(ShareOfSearch_SERPS!D1248),ShareOfSearch_SERPS!D1248,\"\")","v":""},{"$f":"IF(NOT(ISBLANK(ShareOfSearch_SERPS!A1248)),ShareOfSearch_SERPS!A1248,\"\")","v":""},{"$f":"IF(NOT(ISBLANK(ShareOfSearch_SERPS!G1248)),ShareOfSearch_SERPS!G1248,\"\")","v":""},{"$f":"IF(NOT(ISBLANK(ShareOfSearch_SERPS!K1248)),ShareOfSearch_SERPS!K1248,\"\")","v":""},{"$f":"IFERROR(VLOOKUP(C1248,ShareOfSearch_CTR!$A$1:$B$100,2,FALSE)*VLOOKUP(A1248&B1248,ShareOfSearch_Volume!$C$1:$D$1000,2,FALSE),\"\")","v":""}]
[{"$f":"IF(ISTEXT(ShareOfSearch_SERPS!C1249),ShareOfSearch_SERPS!C1249,\"\")","v":""},{"$f":"IF(ISTEXT(ShareOfSearch_SERPS!D1249),ShareOfSearch_SERPS!D1249,\"\")","v":""},{"$f":"IF(NOT(ISBLANK(ShareOfSearch_SERPS!A1249)),ShareOfSearch_SERPS!A1249,\"\")","v":""},{"$f":"IF(NOT(ISBLANK(ShareOfSearch_SERPS!G1249)),ShareOfSearch_SERPS!G1249,\"\")","v":""},{"$f":"IF(NOT(ISBLANK(ShareOfSearch_SERPS!K1249)),ShareOfSearch_SERPS!K1249,\"\")","v":""},{"$f":"IFERROR(VLOOKUP(C1249,ShareOfSearch_CTR!$A$1:$B$100,2,FALSE)*VLOOKUP(A1249&B1249,ShareOfSearch_Volume!$C$1:$D$1000,2,FALSE),\"\")","v":""}]
[{"$f":"IF(ISTEXT(ShareOfSearch_SERPS!C1250),ShareOfSearch_SERPS!C1250,\"\")","v":""},{"$f":"IF(ISTEXT(ShareOfSearch_SERPS!D1250),ShareOfSearch_SERPS!D1250,\"\")","v":""},{"$f":"IF(NOT(ISBLANK(ShareOfSearch_SERPS!A1250)),ShareOfSearch_SERPS!A1250,\"\")","v":""},{"$f":"IF(NOT(ISBLANK(ShareOfSearch_SERPS!G1250)),ShareOfSearch_SERPS!G1250,\"\")","v":""},{"$f":"IF(NOT(ISBLANK(ShareOfSearch_SERPS!K1250)),ShareOfSearch_SERPS!K1250,\"\")","v":""},{"$f":"IFERROR(VLOOKUP(C1250,ShareOfSearch_CTR!$A$1:$B$100,2,FALSE)*VLOOKUP(A1250&B1250,ShareOfSearch_Volume!$C$1:$D$1000,2,FALSE),\"\")","v":""}]
[{"$f":"IF(ISTEXT(ShareOfSearch_SERPS!C1251),ShareOfSearch_SERPS!C1251,\"\")","v":""},{"$f":"IF(ISTEXT(ShareOfSearch_SERPS!D1251),ShareOfSearch_SERPS!D1251,\"\")","v":""},{"$f":"IF(NOT(ISBLANK(ShareOfSearch_SERPS!A1251)),ShareOfSearch_SERPS!A1251,\"\")","v":""},{"$f":"IF(NOT(ISBLANK(ShareOfSearch_SERPS!G1251)),ShareOfSearch_SERPS!G1251,\"\")","v":""},{"$f":"IF(NOT(ISBLANK(ShareOfSearch_SERPS!K1251)),ShareOfSearch_SERPS!K1251,\"\")","v":""},{"$f":"IFERROR(VLOOKUP(C1251,ShareOfSearch_CTR!$A$1:$B$100,2,FALSE)*VLOOKUP(A1251&B1251,ShareOfSearch_Volume!$C$1:$D$1000,2,FALSE),\"\")","v":""}]
[{"$f":"IF(ISTEXT(ShareOfSearch_SERPS!C1252),ShareOfSearch_SERPS!C1252,\"\")","v":""},{"$f":"IF(ISTEXT(ShareOfSearch_SERPS!D1252),ShareOfSearch_SERPS!D1252,\"\")","v":""},{"$f":"IF(NOT(ISBLANK(ShareOfSearch_SERPS!A1252)),ShareOfSearch_SERPS!A1252,\"\")","v":""},{"$f":"IF(NOT(ISBLANK(ShareOfSearch_SERPS!G1252)),ShareOfSearch_SERPS!G1252,\"\")","v":""},{"$f":"IF(NOT(ISBLANK(ShareOfSearch_SERPS!K1252)),ShareOfSearch_SERPS!K1252,\"\")","v":""},{"$f":"IFERROR(VLOOKUP(C1252,ShareOfSearch_CTR!$A$1:$B$100,2,FALSE)*VLOOKUP(A1252&B1252,ShareOfSearch_Volume!$C$1:$D$1000,2,FALSE),\"\")","v":""}]
[{"$f":"IF(ISTEXT(ShareOfSearch_SERPS!C1253),ShareOfSearch_SERPS!C1253,\"\")","v":""},{"$f":"IF(ISTEXT(ShareOfSearch_SERPS!D1253),ShareOfSearch_SERPS!D1253,\"\")","v":""},{"$f":"IF(NOT(ISBLANK(ShareOfSearch_SERPS!A1253)),ShareOfSearch_SERPS!A1253,\"\")","v":""},{"$f":"IF(NOT(ISBLANK(ShareOfSearch_SERPS!G1253)),ShareOfSearch_SERPS!G1253,\"\")","v":""},{"$f":"IF(NOT(ISBLANK(ShareOfSearch_SERPS!K1253)),ShareOfSearch_SERPS!K1253,\"\")","v":""},{"$f":"IFERROR(VLOOKUP(C1253,ShareOfSearch_CTR!$A$1:$B$100,2,FALSE)*VLOOKUP(A1253&B1253,ShareOfSearch_Volume!$C$1:$D$1000,2,FALSE),\"\")","v":""}]
[{"$f":"IF(ISTEXT(ShareOfSearch_SERPS!C1254),ShareOfSearch_SERPS!C1254,\"\")","v":""},{"$f":"IF(ISTEXT(ShareOfSearch_SERPS!D1254),ShareOfSearch_SERPS!D1254,\"\")","v":""},{"$f":"IF(NOT(ISBLANK(ShareOfSearch_SERPS!A1254)),ShareOfSearch_SERPS!A1254,\"\")","v":""},{"$f":"IF(NOT(ISBLANK(ShareOfSearch_SERPS!G1254)),ShareOfSearch_SERPS!G1254,\"\")","v":""},{"$f":"IF(NOT(ISBLANK(ShareOfSearch_SERPS!K1254)),ShareOfSearch_SERPS!K1254,\"\")","v":""},{"$f":"IFERROR(VLOOKUP(C1254,ShareOfSearch_CTR!$A$1:$B$100,2,FALSE)*VLOOKUP(A1254&B1254,ShareOfSearch_Volume!$C$1:$D$1000,2,FALSE),\"\")","v":""}]
[{"$f":"IF(ISTEXT(ShareOfSearch_SERPS!C1255),ShareOfSearch_SERPS!C1255,\"\")","v":""},{"$f":"IF(ISTEXT(ShareOfSearch_SERPS!D1255),ShareOfSearch_SERPS!D1255,\"\")","v":""},{"$f":"IF(NOT(ISBLANK(ShareOfSearch_SERPS!A1255)),ShareOfSearch_SERPS!A1255,\"\")","v":""},{"$f":"IF(NOT(ISBLANK(ShareOfSearch_SERPS!G1255)),ShareOfSearch_SERPS!G1255,\"\")","v":""},{"$f":"IF(NOT(ISBLANK(ShareOfSearch_SERPS!K1255)),ShareOfSearch_SERPS!K1255,\"\")","v":""},{"$f":"IFERROR(VLOOKUP(C1255,ShareOfSearch_CTR!$A$1:$B$100,2,FALSE)*VLOOKUP(A1255&B1255,ShareOfSearch_Volume!$C$1:$D$1000,2,FALSE),\"\")","v":""}]
[{"$f":"IF(ISTEXT(ShareOfSearch_SERPS!C1256),ShareOfSearch_SERPS!C1256,\"\")","v":""},{"$f":"IF(ISTEXT(ShareOfSearch_SERPS!D1256),ShareOfSearch_SERPS!D1256,\"\")","v":""},{"$f":"IF(NOT(ISBLANK(ShareOfSearch_SERPS!A1256)),ShareOfSearch_SERPS!A1256,\"\")","v":""},{"$f":"IF(NOT(ISBLANK(ShareOfSearch_SERPS!G1256)),ShareOfSearch_SERPS!G1256,\"\")","v":""},{"$f":"IF(NOT(ISBLANK(ShareOfSearch_SERPS!K1256)),ShareOfSearch_SERPS!K1256,\"\")","v":""},{"$f":"IFERROR(VLOOKUP(C1256,ShareOfSearch_CTR!$A$1:$B$100,2,FALSE)*VLOOKUP(A1256&B1256,ShareOfSearch_Volume!$C$1:$D$1000,2,FALSE),\"\")","v":""}]
[{"$f":"IF(ISTEXT(ShareOfSearch_SERPS!C1257),ShareOfSearch_SERPS!C1257,\"\")","v":""},{"$f":"IF(ISTEXT(ShareOfSearch_SERPS!D1257),ShareOfSearch_SERPS!D1257,\"\")","v":""},{"$f":"IF(NOT(ISBLANK(ShareOfSearch_SERPS!A1257)),ShareOfSearch_SERPS!A1257,\"\")","v":""},{"$f":"IF(NOT(ISBLANK(ShareOfSearch_SERPS!G1257)),ShareOfSearch_SERPS!G1257,\"\")","v":""},{"$f":"IF(NOT(ISBLANK(ShareOfSearch_SERPS!K1257)),ShareOfSearch_SERPS!K1257,\"\")","v":""},{"$f":"IFERROR(VLOOKUP(C1257,ShareOfSearch_CTR!$A$1:$B$100,2,FALSE)*VLOOKUP(A1257&B1257,ShareOfSearch_Volume!$C$1:$D$1000,2,FALSE),\"\")","v":""}]
[{"$f":"IF(ISTEXT(ShareOfSearch_SERPS!C1258),ShareOfSearch_SERPS!C1258,\"\")","v":""},{"$f":"IF(ISTEXT(ShareOfSearch_SERPS!D1258),ShareOfSearch_SERPS!D1258,\"\")","v":""},{"$f":"IF(NOT(ISBLANK(ShareOfSearch_SERPS!A1258)),ShareOfSearch_SERPS!A1258,\"\")","v":""},{"$f":"IF(NOT(ISBLANK(ShareOfSearch_SERPS!G1258)),ShareOfSearch_SERPS!G1258,\"\")","v":""},{"$f":"IF(NOT(ISBLANK(ShareOfSearch_SERPS!K1258)),ShareOfSearch_SERPS!K1258,\"\")","v":""},{"$f":"IFERROR(VLOOKUP(C1258,ShareOfSearch_CTR!$A$1:$B$100,2,FALSE)*VLOOKUP(A1258&B1258,ShareOfSearch_Volume!$C$1:$D$1000,2,FALSE),\"\")","v":""}]
[{"$f":"IF(ISTEXT(ShareOfSearch_SERPS!C1259),ShareOfSearch_SERPS!C1259,\"\")","v":""},{"$f":"IF(ISTEXT(ShareOfSearch_SERPS!D1259),ShareOfSearch_SERPS!D1259,\"\")","v":""},{"$f":"IF(NOT(ISBLANK(ShareOfSearch_SERPS!A1259)),ShareOfSearch_SERPS!A1259,\"\")","v":""},{"$f":"IF(NOT(ISBLANK(ShareOfSearch_SERPS!G1259)),ShareOfSearch_SERPS!G1259,\"\")","v":""},{"$f":"IF(NOT(ISBLANK(ShareOfSearch_SERPS!K1259)),ShareOfSearch_SERPS!K1259,\"\")","v":""},{"$f":"IFERROR(VLOOKUP(C1259,ShareOfSearch_CTR!$A$1:$B$100,2,FALSE)*VLOOKUP(A1259&B1259,ShareOfSearch_Volume!$C$1:$D$1000,2,FALSE),\"\")","v":""}]
[{"$f":"IF(ISTEXT(ShareOfSearch_SERPS!C1260),ShareOfSearch_SERPS!C1260,\"\")","v":""},{"$f":"IF(ISTEXT(ShareOfSearch_SERPS!D1260),ShareOfSearch_SERPS!D1260,\"\")","v":""},{"$f":"IF(NOT(ISBLANK(ShareOfSearch_SERPS!A1260)),ShareOfSearch_SERPS!A1260,\"\")","v":""},{"$f":"IF(NOT(ISBLANK(ShareOfSearch_SERPS!G1260)),ShareOfSearch_SERPS!G1260,\"\")","v":""},{"$f":"IF(NOT(ISBLANK(ShareOfSearch_SERPS!K1260)),ShareOfSearch_SERPS!K1260,\"\")","v":""},{"$f":"IFERROR(VLOOKUP(C1260,ShareOfSearch_CTR!$A$1:$B$100,2,FALSE)*VLOOKUP(A1260&B1260,ShareOfSearch_Volume!$C$1:$D$1000,2,FALSE),\"\")","v":""}]
[{"$f":"IF(ISTEXT(ShareOfSearch_SERPS!C1261),ShareOfSearch_SERPS!C1261,\"\")","v":""},{"$f":"IF(ISTEXT(ShareOfSearch_SERPS!D1261),ShareOfSearch_SERPS!D1261,\"\")","v":""},{"$f":"IF(NOT(ISBLANK(ShareOfSearch_SERPS!A1261)),ShareOfSearch_SERPS!A1261,\"\")","v":""},{"$f":"IF(NOT(ISBLANK(ShareOfSearch_SERPS!G1261)),ShareOfSearch_SERPS!G1261,\"\")","v":""},{"$f":"IF(NOT(ISBLANK(ShareOfSearch_SERPS!K1261)),ShareOfSearch_SERPS!K1261,\"\")","v":""},{"$f":"IFERROR(VLOOKUP(C1261,ShareOfSearch_CTR!$A$1:$B$100,2,FALSE)*VLOOKUP(A1261&B1261,ShareOfSearch_Volume!$C$1:$D$1000,2,FALSE),\"\")","v":""}]
[{"$f":"IF(ISTEXT(ShareOfSearch_SERPS!C1262),ShareOfSearch_SERPS!C1262,\"\")","v":""},{"$f":"IF(ISTEXT(ShareOfSearch_SERPS!D1262),ShareOfSearch_SERPS!D1262,\"\")","v":""},{"$f":"IF(NOT(ISBLANK(ShareOfSearch_SERPS!A1262)),ShareOfSearch_SERPS!A1262,\"\")","v":""},{"$f":"IF(NOT(ISBLANK(ShareOfSearch_SERPS!G1262)),ShareOfSearch_SERPS!G1262,\"\")","v":""},{"$f":"IF(NOT(ISBLANK(ShareOfSearch_SERPS!K1262)),ShareOfSearch_SERPS!K1262,\"\")","v":""},{"$f":"IFERROR(VLOOKUP(C1262,ShareOfSearch_CTR!$A$1:$B$100,2,FALSE)*VLOOKUP(A1262&B1262,ShareOfSearch_Volume!$C$1:$D$1000,2,FALSE),\"\")","v":""}]
[{"$f":"IF(ISTEXT(ShareOfSearch_SERPS!C1263),ShareOfSearch_SERPS!C1263,\"\")","v":""},{"$f":"IF(ISTEXT(ShareOfSearch_SERPS!D1263),ShareOfSearch_SERPS!D1263,\"\")","v":""},{"$f":"IF(NOT(ISBLANK(ShareOfSearch_SERPS!A1263)),ShareOfSearch_SERPS!A1263,\"\")","v":""},{"$f":"IF(NOT(ISBLANK(ShareOfSearch_SERPS!G1263)),ShareOfSearch_SERPS!G1263,\"\")","v":""},{"$f":"IF(NOT(ISBLANK(ShareOfSearch_SERPS!K1263)),ShareOfSearch_SERPS!K1263,\"\")","v":""},{"$f":"IFERROR(VLOOKUP(C1263,ShareOfSearch_CTR!$A$1:$B$100,2,FALSE)*VLOOKUP(A1263&B1263,ShareOfSearch_Volume!$C$1:$D$1000,2,FALSE),\"\")","v":""}]
[{"$f":"IF(ISTEXT(ShareOfSearch_SERPS!C1264),ShareOfSearch_SERPS!C1264,\"\")","v":""},{"$f":"IF(ISTEXT(ShareOfSearch_SERPS!D1264),ShareOfSearch_SERPS!D1264,\"\")","v":""},{"$f":"IF(NOT(ISBLANK(ShareOfSearch_SERPS!A1264)),ShareOfSearch_SERPS!A1264,\"\")","v":""},{"$f":"IF(NOT(ISBLANK(ShareOfSearch_SERPS!G1264)),ShareOfSearch_SERPS!G1264,\"\")","v":""},{"$f":"IF(NOT(ISBLANK(ShareOfSearch_SERPS!K1264)),ShareOfSearch_SERPS!K1264,\"\")","v":""},{"$f":"IFERROR(VLOOKUP(C1264,ShareOfSearch_CTR!$A$1:$B$100,2,FALSE)*VLOOKUP(A1264&B1264,ShareOfSearch_Volume!$C$1:$D$1000,2,FALSE),\"\")","v":""}]
[{"$f":"IF(ISTEXT(ShareOfSearch_SERPS!C1265),ShareOfSearch_SERPS!C1265,\"\")","v":""},{"$f":"IF(ISTEXT(ShareOfSearch_SERPS!D1265),ShareOfSearch_SERPS!D1265,\"\")","v":""},{"$f":"IF(NOT(ISBLANK(ShareOfSearch_SERPS!A1265)),ShareOfSearch_SERPS!A1265,\"\")","v":""},{"$f":"IF(NOT(ISBLANK(ShareOfSearch_SERPS!G1265)),ShareOfSearch_SERPS!G1265,\"\")","v":""},{"$f":"IF(NOT(ISBLANK(ShareOfSearch_SERPS!K1265)),ShareOfSearch_SERPS!K1265,\"\")","v":""},{"$f":"IFERROR(VLOOKUP(C1265,ShareOfSearch_CTR!$A$1:$B$100,2,FALSE)*VLOOKUP(A1265&B1265,ShareOfSearch_Volume!$C$1:$D$1000,2,FALSE),\"\")","v":""}]
[{"$f":"IF(ISTEXT(ShareOfSearch_SERPS!C1266),ShareOfSearch_SERPS!C1266,\"\")","v":""},{"$f":"IF(ISTEXT(ShareOfSearch_SERPS!D1266),ShareOfSearch_SERPS!D1266,\"\")","v":""},{"$f":"IF(NOT(ISBLANK(ShareOfSearch_SERPS!A1266)),ShareOfSearch_SERPS!A1266,\"\")","v":""},{"$f":"IF(NOT(ISBLANK(ShareOfSearch_SERPS!G1266)),ShareOfSearch_SERPS!G1266,\"\")","v":""},{"$f":"IF(NOT(ISBLANK(ShareOfSearch_SERPS!K1266)),ShareOfSearch_SERPS!K1266,\"\")","v":""},{"$f":"IFERROR(VLOOKUP(C1266,ShareOfSearch_CTR!$A$1:$B$100,2,FALSE)*VLOOKUP(A1266&B1266,ShareOfSearch_Volume!$C$1:$D$1000,2,FALSE),\"\")","v":""}]
[{"$f":"IF(ISTEXT(ShareOfSearch_SERPS!C1267),ShareOfSearch_SERPS!C1267,\"\")","v":""},{"$f":"IF(ISTEXT(ShareOfSearch_SERPS!D1267),ShareOfSearch_SERPS!D1267,\"\")","v":""},{"$f":"IF(NOT(ISBLANK(ShareOfSearch_SERPS!A1267)),ShareOfSearch_SERPS!A1267,\"\")","v":""},{"$f":"IF(NOT(ISBLANK(ShareOfSearch_SERPS!G1267)),ShareOfSearch_SERPS!G1267,\"\")","v":""},{"$f":"IF(NOT(ISBLANK(ShareOfSearch_SERPS!K1267)),ShareOfSearch_SERPS!K1267,\"\")","v":""},{"$f":"IFERROR(VLOOKUP(C1267,ShareOfSearch_CTR!$A$1:$B$100,2,FALSE)*VLOOKUP(A1267&B1267,ShareOfSearch_Volume!$C$1:$D$1000,2,FALSE),\"\")","v":""}]
[{"$f":"IF(ISTEXT(ShareOfSearch_SERPS!C1268),ShareOfSearch_SERPS!C1268,\"\")","v":""},{"$f":"IF(ISTEXT(ShareOfSearch_SERPS!D1268),ShareOfSearch_SERPS!D1268,\"\")","v":""},{"$f":"IF(NOT(ISBLANK(ShareOfSearch_SERPS!A1268)),ShareOfSearch_SERPS!A1268,\"\")","v":""},{"$f":"IF(NOT(ISBLANK(ShareOfSearch_SERPS!G1268)),ShareOfSearch_SERPS!G1268,\"\")","v":""},{"$f":"IF(NOT(ISBLANK(ShareOfSearch_SERPS!K1268)),ShareOfSearch_SERPS!K1268,\"\")","v":""},{"$f":"IFERROR(VLOOKUP(C1268,ShareOfSearch_CTR!$A$1:$B$100,2,FALSE)*VLOOKUP(A1268&B1268,ShareOfSearch_Volume!$C$1:$D$1000,2,FALSE),\"\")","v":""}]
[{"$f":"IF(ISTEXT(ShareOfSearch_SERPS!C1269),ShareOfSearch_SERPS!C1269,\"\")","v":""},{"$f":"IF(ISTEXT(ShareOfSearch_SERPS!D1269),ShareOfSearch_SERPS!D1269,\"\")","v":""},{"$f":"IF(NOT(ISBLANK(ShareOfSearch_SERPS!A1269)),ShareOfSearch_SERPS!A1269,\"\")","v":""},{"$f":"IF(NOT(ISBLANK(ShareOfSearch_SERPS!G1269)),ShareOfSearch_SERPS!G1269,\"\")","v":""},{"$f":"IF(NOT(ISBLANK(ShareOfSearch_SERPS!K1269)),ShareOfSearch_SERPS!K1269,\"\")","v":""},{"$f":"IFERROR(VLOOKUP(C1269,ShareOfSearch_CTR!$A$1:$B$100,2,FALSE)*VLOOKUP(A1269&B1269,ShareOfSearch_Volume!$C$1:$D$1000,2,FALSE),\"\")","v":""}]
[{"$f":"IF(ISTEXT(ShareOfSearch_SERPS!C1270),ShareOfSearch_SERPS!C1270,\"\")","v":""},{"$f":"IF(ISTEXT(ShareOfSearch_SERPS!D1270),ShareOfSearch_SERPS!D1270,\"\")","v":""},{"$f":"IF(NOT(ISBLANK(ShareOfSearch_SERPS!A1270)),ShareOfSearch_SERPS!A1270,\"\")","v":""},{"$f":"IF(NOT(ISBLANK(ShareOfSearch_SERPS!G1270)),ShareOfSearch_SERPS!G1270,\"\")","v":""},{"$f":"IF(NOT(ISBLANK(ShareOfSearch_SERPS!K1270)),ShareOfSearch_SERPS!K1270,\"\")","v":""},{"$f":"IFERROR(VLOOKUP(C1270,ShareOfSearch_CTR!$A$1:$B$100,2,FALSE)*VLOOKUP(A1270&B1270,ShareOfSearch_Volume!$C$1:$D$1000,2,FALSE),\"\")","v":""}]
[{"$f":"IF(ISTEXT(ShareOfSearch_SERPS!C1271),ShareOfSearch_SERPS!C1271,\"\")","v":""},{"$f":"IF(ISTEXT(ShareOfSearch_SERPS!D1271),ShareOfSearch_SERPS!D1271,\"\")","v":""},{"$f":"IF(NOT(ISBLANK(ShareOfSearch_SERPS!A1271)),ShareOfSearch_SERPS!A1271,\"\")","v":""},{"$f":"IF(NOT(ISBLANK(ShareOfSearch_SERPS!G1271)),ShareOfSearch_SERPS!G1271,\"\")","v":""},{"$f":"IF(NOT(ISBLANK(ShareOfSearch_SERPS!K1271)),ShareOfSearch_SERPS!K1271,\"\")","v":""},{"$f":"IFERROR(VLOOKUP(C1271,ShareOfSearch_CTR!$A$1:$B$100,2,FALSE)*VLOOKUP(A1271&B1271,ShareOfSearch_Volume!$C$1:$D$1000,2,FALSE),\"\")","v":""}]
[{"$f":"IF(ISTEXT(ShareOfSearch_SERPS!C1272),ShareOfSearch_SERPS!C1272,\"\")","v":""},{"$f":"IF(ISTEXT(ShareOfSearch_SERPS!D1272),ShareOfSearch_SERPS!D1272,\"\")","v":""},{"$f":"IF(NOT(ISBLANK(ShareOfSearch_SERPS!A1272)),ShareOfSearch_SERPS!A1272,\"\")","v":""},{"$f":"IF(NOT(ISBLANK(ShareOfSearch_SERPS!G1272)),ShareOfSearch_SERPS!G1272,\"\")","v":""},{"$f":"IF(NOT(ISBLANK(ShareOfSearch_SERPS!K1272)),ShareOfSearch_SERPS!K1272,\"\")","v":""},{"$f":"IFERROR(VLOOKUP(C1272,ShareOfSearch_CTR!$A$1:$B$100,2,FALSE)*VLOOKUP(A1272&B1272,ShareOfSearch_Volume!$C$1:$D$1000,2,FALSE),\"\")","v":""}]
[{"$f":"IF(ISTEXT(ShareOfSearch_SERPS!C1273),ShareOfSearch_SERPS!C1273,\"\")","v":""},{"$f":"IF(ISTEXT(ShareOfSearch_SERPS!D1273),ShareOfSearch_SERPS!D1273,\"\")","v":""},{"$f":"IF(NOT(ISBLANK(ShareOfSearch_SERPS!A1273)),ShareOfSearch_SERPS!A1273,\"\")","v":""},{"$f":"IF(NOT(ISBLANK(ShareOfSearch_SERPS!G1273)),ShareOfSearch_SERPS!G1273,\"\")","v":""},{"$f":"IF(NOT(ISBLANK(ShareOfSearch_SERPS!K1273)),ShareOfSearch_SERPS!K1273,\"\")","v":""},{"$f":"IFERROR(VLOOKUP(C1273,ShareOfSearch_CTR!$A$1:$B$100,2,FALSE)*VLOOKUP(A1273&B1273,ShareOfSearch_Volume!$C$1:$D$1000,2,FALSE),\"\")","v":""}]
[{"$f":"IF(ISTEXT(ShareOfSearch_SERPS!C1274),ShareOfSearch_SERPS!C1274,\"\")","v":""},{"$f":"IF(ISTEXT(ShareOfSearch_SERPS!D1274),ShareOfSearch_SERPS!D1274,\"\")","v":""},{"$f":"IF(NOT(ISBLANK(ShareOfSearch_SERPS!A1274)),ShareOfSearch_SERPS!A1274,\"\")","v":""},{"$f":"IF(NOT(ISBLANK(ShareOfSearch_SERPS!G1274)),ShareOfSearch_SERPS!G1274,\"\")","v":""},{"$f":"IF(NOT(ISBLANK(ShareOfSearch_SERPS!K1274)),ShareOfSearch_SERPS!K1274,\"\")","v":""},{"$f":"IFERROR(VLOOKUP(C1274,ShareOfSearch_CTR!$A$1:$B$100,2,FALSE)*VLOOKUP(A1274&B1274,ShareOfSearch_Volume!$C$1:$D$1000,2,FALSE),\"\")","v":""}]
[{"$f":"IF(ISTEXT(ShareOfSearch_SERPS!C1275),ShareOfSearch_SERPS!C1275,\"\")","v":""},{"$f":"IF(ISTEXT(ShareOfSearch_SERPS!D1275),ShareOfSearch_SERPS!D1275,\"\")","v":""},{"$f":"IF(NOT(ISBLANK(ShareOfSearch_SERPS!A1275)),ShareOfSearch_SERPS!A1275,\"\")","v":""},{"$f":"IF(NOT(ISBLANK(ShareOfSearch_SERPS!G1275)),ShareOfSearch_SERPS!G1275,\"\")","v":""},{"$f":"IF(NOT(ISBLANK(ShareOfSearch_SERPS!K1275)),ShareOfSearch_SERPS!K1275,\"\")","v":""},{"$f":"IFERROR(VLOOKUP(C1275,ShareOfSearch_CTR!$A$1:$B$100,2,FALSE)*VLOOKUP(A1275&B1275,ShareOfSearch_Volume!$C$1:$D$1000,2,FALSE),\"\")","v":""}]
[{"$f":"IF(ISTEXT(ShareOfSearch_SERPS!C1276),ShareOfSearch_SERPS!C1276,\"\")","v":""},{"$f":"IF(ISTEXT(ShareOfSearch_SERPS!D1276),ShareOfSearch_SERPS!D1276,\"\")","v":""},{"$f":"IF(NOT(ISBLANK(ShareOfSearch_SERPS!A1276)),ShareOfSearch_SERPS!A1276,\"\")","v":""},{"$f":"IF(NOT(ISBLANK(ShareOfSearch_SERPS!G1276)),ShareOfSearch_SERPS!G1276,\"\")","v":""},{"$f":"IF(NOT(ISBLANK(ShareOfSearch_SERPS!K1276)),ShareOfSearch_SERPS!K1276,\"\")","v":""},{"$f":"IFERROR(VLOOKUP(C1276,ShareOfSearch_CTR!$A$1:$B$100,2,FALSE)*VLOOKUP(A1276&B1276,ShareOfSearch_Volume!$C$1:$D$1000,2,FALSE),\"\")","v":""}]
[{"$f":"IF(ISTEXT(ShareOfSearch_SERPS!C1277),ShareOfSearch_SERPS!C1277,\"\")","v":""},{"$f":"IF(ISTEXT(ShareOfSearch_SERPS!D1277),ShareOfSearch_SERPS!D1277,\"\")","v":""},{"$f":"IF(NOT(ISBLANK(ShareOfSearch_SERPS!A1277)),ShareOfSearch_SERPS!A1277,\"\")","v":""},{"$f":"IF(NOT(ISBLANK(ShareOfSearch_SERPS!G1277)),ShareOfSearch_SERPS!G1277,\"\")","v":""},{"$f":"IF(NOT(ISBLANK(ShareOfSearch_SERPS!K1277)),ShareOfSearch_SERPS!K1277,\"\")","v":""},{"$f":"IFERROR(VLOOKUP(C1277,ShareOfSearch_CTR!$A$1:$B$100,2,FALSE)*VLOOKUP(A1277&B1277,ShareOfSearch_Volume!$C$1:$D$1000,2,FALSE),\"\")","v":""}]
[{"$f":"IF(ISTEXT(ShareOfSearch_SERPS!C1278),ShareOfSearch_SERPS!C1278,\"\")","v":""},{"$f":"IF(ISTEXT(ShareOfSearch_SERPS!D1278),ShareOfSearch_SERPS!D1278,\"\")","v":""},{"$f":"IF(NOT(ISBLANK(ShareOfSearch_SERPS!A1278)),ShareOfSearch_SERPS!A1278,\"\")","v":""},{"$f":"IF(NOT(ISBLANK(ShareOfSearch_SERPS!G1278)),ShareOfSearch_SERPS!G1278,\"\")","v":""},{"$f":"IF(NOT(ISBLANK(ShareOfSearch_SERPS!K1278)),ShareOfSearch_SERPS!K1278,\"\")","v":""},{"$f":"IFERROR(VLOOKUP(C1278,ShareOfSearch_CTR!$A$1:$B$100,2,FALSE)*VLOOKUP(A1278&B1278,ShareOfSearch_Volume!$C$1:$D$1000,2,FALSE),\"\")","v":""}]
[{"$f":"IF(ISTEXT(ShareOfSearch_SERPS!C1279),ShareOfSearch_SERPS!C1279,\"\")","v":""},{"$f":"IF(ISTEXT(ShareOfSearch_SERPS!D1279),ShareOfSearch_SERPS!D1279,\"\")","v":""},{"$f":"IF(NOT(ISBLANK(ShareOfSearch_SERPS!A1279)),ShareOfSearch_SERPS!A1279,\"\")","v":""},{"$f":"IF(NOT(ISBLANK(ShareOfSearch_SERPS!G1279)),ShareOfSearch_SERPS!G1279,\"\")","v":""},{"$f":"IF(NOT(ISBLANK(ShareOfSearch_SERPS!K1279)),ShareOfSearch_SERPS!K1279,\"\")","v":""},{"$f":"IFERROR(VLOOKUP(C1279,ShareOfSearch_CTR!$A$1:$B$100,2,FALSE)*VLOOKUP(A1279&B1279,ShareOfSearch_Volume!$C$1:$D$1000,2,FALSE),\"\")","v":""}]
[{"$f":"IF(ISTEXT(ShareOfSearch_SERPS!C1280),ShareOfSearch_SERPS!C1280,\"\")","v":""},{"$f":"IF(ISTEXT(ShareOfSearch_SERPS!D1280),ShareOfSearch_SERPS!D1280,\"\")","v":""},{"$f":"IF(NOT(ISBLANK(ShareOfSearch_SERPS!A1280)),ShareOfSearch_SERPS!A1280,\"\")","v":""},{"$f":"IF(NOT(ISBLANK(ShareOfSearch_SERPS!G1280)),ShareOfSearch_SERPS!G1280,\"\")","v":""},{"$f":"IF(NOT(ISBLANK(ShareOfSearch_SERPS!K1280)),ShareOfSearch_SERPS!K1280,\"\")","v":""},{"$f":"IFERROR(VLOOKUP(C1280,ShareOfSearch_CTR!$A$1:$B$100,2,FALSE)*VLOOKUP(A1280&B1280,ShareOfSearch_Volume!$C$1:$D$1000,2,FALSE),\"\")","v":""}]
[{"$f":"IF(ISTEXT(ShareOfSearch_SERPS!C1281),ShareOfSearch_SERPS!C1281,\"\")","v":""},{"$f":"IF(ISTEXT(ShareOfSearch_SERPS!D1281),ShareOfSearch_SERPS!D1281,\"\")","v":""},{"$f":"IF(NOT(ISBLANK(ShareOfSearch_SERPS!A1281)),ShareOfSearch_SERPS!A1281,\"\")","v":""},{"$f":"IF(NOT(ISBLANK(ShareOfSearch_SERPS!G1281)),ShareOfSearch_SERPS!G1281,\"\")","v":""},{"$f":"IF(NOT(ISBLANK(ShareOfSearch_SERPS!K1281)),ShareOfSearch_SERPS!K1281,\"\")","v":""},{"$f":"IFERROR(VLOOKUP(C1281,ShareOfSearch_CTR!$A$1:$B$100,2,FALSE)*VLOOKUP(A1281&B1281,ShareOfSearch_Volume!$C$1:$D$1000,2,FALSE),\"\")","v":""}]
[{"$f":"IF(ISTEXT(ShareOfSearch_SERPS!C1282),ShareOfSearch_SERPS!C1282,\"\")","v":""},{"$f":"IF(ISTEXT(ShareOfSearch_SERPS!D1282),ShareOfSearch_SERPS!D1282,\"\")","v":""},{"$f":"IF(NOT(ISBLANK(ShareOfSearch_SERPS!A1282)),ShareOfSearch_SERPS!A1282,\"\")","v":""},{"$f":"IF(NOT(ISBLANK(ShareOfSearch_SERPS!G1282)),ShareOfSearch_SERPS!G1282,\"\")","v":""},{"$f":"IF(NOT(ISBLANK(ShareOfSearch_SERPS!K1282)),ShareOfSearch_SERPS!K1282,\"\")","v":""},{"$f":"IFERROR(VLOOKUP(C1282,ShareOfSearch_CTR!$A$1:$B$100,2,FALSE)*VLOOKUP(A1282&B1282,ShareOfSearch_Volume!$C$1:$D$1000,2,FALSE),\"\")","v":""}]
[{"$f":"IF(ISTEXT(ShareOfSearch_SERPS!C1283),ShareOfSearch_SERPS!C1283,\"\")","v":""},{"$f":"IF(ISTEXT(ShareOfSearch_SERPS!D1283),ShareOfSearch_SERPS!D1283,\"\")","v":""},{"$f":"IF(NOT(ISBLANK(ShareOfSearch_SERPS!A1283)),ShareOfSearch_SERPS!A1283,\"\")","v":""},{"$f":"IF(NOT(ISBLANK(ShareOfSearch_SERPS!G1283)),ShareOfSearch_SERPS!G1283,\"\")","v":""},{"$f":"IF(NOT(ISBLANK(ShareOfSearch_SERPS!K1283)),ShareOfSearch_SERPS!K1283,\"\")","v":""},{"$f":"IFERROR(VLOOKUP(C1283,ShareOfSearch_CTR!$A$1:$B$100,2,FALSE)*VLOOKUP(A1283&B1283,ShareOfSearch_Volume!$C$1:$D$1000,2,FALSE),\"\")","v":""}]
[{"$f":"IF(ISTEXT(ShareOfSearch_SERPS!C1284),ShareOfSearch_SERPS!C1284,\"\")","v":""},{"$f":"IF(ISTEXT(ShareOfSearch_SERPS!D1284),ShareOfSearch_SERPS!D1284,\"\")","v":""},{"$f":"IF(NOT(ISBLANK(ShareOfSearch_SERPS!A1284)),ShareOfSearch_SERPS!A1284,\"\")","v":""},{"$f":"IF(NOT(ISBLANK(ShareOfSearch_SERPS!G1284)),ShareOfSearch_SERPS!G1284,\"\")","v":""},{"$f":"IF(NOT(ISBLANK(ShareOfSearch_SERPS!K1284)),ShareOfSearch_SERPS!K1284,\"\")","v":""},{"$f":"IFERROR(VLOOKUP(C1284,ShareOfSearch_CTR!$A$1:$B$100,2,FALSE)*VLOOKUP(A1284&B1284,ShareOfSearch_Volume!$C$1:$D$1000,2,FALSE),\"\")","v":""}]
[{"$f":"IF(ISTEXT(ShareOfSearch_SERPS!C1285),ShareOfSearch_SERPS!C1285,\"\")","v":""},{"$f":"IF(ISTEXT(ShareOfSearch_SERPS!D1285),ShareOfSearch_SERPS!D1285,\"\")","v":""},{"$f":"IF(NOT(ISBLANK(ShareOfSearch_SERPS!A1285)),ShareOfSearch_SERPS!A1285,\"\")","v":""},{"$f":"IF(NOT(ISBLANK(ShareOfSearch_SERPS!G1285)),ShareOfSearch_SERPS!G1285,\"\")","v":""},{"$f":"IF(NOT(ISBLANK(ShareOfSearch_SERPS!K1285)),ShareOfSearch_SERPS!K1285,\"\")","v":""},{"$f":"IFERROR(VLOOKUP(C1285,ShareOfSearch_CTR!$A$1:$B$100,2,FALSE)*VLOOKUP(A1285&B1285,ShareOfSearch_Volume!$C$1:$D$1000,2,FALSE),\"\")","v":""}]
[{"$f":"IF(ISTEXT(ShareOfSearch_SERPS!C1286),ShareOfSearch_SERPS!C1286,\"\")","v":""},{"$f":"IF(ISTEXT(ShareOfSearch_SERPS!D1286),ShareOfSearch_SERPS!D1286,\"\")","v":""},{"$f":"IF(NOT(ISBLANK(ShareOfSearch_SERPS!A1286)),ShareOfSearch_SERPS!A1286,\"\")","v":""},{"$f":"IF(NOT(ISBLANK(ShareOfSearch_SERPS!G1286)),ShareOfSearch_SERPS!G1286,\"\")","v":""},{"$f":"IF(NOT(ISBLANK(ShareOfSearch_SERPS!K1286)),ShareOfSearch_SERPS!K1286,\"\")","v":""},{"$f":"IFERROR(VLOOKUP(C1286,ShareOfSearch_CTR!$A$1:$B$100,2,FALSE)*VLOOKUP(A1286&B1286,ShareOfSearch_Volume!$C$1:$D$1000,2,FALSE),\"\")","v":""}]
[{"$f":"IF(ISTEXT(ShareOfSearch_SERPS!C1287),ShareOfSearch_SERPS!C1287,\"\")","v":""},{"$f":"IF(ISTEXT(ShareOfSearch_SERPS!D1287),ShareOfSearch_SERPS!D1287,\"\")","v":""},{"$f":"IF(NOT(ISBLANK(ShareOfSearch_SERPS!A1287)),ShareOfSearch_SERPS!A1287,\"\")","v":""},{"$f":"IF(NOT(ISBLANK(ShareOfSearch_SERPS!G1287)),ShareOfSearch_SERPS!G1287,\"\")","v":""},{"$f":"IF(NOT(ISBLANK(ShareOfSearch_SERPS!K1287)),ShareOfSearch_SERPS!K1287,\"\")","v":""},{"$f":"IFERROR(VLOOKUP(C1287,ShareOfSearch_CTR!$A$1:$B$100,2,FALSE)*VLOOKUP(A1287&B1287,ShareOfSearch_Volume!$C$1:$D$1000,2,FALSE),\"\")","v":""}]
[{"$f":"IF(ISTEXT(ShareOfSearch_SERPS!C1288),ShareOfSearch_SERPS!C1288,\"\")","v":""},{"$f":"IF(ISTEXT(ShareOfSearch_SERPS!D1288),ShareOfSearch_SERPS!D1288,\"\")","v":""},{"$f":"IF(NOT(ISBLANK(ShareOfSearch_SERPS!A1288)),ShareOfSearch_SERPS!A1288,\"\")","v":""},{"$f":"IF(NOT(ISBLANK(ShareOfSearch_SERPS!G1288)),ShareOfSearch_SERPS!G1288,\"\")","v":""},{"$f":"IF(NOT(ISBLANK(ShareOfSearch_SERPS!K1288)),ShareOfSearch_SERPS!K1288,\"\")","v":""},{"$f":"IFERROR(VLOOKUP(C1288,ShareOfSearch_CTR!$A$1:$B$100,2,FALSE)*VLOOKUP(A1288&B1288,ShareOfSearch_Volume!$C$1:$D$1000,2,FALSE),\"\")","v":""}]
[{"$f":"IF(ISTEXT(ShareOfSearch_SERPS!C1289),ShareOfSearch_SERPS!C1289,\"\")","v":""},{"$f":"IF(ISTEXT(ShareOfSearch_SERPS!D1289),ShareOfSearch_SERPS!D1289,\"\")","v":""},{"$f":"IF(NOT(ISBLANK(ShareOfSearch_SERPS!A1289)),ShareOfSearch_SERPS!A1289,\"\")","v":""},{"$f":"IF(NOT(ISBLANK(ShareOfSearch_SERPS!G1289)),ShareOfSearch_SERPS!G1289,\"\")","v":""},{"$f":"IF(NOT(ISBLANK(ShareOfSearch_SERPS!K1289)),ShareOfSearch_SERPS!K1289,\"\")","v":""},{"$f":"IFERROR(VLOOKUP(C1289,ShareOfSearch_CTR!$A$1:$B$100,2,FALSE)*VLOOKUP(A1289&B1289,ShareOfSearch_Volume!$C$1:$D$1000,2,FALSE),\"\")","v":""}]
[{"$f":"IF(ISTEXT(ShareOfSearch_SERPS!C1290),ShareOfSearch_SERPS!C1290,\"\")","v":""},{"$f":"IF(ISTEXT(ShareOfSearch_SERPS!D1290),ShareOfSearch_SERPS!D1290,\"\")","v":""},{"$f":"IF(NOT(ISBLANK(ShareOfSearch_SERPS!A1290)),ShareOfSearch_SERPS!A1290,\"\")","v":""},{"$f":"IF(NOT(ISBLANK(ShareOfSearch_SERPS!G1290)),ShareOfSearch_SERPS!G1290,\"\")","v":""},{"$f":"IF(NOT(ISBLANK(ShareOfSearch_SERPS!K1290)),ShareOfSearch_SERPS!K1290,\"\")","v":""},{"$f":"IFERROR(VLOOKUP(C1290,ShareOfSearch_CTR!$A$1:$B$100,2,FALSE)*VLOOKUP(A1290&B1290,ShareOfSearch_Volume!$C$1:$D$1000,2,FALSE),\"\")","v":""}]
[{"$f":"IF(ISTEXT(ShareOfSearch_SERPS!C1291),ShareOfSearch_SERPS!C1291,\"\")","v":""},{"$f":"IF(ISTEXT(ShareOfSearch_SERPS!D1291),ShareOfSearch_SERPS!D1291,\"\")","v":""},{"$f":"IF(NOT(ISBLANK(ShareOfSearch_SERPS!A1291)),ShareOfSearch_SERPS!A1291,\"\")","v":""},{"$f":"IF(NOT(ISBLANK(ShareOfSearch_SERPS!G1291)),ShareOfSearch_SERPS!G1291,\"\")","v":""},{"$f":"IF(NOT(ISBLANK(ShareOfSearch_SERPS!K1291)),ShareOfSearch_SERPS!K1291,\"\")","v":""},{"$f":"IFERROR(VLOOKUP(C1291,ShareOfSearch_CTR!$A$1:$B$100,2,FALSE)*VLOOKUP(A1291&B1291,ShareOfSearch_Volume!$C$1:$D$1000,2,FALSE),\"\")","v":""}]
[{"$f":"IF(ISTEXT(ShareOfSearch_SERPS!C1292),ShareOfSearch_SERPS!C1292,\"\")","v":""},{"$f":"IF(ISTEXT(ShareOfSearch_SERPS!D1292),ShareOfSearch_SERPS!D1292,\"\")","v":""},{"$f":"IF(NOT(ISBLANK(ShareOfSearch_SERPS!A1292)),ShareOfSearch_SERPS!A1292,\"\")","v":""},{"$f":"IF(NOT(ISBLANK(ShareOfSearch_SERPS!G1292)),ShareOfSearch_SERPS!G1292,\"\")","v":""},{"$f":"IF(NOT(ISBLANK(ShareOfSearch_SERPS!K1292)),ShareOfSearch_SERPS!K1292,\"\")","v":""},{"$f":"IFERROR(VLOOKUP(C1292,ShareOfSearch_CTR!$A$1:$B$100,2,FALSE)*VLOOKUP(A1292&B1292,ShareOfSearch_Volume!$C$1:$D$1000,2,FALSE),\"\")","v":""}]
[{"$f":"IF(ISTEXT(ShareOfSearch_SERPS!C1293),ShareOfSearch_SERPS!C1293,\"\")","v":""},{"$f":"IF(ISTEXT(ShareOfSearch_SERPS!D1293),ShareOfSearch_SERPS!D1293,\"\")","v":""},{"$f":"IF(NOT(ISBLANK(ShareOfSearch_SERPS!A1293)),ShareOfSearch_SERPS!A1293,\"\")","v":""},{"$f":"IF(NOT(ISBLANK(ShareOfSearch_SERPS!G1293)),ShareOfSearch_SERPS!G1293,\"\")","v":""},{"$f":"IF(NOT(ISBLANK(ShareOfSearch_SERPS!K1293)),ShareOfSearch_SERPS!K1293,\"\")","v":""},{"$f":"IFERROR(VLOOKUP(C1293,ShareOfSearch_CTR!$A$1:$B$100,2,FALSE)*VLOOKUP(A1293&B1293,ShareOfSearch_Volume!$C$1:$D$1000,2,FALSE),\"\")","v":""}]
[{"$f":"IF(ISTEXT(ShareOfSearch_SERPS!C1294),ShareOfSearch_SERPS!C1294,\"\")","v":""},{"$f":"IF(ISTEXT(ShareOfSearch_SERPS!D1294),ShareOfSearch_SERPS!D1294,\"\")","v":""},{"$f":"IF(NOT(ISBLANK(ShareOfSearch_SERPS!A1294)),ShareOfSearch_SERPS!A1294,\"\")","v":""},{"$f":"IF(NOT(ISBLANK(ShareOfSearch_SERPS!G1294)),ShareOfSearch_SERPS!G1294,\"\")","v":""},{"$f":"IF(NOT(ISBLANK(ShareOfSearch_SERPS!K1294)),ShareOfSearch_SERPS!K1294,\"\")","v":""},{"$f":"IFERROR(VLOOKUP(C1294,ShareOfSearch_CTR!$A$1:$B$100,2,FALSE)*VLOOKUP(A1294&B1294,ShareOfSearch_Volume!$C$1:$D$1000,2,FALSE),\"\")","v":""}]
[{"$f":"IF(ISTEXT(ShareOfSearch_SERPS!C1295),ShareOfSearch_SERPS!C1295,\"\")","v":""},{"$f":"IF(ISTEXT(ShareOfSearch_SERPS!D1295),ShareOfSearch_SERPS!D1295,\"\")","v":""},{"$f":"IF(NOT(ISBLANK(ShareOfSearch_SERPS!A1295)),ShareOfSearch_SERPS!A1295,\"\")","v":""},{"$f":"IF(NOT(ISBLANK(ShareOfSearch_SERPS!G1295)),ShareOfSearch_SERPS!G1295,\"\")","v":""},{"$f":"IF(NOT(ISBLANK(ShareOfSearch_SERPS!K1295)),ShareOfSearch_SERPS!K1295,\"\")","v":""},{"$f":"IFERROR(VLOOKUP(C1295,ShareOfSearch_CTR!$A$1:$B$100,2,FALSE)*VLOOKUP(A1295&B1295,ShareOfSearch_Volume!$C$1:$D$1000,2,FALSE),\"\")","v":""}]
[{"$f":"IF(ISTEXT(ShareOfSearch_SERPS!C1296),ShareOfSearch_SERPS!C1296,\"\")","v":""},{"$f":"IF(ISTEXT(ShareOfSearch_SERPS!D1296),ShareOfSearch_SERPS!D1296,\"\")","v":""},{"$f":"IF(NOT(ISBLANK(ShareOfSearch_SERPS!A1296)),ShareOfSearch_SERPS!A1296,\"\")","v":""},{"$f":"IF(NOT(ISBLANK(ShareOfSearch_SERPS!G1296)),ShareOfSearch_SERPS!G1296,\"\")","v":""},{"$f":"IF(NOT(ISBLANK(ShareOfSearch_SERPS!K1296)),ShareOfSearch_SERPS!K1296,\"\")","v":""},{"$f":"IFERROR(VLOOKUP(C1296,ShareOfSearch_CTR!$A$1:$B$100,2,FALSE)*VLOOKUP(A1296&B1296,ShareOfSearch_Volume!$C$1:$D$1000,2,FALSE),\"\")","v":""}]
[{"$f":"IF(ISTEXT(ShareOfSearch_SERPS!C1297),ShareOfSearch_SERPS!C1297,\"\")","v":""},{"$f":"IF(ISTEXT(ShareOfSearch_SERPS!D1297),ShareOfSearch_SERPS!D1297,\"\")","v":""},{"$f":"IF(NOT(ISBLANK(ShareOfSearch_SERPS!A1297)),ShareOfSearch_SERPS!A1297,\"\")","v":""},{"$f":"IF(NOT(ISBLANK(ShareOfSearch_SERPS!G1297)),ShareOfSearch_SERPS!G1297,\"\")","v":""},{"$f":"IF(NOT(ISBLANK(ShareOfSearch_SERPS!K1297)),ShareOfSearch_SERPS!K1297,\"\")","v":""},{"$f":"IFERROR(VLOOKUP(C1297,ShareOfSearch_CTR!$A$1:$B$100,2,FALSE)*VLOOKUP(A1297&B1297,ShareOfSearch_Volume!$C$1:$D$1000,2,FALSE),\"\")","v":""}]
[{"$f":"IF(ISTEXT(ShareOfSearch_SERPS!C1298),ShareOfSearch_SERPS!C1298,\"\")","v":""},{"$f":"IF(ISTEXT(ShareOfSearch_SERPS!D1298),ShareOfSearch_SERPS!D1298,\"\")","v":""},{"$f":"IF(NOT(ISBLANK(ShareOfSearch_SERPS!A1298)),ShareOfSearch_SERPS!A1298,\"\")","v":""},{"$f":"IF(NOT(ISBLANK(ShareOfSearch_SERPS!G1298)),ShareOfSearch_SERPS!G1298,\"\")","v":""},{"$f":"IF(NOT(ISBLANK(ShareOfSearch_SERPS!K1298)),ShareOfSearch_SERPS!K1298,\"\")","v":""},{"$f":"IFERROR(VLOOKUP(C1298,ShareOfSearch_CTR!$A$1:$B$100,2,FALSE)*VLOOKUP(A1298&B1298,ShareOfSearch_Volume!$C$1:$D$1000,2,FALSE),\"\")","v":""}]
[{"$f":"IF(ISTEXT(ShareOfSearch_SERPS!C1299),ShareOfSearch_SERPS!C1299,\"\")","v":""},{"$f":"IF(ISTEXT(ShareOfSearch_SERPS!D1299),ShareOfSearch_SERPS!D1299,\"\")","v":""},{"$f":"IF(NOT(ISBLANK(ShareOfSearch_SERPS!A1299)),ShareOfSearch_SERPS!A1299,\"\")","v":""},{"$f":"IF(NOT(ISBLANK(ShareOfSearch_SERPS!G1299)),ShareOfSearch_SERPS!G1299,\"\")","v":""},{"$f":"IF(NOT(ISBLANK(ShareOfSearch_SERPS!K1299)),ShareOfSearch_SERPS!K1299,\"\")","v":""},{"$f":"IFERROR(VLOOKUP(C1299,ShareOfSearch_CTR!$A$1:$B$100,2,FALSE)*VLOOKUP(A1299&B1299,ShareOfSearch_Volume!$C$1:$D$1000,2,FALSE),\"\")","v":""}]
[{"$f":"IF(ISTEXT(ShareOfSearch_SERPS!C1300),ShareOfSearch_SERPS!C1300,\"\")","v":""},{"$f":"IF(ISTEXT(ShareOfSearch_SERPS!D1300),ShareOfSearch_SERPS!D1300,\"\")","v":""},{"$f":"IF(NOT(ISBLANK(ShareOfSearch_SERPS!A1300)),ShareOfSearch_SERPS!A1300,\"\")","v":""},{"$f":"IF(NOT(ISBLANK(ShareOfSearch_SERPS!G1300)),ShareOfSearch_SERPS!G1300,\"\")","v":""},{"$f":"IF(NOT(ISBLANK(ShareOfSearch_SERPS!K1300)),ShareOfSearch_SERPS!K1300,\"\")","v":""},{"$f":"IFERROR(VLOOKUP(C1300,ShareOfSearch_CTR!$A$1:$B$100,2,FALSE)*VLOOKUP(A1300&B1300,ShareOfSearch_Volume!$C$1:$D$1000,2,FALSE),\"\")","v":""}]
[{"$f":"IF(ISTEXT(ShareOfSearch_SERPS!C1301),ShareOfSearch_SERPS!C1301,\"\")","v":""},{"$f":"IF(ISTEXT(ShareOfSearch_SERPS!D1301),ShareOfSearch_SERPS!D1301,\"\")","v":""},{"$f":"IF(NOT(ISBLANK(ShareOfSearch_SERPS!A1301)),ShareOfSearch_SERPS!A1301,\"\")","v":""},{"$f":"IF(NOT(ISBLANK(ShareOfSearch_SERPS!G1301)),ShareOfSearch_SERPS!G1301,\"\")","v":""},{"$f":"IF(NOT(ISBLANK(ShareOfSearch_SERPS!K1301)),ShareOfSearch_SERPS!K1301,\"\")","v":""},{"$f":"IFERROR(VLOOKUP(C1301,ShareOfSearch_CTR!$A$1:$B$100,2,FALSE)*VLOOKUP(A1301&B1301,ShareOfSearch_Volume!$C$1:$D$1000,2,FALSE),\"\")","v":""}]
[{"$f":"IF(ISTEXT(ShareOfSearch_SERPS!C1302),ShareOfSearch_SERPS!C1302,\"\")","v":""},{"$f":"IF(ISTEXT(ShareOfSearch_SERPS!D1302),ShareOfSearch_SERPS!D1302,\"\")","v":""},{"$f":"IF(NOT(ISBLANK(ShareOfSearch_SERPS!A1302)),ShareOfSearch_SERPS!A1302,\"\")","v":""},{"$f":"IF(NOT(ISBLANK(ShareOfSearch_SERPS!G1302)),ShareOfSearch_SERPS!G1302,\"\")","v":""},{"$f":"IF(NOT(ISBLANK(ShareOfSearch_SERPS!K1302)),ShareOfSearch_SERPS!K1302,\"\")","v":""},{"$f":"IFERROR(VLOOKUP(C1302,ShareOfSearch_CTR!$A$1:$B$100,2,FALSE)*VLOOKUP(A1302&B1302,ShareOfSearch_Volume!$C$1:$D$1000,2,FALSE),\"\")","v":""}]
[{"$f":"IF(ISTEXT(ShareOfSearch_SERPS!C1303),ShareOfSearch_SERPS!C1303,\"\")","v":""},{"$f":"IF(ISTEXT(ShareOfSearch_SERPS!D1303),ShareOfSearch_SERPS!D1303,\"\")","v":""},{"$f":"IF(NOT(ISBLANK(ShareOfSearch_SERPS!A1303)),ShareOfSearch_SERPS!A1303,\"\")","v":""},{"$f":"IF(NOT(ISBLANK(ShareOfSearch_SERPS!G1303)),ShareOfSearch_SERPS!G1303,\"\")","v":""},{"$f":"IF(NOT(ISBLANK(ShareOfSearch_SERPS!K1303)),ShareOfSearch_SERPS!K1303,\"\")","v":""},{"$f":"IFERROR(VLOOKUP(C1303,ShareOfSearch_CTR!$A$1:$B$100,2,FALSE)*VLOOKUP(A1303&B1303,ShareOfSearch_Volume!$C$1:$D$1000,2,FALSE),\"\")","v":""}]
[{"$f":"IF(ISTEXT(ShareOfSearch_SERPS!C1304),ShareOfSearch_SERPS!C1304,\"\")","v":""},{"$f":"IF(ISTEXT(ShareOfSearch_SERPS!D1304),ShareOfSearch_SERPS!D1304,\"\")","v":""},{"$f":"IF(NOT(ISBLANK(ShareOfSearch_SERPS!A1304)),ShareOfSearch_SERPS!A1304,\"\")","v":""},{"$f":"IF(NOT(ISBLANK(ShareOfSearch_SERPS!G1304)),ShareOfSearch_SERPS!G1304,\"\")","v":""},{"$f":"IF(NOT(ISBLANK(ShareOfSearch_SERPS!K1304)),ShareOfSearch_SERPS!K1304,\"\")","v":""},{"$f":"IFERROR(VLOOKUP(C1304,ShareOfSearch_CTR!$A$1:$B$100,2,FALSE)*VLOOKUP(A1304&B1304,ShareOfSearch_Volume!$C$1:$D$1000,2,FALSE),\"\")","v":""}]
[{"$f":"IF(ISTEXT(ShareOfSearch_SERPS!C1305),ShareOfSearch_SERPS!C1305,\"\")","v":""},{"$f":"IF(ISTEXT(ShareOfSearch_SERPS!D1305),ShareOfSearch_SERPS!D1305,\"\")","v":""},{"$f":"IF(NOT(ISBLANK(ShareOfSearch_SERPS!A1305)),ShareOfSearch_SERPS!A1305,\"\")","v":""},{"$f":"IF(NOT(ISBLANK(ShareOfSearch_SERPS!G1305)),ShareOfSearch_SERPS!G1305,\"\")","v":""},{"$f":"IF(NOT(ISBLANK(ShareOfSearch_SERPS!K1305)),ShareOfSearch_SERPS!K1305,\"\")","v":""},{"$f":"IFERROR(VLOOKUP(C1305,ShareOfSearch_CTR!$A$1:$B$100,2,FALSE)*VLOOKUP(A1305&B1305,ShareOfSearch_Volume!$C$1:$D$1000,2,FALSE),\"\")","v":""}]
[{"$f":"IF(ISTEXT(ShareOfSearch_SERPS!C1306),ShareOfSearch_SERPS!C1306,\"\")","v":""},{"$f":"IF(ISTEXT(ShareOfSearch_SERPS!D1306),ShareOfSearch_SERPS!D1306,\"\")","v":""},{"$f":"IF(NOT(ISBLANK(ShareOfSearch_SERPS!A1306)),ShareOfSearch_SERPS!A1306,\"\")","v":""},{"$f":"IF(NOT(ISBLANK(ShareOfSearch_SERPS!G1306)),ShareOfSearch_SERPS!G1306,\"\")","v":""},{"$f":"IF(NOT(ISBLANK(ShareOfSearch_SERPS!K1306)),ShareOfSearch_SERPS!K1306,\"\")","v":""},{"$f":"IFERROR(VLOOKUP(C1306,ShareOfSearch_CTR!$A$1:$B$100,2,FALSE)*VLOOKUP(A1306&B1306,ShareOfSearch_Volume!$C$1:$D$1000,2,FALSE),\"\")","v":""}]
[{"$f":"IF(ISTEXT(ShareOfSearch_SERPS!C1307),ShareOfSearch_SERPS!C1307,\"\")","v":""},{"$f":"IF(ISTEXT(ShareOfSearch_SERPS!D1307),ShareOfSearch_SERPS!D1307,\"\")","v":""},{"$f":"IF(NOT(ISBLANK(ShareOfSearch_SERPS!A1307)),ShareOfSearch_SERPS!A1307,\"\")","v":""},{"$f":"IF(NOT(ISBLANK(ShareOfSearch_SERPS!G1307)),ShareOfSearch_SERPS!G1307,\"\")","v":""},{"$f":"IF(NOT(ISBLANK(ShareOfSearch_SERPS!K1307)),ShareOfSearch_SERPS!K1307,\"\")","v":""},{"$f":"IFERROR(VLOOKUP(C1307,ShareOfSearch_CTR!$A$1:$B$100,2,FALSE)*VLOOKUP(A1307&B1307,ShareOfSearch_Volume!$C$1:$D$1000,2,FALSE),\"\")","v":""}]
[{"$f":"IF(ISTEXT(ShareOfSearch_SERPS!C1308),ShareOfSearch_SERPS!C1308,\"\")","v":""},{"$f":"IF(ISTEXT(ShareOfSearch_SERPS!D1308),ShareOfSearch_SERPS!D1308,\"\")","v":""},{"$f":"IF(NOT(ISBLANK(ShareOfSearch_SERPS!A1308)),ShareOfSearch_SERPS!A1308,\"\")","v":""},{"$f":"IF(NOT(ISBLANK(ShareOfSearch_SERPS!G1308)),ShareOfSearch_SERPS!G1308,\"\")","v":""},{"$f":"IF(NOT(ISBLANK(ShareOfSearch_SERPS!K1308)),ShareOfSearch_SERPS!K1308,\"\")","v":""},{"$f":"IFERROR(VLOOKUP(C1308,ShareOfSearch_CTR!$A$1:$B$100,2,FALSE)*VLOOKUP(A1308&B1308,ShareOfSearch_Volume!$C$1:$D$1000,2,FALSE),\"\")","v":""}]
[{"$f":"IF(ISTEXT(ShareOfSearch_SERPS!C1309),ShareOfSearch_SERPS!C1309,\"\")","v":""},{"$f":"IF(ISTEXT(ShareOfSearch_SERPS!D1309),ShareOfSearch_SERPS!D1309,\"\")","v":""},{"$f":"IF(NOT(ISBLANK(ShareOfSearch_SERPS!A1309)),ShareOfSearch_SERPS!A1309,\"\")","v":""},{"$f":"IF(NOT(ISBLANK(ShareOfSearch_SERPS!G1309)),ShareOfSearch_SERPS!G1309,\"\")","v":""},{"$f":"IF(NOT(ISBLANK(ShareOfSearch_SERPS!K1309)),ShareOfSearch_SERPS!K1309,\"\")","v":""},{"$f":"IFERROR(VLOOKUP(C1309,ShareOfSearch_CTR!$A$1:$B$100,2,FALSE)*VLOOKUP(A1309&B1309,ShareOfSearch_Volume!$C$1:$D$1000,2,FALSE),\"\")","v":""}]
[{"$f":"IF(ISTEXT(ShareOfSearch_SERPS!C1310),ShareOfSearch_SERPS!C1310,\"\")","v":""},{"$f":"IF(ISTEXT(ShareOfSearch_SERPS!D1310),ShareOfSearch_SERPS!D1310,\"\")","v":""},{"$f":"IF(NOT(ISBLANK(ShareOfSearch_SERPS!A1310)),ShareOfSearch_SERPS!A1310,\"\")","v":""},{"$f":"IF(NOT(ISBLANK(ShareOfSearch_SERPS!G1310)),ShareOfSearch_SERPS!G1310,\"\")","v":""},{"$f":"IF(NOT(ISBLANK(ShareOfSearch_SERPS!K1310)),ShareOfSearch_SERPS!K1310,\"\")","v":""},{"$f":"IFERROR(VLOOKUP(C1310,ShareOfSearch_CTR!$A$1:$B$100,2,FALSE)*VLOOKUP(A1310&B1310,ShareOfSearch_Volume!$C$1:$D$1000,2,FALSE),\"\")","v":""}]
[{"$f":"IF(ISTEXT(ShareOfSearch_SERPS!C1311),ShareOfSearch_SERPS!C1311,\"\")","v":""},{"$f":"IF(ISTEXT(ShareOfSearch_SERPS!D1311),ShareOfSearch_SERPS!D1311,\"\")","v":""},{"$f":"IF(NOT(ISBLANK(ShareOfSearch_SERPS!A1311)),ShareOfSearch_SERPS!A1311,\"\")","v":""},{"$f":"IF(NOT(ISBLANK(ShareOfSearch_SERPS!G1311)),ShareOfSearch_SERPS!G1311,\"\")","v":""},{"$f":"IF(NOT(ISBLANK(ShareOfSearch_SERPS!K1311)),ShareOfSearch_SERPS!K1311,\"\")","v":""},{"$f":"IFERROR(VLOOKUP(C1311,ShareOfSearch_CTR!$A$1:$B$100,2,FALSE)*VLOOKUP(A1311&B1311,ShareOfSearch_Volume!$C$1:$D$1000,2,FALSE),\"\")","v":""}]
[{"$f":"IF(ISTEXT(ShareOfSearch_SERPS!C1312),ShareOfSearch_SERPS!C1312,\"\")","v":""},{"$f":"IF(ISTEXT(ShareOfSearch_SERPS!D1312),ShareOfSearch_SERPS!D1312,\"\")","v":""},{"$f":"IF(NOT(ISBLANK(ShareOfSearch_SERPS!A1312)),ShareOfSearch_SERPS!A1312,\"\")","v":""},{"$f":"IF(NOT(ISBLANK(ShareOfSearch_SERPS!G1312)),ShareOfSearch_SERPS!G1312,\"\")","v":""},{"$f":"IF(NOT(ISBLANK(ShareOfSearch_SERPS!K1312)),ShareOfSearch_SERPS!K1312,\"\")","v":""},{"$f":"IFERROR(VLOOKUP(C1312,ShareOfSearch_CTR!$A$1:$B$100,2,FALSE)*VLOOKUP(A1312&B1312,ShareOfSearch_Volume!$C$1:$D$1000,2,FALSE),\"\")","v":""}]
[{"$f":"IF(ISTEXT(ShareOfSearch_SERPS!C1313),ShareOfSearch_SERPS!C1313,\"\")","v":""},{"$f":"IF(ISTEXT(ShareOfSearch_SERPS!D1313),ShareOfSearch_SERPS!D1313,\"\")","v":""},{"$f":"IF(NOT(ISBLANK(ShareOfSearch_SERPS!A1313)),ShareOfSearch_SERPS!A1313,\"\")","v":""},{"$f":"IF(NOT(ISBLANK(ShareOfSearch_SERPS!G1313)),ShareOfSearch_SERPS!G1313,\"\")","v":""},{"$f":"IF(NOT(ISBLANK(ShareOfSearch_SERPS!K1313)),ShareOfSearch_SERPS!K1313,\"\")","v":""},{"$f":"IFERROR(VLOOKUP(C1313,ShareOfSearch_CTR!$A$1:$B$100,2,FALSE)*VLOOKUP(A1313&B1313,ShareOfSearch_Volume!$C$1:$D$1000,2,FALSE),\"\")","v":""}]
[{"$f":"IF(ISTEXT(ShareOfSearch_SERPS!C1314),ShareOfSearch_SERPS!C1314,\"\")","v":""},{"$f":"IF(ISTEXT(ShareOfSearch_SERPS!D1314),ShareOfSearch_SERPS!D1314,\"\")","v":""},{"$f":"IF(NOT(ISBLANK(ShareOfSearch_SERPS!A1314)),ShareOfSearch_SERPS!A1314,\"\")","v":""},{"$f":"IF(NOT(ISBLANK(ShareOfSearch_SERPS!G1314)),ShareOfSearch_SERPS!G1314,\"\")","v":""},{"$f":"IF(NOT(ISBLANK(ShareOfSearch_SERPS!K1314)),ShareOfSearch_SERPS!K1314,\"\")","v":""},{"$f":"IFERROR(VLOOKUP(C1314,ShareOfSearch_CTR!$A$1:$B$100,2,FALSE)*VLOOKUP(A1314&B1314,ShareOfSearch_Volume!$C$1:$D$1000,2,FALSE),\"\")","v":""}]
[{"$f":"IF(ISTEXT(ShareOfSearch_SERPS!C1315),ShareOfSearch_SERPS!C1315,\"\")","v":""},{"$f":"IF(ISTEXT(ShareOfSearch_SERPS!D1315),ShareOfSearch_SERPS!D1315,\"\")","v":""},{"$f":"IF(NOT(ISBLANK(ShareOfSearch_SERPS!A1315)),ShareOfSearch_SERPS!A1315,\"\")","v":""},{"$f":"IF(NOT(ISBLANK(ShareOfSearch_SERPS!G1315)),ShareOfSearch_SERPS!G1315,\"\")","v":""},{"$f":"IF(NOT(ISBLANK(ShareOfSearch_SERPS!K1315)),ShareOfSearch_SERPS!K1315,\"\")","v":""},{"$f":"IFERROR(VLOOKUP(C1315,ShareOfSearch_CTR!$A$1:$B$100,2,FALSE)*VLOOKUP(A1315&B1315,ShareOfSearch_Volume!$C$1:$D$1000,2,FALSE),\"\")","v":""}]
[{"$f":"IF(ISTEXT(ShareOfSearch_SERPS!C1316),ShareOfSearch_SERPS!C1316,\"\")","v":""},{"$f":"IF(ISTEXT(ShareOfSearch_SERPS!D1316),ShareOfSearch_SERPS!D1316,\"\")","v":""},{"$f":"IF(NOT(ISBLANK(ShareOfSearch_SERPS!A1316)),ShareOfSearch_SERPS!A1316,\"\")","v":""},{"$f":"IF(NOT(ISBLANK(ShareOfSearch_SERPS!G1316)),ShareOfSearch_SERPS!G1316,\"\")","v":""},{"$f":"IF(NOT(ISBLANK(ShareOfSearch_SERPS!K1316)),ShareOfSearch_SERPS!K1316,\"\")","v":""},{"$f":"IFERROR(VLOOKUP(C1316,ShareOfSearch_CTR!$A$1:$B$100,2,FALSE)*VLOOKUP(A1316&B1316,ShareOfSearch_Volume!$C$1:$D$1000,2,FALSE),\"\")","v":""}]
[{"$f":"IF(ISTEXT(ShareOfSearch_SERPS!C1317),ShareOfSearch_SERPS!C1317,\"\")","v":""},{"$f":"IF(ISTEXT(ShareOfSearch_SERPS!D1317),ShareOfSearch_SERPS!D1317,\"\")","v":""},{"$f":"IF(NOT(ISBLANK(ShareOfSearch_SERPS!A1317)),ShareOfSearch_SERPS!A1317,\"\")","v":""},{"$f":"IF(NOT(ISBLANK(ShareOfSearch_SERPS!G1317)),ShareOfSearch_SERPS!G1317,\"\")","v":""},{"$f":"IF(NOT(ISBLANK(ShareOfSearch_SERPS!K1317)),ShareOfSearch_SERPS!K1317,\"\")","v":""},{"$f":"IFERROR(VLOOKUP(C1317,ShareOfSearch_CTR!$A$1:$B$100,2,FALSE)*VLOOKUP(A1317&B1317,ShareOfSearch_Volume!$C$1:$D$1000,2,FALSE),\"\")","v":""}]
[{"$f":"IF(ISTEXT(ShareOfSearch_SERPS!C1318),ShareOfSearch_SERPS!C1318,\"\")","v":""},{"$f":"IF(ISTEXT(ShareOfSearch_SERPS!D1318),ShareOfSearch_SERPS!D1318,\"\")","v":""},{"$f":"IF(NOT(ISBLANK(ShareOfSearch_SERPS!A1318)),ShareOfSearch_SERPS!A1318,\"\")","v":""},{"$f":"IF(NOT(ISBLANK(ShareOfSearch_SERPS!G1318)),ShareOfSearch_SERPS!G1318,\"\")","v":""},{"$f":"IF(NOT(ISBLANK(ShareOfSearch_SERPS!K1318)),ShareOfSearch_SERPS!K1318,\"\")","v":""},{"$f":"IFERROR(VLOOKUP(C1318,ShareOfSearch_CTR!$A$1:$B$100,2,FALSE)*VLOOKUP(A1318&B1318,ShareOfSearch_Volume!$C$1:$D$1000,2,FALSE),\"\")","v":""}]
[{"$f":"IF(ISTEXT(ShareOfSearch_SERPS!C1319),ShareOfSearch_SERPS!C1319,\"\")","v":""},{"$f":"IF(ISTEXT(ShareOfSearch_SERPS!D1319),ShareOfSearch_SERPS!D1319,\"\")","v":""},{"$f":"IF(NOT(ISBLANK(ShareOfSearch_SERPS!A1319)),ShareOfSearch_SERPS!A1319,\"\")","v":""},{"$f":"IF(NOT(ISBLANK(ShareOfSearch_SERPS!G1319)),ShareOfSearch_SERPS!G1319,\"\")","v":""},{"$f":"IF(NOT(ISBLANK(ShareOfSearch_SERPS!K1319)),ShareOfSearch_SERPS!K1319,\"\")","v":""},{"$f":"IFERROR(VLOOKUP(C1319,ShareOfSearch_CTR!$A$1:$B$100,2,FALSE)*VLOOKUP(A1319&B1319,ShareOfSearch_Volume!$C$1:$D$1000,2,FALSE),\"\")","v":""}]
[{"$f":"IF(ISTEXT(ShareOfSearch_SERPS!C1320),ShareOfSearch_SERPS!C1320,\"\")","v":""},{"$f":"IF(ISTEXT(ShareOfSearch_SERPS!D1320),ShareOfSearch_SERPS!D1320,\"\")","v":""},{"$f":"IF(NOT(ISBLANK(ShareOfSearch_SERPS!A1320)),ShareOfSearch_SERPS!A1320,\"\")","v":""},{"$f":"IF(NOT(ISBLANK(ShareOfSearch_SERPS!G1320)),ShareOfSearch_SERPS!G1320,\"\")","v":""},{"$f":"IF(NOT(ISBLANK(ShareOfSearch_SERPS!K1320)),ShareOfSearch_SERPS!K1320,\"\")","v":""},{"$f":"IFERROR(VLOOKUP(C1320,ShareOfSearch_CTR!$A$1:$B$100,2,FALSE)*VLOOKUP(A1320&B1320,ShareOfSearch_Volume!$C$1:$D$1000,2,FALSE),\"\")","v":""}]
[{"$f":"IF(ISTEXT(ShareOfSearch_SERPS!C1321),ShareOfSearch_SERPS!C1321,\"\")","v":""},{"$f":"IF(ISTEXT(ShareOfSearch_SERPS!D1321),ShareOfSearch_SERPS!D1321,\"\")","v":""},{"$f":"IF(NOT(ISBLANK(ShareOfSearch_SERPS!A1321)),ShareOfSearch_SERPS!A1321,\"\")","v":""},{"$f":"IF(NOT(ISBLANK(ShareOfSearch_SERPS!G1321)),ShareOfSearch_SERPS!G1321,\"\")","v":""},{"$f":"IF(NOT(ISBLANK(ShareOfSearch_SERPS!K1321)),ShareOfSearch_SERPS!K1321,\"\")","v":""},{"$f":"IFERROR(VLOOKUP(C1321,ShareOfSearch_CTR!$A$1:$B$100,2,FALSE)*VLOOKUP(A1321&B1321,ShareOfSearch_Volume!$C$1:$D$1000,2,FALSE),\"\")","v":""}]
[{"$f":"IF(ISTEXT(ShareOfSearch_SERPS!C1322),ShareOfSearch_SERPS!C1322,\"\")","v":""},{"$f":"IF(ISTEXT(ShareOfSearch_SERPS!D1322),ShareOfSearch_SERPS!D1322,\"\")","v":""},{"$f":"IF(NOT(ISBLANK(ShareOfSearch_SERPS!A1322)),ShareOfSearch_SERPS!A1322,\"\")","v":""},{"$f":"IF(NOT(ISBLANK(ShareOfSearch_SERPS!G1322)),ShareOfSearch_SERPS!G1322,\"\")","v":""},{"$f":"IF(NOT(ISBLANK(ShareOfSearch_SERPS!K1322)),ShareOfSearch_SERPS!K1322,\"\")","v":""},{"$f":"IFERROR(VLOOKUP(C1322,ShareOfSearch_CTR!$A$1:$B$100,2,FALSE)*VLOOKUP(A1322&B1322,ShareOfSearch_Volume!$C$1:$D$1000,2,FALSE),\"\")","v":""}]
[{"$f":"IF(ISTEXT(ShareOfSearch_SERPS!C1323),ShareOfSearch_SERPS!C1323,\"\")","v":""},{"$f":"IF(ISTEXT(ShareOfSearch_SERPS!D1323),ShareOfSearch_SERPS!D1323,\"\")","v":""},{"$f":"IF(NOT(ISBLANK(ShareOfSearch_SERPS!A1323)),ShareOfSearch_SERPS!A1323,\"\")","v":""},{"$f":"IF(NOT(ISBLANK(ShareOfSearch_SERPS!G1323)),ShareOfSearch_SERPS!G1323,\"\")","v":""},{"$f":"IF(NOT(ISBLANK(ShareOfSearch_SERPS!K1323)),ShareOfSearch_SERPS!K1323,\"\")","v":""},{"$f":"IFERROR(VLOOKUP(C1323,ShareOfSearch_CTR!$A$1:$B$100,2,FALSE)*VLOOKUP(A1323&B1323,ShareOfSearch_Volume!$C$1:$D$1000,2,FALSE),\"\")","v":""}]
[{"$f":"IF(ISTEXT(ShareOfSearch_SERPS!C1324),ShareOfSearch_SERPS!C1324,\"\")","v":""},{"$f":"IF(ISTEXT(ShareOfSearch_SERPS!D1324),ShareOfSearch_SERPS!D1324,\"\")","v":""},{"$f":"IF(NOT(ISBLANK(ShareOfSearch_SERPS!A1324)),ShareOfSearch_SERPS!A1324,\"\")","v":""},{"$f":"IF(NOT(ISBLANK(ShareOfSearch_SERPS!G1324)),ShareOfSearch_SERPS!G1324,\"\")","v":""},{"$f":"IF(NOT(ISBLANK(ShareOfSearch_SERPS!K1324)),ShareOfSearch_SERPS!K1324,\"\")","v":""},{"$f":"IFERROR(VLOOKUP(C1324,ShareOfSearch_CTR!$A$1:$B$100,2,FALSE)*VLOOKUP(A1324&B1324,ShareOfSearch_Volume!$C$1:$D$1000,2,FALSE),\"\")","v":""}]
[{"$f":"IF(ISTEXT(ShareOfSearch_SERPS!C1325),ShareOfSearch_SERPS!C1325,\"\")","v":""},{"$f":"IF(ISTEXT(ShareOfSearch_SERPS!D1325),ShareOfSearch_SERPS!D1325,\"\")","v":""},{"$f":"IF(NOT(ISBLANK(ShareOfSearch_SERPS!A1325)),ShareOfSearch_SERPS!A1325,\"\")","v":""},{"$f":"IF(NOT(ISBLANK(ShareOfSearch_SERPS!G1325)),ShareOfSearch_SERPS!G1325,\"\")","v":""},{"$f":"IF(NOT(ISBLANK(ShareOfSearch_SERPS!K1325)),ShareOfSearch_SERPS!K1325,\"\")","v":""},{"$f":"IFERROR(VLOOKUP(C1325,ShareOfSearch_CTR!$A$1:$B$100,2,FALSE)*VLOOKUP(A1325&B1325,ShareOfSearch_Volume!$C$1:$D$1000,2,FALSE),\"\")","v":""}]
[{"$f":"IF(ISTEXT(ShareOfSearch_SERPS!C1326),ShareOfSearch_SERPS!C1326,\"\")","v":""},{"$f":"IF(ISTEXT(ShareOfSearch_SERPS!D1326),ShareOfSearch_SERPS!D1326,\"\")","v":""},{"$f":"IF(NOT(ISBLANK(ShareOfSearch_SERPS!A1326)),ShareOfSearch_SERPS!A1326,\"\")","v":""},{"$f":"IF(NOT(ISBLANK(ShareOfSearch_SERPS!G1326)),ShareOfSearch_SERPS!G1326,\"\")","v":""},{"$f":"IF(NOT(ISBLANK(ShareOfSearch_SERPS!K1326)),ShareOfSearch_SERPS!K1326,\"\")","v":""},{"$f":"IFERROR(VLOOKUP(C1326,ShareOfSearch_CTR!$A$1:$B$100,2,FALSE)*VLOOKUP(A1326&B1326,ShareOfSearch_Volume!$C$1:$D$1000,2,FALSE),\"\")","v":""}]
[{"$f":"IF(ISTEXT(ShareOfSearch_SERPS!C1327),ShareOfSearch_SERPS!C1327,\"\")","v":""},{"$f":"IF(ISTEXT(ShareOfSearch_SERPS!D1327),ShareOfSearch_SERPS!D1327,\"\")","v":""},{"$f":"IF(NOT(ISBLANK(ShareOfSearch_SERPS!A1327)),ShareOfSearch_SERPS!A1327,\"\")","v":""},{"$f":"IF(NOT(ISBLANK(ShareOfSearch_SERPS!G1327)),ShareOfSearch_SERPS!G1327,\"\")","v":""},{"$f":"IF(NOT(ISBLANK(ShareOfSearch_SERPS!K1327)),ShareOfSearch_SERPS!K1327,\"\")","v":""},{"$f":"IFERROR(VLOOKUP(C1327,ShareOfSearch_CTR!$A$1:$B$100,2,FALSE)*VLOOKUP(A1327&B1327,ShareOfSearch_Volume!$C$1:$D$1000,2,FALSE),\"\")","v":""}]
[{"$f":"IF(ISTEXT(ShareOfSearch_SERPS!C1328),ShareOfSearch_SERPS!C1328,\"\")","v":""},{"$f":"IF(ISTEXT(ShareOfSearch_SERPS!D1328),ShareOfSearch_SERPS!D1328,\"\")","v":""},{"$f":"IF(NOT(ISBLANK(ShareOfSearch_SERPS!A1328)),ShareOfSearch_SERPS!A1328,\"\")","v":""},{"$f":"IF(NOT(ISBLANK(ShareOfSearch_SERPS!G1328)),ShareOfSearch_SERPS!G1328,\"\")","v":""},{"$f":"IF(NOT(ISBLANK(ShareOfSearch_SERPS!K1328)),ShareOfSearch_SERPS!K1328,\"\")","v":""},{"$f":"IFERROR(VLOOKUP(C1328,ShareOfSearch_CTR!$A$1:$B$100,2,FALSE)*VLOOKUP(A1328&B1328,ShareOfSearch_Volume!$C$1:$D$1000,2,FALSE),\"\")","v":""}]
[{"$f":"IF(ISTEXT(ShareOfSearch_SERPS!C1329),ShareOfSearch_SERPS!C1329,\"\")","v":""},{"$f":"IF(ISTEXT(ShareOfSearch_SERPS!D1329),ShareOfSearch_SERPS!D1329,\"\")","v":""},{"$f":"IF(NOT(ISBLANK(ShareOfSearch_SERPS!A1329)),ShareOfSearch_SERPS!A1329,\"\")","v":""},{"$f":"IF(NOT(ISBLANK(ShareOfSearch_SERPS!G1329)),ShareOfSearch_SERPS!G1329,\"\")","v":""},{"$f":"IF(NOT(ISBLANK(ShareOfSearch_SERPS!K1329)),ShareOfSearch_SERPS!K1329,\"\")","v":""},{"$f":"IFERROR(VLOOKUP(C1329,ShareOfSearch_CTR!$A$1:$B$100,2,FALSE)*VLOOKUP(A1329&B1329,ShareOfSearch_Volume!$C$1:$D$1000,2,FALSE),\"\")","v":""}]
[{"$f":"IF(ISTEXT(ShareOfSearch_SERPS!C1330),ShareOfSearch_SERPS!C1330,\"\")","v":""},{"$f":"IF(ISTEXT(ShareOfSearch_SERPS!D1330),ShareOfSearch_SERPS!D1330,\"\")","v":""},{"$f":"IF(NOT(ISBLANK(ShareOfSearch_SERPS!A1330)),ShareOfSearch_SERPS!A1330,\"\")","v":""},{"$f":"IF(NOT(ISBLANK(ShareOfSearch_SERPS!G1330)),ShareOfSearch_SERPS!G1330,\"\")","v":""},{"$f":"IF(NOT(ISBLANK(ShareOfSearch_SERPS!K1330)),ShareOfSearch_SERPS!K1330,\"\")","v":""},{"$f":"IFERROR(VLOOKUP(C1330,ShareOfSearch_CTR!$A$1:$B$100,2,FALSE)*VLOOKUP(A1330&B1330,ShareOfSearch_Volume!$C$1:$D$1000,2,FALSE),\"\")","v":""}]
[{"$f":"IF(ISTEXT(ShareOfSearch_SERPS!C1331),ShareOfSearch_SERPS!C1331,\"\")","v":""},{"$f":"IF(ISTEXT(ShareOfSearch_SERPS!D1331),ShareOfSearch_SERPS!D1331,\"\")","v":""},{"$f":"IF(NOT(ISBLANK(ShareOfSearch_SERPS!A1331)),ShareOfSearch_SERPS!A1331,\"\")","v":""},{"$f":"IF(NOT(ISBLANK(ShareOfSearch_SERPS!G1331)),ShareOfSearch_SERPS!G1331,\"\")","v":""},{"$f":"IF(NOT(ISBLANK(ShareOfSearch_SERPS!K1331)),ShareOfSearch_SERPS!K1331,\"\")","v":""},{"$f":"IFERROR(VLOOKUP(C1331,ShareOfSearch_CTR!$A$1:$B$100,2,FALSE)*VLOOKUP(A1331&B1331,ShareOfSearch_Volume!$C$1:$D$1000,2,FALSE),\"\")","v":""}]
[{"$f":"IF(ISTEXT(ShareOfSearch_SERPS!C1332),ShareOfSearch_SERPS!C1332,\"\")","v":""},{"$f":"IF(ISTEXT(ShareOfSearch_SERPS!D1332),ShareOfSearch_SERPS!D1332,\"\")","v":""},{"$f":"IF(NOT(ISBLANK(ShareOfSearch_SERPS!A1332)),ShareOfSearch_SERPS!A1332,\"\")","v":""},{"$f":"IF(NOT(ISBLANK(ShareOfSearch_SERPS!G1332)),ShareOfSearch_SERPS!G1332,\"\")","v":""},{"$f":"IF(NOT(ISBLANK(ShareOfSearch_SERPS!K1332)),ShareOfSearch_SERPS!K1332,\"\")","v":""},{"$f":"IFERROR(VLOOKUP(C1332,ShareOfSearch_CTR!$A$1:$B$100,2,FALSE)*VLOOKUP(A1332&B1332,ShareOfSearch_Volume!$C$1:$D$1000,2,FALSE),\"\")","v":""}]
[{"$f":"IF(ISTEXT(ShareOfSearch_SERPS!C1333),ShareOfSearch_SERPS!C1333,\"\")","v":""},{"$f":"IF(ISTEXT(ShareOfSearch_SERPS!D1333),ShareOfSearch_SERPS!D1333,\"\")","v":""},{"$f":"IF(NOT(ISBLANK(ShareOfSearch_SERPS!A1333)),ShareOfSearch_SERPS!A1333,\"\")","v":""},{"$f":"IF(NOT(ISBLANK(ShareOfSearch_SERPS!G1333)),ShareOfSearch_SERPS!G1333,\"\")","v":""},{"$f":"IF(NOT(ISBLANK(ShareOfSearch_SERPS!K1333)),ShareOfSearch_SERPS!K1333,\"\")","v":""},{"$f":"IFERROR(VLOOKUP(C1333,ShareOfSearch_CTR!$A$1:$B$100,2,FALSE)*VLOOKUP(A1333&B1333,ShareOfSearch_Volume!$C$1:$D$1000,2,FALSE),\"\")","v":""}]
[{"$f":"IF(ISTEXT(ShareOfSearch_SERPS!C1334),ShareOfSearch_SERPS!C1334,\"\")","v":""},{"$f":"IF(ISTEXT(ShareOfSearch_SERPS!D1334),ShareOfSearch_SERPS!D1334,\"\")","v":""},{"$f":"IF(NOT(ISBLANK(ShareOfSearch_SERPS!A1334)),ShareOfSearch_SERPS!A1334,\"\")","v":""},{"$f":"IF(NOT(ISBLANK(ShareOfSearch_SERPS!G1334)),ShareOfSearch_SERPS!G1334,\"\")","v":""},{"$f":"IF(NOT(ISBLANK(ShareOfSearch_SERPS!K1334)),ShareOfSearch_SERPS!K1334,\"\")","v":""},{"$f":"IFERROR(VLOOKUP(C1334,ShareOfSearch_CTR!$A$1:$B$100,2,FALSE)*VLOOKUP(A1334&B1334,ShareOfSearch_Volume!$C$1:$D$1000,2,FALSE),\"\")","v":""}]
[{"$f":"IF(ISTEXT(ShareOfSearch_SERPS!C1335),ShareOfSearch_SERPS!C1335,\"\")","v":""},{"$f":"IF(ISTEXT(ShareOfSearch_SERPS!D1335),ShareOfSearch_SERPS!D1335,\"\")","v":""},{"$f":"IF(NOT(ISBLANK(ShareOfSearch_SERPS!A1335)),ShareOfSearch_SERPS!A1335,\"\")","v":""},{"$f":"IF(NOT(ISBLANK(ShareOfSearch_SERPS!G1335)),ShareOfSearch_SERPS!G1335,\"\")","v":""},{"$f":"IF(NOT(ISBLANK(ShareOfSearch_SERPS!K1335)),ShareOfSearch_SERPS!K1335,\"\")","v":""},{"$f":"IFERROR(VLOOKUP(C1335,ShareOfSearch_CTR!$A$1:$B$100,2,FALSE)*VLOOKUP(A1335&B1335,ShareOfSearch_Volume!$C$1:$D$1000,2,FALSE),\"\")","v":""}]
[{"$f":"IF(ISTEXT(ShareOfSearch_SERPS!C1336),ShareOfSearch_SERPS!C1336,\"\")","v":""},{"$f":"IF(ISTEXT(ShareOfSearch_SERPS!D1336),ShareOfSearch_SERPS!D1336,\"\")","v":""},{"$f":"IF(NOT(ISBLANK(ShareOfSearch_SERPS!A1336)),ShareOfSearch_SERPS!A1336,\"\")","v":""},{"$f":"IF(NOT(ISBLANK(ShareOfSearch_SERPS!G1336)),ShareOfSearch_SERPS!G1336,\"\")","v":""},{"$f":"IF(NOT(ISBLANK(ShareOfSearch_SERPS!K1336)),ShareOfSearch_SERPS!K1336,\"\")","v":""},{"$f":"IFERROR(VLOOKUP(C1336,ShareOfSearch_CTR!$A$1:$B$100,2,FALSE)*VLOOKUP(A1336&B1336,ShareOfSearch_Volume!$C$1:$D$1000,2,FALSE),\"\")","v":""}]
[{"$f":"IF(ISTEXT(ShareOfSearch_SERPS!C1337),ShareOfSearch_SERPS!C1337,\"\")","v":""},{"$f":"IF(ISTEXT(ShareOfSearch_SERPS!D1337),ShareOfSearch_SERPS!D1337,\"\")","v":""},{"$f":"IF(NOT(ISBLANK(ShareOfSearch_SERPS!A1337)),ShareOfSearch_SERPS!A1337,\"\")","v":""},{"$f":"IF(NOT(ISBLANK(ShareOfSearch_SERPS!G1337)),ShareOfSearch_SERPS!G1337,\"\")","v":""},{"$f":"IF(NOT(ISBLANK(ShareOfSearch_SERPS!K1337)),ShareOfSearch_SERPS!K1337,\"\")","v":""},{"$f":"IFERROR(VLOOKUP(C1337,ShareOfSearch_CTR!$A$1:$B$100,2,FALSE)*VLOOKUP(A1337&B1337,ShareOfSearch_Volume!$C$1:$D$1000,2,FALSE),\"\")","v":""}]
[{"$f":"IF(ISTEXT(ShareOfSearch_SERPS!C1338),ShareOfSearch_SERPS!C1338,\"\")","v":""},{"$f":"IF(ISTEXT(ShareOfSearch_SERPS!D1338),ShareOfSearch_SERPS!D1338,\"\")","v":""},{"$f":"IF(NOT(ISBLANK(ShareOfSearch_SERPS!A1338)),ShareOfSearch_SERPS!A1338,\"\")","v":""},{"$f":"IF(NOT(ISBLANK(ShareOfSearch_SERPS!G1338)),ShareOfSearch_SERPS!G1338,\"\")","v":""},{"$f":"IF(NOT(ISBLANK(ShareOfSearch_SERPS!K1338)),ShareOfSearch_SERPS!K1338,\"\")","v":""},{"$f":"IFERROR(VLOOKUP(C1338,ShareOfSearch_CTR!$A$1:$B$100,2,FALSE)*VLOOKUP(A1338&B1338,ShareOfSearch_Volume!$C$1:$D$1000,2,FALSE),\"\")","v":""}]
[{"$f":"IF(ISTEXT(ShareOfSearch_SERPS!C1339),ShareOfSearch_SERPS!C1339,\"\")","v":""},{"$f":"IF(ISTEXT(ShareOfSearch_SERPS!D1339),ShareOfSearch_SERPS!D1339,\"\")","v":""},{"$f":"IF(NOT(ISBLANK(ShareOfSearch_SERPS!A1339)),ShareOfSearch_SERPS!A1339,\"\")","v":""},{"$f":"IF(NOT(ISBLANK(ShareOfSearch_SERPS!G1339)),ShareOfSearch_SERPS!G1339,\"\")","v":""},{"$f":"IF(NOT(ISBLANK(ShareOfSearch_SERPS!K1339)),ShareOfSearch_SERPS!K1339,\"\")","v":""},{"$f":"IFERROR(VLOOKUP(C1339,ShareOfSearch_CTR!$A$1:$B$100,2,FALSE)*VLOOKUP(A1339&B1339,ShareOfSearch_Volume!$C$1:$D$1000,2,FALSE),\"\")","v":""}]
[{"$f":"IF(ISTEXT(ShareOfSearch_SERPS!C1340),ShareOfSearch_SERPS!C1340,\"\")","v":""},{"$f":"IF(ISTEXT(ShareOfSearch_SERPS!D1340),ShareOfSearch_SERPS!D1340,\"\")","v":""},{"$f":"IF(NOT(ISBLANK(ShareOfSearch_SERPS!A1340)),ShareOfSearch_SERPS!A1340,\"\")","v":""},{"$f":"IF(NOT(ISBLANK(ShareOfSearch_SERPS!G1340)),ShareOfSearch_SERPS!G1340,\"\")","v":""},{"$f":"IF(NOT(ISBLANK(ShareOfSearch_SERPS!K1340)),ShareOfSearch_SERPS!K1340,\"\")","v":""},{"$f":"IFERROR(VLOOKUP(C1340,ShareOfSearch_CTR!$A$1:$B$100,2,FALSE)*VLOOKUP(A1340&B1340,ShareOfSearch_Volume!$C$1:$D$1000,2,FALSE),\"\")","v":""}]
[{"$f":"IF(ISTEXT(ShareOfSearch_SERPS!C1341),ShareOfSearch_SERPS!C1341,\"\")","v":""},{"$f":"IF(ISTEXT(ShareOfSearch_SERPS!D1341),ShareOfSearch_SERPS!D1341,\"\")","v":""},{"$f":"IF(NOT(ISBLANK(ShareOfSearch_SERPS!A1341)),ShareOfSearch_SERPS!A1341,\"\")","v":""},{"$f":"IF(NOT(ISBLANK(ShareOfSearch_SERPS!G1341)),ShareOfSearch_SERPS!G1341,\"\")","v":""},{"$f":"IF(NOT(ISBLANK(ShareOfSearch_SERPS!K1341)),ShareOfSearch_SERPS!K1341,\"\")","v":""},{"$f":"IFERROR(VLOOKUP(C1341,ShareOfSearch_CTR!$A$1:$B$100,2,FALSE)*VLOOKUP(A1341&B1341,ShareOfSearch_Volume!$C$1:$D$1000,2,FALSE),\"\")","v":""}]
[{"$f":"IF(ISTEXT(ShareOfSearch_SERPS!C1342),ShareOfSearch_SERPS!C1342,\"\")","v":""},{"$f":"IF(ISTEXT(ShareOfSearch_SERPS!D1342),ShareOfSearch_SERPS!D1342,\"\")","v":""},{"$f":"IF(NOT(ISBLANK(ShareOfSearch_SERPS!A1342)),ShareOfSearch_SERPS!A1342,\"\")","v":""},{"$f":"IF(NOT(ISBLANK(ShareOfSearch_SERPS!G1342)),ShareOfSearch_SERPS!G1342,\"\")","v":""},{"$f":"IF(NOT(ISBLANK(ShareOfSearch_SERPS!K1342)),ShareOfSearch_SERPS!K1342,\"\")","v":""},{"$f":"IFERROR(VLOOKUP(C1342,ShareOfSearch_CTR!$A$1:$B$100,2,FALSE)*VLOOKUP(A1342&B1342,ShareOfSearch_Volume!$C$1:$D$1000,2,FALSE),\"\")","v":""}]
[{"$f":"IF(ISTEXT(ShareOfSearch_SERPS!C1343),ShareOfSearch_SERPS!C1343,\"\")","v":""},{"$f":"IF(ISTEXT(ShareOfSearch_SERPS!D1343),ShareOfSearch_SERPS!D1343,\"\")","v":""},{"$f":"IF(NOT(ISBLANK(ShareOfSearch_SERPS!A1343)),ShareOfSearch_SERPS!A1343,\"\")","v":""},{"$f":"IF(NOT(ISBLANK(ShareOfSearch_SERPS!G1343)),ShareOfSearch_SERPS!G1343,\"\")","v":""},{"$f":"IF(NOT(ISBLANK(ShareOfSearch_SERPS!K1343)),ShareOfSearch_SERPS!K1343,\"\")","v":""},{"$f":"IFERROR(VLOOKUP(C1343,ShareOfSearch_CTR!$A$1:$B$100,2,FALSE)*VLOOKUP(A1343&B1343,ShareOfSearch_Volume!$C$1:$D$1000,2,FALSE),\"\")","v":""}]
[{"$f":"IF(ISTEXT(ShareOfSearch_SERPS!C1344),ShareOfSearch_SERPS!C1344,\"\")","v":""},{"$f":"IF(ISTEXT(ShareOfSearch_SERPS!D1344),ShareOfSearch_SERPS!D1344,\"\")","v":""},{"$f":"IF(NOT(ISBLANK(ShareOfSearch_SERPS!A1344)),ShareOfSearch_SERPS!A1344,\"\")","v":""},{"$f":"IF(NOT(ISBLANK(ShareOfSearch_SERPS!G1344)),ShareOfSearch_SERPS!G1344,\"\")","v":""},{"$f":"IF(NOT(ISBLANK(ShareOfSearch_SERPS!K1344)),ShareOfSearch_SERPS!K1344,\"\")","v":""},{"$f":"IFERROR(VLOOKUP(C1344,ShareOfSearch_CTR!$A$1:$B$100,2,FALSE)*VLOOKUP(A1344&B1344,ShareOfSearch_Volume!$C$1:$D$1000,2,FALSE),\"\")","v":""}]
[{"$f":"IF(ISTEXT(ShareOfSearch_SERPS!C1345),ShareOfSearch_SERPS!C1345,\"\")","v":""},{"$f":"IF(ISTEXT(ShareOfSearch_SERPS!D1345),ShareOfSearch_SERPS!D1345,\"\")","v":""},{"$f":"IF(NOT(ISBLANK(ShareOfSearch_SERPS!A1345)),ShareOfSearch_SERPS!A1345,\"\")","v":""},{"$f":"IF(NOT(ISBLANK(ShareOfSearch_SERPS!G1345)),ShareOfSearch_SERPS!G1345,\"\")","v":""},{"$f":"IF(NOT(ISBLANK(ShareOfSearch_SERPS!K1345)),ShareOfSearch_SERPS!K1345,\"\")","v":""},{"$f":"IFERROR(VLOOKUP(C1345,ShareOfSearch_CTR!$A$1:$B$100,2,FALSE)*VLOOKUP(A1345&B1345,ShareOfSearch_Volume!$C$1:$D$1000,2,FALSE),\"\")","v":""}]
[{"$f":"IF(ISTEXT(ShareOfSearch_SERPS!C1346),ShareOfSearch_SERPS!C1346,\"\")","v":""},{"$f":"IF(ISTEXT(ShareOfSearch_SERPS!D1346),ShareOfSearch_SERPS!D1346,\"\")","v":""},{"$f":"IF(NOT(ISBLANK(ShareOfSearch_SERPS!A1346)),ShareOfSearch_SERPS!A1346,\"\")","v":""},{"$f":"IF(NOT(ISBLANK(ShareOfSearch_SERPS!G1346)),ShareOfSearch_SERPS!G1346,\"\")","v":""},{"$f":"IF(NOT(ISBLANK(ShareOfSearch_SERPS!K1346)),ShareOfSearch_SERPS!K1346,\"\")","v":""},{"$f":"IFERROR(VLOOKUP(C1346,ShareOfSearch_CTR!$A$1:$B$100,2,FALSE)*VLOOKUP(A1346&B1346,ShareOfSearch_Volume!$C$1:$D$1000,2,FALSE),\"\")","v":""}]
[{"$f":"IF(ISTEXT(ShareOfSearch_SERPS!C1347),ShareOfSearch_SERPS!C1347,\"\")","v":""},{"$f":"IF(ISTEXT(ShareOfSearch_SERPS!D1347),ShareOfSearch_SERPS!D1347,\"\")","v":""},{"$f":"IF(NOT(ISBLANK(ShareOfSearch_SERPS!A1347)),ShareOfSearch_SERPS!A1347,\"\")","v":""},{"$f":"IF(NOT(ISBLANK(ShareOfSearch_SERPS!G1347)),ShareOfSearch_SERPS!G1347,\"\")","v":""},{"$f":"IF(NOT(ISBLANK(ShareOfSearch_SERPS!K1347)),ShareOfSearch_SERPS!K1347,\"\")","v":""},{"$f":"IFERROR(VLOOKUP(C1347,ShareOfSearch_CTR!$A$1:$B$100,2,FALSE)*VLOOKUP(A1347&B1347,ShareOfSearch_Volume!$C$1:$D$1000,2,FALSE),\"\")","v":""}]
[{"$f":"IF(ISTEXT(ShareOfSearch_SERPS!C1348),ShareOfSearch_SERPS!C1348,\"\")","v":""},{"$f":"IF(ISTEXT(ShareOfSearch_SERPS!D1348),ShareOfSearch_SERPS!D1348,\"\")","v":""},{"$f":"IF(NOT(ISBLANK(ShareOfSearch_SERPS!A1348)),ShareOfSearch_SERPS!A1348,\"\")","v":""},{"$f":"IF(NOT(ISBLANK(ShareOfSearch_SERPS!G1348)),ShareOfSearch_SERPS!G1348,\"\")","v":""},{"$f":"IF(NOT(ISBLANK(ShareOfSearch_SERPS!K1348)),ShareOfSearch_SERPS!K1348,\"\")","v":""},{"$f":"IFERROR(VLOOKUP(C1348,ShareOfSearch_CTR!$A$1:$B$100,2,FALSE)*VLOOKUP(A1348&B1348,ShareOfSearch_Volume!$C$1:$D$1000,2,FALSE),\"\")","v":""}]
[{"$f":"IF(ISTEXT(ShareOfSearch_SERPS!C1349),ShareOfSearch_SERPS!C1349,\"\")","v":""},{"$f":"IF(ISTEXT(ShareOfSearch_SERPS!D1349),ShareOfSearch_SERPS!D1349,\"\")","v":""},{"$f":"IF(NOT(ISBLANK(ShareOfSearch_SERPS!A1349)),ShareOfSearch_SERPS!A1349,\"\")","v":""},{"$f":"IF(NOT(ISBLANK(ShareOfSearch_SERPS!G1349)),ShareOfSearch_SERPS!G1349,\"\")","v":""},{"$f":"IF(NOT(ISBLANK(ShareOfSearch_SERPS!K1349)),ShareOfSearch_SERPS!K1349,\"\")","v":""},{"$f":"IFERROR(VLOOKUP(C1349,ShareOfSearch_CTR!$A$1:$B$100,2,FALSE)*VLOOKUP(A1349&B1349,ShareOfSearch_Volume!$C$1:$D$1000,2,FALSE),\"\")","v":""}]
[{"$f":"IF(ISTEXT(ShareOfSearch_SERPS!C1350),ShareOfSearch_SERPS!C1350,\"\")","v":""},{"$f":"IF(ISTEXT(ShareOfSearch_SERPS!D1350),ShareOfSearch_SERPS!D1350,\"\")","v":""},{"$f":"IF(NOT(ISBLANK(ShareOfSearch_SERPS!A1350)),ShareOfSearch_SERPS!A1350,\"\")","v":""},{"$f":"IF(NOT(ISBLANK(ShareOfSearch_SERPS!G1350)),ShareOfSearch_SERPS!G1350,\"\")","v":""},{"$f":"IF(NOT(ISBLANK(ShareOfSearch_SERPS!K1350)),ShareOfSearch_SERPS!K1350,\"\")","v":""},{"$f":"IFERROR(VLOOKUP(C1350,ShareOfSearch_CTR!$A$1:$B$100,2,FALSE)*VLOOKUP(A1350&B1350,ShareOfSearch_Volume!$C$1:$D$1000,2,FALSE),\"\")","v":""}]
[{"$f":"IF(ISTEXT(ShareOfSearch_SERPS!C1351),ShareOfSearch_SERPS!C1351,\"\")","v":""},{"$f":"IF(ISTEXT(ShareOfSearch_SERPS!D1351),ShareOfSearch_SERPS!D1351,\"\")","v":""},{"$f":"IF(NOT(ISBLANK(ShareOfSearch_SERPS!A1351)),ShareOfSearch_SERPS!A1351,\"\")","v":""},{"$f":"IF(NOT(ISBLANK(ShareOfSearch_SERPS!G1351)),ShareOfSearch_SERPS!G1351,\"\")","v":""},{"$f":"IF(NOT(ISBLANK(ShareOfSearch_SERPS!K1351)),ShareOfSearch_SERPS!K1351,\"\")","v":""},{"$f":"IFERROR(VLOOKUP(C1351,ShareOfSearch_CTR!$A$1:$B$100,2,FALSE)*VLOOKUP(A1351&B1351,ShareOfSearch_Volume!$C$1:$D$1000,2,FALSE),\"\")","v":""}]
[{"$f":"IF(ISTEXT(ShareOfSearch_SERPS!C1352),ShareOfSearch_SERPS!C1352,\"\")","v":""},{"$f":"IF(ISTEXT(ShareOfSearch_SERPS!D1352),ShareOfSearch_SERPS!D1352,\"\")","v":""},{"$f":"IF(NOT(ISBLANK(ShareOfSearch_SERPS!A1352)),ShareOfSearch_SERPS!A1352,\"\")","v":""},{"$f":"IF(NOT(ISBLANK(ShareOfSearch_SERPS!G1352)),ShareOfSearch_SERPS!G1352,\"\")","v":""},{"$f":"IF(NOT(ISBLANK(ShareOfSearch_SERPS!K1352)),ShareOfSearch_SERPS!K1352,\"\")","v":""},{"$f":"IFERROR(VLOOKUP(C1352,ShareOfSearch_CTR!$A$1:$B$100,2,FALSE)*VLOOKUP(A1352&B1352,ShareOfSearch_Volume!$C$1:$D$1000,2,FALSE),\"\")","v":""}]
[{"$f":"IF(ISTEXT(ShareOfSearch_SERPS!C1353),ShareOfSearch_SERPS!C1353,\"\")","v":""},{"$f":"IF(ISTEXT(ShareOfSearch_SERPS!D1353),ShareOfSearch_SERPS!D1353,\"\")","v":""},{"$f":"IF(NOT(ISBLANK(ShareOfSearch_SERPS!A1353)),ShareOfSearch_SERPS!A1353,\"\")","v":""},{"$f":"IF(NOT(ISBLANK(ShareOfSearch_SERPS!G1353)),ShareOfSearch_SERPS!G1353,\"\")","v":""},{"$f":"IF(NOT(ISBLANK(ShareOfSearch_SERPS!K1353)),ShareOfSearch_SERPS!K1353,\"\")","v":""},{"$f":"IFERROR(VLOOKUP(C1353,ShareOfSearch_CTR!$A$1:$B$100,2,FALSE)*VLOOKUP(A1353&B1353,ShareOfSearch_Volume!$C$1:$D$1000,2,FALSE),\"\")","v":""}]
[{"$f":"IF(ISTEXT(ShareOfSearch_SERPS!C1354),ShareOfSearch_SERPS!C1354,\"\")","v":""},{"$f":"IF(ISTEXT(ShareOfSearch_SERPS!D1354),ShareOfSearch_SERPS!D1354,\"\")","v":""},{"$f":"IF(NOT(ISBLANK(ShareOfSearch_SERPS!A1354)),ShareOfSearch_SERPS!A1354,\"\")","v":""},{"$f":"IF(NOT(ISBLANK(ShareOfSearch_SERPS!G1354)),ShareOfSearch_SERPS!G1354,\"\")","v":""},{"$f":"IF(NOT(ISBLANK(ShareOfSearch_SERPS!K1354)),ShareOfSearch_SERPS!K1354,\"\")","v":""},{"$f":"IFERROR(VLOOKUP(C1354,ShareOfSearch_CTR!$A$1:$B$100,2,FALSE)*VLOOKUP(A1354&B1354,ShareOfSearch_Volume!$C$1:$D$1000,2,FALSE),\"\")","v":""}]
[{"$f":"IF(ISTEXT(ShareOfSearch_SERPS!C1355),ShareOfSearch_SERPS!C1355,\"\")","v":""},{"$f":"IF(ISTEXT(ShareOfSearch_SERPS!D1355),ShareOfSearch_SERPS!D1355,\"\")","v":""},{"$f":"IF(NOT(ISBLANK(ShareOfSearch_SERPS!A1355)),ShareOfSearch_SERPS!A1355,\"\")","v":""},{"$f":"IF(NOT(ISBLANK(ShareOfSearch_SERPS!G1355)),ShareOfSearch_SERPS!G1355,\"\")","v":""},{"$f":"IF(NOT(ISBLANK(ShareOfSearch_SERPS!K1355)),ShareOfSearch_SERPS!K1355,\"\")","v":""},{"$f":"IFERROR(VLOOKUP(C1355,ShareOfSearch_CTR!$A$1:$B$100,2,FALSE)*VLOOKUP(A1355&B1355,ShareOfSearch_Volume!$C$1:$D$1000,2,FALSE),\"\")","v":""}]
[{"$f":"IF(ISTEXT(ShareOfSearch_SERPS!C1356),ShareOfSearch_SERPS!C1356,\"\")","v":""},{"$f":"IF(ISTEXT(ShareOfSearch_SERPS!D1356),ShareOfSearch_SERPS!D1356,\"\")","v":""},{"$f":"IF(NOT(ISBLANK(ShareOfSearch_SERPS!A1356)),ShareOfSearch_SERPS!A1356,\"\")","v":""},{"$f":"IF(NOT(ISBLANK(ShareOfSearch_SERPS!G1356)),ShareOfSearch_SERPS!G1356,\"\")","v":""},{"$f":"IF(NOT(ISBLANK(ShareOfSearch_SERPS!K1356)),ShareOfSearch_SERPS!K1356,\"\")","v":""},{"$f":"IFERROR(VLOOKUP(C1356,ShareOfSearch_CTR!$A$1:$B$100,2,FALSE)*VLOOKUP(A1356&B1356,ShareOfSearch_Volume!$C$1:$D$1000,2,FALSE),\"\")","v":""}]
[{"$f":"IF(ISTEXT(ShareOfSearch_SERPS!C1357),ShareOfSearch_SERPS!C1357,\"\")","v":""},{"$f":"IF(ISTEXT(ShareOfSearch_SERPS!D1357),ShareOfSearch_SERPS!D1357,\"\")","v":""},{"$f":"IF(NOT(ISBLANK(ShareOfSearch_SERPS!A1357)),ShareOfSearch_SERPS!A1357,\"\")","v":""},{"$f":"IF(NOT(ISBLANK(ShareOfSearch_SERPS!G1357)),ShareOfSearch_SERPS!G1357,\"\")","v":""},{"$f":"IF(NOT(ISBLANK(ShareOfSearch_SERPS!K1357)),ShareOfSearch_SERPS!K1357,\"\")","v":""},{"$f":"IFERROR(VLOOKUP(C1357,ShareOfSearch_CTR!$A$1:$B$100,2,FALSE)*VLOOKUP(A1357&B1357,ShareOfSearch_Volume!$C$1:$D$1000,2,FALSE),\"\")","v":""}]
[{"$f":"IF(ISTEXT(ShareOfSearch_SERPS!C1358),ShareOfSearch_SERPS!C1358,\"\")","v":""},{"$f":"IF(ISTEXT(ShareOfSearch_SERPS!D1358),ShareOfSearch_SERPS!D1358,\"\")","v":""},{"$f":"IF(NOT(ISBLANK(ShareOfSearch_SERPS!A1358)),ShareOfSearch_SERPS!A1358,\"\")","v":""},{"$f":"IF(NOT(ISBLANK(ShareOfSearch_SERPS!G1358)),ShareOfSearch_SERPS!G1358,\"\")","v":""},{"$f":"IF(NOT(ISBLANK(ShareOfSearch_SERPS!K1358)),ShareOfSearch_SERPS!K1358,\"\")","v":""},{"$f":"IFERROR(VLOOKUP(C1358,ShareOfSearch_CTR!$A$1:$B$100,2,FALSE)*VLOOKUP(A1358&B1358,ShareOfSearch_Volume!$C$1:$D$1000,2,FALSE),\"\")","v":""}]
[{"$f":"IF(ISTEXT(ShareOfSearch_SERPS!C1359),ShareOfSearch_SERPS!C1359,\"\")","v":""},{"$f":"IF(ISTEXT(ShareOfSearch_SERPS!D1359),ShareOfSearch_SERPS!D1359,\"\")","v":""},{"$f":"IF(NOT(ISBLANK(ShareOfSearch_SERPS!A1359)),ShareOfSearch_SERPS!A1359,\"\")","v":""},{"$f":"IF(NOT(ISBLANK(ShareOfSearch_SERPS!G1359)),ShareOfSearch_SERPS!G1359,\"\")","v":""},{"$f":"IF(NOT(ISBLANK(ShareOfSearch_SERPS!K1359)),ShareOfSearch_SERPS!K1359,\"\")","v":""},{"$f":"IFERROR(VLOOKUP(C1359,ShareOfSearch_CTR!$A$1:$B$100,2,FALSE)*VLOOKUP(A1359&B1359,ShareOfSearch_Volume!$C$1:$D$1000,2,FALSE),\"\")","v":""}]
[{"$f":"IF(ISTEXT(ShareOfSearch_SERPS!C1360),ShareOfSearch_SERPS!C1360,\"\")","v":""},{"$f":"IF(ISTEXT(ShareOfSearch_SERPS!D1360),ShareOfSearch_SERPS!D1360,\"\")","v":""},{"$f":"IF(NOT(ISBLANK(ShareOfSearch_SERPS!A1360)),ShareOfSearch_SERPS!A1360,\"\")","v":""},{"$f":"IF(NOT(ISBLANK(ShareOfSearch_SERPS!G1360)),ShareOfSearch_SERPS!G1360,\"\")","v":""},{"$f":"IF(NOT(ISBLANK(ShareOfSearch_SERPS!K1360)),ShareOfSearch_SERPS!K1360,\"\")","v":""},{"$f":"IFERROR(VLOOKUP(C1360,ShareOfSearch_CTR!$A$1:$B$100,2,FALSE)*VLOOKUP(A1360&B1360,ShareOfSearch_Volume!$C$1:$D$1000,2,FALSE),\"\")","v":""}]
[{"$f":"IF(ISTEXT(ShareOfSearch_SERPS!C1361),ShareOfSearch_SERPS!C1361,\"\")","v":""},{"$f":"IF(ISTEXT(ShareOfSearch_SERPS!D1361),ShareOfSearch_SERPS!D1361,\"\")","v":""},{"$f":"IF(NOT(ISBLANK(ShareOfSearch_SERPS!A1361)),ShareOfSearch_SERPS!A1361,\"\")","v":""},{"$f":"IF(NOT(ISBLANK(ShareOfSearch_SERPS!G1361)),ShareOfSearch_SERPS!G1361,\"\")","v":""},{"$f":"IF(NOT(ISBLANK(ShareOfSearch_SERPS!K1361)),ShareOfSearch_SERPS!K1361,\"\")","v":""},{"$f":"IFERROR(VLOOKUP(C1361,ShareOfSearch_CTR!$A$1:$B$100,2,FALSE)*VLOOKUP(A1361&B1361,ShareOfSearch_Volume!$C$1:$D$1000,2,FALSE),\"\")","v":""}]
[{"$f":"IF(ISTEXT(ShareOfSearch_SERPS!C1362),ShareOfSearch_SERPS!C1362,\"\")","v":""},{"$f":"IF(ISTEXT(ShareOfSearch_SERPS!D1362),ShareOfSearch_SERPS!D1362,\"\")","v":""},{"$f":"IF(NOT(ISBLANK(ShareOfSearch_SERPS!A1362)),ShareOfSearch_SERPS!A1362,\"\")","v":""},{"$f":"IF(NOT(ISBLANK(ShareOfSearch_SERPS!G1362)),ShareOfSearch_SERPS!G1362,\"\")","v":""},{"$f":"IF(NOT(ISBLANK(ShareOfSearch_SERPS!K1362)),ShareOfSearch_SERPS!K1362,\"\")","v":""},{"$f":"IFERROR(VLOOKUP(C1362,ShareOfSearch_CTR!$A$1:$B$100,2,FALSE)*VLOOKUP(A1362&B1362,ShareOfSearch_Volume!$C$1:$D$1000,2,FALSE),\"\")","v":""}]
[{"$f":"IF(ISTEXT(ShareOfSearch_SERPS!C1363),ShareOfSearch_SERPS!C1363,\"\")","v":""},{"$f":"IF(ISTEXT(ShareOfSearch_SERPS!D1363),ShareOfSearch_SERPS!D1363,\"\")","v":""},{"$f":"IF(NOT(ISBLANK(ShareOfSearch_SERPS!A1363)),ShareOfSearch_SERPS!A1363,\"\")","v":""},{"$f":"IF(NOT(ISBLANK(ShareOfSearch_SERPS!G1363)),ShareOfSearch_SERPS!G1363,\"\")","v":""},{"$f":"IF(NOT(ISBLANK(ShareOfSearch_SERPS!K1363)),ShareOfSearch_SERPS!K1363,\"\")","v":""},{"$f":"IFERROR(VLOOKUP(C1363,ShareOfSearch_CTR!$A$1:$B$100,2,FALSE)*VLOOKUP(A1363&B1363,ShareOfSearch_Volume!$C$1:$D$1000,2,FALSE),\"\")","v":""}]
[{"$f":"IF(ISTEXT(ShareOfSearch_SERPS!C1364),ShareOfSearch_SERPS!C1364,\"\")","v":""},{"$f":"IF(ISTEXT(ShareOfSearch_SERPS!D1364),ShareOfSearch_SERPS!D1364,\"\")","v":""},{"$f":"IF(NOT(ISBLANK(ShareOfSearch_SERPS!A1364)),ShareOfSearch_SERPS!A1364,\"\")","v":""},{"$f":"IF(NOT(ISBLANK(ShareOfSearch_SERPS!G1364)),ShareOfSearch_SERPS!G1364,\"\")","v":""},{"$f":"IF(NOT(ISBLANK(ShareOfSearch_SERPS!K1364)),ShareOfSearch_SERPS!K1364,\"\")","v":""},{"$f":"IFERROR(VLOOKUP(C1364,ShareOfSearch_CTR!$A$1:$B$100,2,FALSE)*VLOOKUP(A1364&B1364,ShareOfSearch_Volume!$C$1:$D$1000,2,FALSE),\"\")","v":""}]
[{"$f":"IF(ISTEXT(ShareOfSearch_SERPS!C1365),ShareOfSearch_SERPS!C1365,\"\")","v":""},{"$f":"IF(ISTEXT(ShareOfSearch_SERPS!D1365),ShareOfSearch_SERPS!D1365,\"\")","v":""},{"$f":"IF(NOT(ISBLANK(ShareOfSearch_SERPS!A1365)),ShareOfSearch_SERPS!A1365,\"\")","v":""},{"$f":"IF(NOT(ISBLANK(ShareOfSearch_SERPS!G1365)),ShareOfSearch_SERPS!G1365,\"\")","v":""},{"$f":"IF(NOT(ISBLANK(ShareOfSearch_SERPS!K1365)),ShareOfSearch_SERPS!K1365,\"\")","v":""},{"$f":"IFERROR(VLOOKUP(C1365,ShareOfSearch_CTR!$A$1:$B$100,2,FALSE)*VLOOKUP(A1365&B1365,ShareOfSearch_Volume!$C$1:$D$1000,2,FALSE),\"\")","v":""}]
[{"$f":"IF(ISTEXT(ShareOfSearch_SERPS!C1366),ShareOfSearch_SERPS!C1366,\"\")","v":""},{"$f":"IF(ISTEXT(ShareOfSearch_SERPS!D1366),ShareOfSearch_SERPS!D1366,\"\")","v":""},{"$f":"IF(NOT(ISBLANK(ShareOfSearch_SERPS!A1366)),ShareOfSearch_SERPS!A1366,\"\")","v":""},{"$f":"IF(NOT(ISBLANK(ShareOfSearch_SERPS!G1366)),ShareOfSearch_SERPS!G1366,\"\")","v":""},{"$f":"IF(NOT(ISBLANK(ShareOfSearch_SERPS!K1366)),ShareOfSearch_SERPS!K1366,\"\")","v":""},{"$f":"IFERROR(VLOOKUP(C1366,ShareOfSearch_CTR!$A$1:$B$100,2,FALSE)*VLOOKUP(A1366&B1366,ShareOfSearch_Volume!$C$1:$D$1000,2,FALSE),\"\")","v":""}]
[{"$f":"IF(ISTEXT(ShareOfSearch_SERPS!C1367),ShareOfSearch_SERPS!C1367,\"\")","v":""},{"$f":"IF(ISTEXT(ShareOfSearch_SERPS!D1367),ShareOfSearch_SERPS!D1367,\"\")","v":""},{"$f":"IF(NOT(ISBLANK(ShareOfSearch_SERPS!A1367)),ShareOfSearch_SERPS!A1367,\"\")","v":""},{"$f":"IF(NOT(ISBLANK(ShareOfSearch_SERPS!G1367)),ShareOfSearch_SERPS!G1367,\"\")","v":""},{"$f":"IF(NOT(ISBLANK(ShareOfSearch_SERPS!K1367)),ShareOfSearch_SERPS!K1367,\"\")","v":""},{"$f":"IFERROR(VLOOKUP(C1367,ShareOfSearch_CTR!$A$1:$B$100,2,FALSE)*VLOOKUP(A1367&B1367,ShareOfSearch_Volume!$C$1:$D$1000,2,FALSE),\"\")","v":""}]
[{"$f":"IF(ISTEXT(ShareOfSearch_SERPS!C1368),ShareOfSearch_SERPS!C1368,\"\")","v":""},{"$f":"IF(ISTEXT(ShareOfSearch_SERPS!D1368),ShareOfSearch_SERPS!D1368,\"\")","v":""},{"$f":"IF(NOT(ISBLANK(ShareOfSearch_SERPS!A1368)),ShareOfSearch_SERPS!A1368,\"\")","v":""},{"$f":"IF(NOT(ISBLANK(ShareOfSearch_SERPS!G1368)),ShareOfSearch_SERPS!G1368,\"\")","v":""},{"$f":"IF(NOT(ISBLANK(ShareOfSearch_SERPS!K1368)),ShareOfSearch_SERPS!K1368,\"\")","v":""},{"$f":"IFERROR(VLOOKUP(C1368,ShareOfSearch_CTR!$A$1:$B$100,2,FALSE)*VLOOKUP(A1368&B1368,ShareOfSearch_Volume!$C$1:$D$1000,2,FALSE),\"\")","v":""}]
[{"$f":"IF(ISTEXT(ShareOfSearch_SERPS!C1369),ShareOfSearch_SERPS!C1369,\"\")","v":""},{"$f":"IF(ISTEXT(ShareOfSearch_SERPS!D1369),ShareOfSearch_SERPS!D1369,\"\")","v":""},{"$f":"IF(NOT(ISBLANK(ShareOfSearch_SERPS!A1369)),ShareOfSearch_SERPS!A1369,\"\")","v":""},{"$f":"IF(NOT(ISBLANK(ShareOfSearch_SERPS!G1369)),ShareOfSearch_SERPS!G1369,\"\")","v":""},{"$f":"IF(NOT(ISBLANK(ShareOfSearch_SERPS!K1369)),ShareOfSearch_SERPS!K1369,\"\")","v":""},{"$f":"IFERROR(VLOOKUP(C1369,ShareOfSearch_CTR!$A$1:$B$100,2,FALSE)*VLOOKUP(A1369&B1369,ShareOfSearch_Volume!$C$1:$D$1000,2,FALSE),\"\")","v":""}]
[{"$f":"IF(ISTEXT(ShareOfSearch_SERPS!C1370),ShareOfSearch_SERPS!C1370,\"\")","v":""},{"$f":"IF(ISTEXT(ShareOfSearch_SERPS!D1370),ShareOfSearch_SERPS!D1370,\"\")","v":""},{"$f":"IF(NOT(ISBLANK(ShareOfSearch_SERPS!A1370)),ShareOfSearch_SERPS!A1370,\"\")","v":""},{"$f":"IF(NOT(ISBLANK(ShareOfSearch_SERPS!G1370)),ShareOfSearch_SERPS!G1370,\"\")","v":""},{"$f":"IF(NOT(ISBLANK(ShareOfSearch_SERPS!K1370)),ShareOfSearch_SERPS!K1370,\"\")","v":""},{"$f":"IFERROR(VLOOKUP(C1370,ShareOfSearch_CTR!$A$1:$B$100,2,FALSE)*VLOOKUP(A1370&B1370,ShareOfSearch_Volume!$C$1:$D$1000,2,FALSE),\"\")","v":""}]
[{"$f":"IF(ISTEXT(ShareOfSearch_SERPS!C1371),ShareOfSearch_SERPS!C1371,\"\")","v":""},{"$f":"IF(ISTEXT(ShareOfSearch_SERPS!D1371),ShareOfSearch_SERPS!D1371,\"\")","v":""},{"$f":"IF(NOT(ISBLANK(ShareOfSearch_SERPS!A1371)),ShareOfSearch_SERPS!A1371,\"\")","v":""},{"$f":"IF(NOT(ISBLANK(ShareOfSearch_SERPS!G1371)),ShareOfSearch_SERPS!G1371,\"\")","v":""},{"$f":"IF(NOT(ISBLANK(ShareOfSearch_SERPS!K1371)),ShareOfSearch_SERPS!K1371,\"\")","v":""},{"$f":"IFERROR(VLOOKUP(C1371,ShareOfSearch_CTR!$A$1:$B$100,2,FALSE)*VLOOKUP(A1371&B1371,ShareOfSearch_Volume!$C$1:$D$1000,2,FALSE),\"\")","v":""}]
[{"$f":"IF(ISTEXT(ShareOfSearch_SERPS!C1372),ShareOfSearch_SERPS!C1372,\"\")","v":""},{"$f":"IF(ISTEXT(ShareOfSearch_SERPS!D1372),ShareOfSearch_SERPS!D1372,\"\")","v":""},{"$f":"IF(NOT(ISBLANK(ShareOfSearch_SERPS!A1372)),ShareOfSearch_SERPS!A1372,\"\")","v":""},{"$f":"IF(NOT(ISBLANK(ShareOfSearch_SERPS!G1372)),ShareOfSearch_SERPS!G1372,\"\")","v":""},{"$f":"IF(NOT(ISBLANK(ShareOfSearch_SERPS!K1372)),ShareOfSearch_SERPS!K1372,\"\")","v":""},{"$f":"IFERROR(VLOOKUP(C1372,ShareOfSearch_CTR!$A$1:$B$100,2,FALSE)*VLOOKUP(A1372&B1372,ShareOfSearch_Volume!$C$1:$D$1000,2,FALSE),\"\")","v":""}]
[{"$f":"IF(ISTEXT(ShareOfSearch_SERPS!C1373),ShareOfSearch_SERPS!C1373,\"\")","v":""},{"$f":"IF(ISTEXT(ShareOfSearch_SERPS!D1373),ShareOfSearch_SERPS!D1373,\"\")","v":""},{"$f":"IF(NOT(ISBLANK(ShareOfSearch_SERPS!A1373)),ShareOfSearch_SERPS!A1373,\"\")","v":""},{"$f":"IF(NOT(ISBLANK(ShareOfSearch_SERPS!G1373)),ShareOfSearch_SERPS!G1373,\"\")","v":""},{"$f":"IF(NOT(ISBLANK(ShareOfSearch_SERPS!K1373)),ShareOfSearch_SERPS!K1373,\"\")","v":""},{"$f":"IFERROR(VLOOKUP(C1373,ShareOfSearch_CTR!$A$1:$B$100,2,FALSE)*VLOOKUP(A1373&B1373,ShareOfSearch_Volume!$C$1:$D$1000,2,FALSE),\"\")","v":""}]
[{"$f":"IF(ISTEXT(ShareOfSearch_SERPS!C1374),ShareOfSearch_SERPS!C1374,\"\")","v":""},{"$f":"IF(ISTEXT(ShareOfSearch_SERPS!D1374),ShareOfSearch_SERPS!D1374,\"\")","v":""},{"$f":"IF(NOT(ISBLANK(ShareOfSearch_SERPS!A1374)),ShareOfSearch_SERPS!A1374,\"\")","v":""},{"$f":"IF(NOT(ISBLANK(ShareOfSearch_SERPS!G1374)),ShareOfSearch_SERPS!G1374,\"\")","v":""},{"$f":"IF(NOT(ISBLANK(ShareOfSearch_SERPS!K1374)),ShareOfSearch_SERPS!K1374,\"\")","v":""},{"$f":"IFERROR(VLOOKUP(C1374,ShareOfSearch_CTR!$A$1:$B$100,2,FALSE)*VLOOKUP(A1374&B1374,ShareOfSearch_Volume!$C$1:$D$1000,2,FALSE),\"\")","v":""}]
[{"$f":"IF(ISTEXT(ShareOfSearch_SERPS!C1375),ShareOfSearch_SERPS!C1375,\"\")","v":""},{"$f":"IF(ISTEXT(ShareOfSearch_SERPS!D1375),ShareOfSearch_SERPS!D1375,\"\")","v":""},{"$f":"IF(NOT(ISBLANK(ShareOfSearch_SERPS!A1375)),ShareOfSearch_SERPS!A1375,\"\")","v":""},{"$f":"IF(NOT(ISBLANK(ShareOfSearch_SERPS!G1375)),ShareOfSearch_SERPS!G1375,\"\")","v":""},{"$f":"IF(NOT(ISBLANK(ShareOfSearch_SERPS!K1375)),ShareOfSearch_SERPS!K1375,\"\")","v":""},{"$f":"IFERROR(VLOOKUP(C1375,ShareOfSearch_CTR!$A$1:$B$100,2,FALSE)*VLOOKUP(A1375&B1375,ShareOfSearch_Volume!$C$1:$D$1000,2,FALSE),\"\")","v":""}]
[{"$f":"IF(ISTEXT(ShareOfSearch_SERPS!C1376),ShareOfSearch_SERPS!C1376,\"\")","v":""},{"$f":"IF(ISTEXT(ShareOfSearch_SERPS!D1376),ShareOfSearch_SERPS!D1376,\"\")","v":""},{"$f":"IF(NOT(ISBLANK(ShareOfSearch_SERPS!A1376)),ShareOfSearch_SERPS!A1376,\"\")","v":""},{"$f":"IF(NOT(ISBLANK(ShareOfSearch_SERPS!G1376)),ShareOfSearch_SERPS!G1376,\"\")","v":""},{"$f":"IF(NOT(ISBLANK(ShareOfSearch_SERPS!K1376)),ShareOfSearch_SERPS!K1376,\"\")","v":""},{"$f":"IFERROR(VLOOKUP(C1376,ShareOfSearch_CTR!$A$1:$B$100,2,FALSE)*VLOOKUP(A1376&B1376,ShareOfSearch_Volume!$C$1:$D$1000,2,FALSE),\"\")","v":""}]
[{"$f":"IF(ISTEXT(ShareOfSearch_SERPS!C1377),ShareOfSearch_SERPS!C1377,\"\")","v":""},{"$f":"IF(ISTEXT(ShareOfSearch_SERPS!D1377),ShareOfSearch_SERPS!D1377,\"\")","v":""},{"$f":"IF(NOT(ISBLANK(ShareOfSearch_SERPS!A1377)),ShareOfSearch_SERPS!A1377,\"\")","v":""},{"$f":"IF(NOT(ISBLANK(ShareOfSearch_SERPS!G1377)),ShareOfSearch_SERPS!G1377,\"\")","v":""},{"$f":"IF(NOT(ISBLANK(ShareOfSearch_SERPS!K1377)),ShareOfSearch_SERPS!K1377,\"\")","v":""},{"$f":"IFERROR(VLOOKUP(C1377,ShareOfSearch_CTR!$A$1:$B$100,2,FALSE)*VLOOKUP(A1377&B1377,ShareOfSearch_Volume!$C$1:$D$1000,2,FALSE),\"\")","v":""}]
[{"$f":"IF(ISTEXT(ShareOfSearch_SERPS!C1378),ShareOfSearch_SERPS!C1378,\"\")","v":""},{"$f":"IF(ISTEXT(ShareOfSearch_SERPS!D1378),ShareOfSearch_SERPS!D1378,\"\")","v":""},{"$f":"IF(NOT(ISBLANK(ShareOfSearch_SERPS!A1378)),ShareOfSearch_SERPS!A1378,\"\")","v":""},{"$f":"IF(NOT(ISBLANK(ShareOfSearch_SERPS!G1378)),ShareOfSearch_SERPS!G1378,\"\")","v":""},{"$f":"IF(NOT(ISBLANK(ShareOfSearch_SERPS!K1378)),ShareOfSearch_SERPS!K1378,\"\")","v":""},{"$f":"IFERROR(VLOOKUP(C1378,ShareOfSearch_CTR!$A$1:$B$100,2,FALSE)*VLOOKUP(A1378&B1378,ShareOfSearch_Volume!$C$1:$D$1000,2,FALSE),\"\")","v":""}]
[{"$f":"IF(ISTEXT(ShareOfSearch_SERPS!C1379),ShareOfSearch_SERPS!C1379,\"\")","v":""},{"$f":"IF(ISTEXT(ShareOfSearch_SERPS!D1379),ShareOfSearch_SERPS!D1379,\"\")","v":""},{"$f":"IF(NOT(ISBLANK(ShareOfSearch_SERPS!A1379)),ShareOfSearch_SERPS!A1379,\"\")","v":""},{"$f":"IF(NOT(ISBLANK(ShareOfSearch_SERPS!G1379)),ShareOfSearch_SERPS!G1379,\"\")","v":""},{"$f":"IF(NOT(ISBLANK(ShareOfSearch_SERPS!K1379)),ShareOfSearch_SERPS!K1379,\"\")","v":""},{"$f":"IFERROR(VLOOKUP(C1379,ShareOfSearch_CTR!$A$1:$B$100,2,FALSE)*VLOOKUP(A1379&B1379,ShareOfSearch_Volume!$C$1:$D$1000,2,FALSE),\"\")","v":""}]
[{"$f":"IF(ISTEXT(ShareOfSearch_SERPS!C1380),ShareOfSearch_SERPS!C1380,\"\")","v":""},{"$f":"IF(ISTEXT(ShareOfSearch_SERPS!D1380),ShareOfSearch_SERPS!D1380,\"\")","v":""},{"$f":"IF(NOT(ISBLANK(ShareOfSearch_SERPS!A1380)),ShareOfSearch_SERPS!A1380,\"\")","v":""},{"$f":"IF(NOT(ISBLANK(ShareOfSearch_SERPS!G1380)),ShareOfSearch_SERPS!G1380,\"\")","v":""},{"$f":"IF(NOT(ISBLANK(ShareOfSearch_SERPS!K1380)),ShareOfSearch_SERPS!K1380,\"\")","v":""},{"$f":"IFERROR(VLOOKUP(C1380,ShareOfSearch_CTR!$A$1:$B$100,2,FALSE)*VLOOKUP(A1380&B1380,ShareOfSearch_Volume!$C$1:$D$1000,2,FALSE),\"\")","v":""}]
[{"$f":"IF(ISTEXT(ShareOfSearch_SERPS!C1381),ShareOfSearch_SERPS!C1381,\"\")","v":""},{"$f":"IF(ISTEXT(ShareOfSearch_SERPS!D1381),ShareOfSearch_SERPS!D1381,\"\")","v":""},{"$f":"IF(NOT(ISBLANK(ShareOfSearch_SERPS!A1381)),ShareOfSearch_SERPS!A1381,\"\")","v":""},{"$f":"IF(NOT(ISBLANK(ShareOfSearch_SERPS!G1381)),ShareOfSearch_SERPS!G1381,\"\")","v":""},{"$f":"IF(NOT(ISBLANK(ShareOfSearch_SERPS!K1381)),ShareOfSearch_SERPS!K1381,\"\")","v":""},{"$f":"IFERROR(VLOOKUP(C1381,ShareOfSearch_CTR!$A$1:$B$100,2,FALSE)*VLOOKUP(A1381&B1381,ShareOfSearch_Volume!$C$1:$D$1000,2,FALSE),\"\")","v":""}]
[{"$f":"IF(ISTEXT(ShareOfSearch_SERPS!C1382),ShareOfSearch_SERPS!C1382,\"\")","v":""},{"$f":"IF(ISTEXT(ShareOfSearch_SERPS!D1382),ShareOfSearch_SERPS!D1382,\"\")","v":""},{"$f":"IF(NOT(ISBLANK(ShareOfSearch_SERPS!A1382)),ShareOfSearch_SERPS!A1382,\"\")","v":""},{"$f":"IF(NOT(ISBLANK(ShareOfSearch_SERPS!G1382)),ShareOfSearch_SERPS!G1382,\"\")","v":""},{"$f":"IF(NOT(ISBLANK(ShareOfSearch_SERPS!K1382)),ShareOfSearch_SERPS!K1382,\"\")","v":""},{"$f":"IFERROR(VLOOKUP(C1382,ShareOfSearch_CTR!$A$1:$B$100,2,FALSE)*VLOOKUP(A1382&B1382,ShareOfSearch_Volume!$C$1:$D$1000,2,FALSE),\"\")","v":""}]
[{"$f":"IF(ISTEXT(ShareOfSearch_SERPS!C1383),ShareOfSearch_SERPS!C1383,\"\")","v":""},{"$f":"IF(ISTEXT(ShareOfSearch_SERPS!D1383),ShareOfSearch_SERPS!D1383,\"\")","v":""},{"$f":"IF(NOT(ISBLANK(ShareOfSearch_SERPS!A1383)),ShareOfSearch_SERPS!A1383,\"\")","v":""},{"$f":"IF(NOT(ISBLANK(ShareOfSearch_SERPS!G1383)),ShareOfSearch_SERPS!G1383,\"\")","v":""},{"$f":"IF(NOT(ISBLANK(ShareOfSearch_SERPS!K1383)),ShareOfSearch_SERPS!K1383,\"\")","v":""},{"$f":"IFERROR(VLOOKUP(C1383,ShareOfSearch_CTR!$A$1:$B$100,2,FALSE)*VLOOKUP(A1383&B1383,ShareOfSearch_Volume!$C$1:$D$1000,2,FALSE),\"\")","v":""}]
[{"$f":"IF(ISTEXT(ShareOfSearch_SERPS!C1384),ShareOfSearch_SERPS!C1384,\"\")","v":""},{"$f":"IF(ISTEXT(ShareOfSearch_SERPS!D1384),ShareOfSearch_SERPS!D1384,\"\")","v":""},{"$f":"IF(NOT(ISBLANK(ShareOfSearch_SERPS!A1384)),ShareOfSearch_SERPS!A1384,\"\")","v":""},{"$f":"IF(NOT(ISBLANK(ShareOfSearch_SERPS!G1384)),ShareOfSearch_SERPS!G1384,\"\")","v":""},{"$f":"IF(NOT(ISBLANK(ShareOfSearch_SERPS!K1384)),ShareOfSearch_SERPS!K1384,\"\")","v":""},{"$f":"IFERROR(VLOOKUP(C1384,ShareOfSearch_CTR!$A$1:$B$100,2,FALSE)*VLOOKUP(A1384&B1384,ShareOfSearch_Volume!$C$1:$D$1000,2,FALSE),\"\")","v":""}]
[{"$f":"IF(ISTEXT(ShareOfSearch_SERPS!C1385),ShareOfSearch_SERPS!C1385,\"\")","v":""},{"$f":"IF(ISTEXT(ShareOfSearch_SERPS!D1385),ShareOfSearch_SERPS!D1385,\"\")","v":""},{"$f":"IF(NOT(ISBLANK(ShareOfSearch_SERPS!A1385)),ShareOfSearch_SERPS!A1385,\"\")","v":""},{"$f":"IF(NOT(ISBLANK(ShareOfSearch_SERPS!G1385)),ShareOfSearch_SERPS!G1385,\"\")","v":""},{"$f":"IF(NOT(ISBLANK(ShareOfSearch_SERPS!K1385)),ShareOfSearch_SERPS!K1385,\"\")","v":""},{"$f":"IFERROR(VLOOKUP(C1385,ShareOfSearch_CTR!$A$1:$B$100,2,FALSE)*VLOOKUP(A1385&B1385,ShareOfSearch_Volume!$C$1:$D$1000,2,FALSE),\"\")","v":""}]
[{"$f":"IF(ISTEXT(ShareOfSearch_SERPS!C1386),ShareOfSearch_SERPS!C1386,\"\")","v":""},{"$f":"IF(ISTEXT(ShareOfSearch_SERPS!D1386),ShareOfSearch_SERPS!D1386,\"\")","v":""},{"$f":"IF(NOT(ISBLANK(ShareOfSearch_SERPS!A1386)),ShareOfSearch_SERPS!A1386,\"\")","v":""},{"$f":"IF(NOT(ISBLANK(ShareOfSearch_SERPS!G1386)),ShareOfSearch_SERPS!G1386,\"\")","v":""},{"$f":"IF(NOT(ISBLANK(ShareOfSearch_SERPS!K1386)),ShareOfSearch_SERPS!K1386,\"\")","v":""},{"$f":"IFERROR(VLOOKUP(C1386,ShareOfSearch_CTR!$A$1:$B$100,2,FALSE)*VLOOKUP(A1386&B1386,ShareOfSearch_Volume!$C$1:$D$1000,2,FALSE),\"\")","v":""}]
[{"$f":"IF(ISTEXT(ShareOfSearch_SERPS!C1387),ShareOfSearch_SERPS!C1387,\"\")","v":""},{"$f":"IF(ISTEXT(ShareOfSearch_SERPS!D1387),ShareOfSearch_SERPS!D1387,\"\")","v":""},{"$f":"IF(NOT(ISBLANK(ShareOfSearch_SERPS!A1387)),ShareOfSearch_SERPS!A1387,\"\")","v":""},{"$f":"IF(NOT(ISBLANK(ShareOfSearch_SERPS!G1387)),ShareOfSearch_SERPS!G1387,\"\")","v":""},{"$f":"IF(NOT(ISBLANK(ShareOfSearch_SERPS!K1387)),ShareOfSearch_SERPS!K1387,\"\")","v":""},{"$f":"IFERROR(VLOOKUP(C1387,ShareOfSearch_CTR!$A$1:$B$100,2,FALSE)*VLOOKUP(A1387&B1387,ShareOfSearch_Volume!$C$1:$D$1000,2,FALSE),\"\")","v":""}]
[{"$f":"IF(ISTEXT(ShareOfSearch_SERPS!C1388),ShareOfSearch_SERPS!C1388,\"\")","v":""},{"$f":"IF(ISTEXT(ShareOfSearch_SERPS!D1388),ShareOfSearch_SERPS!D1388,\"\")","v":""},{"$f":"IF(NOT(ISBLANK(ShareOfSearch_SERPS!A1388)),ShareOfSearch_SERPS!A1388,\"\")","v":""},{"$f":"IF(NOT(ISBLANK(ShareOfSearch_SERPS!G1388)),ShareOfSearch_SERPS!G1388,\"\")","v":""},{"$f":"IF(NOT(ISBLANK(ShareOfSearch_SERPS!K1388)),ShareOfSearch_SERPS!K1388,\"\")","v":""},{"$f":"IFERROR(VLOOKUP(C1388,ShareOfSearch_CTR!$A$1:$B$100,2,FALSE)*VLOOKUP(A1388&B1388,ShareOfSearch_Volume!$C$1:$D$1000,2,FALSE),\"\")","v":""}]
[{"$f":"IF(ISTEXT(ShareOfSearch_SERPS!C1389),ShareOfSearch_SERPS!C1389,\"\")","v":""},{"$f":"IF(ISTEXT(ShareOfSearch_SERPS!D1389),ShareOfSearch_SERPS!D1389,\"\")","v":""},{"$f":"IF(NOT(ISBLANK(ShareOfSearch_SERPS!A1389)),ShareOfSearch_SERPS!A1389,\"\")","v":""},{"$f":"IF(NOT(ISBLANK(ShareOfSearch_SERPS!G1389)),ShareOfSearch_SERPS!G1389,\"\")","v":""},{"$f":"IF(NOT(ISBLANK(ShareOfSearch_SERPS!K1389)),ShareOfSearch_SERPS!K1389,\"\")","v":""},{"$f":"IFERROR(VLOOKUP(C1389,ShareOfSearch_CTR!$A$1:$B$100,2,FALSE)*VLOOKUP(A1389&B1389,ShareOfSearch_Volume!$C$1:$D$1000,2,FALSE),\"\")","v":""}]
[{"$f":"IF(ISTEXT(ShareOfSearch_SERPS!C1390),ShareOfSearch_SERPS!C1390,\"\")","v":""},{"$f":"IF(ISTEXT(ShareOfSearch_SERPS!D1390),ShareOfSearch_SERPS!D1390,\"\")","v":""},{"$f":"IF(NOT(ISBLANK(ShareOfSearch_SERPS!A1390)),ShareOfSearch_SERPS!A1390,\"\")","v":""},{"$f":"IF(NOT(ISBLANK(ShareOfSearch_SERPS!G1390)),ShareOfSearch_SERPS!G1390,\"\")","v":""},{"$f":"IF(NOT(ISBLANK(ShareOfSearch_SERPS!K1390)),ShareOfSearch_SERPS!K1390,\"\")","v":""},{"$f":"IFERROR(VLOOKUP(C1390,ShareOfSearch_CTR!$A$1:$B$100,2,FALSE)*VLOOKUP(A1390&B1390,ShareOfSearch_Volume!$C$1:$D$1000,2,FALSE),\"\")","v":""}]
[{"$f":"IF(ISTEXT(ShareOfSearch_SERPS!C1391),ShareOfSearch_SERPS!C1391,\"\")","v":""},{"$f":"IF(ISTEXT(ShareOfSearch_SERPS!D1391),ShareOfSearch_SERPS!D1391,\"\")","v":""},{"$f":"IF(NOT(ISBLANK(ShareOfSearch_SERPS!A1391)),ShareOfSearch_SERPS!A1391,\"\")","v":""},{"$f":"IF(NOT(ISBLANK(ShareOfSearch_SERPS!G1391)),ShareOfSearch_SERPS!G1391,\"\")","v":""},{"$f":"IF(NOT(ISBLANK(ShareOfSearch_SERPS!K1391)),ShareOfSearch_SERPS!K1391,\"\")","v":""},{"$f":"IFERROR(VLOOKUP(C1391,ShareOfSearch_CTR!$A$1:$B$100,2,FALSE)*VLOOKUP(A1391&B1391,ShareOfSearch_Volume!$C$1:$D$1000,2,FALSE),\"\")","v":""}]
[{"$f":"IF(ISTEXT(ShareOfSearch_SERPS!C1392),ShareOfSearch_SERPS!C1392,\"\")","v":""},{"$f":"IF(ISTEXT(ShareOfSearch_SERPS!D1392),ShareOfSearch_SERPS!D1392,\"\")","v":""},{"$f":"IF(NOT(ISBLANK(ShareOfSearch_SERPS!A1392)),ShareOfSearch_SERPS!A1392,\"\")","v":""},{"$f":"IF(NOT(ISBLANK(ShareOfSearch_SERPS!G1392)),ShareOfSearch_SERPS!G1392,\"\")","v":""},{"$f":"IF(NOT(ISBLANK(ShareOfSearch_SERPS!K1392)),ShareOfSearch_SERPS!K1392,\"\")","v":""},{"$f":"IFERROR(VLOOKUP(C1392,ShareOfSearch_CTR!$A$1:$B$100,2,FALSE)*VLOOKUP(A1392&B1392,ShareOfSearch_Volume!$C$1:$D$1000,2,FALSE),\"\")","v":""}]
[{"$f":"IF(ISTEXT(ShareOfSearch_SERPS!C1393),ShareOfSearch_SERPS!C1393,\"\")","v":""},{"$f":"IF(ISTEXT(ShareOfSearch_SERPS!D1393),ShareOfSearch_SERPS!D1393,\"\")","v":""},{"$f":"IF(NOT(ISBLANK(ShareOfSearch_SERPS!A1393)),ShareOfSearch_SERPS!A1393,\"\")","v":""},{"$f":"IF(NOT(ISBLANK(ShareOfSearch_SERPS!G1393)),ShareOfSearch_SERPS!G1393,\"\")","v":""},{"$f":"IF(NOT(ISBLANK(ShareOfSearch_SERPS!K1393)),ShareOfSearch_SERPS!K1393,\"\")","v":""},{"$f":"IFERROR(VLOOKUP(C1393,ShareOfSearch_CTR!$A$1:$B$100,2,FALSE)*VLOOKUP(A1393&B1393,ShareOfSearch_Volume!$C$1:$D$1000,2,FALSE),\"\")","v":""}]
[{"$f":"IF(ISTEXT(ShareOfSearch_SERPS!C1394),ShareOfSearch_SERPS!C1394,\"\")","v":""},{"$f":"IF(ISTEXT(ShareOfSearch_SERPS!D1394),ShareOfSearch_SERPS!D1394,\"\")","v":""},{"$f":"IF(NOT(ISBLANK(ShareOfSearch_SERPS!A1394)),ShareOfSearch_SERPS!A1394,\"\")","v":""},{"$f":"IF(NOT(ISBLANK(ShareOfSearch_SERPS!G1394)),ShareOfSearch_SERPS!G1394,\"\")","v":""},{"$f":"IF(NOT(ISBLANK(ShareOfSearch_SERPS!K1394)),ShareOfSearch_SERPS!K1394,\"\")","v":""},{"$f":"IFERROR(VLOOKUP(C1394,ShareOfSearch_CTR!$A$1:$B$100,2,FALSE)*VLOOKUP(A1394&B1394,ShareOfSearch_Volume!$C$1:$D$1000,2,FALSE),\"\")","v":""}]
[{"$f":"IF(ISTEXT(ShareOfSearch_SERPS!C1395),ShareOfSearch_SERPS!C1395,\"\")","v":""},{"$f":"IF(ISTEXT(ShareOfSearch_SERPS!D1395),ShareOfSearch_SERPS!D1395,\"\")","v":""},{"$f":"IF(NOT(ISBLANK(ShareOfSearch_SERPS!A1395)),ShareOfSearch_SERPS!A1395,\"\")","v":""},{"$f":"IF(NOT(ISBLANK(ShareOfSearch_SERPS!G1395)),ShareOfSearch_SERPS!G1395,\"\")","v":""},{"$f":"IF(NOT(ISBLANK(ShareOfSearch_SERPS!K1395)),ShareOfSearch_SERPS!K1395,\"\")","v":""},{"$f":"IFERROR(VLOOKUP(C1395,ShareOfSearch_CTR!$A$1:$B$100,2,FALSE)*VLOOKUP(A1395&B1395,ShareOfSearch_Volume!$C$1:$D$1000,2,FALSE),\"\")","v":""}]
[{"$f":"IF(ISTEXT(ShareOfSearch_SERPS!C1396),ShareOfSearch_SERPS!C1396,\"\")","v":""},{"$f":"IF(ISTEXT(ShareOfSearch_SERPS!D1396),ShareOfSearch_SERPS!D1396,\"\")","v":""},{"$f":"IF(NOT(ISBLANK(ShareOfSearch_SERPS!A1396)),ShareOfSearch_SERPS!A1396,\"\")","v":""},{"$f":"IF(NOT(ISBLANK(ShareOfSearch_SERPS!G1396)),ShareOfSearch_SERPS!G1396,\"\")","v":""},{"$f":"IF(NOT(ISBLANK(ShareOfSearch_SERPS!K1396)),ShareOfSearch_SERPS!K1396,\"\")","v":""},{"$f":"IFERROR(VLOOKUP(C1396,ShareOfSearch_CTR!$A$1:$B$100,2,FALSE)*VLOOKUP(A1396&B1396,ShareOfSearch_Volume!$C$1:$D$1000,2,FALSE),\"\")","v":""}]
[{"$f":"IF(ISTEXT(ShareOfSearch_SERPS!C1397),ShareOfSearch_SERPS!C1397,\"\")","v":""},{"$f":"IF(ISTEXT(ShareOfSearch_SERPS!D1397),ShareOfSearch_SERPS!D1397,\"\")","v":""},{"$f":"IF(NOT(ISBLANK(ShareOfSearch_SERPS!A1397)),ShareOfSearch_SERPS!A1397,\"\")","v":""},{"$f":"IF(NOT(ISBLANK(ShareOfSearch_SERPS!G1397)),ShareOfSearch_SERPS!G1397,\"\")","v":""},{"$f":"IF(NOT(ISBLANK(ShareOfSearch_SERPS!K1397)),ShareOfSearch_SERPS!K1397,\"\")","v":""},{"$f":"IFERROR(VLOOKUP(C1397,ShareOfSearch_CTR!$A$1:$B$100,2,FALSE)*VLOOKUP(A1397&B1397,ShareOfSearch_Volume!$C$1:$D$1000,2,FALSE),\"\")","v":""}]
[{"$f":"IF(ISTEXT(ShareOfSearch_SERPS!C1398),ShareOfSearch_SERPS!C1398,\"\")","v":""},{"$f":"IF(ISTEXT(ShareOfSearch_SERPS!D1398),ShareOfSearch_SERPS!D1398,\"\")","v":""},{"$f":"IF(NOT(ISBLANK(ShareOfSearch_SERPS!A1398)),ShareOfSearch_SERPS!A1398,\"\")","v":""},{"$f":"IF(NOT(ISBLANK(ShareOfSearch_SERPS!G1398)),ShareOfSearch_SERPS!G1398,\"\")","v":""},{"$f":"IF(NOT(ISBLANK(ShareOfSearch_SERPS!K1398)),ShareOfSearch_SERPS!K1398,\"\")","v":""},{"$f":"IFERROR(VLOOKUP(C1398,ShareOfSearch_CTR!$A$1:$B$100,2,FALSE)*VLOOKUP(A1398&B1398,ShareOfSearch_Volume!$C$1:$D$1000,2,FALSE),\"\")","v":""}]
[{"$f":"IF(ISTEXT(ShareOfSearch_SERPS!C1399),ShareOfSearch_SERPS!C1399,\"\")","v":""},{"$f":"IF(ISTEXT(ShareOfSearch_SERPS!D1399),ShareOfSearch_SERPS!D1399,\"\")","v":""},{"$f":"IF(NOT(ISBLANK(ShareOfSearch_SERPS!A1399)),ShareOfSearch_SERPS!A1399,\"\")","v":""},{"$f":"IF(NOT(ISBLANK(ShareOfSearch_SERPS!G1399)),ShareOfSearch_SERPS!G1399,\"\")","v":""},{"$f":"IF(NOT(ISBLANK(ShareOfSearch_SERPS!K1399)),ShareOfSearch_SERPS!K1399,\"\")","v":""},{"$f":"IFERROR(VLOOKUP(C1399,ShareOfSearch_CTR!$A$1:$B$100,2,FALSE)*VLOOKUP(A1399&B1399,ShareOfSearch_Volume!$C$1:$D$1000,2,FALSE),\"\")","v":""}]
[{"$f":"IF(ISTEXT(ShareOfSearch_SERPS!C1400),ShareOfSearch_SERPS!C1400,\"\")","v":""},{"$f":"IF(ISTEXT(ShareOfSearch_SERPS!D1400),ShareOfSearch_SERPS!D1400,\"\")","v":""},{"$f":"IF(NOT(ISBLANK(ShareOfSearch_SERPS!A1400)),ShareOfSearch_SERPS!A1400,\"\")","v":""},{"$f":"IF(NOT(ISBLANK(ShareOfSearch_SERPS!G1400)),ShareOfSearch_SERPS!G1400,\"\")","v":""},{"$f":"IF(NOT(ISBLANK(ShareOfSearch_SERPS!K1400)),ShareOfSearch_SERPS!K1400,\"\")","v":""},{"$f":"IFERROR(VLOOKUP(C1400,ShareOfSearch_CTR!$A$1:$B$100,2,FALSE)*VLOOKUP(A1400&B1400,ShareOfSearch_Volume!$C$1:$D$1000,2,FALSE),\"\")","v":""}]
[{"$f":"IF(ISTEXT(ShareOfSearch_SERPS!C1401),ShareOfSearch_SERPS!C1401,\"\")","v":""},{"$f":"IF(ISTEXT(ShareOfSearch_SERPS!D1401),ShareOfSearch_SERPS!D1401,\"\")","v":""},{"$f":"IF(NOT(ISBLANK(ShareOfSearch_SERPS!A1401)),ShareOfSearch_SERPS!A1401,\"\")","v":""},{"$f":"IF(NOT(ISBLANK(ShareOfSearch_SERPS!G1401)),ShareOfSearch_SERPS!G1401,\"\")","v":""},{"$f":"IF(NOT(ISBLANK(ShareOfSearch_SERPS!K1401)),ShareOfSearch_SERPS!K1401,\"\")","v":""},{"$f":"IFERROR(VLOOKUP(C1401,ShareOfSearch_CTR!$A$1:$B$100,2,FALSE)*VLOOKUP(A1401&B1401,ShareOfSearch_Volume!$C$1:$D$1000,2,FALSE),\"\")","v":""}]
[{"$f":"IF(ISTEXT(ShareOfSearch_SERPS!C1402),ShareOfSearch_SERPS!C1402,\"\")","v":""},{"$f":"IF(ISTEXT(ShareOfSearch_SERPS!D1402),ShareOfSearch_SERPS!D1402,\"\")","v":""},{"$f":"IF(NOT(ISBLANK(ShareOfSearch_SERPS!A1402)),ShareOfSearch_SERPS!A1402,\"\")","v":""},{"$f":"IF(NOT(ISBLANK(ShareOfSearch_SERPS!G1402)),ShareOfSearch_SERPS!G1402,\"\")","v":""},{"$f":"IF(NOT(ISBLANK(ShareOfSearch_SERPS!K1402)),ShareOfSearch_SERPS!K1402,\"\")","v":""},{"$f":"IFERROR(VLOOKUP(C1402,ShareOfSearch_CTR!$A$1:$B$100,2,FALSE)*VLOOKUP(A1402&B1402,ShareOfSearch_Volume!$C$1:$D$1000,2,FALSE),\"\")","v":""}]
[{"$f":"IF(ISTEXT(ShareOfSearch_SERPS!C1403),ShareOfSearch_SERPS!C1403,\"\")","v":""},{"$f":"IF(ISTEXT(ShareOfSearch_SERPS!D1403),ShareOfSearch_SERPS!D1403,\"\")","v":""},{"$f":"IF(NOT(ISBLANK(ShareOfSearch_SERPS!A1403)),ShareOfSearch_SERPS!A1403,\"\")","v":""},{"$f":"IF(NOT(ISBLANK(ShareOfSearch_SERPS!G1403)),ShareOfSearch_SERPS!G1403,\"\")","v":""},{"$f":"IF(NOT(ISBLANK(ShareOfSearch_SERPS!K1403)),ShareOfSearch_SERPS!K1403,\"\")","v":""},{"$f":"IFERROR(VLOOKUP(C1403,ShareOfSearch_CTR!$A$1:$B$100,2,FALSE)*VLOOKUP(A1403&B1403,ShareOfSearch_Volume!$C$1:$D$1000,2,FALSE),\"\")","v":""}]
[{"$f":"IF(ISTEXT(ShareOfSearch_SERPS!C1404),ShareOfSearch_SERPS!C1404,\"\")","v":""},{"$f":"IF(ISTEXT(ShareOfSearch_SERPS!D1404),ShareOfSearch_SERPS!D1404,\"\")","v":""},{"$f":"IF(NOT(ISBLANK(ShareOfSearch_SERPS!A1404)),ShareOfSearch_SERPS!A1404,\"\")","v":""},{"$f":"IF(NOT(ISBLANK(ShareOfSearch_SERPS!G1404)),ShareOfSearch_SERPS!G1404,\"\")","v":""},{"$f":"IF(NOT(ISBLANK(ShareOfSearch_SERPS!K1404)),ShareOfSearch_SERPS!K1404,\"\")","v":""},{"$f":"IFERROR(VLOOKUP(C1404,ShareOfSearch_CTR!$A$1:$B$100,2,FALSE)*VLOOKUP(A1404&B1404,ShareOfSearch_Volume!$C$1:$D$1000,2,FALSE),\"\")","v":""}]
[{"$f":"IF(ISTEXT(ShareOfSearch_SERPS!C1405),ShareOfSearch_SERPS!C1405,\"\")","v":""},{"$f":"IF(ISTEXT(ShareOfSearch_SERPS!D1405),ShareOfSearch_SERPS!D1405,\"\")","v":""},{"$f":"IF(NOT(ISBLANK(ShareOfSearch_SERPS!A1405)),ShareOfSearch_SERPS!A1405,\"\")","v":""},{"$f":"IF(NOT(ISBLANK(ShareOfSearch_SERPS!G1405)),ShareOfSearch_SERPS!G1405,\"\")","v":""},{"$f":"IF(NOT(ISBLANK(ShareOfSearch_SERPS!K1405)),ShareOfSearch_SERPS!K1405,\"\")","v":""},{"$f":"IFERROR(VLOOKUP(C1405,ShareOfSearch_CTR!$A$1:$B$100,2,FALSE)*VLOOKUP(A1405&B1405,ShareOfSearch_Volume!$C$1:$D$1000,2,FALSE),\"\")","v":""}]
[{"$f":"IF(ISTEXT(ShareOfSearch_SERPS!C1406),ShareOfSearch_SERPS!C1406,\"\")","v":""},{"$f":"IF(ISTEXT(ShareOfSearch_SERPS!D1406),ShareOfSearch_SERPS!D1406,\"\")","v":""},{"$f":"IF(NOT(ISBLANK(ShareOfSearch_SERPS!A1406)),ShareOfSearch_SERPS!A1406,\"\")","v":""},{"$f":"IF(NOT(ISBLANK(ShareOfSearch_SERPS!G1406)),ShareOfSearch_SERPS!G1406,\"\")","v":""},{"$f":"IF(NOT(ISBLANK(ShareOfSearch_SERPS!K1406)),ShareOfSearch_SERPS!K1406,\"\")","v":""},{"$f":"IFERROR(VLOOKUP(C1406,ShareOfSearch_CTR!$A$1:$B$100,2,FALSE)*VLOOKUP(A1406&B1406,ShareOfSearch_Volume!$C$1:$D$1000,2,FALSE),\"\")","v":""}]
[{"$f":"IF(ISTEXT(ShareOfSearch_SERPS!C1407),ShareOfSearch_SERPS!C1407,\"\")","v":""},{"$f":"IF(ISTEXT(ShareOfSearch_SERPS!D1407),ShareOfSearch_SERPS!D1407,\"\")","v":""},{"$f":"IF(NOT(ISBLANK(ShareOfSearch_SERPS!A1407)),ShareOfSearch_SERPS!A1407,\"\")","v":""},{"$f":"IF(NOT(ISBLANK(ShareOfSearch_SERPS!G1407)),ShareOfSearch_SERPS!G1407,\"\")","v":""},{"$f":"IF(NOT(ISBLANK(ShareOfSearch_SERPS!K1407)),ShareOfSearch_SERPS!K1407,\"\")","v":""},{"$f":"IFERROR(VLOOKUP(C1407,ShareOfSearch_CTR!$A$1:$B$100,2,FALSE)*VLOOKUP(A1407&B1407,ShareOfSearch_Volume!$C$1:$D$1000,2,FALSE),\"\")","v":""}]
[{"$f":"IF(ISTEXT(ShareOfSearch_SERPS!C1408),ShareOfSearch_SERPS!C1408,\"\")","v":""},{"$f":"IF(ISTEXT(ShareOfSearch_SERPS!D1408),ShareOfSearch_SERPS!D1408,\"\")","v":""},{"$f":"IF(NOT(ISBLANK(ShareOfSearch_SERPS!A1408)),ShareOfSearch_SERPS!A1408,\"\")","v":""},{"$f":"IF(NOT(ISBLANK(ShareOfSearch_SERPS!G1408)),ShareOfSearch_SERPS!G1408,\"\")","v":""},{"$f":"IF(NOT(ISBLANK(ShareOfSearch_SERPS!K1408)),ShareOfSearch_SERPS!K1408,\"\")","v":""},{"$f":"IFERROR(VLOOKUP(C1408,ShareOfSearch_CTR!$A$1:$B$100,2,FALSE)*VLOOKUP(A1408&B1408,ShareOfSearch_Volume!$C$1:$D$1000,2,FALSE),\"\")","v":""}]
[{"$f":"IF(ISTEXT(ShareOfSearch_SERPS!C1409),ShareOfSearch_SERPS!C1409,\"\")","v":""},{"$f":"IF(ISTEXT(ShareOfSearch_SERPS!D1409),ShareOfSearch_SERPS!D1409,\"\")","v":""},{"$f":"IF(NOT(ISBLANK(ShareOfSearch_SERPS!A1409)),ShareOfSearch_SERPS!A1409,\"\")","v":""},{"$f":"IF(NOT(ISBLANK(ShareOfSearch_SERPS!G1409)),ShareOfSearch_SERPS!G1409,\"\")","v":""},{"$f":"IF(NOT(ISBLANK(ShareOfSearch_SERPS!K1409)),ShareOfSearch_SERPS!K1409,\"\")","v":""},{"$f":"IFERROR(VLOOKUP(C1409,ShareOfSearch_CTR!$A$1:$B$100,2,FALSE)*VLOOKUP(A1409&B1409,ShareOfSearch_Volume!$C$1:$D$1000,2,FALSE),\"\")","v":""}]
[{"$f":"IF(ISTEXT(ShareOfSearch_SERPS!C1410),ShareOfSearch_SERPS!C1410,\"\")","v":""},{"$f":"IF(ISTEXT(ShareOfSearch_SERPS!D1410),ShareOfSearch_SERPS!D1410,\"\")","v":""},{"$f":"IF(NOT(ISBLANK(ShareOfSearch_SERPS!A1410)),ShareOfSearch_SERPS!A1410,\"\")","v":""},{"$f":"IF(NOT(ISBLANK(ShareOfSearch_SERPS!G1410)),ShareOfSearch_SERPS!G1410,\"\")","v":""},{"$f":"IF(NOT(ISBLANK(ShareOfSearch_SERPS!K1410)),ShareOfSearch_SERPS!K1410,\"\")","v":""},{"$f":"IFERROR(VLOOKUP(C1410,ShareOfSearch_CTR!$A$1:$B$100,2,FALSE)*VLOOKUP(A1410&B1410,ShareOfSearch_Volume!$C$1:$D$1000,2,FALSE),\"\")","v":""}]
[{"$f":"IF(ISTEXT(ShareOfSearch_SERPS!C1411),ShareOfSearch_SERPS!C1411,\"\")","v":""},{"$f":"IF(ISTEXT(ShareOfSearch_SERPS!D1411),ShareOfSearch_SERPS!D1411,\"\")","v":""},{"$f":"IF(NOT(ISBLANK(ShareOfSearch_SERPS!A1411)),ShareOfSearch_SERPS!A1411,\"\")","v":""},{"$f":"IF(NOT(ISBLANK(ShareOfSearch_SERPS!G1411)),ShareOfSearch_SERPS!G1411,\"\")","v":""},{"$f":"IF(NOT(ISBLANK(ShareOfSearch_SERPS!K1411)),ShareOfSearch_SERPS!K1411,\"\")","v":""},{"$f":"IFERROR(VLOOKUP(C1411,ShareOfSearch_CTR!$A$1:$B$100,2,FALSE)*VLOOKUP(A1411&B1411,ShareOfSearch_Volume!$C$1:$D$1000,2,FALSE),\"\")","v":""}]
[{"$f":"IF(ISTEXT(ShareOfSearch_SERPS!C1412),ShareOfSearch_SERPS!C1412,\"\")","v":""},{"$f":"IF(ISTEXT(ShareOfSearch_SERPS!D1412),ShareOfSearch_SERPS!D1412,\"\")","v":""},{"$f":"IF(NOT(ISBLANK(ShareOfSearch_SERPS!A1412)),ShareOfSearch_SERPS!A1412,\"\")","v":""},{"$f":"IF(NOT(ISBLANK(ShareOfSearch_SERPS!G1412)),ShareOfSearch_SERPS!G1412,\"\")","v":""},{"$f":"IF(NOT(ISBLANK(ShareOfSearch_SERPS!K1412)),ShareOfSearch_SERPS!K1412,\"\")","v":""},{"$f":"IFERROR(VLOOKUP(C1412,ShareOfSearch_CTR!$A$1:$B$100,2,FALSE)*VLOOKUP(A1412&B1412,ShareOfSearch_Volume!$C$1:$D$1000,2,FALSE),\"\")","v":""}]
[{"$f":"IF(ISTEXT(ShareOfSearch_SERPS!C1413),ShareOfSearch_SERPS!C1413,\"\")","v":""},{"$f":"IF(ISTEXT(ShareOfSearch_SERPS!D1413),ShareOfSearch_SERPS!D1413,\"\")","v":""},{"$f":"IF(NOT(ISBLANK(ShareOfSearch_SERPS!A1413)),ShareOfSearch_SERPS!A1413,\"\")","v":""},{"$f":"IF(NOT(ISBLANK(ShareOfSearch_SERPS!G1413)),ShareOfSearch_SERPS!G1413,\"\")","v":""},{"$f":"IF(NOT(ISBLANK(ShareOfSearch_SERPS!K1413)),ShareOfSearch_SERPS!K1413,\"\")","v":""},{"$f":"IFERROR(VLOOKUP(C1413,ShareOfSearch_CTR!$A$1:$B$100,2,FALSE)*VLOOKUP(A1413&B1413,ShareOfSearch_Volume!$C$1:$D$1000,2,FALSE),\"\")","v":""}]
[{"$f":"IF(ISTEXT(ShareOfSearch_SERPS!C1414),ShareOfSearch_SERPS!C1414,\"\")","v":""},{"$f":"IF(ISTEXT(ShareOfSearch_SERPS!D1414),ShareOfSearch_SERPS!D1414,\"\")","v":""},{"$f":"IF(NOT(ISBLANK(ShareOfSearch_SERPS!A1414)),ShareOfSearch_SERPS!A1414,\"\")","v":""},{"$f":"IF(NOT(ISBLANK(ShareOfSearch_SERPS!G1414)),ShareOfSearch_SERPS!G1414,\"\")","v":""},{"$f":"IF(NOT(ISBLANK(ShareOfSearch_SERPS!K1414)),ShareOfSearch_SERPS!K1414,\"\")","v":""},{"$f":"IFERROR(VLOOKUP(C1414,ShareOfSearch_CTR!$A$1:$B$100,2,FALSE)*VLOOKUP(A1414&B1414,ShareOfSearch_Volume!$C$1:$D$1000,2,FALSE),\"\")","v":""}]
[{"$f":"IF(ISTEXT(ShareOfSearch_SERPS!C1415),ShareOfSearch_SERPS!C1415,\"\")","v":""},{"$f":"IF(ISTEXT(ShareOfSearch_SERPS!D1415),ShareOfSearch_SERPS!D1415,\"\")","v":""},{"$f":"IF(NOT(ISBLANK(ShareOfSearch_SERPS!A1415)),ShareOfSearch_SERPS!A1415,\"\")","v":""},{"$f":"IF(NOT(ISBLANK(ShareOfSearch_SERPS!G1415)),ShareOfSearch_SERPS!G1415,\"\")","v":""},{"$f":"IF(NOT(ISBLANK(ShareOfSearch_SERPS!K1415)),ShareOfSearch_SERPS!K1415,\"\")","v":""},{"$f":"IFERROR(VLOOKUP(C1415,ShareOfSearch_CTR!$A$1:$B$100,2,FALSE)*VLOOKUP(A1415&B1415,ShareOfSearch_Volume!$C$1:$D$1000,2,FALSE),\"\")","v":""}]
[{"$f":"IF(ISTEXT(ShareOfSearch_SERPS!C1416),ShareOfSearch_SERPS!C1416,\"\")","v":""},{"$f":"IF(ISTEXT(ShareOfSearch_SERPS!D1416),ShareOfSearch_SERPS!D1416,\"\")","v":""},{"$f":"IF(NOT(ISBLANK(ShareOfSearch_SERPS!A1416)),ShareOfSearch_SERPS!A1416,\"\")","v":""},{"$f":"IF(NOT(ISBLANK(ShareOfSearch_SERPS!G1416)),ShareOfSearch_SERPS!G1416,\"\")","v":""},{"$f":"IF(NOT(ISBLANK(ShareOfSearch_SERPS!K1416)),ShareOfSearch_SERPS!K1416,\"\")","v":""},{"$f":"IFERROR(VLOOKUP(C1416,ShareOfSearch_CTR!$A$1:$B$100,2,FALSE)*VLOOKUP(A1416&B1416,ShareOfSearch_Volume!$C$1:$D$1000,2,FALSE),\"\")","v":""}]
[{"$f":"IF(ISTEXT(ShareOfSearch_SERPS!C1417),ShareOfSearch_SERPS!C1417,\"\")","v":""},{"$f":"IF(ISTEXT(ShareOfSearch_SERPS!D1417),ShareOfSearch_SERPS!D1417,\"\")","v":""},{"$f":"IF(NOT(ISBLANK(ShareOfSearch_SERPS!A1417)),ShareOfSearch_SERPS!A1417,\"\")","v":""},{"$f":"IF(NOT(ISBLANK(ShareOfSearch_SERPS!G1417)),ShareOfSearch_SERPS!G1417,\"\")","v":""},{"$f":"IF(NOT(ISBLANK(ShareOfSearch_SERPS!K1417)),ShareOfSearch_SERPS!K1417,\"\")","v":""},{"$f":"IFERROR(VLOOKUP(C1417,ShareOfSearch_CTR!$A$1:$B$100,2,FALSE)*VLOOKUP(A1417&B1417,ShareOfSearch_Volume!$C$1:$D$1000,2,FALSE),\"\")","v":""}]
[{"$f":"IF(ISTEXT(ShareOfSearch_SERPS!C1418),ShareOfSearch_SERPS!C1418,\"\")","v":""},{"$f":"IF(ISTEXT(ShareOfSearch_SERPS!D1418),ShareOfSearch_SERPS!D1418,\"\")","v":""},{"$f":"IF(NOT(ISBLANK(ShareOfSearch_SERPS!A1418)),ShareOfSearch_SERPS!A1418,\"\")","v":""},{"$f":"IF(NOT(ISBLANK(ShareOfSearch_SERPS!G1418)),ShareOfSearch_SERPS!G1418,\"\")","v":""},{"$f":"IF(NOT(ISBLANK(ShareOfSearch_SERPS!K1418)),ShareOfSearch_SERPS!K1418,\"\")","v":""},{"$f":"IFERROR(VLOOKUP(C1418,ShareOfSearch_CTR!$A$1:$B$100,2,FALSE)*VLOOKUP(A1418&B1418,ShareOfSearch_Volume!$C$1:$D$1000,2,FALSE),\"\")","v":""}]
[{"$f":"IF(ISTEXT(ShareOfSearch_SERPS!C1419),ShareOfSearch_SERPS!C1419,\"\")","v":""},{"$f":"IF(ISTEXT(ShareOfSearch_SERPS!D1419),ShareOfSearch_SERPS!D1419,\"\")","v":""},{"$f":"IF(NOT(ISBLANK(ShareOfSearch_SERPS!A1419)),ShareOfSearch_SERPS!A1419,\"\")","v":""},{"$f":"IF(NOT(ISBLANK(ShareOfSearch_SERPS!G1419)),ShareOfSearch_SERPS!G1419,\"\")","v":""},{"$f":"IF(NOT(ISBLANK(ShareOfSearch_SERPS!K1419)),ShareOfSearch_SERPS!K1419,\"\")","v":""},{"$f":"IFERROR(VLOOKUP(C1419,ShareOfSearch_CTR!$A$1:$B$100,2,FALSE)*VLOOKUP(A1419&B1419,ShareOfSearch_Volume!$C$1:$D$1000,2,FALSE),\"\")","v":""}]
[{"$f":"IF(ISTEXT(ShareOfSearch_SERPS!C1420),ShareOfSearch_SERPS!C1420,\"\")","v":""},{"$f":"IF(ISTEXT(ShareOfSearch_SERPS!D1420),ShareOfSearch_SERPS!D1420,\"\")","v":""},{"$f":"IF(NOT(ISBLANK(ShareOfSearch_SERPS!A1420)),ShareOfSearch_SERPS!A1420,\"\")","v":""},{"$f":"IF(NOT(ISBLANK(ShareOfSearch_SERPS!G1420)),ShareOfSearch_SERPS!G1420,\"\")","v":""},{"$f":"IF(NOT(ISBLANK(ShareOfSearch_SERPS!K1420)),ShareOfSearch_SERPS!K1420,\"\")","v":""},{"$f":"IFERROR(VLOOKUP(C1420,ShareOfSearch_CTR!$A$1:$B$100,2,FALSE)*VLOOKUP(A1420&B1420,ShareOfSearch_Volume!$C$1:$D$1000,2,FALSE),\"\")","v":""}]
[{"$f":"IF(ISTEXT(ShareOfSearch_SERPS!C1421),ShareOfSearch_SERPS!C1421,\"\")","v":""},{"$f":"IF(ISTEXT(ShareOfSearch_SERPS!D1421),ShareOfSearch_SERPS!D1421,\"\")","v":""},{"$f":"IF(NOT(ISBLANK(ShareOfSearch_SERPS!A1421)),ShareOfSearch_SERPS!A1421,\"\")","v":""},{"$f":"IF(NOT(ISBLANK(ShareOfSearch_SERPS!G1421)),ShareOfSearch_SERPS!G1421,\"\")","v":""},{"$f":"IF(NOT(ISBLANK(ShareOfSearch_SERPS!K1421)),ShareOfSearch_SERPS!K1421,\"\")","v":""},{"$f":"IFERROR(VLOOKUP(C1421,ShareOfSearch_CTR!$A$1:$B$100,2,FALSE)*VLOOKUP(A1421&B1421,ShareOfSearch_Volume!$C$1:$D$1000,2,FALSE),\"\")","v":""}]
[{"$f":"IF(ISTEXT(ShareOfSearch_SERPS!C1422),ShareOfSearch_SERPS!C1422,\"\")","v":""},{"$f":"IF(ISTEXT(ShareOfSearch_SERPS!D1422),ShareOfSearch_SERPS!D1422,\"\")","v":""},{"$f":"IF(NOT(ISBLANK(ShareOfSearch_SERPS!A1422)),ShareOfSearch_SERPS!A1422,\"\")","v":""},{"$f":"IF(NOT(ISBLANK(ShareOfSearch_SERPS!G1422)),ShareOfSearch_SERPS!G1422,\"\")","v":""},{"$f":"IF(NOT(ISBLANK(ShareOfSearch_SERPS!K1422)),ShareOfSearch_SERPS!K1422,\"\")","v":""},{"$f":"IFERROR(VLOOKUP(C1422,ShareOfSearch_CTR!$A$1:$B$100,2,FALSE)*VLOOKUP(A1422&B1422,ShareOfSearch_Volume!$C$1:$D$1000,2,FALSE),\"\")","v":""}]
[{"$f":"IF(ISTEXT(ShareOfSearch_SERPS!C1423),ShareOfSearch_SERPS!C1423,\"\")","v":""},{"$f":"IF(ISTEXT(ShareOfSearch_SERPS!D1423),ShareOfSearch_SERPS!D1423,\"\")","v":""},{"$f":"IF(NOT(ISBLANK(ShareOfSearch_SERPS!A1423)),ShareOfSearch_SERPS!A1423,\"\")","v":""},{"$f":"IF(NOT(ISBLANK(ShareOfSearch_SERPS!G1423)),ShareOfSearch_SERPS!G1423,\"\")","v":""},{"$f":"IF(NOT(ISBLANK(ShareOfSearch_SERPS!K1423)),ShareOfSearch_SERPS!K1423,\"\")","v":""},{"$f":"IFERROR(VLOOKUP(C1423,ShareOfSearch_CTR!$A$1:$B$100,2,FALSE)*VLOOKUP(A1423&B1423,ShareOfSearch_Volume!$C$1:$D$1000,2,FALSE),\"\")","v":""}]
[{"$f":"IF(ISTEXT(ShareOfSearch_SERPS!C1424),ShareOfSearch_SERPS!C1424,\"\")","v":""},{"$f":"IF(ISTEXT(ShareOfSearch_SERPS!D1424),ShareOfSearch_SERPS!D1424,\"\")","v":""},{"$f":"IF(NOT(ISBLANK(ShareOfSearch_SERPS!A1424)),ShareOfSearch_SERPS!A1424,\"\")","v":""},{"$f":"IF(NOT(ISBLANK(ShareOfSearch_SERPS!G1424)),ShareOfSearch_SERPS!G1424,\"\")","v":""},{"$f":"IF(NOT(ISBLANK(ShareOfSearch_SERPS!K1424)),ShareOfSearch_SERPS!K1424,\"\")","v":""},{"$f":"IFERROR(VLOOKUP(C1424,ShareOfSearch_CTR!$A$1:$B$100,2,FALSE)*VLOOKUP(A1424&B1424,ShareOfSearch_Volume!$C$1:$D$1000,2,FALSE),\"\")","v":""}]
[{"$f":"IF(ISTEXT(ShareOfSearch_SERPS!C1425),ShareOfSearch_SERPS!C1425,\"\")","v":""},{"$f":"IF(ISTEXT(ShareOfSearch_SERPS!D1425),ShareOfSearch_SERPS!D1425,\"\")","v":""},{"$f":"IF(NOT(ISBLANK(ShareOfSearch_SERPS!A1425)),ShareOfSearch_SERPS!A1425,\"\")","v":""},{"$f":"IF(NOT(ISBLANK(ShareOfSearch_SERPS!G1425)),ShareOfSearch_SERPS!G1425,\"\")","v":""},{"$f":"IF(NOT(ISBLANK(ShareOfSearch_SERPS!K1425)),ShareOfSearch_SERPS!K1425,\"\")","v":""},{"$f":"IFERROR(VLOOKUP(C1425,ShareOfSearch_CTR!$A$1:$B$100,2,FALSE)*VLOOKUP(A1425&B1425,ShareOfSearch_Volume!$C$1:$D$1000,2,FALSE),\"\")","v":""}]
[{"$f":"IF(ISTEXT(ShareOfSearch_SERPS!C1426),ShareOfSearch_SERPS!C1426,\"\")","v":""},{"$f":"IF(ISTEXT(ShareOfSearch_SERPS!D1426),ShareOfSearch_SERPS!D1426,\"\")","v":""},{"$f":"IF(NOT(ISBLANK(ShareOfSearch_SERPS!A1426)),ShareOfSearch_SERPS!A1426,\"\")","v":""},{"$f":"IF(NOT(ISBLANK(ShareOfSearch_SERPS!G1426)),ShareOfSearch_SERPS!G1426,\"\")","v":""},{"$f":"IF(NOT(ISBLANK(ShareOfSearch_SERPS!K1426)),ShareOfSearch_SERPS!K1426,\"\")","v":""},{"$f":"IFERROR(VLOOKUP(C1426,ShareOfSearch_CTR!$A$1:$B$100,2,FALSE)*VLOOKUP(A1426&B1426,ShareOfSearch_Volume!$C$1:$D$1000,2,FALSE),\"\")","v":""}]
[{"$f":"IF(ISTEXT(ShareOfSearch_SERPS!C1427),ShareOfSearch_SERPS!C1427,\"\")","v":""},{"$f":"IF(ISTEXT(ShareOfSearch_SERPS!D1427),ShareOfSearch_SERPS!D1427,\"\")","v":""},{"$f":"IF(NOT(ISBLANK(ShareOfSearch_SERPS!A1427)),ShareOfSearch_SERPS!A1427,\"\")","v":""},{"$f":"IF(NOT(ISBLANK(ShareOfSearch_SERPS!G1427)),ShareOfSearch_SERPS!G1427,\"\")","v":""},{"$f":"IF(NOT(ISBLANK(ShareOfSearch_SERPS!K1427)),ShareOfSearch_SERPS!K1427,\"\")","v":""},{"$f":"IFERROR(VLOOKUP(C1427,ShareOfSearch_CTR!$A$1:$B$100,2,FALSE)*VLOOKUP(A1427&B1427,ShareOfSearch_Volume!$C$1:$D$1000,2,FALSE),\"\")","v":""}]
[{"$f":"IF(ISTEXT(ShareOfSearch_SERPS!C1428),ShareOfSearch_SERPS!C1428,\"\")","v":""},{"$f":"IF(ISTEXT(ShareOfSearch_SERPS!D1428),ShareOfSearch_SERPS!D1428,\"\")","v":""},{"$f":"IF(NOT(ISBLANK(ShareOfSearch_SERPS!A1428)),ShareOfSearch_SERPS!A1428,\"\")","v":""},{"$f":"IF(NOT(ISBLANK(ShareOfSearch_SERPS!G1428)),ShareOfSearch_SERPS!G1428,\"\")","v":""},{"$f":"IF(NOT(ISBLANK(ShareOfSearch_SERPS!K1428)),ShareOfSearch_SERPS!K1428,\"\")","v":""},{"$f":"IFERROR(VLOOKUP(C1428,ShareOfSearch_CTR!$A$1:$B$100,2,FALSE)*VLOOKUP(A1428&B1428,ShareOfSearch_Volume!$C$1:$D$1000,2,FALSE),\"\")","v":""}]
[{"$f":"IF(ISTEXT(ShareOfSearch_SERPS!C1429),ShareOfSearch_SERPS!C1429,\"\")","v":""},{"$f":"IF(ISTEXT(ShareOfSearch_SERPS!D1429),ShareOfSearch_SERPS!D1429,\"\")","v":""},{"$f":"IF(NOT(ISBLANK(ShareOfSearch_SERPS!A1429)),ShareOfSearch_SERPS!A1429,\"\")","v":""},{"$f":"IF(NOT(ISBLANK(ShareOfSearch_SERPS!G1429)),ShareOfSearch_SERPS!G1429,\"\")","v":""},{"$f":"IF(NOT(ISBLANK(ShareOfSearch_SERPS!K1429)),ShareOfSearch_SERPS!K1429,\"\")","v":""},{"$f":"IFERROR(VLOOKUP(C1429,ShareOfSearch_CTR!$A$1:$B$100,2,FALSE)*VLOOKUP(A1429&B1429,ShareOfSearch_Volume!$C$1:$D$1000,2,FALSE),\"\")","v":""}]
[{"$f":"IF(ISTEXT(ShareOfSearch_SERPS!C1430),ShareOfSearch_SERPS!C1430,\"\")","v":""},{"$f":"IF(ISTEXT(ShareOfSearch_SERPS!D1430),ShareOfSearch_SERPS!D1430,\"\")","v":""},{"$f":"IF(NOT(ISBLANK(ShareOfSearch_SERPS!A1430)),ShareOfSearch_SERPS!A1430,\"\")","v":""},{"$f":"IF(NOT(ISBLANK(ShareOfSearch_SERPS!G1430)),ShareOfSearch_SERPS!G1430,\"\")","v":""},{"$f":"IF(NOT(ISBLANK(ShareOfSearch_SERPS!K1430)),ShareOfSearch_SERPS!K1430,\"\")","v":""},{"$f":"IFERROR(VLOOKUP(C1430,ShareOfSearch_CTR!$A$1:$B$100,2,FALSE)*VLOOKUP(A1430&B1430,ShareOfSearch_Volume!$C$1:$D$1000,2,FALSE),\"\")","v":""}]
[{"$f":"IF(ISTEXT(ShareOfSearch_SERPS!C1431),ShareOfSearch_SERPS!C1431,\"\")","v":""},{"$f":"IF(ISTEXT(ShareOfSearch_SERPS!D1431),ShareOfSearch_SERPS!D1431,\"\")","v":""},{"$f":"IF(NOT(ISBLANK(ShareOfSearch_SERPS!A1431)),ShareOfSearch_SERPS!A1431,\"\")","v":""},{"$f":"IF(NOT(ISBLANK(ShareOfSearch_SERPS!G1431)),ShareOfSearch_SERPS!G1431,\"\")","v":""},{"$f":"IF(NOT(ISBLANK(ShareOfSearch_SERPS!K1431)),ShareOfSearch_SERPS!K1431,\"\")","v":""},{"$f":"IFERROR(VLOOKUP(C1431,ShareOfSearch_CTR!$A$1:$B$100,2,FALSE)*VLOOKUP(A1431&B1431,ShareOfSearch_Volume!$C$1:$D$1000,2,FALSE),\"\")","v":""}]
[{"$f":"IF(ISTEXT(ShareOfSearch_SERPS!C1432),ShareOfSearch_SERPS!C1432,\"\")","v":""},{"$f":"IF(ISTEXT(ShareOfSearch_SERPS!D1432),ShareOfSearch_SERPS!D1432,\"\")","v":""},{"$f":"IF(NOT(ISBLANK(ShareOfSearch_SERPS!A1432)),ShareOfSearch_SERPS!A1432,\"\")","v":""},{"$f":"IF(NOT(ISBLANK(ShareOfSearch_SERPS!G1432)),ShareOfSearch_SERPS!G1432,\"\")","v":""},{"$f":"IF(NOT(ISBLANK(ShareOfSearch_SERPS!K1432)),ShareOfSearch_SERPS!K1432,\"\")","v":""},{"$f":"IFERROR(VLOOKUP(C1432,ShareOfSearch_CTR!$A$1:$B$100,2,FALSE)*VLOOKUP(A1432&B1432,ShareOfSearch_Volume!$C$1:$D$1000,2,FALSE),\"\")","v":""}]
[{"$f":"IF(ISTEXT(ShareOfSearch_SERPS!C1433),ShareOfSearch_SERPS!C1433,\"\")","v":""},{"$f":"IF(ISTEXT(ShareOfSearch_SERPS!D1433),ShareOfSearch_SERPS!D1433,\"\")","v":""},{"$f":"IF(NOT(ISBLANK(ShareOfSearch_SERPS!A1433)),ShareOfSearch_SERPS!A1433,\"\")","v":""},{"$f":"IF(NOT(ISBLANK(ShareOfSearch_SERPS!G1433)),ShareOfSearch_SERPS!G1433,\"\")","v":""},{"$f":"IF(NOT(ISBLANK(ShareOfSearch_SERPS!K1433)),ShareOfSearch_SERPS!K1433,\"\")","v":""},{"$f":"IFERROR(VLOOKUP(C1433,ShareOfSearch_CTR!$A$1:$B$100,2,FALSE)*VLOOKUP(A1433&B1433,ShareOfSearch_Volume!$C$1:$D$1000,2,FALSE),\"\")","v":""}]
[{"$f":"IF(ISTEXT(ShareOfSearch_SERPS!C1434),ShareOfSearch_SERPS!C1434,\"\")","v":""},{"$f":"IF(ISTEXT(ShareOfSearch_SERPS!D1434),ShareOfSearch_SERPS!D1434,\"\")","v":""},{"$f":"IF(NOT(ISBLANK(ShareOfSearch_SERPS!A1434)),ShareOfSearch_SERPS!A1434,\"\")","v":""},{"$f":"IF(NOT(ISBLANK(ShareOfSearch_SERPS!G1434)),ShareOfSearch_SERPS!G1434,\"\")","v":""},{"$f":"IF(NOT(ISBLANK(ShareOfSearch_SERPS!K1434)),ShareOfSearch_SERPS!K1434,\"\")","v":""},{"$f":"IFERROR(VLOOKUP(C1434,ShareOfSearch_CTR!$A$1:$B$100,2,FALSE)*VLOOKUP(A1434&B1434,ShareOfSearch_Volume!$C$1:$D$1000,2,FALSE),\"\")","v":""}]
[{"$f":"IF(ISTEXT(ShareOfSearch_SERPS!C1435),ShareOfSearch_SERPS!C1435,\"\")","v":""},{"$f":"IF(ISTEXT(ShareOfSearch_SERPS!D1435),ShareOfSearch_SERPS!D1435,\"\")","v":""},{"$f":"IF(NOT(ISBLANK(ShareOfSearch_SERPS!A1435)),ShareOfSearch_SERPS!A1435,\"\")","v":""},{"$f":"IF(NOT(ISBLANK(ShareOfSearch_SERPS!G1435)),ShareOfSearch_SERPS!G1435,\"\")","v":""},{"$f":"IF(NOT(ISBLANK(ShareOfSearch_SERPS!K1435)),ShareOfSearch_SERPS!K1435,\"\")","v":""},{"$f":"IFERROR(VLOOKUP(C1435,ShareOfSearch_CTR!$A$1:$B$100,2,FALSE)*VLOOKUP(A1435&B1435,ShareOfSearch_Volume!$C$1:$D$1000,2,FALSE),\"\")","v":""}]
[{"$f":"IF(ISTEXT(ShareOfSearch_SERPS!C1436),ShareOfSearch_SERPS!C1436,\"\")","v":""},{"$f":"IF(ISTEXT(ShareOfSearch_SERPS!D1436),ShareOfSearch_SERPS!D1436,\"\")","v":""},{"$f":"IF(NOT(ISBLANK(ShareOfSearch_SERPS!A1436)),ShareOfSearch_SERPS!A1436,\"\")","v":""},{"$f":"IF(NOT(ISBLANK(ShareOfSearch_SERPS!G1436)),ShareOfSearch_SERPS!G1436,\"\")","v":""},{"$f":"IF(NOT(ISBLANK(ShareOfSearch_SERPS!K1436)),ShareOfSearch_SERPS!K1436,\"\")","v":""},{"$f":"IFERROR(VLOOKUP(C1436,ShareOfSearch_CTR!$A$1:$B$100,2,FALSE)*VLOOKUP(A1436&B1436,ShareOfSearch_Volume!$C$1:$D$1000,2,FALSE),\"\")","v":""}]
[{"$f":"IF(ISTEXT(ShareOfSearch_SERPS!C1437),ShareOfSearch_SERPS!C1437,\"\")","v":""},{"$f":"IF(ISTEXT(ShareOfSearch_SERPS!D1437),ShareOfSearch_SERPS!D1437,\"\")","v":""},{"$f":"IF(NOT(ISBLANK(ShareOfSearch_SERPS!A1437)),ShareOfSearch_SERPS!A1437,\"\")","v":""},{"$f":"IF(NOT(ISBLANK(ShareOfSearch_SERPS!G1437)),ShareOfSearch_SERPS!G1437,\"\")","v":""},{"$f":"IF(NOT(ISBLANK(ShareOfSearch_SERPS!K1437)),ShareOfSearch_SERPS!K1437,\"\")","v":""},{"$f":"IFERROR(VLOOKUP(C1437,ShareOfSearch_CTR!$A$1:$B$100,2,FALSE)*VLOOKUP(A1437&B1437,ShareOfSearch_Volume!$C$1:$D$1000,2,FALSE),\"\")","v":""}]
[{"$f":"IF(ISTEXT(ShareOfSearch_SERPS!C1438),ShareOfSearch_SERPS!C1438,\"\")","v":""},{"$f":"IF(ISTEXT(ShareOfSearch_SERPS!D1438),ShareOfSearch_SERPS!D1438,\"\")","v":""},{"$f":"IF(NOT(ISBLANK(ShareOfSearch_SERPS!A1438)),ShareOfSearch_SERPS!A1438,\"\")","v":""},{"$f":"IF(NOT(ISBLANK(ShareOfSearch_SERPS!G1438)),ShareOfSearch_SERPS!G1438,\"\")","v":""},{"$f":"IF(NOT(ISBLANK(ShareOfSearch_SERPS!K1438)),ShareOfSearch_SERPS!K1438,\"\")","v":""},{"$f":"IFERROR(VLOOKUP(C1438,ShareOfSearch_CTR!$A$1:$B$100,2,FALSE)*VLOOKUP(A1438&B1438,ShareOfSearch_Volume!$C$1:$D$1000,2,FALSE),\"\")","v":""}]
[{"$f":"IF(ISTEXT(ShareOfSearch_SERPS!C1439),ShareOfSearch_SERPS!C1439,\"\")","v":""},{"$f":"IF(ISTEXT(ShareOfSearch_SERPS!D1439),ShareOfSearch_SERPS!D1439,\"\")","v":""},{"$f":"IF(NOT(ISBLANK(ShareOfSearch_SERPS!A1439)),ShareOfSearch_SERPS!A1439,\"\")","v":""},{"$f":"IF(NOT(ISBLANK(ShareOfSearch_SERPS!G1439)),ShareOfSearch_SERPS!G1439,\"\")","v":""},{"$f":"IF(NOT(ISBLANK(ShareOfSearch_SERPS!K1439)),ShareOfSearch_SERPS!K1439,\"\")","v":""},{"$f":"IFERROR(VLOOKUP(C1439,ShareOfSearch_CTR!$A$1:$B$100,2,FALSE)*VLOOKUP(A1439&B1439,ShareOfSearch_Volume!$C$1:$D$1000,2,FALSE),\"\")","v":""}]
[{"$f":"IF(ISTEXT(ShareOfSearch_SERPS!C1440),ShareOfSearch_SERPS!C1440,\"\")","v":""},{"$f":"IF(ISTEXT(ShareOfSearch_SERPS!D1440),ShareOfSearch_SERPS!D1440,\"\")","v":""},{"$f":"IF(NOT(ISBLANK(ShareOfSearch_SERPS!A1440)),ShareOfSearch_SERPS!A1440,\"\")","v":""},{"$f":"IF(NOT(ISBLANK(ShareOfSearch_SERPS!G1440)),ShareOfSearch_SERPS!G1440,\"\")","v":""},{"$f":"IF(NOT(ISBLANK(ShareOfSearch_SERPS!K1440)),ShareOfSearch_SERPS!K1440,\"\")","v":""},{"$f":"IFERROR(VLOOKUP(C1440,ShareOfSearch_CTR!$A$1:$B$100,2,FALSE)*VLOOKUP(A1440&B1440,ShareOfSearch_Volume!$C$1:$D$1000,2,FALSE),\"\")","v":""}]
[{"$f":"IF(ISTEXT(ShareOfSearch_SERPS!C1441),ShareOfSearch_SERPS!C1441,\"\")","v":""},{"$f":"IF(ISTEXT(ShareOfSearch_SERPS!D1441),ShareOfSearch_SERPS!D1441,\"\")","v":""},{"$f":"IF(NOT(ISBLANK(ShareOfSearch_SERPS!A1441)),ShareOfSearch_SERPS!A1441,\"\")","v":""},{"$f":"IF(NOT(ISBLANK(ShareOfSearch_SERPS!G1441)),ShareOfSearch_SERPS!G1441,\"\")","v":""},{"$f":"IF(NOT(ISBLANK(ShareOfSearch_SERPS!K1441)),ShareOfSearch_SERPS!K1441,\"\")","v":""},{"$f":"IFERROR(VLOOKUP(C1441,ShareOfSearch_CTR!$A$1:$B$100,2,FALSE)*VLOOKUP(A1441&B1441,ShareOfSearch_Volume!$C$1:$D$1000,2,FALSE),\"\")","v":""}]
[{"$f":"IF(ISTEXT(ShareOfSearch_SERPS!C1442),ShareOfSearch_SERPS!C1442,\"\")","v":""},{"$f":"IF(ISTEXT(ShareOfSearch_SERPS!D1442),ShareOfSearch_SERPS!D1442,\"\")","v":""},{"$f":"IF(NOT(ISBLANK(ShareOfSearch_SERPS!A1442)),ShareOfSearch_SERPS!A1442,\"\")","v":""},{"$f":"IF(NOT(ISBLANK(ShareOfSearch_SERPS!G1442)),ShareOfSearch_SERPS!G1442,\"\")","v":""},{"$f":"IF(NOT(ISBLANK(ShareOfSearch_SERPS!K1442)),ShareOfSearch_SERPS!K1442,\"\")","v":""},{"$f":"IFERROR(VLOOKUP(C1442,ShareOfSearch_CTR!$A$1:$B$100,2,FALSE)*VLOOKUP(A1442&B1442,ShareOfSearch_Volume!$C$1:$D$1000,2,FALSE),\"\")","v":""}]
[{"$f":"IF(ISTEXT(ShareOfSearch_SERPS!C1443),ShareOfSearch_SERPS!C1443,\"\")","v":""},{"$f":"IF(ISTEXT(ShareOfSearch_SERPS!D1443),ShareOfSearch_SERPS!D1443,\"\")","v":""},{"$f":"IF(NOT(ISBLANK(ShareOfSearch_SERPS!A1443)),ShareOfSearch_SERPS!A1443,\"\")","v":""},{"$f":"IF(NOT(ISBLANK(ShareOfSearch_SERPS!G1443)),ShareOfSearch_SERPS!G1443,\"\")","v":""},{"$f":"IF(NOT(ISBLANK(ShareOfSearch_SERPS!K1443)),ShareOfSearch_SERPS!K1443,\"\")","v":""},{"$f":"IFERROR(VLOOKUP(C1443,ShareOfSearch_CTR!$A$1:$B$100,2,FALSE)*VLOOKUP(A1443&B1443,ShareOfSearch_Volume!$C$1:$D$1000,2,FALSE),\"\")","v":""}]
[{"$f":"IF(ISTEXT(ShareOfSearch_SERPS!C1444),ShareOfSearch_SERPS!C1444,\"\")","v":""},{"$f":"IF(ISTEXT(ShareOfSearch_SERPS!D1444),ShareOfSearch_SERPS!D1444,\"\")","v":""},{"$f":"IF(NOT(ISBLANK(ShareOfSearch_SERPS!A1444)),ShareOfSearch_SERPS!A1444,\"\")","v":""},{"$f":"IF(NOT(ISBLANK(ShareOfSearch_SERPS!G1444)),ShareOfSearch_SERPS!G1444,\"\")","v":""},{"$f":"IF(NOT(ISBLANK(ShareOfSearch_SERPS!K1444)),ShareOfSearch_SERPS!K1444,\"\")","v":""},{"$f":"IFERROR(VLOOKUP(C1444,ShareOfSearch_CTR!$A$1:$B$100,2,FALSE)*VLOOKUP(A1444&B1444,ShareOfSearch_Volume!$C$1:$D$1000,2,FALSE),\"\")","v":""}]
[{"$f":"IF(ISTEXT(ShareOfSearch_SERPS!C1445),ShareOfSearch_SERPS!C1445,\"\")","v":""},{"$f":"IF(ISTEXT(ShareOfSearch_SERPS!D1445),ShareOfSearch_SERPS!D1445,\"\")","v":""},{"$f":"IF(NOT(ISBLANK(ShareOfSearch_SERPS!A1445)),ShareOfSearch_SERPS!A1445,\"\")","v":""},{"$f":"IF(NOT(ISBLANK(ShareOfSearch_SERPS!G1445)),ShareOfSearch_SERPS!G1445,\"\")","v":""},{"$f":"IF(NOT(ISBLANK(ShareOfSearch_SERPS!K1445)),ShareOfSearch_SERPS!K1445,\"\")","v":""},{"$f":"IFERROR(VLOOKUP(C1445,ShareOfSearch_CTR!$A$1:$B$100,2,FALSE)*VLOOKUP(A1445&B1445,ShareOfSearch_Volume!$C$1:$D$1000,2,FALSE),\"\")","v":""}]
[{"$f":"IF(ISTEXT(ShareOfSearch_SERPS!C1446),ShareOfSearch_SERPS!C1446,\"\")","v":""},{"$f":"IF(ISTEXT(ShareOfSearch_SERPS!D1446),ShareOfSearch_SERPS!D1446,\"\")","v":""},{"$f":"IF(NOT(ISBLANK(ShareOfSearch_SERPS!A1446)),ShareOfSearch_SERPS!A1446,\"\")","v":""},{"$f":"IF(NOT(ISBLANK(ShareOfSearch_SERPS!G1446)),ShareOfSearch_SERPS!G1446,\"\")","v":""},{"$f":"IF(NOT(ISBLANK(ShareOfSearch_SERPS!K1446)),ShareOfSearch_SERPS!K1446,\"\")","v":""},{"$f":"IFERROR(VLOOKUP(C1446,ShareOfSearch_CTR!$A$1:$B$100,2,FALSE)*VLOOKUP(A1446&B1446,ShareOfSearch_Volume!$C$1:$D$1000,2,FALSE),\"\")","v":""}]
[{"$f":"IF(ISTEXT(ShareOfSearch_SERPS!C1447),ShareOfSearch_SERPS!C1447,\"\")","v":""},{"$f":"IF(ISTEXT(ShareOfSearch_SERPS!D1447),ShareOfSearch_SERPS!D1447,\"\")","v":""},{"$f":"IF(NOT(ISBLANK(ShareOfSearch_SERPS!A1447)),ShareOfSearch_SERPS!A1447,\"\")","v":""},{"$f":"IF(NOT(ISBLANK(ShareOfSearch_SERPS!G1447)),ShareOfSearch_SERPS!G1447,\"\")","v":""},{"$f":"IF(NOT(ISBLANK(ShareOfSearch_SERPS!K1447)),ShareOfSearch_SERPS!K1447,\"\")","v":""},{"$f":"IFERROR(VLOOKUP(C1447,ShareOfSearch_CTR!$A$1:$B$100,2,FALSE)*VLOOKUP(A1447&B1447,ShareOfSearch_Volume!$C$1:$D$1000,2,FALSE),\"\")","v":""}]
[{"$f":"IF(ISTEXT(ShareOfSearch_SERPS!C1448),ShareOfSearch_SERPS!C1448,\"\")","v":""},{"$f":"IF(ISTEXT(ShareOfSearch_SERPS!D1448),ShareOfSearch_SERPS!D1448,\"\")","v":""},{"$f":"IF(NOT(ISBLANK(ShareOfSearch_SERPS!A1448)),ShareOfSearch_SERPS!A1448,\"\")","v":""},{"$f":"IF(NOT(ISBLANK(ShareOfSearch_SERPS!G1448)),ShareOfSearch_SERPS!G1448,\"\")","v":""},{"$f":"IF(NOT(ISBLANK(ShareOfSearch_SERPS!K1448)),ShareOfSearch_SERPS!K1448,\"\")","v":""},{"$f":"IFERROR(VLOOKUP(C1448,ShareOfSearch_CTR!$A$1:$B$100,2,FALSE)*VLOOKUP(A1448&B1448,ShareOfSearch_Volume!$C$1:$D$1000,2,FALSE),\"\")","v":""}]
[{"$f":"IF(ISTEXT(ShareOfSearch_SERPS!C1449),ShareOfSearch_SERPS!C1449,\"\")","v":""},{"$f":"IF(ISTEXT(ShareOfSearch_SERPS!D1449),ShareOfSearch_SERPS!D1449,\"\")","v":""},{"$f":"IF(NOT(ISBLANK(ShareOfSearch_SERPS!A1449)),ShareOfSearch_SERPS!A1449,\"\")","v":""},{"$f":"IF(NOT(ISBLANK(ShareOfSearch_SERPS!G1449)),ShareOfSearch_SERPS!G1449,\"\")","v":""},{"$f":"IF(NOT(ISBLANK(ShareOfSearch_SERPS!K1449)),ShareOfSearch_SERPS!K1449,\"\")","v":""},{"$f":"IFERROR(VLOOKUP(C1449,ShareOfSearch_CTR!$A$1:$B$100,2,FALSE)*VLOOKUP(A1449&B1449,ShareOfSearch_Volume!$C$1:$D$1000,2,FALSE),\"\")","v":""}]
[{"$f":"IF(ISTEXT(ShareOfSearch_SERPS!C1450),ShareOfSearch_SERPS!C1450,\"\")","v":""},{"$f":"IF(ISTEXT(ShareOfSearch_SERPS!D1450),ShareOfSearch_SERPS!D1450,\"\")","v":""},{"$f":"IF(NOT(ISBLANK(ShareOfSearch_SERPS!A1450)),ShareOfSearch_SERPS!A1450,\"\")","v":""},{"$f":"IF(NOT(ISBLANK(ShareOfSearch_SERPS!G1450)),ShareOfSearch_SERPS!G1450,\"\")","v":""},{"$f":"IF(NOT(ISBLANK(ShareOfSearch_SERPS!K1450)),ShareOfSearch_SERPS!K1450,\"\")","v":""},{"$f":"IFERROR(VLOOKUP(C1450,ShareOfSearch_CTR!$A$1:$B$100,2,FALSE)*VLOOKUP(A1450&B1450,ShareOfSearch_Volume!$C$1:$D$1000,2,FALSE),\"\")","v":""}]
[{"$f":"IF(ISTEXT(ShareOfSearch_SERPS!C1451),ShareOfSearch_SERPS!C1451,\"\")","v":""},{"$f":"IF(ISTEXT(ShareOfSearch_SERPS!D1451),ShareOfSearch_SERPS!D1451,\"\")","v":""},{"$f":"IF(NOT(ISBLANK(ShareOfSearch_SERPS!A1451)),ShareOfSearch_SERPS!A1451,\"\")","v":""},{"$f":"IF(NOT(ISBLANK(ShareOfSearch_SERPS!G1451)),ShareOfSearch_SERPS!G1451,\"\")","v":""},{"$f":"IF(NOT(ISBLANK(ShareOfSearch_SERPS!K1451)),ShareOfSearch_SERPS!K1451,\"\")","v":""},{"$f":"IFERROR(VLOOKUP(C1451,ShareOfSearch_CTR!$A$1:$B$100,2,FALSE)*VLOOKUP(A1451&B1451,ShareOfSearch_Volume!$C$1:$D$1000,2,FALSE),\"\")","v":""}]
[{"$f":"IF(ISTEXT(ShareOfSearch_SERPS!C1452),ShareOfSearch_SERPS!C1452,\"\")","v":""},{"$f":"IF(ISTEXT(ShareOfSearch_SERPS!D1452),ShareOfSearch_SERPS!D1452,\"\")","v":""},{"$f":"IF(NOT(ISBLANK(ShareOfSearch_SERPS!A1452)),ShareOfSearch_SERPS!A1452,\"\")","v":""},{"$f":"IF(NOT(ISBLANK(ShareOfSearch_SERPS!G1452)),ShareOfSearch_SERPS!G1452,\"\")","v":""},{"$f":"IF(NOT(ISBLANK(ShareOfSearch_SERPS!K1452)),ShareOfSearch_SERPS!K1452,\"\")","v":""},{"$f":"IFERROR(VLOOKUP(C1452,ShareOfSearch_CTR!$A$1:$B$100,2,FALSE)*VLOOKUP(A1452&B1452,ShareOfSearch_Volume!$C$1:$D$1000,2,FALSE),\"\")","v":""}]
[{"$f":"IF(ISTEXT(ShareOfSearch_SERPS!C1453),ShareOfSearch_SERPS!C1453,\"\")","v":""},{"$f":"IF(ISTEXT(ShareOfSearch_SERPS!D1453),ShareOfSearch_SERPS!D1453,\"\")","v":""},{"$f":"IF(NOT(ISBLANK(ShareOfSearch_SERPS!A1453)),ShareOfSearch_SERPS!A1453,\"\")","v":""},{"$f":"IF(NOT(ISBLANK(ShareOfSearch_SERPS!G1453)),ShareOfSearch_SERPS!G1453,\"\")","v":""},{"$f":"IF(NOT(ISBLANK(ShareOfSearch_SERPS!K1453)),ShareOfSearch_SERPS!K1453,\"\")","v":""},{"$f":"IFERROR(VLOOKUP(C1453,ShareOfSearch_CTR!$A$1:$B$100,2,FALSE)*VLOOKUP(A1453&B1453,ShareOfSearch_Volume!$C$1:$D$1000,2,FALSE),\"\")","v":""}]
[{"$f":"IF(ISTEXT(ShareOfSearch_SERPS!C1454),ShareOfSearch_SERPS!C1454,\"\")","v":""},{"$f":"IF(ISTEXT(ShareOfSearch_SERPS!D1454),ShareOfSearch_SERPS!D1454,\"\")","v":""},{"$f":"IF(NOT(ISBLANK(ShareOfSearch_SERPS!A1454)),ShareOfSearch_SERPS!A1454,\"\")","v":""},{"$f":"IF(NOT(ISBLANK(ShareOfSearch_SERPS!G1454)),ShareOfSearch_SERPS!G1454,\"\")","v":""},{"$f":"IF(NOT(ISBLANK(ShareOfSearch_SERPS!K1454)),ShareOfSearch_SERPS!K1454,\"\")","v":""},{"$f":"IFERROR(VLOOKUP(C1454,ShareOfSearch_CTR!$A$1:$B$100,2,FALSE)*VLOOKUP(A1454&B1454,ShareOfSearch_Volume!$C$1:$D$1000,2,FALSE),\"\")","v":""}]
[{"$f":"IF(ISTEXT(ShareOfSearch_SERPS!C1455),ShareOfSearch_SERPS!C1455,\"\")","v":""},{"$f":"IF(ISTEXT(ShareOfSearch_SERPS!D1455),ShareOfSearch_SERPS!D1455,\"\")","v":""},{"$f":"IF(NOT(ISBLANK(ShareOfSearch_SERPS!A1455)),ShareOfSearch_SERPS!A1455,\"\")","v":""},{"$f":"IF(NOT(ISBLANK(ShareOfSearch_SERPS!G1455)),ShareOfSearch_SERPS!G1455,\"\")","v":""},{"$f":"IF(NOT(ISBLANK(ShareOfSearch_SERPS!K1455)),ShareOfSearch_SERPS!K1455,\"\")","v":""},{"$f":"IFERROR(VLOOKUP(C1455,ShareOfSearch_CTR!$A$1:$B$100,2,FALSE)*VLOOKUP(A1455&B1455,ShareOfSearch_Volume!$C$1:$D$1000,2,FALSE),\"\")","v":""}]
[{"$f":"IF(ISTEXT(ShareOfSearch_SERPS!C1456),ShareOfSearch_SERPS!C1456,\"\")","v":""},{"$f":"IF(ISTEXT(ShareOfSearch_SERPS!D1456),ShareOfSearch_SERPS!D1456,\"\")","v":""},{"$f":"IF(NOT(ISBLANK(ShareOfSearch_SERPS!A1456)),ShareOfSearch_SERPS!A1456,\"\")","v":""},{"$f":"IF(NOT(ISBLANK(ShareOfSearch_SERPS!G1456)),ShareOfSearch_SERPS!G1456,\"\")","v":""},{"$f":"IF(NOT(ISBLANK(ShareOfSearch_SERPS!K1456)),ShareOfSearch_SERPS!K1456,\"\")","v":""},{"$f":"IFERROR(VLOOKUP(C1456,ShareOfSearch_CTR!$A$1:$B$100,2,FALSE)*VLOOKUP(A1456&B1456,ShareOfSearch_Volume!$C$1:$D$1000,2,FALSE),\"\")","v":""}]
[{"$f":"IF(ISTEXT(ShareOfSearch_SERPS!C1457),ShareOfSearch_SERPS!C1457,\"\")","v":""},{"$f":"IF(ISTEXT(ShareOfSearch_SERPS!D1457),ShareOfSearch_SERPS!D1457,\"\")","v":""},{"$f":"IF(NOT(ISBLANK(ShareOfSearch_SERPS!A1457)),ShareOfSearch_SERPS!A1457,\"\")","v":""},{"$f":"IF(NOT(ISBLANK(ShareOfSearch_SERPS!G1457)),ShareOfSearch_SERPS!G1457,\"\")","v":""},{"$f":"IF(NOT(ISBLANK(ShareOfSearch_SERPS!K1457)),ShareOfSearch_SERPS!K1457,\"\")","v":""},{"$f":"IFERROR(VLOOKUP(C1457,ShareOfSearch_CTR!$A$1:$B$100,2,FALSE)*VLOOKUP(A1457&B1457,ShareOfSearch_Volume!$C$1:$D$1000,2,FALSE),\"\")","v":""}]
[{"$f":"IF(ISTEXT(ShareOfSearch_SERPS!C1458),ShareOfSearch_SERPS!C1458,\"\")","v":""},{"$f":"IF(ISTEXT(ShareOfSearch_SERPS!D1458),ShareOfSearch_SERPS!D1458,\"\")","v":""},{"$f":"IF(NOT(ISBLANK(ShareOfSearch_SERPS!A1458)),ShareOfSearch_SERPS!A1458,\"\")","v":""},{"$f":"IF(NOT(ISBLANK(ShareOfSearch_SERPS!G1458)),ShareOfSearch_SERPS!G1458,\"\")","v":""},{"$f":"IF(NOT(ISBLANK(ShareOfSearch_SERPS!K1458)),ShareOfSearch_SERPS!K1458,\"\")","v":""},{"$f":"IFERROR(VLOOKUP(C1458,ShareOfSearch_CTR!$A$1:$B$100,2,FALSE)*VLOOKUP(A1458&B1458,ShareOfSearch_Volume!$C$1:$D$1000,2,FALSE),\"\")","v":""}]
[{"$f":"IF(ISTEXT(ShareOfSearch_SERPS!C1459),ShareOfSearch_SERPS!C1459,\"\")","v":""},{"$f":"IF(ISTEXT(ShareOfSearch_SERPS!D1459),ShareOfSearch_SERPS!D1459,\"\")","v":""},{"$f":"IF(NOT(ISBLANK(ShareOfSearch_SERPS!A1459)),ShareOfSearch_SERPS!A1459,\"\")","v":""},{"$f":"IF(NOT(ISBLANK(ShareOfSearch_SERPS!G1459)),ShareOfSearch_SERPS!G1459,\"\")","v":""},{"$f":"IF(NOT(ISBLANK(ShareOfSearch_SERPS!K1459)),ShareOfSearch_SERPS!K1459,\"\")","v":""},{"$f":"IFERROR(VLOOKUP(C1459,ShareOfSearch_CTR!$A$1:$B$100,2,FALSE)*VLOOKUP(A1459&B1459,ShareOfSearch_Volume!$C$1:$D$1000,2,FALSE),\"\")","v":""}]
[{"$f":"IF(ISTEXT(ShareOfSearch_SERPS!C1460),ShareOfSearch_SERPS!C1460,\"\")","v":""},{"$f":"IF(ISTEXT(ShareOfSearch_SERPS!D1460),ShareOfSearch_SERPS!D1460,\"\")","v":""},{"$f":"IF(NOT(ISBLANK(ShareOfSearch_SERPS!A1460)),ShareOfSearch_SERPS!A1460,\"\")","v":""},{"$f":"IF(NOT(ISBLANK(ShareOfSearch_SERPS!G1460)),ShareOfSearch_SERPS!G1460,\"\")","v":""},{"$f":"IF(NOT(ISBLANK(ShareOfSearch_SERPS!K1460)),ShareOfSearch_SERPS!K1460,\"\")","v":""},{"$f":"IFERROR(VLOOKUP(C1460,ShareOfSearch_CTR!$A$1:$B$100,2,FALSE)*VLOOKUP(A1460&B1460,ShareOfSearch_Volume!$C$1:$D$1000,2,FALSE),\"\")","v":""}]
[{"$f":"IF(ISTEXT(ShareOfSearch_SERPS!C1461),ShareOfSearch_SERPS!C1461,\"\")","v":""},{"$f":"IF(ISTEXT(ShareOfSearch_SERPS!D1461),ShareOfSearch_SERPS!D1461,\"\")","v":""},{"$f":"IF(NOT(ISBLANK(ShareOfSearch_SERPS!A1461)),ShareOfSearch_SERPS!A1461,\"\")","v":""},{"$f":"IF(NOT(ISBLANK(ShareOfSearch_SERPS!G1461)),ShareOfSearch_SERPS!G1461,\"\")","v":""},{"$f":"IF(NOT(ISBLANK(ShareOfSearch_SERPS!K1461)),ShareOfSearch_SERPS!K1461,\"\")","v":""},{"$f":"IFERROR(VLOOKUP(C1461,ShareOfSearch_CTR!$A$1:$B$100,2,FALSE)*VLOOKUP(A1461&B1461,ShareOfSearch_Volume!$C$1:$D$1000,2,FALSE),\"\")","v":""}]
[{"$f":"IF(ISTEXT(ShareOfSearch_SERPS!C1462),ShareOfSearch_SERPS!C1462,\"\")","v":""},{"$f":"IF(ISTEXT(ShareOfSearch_SERPS!D1462),ShareOfSearch_SERPS!D1462,\"\")","v":""},{"$f":"IF(NOT(ISBLANK(ShareOfSearch_SERPS!A1462)),ShareOfSearch_SERPS!A1462,\"\")","v":""},{"$f":"IF(NOT(ISBLANK(ShareOfSearch_SERPS!G1462)),ShareOfSearch_SERPS!G1462,\"\")","v":""},{"$f":"IF(NOT(ISBLANK(ShareOfSearch_SERPS!K1462)),ShareOfSearch_SERPS!K1462,\"\")","v":""},{"$f":"IFERROR(VLOOKUP(C1462,ShareOfSearch_CTR!$A$1:$B$100,2,FALSE)*VLOOKUP(A1462&B1462,ShareOfSearch_Volume!$C$1:$D$1000,2,FALSE),\"\")","v":""}]
[{"$f":"IF(ISTEXT(ShareOfSearch_SERPS!C1463),ShareOfSearch_SERPS!C1463,\"\")","v":""},{"$f":"IF(ISTEXT(ShareOfSearch_SERPS!D1463),ShareOfSearch_SERPS!D1463,\"\")","v":""},{"$f":"IF(NOT(ISBLANK(ShareOfSearch_SERPS!A1463)),ShareOfSearch_SERPS!A1463,\"\")","v":""},{"$f":"IF(NOT(ISBLANK(ShareOfSearch_SERPS!G1463)),ShareOfSearch_SERPS!G1463,\"\")","v":""},{"$f":"IF(NOT(ISBLANK(ShareOfSearch_SERPS!K1463)),ShareOfSearch_SERPS!K1463,\"\")","v":""},{"$f":"IFERROR(VLOOKUP(C1463,ShareOfSearch_CTR!$A$1:$B$100,2,FALSE)*VLOOKUP(A1463&B1463,ShareOfSearch_Volume!$C$1:$D$1000,2,FALSE),\"\")","v":""}]
[{"$f":"IF(ISTEXT(ShareOfSearch_SERPS!C1464),ShareOfSearch_SERPS!C1464,\"\")","v":""},{"$f":"IF(ISTEXT(ShareOfSearch_SERPS!D1464),ShareOfSearch_SERPS!D1464,\"\")","v":""},{"$f":"IF(NOT(ISBLANK(ShareOfSearch_SERPS!A1464)),ShareOfSearch_SERPS!A1464,\"\")","v":""},{"$f":"IF(NOT(ISBLANK(ShareOfSearch_SERPS!G1464)),ShareOfSearch_SERPS!G1464,\"\")","v":""},{"$f":"IF(NOT(ISBLANK(ShareOfSearch_SERPS!K1464)),ShareOfSearch_SERPS!K1464,\"\")","v":""},{"$f":"IFERROR(VLOOKUP(C1464,ShareOfSearch_CTR!$A$1:$B$100,2,FALSE)*VLOOKUP(A1464&B1464,ShareOfSearch_Volume!$C$1:$D$1000,2,FALSE),\"\")","v":""}]
[{"$f":"IF(ISTEXT(ShareOfSearch_SERPS!C1465),ShareOfSearch_SERPS!C1465,\"\")","v":""},{"$f":"IF(ISTEXT(ShareOfSearch_SERPS!D1465),ShareOfSearch_SERPS!D1465,\"\")","v":""},{"$f":"IF(NOT(ISBLANK(ShareOfSearch_SERPS!A1465)),ShareOfSearch_SERPS!A1465,\"\")","v":""},{"$f":"IF(NOT(ISBLANK(ShareOfSearch_SERPS!G1465)),ShareOfSearch_SERPS!G1465,\"\")","v":""},{"$f":"IF(NOT(ISBLANK(ShareOfSearch_SERPS!K1465)),ShareOfSearch_SERPS!K1465,\"\")","v":""},{"$f":"IFERROR(VLOOKUP(C1465,ShareOfSearch_CTR!$A$1:$B$100,2,FALSE)*VLOOKUP(A1465&B1465,ShareOfSearch_Volume!$C$1:$D$1000,2,FALSE),\"\")","v":""}]
[{"$f":"IF(ISTEXT(ShareOfSearch_SERPS!C1466),ShareOfSearch_SERPS!C1466,\"\")","v":""},{"$f":"IF(ISTEXT(ShareOfSearch_SERPS!D1466),ShareOfSearch_SERPS!D1466,\"\")","v":""},{"$f":"IF(NOT(ISBLANK(ShareOfSearch_SERPS!A1466)),ShareOfSearch_SERPS!A1466,\"\")","v":""},{"$f":"IF(NOT(ISBLANK(ShareOfSearch_SERPS!G1466)),ShareOfSearch_SERPS!G1466,\"\")","v":""},{"$f":"IF(NOT(ISBLANK(ShareOfSearch_SERPS!K1466)),ShareOfSearch_SERPS!K1466,\"\")","v":""},{"$f":"IFERROR(VLOOKUP(C1466,ShareOfSearch_CTR!$A$1:$B$100,2,FALSE)*VLOOKUP(A1466&B1466,ShareOfSearch_Volume!$C$1:$D$1000,2,FALSE),\"\")","v":""}]
[{"$f":"IF(ISTEXT(ShareOfSearch_SERPS!C1467),ShareOfSearch_SERPS!C1467,\"\")","v":""},{"$f":"IF(ISTEXT(ShareOfSearch_SERPS!D1467),ShareOfSearch_SERPS!D1467,\"\")","v":""},{"$f":"IF(NOT(ISBLANK(ShareOfSearch_SERPS!A1467)),ShareOfSearch_SERPS!A1467,\"\")","v":""},{"$f":"IF(NOT(ISBLANK(ShareOfSearch_SERPS!G1467)),ShareOfSearch_SERPS!G1467,\"\")","v":""},{"$f":"IF(NOT(ISBLANK(ShareOfSearch_SERPS!K1467)),ShareOfSearch_SERPS!K1467,\"\")","v":""},{"$f":"IFERROR(VLOOKUP(C1467,ShareOfSearch_CTR!$A$1:$B$100,2,FALSE)*VLOOKUP(A1467&B1467,ShareOfSearch_Volume!$C$1:$D$1000,2,FALSE),\"\")","v":""}]
[{"$f":"IF(ISTEXT(ShareOfSearch_SERPS!C1468),ShareOfSearch_SERPS!C1468,\"\")","v":""},{"$f":"IF(ISTEXT(ShareOfSearch_SERPS!D1468),ShareOfSearch_SERPS!D1468,\"\")","v":""},{"$f":"IF(NOT(ISBLANK(ShareOfSearch_SERPS!A1468)),ShareOfSearch_SERPS!A1468,\"\")","v":""},{"$f":"IF(NOT(ISBLANK(ShareOfSearch_SERPS!G1468)),ShareOfSearch_SERPS!G1468,\"\")","v":""},{"$f":"IF(NOT(ISBLANK(ShareOfSearch_SERPS!K1468)),ShareOfSearch_SERPS!K1468,\"\")","v":""},{"$f":"IFERROR(VLOOKUP(C1468,ShareOfSearch_CTR!$A$1:$B$100,2,FALSE)*VLOOKUP(A1468&B1468,ShareOfSearch_Volume!$C$1:$D$1000,2,FALSE),\"\")","v":""}]
[{"$f":"IF(ISTEXT(ShareOfSearch_SERPS!C1469),ShareOfSearch_SERPS!C1469,\"\")","v":""},{"$f":"IF(ISTEXT(ShareOfSearch_SERPS!D1469),ShareOfSearch_SERPS!D1469,\"\")","v":""},{"$f":"IF(NOT(ISBLANK(ShareOfSearch_SERPS!A1469)),ShareOfSearch_SERPS!A1469,\"\")","v":""},{"$f":"IF(NOT(ISBLANK(ShareOfSearch_SERPS!G1469)),ShareOfSearch_SERPS!G1469,\"\")","v":""},{"$f":"IF(NOT(ISBLANK(ShareOfSearch_SERPS!K1469)),ShareOfSearch_SERPS!K1469,\"\")","v":""},{"$f":"IFERROR(VLOOKUP(C1469,ShareOfSearch_CTR!$A$1:$B$100,2,FALSE)*VLOOKUP(A1469&B1469,ShareOfSearch_Volume!$C$1:$D$1000,2,FALSE),\"\")","v":""}]
[{"$f":"IF(ISTEXT(ShareOfSearch_SERPS!C1470),ShareOfSearch_SERPS!C1470,\"\")","v":""},{"$f":"IF(ISTEXT(ShareOfSearch_SERPS!D1470),ShareOfSearch_SERPS!D1470,\"\")","v":""},{"$f":"IF(NOT(ISBLANK(ShareOfSearch_SERPS!A1470)),ShareOfSearch_SERPS!A1470,\"\")","v":""},{"$f":"IF(NOT(ISBLANK(ShareOfSearch_SERPS!G1470)),ShareOfSearch_SERPS!G1470,\"\")","v":""},{"$f":"IF(NOT(ISBLANK(ShareOfSearch_SERPS!K1470)),ShareOfSearch_SERPS!K1470,\"\")","v":""},{"$f":"IFERROR(VLOOKUP(C1470,ShareOfSearch_CTR!$A$1:$B$100,2,FALSE)*VLOOKUP(A1470&B1470,ShareOfSearch_Volume!$C$1:$D$1000,2,FALSE),\"\")","v":""}]
[{"$f":"IF(ISTEXT(ShareOfSearch_SERPS!C1471),ShareOfSearch_SERPS!C1471,\"\")","v":""},{"$f":"IF(ISTEXT(ShareOfSearch_SERPS!D1471),ShareOfSearch_SERPS!D1471,\"\")","v":""},{"$f":"IF(NOT(ISBLANK(ShareOfSearch_SERPS!A1471)),ShareOfSearch_SERPS!A1471,\"\")","v":""},{"$f":"IF(NOT(ISBLANK(ShareOfSearch_SERPS!G1471)),ShareOfSearch_SERPS!G1471,\"\")","v":""},{"$f":"IF(NOT(ISBLANK(ShareOfSearch_SERPS!K1471)),ShareOfSearch_SERPS!K1471,\"\")","v":""},{"$f":"IFERROR(VLOOKUP(C1471,ShareOfSearch_CTR!$A$1:$B$100,2,FALSE)*VLOOKUP(A1471&B1471,ShareOfSearch_Volume!$C$1:$D$1000,2,FALSE),\"\")","v":""}]
[{"$f":"IF(ISTEXT(ShareOfSearch_SERPS!C1472),ShareOfSearch_SERPS!C1472,\"\")","v":""},{"$f":"IF(ISTEXT(ShareOfSearch_SERPS!D1472),ShareOfSearch_SERPS!D1472,\"\")","v":""},{"$f":"IF(NOT(ISBLANK(ShareOfSearch_SERPS!A1472)),ShareOfSearch_SERPS!A1472,\"\")","v":""},{"$f":"IF(NOT(ISBLANK(ShareOfSearch_SERPS!G1472)),ShareOfSearch_SERPS!G1472,\"\")","v":""},{"$f":"IF(NOT(ISBLANK(ShareOfSearch_SERPS!K1472)),ShareOfSearch_SERPS!K1472,\"\")","v":""},{"$f":"IFERROR(VLOOKUP(C1472,ShareOfSearch_CTR!$A$1:$B$100,2,FALSE)*VLOOKUP(A1472&B1472,ShareOfSearch_Volume!$C$1:$D$1000,2,FALSE),\"\")","v":""}]
[{"$f":"IF(ISTEXT(ShareOfSearch_SERPS!C1473),ShareOfSearch_SERPS!C1473,\"\")","v":""},{"$f":"IF(ISTEXT(ShareOfSearch_SERPS!D1473),ShareOfSearch_SERPS!D1473,\"\")","v":""},{"$f":"IF(NOT(ISBLANK(ShareOfSearch_SERPS!A1473)),ShareOfSearch_SERPS!A1473,\"\")","v":""},{"$f":"IF(NOT(ISBLANK(ShareOfSearch_SERPS!G1473)),ShareOfSearch_SERPS!G1473,\"\")","v":""},{"$f":"IF(NOT(ISBLANK(ShareOfSearch_SERPS!K1473)),ShareOfSearch_SERPS!K1473,\"\")","v":""},{"$f":"IFERROR(VLOOKUP(C1473,ShareOfSearch_CTR!$A$1:$B$100,2,FALSE)*VLOOKUP(A1473&B1473,ShareOfSearch_Volume!$C$1:$D$1000,2,FALSE),\"\")","v":""}]
[{"$f":"IF(ISTEXT(ShareOfSearch_SERPS!C1474),ShareOfSearch_SERPS!C1474,\"\")","v":""},{"$f":"IF(ISTEXT(ShareOfSearch_SERPS!D1474),ShareOfSearch_SERPS!D1474,\"\")","v":""},{"$f":"IF(NOT(ISBLANK(ShareOfSearch_SERPS!A1474)),ShareOfSearch_SERPS!A1474,\"\")","v":""},{"$f":"IF(NOT(ISBLANK(ShareOfSearch_SERPS!G1474)),ShareOfSearch_SERPS!G1474,\"\")","v":""},{"$f":"IF(NOT(ISBLANK(ShareOfSearch_SERPS!K1474)),ShareOfSearch_SERPS!K1474,\"\")","v":""},{"$f":"IFERROR(VLOOKUP(C1474,ShareOfSearch_CTR!$A$1:$B$100,2,FALSE)*VLOOKUP(A1474&B1474,ShareOfSearch_Volume!$C$1:$D$1000,2,FALSE),\"\")","v":""}]
[{"$f":"IF(ISTEXT(ShareOfSearch_SERPS!C1475),ShareOfSearch_SERPS!C1475,\"\")","v":""},{"$f":"IF(ISTEXT(ShareOfSearch_SERPS!D1475),ShareOfSearch_SERPS!D1475,\"\")","v":""},{"$f":"IF(NOT(ISBLANK(ShareOfSearch_SERPS!A1475)),ShareOfSearch_SERPS!A1475,\"\")","v":""},{"$f":"IF(NOT(ISBLANK(ShareOfSearch_SERPS!G1475)),ShareOfSearch_SERPS!G1475,\"\")","v":""},{"$f":"IF(NOT(ISBLANK(ShareOfSearch_SERPS!K1475)),ShareOfSearch_SERPS!K1475,\"\")","v":""},{"$f":"IFERROR(VLOOKUP(C1475,ShareOfSearch_CTR!$A$1:$B$100,2,FALSE)*VLOOKUP(A1475&B1475,ShareOfSearch_Volume!$C$1:$D$1000,2,FALSE),\"\")","v":""}]
[{"$f":"IF(ISTEXT(ShareOfSearch_SERPS!C1476),ShareOfSearch_SERPS!C1476,\"\")","v":""},{"$f":"IF(ISTEXT(ShareOfSearch_SERPS!D1476),ShareOfSearch_SERPS!D1476,\"\")","v":""},{"$f":"IF(NOT(ISBLANK(ShareOfSearch_SERPS!A1476)),ShareOfSearch_SERPS!A1476,\"\")","v":""},{"$f":"IF(NOT(ISBLANK(ShareOfSearch_SERPS!G1476)),ShareOfSearch_SERPS!G1476,\"\")","v":""},{"$f":"IF(NOT(ISBLANK(ShareOfSearch_SERPS!K1476)),ShareOfSearch_SERPS!K1476,\"\")","v":""},{"$f":"IFERROR(VLOOKUP(C1476,ShareOfSearch_CTR!$A$1:$B$100,2,FALSE)*VLOOKUP(A1476&B1476,ShareOfSearch_Volume!$C$1:$D$1000,2,FALSE),\"\")","v":""}]
[{"$f":"IF(ISTEXT(ShareOfSearch_SERPS!C1477),ShareOfSearch_SERPS!C1477,\"\")","v":""},{"$f":"IF(ISTEXT(ShareOfSearch_SERPS!D1477),ShareOfSearch_SERPS!D1477,\"\")","v":""},{"$f":"IF(NOT(ISBLANK(ShareOfSearch_SERPS!A1477)),ShareOfSearch_SERPS!A1477,\"\")","v":""},{"$f":"IF(NOT(ISBLANK(ShareOfSearch_SERPS!G1477)),ShareOfSearch_SERPS!G1477,\"\")","v":""},{"$f":"IF(NOT(ISBLANK(ShareOfSearch_SERPS!K1477)),ShareOfSearch_SERPS!K1477,\"\")","v":""},{"$f":"IFERROR(VLOOKUP(C1477,ShareOfSearch_CTR!$A$1:$B$100,2,FALSE)*VLOOKUP(A1477&B1477,ShareOfSearch_Volume!$C$1:$D$1000,2,FALSE),\"\")","v":""}]
[{"$f":"IF(ISTEXT(ShareOfSearch_SERPS!C1478),ShareOfSearch_SERPS!C1478,\"\")","v":""},{"$f":"IF(ISTEXT(ShareOfSearch_SERPS!D1478),ShareOfSearch_SERPS!D1478,\"\")","v":""},{"$f":"IF(NOT(ISBLANK(ShareOfSearch_SERPS!A1478)),ShareOfSearch_SERPS!A1478,\"\")","v":""},{"$f":"IF(NOT(ISBLANK(ShareOfSearch_SERPS!G1478)),ShareOfSearch_SERPS!G1478,\"\")","v":""},{"$f":"IF(NOT(ISBLANK(ShareOfSearch_SERPS!K1478)),ShareOfSearch_SERPS!K1478,\"\")","v":""},{"$f":"IFERROR(VLOOKUP(C1478,ShareOfSearch_CTR!$A$1:$B$100,2,FALSE)*VLOOKUP(A1478&B1478,ShareOfSearch_Volume!$C$1:$D$1000,2,FALSE),\"\")","v":""}]
[{"$f":"IF(ISTEXT(ShareOfSearch_SERPS!C1479),ShareOfSearch_SERPS!C1479,\"\")","v":""},{"$f":"IF(ISTEXT(ShareOfSearch_SERPS!D1479),ShareOfSearch_SERPS!D1479,\"\")","v":""},{"$f":"IF(NOT(ISBLANK(ShareOfSearch_SERPS!A1479)),ShareOfSearch_SERPS!A1479,\"\")","v":""},{"$f":"IF(NOT(ISBLANK(ShareOfSearch_SERPS!G1479)),ShareOfSearch_SERPS!G1479,\"\")","v":""},{"$f":"IF(NOT(ISBLANK(ShareOfSearch_SERPS!K1479)),ShareOfSearch_SERPS!K1479,\"\")","v":""},{"$f":"IFERROR(VLOOKUP(C1479,ShareOfSearch_CTR!$A$1:$B$100,2,FALSE)*VLOOKUP(A1479&B1479,ShareOfSearch_Volume!$C$1:$D$1000,2,FALSE),\"\")","v":""}]
[{"$f":"IF(ISTEXT(ShareOfSearch_SERPS!C1480),ShareOfSearch_SERPS!C1480,\"\")","v":""},{"$f":"IF(ISTEXT(ShareOfSearch_SERPS!D1480),ShareOfSearch_SERPS!D1480,\"\")","v":""},{"$f":"IF(NOT(ISBLANK(ShareOfSearch_SERPS!A1480)),ShareOfSearch_SERPS!A1480,\"\")","v":""},{"$f":"IF(NOT(ISBLANK(ShareOfSearch_SERPS!G1480)),ShareOfSearch_SERPS!G1480,\"\")","v":""},{"$f":"IF(NOT(ISBLANK(ShareOfSearch_SERPS!K1480)),ShareOfSearch_SERPS!K1480,\"\")","v":""},{"$f":"IFERROR(VLOOKUP(C1480,ShareOfSearch_CTR!$A$1:$B$100,2,FALSE)*VLOOKUP(A1480&B1480,ShareOfSearch_Volume!$C$1:$D$1000,2,FALSE),\"\")","v":""}]
[{"$f":"IF(ISTEXT(ShareOfSearch_SERPS!C1481),ShareOfSearch_SERPS!C1481,\"\")","v":""},{"$f":"IF(ISTEXT(ShareOfSearch_SERPS!D1481),ShareOfSearch_SERPS!D1481,\"\")","v":""},{"$f":"IF(NOT(ISBLANK(ShareOfSearch_SERPS!A1481)),ShareOfSearch_SERPS!A1481,\"\")","v":""},{"$f":"IF(NOT(ISBLANK(ShareOfSearch_SERPS!G1481)),ShareOfSearch_SERPS!G1481,\"\")","v":""},{"$f":"IF(NOT(ISBLANK(ShareOfSearch_SERPS!K1481)),ShareOfSearch_SERPS!K1481,\"\")","v":""},{"$f":"IFERROR(VLOOKUP(C1481,ShareOfSearch_CTR!$A$1:$B$100,2,FALSE)*VLOOKUP(A1481&B1481,ShareOfSearch_Volume!$C$1:$D$1000,2,FALSE),\"\")","v":""}]
[{"$f":"IF(ISTEXT(ShareOfSearch_SERPS!C1482),ShareOfSearch_SERPS!C1482,\"\")","v":""},{"$f":"IF(ISTEXT(ShareOfSearch_SERPS!D1482),ShareOfSearch_SERPS!D1482,\"\")","v":""},{"$f":"IF(NOT(ISBLANK(ShareOfSearch_SERPS!A1482)),ShareOfSearch_SERPS!A1482,\"\")","v":""},{"$f":"IF(NOT(ISBLANK(ShareOfSearch_SERPS!G1482)),ShareOfSearch_SERPS!G1482,\"\")","v":""},{"$f":"IF(NOT(ISBLANK(ShareOfSearch_SERPS!K1482)),ShareOfSearch_SERPS!K1482,\"\")","v":""},{"$f":"IFERROR(VLOOKUP(C1482,ShareOfSearch_CTR!$A$1:$B$100,2,FALSE)*VLOOKUP(A1482&B1482,ShareOfSearch_Volume!$C$1:$D$1000,2,FALSE),\"\")","v":""}]
[{"$f":"IF(ISTEXT(ShareOfSearch_SERPS!C1483),ShareOfSearch_SERPS!C1483,\"\")","v":""},{"$f":"IF(ISTEXT(ShareOfSearch_SERPS!D1483),ShareOfSearch_SERPS!D1483,\"\")","v":""},{"$f":"IF(NOT(ISBLANK(ShareOfSearch_SERPS!A1483)),ShareOfSearch_SERPS!A1483,\"\")","v":""},{"$f":"IF(NOT(ISBLANK(ShareOfSearch_SERPS!G1483)),ShareOfSearch_SERPS!G1483,\"\")","v":""},{"$f":"IF(NOT(ISBLANK(ShareOfSearch_SERPS!K1483)),ShareOfSearch_SERPS!K1483,\"\")","v":""},{"$f":"IFERROR(VLOOKUP(C1483,ShareOfSearch_CTR!$A$1:$B$100,2,FALSE)*VLOOKUP(A1483&B1483,ShareOfSearch_Volume!$C$1:$D$1000,2,FALSE),\"\")","v":""}]
[{"$f":"IF(ISTEXT(ShareOfSearch_SERPS!C1484),ShareOfSearch_SERPS!C1484,\"\")","v":""},{"$f":"IF(ISTEXT(ShareOfSearch_SERPS!D1484),ShareOfSearch_SERPS!D1484,\"\")","v":""},{"$f":"IF(NOT(ISBLANK(ShareOfSearch_SERPS!A1484)),ShareOfSearch_SERPS!A1484,\"\")","v":""},{"$f":"IF(NOT(ISBLANK(ShareOfSearch_SERPS!G1484)),ShareOfSearch_SERPS!G1484,\"\")","v":""},{"$f":"IF(NOT(ISBLANK(ShareOfSearch_SERPS!K1484)),ShareOfSearch_SERPS!K1484,\"\")","v":""},{"$f":"IFERROR(VLOOKUP(C1484,ShareOfSearch_CTR!$A$1:$B$100,2,FALSE)*VLOOKUP(A1484&B1484,ShareOfSearch_Volume!$C$1:$D$1000,2,FALSE),\"\")","v":""}]
[{"$f":"IF(ISTEXT(ShareOfSearch_SERPS!C1485),ShareOfSearch_SERPS!C1485,\"\")","v":""},{"$f":"IF(ISTEXT(ShareOfSearch_SERPS!D1485),ShareOfSearch_SERPS!D1485,\"\")","v":""},{"$f":"IF(NOT(ISBLANK(ShareOfSearch_SERPS!A1485)),ShareOfSearch_SERPS!A1485,\"\")","v":""},{"$f":"IF(NOT(ISBLANK(ShareOfSearch_SERPS!G1485)),ShareOfSearch_SERPS!G1485,\"\")","v":""},{"$f":"IF(NOT(ISBLANK(ShareOfSearch_SERPS!K1485)),ShareOfSearch_SERPS!K1485,\"\")","v":""},{"$f":"IFERROR(VLOOKUP(C1485,ShareOfSearch_CTR!$A$1:$B$100,2,FALSE)*VLOOKUP(A1485&B1485,ShareOfSearch_Volume!$C$1:$D$1000,2,FALSE),\"\")","v":""}]
[{"$f":"IF(ISTEXT(ShareOfSearch_SERPS!C1486),ShareOfSearch_SERPS!C1486,\"\")","v":""},{"$f":"IF(ISTEXT(ShareOfSearch_SERPS!D1486),ShareOfSearch_SERPS!D1486,\"\")","v":""},{"$f":"IF(NOT(ISBLANK(ShareOfSearch_SERPS!A1486)),ShareOfSearch_SERPS!A1486,\"\")","v":""},{"$f":"IF(NOT(ISBLANK(ShareOfSearch_SERPS!G1486)),ShareOfSearch_SERPS!G1486,\"\")","v":""},{"$f":"IF(NOT(ISBLANK(ShareOfSearch_SERPS!K1486)),ShareOfSearch_SERPS!K1486,\"\")","v":""},{"$f":"IFERROR(VLOOKUP(C1486,ShareOfSearch_CTR!$A$1:$B$100,2,FALSE)*VLOOKUP(A1486&B1486,ShareOfSearch_Volume!$C$1:$D$1000,2,FALSE),\"\")","v":""}]
[{"$f":"IF(ISTEXT(ShareOfSearch_SERPS!C1487),ShareOfSearch_SERPS!C1487,\"\")","v":""},{"$f":"IF(ISTEXT(ShareOfSearch_SERPS!D1487),ShareOfSearch_SERPS!D1487,\"\")","v":""},{"$f":"IF(NOT(ISBLANK(ShareOfSearch_SERPS!A1487)),ShareOfSearch_SERPS!A1487,\"\")","v":""},{"$f":"IF(NOT(ISBLANK(ShareOfSearch_SERPS!G1487)),ShareOfSearch_SERPS!G1487,\"\")","v":""},{"$f":"IF(NOT(ISBLANK(ShareOfSearch_SERPS!K1487)),ShareOfSearch_SERPS!K1487,\"\")","v":""},{"$f":"IFERROR(VLOOKUP(C1487,ShareOfSearch_CTR!$A$1:$B$100,2,FALSE)*VLOOKUP(A1487&B1487,ShareOfSearch_Volume!$C$1:$D$1000,2,FALSE),\"\")","v":""}]
[{"$f":"IF(ISTEXT(ShareOfSearch_SERPS!C1488),ShareOfSearch_SERPS!C1488,\"\")","v":""},{"$f":"IF(ISTEXT(ShareOfSearch_SERPS!D1488),ShareOfSearch_SERPS!D1488,\"\")","v":""},{"$f":"IF(NOT(ISBLANK(ShareOfSearch_SERPS!A1488)),ShareOfSearch_SERPS!A1488,\"\")","v":""},{"$f":"IF(NOT(ISBLANK(ShareOfSearch_SERPS!G1488)),ShareOfSearch_SERPS!G1488,\"\")","v":""},{"$f":"IF(NOT(ISBLANK(ShareOfSearch_SERPS!K1488)),ShareOfSearch_SERPS!K1488,\"\")","v":""},{"$f":"IFERROR(VLOOKUP(C1488,ShareOfSearch_CTR!$A$1:$B$100,2,FALSE)*VLOOKUP(A1488&B1488,ShareOfSearch_Volume!$C$1:$D$1000,2,FALSE),\"\")","v":""}]
[{"$f":"IF(ISTEXT(ShareOfSearch_SERPS!C1489),ShareOfSearch_SERPS!C1489,\"\")","v":""},{"$f":"IF(ISTEXT(ShareOfSearch_SERPS!D1489),ShareOfSearch_SERPS!D1489,\"\")","v":""},{"$f":"IF(NOT(ISBLANK(ShareOfSearch_SERPS!A1489)),ShareOfSearch_SERPS!A1489,\"\")","v":""},{"$f":"IF(NOT(ISBLANK(ShareOfSearch_SERPS!G1489)),ShareOfSearch_SERPS!G1489,\"\")","v":""},{"$f":"IF(NOT(ISBLANK(ShareOfSearch_SERPS!K1489)),ShareOfSearch_SERPS!K1489,\"\")","v":""},{"$f":"IFERROR(VLOOKUP(C1489,ShareOfSearch_CTR!$A$1:$B$100,2,FALSE)*VLOOKUP(A1489&B1489,ShareOfSearch_Volume!$C$1:$D$1000,2,FALSE),\"\")","v":""}]
[{"$f":"IF(ISTEXT(ShareOfSearch_SERPS!C1490),ShareOfSearch_SERPS!C1490,\"\")","v":""},{"$f":"IF(ISTEXT(ShareOfSearch_SERPS!D1490),ShareOfSearch_SERPS!D1490,\"\")","v":""},{"$f":"IF(NOT(ISBLANK(ShareOfSearch_SERPS!A1490)),ShareOfSearch_SERPS!A1490,\"\")","v":""},{"$f":"IF(NOT(ISBLANK(ShareOfSearch_SERPS!G1490)),ShareOfSearch_SERPS!G1490,\"\")","v":""},{"$f":"IF(NOT(ISBLANK(ShareOfSearch_SERPS!K1490)),ShareOfSearch_SERPS!K1490,\"\")","v":""},{"$f":"IFERROR(VLOOKUP(C1490,ShareOfSearch_CTR!$A$1:$B$100,2,FALSE)*VLOOKUP(A1490&B1490,ShareOfSearch_Volume!$C$1:$D$1000,2,FALSE),\"\")","v":""}]
[{"$f":"IF(ISTEXT(ShareOfSearch_SERPS!C1491),ShareOfSearch_SERPS!C1491,\"\")","v":""},{"$f":"IF(ISTEXT(ShareOfSearch_SERPS!D1491),ShareOfSearch_SERPS!D1491,\"\")","v":""},{"$f":"IF(NOT(ISBLANK(ShareOfSearch_SERPS!A1491)),ShareOfSearch_SERPS!A1491,\"\")","v":""},{"$f":"IF(NOT(ISBLANK(ShareOfSearch_SERPS!G1491)),ShareOfSearch_SERPS!G1491,\"\")","v":""},{"$f":"IF(NOT(ISBLANK(ShareOfSearch_SERPS!K1491)),ShareOfSearch_SERPS!K1491,\"\")","v":""},{"$f":"IFERROR(VLOOKUP(C1491,ShareOfSearch_CTR!$A$1:$B$100,2,FALSE)*VLOOKUP(A1491&B1491,ShareOfSearch_Volume!$C$1:$D$1000,2,FALSE),\"\")","v":""}]
[{"$f":"IF(ISTEXT(ShareOfSearch_SERPS!C1492),ShareOfSearch_SERPS!C1492,\"\")","v":""},{"$f":"IF(ISTEXT(ShareOfSearch_SERPS!D1492),ShareOfSearch_SERPS!D1492,\"\")","v":""},{"$f":"IF(NOT(ISBLANK(ShareOfSearch_SERPS!A1492)),ShareOfSearch_SERPS!A1492,\"\")","v":""},{"$f":"IF(NOT(ISBLANK(ShareOfSearch_SERPS!G1492)),ShareOfSearch_SERPS!G1492,\"\")","v":""},{"$f":"IF(NOT(ISBLANK(ShareOfSearch_SERPS!K1492)),ShareOfSearch_SERPS!K1492,\"\")","v":""},{"$f":"IFERROR(VLOOKUP(C1492,ShareOfSearch_CTR!$A$1:$B$100,2,FALSE)*VLOOKUP(A1492&B1492,ShareOfSearch_Volume!$C$1:$D$1000,2,FALSE),\"\")","v":""}]
[{"$f":"IF(ISTEXT(ShareOfSearch_SERPS!C1493),ShareOfSearch_SERPS!C1493,\"\")","v":""},{"$f":"IF(ISTEXT(ShareOfSearch_SERPS!D1493),ShareOfSearch_SERPS!D1493,\"\")","v":""},{"$f":"IF(NOT(ISBLANK(ShareOfSearch_SERPS!A1493)),ShareOfSearch_SERPS!A1493,\"\")","v":""},{"$f":"IF(NOT(ISBLANK(ShareOfSearch_SERPS!G1493)),ShareOfSearch_SERPS!G1493,\"\")","v":""},{"$f":"IF(NOT(ISBLANK(ShareOfSearch_SERPS!K1493)),ShareOfSearch_SERPS!K1493,\"\")","v":""},{"$f":"IFERROR(VLOOKUP(C1493,ShareOfSearch_CTR!$A$1:$B$100,2,FALSE)*VLOOKUP(A1493&B1493,ShareOfSearch_Volume!$C$1:$D$1000,2,FALSE),\"\")","v":""}]
[{"$f":"IF(ISTEXT(ShareOfSearch_SERPS!C1494),ShareOfSearch_SERPS!C1494,\"\")","v":""},{"$f":"IF(ISTEXT(ShareOfSearch_SERPS!D1494),ShareOfSearch_SERPS!D1494,\"\")","v":""},{"$f":"IF(NOT(ISBLANK(ShareOfSearch_SERPS!A1494)),ShareOfSearch_SERPS!A1494,\"\")","v":""},{"$f":"IF(NOT(ISBLANK(ShareOfSearch_SERPS!G1494)),ShareOfSearch_SERPS!G1494,\"\")","v":""},{"$f":"IF(NOT(ISBLANK(ShareOfSearch_SERPS!K1494)),ShareOfSearch_SERPS!K1494,\"\")","v":""},{"$f":"IFERROR(VLOOKUP(C1494,ShareOfSearch_CTR!$A$1:$B$100,2,FALSE)*VLOOKUP(A1494&B1494,ShareOfSearch_Volume!$C$1:$D$1000,2,FALSE),\"\")","v":""}]
[{"$f":"IF(ISTEXT(ShareOfSearch_SERPS!C1495),ShareOfSearch_SERPS!C1495,\"\")","v":""},{"$f":"IF(ISTEXT(ShareOfSearch_SERPS!D1495),ShareOfSearch_SERPS!D1495,\"\")","v":""},{"$f":"IF(NOT(ISBLANK(ShareOfSearch_SERPS!A1495)),ShareOfSearch_SERPS!A1495,\"\")","v":""},{"$f":"IF(NOT(ISBLANK(ShareOfSearch_SERPS!G1495)),ShareOfSearch_SERPS!G1495,\"\")","v":""},{"$f":"IF(NOT(ISBLANK(ShareOfSearch_SERPS!K1495)),ShareOfSearch_SERPS!K1495,\"\")","v":""},{"$f":"IFERROR(VLOOKUP(C1495,ShareOfSearch_CTR!$A$1:$B$100,2,FALSE)*VLOOKUP(A1495&B1495,ShareOfSearch_Volume!$C$1:$D$1000,2,FALSE),\"\")","v":""}]
[{"$f":"IF(ISTEXT(ShareOfSearch_SERPS!C1496),ShareOfSearch_SERPS!C1496,\"\")","v":""},{"$f":"IF(ISTEXT(ShareOfSearch_SERPS!D1496),ShareOfSearch_SERPS!D1496,\"\")","v":""},{"$f":"IF(NOT(ISBLANK(ShareOfSearch_SERPS!A1496)),ShareOfSearch_SERPS!A1496,\"\")","v":""},{"$f":"IF(NOT(ISBLANK(ShareOfSearch_SERPS!G1496)),ShareOfSearch_SERPS!G1496,\"\")","v":""},{"$f":"IF(NOT(ISBLANK(ShareOfSearch_SERPS!K1496)),ShareOfSearch_SERPS!K1496,\"\")","v":""},{"$f":"IFERROR(VLOOKUP(C1496,ShareOfSearch_CTR!$A$1:$B$100,2,FALSE)*VLOOKUP(A1496&B1496,ShareOfSearch_Volume!$C$1:$D$1000,2,FALSE),\"\")","v":""}]
[{"$f":"IF(ISTEXT(ShareOfSearch_SERPS!C1497),ShareOfSearch_SERPS!C1497,\"\")","v":""},{"$f":"IF(ISTEXT(ShareOfSearch_SERPS!D1497),ShareOfSearch_SERPS!D1497,\"\")","v":""},{"$f":"IF(NOT(ISBLANK(ShareOfSearch_SERPS!A1497)),ShareOfSearch_SERPS!A1497,\"\")","v":""},{"$f":"IF(NOT(ISBLANK(ShareOfSearch_SERPS!G1497)),ShareOfSearch_SERPS!G1497,\"\")","v":""},{"$f":"IF(NOT(ISBLANK(ShareOfSearch_SERPS!K1497)),ShareOfSearch_SERPS!K1497,\"\")","v":""},{"$f":"IFERROR(VLOOKUP(C1497,ShareOfSearch_CTR!$A$1:$B$100,2,FALSE)*VLOOKUP(A1497&B1497,ShareOfSearch_Volume!$C$1:$D$1000,2,FALSE),\"\")","v":""}]
[{"$f":"IF(ISTEXT(ShareOfSearch_SERPS!C1498),ShareOfSearch_SERPS!C1498,\"\")","v":""},{"$f":"IF(ISTEXT(ShareOfSearch_SERPS!D1498),ShareOfSearch_SERPS!D1498,\"\")","v":""},{"$f":"IF(NOT(ISBLANK(ShareOfSearch_SERPS!A1498)),ShareOfSearch_SERPS!A1498,\"\")","v":""},{"$f":"IF(NOT(ISBLANK(ShareOfSearch_SERPS!G1498)),ShareOfSearch_SERPS!G1498,\"\")","v":""},{"$f":"IF(NOT(ISBLANK(ShareOfSearch_SERPS!K1498)),ShareOfSearch_SERPS!K1498,\"\")","v":""},{"$f":"IFERROR(VLOOKUP(C1498,ShareOfSearch_CTR!$A$1:$B$100,2,FALSE)*VLOOKUP(A1498&B1498,ShareOfSearch_Volume!$C$1:$D$1000,2,FALSE),\"\")","v":""}]
[{"$f":"IF(ISTEXT(ShareOfSearch_SERPS!C1499),ShareOfSearch_SERPS!C1499,\"\")","v":""},{"$f":"IF(ISTEXT(ShareOfSearch_SERPS!D1499),ShareOfSearch_SERPS!D1499,\"\")","v":""},{"$f":"IF(NOT(ISBLANK(ShareOfSearch_SERPS!A1499)),ShareOfSearch_SERPS!A1499,\"\")","v":""},{"$f":"IF(NOT(ISBLANK(ShareOfSearch_SERPS!G1499)),ShareOfSearch_SERPS!G1499,\"\")","v":""},{"$f":"IF(NOT(ISBLANK(ShareOfSearch_SERPS!K1499)),ShareOfSearch_SERPS!K1499,\"\")","v":""},{"$f":"IFERROR(VLOOKUP(C1499,ShareOfSearch_CTR!$A$1:$B$100,2,FALSE)*VLOOKUP(A1499&B1499,ShareOfSearch_Volume!$C$1:$D$1000,2,FALSE),\"\")","v":""}]
[{"$f":"IF(ISTEXT(ShareOfSearch_SERPS!C1500),ShareOfSearch_SERPS!C1500,\"\")","v":""},{"$f":"IF(ISTEXT(ShareOfSearch_SERPS!D1500),ShareOfSearch_SERPS!D1500,\"\")","v":""},{"$f":"IF(NOT(ISBLANK(ShareOfSearch_SERPS!A1500)),ShareOfSearch_SERPS!A1500,\"\")","v":""},{"$f":"IF(NOT(ISBLANK(ShareOfSearch_SERPS!G1500)),ShareOfSearch_SERPS!G1500,\"\")","v":""},{"$f":"IF(NOT(ISBLANK(ShareOfSearch_SERPS!K1500)),ShareOfSearch_SERPS!K1500,\"\")","v":""},{"$f":"IFERROR(VLOOKUP(C1500,ShareOfSearch_CTR!$A$1:$B$100,2,FALSE)*VLOOKUP(A1500&B1500,ShareOfSearch_Volume!$C$1:$D$1000,2,FALSE),\"\")","v":""}]
[{"$f":"IF(ISTEXT(ShareOfSearch_SERPS!C1501),ShareOfSearch_SERPS!C1501,\"\")","v":""},{"$f":"IF(ISTEXT(ShareOfSearch_SERPS!D1501),ShareOfSearch_SERPS!D1501,\"\")","v":""},{"$f":"IF(NOT(ISBLANK(ShareOfSearch_SERPS!A1501)),ShareOfSearch_SERPS!A1501,\"\")","v":""},{"$f":"IF(NOT(ISBLANK(ShareOfSearch_SERPS!G1501)),ShareOfSearch_SERPS!G1501,\"\")","v":""},{"$f":"IF(NOT(ISBLANK(ShareOfSearch_SERPS!K1501)),ShareOfSearch_SERPS!K1501,\"\")","v":""},{"$f":"IFERROR(VLOOKUP(C1501,ShareOfSearch_CTR!$A$1:$B$100,2,FALSE)*VLOOKUP(A1501&B1501,ShareOfSearch_Volume!$C$1:$D$1000,2,FALSE),\"\")","v":""}]
[{"$f":"IF(ISTEXT(ShareOfSearch_SERPS!C1502),ShareOfSearch_SERPS!C1502,\"\")","v":""},{"$f":"IF(ISTEXT(ShareOfSearch_SERPS!D1502),ShareOfSearch_SERPS!D1502,\"\")","v":""},{"$f":"IF(NOT(ISBLANK(ShareOfSearch_SERPS!A1502)),ShareOfSearch_SERPS!A1502,\"\")","v":""},{"$f":"IF(NOT(ISBLANK(ShareOfSearch_SERPS!G1502)),ShareOfSearch_SERPS!G1502,\"\")","v":""},{"$f":"IF(NOT(ISBLANK(ShareOfSearch_SERPS!K1502)),ShareOfSearch_SERPS!K1502,\"\")","v":""},{"$f":"IFERROR(VLOOKUP(C1502,ShareOfSearch_CTR!$A$1:$B$100,2,FALSE)*VLOOKUP(A1502&B1502,ShareOfSearch_Volume!$C$1:$D$1000,2,FALSE),\"\")","v":""}]
[{"$f":"IF(ISTEXT(ShareOfSearch_SERPS!C1503),ShareOfSearch_SERPS!C1503,\"\")","v":""},{"$f":"IF(ISTEXT(ShareOfSearch_SERPS!D1503),ShareOfSearch_SERPS!D1503,\"\")","v":""},{"$f":"IF(NOT(ISBLANK(ShareOfSearch_SERPS!A1503)),ShareOfSearch_SERPS!A1503,\"\")","v":""},{"$f":"IF(NOT(ISBLANK(ShareOfSearch_SERPS!G1503)),ShareOfSearch_SERPS!G1503,\"\")","v":""},{"$f":"IF(NOT(ISBLANK(ShareOfSearch_SERPS!K1503)),ShareOfSearch_SERPS!K1503,\"\")","v":""},{"$f":"IFERROR(VLOOKUP(C1503,ShareOfSearch_CTR!$A$1:$B$100,2,FALSE)*VLOOKUP(A1503&B1503,ShareOfSearch_Volume!$C$1:$D$1000,2,FALSE),\"\")","v":""}]
[{"$f":"IF(ISTEXT(ShareOfSearch_SERPS!C1504),ShareOfSearch_SERPS!C1504,\"\")","v":""},{"$f":"IF(ISTEXT(ShareOfSearch_SERPS!D1504),ShareOfSearch_SERPS!D1504,\"\")","v":""},{"$f":"IF(NOT(ISBLANK(ShareOfSearch_SERPS!A1504)),ShareOfSearch_SERPS!A1504,\"\")","v":""},{"$f":"IF(NOT(ISBLANK(ShareOfSearch_SERPS!G1504)),ShareOfSearch_SERPS!G1504,\"\")","v":""},{"$f":"IF(NOT(ISBLANK(ShareOfSearch_SERPS!K1504)),ShareOfSearch_SERPS!K1504,\"\")","v":""},{"$f":"IFERROR(VLOOKUP(C1504,ShareOfSearch_CTR!$A$1:$B$100,2,FALSE)*VLOOKUP(A1504&B1504,ShareOfSearch_Volume!$C$1:$D$1000,2,FALSE),\"\")","v":""}]
[{"$f":"IF(ISTEXT(ShareOfSearch_SERPS!C1505),ShareOfSearch_SERPS!C1505,\"\")","v":""},{"$f":"IF(ISTEXT(ShareOfSearch_SERPS!D1505),ShareOfSearch_SERPS!D1505,\"\")","v":""},{"$f":"IF(NOT(ISBLANK(ShareOfSearch_SERPS!A1505)),ShareOfSearch_SERPS!A1505,\"\")","v":""},{"$f":"IF(NOT(ISBLANK(ShareOfSearch_SERPS!G1505)),ShareOfSearch_SERPS!G1505,\"\")","v":""},{"$f":"IF(NOT(ISBLANK(ShareOfSearch_SERPS!K1505)),ShareOfSearch_SERPS!K1505,\"\")","v":""},{"$f":"IFERROR(VLOOKUP(C1505,ShareOfSearch_CTR!$A$1:$B$100,2,FALSE)*VLOOKUP(A1505&B1505,ShareOfSearch_Volume!$C$1:$D$1000,2,FALSE),\"\")","v":""}]
[{"$f":"IF(ISTEXT(ShareOfSearch_SERPS!C1506),ShareOfSearch_SERPS!C1506,\"\")","v":""},{"$f":"IF(ISTEXT(ShareOfSearch_SERPS!D1506),ShareOfSearch_SERPS!D1506,\"\")","v":""},{"$f":"IF(NOT(ISBLANK(ShareOfSearch_SERPS!A1506)),ShareOfSearch_SERPS!A1506,\"\")","v":""},{"$f":"IF(NOT(ISBLANK(ShareOfSearch_SERPS!G1506)),ShareOfSearch_SERPS!G1506,\"\")","v":""},{"$f":"IF(NOT(ISBLANK(ShareOfSearch_SERPS!K1506)),ShareOfSearch_SERPS!K1506,\"\")","v":""},{"$f":"IFERROR(VLOOKUP(C1506,ShareOfSearch_CTR!$A$1:$B$100,2,FALSE)*VLOOKUP(A1506&B1506,ShareOfSearch_Volume!$C$1:$D$1000,2,FALSE),\"\")","v":""}]
[{"$f":"IF(ISTEXT(ShareOfSearch_SERPS!C1507),ShareOfSearch_SERPS!C1507,\"\")","v":""},{"$f":"IF(ISTEXT(ShareOfSearch_SERPS!D1507),ShareOfSearch_SERPS!D1507,\"\")","v":""},{"$f":"IF(NOT(ISBLANK(ShareOfSearch_SERPS!A1507)),ShareOfSearch_SERPS!A1507,\"\")","v":""},{"$f":"IF(NOT(ISBLANK(ShareOfSearch_SERPS!G1507)),ShareOfSearch_SERPS!G1507,\"\")","v":""},{"$f":"IF(NOT(ISBLANK(ShareOfSearch_SERPS!K1507)),ShareOfSearch_SERPS!K1507,\"\")","v":""},{"$f":"IFERROR(VLOOKUP(C1507,ShareOfSearch_CTR!$A$1:$B$100,2,FALSE)*VLOOKUP(A1507&B1507,ShareOfSearch_Volume!$C$1:$D$1000,2,FALSE),\"\")","v":""}]
[{"$f":"IF(ISTEXT(ShareOfSearch_SERPS!C1508),ShareOfSearch_SERPS!C1508,\"\")","v":""},{"$f":"IF(ISTEXT(ShareOfSearch_SERPS!D1508),ShareOfSearch_SERPS!D1508,\"\")","v":""},{"$f":"IF(NOT(ISBLANK(ShareOfSearch_SERPS!A1508)),ShareOfSearch_SERPS!A1508,\"\")","v":""},{"$f":"IF(NOT(ISBLANK(ShareOfSearch_SERPS!G1508)),ShareOfSearch_SERPS!G1508,\"\")","v":""},{"$f":"IF(NOT(ISBLANK(ShareOfSearch_SERPS!K1508)),ShareOfSearch_SERPS!K1508,\"\")","v":""},{"$f":"IFERROR(VLOOKUP(C1508,ShareOfSearch_CTR!$A$1:$B$100,2,FALSE)*VLOOKUP(A1508&B1508,ShareOfSearch_Volume!$C$1:$D$1000,2,FALSE),\"\")","v":""}]
[{"$f":"IF(ISTEXT(ShareOfSearch_SERPS!C1509),ShareOfSearch_SERPS!C1509,\"\")","v":""},{"$f":"IF(ISTEXT(ShareOfSearch_SERPS!D1509),ShareOfSearch_SERPS!D1509,\"\")","v":""},{"$f":"IF(NOT(ISBLANK(ShareOfSearch_SERPS!A1509)),ShareOfSearch_SERPS!A1509,\"\")","v":""},{"$f":"IF(NOT(ISBLANK(ShareOfSearch_SERPS!G1509)),ShareOfSearch_SERPS!G1509,\"\")","v":""},{"$f":"IF(NOT(ISBLANK(ShareOfSearch_SERPS!K1509)),ShareOfSearch_SERPS!K1509,\"\")","v":""},{"$f":"IFERROR(VLOOKUP(C1509,ShareOfSearch_CTR!$A$1:$B$100,2,FALSE)*VLOOKUP(A1509&B1509,ShareOfSearch_Volume!$C$1:$D$1000,2,FALSE),\"\")","v":""}]
[{"$f":"IF(ISTEXT(ShareOfSearch_SERPS!C1510),ShareOfSearch_SERPS!C1510,\"\")","v":""},{"$f":"IF(ISTEXT(ShareOfSearch_SERPS!D1510),ShareOfSearch_SERPS!D1510,\"\")","v":""},{"$f":"IF(NOT(ISBLANK(ShareOfSearch_SERPS!A1510)),ShareOfSearch_SERPS!A1510,\"\")","v":""},{"$f":"IF(NOT(ISBLANK(ShareOfSearch_SERPS!G1510)),ShareOfSearch_SERPS!G1510,\"\")","v":""},{"$f":"IF(NOT(ISBLANK(ShareOfSearch_SERPS!K1510)),ShareOfSearch_SERPS!K1510,\"\")","v":""},{"$f":"IFERROR(VLOOKUP(C1510,ShareOfSearch_CTR!$A$1:$B$100,2,FALSE)*VLOOKUP(A1510&B1510,ShareOfSearch_Volume!$C$1:$D$1000,2,FALSE),\"\")","v":""}]
[{"$f":"IF(ISTEXT(ShareOfSearch_SERPS!C1511),ShareOfSearch_SERPS!C1511,\"\")","v":""},{"$f":"IF(ISTEXT(ShareOfSearch_SERPS!D1511),ShareOfSearch_SERPS!D1511,\"\")","v":""},{"$f":"IF(NOT(ISBLANK(ShareOfSearch_SERPS!A1511)),ShareOfSearch_SERPS!A1511,\"\")","v":""},{"$f":"IF(NOT(ISBLANK(ShareOfSearch_SERPS!G1511)),ShareOfSearch_SERPS!G1511,\"\")","v":""},{"$f":"IF(NOT(ISBLANK(ShareOfSearch_SERPS!K1511)),ShareOfSearch_SERPS!K1511,\"\")","v":""},{"$f":"IFERROR(VLOOKUP(C1511,ShareOfSearch_CTR!$A$1:$B$100,2,FALSE)*VLOOKUP(A1511&B1511,ShareOfSearch_Volume!$C$1:$D$1000,2,FALSE),\"\")","v":""}]
[{"$f":"IF(ISTEXT(ShareOfSearch_SERPS!C1512),ShareOfSearch_SERPS!C1512,\"\")","v":""},{"$f":"IF(ISTEXT(ShareOfSearch_SERPS!D1512),ShareOfSearch_SERPS!D1512,\"\")","v":""},{"$f":"IF(NOT(ISBLANK(ShareOfSearch_SERPS!A1512)),ShareOfSearch_SERPS!A1512,\"\")","v":""},{"$f":"IF(NOT(ISBLANK(ShareOfSearch_SERPS!G1512)),ShareOfSearch_SERPS!G1512,\"\")","v":""},{"$f":"IF(NOT(ISBLANK(ShareOfSearch_SERPS!K1512)),ShareOfSearch_SERPS!K1512,\"\")","v":""},{"$f":"IFERROR(VLOOKUP(C1512,ShareOfSearch_CTR!$A$1:$B$100,2,FALSE)*VLOOKUP(A1512&B1512,ShareOfSearch_Volume!$C$1:$D$1000,2,FALSE),\"\")","v":""}]
[{"$f":"IF(ISTEXT(ShareOfSearch_SERPS!C1513),ShareOfSearch_SERPS!C1513,\"\")","v":""},{"$f":"IF(ISTEXT(ShareOfSearch_SERPS!D1513),ShareOfSearch_SERPS!D1513,\"\")","v":""},{"$f":"IF(NOT(ISBLANK(ShareOfSearch_SERPS!A1513)),ShareOfSearch_SERPS!A1513,\"\")","v":""},{"$f":"IF(NOT(ISBLANK(ShareOfSearch_SERPS!G1513)),ShareOfSearch_SERPS!G1513,\"\")","v":""},{"$f":"IF(NOT(ISBLANK(ShareOfSearch_SERPS!K1513)),ShareOfSearch_SERPS!K1513,\"\")","v":""},{"$f":"IFERROR(VLOOKUP(C1513,ShareOfSearch_CTR!$A$1:$B$100,2,FALSE)*VLOOKUP(A1513&B1513,ShareOfSearch_Volume!$C$1:$D$1000,2,FALSE),\"\")","v":""}]
[{"$f":"IF(ISTEXT(ShareOfSearch_SERPS!C1514),ShareOfSearch_SERPS!C1514,\"\")","v":""},{"$f":"IF(ISTEXT(ShareOfSearch_SERPS!D1514),ShareOfSearch_SERPS!D1514,\"\")","v":""},{"$f":"IF(NOT(ISBLANK(ShareOfSearch_SERPS!A1514)),ShareOfSearch_SERPS!A1514,\"\")","v":""},{"$f":"IF(NOT(ISBLANK(ShareOfSearch_SERPS!G1514)),ShareOfSearch_SERPS!G1514,\"\")","v":""},{"$f":"IF(NOT(ISBLANK(ShareOfSearch_SERPS!K1514)),ShareOfSearch_SERPS!K1514,\"\")","v":""},{"$f":"IFERROR(VLOOKUP(C1514,ShareOfSearch_CTR!$A$1:$B$100,2,FALSE)*VLOOKUP(A1514&B1514,ShareOfSearch_Volume!$C$1:$D$1000,2,FALSE),\"\")","v":""}]
[{"$f":"IF(ISTEXT(ShareOfSearch_SERPS!C1515),ShareOfSearch_SERPS!C1515,\"\")","v":""},{"$f":"IF(ISTEXT(ShareOfSearch_SERPS!D1515),ShareOfSearch_SERPS!D1515,\"\")","v":""},{"$f":"IF(NOT(ISBLANK(ShareOfSearch_SERPS!A1515)),ShareOfSearch_SERPS!A1515,\"\")","v":""},{"$f":"IF(NOT(ISBLANK(ShareOfSearch_SERPS!G1515)),ShareOfSearch_SERPS!G1515,\"\")","v":""},{"$f":"IF(NOT(ISBLANK(ShareOfSearch_SERPS!K1515)),ShareOfSearch_SERPS!K1515,\"\")","v":""},{"$f":"IFERROR(VLOOKUP(C1515,ShareOfSearch_CTR!$A$1:$B$100,2,FALSE)*VLOOKUP(A1515&B1515,ShareOfSearch_Volume!$C$1:$D$1000,2,FALSE),\"\")","v":""}]
[{"$f":"IF(ISTEXT(ShareOfSearch_SERPS!C1516),ShareOfSearch_SERPS!C1516,\"\")","v":""},{"$f":"IF(ISTEXT(ShareOfSearch_SERPS!D1516),ShareOfSearch_SERPS!D1516,\"\")","v":""},{"$f":"IF(NOT(ISBLANK(ShareOfSearch_SERPS!A1516)),ShareOfSearch_SERPS!A1516,\"\")","v":""},{"$f":"IF(NOT(ISBLANK(ShareOfSearch_SERPS!G1516)),ShareOfSearch_SERPS!G1516,\"\")","v":""},{"$f":"IF(NOT(ISBLANK(ShareOfSearch_SERPS!K1516)),ShareOfSearch_SERPS!K1516,\"\")","v":""},{"$f":"IFERROR(VLOOKUP(C1516,ShareOfSearch_CTR!$A$1:$B$100,2,FALSE)*VLOOKUP(A1516&B1516,ShareOfSearch_Volume!$C$1:$D$1000,2,FALSE),\"\")","v":""}]
[{"$f":"IF(ISTEXT(ShareOfSearch_SERPS!C1517),ShareOfSearch_SERPS!C1517,\"\")","v":""},{"$f":"IF(ISTEXT(ShareOfSearch_SERPS!D1517),ShareOfSearch_SERPS!D1517,\"\")","v":""},{"$f":"IF(NOT(ISBLANK(ShareOfSearch_SERPS!A1517)),ShareOfSearch_SERPS!A1517,\"\")","v":""},{"$f":"IF(NOT(ISBLANK(ShareOfSearch_SERPS!G1517)),ShareOfSearch_SERPS!G1517,\"\")","v":""},{"$f":"IF(NOT(ISBLANK(ShareOfSearch_SERPS!K1517)),ShareOfSearch_SERPS!K1517,\"\")","v":""},{"$f":"IFERROR(VLOOKUP(C1517,ShareOfSearch_CTR!$A$1:$B$100,2,FALSE)*VLOOKUP(A1517&B1517,ShareOfSearch_Volume!$C$1:$D$1000,2,FALSE),\"\")","v":""}]
[{"$f":"IF(ISTEXT(ShareOfSearch_SERPS!C1518),ShareOfSearch_SERPS!C1518,\"\")","v":""},{"$f":"IF(ISTEXT(ShareOfSearch_SERPS!D1518),ShareOfSearch_SERPS!D1518,\"\")","v":""},{"$f":"IF(NOT(ISBLANK(ShareOfSearch_SERPS!A1518)),ShareOfSearch_SERPS!A1518,\"\")","v":""},{"$f":"IF(NOT(ISBLANK(ShareOfSearch_SERPS!G1518)),ShareOfSearch_SERPS!G1518,\"\")","v":""},{"$f":"IF(NOT(ISBLANK(ShareOfSearch_SERPS!K1518)),ShareOfSearch_SERPS!K1518,\"\")","v":""},{"$f":"IFERROR(VLOOKUP(C1518,ShareOfSearch_CTR!$A$1:$B$100,2,FALSE)*VLOOKUP(A1518&B1518,ShareOfSearch_Volume!$C$1:$D$1000,2,FALSE),\"\")","v":""}]
[{"$f":"IF(ISTEXT(ShareOfSearch_SERPS!C1519),ShareOfSearch_SERPS!C1519,\"\")","v":""},{"$f":"IF(ISTEXT(ShareOfSearch_SERPS!D1519),ShareOfSearch_SERPS!D1519,\"\")","v":""},{"$f":"IF(NOT(ISBLANK(ShareOfSearch_SERPS!A1519)),ShareOfSearch_SERPS!A1519,\"\")","v":""},{"$f":"IF(NOT(ISBLANK(ShareOfSearch_SERPS!G1519)),ShareOfSearch_SERPS!G1519,\"\")","v":""},{"$f":"IF(NOT(ISBLANK(ShareOfSearch_SERPS!K1519)),ShareOfSearch_SERPS!K1519,\"\")","v":""},{"$f":"IFERROR(VLOOKUP(C1519,ShareOfSearch_CTR!$A$1:$B$100,2,FALSE)*VLOOKUP(A1519&B1519,ShareOfSearch_Volume!$C$1:$D$1000,2,FALSE),\"\")","v":""}]
[{"$f":"IF(ISTEXT(ShareOfSearch_SERPS!C1520),ShareOfSearch_SERPS!C1520,\"\")","v":""},{"$f":"IF(ISTEXT(ShareOfSearch_SERPS!D1520),ShareOfSearch_SERPS!D1520,\"\")","v":""},{"$f":"IF(NOT(ISBLANK(ShareOfSearch_SERPS!A1520)),ShareOfSearch_SERPS!A1520,\"\")","v":""},{"$f":"IF(NOT(ISBLANK(ShareOfSearch_SERPS!G1520)),ShareOfSearch_SERPS!G1520,\"\")","v":""},{"$f":"IF(NOT(ISBLANK(ShareOfSearch_SERPS!K1520)),ShareOfSearch_SERPS!K1520,\"\")","v":""},{"$f":"IFERROR(VLOOKUP(C1520,ShareOfSearch_CTR!$A$1:$B$100,2,FALSE)*VLOOKUP(A1520&B1520,ShareOfSearch_Volume!$C$1:$D$1000,2,FALSE),\"\")","v":""}]
[{"$f":"IF(ISTEXT(ShareOfSearch_SERPS!C1521),ShareOfSearch_SERPS!C1521,\"\")","v":""},{"$f":"IF(ISTEXT(ShareOfSearch_SERPS!D1521),ShareOfSearch_SERPS!D1521,\"\")","v":""},{"$f":"IF(NOT(ISBLANK(ShareOfSearch_SERPS!A1521)),ShareOfSearch_SERPS!A1521,\"\")","v":""},{"$f":"IF(NOT(ISBLANK(ShareOfSearch_SERPS!G1521)),ShareOfSearch_SERPS!G1521,\"\")","v":""},{"$f":"IF(NOT(ISBLANK(ShareOfSearch_SERPS!K1521)),ShareOfSearch_SERPS!K1521,\"\")","v":""},{"$f":"IFERROR(VLOOKUP(C1521,ShareOfSearch_CTR!$A$1:$B$100,2,FALSE)*VLOOKUP(A1521&B1521,ShareOfSearch_Volume!$C$1:$D$1000,2,FALSE),\"\")","v":""}]
[{"$f":"IF(ISTEXT(ShareOfSearch_SERPS!C1522),ShareOfSearch_SERPS!C1522,\"\")","v":""},{"$f":"IF(ISTEXT(ShareOfSearch_SERPS!D1522),ShareOfSearch_SERPS!D1522,\"\")","v":""},{"$f":"IF(NOT(ISBLANK(ShareOfSearch_SERPS!A1522)),ShareOfSearch_SERPS!A1522,\"\")","v":""},{"$f":"IF(NOT(ISBLANK(ShareOfSearch_SERPS!G1522)),ShareOfSearch_SERPS!G1522,\"\")","v":""},{"$f":"IF(NOT(ISBLANK(ShareOfSearch_SERPS!K1522)),ShareOfSearch_SERPS!K1522,\"\")","v":""},{"$f":"IFERROR(VLOOKUP(C1522,ShareOfSearch_CTR!$A$1:$B$100,2,FALSE)*VLOOKUP(A1522&B1522,ShareOfSearch_Volume!$C$1:$D$1000,2,FALSE),\"\")","v":""}]
[{"$f":"IF(ISTEXT(ShareOfSearch_SERPS!C1523),ShareOfSearch_SERPS!C1523,\"\")","v":""},{"$f":"IF(ISTEXT(ShareOfSearch_SERPS!D1523),ShareOfSearch_SERPS!D1523,\"\")","v":""},{"$f":"IF(NOT(ISBLANK(ShareOfSearch_SERPS!A1523)),ShareOfSearch_SERPS!A1523,\"\")","v":""},{"$f":"IF(NOT(ISBLANK(ShareOfSearch_SERPS!G1523)),ShareOfSearch_SERPS!G1523,\"\")","v":""},{"$f":"IF(NOT(ISBLANK(ShareOfSearch_SERPS!K1523)),ShareOfSearch_SERPS!K1523,\"\")","v":""},{"$f":"IFERROR(VLOOKUP(C1523,ShareOfSearch_CTR!$A$1:$B$100,2,FALSE)*VLOOKUP(A1523&B1523,ShareOfSearch_Volume!$C$1:$D$1000,2,FALSE),\"\")","v":""}]
[{"$f":"IF(ISTEXT(ShareOfSearch_SERPS!C1524),ShareOfSearch_SERPS!C1524,\"\")","v":""},{"$f":"IF(ISTEXT(ShareOfSearch_SERPS!D1524),ShareOfSearch_SERPS!D1524,\"\")","v":""},{"$f":"IF(NOT(ISBLANK(ShareOfSearch_SERPS!A1524)),ShareOfSearch_SERPS!A1524,\"\")","v":""},{"$f":"IF(NOT(ISBLANK(ShareOfSearch_SERPS!G1524)),ShareOfSearch_SERPS!G1524,\"\")","v":""},{"$f":"IF(NOT(ISBLANK(ShareOfSearch_SERPS!K1524)),ShareOfSearch_SERPS!K1524,\"\")","v":""},{"$f":"IFERROR(VLOOKUP(C1524,ShareOfSearch_CTR!$A$1:$B$100,2,FALSE)*VLOOKUP(A1524&B1524,ShareOfSearch_Volume!$C$1:$D$1000,2,FALSE),\"\")","v":""}]
[{"$f":"IF(ISTEXT(ShareOfSearch_SERPS!C1525),ShareOfSearch_SERPS!C1525,\"\")","v":""},{"$f":"IF(ISTEXT(ShareOfSearch_SERPS!D1525),ShareOfSearch_SERPS!D1525,\"\")","v":""},{"$f":"IF(NOT(ISBLANK(ShareOfSearch_SERPS!A1525)),ShareOfSearch_SERPS!A1525,\"\")","v":""},{"$f":"IF(NOT(ISBLANK(ShareOfSearch_SERPS!G1525)),ShareOfSearch_SERPS!G1525,\"\")","v":""},{"$f":"IF(NOT(ISBLANK(ShareOfSearch_SERPS!K1525)),ShareOfSearch_SERPS!K1525,\"\")","v":""},{"$f":"IFERROR(VLOOKUP(C1525,ShareOfSearch_CTR!$A$1:$B$100,2,FALSE)*VLOOKUP(A1525&B1525,ShareOfSearch_Volume!$C$1:$D$1000,2,FALSE),\"\")","v":""}]
[{"$f":"IF(ISTEXT(ShareOfSearch_SERPS!C1526),ShareOfSearch_SERPS!C1526,\"\")","v":""},{"$f":"IF(ISTEXT(ShareOfSearch_SERPS!D1526),ShareOfSearch_SERPS!D1526,\"\")","v":""},{"$f":"IF(NOT(ISBLANK(ShareOfSearch_SERPS!A1526)),ShareOfSearch_SERPS!A1526,\"\")","v":""},{"$f":"IF(NOT(ISBLANK(ShareOfSearch_SERPS!G1526)),ShareOfSearch_SERPS!G1526,\"\")","v":""},{"$f":"IF(NOT(ISBLANK(ShareOfSearch_SERPS!K1526)),ShareOfSearch_SERPS!K1526,\"\")","v":""},{"$f":"IFERROR(VLOOKUP(C1526,ShareOfSearch_CTR!$A$1:$B$100,2,FALSE)*VLOOKUP(A1526&B1526,ShareOfSearch_Volume!$C$1:$D$1000,2,FALSE),\"\")","v":""}]
[{"$f":"IF(ISTEXT(ShareOfSearch_SERPS!C1527),ShareOfSearch_SERPS!C1527,\"\")","v":""},{"$f":"IF(ISTEXT(ShareOfSearch_SERPS!D1527),ShareOfSearch_SERPS!D1527,\"\")","v":""},{"$f":"IF(NOT(ISBLANK(ShareOfSearch_SERPS!A1527)),ShareOfSearch_SERPS!A1527,\"\")","v":""},{"$f":"IF(NOT(ISBLANK(ShareOfSearch_SERPS!G1527)),ShareOfSearch_SERPS!G1527,\"\")","v":""},{"$f":"IF(NOT(ISBLANK(ShareOfSearch_SERPS!K1527)),ShareOfSearch_SERPS!K1527,\"\")","v":""},{"$f":"IFERROR(VLOOKUP(C1527,ShareOfSearch_CTR!$A$1:$B$100,2,FALSE)*VLOOKUP(A1527&B1527,ShareOfSearch_Volume!$C$1:$D$1000,2,FALSE),\"\")","v":""}]
[{"$f":"IF(ISTEXT(ShareOfSearch_SERPS!C1528),ShareOfSearch_SERPS!C1528,\"\")","v":""},{"$f":"IF(ISTEXT(ShareOfSearch_SERPS!D1528),ShareOfSearch_SERPS!D1528,\"\")","v":""},{"$f":"IF(NOT(ISBLANK(ShareOfSearch_SERPS!A1528)),ShareOfSearch_SERPS!A1528,\"\")","v":""},{"$f":"IF(NOT(ISBLANK(ShareOfSearch_SERPS!G1528)),ShareOfSearch_SERPS!G1528,\"\")","v":""},{"$f":"IF(NOT(ISBLANK(ShareOfSearch_SERPS!K1528)),ShareOfSearch_SERPS!K1528,\"\")","v":""},{"$f":"IFERROR(VLOOKUP(C1528,ShareOfSearch_CTR!$A$1:$B$100,2,FALSE)*VLOOKUP(A1528&B1528,ShareOfSearch_Volume!$C$1:$D$1000,2,FALSE),\"\")","v":""}]
[{"$f":"IF(ISTEXT(ShareOfSearch_SERPS!C1529),ShareOfSearch_SERPS!C1529,\"\")","v":""},{"$f":"IF(ISTEXT(ShareOfSearch_SERPS!D1529),ShareOfSearch_SERPS!D1529,\"\")","v":""},{"$f":"IF(NOT(ISBLANK(ShareOfSearch_SERPS!A1529)),ShareOfSearch_SERPS!A1529,\"\")","v":""},{"$f":"IF(NOT(ISBLANK(ShareOfSearch_SERPS!G1529)),ShareOfSearch_SERPS!G1529,\"\")","v":""},{"$f":"IF(NOT(ISBLANK(ShareOfSearch_SERPS!K1529)),ShareOfSearch_SERPS!K1529,\"\")","v":""},{"$f":"IFERROR(VLOOKUP(C1529,ShareOfSearch_CTR!$A$1:$B$100,2,FALSE)*VLOOKUP(A1529&B1529,ShareOfSearch_Volume!$C$1:$D$1000,2,FALSE),\"\")","v":""}]
[{"$f":"IF(ISTEXT(ShareOfSearch_SERPS!C1530),ShareOfSearch_SERPS!C1530,\"\")","v":""},{"$f":"IF(ISTEXT(ShareOfSearch_SERPS!D1530),ShareOfSearch_SERPS!D1530,\"\")","v":""},{"$f":"IF(NOT(ISBLANK(ShareOfSearch_SERPS!A1530)),ShareOfSearch_SERPS!A1530,\"\")","v":""},{"$f":"IF(NOT(ISBLANK(ShareOfSearch_SERPS!G1530)),ShareOfSearch_SERPS!G1530,\"\")","v":""},{"$f":"IF(NOT(ISBLANK(ShareOfSearch_SERPS!K1530)),ShareOfSearch_SERPS!K1530,\"\")","v":""},{"$f":"IFERROR(VLOOKUP(C1530,ShareOfSearch_CTR!$A$1:$B$100,2,FALSE)*VLOOKUP(A1530&B1530,ShareOfSearch_Volume!$C$1:$D$1000,2,FALSE),\"\")","v":""}]
[{"$f":"IF(ISTEXT(ShareOfSearch_SERPS!C1531),ShareOfSearch_SERPS!C1531,\"\")","v":""},{"$f":"IF(ISTEXT(ShareOfSearch_SERPS!D1531),ShareOfSearch_SERPS!D1531,\"\")","v":""},{"$f":"IF(NOT(ISBLANK(ShareOfSearch_SERPS!A1531)),ShareOfSearch_SERPS!A1531,\"\")","v":""},{"$f":"IF(NOT(ISBLANK(ShareOfSearch_SERPS!G1531)),ShareOfSearch_SERPS!G1531,\"\")","v":""},{"$f":"IF(NOT(ISBLANK(ShareOfSearch_SERPS!K1531)),ShareOfSearch_SERPS!K1531,\"\")","v":""},{"$f":"IFERROR(VLOOKUP(C1531,ShareOfSearch_CTR!$A$1:$B$100,2,FALSE)*VLOOKUP(A1531&B1531,ShareOfSearch_Volume!$C$1:$D$1000,2,FALSE),\"\")","v":""}]
[{"$f":"IF(ISTEXT(ShareOfSearch_SERPS!C1532),ShareOfSearch_SERPS!C1532,\"\")","v":""},{"$f":"IF(ISTEXT(ShareOfSearch_SERPS!D1532),ShareOfSearch_SERPS!D1532,\"\")","v":""},{"$f":"IF(NOT(ISBLANK(ShareOfSearch_SERPS!A1532)),ShareOfSearch_SERPS!A1532,\"\")","v":""},{"$f":"IF(NOT(ISBLANK(ShareOfSearch_SERPS!G1532)),ShareOfSearch_SERPS!G1532,\"\")","v":""},{"$f":"IF(NOT(ISBLANK(ShareOfSearch_SERPS!K1532)),ShareOfSearch_SERPS!K1532,\"\")","v":""},{"$f":"IFERROR(VLOOKUP(C1532,ShareOfSearch_CTR!$A$1:$B$100,2,FALSE)*VLOOKUP(A1532&B1532,ShareOfSearch_Volume!$C$1:$D$1000,2,FALSE),\"\")","v":""}]
[{"$f":"IF(ISTEXT(ShareOfSearch_SERPS!C1533),ShareOfSearch_SERPS!C1533,\"\")","v":""},{"$f":"IF(ISTEXT(ShareOfSearch_SERPS!D1533),ShareOfSearch_SERPS!D1533,\"\")","v":""},{"$f":"IF(NOT(ISBLANK(ShareOfSearch_SERPS!A1533)),ShareOfSearch_SERPS!A1533,\"\")","v":""},{"$f":"IF(NOT(ISBLANK(ShareOfSearch_SERPS!G1533)),ShareOfSearch_SERPS!G1533,\"\")","v":""},{"$f":"IF(NOT(ISBLANK(ShareOfSearch_SERPS!K1533)),ShareOfSearch_SERPS!K1533,\"\")","v":""},{"$f":"IFERROR(VLOOKUP(C1533,ShareOfSearch_CTR!$A$1:$B$100,2,FALSE)*VLOOKUP(A1533&B1533,ShareOfSearch_Volume!$C$1:$D$1000,2,FALSE),\"\")","v":""}]
[{"$f":"IF(ISTEXT(ShareOfSearch_SERPS!C1534),ShareOfSearch_SERPS!C1534,\"\")","v":""},{"$f":"IF(ISTEXT(ShareOfSearch_SERPS!D1534),ShareOfSearch_SERPS!D1534,\"\")","v":""},{"$f":"IF(NOT(ISBLANK(ShareOfSearch_SERPS!A1534)),ShareOfSearch_SERPS!A1534,\"\")","v":""},{"$f":"IF(NOT(ISBLANK(ShareOfSearch_SERPS!G1534)),ShareOfSearch_SERPS!G1534,\"\")","v":""},{"$f":"IF(NOT(ISBLANK(ShareOfSearch_SERPS!K1534)),ShareOfSearch_SERPS!K1534,\"\")","v":""},{"$f":"IFERROR(VLOOKUP(C1534,ShareOfSearch_CTR!$A$1:$B$100,2,FALSE)*VLOOKUP(A1534&B1534,ShareOfSearch_Volume!$C$1:$D$1000,2,FALSE),\"\")","v":""}]
[{"$f":"IF(ISTEXT(ShareOfSearch_SERPS!C1535),ShareOfSearch_SERPS!C1535,\"\")","v":""},{"$f":"IF(ISTEXT(ShareOfSearch_SERPS!D1535),ShareOfSearch_SERPS!D1535,\"\")","v":""},{"$f":"IF(NOT(ISBLANK(ShareOfSearch_SERPS!A1535)),ShareOfSearch_SERPS!A1535,\"\")","v":""},{"$f":"IF(NOT(ISBLANK(ShareOfSearch_SERPS!G1535)),ShareOfSearch_SERPS!G1535,\"\")","v":""},{"$f":"IF(NOT(ISBLANK(ShareOfSearch_SERPS!K1535)),ShareOfSearch_SERPS!K1535,\"\")","v":""},{"$f":"IFERROR(VLOOKUP(C1535,ShareOfSearch_CTR!$A$1:$B$100,2,FALSE)*VLOOKUP(A1535&B1535,ShareOfSearch_Volume!$C$1:$D$1000,2,FALSE),\"\")","v":""}]
[{"$f":"IF(ISTEXT(ShareOfSearch_SERPS!C1536),ShareOfSearch_SERPS!C1536,\"\")","v":""},{"$f":"IF(ISTEXT(ShareOfSearch_SERPS!D1536),ShareOfSearch_SERPS!D1536,\"\")","v":""},{"$f":"IF(NOT(ISBLANK(ShareOfSearch_SERPS!A1536)),ShareOfSearch_SERPS!A1536,\"\")","v":""},{"$f":"IF(NOT(ISBLANK(ShareOfSearch_SERPS!G1536)),ShareOfSearch_SERPS!G1536,\"\")","v":""},{"$f":"IF(NOT(ISBLANK(ShareOfSearch_SERPS!K1536)),ShareOfSearch_SERPS!K1536,\"\")","v":""},{"$f":"IFERROR(VLOOKUP(C1536,ShareOfSearch_CTR!$A$1:$B$100,2,FALSE)*VLOOKUP(A1536&B1536,ShareOfSearch_Volume!$C$1:$D$1000,2,FALSE),\"\")","v":""}]
[{"$f":"IF(ISTEXT(ShareOfSearch_SERPS!C1537),ShareOfSearch_SERPS!C1537,\"\")","v":""},{"$f":"IF(ISTEXT(ShareOfSearch_SERPS!D1537),ShareOfSearch_SERPS!D1537,\"\")","v":""},{"$f":"IF(NOT(ISBLANK(ShareOfSearch_SERPS!A1537)),ShareOfSearch_SERPS!A1537,\"\")","v":""},{"$f":"IF(NOT(ISBLANK(ShareOfSearch_SERPS!G1537)),ShareOfSearch_SERPS!G1537,\"\")","v":""},{"$f":"IF(NOT(ISBLANK(ShareOfSearch_SERPS!K1537)),ShareOfSearch_SERPS!K1537,\"\")","v":""},{"$f":"IFERROR(VLOOKUP(C1537,ShareOfSearch_CTR!$A$1:$B$100,2,FALSE)*VLOOKUP(A1537&B1537,ShareOfSearch_Volume!$C$1:$D$1000,2,FALSE),\"\")","v":""}]
[{"$f":"IF(ISTEXT(ShareOfSearch_SERPS!C1538),ShareOfSearch_SERPS!C1538,\"\")","v":""},{"$f":"IF(ISTEXT(ShareOfSearch_SERPS!D1538),ShareOfSearch_SERPS!D1538,\"\")","v":""},{"$f":"IF(NOT(ISBLANK(ShareOfSearch_SERPS!A1538)),ShareOfSearch_SERPS!A1538,\"\")","v":""},{"$f":"IF(NOT(ISBLANK(ShareOfSearch_SERPS!G1538)),ShareOfSearch_SERPS!G1538,\"\")","v":""},{"$f":"IF(NOT(ISBLANK(ShareOfSearch_SERPS!K1538)),ShareOfSearch_SERPS!K1538,\"\")","v":""},{"$f":"IFERROR(VLOOKUP(C1538,ShareOfSearch_CTR!$A$1:$B$100,2,FALSE)*VLOOKUP(A1538&B1538,ShareOfSearch_Volume!$C$1:$D$1000,2,FALSE),\"\")","v":""}]
[{"$f":"IF(ISTEXT(ShareOfSearch_SERPS!C1539),ShareOfSearch_SERPS!C1539,\"\")","v":""},{"$f":"IF(ISTEXT(ShareOfSearch_SERPS!D1539),ShareOfSearch_SERPS!D1539,\"\")","v":""},{"$f":"IF(NOT(ISBLANK(ShareOfSearch_SERPS!A1539)),ShareOfSearch_SERPS!A1539,\"\")","v":""},{"$f":"IF(NOT(ISBLANK(ShareOfSearch_SERPS!G1539)),ShareOfSearch_SERPS!G1539,\"\")","v":""},{"$f":"IF(NOT(ISBLANK(ShareOfSearch_SERPS!K1539)),ShareOfSearch_SERPS!K1539,\"\")","v":""},{"$f":"IFERROR(VLOOKUP(C1539,ShareOfSearch_CTR!$A$1:$B$100,2,FALSE)*VLOOKUP(A1539&B1539,ShareOfSearch_Volume!$C$1:$D$1000,2,FALSE),\"\")","v":""}]
[{"$f":"IF(ISTEXT(ShareOfSearch_SERPS!C1540),ShareOfSearch_SERPS!C1540,\"\")","v":""},{"$f":"IF(ISTEXT(ShareOfSearch_SERPS!D1540),ShareOfSearch_SERPS!D1540,\"\")","v":""},{"$f":"IF(NOT(ISBLANK(ShareOfSearch_SERPS!A1540)),ShareOfSearch_SERPS!A1540,\"\")","v":""},{"$f":"IF(NOT(ISBLANK(ShareOfSearch_SERPS!G1540)),ShareOfSearch_SERPS!G1540,\"\")","v":""},{"$f":"IF(NOT(ISBLANK(ShareOfSearch_SERPS!K1540)),ShareOfSearch_SERPS!K1540,\"\")","v":""},{"$f":"IFERROR(VLOOKUP(C1540,ShareOfSearch_CTR!$A$1:$B$100,2,FALSE)*VLOOKUP(A1540&B1540,ShareOfSearch_Volume!$C$1:$D$1000,2,FALSE),\"\")","v":""}]
[{"$f":"IF(ISTEXT(ShareOfSearch_SERPS!C1541),ShareOfSearch_SERPS!C1541,\"\")","v":""},{"$f":"IF(ISTEXT(ShareOfSearch_SERPS!D1541),ShareOfSearch_SERPS!D1541,\"\")","v":""},{"$f":"IF(NOT(ISBLANK(ShareOfSearch_SERPS!A1541)),ShareOfSearch_SERPS!A1541,\"\")","v":""},{"$f":"IF(NOT(ISBLANK(ShareOfSearch_SERPS!G1541)),ShareOfSearch_SERPS!G1541,\"\")","v":""},{"$f":"IF(NOT(ISBLANK(ShareOfSearch_SERPS!K1541)),ShareOfSearch_SERPS!K1541,\"\")","v":""},{"$f":"IFERROR(VLOOKUP(C1541,ShareOfSearch_CTR!$A$1:$B$100,2,FALSE)*VLOOKUP(A1541&B1541,ShareOfSearch_Volume!$C$1:$D$1000,2,FALSE),\"\")","v":""}]
[{"$f":"IF(ISTEXT(ShareOfSearch_SERPS!C1542),ShareOfSearch_SERPS!C1542,\"\")","v":""},{"$f":"IF(ISTEXT(ShareOfSearch_SERPS!D1542),ShareOfSearch_SERPS!D1542,\"\")","v":""},{"$f":"IF(NOT(ISBLANK(ShareOfSearch_SERPS!A1542)),ShareOfSearch_SERPS!A1542,\"\")","v":""},{"$f":"IF(NOT(ISBLANK(ShareOfSearch_SERPS!G1542)),ShareOfSearch_SERPS!G1542,\"\")","v":""},{"$f":"IF(NOT(ISBLANK(ShareOfSearch_SERPS!K1542)),ShareOfSearch_SERPS!K1542,\"\")","v":""},{"$f":"IFERROR(VLOOKUP(C1542,ShareOfSearch_CTR!$A$1:$B$100,2,FALSE)*VLOOKUP(A1542&B1542,ShareOfSearch_Volume!$C$1:$D$1000,2,FALSE),\"\")","v":""}]
[{"$f":"IF(ISTEXT(ShareOfSearch_SERPS!C1543),ShareOfSearch_SERPS!C1543,\"\")","v":""},{"$f":"IF(ISTEXT(ShareOfSearch_SERPS!D1543),ShareOfSearch_SERPS!D1543,\"\")","v":""},{"$f":"IF(NOT(ISBLANK(ShareOfSearch_SERPS!A1543)),ShareOfSearch_SERPS!A1543,\"\")","v":""},{"$f":"IF(NOT(ISBLANK(ShareOfSearch_SERPS!G1543)),ShareOfSearch_SERPS!G1543,\"\")","v":""},{"$f":"IF(NOT(ISBLANK(ShareOfSearch_SERPS!K1543)),ShareOfSearch_SERPS!K1543,\"\")","v":""},{"$f":"IFERROR(VLOOKUP(C1543,ShareOfSearch_CTR!$A$1:$B$100,2,FALSE)*VLOOKUP(A1543&B1543,ShareOfSearch_Volume!$C$1:$D$1000,2,FALSE),\"\")","v":""}]
[{"$f":"IF(ISTEXT(ShareOfSearch_SERPS!C1544),ShareOfSearch_SERPS!C1544,\"\")","v":""},{"$f":"IF(ISTEXT(ShareOfSearch_SERPS!D1544),ShareOfSearch_SERPS!D1544,\"\")","v":""},{"$f":"IF(NOT(ISBLANK(ShareOfSearch_SERPS!A1544)),ShareOfSearch_SERPS!A1544,\"\")","v":""},{"$f":"IF(NOT(ISBLANK(ShareOfSearch_SERPS!G1544)),ShareOfSearch_SERPS!G1544,\"\")","v":""},{"$f":"IF(NOT(ISBLANK(ShareOfSearch_SERPS!K1544)),ShareOfSearch_SERPS!K1544,\"\")","v":""},{"$f":"IFERROR(VLOOKUP(C1544,ShareOfSearch_CTR!$A$1:$B$100,2,FALSE)*VLOOKUP(A1544&B1544,ShareOfSearch_Volume!$C$1:$D$1000,2,FALSE),\"\")","v":""}]
[{"$f":"IF(ISTEXT(ShareOfSearch_SERPS!C1545),ShareOfSearch_SERPS!C1545,\"\")","v":""},{"$f":"IF(ISTEXT(ShareOfSearch_SERPS!D1545),ShareOfSearch_SERPS!D1545,\"\")","v":""},{"$f":"IF(NOT(ISBLANK(ShareOfSearch_SERPS!A1545)),ShareOfSearch_SERPS!A1545,\"\")","v":""},{"$f":"IF(NOT(ISBLANK(ShareOfSearch_SERPS!G1545)),ShareOfSearch_SERPS!G1545,\"\")","v":""},{"$f":"IF(NOT(ISBLANK(ShareOfSearch_SERPS!K1545)),ShareOfSearch_SERPS!K1545,\"\")","v":""},{"$f":"IFERROR(VLOOKUP(C1545,ShareOfSearch_CTR!$A$1:$B$100,2,FALSE)*VLOOKUP(A1545&B1545,ShareOfSearch_Volume!$C$1:$D$1000,2,FALSE),\"\")","v":""}]
[{"$f":"IF(ISTEXT(ShareOfSearch_SERPS!C1546),ShareOfSearch_SERPS!C1546,\"\")","v":""},{"$f":"IF(ISTEXT(ShareOfSearch_SERPS!D1546),ShareOfSearch_SERPS!D1546,\"\")","v":""},{"$f":"IF(NOT(ISBLANK(ShareOfSearch_SERPS!A1546)),ShareOfSearch_SERPS!A1546,\"\")","v":""},{"$f":"IF(NOT(ISBLANK(ShareOfSearch_SERPS!G1546)),ShareOfSearch_SERPS!G1546,\"\")","v":""},{"$f":"IF(NOT(ISBLANK(ShareOfSearch_SERPS!K1546)),ShareOfSearch_SERPS!K1546,\"\")","v":""},{"$f":"IFERROR(VLOOKUP(C1546,ShareOfSearch_CTR!$A$1:$B$100,2,FALSE)*VLOOKUP(A1546&B1546,ShareOfSearch_Volume!$C$1:$D$1000,2,FALSE),\"\")","v":""}]
[{"$f":"IF(ISTEXT(ShareOfSearch_SERPS!C1547),ShareOfSearch_SERPS!C1547,\"\")","v":""},{"$f":"IF(ISTEXT(ShareOfSearch_SERPS!D1547),ShareOfSearch_SERPS!D1547,\"\")","v":""},{"$f":"IF(NOT(ISBLANK(ShareOfSearch_SERPS!A1547)),ShareOfSearch_SERPS!A1547,\"\")","v":""},{"$f":"IF(NOT(ISBLANK(ShareOfSearch_SERPS!G1547)),ShareOfSearch_SERPS!G1547,\"\")","v":""},{"$f":"IF(NOT(ISBLANK(ShareOfSearch_SERPS!K1547)),ShareOfSearch_SERPS!K1547,\"\")","v":""},{"$f":"IFERROR(VLOOKUP(C1547,ShareOfSearch_CTR!$A$1:$B$100,2,FALSE)*VLOOKUP(A1547&B1547,ShareOfSearch_Volume!$C$1:$D$1000,2,FALSE),\"\")","v":""}]
[{"$f":"IF(ISTEXT(ShareOfSearch_SERPS!C1548),ShareOfSearch_SERPS!C1548,\"\")","v":""},{"$f":"IF(ISTEXT(ShareOfSearch_SERPS!D1548),ShareOfSearch_SERPS!D1548,\"\")","v":""},{"$f":"IF(NOT(ISBLANK(ShareOfSearch_SERPS!A1548)),ShareOfSearch_SERPS!A1548,\"\")","v":""},{"$f":"IF(NOT(ISBLANK(ShareOfSearch_SERPS!G1548)),ShareOfSearch_SERPS!G1548,\"\")","v":""},{"$f":"IF(NOT(ISBLANK(ShareOfSearch_SERPS!K1548)),ShareOfSearch_SERPS!K1548,\"\")","v":""},{"$f":"IFERROR(VLOOKUP(C1548,ShareOfSearch_CTR!$A$1:$B$100,2,FALSE)*VLOOKUP(A1548&B1548,ShareOfSearch_Volume!$C$1:$D$1000,2,FALSE),\"\")","v":""}]
[{"$f":"IF(ISTEXT(ShareOfSearch_SERPS!C1549),ShareOfSearch_SERPS!C1549,\"\")","v":""},{"$f":"IF(ISTEXT(ShareOfSearch_SERPS!D1549),ShareOfSearch_SERPS!D1549,\"\")","v":""},{"$f":"IF(NOT(ISBLANK(ShareOfSearch_SERPS!A1549)),ShareOfSearch_SERPS!A1549,\"\")","v":""},{"$f":"IF(NOT(ISBLANK(ShareOfSearch_SERPS!G1549)),ShareOfSearch_SERPS!G1549,\"\")","v":""},{"$f":"IF(NOT(ISBLANK(ShareOfSearch_SERPS!K1549)),ShareOfSearch_SERPS!K1549,\"\")","v":""},{"$f":"IFERROR(VLOOKUP(C1549,ShareOfSearch_CTR!$A$1:$B$100,2,FALSE)*VLOOKUP(A1549&B1549,ShareOfSearch_Volume!$C$1:$D$1000,2,FALSE),\"\")","v":""}]
[{"$f":"IF(ISTEXT(ShareOfSearch_SERPS!C1550),ShareOfSearch_SERPS!C1550,\"\")","v":""},{"$f":"IF(ISTEXT(ShareOfSearch_SERPS!D1550),ShareOfSearch_SERPS!D1550,\"\")","v":""},{"$f":"IF(NOT(ISBLANK(ShareOfSearch_SERPS!A1550)),ShareOfSearch_SERPS!A1550,\"\")","v":""},{"$f":"IF(NOT(ISBLANK(ShareOfSearch_SERPS!G1550)),ShareOfSearch_SERPS!G1550,\"\")","v":""},{"$f":"IF(NOT(ISBLANK(ShareOfSearch_SERPS!K1550)),ShareOfSearch_SERPS!K1550,\"\")","v":""},{"$f":"IFERROR(VLOOKUP(C1550,ShareOfSearch_CTR!$A$1:$B$100,2,FALSE)*VLOOKUP(A1550&B1550,ShareOfSearch_Volume!$C$1:$D$1000,2,FALSE),\"\")","v":""}]
[{"$f":"IF(ISTEXT(ShareOfSearch_SERPS!C1551),ShareOfSearch_SERPS!C1551,\"\")","v":""},{"$f":"IF(ISTEXT(ShareOfSearch_SERPS!D1551),ShareOfSearch_SERPS!D1551,\"\")","v":""},{"$f":"IF(NOT(ISBLANK(ShareOfSearch_SERPS!A1551)),ShareOfSearch_SERPS!A1551,\"\")","v":""},{"$f":"IF(NOT(ISBLANK(ShareOfSearch_SERPS!G1551)),ShareOfSearch_SERPS!G1551,\"\")","v":""},{"$f":"IF(NOT(ISBLANK(ShareOfSearch_SERPS!K1551)),ShareOfSearch_SERPS!K1551,\"\")","v":""},{"$f":"IFERROR(VLOOKUP(C1551,ShareOfSearch_CTR!$A$1:$B$100,2,FALSE)*VLOOKUP(A1551&B1551,ShareOfSearch_Volume!$C$1:$D$1000,2,FALSE),\"\")","v":""}]
[{"$f":"IF(ISTEXT(ShareOfSearch_SERPS!C1552),ShareOfSearch_SERPS!C1552,\"\")","v":""},{"$f":"IF(ISTEXT(ShareOfSearch_SERPS!D1552),ShareOfSearch_SERPS!D1552,\"\")","v":""},{"$f":"IF(NOT(ISBLANK(ShareOfSearch_SERPS!A1552)),ShareOfSearch_SERPS!A1552,\"\")","v":""},{"$f":"IF(NOT(ISBLANK(ShareOfSearch_SERPS!G1552)),ShareOfSearch_SERPS!G1552,\"\")","v":""},{"$f":"IF(NOT(ISBLANK(ShareOfSearch_SERPS!K1552)),ShareOfSearch_SERPS!K1552,\"\")","v":""},{"$f":"IFERROR(VLOOKUP(C1552,ShareOfSearch_CTR!$A$1:$B$100,2,FALSE)*VLOOKUP(A1552&B1552,ShareOfSearch_Volume!$C$1:$D$1000,2,FALSE),\"\")","v":""}]
[{"$f":"IF(ISTEXT(ShareOfSearch_SERPS!C1553),ShareOfSearch_SERPS!C1553,\"\")","v":""},{"$f":"IF(ISTEXT(ShareOfSearch_SERPS!D1553),ShareOfSearch_SERPS!D1553,\"\")","v":""},{"$f":"IF(NOT(ISBLANK(ShareOfSearch_SERPS!A1553)),ShareOfSearch_SERPS!A1553,\"\")","v":""},{"$f":"IF(NOT(ISBLANK(ShareOfSearch_SERPS!G1553)),ShareOfSearch_SERPS!G1553,\"\")","v":""},{"$f":"IF(NOT(ISBLANK(ShareOfSearch_SERPS!K1553)),ShareOfSearch_SERPS!K1553,\"\")","v":""},{"$f":"IFERROR(VLOOKUP(C1553,ShareOfSearch_CTR!$A$1:$B$100,2,FALSE)*VLOOKUP(A1553&B1553,ShareOfSearch_Volume!$C$1:$D$1000,2,FALSE),\"\")","v":""}]
[{"$f":"IF(ISTEXT(ShareOfSearch_SERPS!C1554),ShareOfSearch_SERPS!C1554,\"\")","v":""},{"$f":"IF(ISTEXT(ShareOfSearch_SERPS!D1554),ShareOfSearch_SERPS!D1554,\"\")","v":""},{"$f":"IF(NOT(ISBLANK(ShareOfSearch_SERPS!A1554)),ShareOfSearch_SERPS!A1554,\"\")","v":""},{"$f":"IF(NOT(ISBLANK(ShareOfSearch_SERPS!G1554)),ShareOfSearch_SERPS!G1554,\"\")","v":""},{"$f":"IF(NOT(ISBLANK(ShareOfSearch_SERPS!K1554)),ShareOfSearch_SERPS!K1554,\"\")","v":""},{"$f":"IFERROR(VLOOKUP(C1554,ShareOfSearch_CTR!$A$1:$B$100,2,FALSE)*VLOOKUP(A1554&B1554,ShareOfSearch_Volume!$C$1:$D$1000,2,FALSE),\"\")","v":""}]
[{"$f":"IF(ISTEXT(ShareOfSearch_SERPS!C1555),ShareOfSearch_SERPS!C1555,\"\")","v":""},{"$f":"IF(ISTEXT(ShareOfSearch_SERPS!D1555),ShareOfSearch_SERPS!D1555,\"\")","v":""},{"$f":"IF(NOT(ISBLANK(ShareOfSearch_SERPS!A1555)),ShareOfSearch_SERPS!A1555,\"\")","v":""},{"$f":"IF(NOT(ISBLANK(ShareOfSearch_SERPS!G1555)),ShareOfSearch_SERPS!G1555,\"\")","v":""},{"$f":"IF(NOT(ISBLANK(ShareOfSearch_SERPS!K1555)),ShareOfSearch_SERPS!K1555,\"\")","v":""},{"$f":"IFERROR(VLOOKUP(C1555,ShareOfSearch_CTR!$A$1:$B$100,2,FALSE)*VLOOKUP(A1555&B1555,ShareOfSearch_Volume!$C$1:$D$1000,2,FALSE),\"\")","v":""}]
[{"$f":"IF(ISTEXT(ShareOfSearch_SERPS!C1556),ShareOfSearch_SERPS!C1556,\"\")","v":""},{"$f":"IF(ISTEXT(ShareOfSearch_SERPS!D1556),ShareOfSearch_SERPS!D1556,\"\")","v":""},{"$f":"IF(NOT(ISBLANK(ShareOfSearch_SERPS!A1556)),ShareOfSearch_SERPS!A1556,\"\")","v":""},{"$f":"IF(NOT(ISBLANK(ShareOfSearch_SERPS!G1556)),ShareOfSearch_SERPS!G1556,\"\")","v":""},{"$f":"IF(NOT(ISBLANK(ShareOfSearch_SERPS!K1556)),ShareOfSearch_SERPS!K1556,\"\")","v":""},{"$f":"IFERROR(VLOOKUP(C1556,ShareOfSearch_CTR!$A$1:$B$100,2,FALSE)*VLOOKUP(A1556&B1556,ShareOfSearch_Volume!$C$1:$D$1000,2,FALSE),\"\")","v":""}]
[{"$f":"IF(ISTEXT(ShareOfSearch_SERPS!C1557),ShareOfSearch_SERPS!C1557,\"\")","v":""},{"$f":"IF(ISTEXT(ShareOfSearch_SERPS!D1557),ShareOfSearch_SERPS!D1557,\"\")","v":""},{"$f":"IF(NOT(ISBLANK(ShareOfSearch_SERPS!A1557)),ShareOfSearch_SERPS!A1557,\"\")","v":""},{"$f":"IF(NOT(ISBLANK(ShareOfSearch_SERPS!G1557)),ShareOfSearch_SERPS!G1557,\"\")","v":""},{"$f":"IF(NOT(ISBLANK(ShareOfSearch_SERPS!K1557)),ShareOfSearch_SERPS!K1557,\"\")","v":""},{"$f":"IFERROR(VLOOKUP(C1557,ShareOfSearch_CTR!$A$1:$B$100,2,FALSE)*VLOOKUP(A1557&B1557,ShareOfSearch_Volume!$C$1:$D$1000,2,FALSE),\"\")","v":""}]
[{"$f":"IF(ISTEXT(ShareOfSearch_SERPS!C1558),ShareOfSearch_SERPS!C1558,\"\")","v":""},{"$f":"IF(ISTEXT(ShareOfSearch_SERPS!D1558),ShareOfSearch_SERPS!D1558,\"\")","v":""},{"$f":"IF(NOT(ISBLANK(ShareOfSearch_SERPS!A1558)),ShareOfSearch_SERPS!A1558,\"\")","v":""},{"$f":"IF(NOT(ISBLANK(ShareOfSearch_SERPS!G1558)),ShareOfSearch_SERPS!G1558,\"\")","v":""},{"$f":"IF(NOT(ISBLANK(ShareOfSearch_SERPS!K1558)),ShareOfSearch_SERPS!K1558,\"\")","v":""},{"$f":"IFERROR(VLOOKUP(C1558,ShareOfSearch_CTR!$A$1:$B$100,2,FALSE)*VLOOKUP(A1558&B1558,ShareOfSearch_Volume!$C$1:$D$1000,2,FALSE),\"\")","v":""}]
[{"$f":"IF(ISTEXT(ShareOfSearch_SERPS!C1559),ShareOfSearch_SERPS!C1559,\"\")","v":""},{"$f":"IF(ISTEXT(ShareOfSearch_SERPS!D1559),ShareOfSearch_SERPS!D1559,\"\")","v":""},{"$f":"IF(NOT(ISBLANK(ShareOfSearch_SERPS!A1559)),ShareOfSearch_SERPS!A1559,\"\")","v":""},{"$f":"IF(NOT(ISBLANK(ShareOfSearch_SERPS!G1559)),ShareOfSearch_SERPS!G1559,\"\")","v":""},{"$f":"IF(NOT(ISBLANK(ShareOfSearch_SERPS!K1559)),ShareOfSearch_SERPS!K1559,\"\")","v":""},{"$f":"IFERROR(VLOOKUP(C1559,ShareOfSearch_CTR!$A$1:$B$100,2,FALSE)*VLOOKUP(A1559&B1559,ShareOfSearch_Volume!$C$1:$D$1000,2,FALSE),\"\")","v":""}]
[{"$f":"IF(ISTEXT(ShareOfSearch_SERPS!C1560),ShareOfSearch_SERPS!C1560,\"\")","v":""},{"$f":"IF(ISTEXT(ShareOfSearch_SERPS!D1560),ShareOfSearch_SERPS!D1560,\"\")","v":""},{"$f":"IF(NOT(ISBLANK(ShareOfSearch_SERPS!A1560)),ShareOfSearch_SERPS!A1560,\"\")","v":""},{"$f":"IF(NOT(ISBLANK(ShareOfSearch_SERPS!G1560)),ShareOfSearch_SERPS!G1560,\"\")","v":""},{"$f":"IF(NOT(ISBLANK(ShareOfSearch_SERPS!K1560)),ShareOfSearch_SERPS!K1560,\"\")","v":""},{"$f":"IFERROR(VLOOKUP(C1560,ShareOfSearch_CTR!$A$1:$B$100,2,FALSE)*VLOOKUP(A1560&B1560,ShareOfSearch_Volume!$C$1:$D$1000,2,FALSE),\"\")","v":""}]
[{"$f":"IF(ISTEXT(ShareOfSearch_SERPS!C1561),ShareOfSearch_SERPS!C1561,\"\")","v":""},{"$f":"IF(ISTEXT(ShareOfSearch_SERPS!D1561),ShareOfSearch_SERPS!D1561,\"\")","v":""},{"$f":"IF(NOT(ISBLANK(ShareOfSearch_SERPS!A1561)),ShareOfSearch_SERPS!A1561,\"\")","v":""},{"$f":"IF(NOT(ISBLANK(ShareOfSearch_SERPS!G1561)),ShareOfSearch_SERPS!G1561,\"\")","v":""},{"$f":"IF(NOT(ISBLANK(ShareOfSearch_SERPS!K1561)),ShareOfSearch_SERPS!K1561,\"\")","v":""},{"$f":"IFERROR(VLOOKUP(C1561,ShareOfSearch_CTR!$A$1:$B$100,2,FALSE)*VLOOKUP(A1561&B1561,ShareOfSearch_Volume!$C$1:$D$1000,2,FALSE),\"\")","v":""}]
[{"$f":"IF(ISTEXT(ShareOfSearch_SERPS!C1562),ShareOfSearch_SERPS!C1562,\"\")","v":""},{"$f":"IF(ISTEXT(ShareOfSearch_SERPS!D1562),ShareOfSearch_SERPS!D1562,\"\")","v":""},{"$f":"IF(NOT(ISBLANK(ShareOfSearch_SERPS!A1562)),ShareOfSearch_SERPS!A1562,\"\")","v":""},{"$f":"IF(NOT(ISBLANK(ShareOfSearch_SERPS!G1562)),ShareOfSearch_SERPS!G1562,\"\")","v":""},{"$f":"IF(NOT(ISBLANK(ShareOfSearch_SERPS!K1562)),ShareOfSearch_SERPS!K1562,\"\")","v":""},{"$f":"IFERROR(VLOOKUP(C1562,ShareOfSearch_CTR!$A$1:$B$100,2,FALSE)*VLOOKUP(A1562&B1562,ShareOfSearch_Volume!$C$1:$D$1000,2,FALSE),\"\")","v":""}]
[{"$f":"IF(ISTEXT(ShareOfSearch_SERPS!C1563),ShareOfSearch_SERPS!C1563,\"\")","v":""},{"$f":"IF(ISTEXT(ShareOfSearch_SERPS!D1563),ShareOfSearch_SERPS!D1563,\"\")","v":""},{"$f":"IF(NOT(ISBLANK(ShareOfSearch_SERPS!A1563)),ShareOfSearch_SERPS!A1563,\"\")","v":""},{"$f":"IF(NOT(ISBLANK(ShareOfSearch_SERPS!G1563)),ShareOfSearch_SERPS!G1563,\"\")","v":""},{"$f":"IF(NOT(ISBLANK(ShareOfSearch_SERPS!K1563)),ShareOfSearch_SERPS!K1563,\"\")","v":""},{"$f":"IFERROR(VLOOKUP(C1563,ShareOfSearch_CTR!$A$1:$B$100,2,FALSE)*VLOOKUP(A1563&B1563,ShareOfSearch_Volume!$C$1:$D$1000,2,FALSE),\"\")","v":""}]
[{"$f":"IF(ISTEXT(ShareOfSearch_SERPS!C1564),ShareOfSearch_SERPS!C1564,\"\")","v":""},{"$f":"IF(ISTEXT(ShareOfSearch_SERPS!D1564),ShareOfSearch_SERPS!D1564,\"\")","v":""},{"$f":"IF(NOT(ISBLANK(ShareOfSearch_SERPS!A1564)),ShareOfSearch_SERPS!A1564,\"\")","v":""},{"$f":"IF(NOT(ISBLANK(ShareOfSearch_SERPS!G1564)),ShareOfSearch_SERPS!G1564,\"\")","v":""},{"$f":"IF(NOT(ISBLANK(ShareOfSearch_SERPS!K1564)),ShareOfSearch_SERPS!K1564,\"\")","v":""},{"$f":"IFERROR(VLOOKUP(C1564,ShareOfSearch_CTR!$A$1:$B$100,2,FALSE)*VLOOKUP(A1564&B1564,ShareOfSearch_Volume!$C$1:$D$1000,2,FALSE),\"\")","v":""}]
[{"$f":"IF(ISTEXT(ShareOfSearch_SERPS!C1565),ShareOfSearch_SERPS!C1565,\"\")","v":""},{"$f":"IF(ISTEXT(ShareOfSearch_SERPS!D1565),ShareOfSearch_SERPS!D1565,\"\")","v":""},{"$f":"IF(NOT(ISBLANK(ShareOfSearch_SERPS!A1565)),ShareOfSearch_SERPS!A1565,\"\")","v":""},{"$f":"IF(NOT(ISBLANK(ShareOfSearch_SERPS!G1565)),ShareOfSearch_SERPS!G1565,\"\")","v":""},{"$f":"IF(NOT(ISBLANK(ShareOfSearch_SERPS!K1565)),ShareOfSearch_SERPS!K1565,\"\")","v":""},{"$f":"IFERROR(VLOOKUP(C1565,ShareOfSearch_CTR!$A$1:$B$100,2,FALSE)*VLOOKUP(A1565&B1565,ShareOfSearch_Volume!$C$1:$D$1000,2,FALSE),\"\")","v":""}]
[{"$f":"IF(ISTEXT(ShareOfSearch_SERPS!C1566),ShareOfSearch_SERPS!C1566,\"\")","v":""},{"$f":"IF(ISTEXT(ShareOfSearch_SERPS!D1566),ShareOfSearch_SERPS!D1566,\"\")","v":""},{"$f":"IF(NOT(ISBLANK(ShareOfSearch_SERPS!A1566)),ShareOfSearch_SERPS!A1566,\"\")","v":""},{"$f":"IF(NOT(ISBLANK(ShareOfSearch_SERPS!G1566)),ShareOfSearch_SERPS!G1566,\"\")","v":""},{"$f":"IF(NOT(ISBLANK(ShareOfSearch_SERPS!K1566)),ShareOfSearch_SERPS!K1566,\"\")","v":""},{"$f":"IFERROR(VLOOKUP(C1566,ShareOfSearch_CTR!$A$1:$B$100,2,FALSE)*VLOOKUP(A1566&B1566,ShareOfSearch_Volume!$C$1:$D$1000,2,FALSE),\"\")","v":""}]
[{"$f":"IF(ISTEXT(ShareOfSearch_SERPS!C1567),ShareOfSearch_SERPS!C1567,\"\")","v":""},{"$f":"IF(ISTEXT(ShareOfSearch_SERPS!D1567),ShareOfSearch_SERPS!D1567,\"\")","v":""},{"$f":"IF(NOT(ISBLANK(ShareOfSearch_SERPS!A1567)),ShareOfSearch_SERPS!A1567,\"\")","v":""},{"$f":"IF(NOT(ISBLANK(ShareOfSearch_SERPS!G1567)),ShareOfSearch_SERPS!G1567,\"\")","v":""},{"$f":"IF(NOT(ISBLANK(ShareOfSearch_SERPS!K1567)),ShareOfSearch_SERPS!K1567,\"\")","v":""},{"$f":"IFERROR(VLOOKUP(C1567,ShareOfSearch_CTR!$A$1:$B$100,2,FALSE)*VLOOKUP(A1567&B1567,ShareOfSearch_Volume!$C$1:$D$1000,2,FALSE),\"\")","v":""}]
[{"$f":"IF(ISTEXT(ShareOfSearch_SERPS!C1568),ShareOfSearch_SERPS!C1568,\"\")","v":""},{"$f":"IF(ISTEXT(ShareOfSearch_SERPS!D1568),ShareOfSearch_SERPS!D1568,\"\")","v":""},{"$f":"IF(NOT(ISBLANK(ShareOfSearch_SERPS!A1568)),ShareOfSearch_SERPS!A1568,\"\")","v":""},{"$f":"IF(NOT(ISBLANK(ShareOfSearch_SERPS!G1568)),ShareOfSearch_SERPS!G1568,\"\")","v":""},{"$f":"IF(NOT(ISBLANK(ShareOfSearch_SERPS!K1568)),ShareOfSearch_SERPS!K1568,\"\")","v":""},{"$f":"IFERROR(VLOOKUP(C1568,ShareOfSearch_CTR!$A$1:$B$100,2,FALSE)*VLOOKUP(A1568&B1568,ShareOfSearch_Volume!$C$1:$D$1000,2,FALSE),\"\")","v":""}]
[{"$f":"IF(ISTEXT(ShareOfSearch_SERPS!C1569),ShareOfSearch_SERPS!C1569,\"\")","v":""},{"$f":"IF(ISTEXT(ShareOfSearch_SERPS!D1569),ShareOfSearch_SERPS!D1569,\"\")","v":""},{"$f":"IF(NOT(ISBLANK(ShareOfSearch_SERPS!A1569)),ShareOfSearch_SERPS!A1569,\"\")","v":""},{"$f":"IF(NOT(ISBLANK(ShareOfSearch_SERPS!G1569)),ShareOfSearch_SERPS!G1569,\"\")","v":""},{"$f":"IF(NOT(ISBLANK(ShareOfSearch_SERPS!K1569)),ShareOfSearch_SERPS!K1569,\"\")","v":""},{"$f":"IFERROR(VLOOKUP(C1569,ShareOfSearch_CTR!$A$1:$B$100,2,FALSE)*VLOOKUP(A1569&B1569,ShareOfSearch_Volume!$C$1:$D$1000,2,FALSE),\"\")","v":""}]
[{"$f":"IF(ISTEXT(ShareOfSearch_SERPS!C1570),ShareOfSearch_SERPS!C1570,\"\")","v":""},{"$f":"IF(ISTEXT(ShareOfSearch_SERPS!D1570),ShareOfSearch_SERPS!D1570,\"\")","v":""},{"$f":"IF(NOT(ISBLANK(ShareOfSearch_SERPS!A1570)),ShareOfSearch_SERPS!A1570,\"\")","v":""},{"$f":"IF(NOT(ISBLANK(ShareOfSearch_SERPS!G1570)),ShareOfSearch_SERPS!G1570,\"\")","v":""},{"$f":"IF(NOT(ISBLANK(ShareOfSearch_SERPS!K1570)),ShareOfSearch_SERPS!K1570,\"\")","v":""},{"$f":"IFERROR(VLOOKUP(C1570,ShareOfSearch_CTR!$A$1:$B$100,2,FALSE)*VLOOKUP(A1570&B1570,ShareOfSearch_Volume!$C$1:$D$1000,2,FALSE),\"\")","v":""}]
[{"$f":"IF(ISTEXT(ShareOfSearch_SERPS!C1571),ShareOfSearch_SERPS!C1571,\"\")","v":""},{"$f":"IF(ISTEXT(ShareOfSearch_SERPS!D1571),ShareOfSearch_SERPS!D1571,\"\")","v":""},{"$f":"IF(NOT(ISBLANK(ShareOfSearch_SERPS!A1571)),ShareOfSearch_SERPS!A1571,\"\")","v":""},{"$f":"IF(NOT(ISBLANK(ShareOfSearch_SERPS!G1571)),ShareOfSearch_SERPS!G1571,\"\")","v":""},{"$f":"IF(NOT(ISBLANK(ShareOfSearch_SERPS!K1571)),ShareOfSearch_SERPS!K1571,\"\")","v":""},{"$f":"IFERROR(VLOOKUP(C1571,ShareOfSearch_CTR!$A$1:$B$100,2,FALSE)*VLOOKUP(A1571&B1571,ShareOfSearch_Volume!$C$1:$D$1000,2,FALSE),\"\")","v":""}]
[{"$f":"IF(ISTEXT(ShareOfSearch_SERPS!C1572),ShareOfSearch_SERPS!C1572,\"\")","v":""},{"$f":"IF(ISTEXT(ShareOfSearch_SERPS!D1572),ShareOfSearch_SERPS!D1572,\"\")","v":""},{"$f":"IF(NOT(ISBLANK(ShareOfSearch_SERPS!A1572)),ShareOfSearch_SERPS!A1572,\"\")","v":""},{"$f":"IF(NOT(ISBLANK(ShareOfSearch_SERPS!G1572)),ShareOfSearch_SERPS!G1572,\"\")","v":""},{"$f":"IF(NOT(ISBLANK(ShareOfSearch_SERPS!K1572)),ShareOfSearch_SERPS!K1572,\"\")","v":""},{"$f":"IFERROR(VLOOKUP(C1572,ShareOfSearch_CTR!$A$1:$B$100,2,FALSE)*VLOOKUP(A1572&B1572,ShareOfSearch_Volume!$C$1:$D$1000,2,FALSE),\"\")","v":""}]
[{"$f":"IF(ISTEXT(ShareOfSearch_SERPS!C1573),ShareOfSearch_SERPS!C1573,\"\")","v":""},{"$f":"IF(ISTEXT(ShareOfSearch_SERPS!D1573),ShareOfSearch_SERPS!D1573,\"\")","v":""},{"$f":"IF(NOT(ISBLANK(ShareOfSearch_SERPS!A1573)),ShareOfSearch_SERPS!A1573,\"\")","v":""},{"$f":"IF(NOT(ISBLANK(ShareOfSearch_SERPS!G1573)),ShareOfSearch_SERPS!G1573,\"\")","v":""},{"$f":"IF(NOT(ISBLANK(ShareOfSearch_SERPS!K1573)),ShareOfSearch_SERPS!K1573,\"\")","v":""},{"$f":"IFERROR(VLOOKUP(C1573,ShareOfSearch_CTR!$A$1:$B$100,2,FALSE)*VLOOKUP(A1573&B1573,ShareOfSearch_Volume!$C$1:$D$1000,2,FALSE),\"\")","v":""}]
[{"$f":"IF(ISTEXT(ShareOfSearch_SERPS!C1574),ShareOfSearch_SERPS!C1574,\"\")","v":""},{"$f":"IF(ISTEXT(ShareOfSearch_SERPS!D1574),ShareOfSearch_SERPS!D1574,\"\")","v":""},{"$f":"IF(NOT(ISBLANK(ShareOfSearch_SERPS!A1574)),ShareOfSearch_SERPS!A1574,\"\")","v":""},{"$f":"IF(NOT(ISBLANK(ShareOfSearch_SERPS!G1574)),ShareOfSearch_SERPS!G1574,\"\")","v":""},{"$f":"IF(NOT(ISBLANK(ShareOfSearch_SERPS!K1574)),ShareOfSearch_SERPS!K1574,\"\")","v":""},{"$f":"IFERROR(VLOOKUP(C1574,ShareOfSearch_CTR!$A$1:$B$100,2,FALSE)*VLOOKUP(A1574&B1574,ShareOfSearch_Volume!$C$1:$D$1000,2,FALSE),\"\")","v":""}]
[{"$f":"IF(ISTEXT(ShareOfSearch_SERPS!C1575),ShareOfSearch_SERPS!C1575,\"\")","v":""},{"$f":"IF(ISTEXT(ShareOfSearch_SERPS!D1575),ShareOfSearch_SERPS!D1575,\"\")","v":""},{"$f":"IF(NOT(ISBLANK(ShareOfSearch_SERPS!A1575)),ShareOfSearch_SERPS!A1575,\"\")","v":""},{"$f":"IF(NOT(ISBLANK(ShareOfSearch_SERPS!G1575)),ShareOfSearch_SERPS!G1575,\"\")","v":""},{"$f":"IF(NOT(ISBLANK(ShareOfSearch_SERPS!K1575)),ShareOfSearch_SERPS!K1575,\"\")","v":""},{"$f":"IFERROR(VLOOKUP(C1575,ShareOfSearch_CTR!$A$1:$B$100,2,FALSE)*VLOOKUP(A1575&B1575,ShareOfSearch_Volume!$C$1:$D$1000,2,FALSE),\"\")","v":""}]
[{"$f":"IF(ISTEXT(ShareOfSearch_SERPS!C1576),ShareOfSearch_SERPS!C1576,\"\")","v":""},{"$f":"IF(ISTEXT(ShareOfSearch_SERPS!D1576),ShareOfSearch_SERPS!D1576,\"\")","v":""},{"$f":"IF(NOT(ISBLANK(ShareOfSearch_SERPS!A1576)),ShareOfSearch_SERPS!A1576,\"\")","v":""},{"$f":"IF(NOT(ISBLANK(ShareOfSearch_SERPS!G1576)),ShareOfSearch_SERPS!G1576,\"\")","v":""},{"$f":"IF(NOT(ISBLANK(ShareOfSearch_SERPS!K1576)),ShareOfSearch_SERPS!K1576,\"\")","v":""},{"$f":"IFERROR(VLOOKUP(C1576,ShareOfSearch_CTR!$A$1:$B$100,2,FALSE)*VLOOKUP(A1576&B1576,ShareOfSearch_Volume!$C$1:$D$1000,2,FALSE),\"\")","v":""}]
[{"$f":"IF(ISTEXT(ShareOfSearch_SERPS!C1577),ShareOfSearch_SERPS!C1577,\"\")","v":""},{"$f":"IF(ISTEXT(ShareOfSearch_SERPS!D1577),ShareOfSearch_SERPS!D1577,\"\")","v":""},{"$f":"IF(NOT(ISBLANK(ShareOfSearch_SERPS!A1577)),ShareOfSearch_SERPS!A1577,\"\")","v":""},{"$f":"IF(NOT(ISBLANK(ShareOfSearch_SERPS!G1577)),ShareOfSearch_SERPS!G1577,\"\")","v":""},{"$f":"IF(NOT(ISBLANK(ShareOfSearch_SERPS!K1577)),ShareOfSearch_SERPS!K1577,\"\")","v":""},{"$f":"IFERROR(VLOOKUP(C1577,ShareOfSearch_CTR!$A$1:$B$100,2,FALSE)*VLOOKUP(A1577&B1577,ShareOfSearch_Volume!$C$1:$D$1000,2,FALSE),\"\")","v":""}]
[{"$f":"IF(ISTEXT(ShareOfSearch_SERPS!C1578),ShareOfSearch_SERPS!C1578,\"\")","v":""},{"$f":"IF(ISTEXT(ShareOfSearch_SERPS!D1578),ShareOfSearch_SERPS!D1578,\"\")","v":""},{"$f":"IF(NOT(ISBLANK(ShareOfSearch_SERPS!A1578)),ShareOfSearch_SERPS!A1578,\"\")","v":""},{"$f":"IF(NOT(ISBLANK(ShareOfSearch_SERPS!G1578)),ShareOfSearch_SERPS!G1578,\"\")","v":""},{"$f":"IF(NOT(ISBLANK(ShareOfSearch_SERPS!K1578)),ShareOfSearch_SERPS!K1578,\"\")","v":""},{"$f":"IFERROR(VLOOKUP(C1578,ShareOfSearch_CTR!$A$1:$B$100,2,FALSE)*VLOOKUP(A1578&B1578,ShareOfSearch_Volume!$C$1:$D$1000,2,FALSE),\"\")","v":""}]
[{"$f":"IF(ISTEXT(ShareOfSearch_SERPS!C1579),ShareOfSearch_SERPS!C1579,\"\")","v":""},{"$f":"IF(ISTEXT(ShareOfSearch_SERPS!D1579),ShareOfSearch_SERPS!D1579,\"\")","v":""},{"$f":"IF(NOT(ISBLANK(ShareOfSearch_SERPS!A1579)),ShareOfSearch_SERPS!A1579,\"\")","v":""},{"$f":"IF(NOT(ISBLANK(ShareOfSearch_SERPS!G1579)),ShareOfSearch_SERPS!G1579,\"\")","v":""},{"$f":"IF(NOT(ISBLANK(ShareOfSearch_SERPS!K1579)),ShareOfSearch_SERPS!K1579,\"\")","v":""},{"$f":"IFERROR(VLOOKUP(C1579,ShareOfSearch_CTR!$A$1:$B$100,2,FALSE)*VLOOKUP(A1579&B1579,ShareOfSearch_Volume!$C$1:$D$1000,2,FALSE),\"\")","v":""}]
[{"$f":"IF(ISTEXT(ShareOfSearch_SERPS!C1580),ShareOfSearch_SERPS!C1580,\"\")","v":""},{"$f":"IF(ISTEXT(ShareOfSearch_SERPS!D1580),ShareOfSearch_SERPS!D1580,\"\")","v":""},{"$f":"IF(NOT(ISBLANK(ShareOfSearch_SERPS!A1580)),ShareOfSearch_SERPS!A1580,\"\")","v":""},{"$f":"IF(NOT(ISBLANK(ShareOfSearch_SERPS!G1580)),ShareOfSearch_SERPS!G1580,\"\")","v":""},{"$f":"IF(NOT(ISBLANK(ShareOfSearch_SERPS!K1580)),ShareOfSearch_SERPS!K1580,\"\")","v":""},{"$f":"IFERROR(VLOOKUP(C1580,ShareOfSearch_CTR!$A$1:$B$100,2,FALSE)*VLOOKUP(A1580&B1580,ShareOfSearch_Volume!$C$1:$D$1000,2,FALSE),\"\")","v":""}]
[{"$f":"IF(ISTEXT(ShareOfSearch_SERPS!C1581),ShareOfSearch_SERPS!C1581,\"\")","v":""},{"$f":"IF(ISTEXT(ShareOfSearch_SERPS!D1581),ShareOfSearch_SERPS!D1581,\"\")","v":""},{"$f":"IF(NOT(ISBLANK(ShareOfSearch_SERPS!A1581)),ShareOfSearch_SERPS!A1581,\"\")","v":""},{"$f":"IF(NOT(ISBLANK(ShareOfSearch_SERPS!G1581)),ShareOfSearch_SERPS!G1581,\"\")","v":""},{"$f":"IF(NOT(ISBLANK(ShareOfSearch_SERPS!K1581)),ShareOfSearch_SERPS!K1581,\"\")","v":""},{"$f":"IFERROR(VLOOKUP(C1581,ShareOfSearch_CTR!$A$1:$B$100,2,FALSE)*VLOOKUP(A1581&B1581,ShareOfSearch_Volume!$C$1:$D$1000,2,FALSE),\"\")","v":""}]
[{"$f":"IF(ISTEXT(ShareOfSearch_SERPS!C1582),ShareOfSearch_SERPS!C1582,\"\")","v":""},{"$f":"IF(ISTEXT(ShareOfSearch_SERPS!D1582),ShareOfSearch_SERPS!D1582,\"\")","v":""},{"$f":"IF(NOT(ISBLANK(ShareOfSearch_SERPS!A1582)),ShareOfSearch_SERPS!A1582,\"\")","v":""},{"$f":"IF(NOT(ISBLANK(ShareOfSearch_SERPS!G1582)),ShareOfSearch_SERPS!G1582,\"\")","v":""},{"$f":"IF(NOT(ISBLANK(ShareOfSearch_SERPS!K1582)),ShareOfSearch_SERPS!K1582,\"\")","v":""},{"$f":"IFERROR(VLOOKUP(C1582,ShareOfSearch_CTR!$A$1:$B$100,2,FALSE)*VLOOKUP(A1582&B1582,ShareOfSearch_Volume!$C$1:$D$1000,2,FALSE),\"\")","v":""}]
[{"$f":"IF(ISTEXT(ShareOfSearch_SERPS!C1583),ShareOfSearch_SERPS!C1583,\"\")","v":""},{"$f":"IF(ISTEXT(ShareOfSearch_SERPS!D1583),ShareOfSearch_SERPS!D1583,\"\")","v":""},{"$f":"IF(NOT(ISBLANK(ShareOfSearch_SERPS!A1583)),ShareOfSearch_SERPS!A1583,\"\")","v":""},{"$f":"IF(NOT(ISBLANK(ShareOfSearch_SERPS!G1583)),ShareOfSearch_SERPS!G1583,\"\")","v":""},{"$f":"IF(NOT(ISBLANK(ShareOfSearch_SERPS!K1583)),ShareOfSearch_SERPS!K1583,\"\")","v":""},{"$f":"IFERROR(VLOOKUP(C1583,ShareOfSearch_CTR!$A$1:$B$100,2,FALSE)*VLOOKUP(A1583&B1583,ShareOfSearch_Volume!$C$1:$D$1000,2,FALSE),\"\")","v":""}]
[{"$f":"IF(ISTEXT(ShareOfSearch_SERPS!C1584),ShareOfSearch_SERPS!C1584,\"\")","v":""},{"$f":"IF(ISTEXT(ShareOfSearch_SERPS!D1584),ShareOfSearch_SERPS!D1584,\"\")","v":""},{"$f":"IF(NOT(ISBLANK(ShareOfSearch_SERPS!A1584)),ShareOfSearch_SERPS!A1584,\"\")","v":""},{"$f":"IF(NOT(ISBLANK(ShareOfSearch_SERPS!G1584)),ShareOfSearch_SERPS!G1584,\"\")","v":""},{"$f":"IF(NOT(ISBLANK(ShareOfSearch_SERPS!K1584)),ShareOfSearch_SERPS!K1584,\"\")","v":""},{"$f":"IFERROR(VLOOKUP(C1584,ShareOfSearch_CTR!$A$1:$B$100,2,FALSE)*VLOOKUP(A1584&B1584,ShareOfSearch_Volume!$C$1:$D$1000,2,FALSE),\"\")","v":""}]
[{"$f":"IF(ISTEXT(ShareOfSearch_SERPS!C1585),ShareOfSearch_SERPS!C1585,\"\")","v":""},{"$f":"IF(ISTEXT(ShareOfSearch_SERPS!D1585),ShareOfSearch_SERPS!D1585,\"\")","v":""},{"$f":"IF(NOT(ISBLANK(ShareOfSearch_SERPS!A1585)),ShareOfSearch_SERPS!A1585,\"\")","v":""},{"$f":"IF(NOT(ISBLANK(ShareOfSearch_SERPS!G1585)),ShareOfSearch_SERPS!G1585,\"\")","v":""},{"$f":"IF(NOT(ISBLANK(ShareOfSearch_SERPS!K1585)),ShareOfSearch_SERPS!K1585,\"\")","v":""},{"$f":"IFERROR(VLOOKUP(C1585,ShareOfSearch_CTR!$A$1:$B$100,2,FALSE)*VLOOKUP(A1585&B1585,ShareOfSearch_Volume!$C$1:$D$1000,2,FALSE),\"\")","v":""}]
[{"$f":"IF(ISTEXT(ShareOfSearch_SERPS!C1586),ShareOfSearch_SERPS!C1586,\"\")","v":""},{"$f":"IF(ISTEXT(ShareOfSearch_SERPS!D1586),ShareOfSearch_SERPS!D1586,\"\")","v":""},{"$f":"IF(NOT(ISBLANK(ShareOfSearch_SERPS!A1586)),ShareOfSearch_SERPS!A1586,\"\")","v":""},{"$f":"IF(NOT(ISBLANK(ShareOfSearch_SERPS!G1586)),ShareOfSearch_SERPS!G1586,\"\")","v":""},{"$f":"IF(NOT(ISBLANK(ShareOfSearch_SERPS!K1586)),ShareOfSearch_SERPS!K1586,\"\")","v":""},{"$f":"IFERROR(VLOOKUP(C1586,ShareOfSearch_CTR!$A$1:$B$100,2,FALSE)*VLOOKUP(A1586&B1586,ShareOfSearch_Volume!$C$1:$D$1000,2,FALSE),\"\")","v":""}]
[{"$f":"IF(ISTEXT(ShareOfSearch_SERPS!C1587),ShareOfSearch_SERPS!C1587,\"\")","v":""},{"$f":"IF(ISTEXT(ShareOfSearch_SERPS!D1587),ShareOfSearch_SERPS!D1587,\"\")","v":""},{"$f":"IF(NOT(ISBLANK(ShareOfSearch_SERPS!A1587)),ShareOfSearch_SERPS!A1587,\"\")","v":""},{"$f":"IF(NOT(ISBLANK(ShareOfSearch_SERPS!G1587)),ShareOfSearch_SERPS!G1587,\"\")","v":""},{"$f":"IF(NOT(ISBLANK(ShareOfSearch_SERPS!K1587)),ShareOfSearch_SERPS!K1587,\"\")","v":""},{"$f":"IFERROR(VLOOKUP(C1587,ShareOfSearch_CTR!$A$1:$B$100,2,FALSE)*VLOOKUP(A1587&B1587,ShareOfSearch_Volume!$C$1:$D$1000,2,FALSE),\"\")","v":""}]
[{"$f":"IF(ISTEXT(ShareOfSearch_SERPS!C1588),ShareOfSearch_SERPS!C1588,\"\")","v":""},{"$f":"IF(ISTEXT(ShareOfSearch_SERPS!D1588),ShareOfSearch_SERPS!D1588,\"\")","v":""},{"$f":"IF(NOT(ISBLANK(ShareOfSearch_SERPS!A1588)),ShareOfSearch_SERPS!A1588,\"\")","v":""},{"$f":"IF(NOT(ISBLANK(ShareOfSearch_SERPS!G1588)),ShareOfSearch_SERPS!G1588,\"\")","v":""},{"$f":"IF(NOT(ISBLANK(ShareOfSearch_SERPS!K1588)),ShareOfSearch_SERPS!K1588,\"\")","v":""},{"$f":"IFERROR(VLOOKUP(C1588,ShareOfSearch_CTR!$A$1:$B$100,2,FALSE)*VLOOKUP(A1588&B1588,ShareOfSearch_Volume!$C$1:$D$1000,2,FALSE),\"\")","v":""}]
[{"$f":"IF(ISTEXT(ShareOfSearch_SERPS!C1589),ShareOfSearch_SERPS!C1589,\"\")","v":""},{"$f":"IF(ISTEXT(ShareOfSearch_SERPS!D1589),ShareOfSearch_SERPS!D1589,\"\")","v":""},{"$f":"IF(NOT(ISBLANK(ShareOfSearch_SERPS!A1589)),ShareOfSearch_SERPS!A1589,\"\")","v":""},{"$f":"IF(NOT(ISBLANK(ShareOfSearch_SERPS!G1589)),ShareOfSearch_SERPS!G1589,\"\")","v":""},{"$f":"IF(NOT(ISBLANK(ShareOfSearch_SERPS!K1589)),ShareOfSearch_SERPS!K1589,\"\")","v":""},{"$f":"IFERROR(VLOOKUP(C1589,ShareOfSearch_CTR!$A$1:$B$100,2,FALSE)*VLOOKUP(A1589&B1589,ShareOfSearch_Volume!$C$1:$D$1000,2,FALSE),\"\")","v":""}]
[{"$f":"IF(ISTEXT(ShareOfSearch_SERPS!C1590),ShareOfSearch_SERPS!C1590,\"\")","v":""},{"$f":"IF(ISTEXT(ShareOfSearch_SERPS!D1590),ShareOfSearch_SERPS!D1590,\"\")","v":""},{"$f":"IF(NOT(ISBLANK(ShareOfSearch_SERPS!A1590)),ShareOfSearch_SERPS!A1590,\"\")","v":""},{"$f":"IF(NOT(ISBLANK(ShareOfSearch_SERPS!G1590)),ShareOfSearch_SERPS!G1590,\"\")","v":""},{"$f":"IF(NOT(ISBLANK(ShareOfSearch_SERPS!K1590)),ShareOfSearch_SERPS!K1590,\"\")","v":""},{"$f":"IFERROR(VLOOKUP(C1590,ShareOfSearch_CTR!$A$1:$B$100,2,FALSE)*VLOOKUP(A1590&B1590,ShareOfSearch_Volume!$C$1:$D$1000,2,FALSE),\"\")","v":""}]
[{"$f":"IF(ISTEXT(ShareOfSearch_SERPS!C1591),ShareOfSearch_SERPS!C1591,\"\")","v":""},{"$f":"IF(ISTEXT(ShareOfSearch_SERPS!D1591),ShareOfSearch_SERPS!D1591,\"\")","v":""},{"$f":"IF(NOT(ISBLANK(ShareOfSearch_SERPS!A1591)),ShareOfSearch_SERPS!A1591,\"\")","v":""},{"$f":"IF(NOT(ISBLANK(ShareOfSearch_SERPS!G1591)),ShareOfSearch_SERPS!G1591,\"\")","v":""},{"$f":"IF(NOT(ISBLANK(ShareOfSearch_SERPS!K1591)),ShareOfSearch_SERPS!K1591,\"\")","v":""},{"$f":"IFERROR(VLOOKUP(C1591,ShareOfSearch_CTR!$A$1:$B$100,2,FALSE)*VLOOKUP(A1591&B1591,ShareOfSearch_Volume!$C$1:$D$1000,2,FALSE),\"\")","v":""}]
[{"$f":"IF(ISTEXT(ShareOfSearch_SERPS!C1592),ShareOfSearch_SERPS!C1592,\"\")","v":""},{"$f":"IF(ISTEXT(ShareOfSearch_SERPS!D1592),ShareOfSearch_SERPS!D1592,\"\")","v":""},{"$f":"IF(NOT(ISBLANK(ShareOfSearch_SERPS!A1592)),ShareOfSearch_SERPS!A1592,\"\")","v":""},{"$f":"IF(NOT(ISBLANK(ShareOfSearch_SERPS!G1592)),ShareOfSearch_SERPS!G1592,\"\")","v":""},{"$f":"IF(NOT(ISBLANK(ShareOfSearch_SERPS!K1592)),ShareOfSearch_SERPS!K1592,\"\")","v":""},{"$f":"IFERROR(VLOOKUP(C1592,ShareOfSearch_CTR!$A$1:$B$100,2,FALSE)*VLOOKUP(A1592&B1592,ShareOfSearch_Volume!$C$1:$D$1000,2,FALSE),\"\")","v":""}]
[{"$f":"IF(ISTEXT(ShareOfSearch_SERPS!C1593),ShareOfSearch_SERPS!C1593,\"\")","v":""},{"$f":"IF(ISTEXT(ShareOfSearch_SERPS!D1593),ShareOfSearch_SERPS!D1593,\"\")","v":""},{"$f":"IF(NOT(ISBLANK(ShareOfSearch_SERPS!A1593)),ShareOfSearch_SERPS!A1593,\"\")","v":""},{"$f":"IF(NOT(ISBLANK(ShareOfSearch_SERPS!G1593)),ShareOfSearch_SERPS!G1593,\"\")","v":""},{"$f":"IF(NOT(ISBLANK(ShareOfSearch_SERPS!K1593)),ShareOfSearch_SERPS!K1593,\"\")","v":""},{"$f":"IFERROR(VLOOKUP(C1593,ShareOfSearch_CTR!$A$1:$B$100,2,FALSE)*VLOOKUP(A1593&B1593,ShareOfSearch_Volume!$C$1:$D$1000,2,FALSE),\"\")","v":""}]
[{"$f":"IF(ISTEXT(ShareOfSearch_SERPS!C1594),ShareOfSearch_SERPS!C1594,\"\")","v":""},{"$f":"IF(ISTEXT(ShareOfSearch_SERPS!D1594),ShareOfSearch_SERPS!D1594,\"\")","v":""},{"$f":"IF(NOT(ISBLANK(ShareOfSearch_SERPS!A1594)),ShareOfSearch_SERPS!A1594,\"\")","v":""},{"$f":"IF(NOT(ISBLANK(ShareOfSearch_SERPS!G1594)),ShareOfSearch_SERPS!G1594,\"\")","v":""},{"$f":"IF(NOT(ISBLANK(ShareOfSearch_SERPS!K1594)),ShareOfSearch_SERPS!K1594,\"\")","v":""},{"$f":"IFERROR(VLOOKUP(C1594,ShareOfSearch_CTR!$A$1:$B$100,2,FALSE)*VLOOKUP(A1594&B1594,ShareOfSearch_Volume!$C$1:$D$1000,2,FALSE),\"\")","v":""}]
[{"$f":"IF(ISTEXT(ShareOfSearch_SERPS!C1595),ShareOfSearch_SERPS!C1595,\"\")","v":""},{"$f":"IF(ISTEXT(ShareOfSearch_SERPS!D1595),ShareOfSearch_SERPS!D1595,\"\")","v":""},{"$f":"IF(NOT(ISBLANK(ShareOfSearch_SERPS!A1595)),ShareOfSearch_SERPS!A1595,\"\")","v":""},{"$f":"IF(NOT(ISBLANK(ShareOfSearch_SERPS!G1595)),ShareOfSearch_SERPS!G1595,\"\")","v":""},{"$f":"IF(NOT(ISBLANK(ShareOfSearch_SERPS!K1595)),ShareOfSearch_SERPS!K1595,\"\")","v":""},{"$f":"IFERROR(VLOOKUP(C1595,ShareOfSearch_CTR!$A$1:$B$100,2,FALSE)*VLOOKUP(A1595&B1595,ShareOfSearch_Volume!$C$1:$D$1000,2,FALSE),\"\")","v":""}]
[{"$f":"IF(ISTEXT(ShareOfSearch_SERPS!C1596),ShareOfSearch_SERPS!C1596,\"\")","v":""},{"$f":"IF(ISTEXT(ShareOfSearch_SERPS!D1596),ShareOfSearch_SERPS!D1596,\"\")","v":""},{"$f":"IF(NOT(ISBLANK(ShareOfSearch_SERPS!A1596)),ShareOfSearch_SERPS!A1596,\"\")","v":""},{"$f":"IF(NOT(ISBLANK(ShareOfSearch_SERPS!G1596)),ShareOfSearch_SERPS!G1596,\"\")","v":""},{"$f":"IF(NOT(ISBLANK(ShareOfSearch_SERPS!K1596)),ShareOfSearch_SERPS!K1596,\"\")","v":""},{"$f":"IFERROR(VLOOKUP(C1596,ShareOfSearch_CTR!$A$1:$B$100,2,FALSE)*VLOOKUP(A1596&B1596,ShareOfSearch_Volume!$C$1:$D$1000,2,FALSE),\"\")","v":""}]
[{"$f":"IF(ISTEXT(ShareOfSearch_SERPS!C1597),ShareOfSearch_SERPS!C1597,\"\")","v":""},{"$f":"IF(ISTEXT(ShareOfSearch_SERPS!D1597),ShareOfSearch_SERPS!D1597,\"\")","v":""},{"$f":"IF(NOT(ISBLANK(ShareOfSearch_SERPS!A1597)),ShareOfSearch_SERPS!A1597,\"\")","v":""},{"$f":"IF(NOT(ISBLANK(ShareOfSearch_SERPS!G1597)),ShareOfSearch_SERPS!G1597,\"\")","v":""},{"$f":"IF(NOT(ISBLANK(ShareOfSearch_SERPS!K1597)),ShareOfSearch_SERPS!K1597,\"\")","v":""},{"$f":"IFERROR(VLOOKUP(C1597,ShareOfSearch_CTR!$A$1:$B$100,2,FALSE)*VLOOKUP(A1597&B1597,ShareOfSearch_Volume!$C$1:$D$1000,2,FALSE),\"\")","v":""}]
[{"$f":"IF(ISTEXT(ShareOfSearch_SERPS!C1598),ShareOfSearch_SERPS!C1598,\"\")","v":""},{"$f":"IF(ISTEXT(ShareOfSearch_SERPS!D1598),ShareOfSearch_SERPS!D1598,\"\")","v":""},{"$f":"IF(NOT(ISBLANK(ShareOfSearch_SERPS!A1598)),ShareOfSearch_SERPS!A1598,\"\")","v":""},{"$f":"IF(NOT(ISBLANK(ShareOfSearch_SERPS!G1598)),ShareOfSearch_SERPS!G1598,\"\")","v":""},{"$f":"IF(NOT(ISBLANK(ShareOfSearch_SERPS!K1598)),ShareOfSearch_SERPS!K1598,\"\")","v":""},{"$f":"IFERROR(VLOOKUP(C1598,ShareOfSearch_CTR!$A$1:$B$100,2,FALSE)*VLOOKUP(A1598&B1598,ShareOfSearch_Volume!$C$1:$D$1000,2,FALSE),\"\")","v":""}]
[{"$f":"IF(ISTEXT(ShareOfSearch_SERPS!C1599),ShareOfSearch_SERPS!C1599,\"\")","v":""},{"$f":"IF(ISTEXT(ShareOfSearch_SERPS!D1599),ShareOfSearch_SERPS!D1599,\"\")","v":""},{"$f":"IF(NOT(ISBLANK(ShareOfSearch_SERPS!A1599)),ShareOfSearch_SERPS!A1599,\"\")","v":""},{"$f":"IF(NOT(ISBLANK(ShareOfSearch_SERPS!G1599)),ShareOfSearch_SERPS!G1599,\"\")","v":""},{"$f":"IF(NOT(ISBLANK(ShareOfSearch_SERPS!K1599)),ShareOfSearch_SERPS!K1599,\"\")","v":""},{"$f":"IFERROR(VLOOKUP(C1599,ShareOfSearch_CTR!$A$1:$B$100,2,FALSE)*VLOOKUP(A1599&B1599,ShareOfSearch_Volume!$C$1:$D$1000,2,FALSE),\"\")","v":""}]
[{"$f":"IF(ISTEXT(ShareOfSearch_SERPS!C1600),ShareOfSearch_SERPS!C1600,\"\")","v":""},{"$f":"IF(ISTEXT(ShareOfSearch_SERPS!D1600),ShareOfSearch_SERPS!D1600,\"\")","v":""},{"$f":"IF(NOT(ISBLANK(ShareOfSearch_SERPS!A1600)),ShareOfSearch_SERPS!A1600,\"\")","v":""},{"$f":"IF(NOT(ISBLANK(ShareOfSearch_SERPS!G1600)),ShareOfSearch_SERPS!G1600,\"\")","v":""},{"$f":"IF(NOT(ISBLANK(ShareOfSearch_SERPS!K1600)),ShareOfSearch_SERPS!K1600,\"\")","v":""},{"$f":"IFERROR(VLOOKUP(C1600,ShareOfSearch_CTR!$A$1:$B$100,2,FALSE)*VLOOKUP(A1600&B1600,ShareOfSearch_Volume!$C$1:$D$1000,2,FALSE),\"\")","v":""}]
[{"$f":"IF(ISTEXT(ShareOfSearch_SERPS!C1601),ShareOfSearch_SERPS!C1601,\"\")","v":""},{"$f":"IF(ISTEXT(ShareOfSearch_SERPS!D1601),ShareOfSearch_SERPS!D1601,\"\")","v":""},{"$f":"IF(NOT(ISBLANK(ShareOfSearch_SERPS!A1601)),ShareOfSearch_SERPS!A1601,\"\")","v":""},{"$f":"IF(NOT(ISBLANK(ShareOfSearch_SERPS!G1601)),ShareOfSearch_SERPS!G1601,\"\")","v":""},{"$f":"IF(NOT(ISBLANK(ShareOfSearch_SERPS!K1601)),ShareOfSearch_SERPS!K1601,\"\")","v":""},{"$f":"IFERROR(VLOOKUP(C1601,ShareOfSearch_CTR!$A$1:$B$100,2,FALSE)*VLOOKUP(A1601&B1601,ShareOfSearch_Volume!$C$1:$D$1000,2,FALSE),\"\")","v":""}]
[{"$f":"IF(ISTEXT(ShareOfSearch_SERPS!C1602),ShareOfSearch_SERPS!C1602,\"\")","v":""},{"$f":"IF(ISTEXT(ShareOfSearch_SERPS!D1602),ShareOfSearch_SERPS!D1602,\"\")","v":""},{"$f":"IF(NOT(ISBLANK(ShareOfSearch_SERPS!A1602)),ShareOfSearch_SERPS!A1602,\"\")","v":""},{"$f":"IF(NOT(ISBLANK(ShareOfSearch_SERPS!G1602)),ShareOfSearch_SERPS!G1602,\"\")","v":""},{"$f":"IF(NOT(ISBLANK(ShareOfSearch_SERPS!K1602)),ShareOfSearch_SERPS!K1602,\"\")","v":""},{"$f":"IFERROR(VLOOKUP(C1602,ShareOfSearch_CTR!$A$1:$B$100,2,FALSE)*VLOOKUP(A1602&B1602,ShareOfSearch_Volume!$C$1:$D$1000,2,FALSE),\"\")","v":""}]
[{"$f":"IF(ISTEXT(ShareOfSearch_SERPS!C1603),ShareOfSearch_SERPS!C1603,\"\")","v":""},{"$f":"IF(ISTEXT(ShareOfSearch_SERPS!D1603),ShareOfSearch_SERPS!D1603,\"\")","v":""},{"$f":"IF(NOT(ISBLANK(ShareOfSearch_SERPS!A1603)),ShareOfSearch_SERPS!A1603,\"\")","v":""},{"$f":"IF(NOT(ISBLANK(ShareOfSearch_SERPS!G1603)),ShareOfSearch_SERPS!G1603,\"\")","v":""},{"$f":"IF(NOT(ISBLANK(ShareOfSearch_SERPS!K1603)),ShareOfSearch_SERPS!K1603,\"\")","v":""},{"$f":"IFERROR(VLOOKUP(C1603,ShareOfSearch_CTR!$A$1:$B$100,2,FALSE)*VLOOKUP(A1603&B1603,ShareOfSearch_Volume!$C$1:$D$1000,2,FALSE),\"\")","v":""}]
[{"$f":"IF(ISTEXT(ShareOfSearch_SERPS!C1604),ShareOfSearch_SERPS!C1604,\"\")","v":""},{"$f":"IF(ISTEXT(ShareOfSearch_SERPS!D1604),ShareOfSearch_SERPS!D1604,\"\")","v":""},{"$f":"IF(NOT(ISBLANK(ShareOfSearch_SERPS!A1604)),ShareOfSearch_SERPS!A1604,\"\")","v":""},{"$f":"IF(NOT(ISBLANK(ShareOfSearch_SERPS!G1604)),ShareOfSearch_SERPS!G1604,\"\")","v":""},{"$f":"IF(NOT(ISBLANK(ShareOfSearch_SERPS!K1604)),ShareOfSearch_SERPS!K1604,\"\")","v":""},{"$f":"IFERROR(VLOOKUP(C1604,ShareOfSearch_CTR!$A$1:$B$100,2,FALSE)*VLOOKUP(A1604&B1604,ShareOfSearch_Volume!$C$1:$D$1000,2,FALSE),\"\")","v":""}]
[{"$f":"IF(ISTEXT(ShareOfSearch_SERPS!C1605),ShareOfSearch_SERPS!C1605,\"\")","v":""},{"$f":"IF(ISTEXT(ShareOfSearch_SERPS!D1605),ShareOfSearch_SERPS!D1605,\"\")","v":""},{"$f":"IF(NOT(ISBLANK(ShareOfSearch_SERPS!A1605)),ShareOfSearch_SERPS!A1605,\"\")","v":""},{"$f":"IF(NOT(ISBLANK(ShareOfSearch_SERPS!G1605)),ShareOfSearch_SERPS!G1605,\"\")","v":""},{"$f":"IF(NOT(ISBLANK(ShareOfSearch_SERPS!K1605)),ShareOfSearch_SERPS!K1605,\"\")","v":""},{"$f":"IFERROR(VLOOKUP(C1605,ShareOfSearch_CTR!$A$1:$B$100,2,FALSE)*VLOOKUP(A1605&B1605,ShareOfSearch_Volume!$C$1:$D$1000,2,FALSE),\"\")","v":""}]
[{"$f":"IF(ISTEXT(ShareOfSearch_SERPS!C1606),ShareOfSearch_SERPS!C1606,\"\")","v":""},{"$f":"IF(ISTEXT(ShareOfSearch_SERPS!D1606),ShareOfSearch_SERPS!D1606,\"\")","v":""},{"$f":"IF(NOT(ISBLANK(ShareOfSearch_SERPS!A1606)),ShareOfSearch_SERPS!A1606,\"\")","v":""},{"$f":"IF(NOT(ISBLANK(ShareOfSearch_SERPS!G1606)),ShareOfSearch_SERPS!G1606,\"\")","v":""},{"$f":"IF(NOT(ISBLANK(ShareOfSearch_SERPS!K1606)),ShareOfSearch_SERPS!K1606,\"\")","v":""},{"$f":"IFERROR(VLOOKUP(C1606,ShareOfSearch_CTR!$A$1:$B$100,2,FALSE)*VLOOKUP(A1606&B1606,ShareOfSearch_Volume!$C$1:$D$1000,2,FALSE),\"\")","v":""}]
[{"$f":"IF(ISTEXT(ShareOfSearch_SERPS!C1607),ShareOfSearch_SERPS!C1607,\"\")","v":""},{"$f":"IF(ISTEXT(ShareOfSearch_SERPS!D1607),ShareOfSearch_SERPS!D1607,\"\")","v":""},{"$f":"IF(NOT(ISBLANK(ShareOfSearch_SERPS!A1607)),ShareOfSearch_SERPS!A1607,\"\")","v":""},{"$f":"IF(NOT(ISBLANK(ShareOfSearch_SERPS!G1607)),ShareOfSearch_SERPS!G1607,\"\")","v":""},{"$f":"IF(NOT(ISBLANK(ShareOfSearch_SERPS!K1607)),ShareOfSearch_SERPS!K1607,\"\")","v":""},{"$f":"IFERROR(VLOOKUP(C1607,ShareOfSearch_CTR!$A$1:$B$100,2,FALSE)*VLOOKUP(A1607&B1607,ShareOfSearch_Volume!$C$1:$D$1000,2,FALSE),\"\")","v":""}]
[{"$f":"IF(ISTEXT(ShareOfSearch_SERPS!C1608),ShareOfSearch_SERPS!C1608,\"\")","v":""},{"$f":"IF(ISTEXT(ShareOfSearch_SERPS!D1608),ShareOfSearch_SERPS!D1608,\"\")","v":""},{"$f":"IF(NOT(ISBLANK(ShareOfSearch_SERPS!A1608)),ShareOfSearch_SERPS!A1608,\"\")","v":""},{"$f":"IF(NOT(ISBLANK(ShareOfSearch_SERPS!G1608)),ShareOfSearch_SERPS!G1608,\"\")","v":""},{"$f":"IF(NOT(ISBLANK(ShareOfSearch_SERPS!K1608)),ShareOfSearch_SERPS!K1608,\"\")","v":""},{"$f":"IFERROR(VLOOKUP(C1608,ShareOfSearch_CTR!$A$1:$B$100,2,FALSE)*VLOOKUP(A1608&B1608,ShareOfSearch_Volume!$C$1:$D$1000,2,FALSE),\"\")","v":""}]
[{"$f":"IF(ISTEXT(ShareOfSearch_SERPS!C1609),ShareOfSearch_SERPS!C1609,\"\")","v":""},{"$f":"IF(ISTEXT(ShareOfSearch_SERPS!D1609),ShareOfSearch_SERPS!D1609,\"\")","v":""},{"$f":"IF(NOT(ISBLANK(ShareOfSearch_SERPS!A1609)),ShareOfSearch_SERPS!A1609,\"\")","v":""},{"$f":"IF(NOT(ISBLANK(ShareOfSearch_SERPS!G1609)),ShareOfSearch_SERPS!G1609,\"\")","v":""},{"$f":"IF(NOT(ISBLANK(ShareOfSearch_SERPS!K1609)),ShareOfSearch_SERPS!K1609,\"\")","v":""},{"$f":"IFERROR(VLOOKUP(C1609,ShareOfSearch_CTR!$A$1:$B$100,2,FALSE)*VLOOKUP(A1609&B1609,ShareOfSearch_Volume!$C$1:$D$1000,2,FALSE),\"\")","v":""}]
[{"$f":"IF(ISTEXT(ShareOfSearch_SERPS!C1610),ShareOfSearch_SERPS!C1610,\"\")","v":""},{"$f":"IF(ISTEXT(ShareOfSearch_SERPS!D1610),ShareOfSearch_SERPS!D1610,\"\")","v":""},{"$f":"IF(NOT(ISBLANK(ShareOfSearch_SERPS!A1610)),ShareOfSearch_SERPS!A1610,\"\")","v":""},{"$f":"IF(NOT(ISBLANK(ShareOfSearch_SERPS!G1610)),ShareOfSearch_SERPS!G1610,\"\")","v":""},{"$f":"IF(NOT(ISBLANK(ShareOfSearch_SERPS!K1610)),ShareOfSearch_SERPS!K1610,\"\")","v":""},{"$f":"IFERROR(VLOOKUP(C1610,ShareOfSearch_CTR!$A$1:$B$100,2,FALSE)*VLOOKUP(A1610&B1610,ShareOfSearch_Volume!$C$1:$D$1000,2,FALSE),\"\")","v":""}]
[{"$f":"IF(ISTEXT(ShareOfSearch_SERPS!C1611),ShareOfSearch_SERPS!C1611,\"\")","v":""},{"$f":"IF(ISTEXT(ShareOfSearch_SERPS!D1611),ShareOfSearch_SERPS!D1611,\"\")","v":""},{"$f":"IF(NOT(ISBLANK(ShareOfSearch_SERPS!A1611)),ShareOfSearch_SERPS!A1611,\"\")","v":""},{"$f":"IF(NOT(ISBLANK(ShareOfSearch_SERPS!G1611)),ShareOfSearch_SERPS!G1611,\"\")","v":""},{"$f":"IF(NOT(ISBLANK(ShareOfSearch_SERPS!K1611)),ShareOfSearch_SERPS!K1611,\"\")","v":""},{"$f":"IFERROR(VLOOKUP(C1611,ShareOfSearch_CTR!$A$1:$B$100,2,FALSE)*VLOOKUP(A1611&B1611,ShareOfSearch_Volume!$C$1:$D$1000,2,FALSE),\"\")","v":""}]
[{"$f":"IF(ISTEXT(ShareOfSearch_SERPS!C1612),ShareOfSearch_SERPS!C1612,\"\")","v":""},{"$f":"IF(ISTEXT(ShareOfSearch_SERPS!D1612),ShareOfSearch_SERPS!D1612,\"\")","v":""},{"$f":"IF(NOT(ISBLANK(ShareOfSearch_SERPS!A1612)),ShareOfSearch_SERPS!A1612,\"\")","v":""},{"$f":"IF(NOT(ISBLANK(ShareOfSearch_SERPS!G1612)),ShareOfSearch_SERPS!G1612,\"\")","v":""},{"$f":"IF(NOT(ISBLANK(ShareOfSearch_SERPS!K1612)),ShareOfSearch_SERPS!K1612,\"\")","v":""},{"$f":"IFERROR(VLOOKUP(C1612,ShareOfSearch_CTR!$A$1:$B$100,2,FALSE)*VLOOKUP(A1612&B1612,ShareOfSearch_Volume!$C$1:$D$1000,2,FALSE),\"\")","v":""}]
[{"$f":"IF(ISTEXT(ShareOfSearch_SERPS!C1613),ShareOfSearch_SERPS!C1613,\"\")","v":""},{"$f":"IF(ISTEXT(ShareOfSearch_SERPS!D1613),ShareOfSearch_SERPS!D1613,\"\")","v":""},{"$f":"IF(NOT(ISBLANK(ShareOfSearch_SERPS!A1613)),ShareOfSearch_SERPS!A1613,\"\")","v":""},{"$f":"IF(NOT(ISBLANK(ShareOfSearch_SERPS!G1613)),ShareOfSearch_SERPS!G1613,\"\")","v":""},{"$f":"IF(NOT(ISBLANK(ShareOfSearch_SERPS!K1613)),ShareOfSearch_SERPS!K1613,\"\")","v":""},{"$f":"IFERROR(VLOOKUP(C1613,ShareOfSearch_CTR!$A$1:$B$100,2,FALSE)*VLOOKUP(A1613&B1613,ShareOfSearch_Volume!$C$1:$D$1000,2,FALSE),\"\")","v":""}]
[{"$f":"IF(ISTEXT(ShareOfSearch_SERPS!C1614),ShareOfSearch_SERPS!C1614,\"\")","v":""},{"$f":"IF(ISTEXT(ShareOfSearch_SERPS!D1614),ShareOfSearch_SERPS!D1614,\"\")","v":""},{"$f":"IF(NOT(ISBLANK(ShareOfSearch_SERPS!A1614)),ShareOfSearch_SERPS!A1614,\"\")","v":""},{"$f":"IF(NOT(ISBLANK(ShareOfSearch_SERPS!G1614)),ShareOfSearch_SERPS!G1614,\"\")","v":""},{"$f":"IF(NOT(ISBLANK(ShareOfSearch_SERPS!K1614)),ShareOfSearch_SERPS!K1614,\"\")","v":""},{"$f":"IFERROR(VLOOKUP(C1614,ShareOfSearch_CTR!$A$1:$B$100,2,FALSE)*VLOOKUP(A1614&B1614,ShareOfSearch_Volume!$C$1:$D$1000,2,FALSE),\"\")","v":""}]
[{"$f":"IF(ISTEXT(ShareOfSearch_SERPS!C1615),ShareOfSearch_SERPS!C1615,\"\")","v":""},{"$f":"IF(ISTEXT(ShareOfSearch_SERPS!D1615),ShareOfSearch_SERPS!D1615,\"\")","v":""},{"$f":"IF(NOT(ISBLANK(ShareOfSearch_SERPS!A1615)),ShareOfSearch_SERPS!A1615,\"\")","v":""},{"$f":"IF(NOT(ISBLANK(ShareOfSearch_SERPS!G1615)),ShareOfSearch_SERPS!G1615,\"\")","v":""},{"$f":"IF(NOT(ISBLANK(ShareOfSearch_SERPS!K1615)),ShareOfSearch_SERPS!K1615,\"\")","v":""},{"$f":"IFERROR(VLOOKUP(C1615,ShareOfSearch_CTR!$A$1:$B$100,2,FALSE)*VLOOKUP(A1615&B1615,ShareOfSearch_Volume!$C$1:$D$1000,2,FALSE),\"\")","v":""}]
[{"$f":"IF(ISTEXT(ShareOfSearch_SERPS!C1616),ShareOfSearch_SERPS!C1616,\"\")","v":""},{"$f":"IF(ISTEXT(ShareOfSearch_SERPS!D1616),ShareOfSearch_SERPS!D1616,\"\")","v":""},{"$f":"IF(NOT(ISBLANK(ShareOfSearch_SERPS!A1616)),ShareOfSearch_SERPS!A1616,\"\")","v":""},{"$f":"IF(NOT(ISBLANK(ShareOfSearch_SERPS!G1616)),ShareOfSearch_SERPS!G1616,\"\")","v":""},{"$f":"IF(NOT(ISBLANK(ShareOfSearch_SERPS!K1616)),ShareOfSearch_SERPS!K1616,\"\")","v":""},{"$f":"IFERROR(VLOOKUP(C1616,ShareOfSearch_CTR!$A$1:$B$100,2,FALSE)*VLOOKUP(A1616&B1616,ShareOfSearch_Volume!$C$1:$D$1000,2,FALSE),\"\")","v":""}]
[{"$f":"IF(ISTEXT(ShareOfSearch_SERPS!C1617),ShareOfSearch_SERPS!C1617,\"\")","v":""},{"$f":"IF(ISTEXT(ShareOfSearch_SERPS!D1617),ShareOfSearch_SERPS!D1617,\"\")","v":""},{"$f":"IF(NOT(ISBLANK(ShareOfSearch_SERPS!A1617)),ShareOfSearch_SERPS!A1617,\"\")","v":""},{"$f":"IF(NOT(ISBLANK(ShareOfSearch_SERPS!G1617)),ShareOfSearch_SERPS!G1617,\"\")","v":""},{"$f":"IF(NOT(ISBLANK(ShareOfSearch_SERPS!K1617)),ShareOfSearch_SERPS!K1617,\"\")","v":""},{"$f":"IFERROR(VLOOKUP(C1617,ShareOfSearch_CTR!$A$1:$B$100,2,FALSE)*VLOOKUP(A1617&B1617,ShareOfSearch_Volume!$C$1:$D$1000,2,FALSE),\"\")","v":""}]
[{"$f":"IF(ISTEXT(ShareOfSearch_SERPS!C1618),ShareOfSearch_SERPS!C1618,\"\")","v":""},{"$f":"IF(ISTEXT(ShareOfSearch_SERPS!D1618),ShareOfSearch_SERPS!D1618,\"\")","v":""},{"$f":"IF(NOT(ISBLANK(ShareOfSearch_SERPS!A1618)),ShareOfSearch_SERPS!A1618,\"\")","v":""},{"$f":"IF(NOT(ISBLANK(ShareOfSearch_SERPS!G1618)),ShareOfSearch_SERPS!G1618,\"\")","v":""},{"$f":"IF(NOT(ISBLANK(ShareOfSearch_SERPS!K1618)),ShareOfSearch_SERPS!K1618,\"\")","v":""},{"$f":"IFERROR(VLOOKUP(C1618,ShareOfSearch_CTR!$A$1:$B$100,2,FALSE)*VLOOKUP(A1618&B1618,ShareOfSearch_Volume!$C$1:$D$1000,2,FALSE),\"\")","v":""}]
[{"$f":"IF(ISTEXT(ShareOfSearch_SERPS!C1619),ShareOfSearch_SERPS!C1619,\"\")","v":""},{"$f":"IF(ISTEXT(ShareOfSearch_SERPS!D1619),ShareOfSearch_SERPS!D1619,\"\")","v":""},{"$f":"IF(NOT(ISBLANK(ShareOfSearch_SERPS!A1619)),ShareOfSearch_SERPS!A1619,\"\")","v":""},{"$f":"IF(NOT(ISBLANK(ShareOfSearch_SERPS!G1619)),ShareOfSearch_SERPS!G1619,\"\")","v":""},{"$f":"IF(NOT(ISBLANK(ShareOfSearch_SERPS!K1619)),ShareOfSearch_SERPS!K1619,\"\")","v":""},{"$f":"IFERROR(VLOOKUP(C1619,ShareOfSearch_CTR!$A$1:$B$100,2,FALSE)*VLOOKUP(A1619&B1619,ShareOfSearch_Volume!$C$1:$D$1000,2,FALSE),\"\")","v":""}]
[{"$f":"IF(ISTEXT(ShareOfSearch_SERPS!C1620),ShareOfSearch_SERPS!C1620,\"\")","v":""},{"$f":"IF(ISTEXT(ShareOfSearch_SERPS!D1620),ShareOfSearch_SERPS!D1620,\"\")","v":""},{"$f":"IF(NOT(ISBLANK(ShareOfSearch_SERPS!A1620)),ShareOfSearch_SERPS!A1620,\"\")","v":""},{"$f":"IF(NOT(ISBLANK(ShareOfSearch_SERPS!G1620)),ShareOfSearch_SERPS!G1620,\"\")","v":""},{"$f":"IF(NOT(ISBLANK(ShareOfSearch_SERPS!K1620)),ShareOfSearch_SERPS!K1620,\"\")","v":""},{"$f":"IFERROR(VLOOKUP(C1620,ShareOfSearch_CTR!$A$1:$B$100,2,FALSE)*VLOOKUP(A1620&B1620,ShareOfSearch_Volume!$C$1:$D$1000,2,FALSE),\"\")","v":""}]
[{"$f":"IF(ISTEXT(ShareOfSearch_SERPS!C1621),ShareOfSearch_SERPS!C1621,\"\")","v":""},{"$f":"IF(ISTEXT(ShareOfSearch_SERPS!D1621),ShareOfSearch_SERPS!D1621,\"\")","v":""},{"$f":"IF(NOT(ISBLANK(ShareOfSearch_SERPS!A1621)),ShareOfSearch_SERPS!A1621,\"\")","v":""},{"$f":"IF(NOT(ISBLANK(ShareOfSearch_SERPS!G1621)),ShareOfSearch_SERPS!G1621,\"\")","v":""},{"$f":"IF(NOT(ISBLANK(ShareOfSearch_SERPS!K1621)),ShareOfSearch_SERPS!K1621,\"\")","v":""},{"$f":"IFERROR(VLOOKUP(C1621,ShareOfSearch_CTR!$A$1:$B$100,2,FALSE)*VLOOKUP(A1621&B1621,ShareOfSearch_Volume!$C$1:$D$1000,2,FALSE),\"\")","v":""}]
[{"$f":"IF(ISTEXT(ShareOfSearch_SERPS!C1622),ShareOfSearch_SERPS!C1622,\"\")","v":""},{"$f":"IF(ISTEXT(ShareOfSearch_SERPS!D1622),ShareOfSearch_SERPS!D1622,\"\")","v":""},{"$f":"IF(NOT(ISBLANK(ShareOfSearch_SERPS!A1622)),ShareOfSearch_SERPS!A1622,\"\")","v":""},{"$f":"IF(NOT(ISBLANK(ShareOfSearch_SERPS!G1622)),ShareOfSearch_SERPS!G1622,\"\")","v":""},{"$f":"IF(NOT(ISBLANK(ShareOfSearch_SERPS!K1622)),ShareOfSearch_SERPS!K1622,\"\")","v":""},{"$f":"IFERROR(VLOOKUP(C1622,ShareOfSearch_CTR!$A$1:$B$100,2,FALSE)*VLOOKUP(A1622&B1622,ShareOfSearch_Volume!$C$1:$D$1000,2,FALSE),\"\")","v":""}]
[{"$f":"IF(ISTEXT(ShareOfSearch_SERPS!C1623),ShareOfSearch_SERPS!C1623,\"\")","v":""},{"$f":"IF(ISTEXT(ShareOfSearch_SERPS!D1623),ShareOfSearch_SERPS!D1623,\"\")","v":""},{"$f":"IF(NOT(ISBLANK(ShareOfSearch_SERPS!A1623)),ShareOfSearch_SERPS!A1623,\"\")","v":""},{"$f":"IF(NOT(ISBLANK(ShareOfSearch_SERPS!G1623)),ShareOfSearch_SERPS!G1623,\"\")","v":""},{"$f":"IF(NOT(ISBLANK(ShareOfSearch_SERPS!K1623)),ShareOfSearch_SERPS!K1623,\"\")","v":""},{"$f":"IFERROR(VLOOKUP(C1623,ShareOfSearch_CTR!$A$1:$B$100,2,FALSE)*VLOOKUP(A1623&B1623,ShareOfSearch_Volume!$C$1:$D$1000,2,FALSE),\"\")","v":""}]
[{"$f":"IF(ISTEXT(ShareOfSearch_SERPS!C1624),ShareOfSearch_SERPS!C1624,\"\")","v":""},{"$f":"IF(ISTEXT(ShareOfSearch_SERPS!D1624),ShareOfSearch_SERPS!D1624,\"\")","v":""},{"$f":"IF(NOT(ISBLANK(ShareOfSearch_SERPS!A1624)),ShareOfSearch_SERPS!A1624,\"\")","v":""},{"$f":"IF(NOT(ISBLANK(ShareOfSearch_SERPS!G1624)),ShareOfSearch_SERPS!G1624,\"\")","v":""},{"$f":"IF(NOT(ISBLANK(ShareOfSearch_SERPS!K1624)),ShareOfSearch_SERPS!K1624,\"\")","v":""},{"$f":"IFERROR(VLOOKUP(C1624,ShareOfSearch_CTR!$A$1:$B$100,2,FALSE)*VLOOKUP(A1624&B1624,ShareOfSearch_Volume!$C$1:$D$1000,2,FALSE),\"\")","v":""}]
[{"$f":"IF(ISTEXT(ShareOfSearch_SERPS!C1625),ShareOfSearch_SERPS!C1625,\"\")","v":""},{"$f":"IF(ISTEXT(ShareOfSearch_SERPS!D1625),ShareOfSearch_SERPS!D1625,\"\")","v":""},{"$f":"IF(NOT(ISBLANK(ShareOfSearch_SERPS!A1625)),ShareOfSearch_SERPS!A1625,\"\")","v":""},{"$f":"IF(NOT(ISBLANK(ShareOfSearch_SERPS!G1625)),ShareOfSearch_SERPS!G1625,\"\")","v":""},{"$f":"IF(NOT(ISBLANK(ShareOfSearch_SERPS!K1625)),ShareOfSearch_SERPS!K1625,\"\")","v":""},{"$f":"IFERROR(VLOOKUP(C1625,ShareOfSearch_CTR!$A$1:$B$100,2,FALSE)*VLOOKUP(A1625&B1625,ShareOfSearch_Volume!$C$1:$D$1000,2,FALSE),\"\")","v":""}]
[{"$f":"IF(ISTEXT(ShareOfSearch_SERPS!C1626),ShareOfSearch_SERPS!C1626,\"\")","v":""},{"$f":"IF(ISTEXT(ShareOfSearch_SERPS!D1626),ShareOfSearch_SERPS!D1626,\"\")","v":""},{"$f":"IF(NOT(ISBLANK(ShareOfSearch_SERPS!A1626)),ShareOfSearch_SERPS!A1626,\"\")","v":""},{"$f":"IF(NOT(ISBLANK(ShareOfSearch_SERPS!G1626)),ShareOfSearch_SERPS!G1626,\"\")","v":""},{"$f":"IF(NOT(ISBLANK(ShareOfSearch_SERPS!K1626)),ShareOfSearch_SERPS!K1626,\"\")","v":""},{"$f":"IFERROR(VLOOKUP(C1626,ShareOfSearch_CTR!$A$1:$B$100,2,FALSE)*VLOOKUP(A1626&B1626,ShareOfSearch_Volume!$C$1:$D$1000,2,FALSE),\"\")","v":""}]
[{"$f":"IF(ISTEXT(ShareOfSearch_SERPS!C1627),ShareOfSearch_SERPS!C1627,\"\")","v":""},{"$f":"IF(ISTEXT(ShareOfSearch_SERPS!D1627),ShareOfSearch_SERPS!D1627,\"\")","v":""},{"$f":"IF(NOT(ISBLANK(ShareOfSearch_SERPS!A1627)),ShareOfSearch_SERPS!A1627,\"\")","v":""},{"$f":"IF(NOT(ISBLANK(ShareOfSearch_SERPS!G1627)),ShareOfSearch_SERPS!G1627,\"\")","v":""},{"$f":"IF(NOT(ISBLANK(ShareOfSearch_SERPS!K1627)),ShareOfSearch_SERPS!K1627,\"\")","v":""},{"$f":"IFERROR(VLOOKUP(C1627,ShareOfSearch_CTR!$A$1:$B$100,2,FALSE)*VLOOKUP(A1627&B1627,ShareOfSearch_Volume!$C$1:$D$1000,2,FALSE),\"\")","v":""}]
[{"$f":"IF(ISTEXT(ShareOfSearch_SERPS!C1628),ShareOfSearch_SERPS!C1628,\"\")","v":""},{"$f":"IF(ISTEXT(ShareOfSearch_SERPS!D1628),ShareOfSearch_SERPS!D1628,\"\")","v":""},{"$f":"IF(NOT(ISBLANK(ShareOfSearch_SERPS!A1628)),ShareOfSearch_SERPS!A1628,\"\")","v":""},{"$f":"IF(NOT(ISBLANK(ShareOfSearch_SERPS!G1628)),ShareOfSearch_SERPS!G1628,\"\")","v":""},{"$f":"IF(NOT(ISBLANK(ShareOfSearch_SERPS!K1628)),ShareOfSearch_SERPS!K1628,\"\")","v":""},{"$f":"IFERROR(VLOOKUP(C1628,ShareOfSearch_CTR!$A$1:$B$100,2,FALSE)*VLOOKUP(A1628&B1628,ShareOfSearch_Volume!$C$1:$D$1000,2,FALSE),\"\")","v":""}]
[{"$f":"IF(ISTEXT(ShareOfSearch_SERPS!C1629),ShareOfSearch_SERPS!C1629,\"\")","v":""},{"$f":"IF(ISTEXT(ShareOfSearch_SERPS!D1629),ShareOfSearch_SERPS!D1629,\"\")","v":""},{"$f":"IF(NOT(ISBLANK(ShareOfSearch_SERPS!A1629)),ShareOfSearch_SERPS!A1629,\"\")","v":""},{"$f":"IF(NOT(ISBLANK(ShareOfSearch_SERPS!G1629)),ShareOfSearch_SERPS!G1629,\"\")","v":""},{"$f":"IF(NOT(ISBLANK(ShareOfSearch_SERPS!K1629)),ShareOfSearch_SERPS!K1629,\"\")","v":""},{"$f":"IFERROR(VLOOKUP(C1629,ShareOfSearch_CTR!$A$1:$B$100,2,FALSE)*VLOOKUP(A1629&B1629,ShareOfSearch_Volume!$C$1:$D$1000,2,FALSE),\"\")","v":""}]
[{"$f":"IF(ISTEXT(ShareOfSearch_SERPS!C1630),ShareOfSearch_SERPS!C1630,\"\")","v":""},{"$f":"IF(ISTEXT(ShareOfSearch_SERPS!D1630),ShareOfSearch_SERPS!D1630,\"\")","v":""},{"$f":"IF(NOT(ISBLANK(ShareOfSearch_SERPS!A1630)),ShareOfSearch_SERPS!A1630,\"\")","v":""},{"$f":"IF(NOT(ISBLANK(ShareOfSearch_SERPS!G1630)),ShareOfSearch_SERPS!G1630,\"\")","v":""},{"$f":"IF(NOT(ISBLANK(ShareOfSearch_SERPS!K1630)),ShareOfSearch_SERPS!K1630,\"\")","v":""},{"$f":"IFERROR(VLOOKUP(C1630,ShareOfSearch_CTR!$A$1:$B$100,2,FALSE)*VLOOKUP(A1630&B1630,ShareOfSearch_Volume!$C$1:$D$1000,2,FALSE),\"\")","v":""}]
[{"$f":"IF(ISTEXT(ShareOfSearch_SERPS!C1631),ShareOfSearch_SERPS!C1631,\"\")","v":""},{"$f":"IF(ISTEXT(ShareOfSearch_SERPS!D1631),ShareOfSearch_SERPS!D1631,\"\")","v":""},{"$f":"IF(NOT(ISBLANK(ShareOfSearch_SERPS!A1631)),ShareOfSearch_SERPS!A1631,\"\")","v":""},{"$f":"IF(NOT(ISBLANK(ShareOfSearch_SERPS!G1631)),ShareOfSearch_SERPS!G1631,\"\")","v":""},{"$f":"IF(NOT(ISBLANK(ShareOfSearch_SERPS!K1631)),ShareOfSearch_SERPS!K1631,\"\")","v":""},{"$f":"IFERROR(VLOOKUP(C1631,ShareOfSearch_CTR!$A$1:$B$100,2,FALSE)*VLOOKUP(A1631&B1631,ShareOfSearch_Volume!$C$1:$D$1000,2,FALSE),\"\")","v":""}]
[{"$f":"IF(ISTEXT(ShareOfSearch_SERPS!C1632),ShareOfSearch_SERPS!C1632,\"\")","v":""},{"$f":"IF(ISTEXT(ShareOfSearch_SERPS!D1632),ShareOfSearch_SERPS!D1632,\"\")","v":""},{"$f":"IF(NOT(ISBLANK(ShareOfSearch_SERPS!A1632)),ShareOfSearch_SERPS!A1632,\"\")","v":""},{"$f":"IF(NOT(ISBLANK(ShareOfSearch_SERPS!G1632)),ShareOfSearch_SERPS!G1632,\"\")","v":""},{"$f":"IF(NOT(ISBLANK(ShareOfSearch_SERPS!K1632)),ShareOfSearch_SERPS!K1632,\"\")","v":""},{"$f":"IFERROR(VLOOKUP(C1632,ShareOfSearch_CTR!$A$1:$B$100,2,FALSE)*VLOOKUP(A1632&B1632,ShareOfSearch_Volume!$C$1:$D$1000,2,FALSE),\"\")","v":""}]
[{"$f":"IF(ISTEXT(ShareOfSearch_SERPS!C1633),ShareOfSearch_SERPS!C1633,\"\")","v":""},{"$f":"IF(ISTEXT(ShareOfSearch_SERPS!D1633),ShareOfSearch_SERPS!D1633,\"\")","v":""},{"$f":"IF(NOT(ISBLANK(ShareOfSearch_SERPS!A1633)),ShareOfSearch_SERPS!A1633,\"\")","v":""},{"$f":"IF(NOT(ISBLANK(ShareOfSearch_SERPS!G1633)),ShareOfSearch_SERPS!G1633,\"\")","v":""},{"$f":"IF(NOT(ISBLANK(ShareOfSearch_SERPS!K1633)),ShareOfSearch_SERPS!K1633,\"\")","v":""},{"$f":"IFERROR(VLOOKUP(C1633,ShareOfSearch_CTR!$A$1:$B$100,2,FALSE)*VLOOKUP(A1633&B1633,ShareOfSearch_Volume!$C$1:$D$1000,2,FALSE),\"\")","v":""}]
[{"$f":"IF(ISTEXT(ShareOfSearch_SERPS!C1634),ShareOfSearch_SERPS!C1634,\"\")","v":""},{"$f":"IF(ISTEXT(ShareOfSearch_SERPS!D1634),ShareOfSearch_SERPS!D1634,\"\")","v":""},{"$f":"IF(NOT(ISBLANK(ShareOfSearch_SERPS!A1634)),ShareOfSearch_SERPS!A1634,\"\")","v":""},{"$f":"IF(NOT(ISBLANK(ShareOfSearch_SERPS!G1634)),ShareOfSearch_SERPS!G1634,\"\")","v":""},{"$f":"IF(NOT(ISBLANK(ShareOfSearch_SERPS!K1634)),ShareOfSearch_SERPS!K1634,\"\")","v":""},{"$f":"IFERROR(VLOOKUP(C1634,ShareOfSearch_CTR!$A$1:$B$100,2,FALSE)*VLOOKUP(A1634&B1634,ShareOfSearch_Volume!$C$1:$D$1000,2,FALSE),\"\")","v":""}]
[{"$f":"IF(ISTEXT(ShareOfSearch_SERPS!C1635),ShareOfSearch_SERPS!C1635,\"\")","v":""},{"$f":"IF(ISTEXT(ShareOfSearch_SERPS!D1635),ShareOfSearch_SERPS!D1635,\"\")","v":""},{"$f":"IF(NOT(ISBLANK(ShareOfSearch_SERPS!A1635)),ShareOfSearch_SERPS!A1635,\"\")","v":""},{"$f":"IF(NOT(ISBLANK(ShareOfSearch_SERPS!G1635)),ShareOfSearch_SERPS!G1635,\"\")","v":""},{"$f":"IF(NOT(ISBLANK(ShareOfSearch_SERPS!K1635)),ShareOfSearch_SERPS!K1635,\"\")","v":""},{"$f":"IFERROR(VLOOKUP(C1635,ShareOfSearch_CTR!$A$1:$B$100,2,FALSE)*VLOOKUP(A1635&B1635,ShareOfSearch_Volume!$C$1:$D$1000,2,FALSE),\"\")","v":""}]
[{"$f":"IF(ISTEXT(ShareOfSearch_SERPS!C1636),ShareOfSearch_SERPS!C1636,\"\")","v":""},{"$f":"IF(ISTEXT(ShareOfSearch_SERPS!D1636),ShareOfSearch_SERPS!D1636,\"\")","v":""},{"$f":"IF(NOT(ISBLANK(ShareOfSearch_SERPS!A1636)),ShareOfSearch_SERPS!A1636,\"\")","v":""},{"$f":"IF(NOT(ISBLANK(ShareOfSearch_SERPS!G1636)),ShareOfSearch_SERPS!G1636,\"\")","v":""},{"$f":"IF(NOT(ISBLANK(ShareOfSearch_SERPS!K1636)),ShareOfSearch_SERPS!K1636,\"\")","v":""},{"$f":"IFERROR(VLOOKUP(C1636,ShareOfSearch_CTR!$A$1:$B$100,2,FALSE)*VLOOKUP(A1636&B1636,ShareOfSearch_Volume!$C$1:$D$1000,2,FALSE),\"\")","v":""}]
[{"$f":"IF(ISTEXT(ShareOfSearch_SERPS!C1637),ShareOfSearch_SERPS!C1637,\"\")","v":""},{"$f":"IF(ISTEXT(ShareOfSearch_SERPS!D1637),ShareOfSearch_SERPS!D1637,\"\")","v":""},{"$f":"IF(NOT(ISBLANK(ShareOfSearch_SERPS!A1637)),ShareOfSearch_SERPS!A1637,\"\")","v":""},{"$f":"IF(NOT(ISBLANK(ShareOfSearch_SERPS!G1637)),ShareOfSearch_SERPS!G1637,\"\")","v":""},{"$f":"IF(NOT(ISBLANK(ShareOfSearch_SERPS!K1637)),ShareOfSearch_SERPS!K1637,\"\")","v":""},{"$f":"IFERROR(VLOOKUP(C1637,ShareOfSearch_CTR!$A$1:$B$100,2,FALSE)*VLOOKUP(A1637&B1637,ShareOfSearch_Volume!$C$1:$D$1000,2,FALSE),\"\")","v":""}]
[{"$f":"IF(ISTEXT(ShareOfSearch_SERPS!C1638),ShareOfSearch_SERPS!C1638,\"\")","v":""},{"$f":"IF(ISTEXT(ShareOfSearch_SERPS!D1638),ShareOfSearch_SERPS!D1638,\"\")","v":""},{"$f":"IF(NOT(ISBLANK(ShareOfSearch_SERPS!A1638)),ShareOfSearch_SERPS!A1638,\"\")","v":""},{"$f":"IF(NOT(ISBLANK(ShareOfSearch_SERPS!G1638)),ShareOfSearch_SERPS!G1638,\"\")","v":""},{"$f":"IF(NOT(ISBLANK(ShareOfSearch_SERPS!K1638)),ShareOfSearch_SERPS!K1638,\"\")","v":""},{"$f":"IFERROR(VLOOKUP(C1638,ShareOfSearch_CTR!$A$1:$B$100,2,FALSE)*VLOOKUP(A1638&B1638,ShareOfSearch_Volume!$C$1:$D$1000,2,FALSE),\"\")","v":""}]
[{"$f":"IF(ISTEXT(ShareOfSearch_SERPS!C1639),ShareOfSearch_SERPS!C1639,\"\")","v":""},{"$f":"IF(ISTEXT(ShareOfSearch_SERPS!D1639),ShareOfSearch_SERPS!D1639,\"\")","v":""},{"$f":"IF(NOT(ISBLANK(ShareOfSearch_SERPS!A1639)),ShareOfSearch_SERPS!A1639,\"\")","v":""},{"$f":"IF(NOT(ISBLANK(ShareOfSearch_SERPS!G1639)),ShareOfSearch_SERPS!G1639,\"\")","v":""},{"$f":"IF(NOT(ISBLANK(ShareOfSearch_SERPS!K1639)),ShareOfSearch_SERPS!K1639,\"\")","v":""},{"$f":"IFERROR(VLOOKUP(C1639,ShareOfSearch_CTR!$A$1:$B$100,2,FALSE)*VLOOKUP(A1639&B1639,ShareOfSearch_Volume!$C$1:$D$1000,2,FALSE),\"\")","v":""}]
[{"$f":"IF(ISTEXT(ShareOfSearch_SERPS!C1640),ShareOfSearch_SERPS!C1640,\"\")","v":""},{"$f":"IF(ISTEXT(ShareOfSearch_SERPS!D1640),ShareOfSearch_SERPS!D1640,\"\")","v":""},{"$f":"IF(NOT(ISBLANK(ShareOfSearch_SERPS!A1640)),ShareOfSearch_SERPS!A1640,\"\")","v":""},{"$f":"IF(NOT(ISBLANK(ShareOfSearch_SERPS!G1640)),ShareOfSearch_SERPS!G1640,\"\")","v":""},{"$f":"IF(NOT(ISBLANK(ShareOfSearch_SERPS!K1640)),ShareOfSearch_SERPS!K1640,\"\")","v":""},{"$f":"IFERROR(VLOOKUP(C1640,ShareOfSearch_CTR!$A$1:$B$100,2,FALSE)*VLOOKUP(A1640&B1640,ShareOfSearch_Volume!$C$1:$D$1000,2,FALSE),\"\")","v":""}]
[{"$f":"IF(ISTEXT(ShareOfSearch_SERPS!C1641),ShareOfSearch_SERPS!C1641,\"\")","v":""},{"$f":"IF(ISTEXT(ShareOfSearch_SERPS!D1641),ShareOfSearch_SERPS!D1641,\"\")","v":""},{"$f":"IF(NOT(ISBLANK(ShareOfSearch_SERPS!A1641)),ShareOfSearch_SERPS!A1641,\"\")","v":""},{"$f":"IF(NOT(ISBLANK(ShareOfSearch_SERPS!G1641)),ShareOfSearch_SERPS!G1641,\"\")","v":""},{"$f":"IF(NOT(ISBLANK(ShareOfSearch_SERPS!K1641)),ShareOfSearch_SERPS!K1641,\"\")","v":""},{"$f":"IFERROR(VLOOKUP(C1641,ShareOfSearch_CTR!$A$1:$B$100,2,FALSE)*VLOOKUP(A1641&B1641,ShareOfSearch_Volume!$C$1:$D$1000,2,FALSE),\"\")","v":""}]
[{"$f":"IF(ISTEXT(ShareOfSearch_SERPS!C1642),ShareOfSearch_SERPS!C1642,\"\")","v":""},{"$f":"IF(ISTEXT(ShareOfSearch_SERPS!D1642),ShareOfSearch_SERPS!D1642,\"\")","v":""},{"$f":"IF(NOT(ISBLANK(ShareOfSearch_SERPS!A1642)),ShareOfSearch_SERPS!A1642,\"\")","v":""},{"$f":"IF(NOT(ISBLANK(ShareOfSearch_SERPS!G1642)),ShareOfSearch_SERPS!G1642,\"\")","v":""},{"$f":"IF(NOT(ISBLANK(ShareOfSearch_SERPS!K1642)),ShareOfSearch_SERPS!K1642,\"\")","v":""},{"$f":"IFERROR(VLOOKUP(C1642,ShareOfSearch_CTR!$A$1:$B$100,2,FALSE)*VLOOKUP(A1642&B1642,ShareOfSearch_Volume!$C$1:$D$1000,2,FALSE),\"\")","v":""}]
[{"$f":"IF(ISTEXT(ShareOfSearch_SERPS!C1643),ShareOfSearch_SERPS!C1643,\"\")","v":""},{"$f":"IF(ISTEXT(ShareOfSearch_SERPS!D1643),ShareOfSearch_SERPS!D1643,\"\")","v":""},{"$f":"IF(NOT(ISBLANK(ShareOfSearch_SERPS!A1643)),ShareOfSearch_SERPS!A1643,\"\")","v":""},{"$f":"IF(NOT(ISBLANK(ShareOfSearch_SERPS!G1643)),ShareOfSearch_SERPS!G1643,\"\")","v":""},{"$f":"IF(NOT(ISBLANK(ShareOfSearch_SERPS!K1643)),ShareOfSearch_SERPS!K1643,\"\")","v":""},{"$f":"IFERROR(VLOOKUP(C1643,ShareOfSearch_CTR!$A$1:$B$100,2,FALSE)*VLOOKUP(A1643&B1643,ShareOfSearch_Volume!$C$1:$D$1000,2,FALSE),\"\")","v":""}]
[{"$f":"IF(ISTEXT(ShareOfSearch_SERPS!C1644),ShareOfSearch_SERPS!C1644,\"\")","v":""},{"$f":"IF(ISTEXT(ShareOfSearch_SERPS!D1644),ShareOfSearch_SERPS!D1644,\"\")","v":""},{"$f":"IF(NOT(ISBLANK(ShareOfSearch_SERPS!A1644)),ShareOfSearch_SERPS!A1644,\"\")","v":""},{"$f":"IF(NOT(ISBLANK(ShareOfSearch_SERPS!G1644)),ShareOfSearch_SERPS!G1644,\"\")","v":""},{"$f":"IF(NOT(ISBLANK(ShareOfSearch_SERPS!K1644)),ShareOfSearch_SERPS!K1644,\"\")","v":""},{"$f":"IFERROR(VLOOKUP(C1644,ShareOfSearch_CTR!$A$1:$B$100,2,FALSE)*VLOOKUP(A1644&B1644,ShareOfSearch_Volume!$C$1:$D$1000,2,FALSE),\"\")","v":""}]
[{"$f":"IF(ISTEXT(ShareOfSearch_SERPS!C1645),ShareOfSearch_SERPS!C1645,\"\")","v":""},{"$f":"IF(ISTEXT(ShareOfSearch_SERPS!D1645),ShareOfSearch_SERPS!D1645,\"\")","v":""},{"$f":"IF(NOT(ISBLANK(ShareOfSearch_SERPS!A1645)),ShareOfSearch_SERPS!A1645,\"\")","v":""},{"$f":"IF(NOT(ISBLANK(ShareOfSearch_SERPS!G1645)),ShareOfSearch_SERPS!G1645,\"\")","v":""},{"$f":"IF(NOT(ISBLANK(ShareOfSearch_SERPS!K1645)),ShareOfSearch_SERPS!K1645,\"\")","v":""},{"$f":"IFERROR(VLOOKUP(C1645,ShareOfSearch_CTR!$A$1:$B$100,2,FALSE)*VLOOKUP(A1645&B1645,ShareOfSearch_Volume!$C$1:$D$1000,2,FALSE),\"\")","v":""}]
[{"$f":"IF(ISTEXT(ShareOfSearch_SERPS!C1646),ShareOfSearch_SERPS!C1646,\"\")","v":""},{"$f":"IF(ISTEXT(ShareOfSearch_SERPS!D1646),ShareOfSearch_SERPS!D1646,\"\")","v":""},{"$f":"IF(NOT(ISBLANK(ShareOfSearch_SERPS!A1646)),ShareOfSearch_SERPS!A1646,\"\")","v":""},{"$f":"IF(NOT(ISBLANK(ShareOfSearch_SERPS!G1646)),ShareOfSearch_SERPS!G1646,\"\")","v":""},{"$f":"IF(NOT(ISBLANK(ShareOfSearch_SERPS!K1646)),ShareOfSearch_SERPS!K1646,\"\")","v":""},{"$f":"IFERROR(VLOOKUP(C1646,ShareOfSearch_CTR!$A$1:$B$100,2,FALSE)*VLOOKUP(A1646&B1646,ShareOfSearch_Volume!$C$1:$D$1000,2,FALSE),\"\")","v":""}]
[{"$f":"IF(ISTEXT(ShareOfSearch_SERPS!C1647),ShareOfSearch_SERPS!C1647,\"\")","v":""},{"$f":"IF(ISTEXT(ShareOfSearch_SERPS!D1647),ShareOfSearch_SERPS!D1647,\"\")","v":""},{"$f":"IF(NOT(ISBLANK(ShareOfSearch_SERPS!A1647)),ShareOfSearch_SERPS!A1647,\"\")","v":""},{"$f":"IF(NOT(ISBLANK(ShareOfSearch_SERPS!G1647)),ShareOfSearch_SERPS!G1647,\"\")","v":""},{"$f":"IF(NOT(ISBLANK(ShareOfSearch_SERPS!K1647)),ShareOfSearch_SERPS!K1647,\"\")","v":""},{"$f":"IFERROR(VLOOKUP(C1647,ShareOfSearch_CTR!$A$1:$B$100,2,FALSE)*VLOOKUP(A1647&B1647,ShareOfSearch_Volume!$C$1:$D$1000,2,FALSE),\"\")","v":""}]
[{"$f":"IF(ISTEXT(ShareOfSearch_SERPS!C1648),ShareOfSearch_SERPS!C1648,\"\")","v":""},{"$f":"IF(ISTEXT(ShareOfSearch_SERPS!D1648),ShareOfSearch_SERPS!D1648,\"\")","v":""},{"$f":"IF(NOT(ISBLANK(ShareOfSearch_SERPS!A1648)),ShareOfSearch_SERPS!A1648,\"\")","v":""},{"$f":"IF(NOT(ISBLANK(ShareOfSearch_SERPS!G1648)),ShareOfSearch_SERPS!G1648,\"\")","v":""},{"$f":"IF(NOT(ISBLANK(ShareOfSearch_SERPS!K1648)),ShareOfSearch_SERPS!K1648,\"\")","v":""},{"$f":"IFERROR(VLOOKUP(C1648,ShareOfSearch_CTR!$A$1:$B$100,2,FALSE)*VLOOKUP(A1648&B1648,ShareOfSearch_Volume!$C$1:$D$1000,2,FALSE),\"\")","v":""}]
[{"$f":"IF(ISTEXT(ShareOfSearch_SERPS!C1649),ShareOfSearch_SERPS!C1649,\"\")","v":""},{"$f":"IF(ISTEXT(ShareOfSearch_SERPS!D1649),ShareOfSearch_SERPS!D1649,\"\")","v":""},{"$f":"IF(NOT(ISBLANK(ShareOfSearch_SERPS!A1649)),ShareOfSearch_SERPS!A1649,\"\")","v":""},{"$f":"IF(NOT(ISBLANK(ShareOfSearch_SERPS!G1649)),ShareOfSearch_SERPS!G1649,\"\")","v":""},{"$f":"IF(NOT(ISBLANK(ShareOfSearch_SERPS!K1649)),ShareOfSearch_SERPS!K1649,\"\")","v":""},{"$f":"IFERROR(VLOOKUP(C1649,ShareOfSearch_CTR!$A$1:$B$100,2,FALSE)*VLOOKUP(A1649&B1649,ShareOfSearch_Volume!$C$1:$D$1000,2,FALSE),\"\")","v":""}]
[{"$f":"IF(ISTEXT(ShareOfSearch_SERPS!C1650),ShareOfSearch_SERPS!C1650,\"\")","v":""},{"$f":"IF(ISTEXT(ShareOfSearch_SERPS!D1650),ShareOfSearch_SERPS!D1650,\"\")","v":""},{"$f":"IF(NOT(ISBLANK(ShareOfSearch_SERPS!A1650)),ShareOfSearch_SERPS!A1650,\"\")","v":""},{"$f":"IF(NOT(ISBLANK(ShareOfSearch_SERPS!G1650)),ShareOfSearch_SERPS!G1650,\"\")","v":""},{"$f":"IF(NOT(ISBLANK(ShareOfSearch_SERPS!K1650)),ShareOfSearch_SERPS!K1650,\"\")","v":""},{"$f":"IFERROR(VLOOKUP(C1650,ShareOfSearch_CTR!$A$1:$B$100,2,FALSE)*VLOOKUP(A1650&B1650,ShareOfSearch_Volume!$C$1:$D$1000,2,FALSE),\"\")","v":""}]
[{"$f":"IF(ISTEXT(ShareOfSearch_SERPS!C1651),ShareOfSearch_SERPS!C1651,\"\")","v":""},{"$f":"IF(ISTEXT(ShareOfSearch_SERPS!D1651),ShareOfSearch_SERPS!D1651,\"\")","v":""},{"$f":"IF(NOT(ISBLANK(ShareOfSearch_SERPS!A1651)),ShareOfSearch_SERPS!A1651,\"\")","v":""},{"$f":"IF(NOT(ISBLANK(ShareOfSearch_SERPS!G1651)),ShareOfSearch_SERPS!G1651,\"\")","v":""},{"$f":"IF(NOT(ISBLANK(ShareOfSearch_SERPS!K1651)),ShareOfSearch_SERPS!K1651,\"\")","v":""},{"$f":"IFERROR(VLOOKUP(C1651,ShareOfSearch_CTR!$A$1:$B$100,2,FALSE)*VLOOKUP(A1651&B1651,ShareOfSearch_Volume!$C$1:$D$1000,2,FALSE),\"\")","v":""}]
[{"$f":"IF(ISTEXT(ShareOfSearch_SERPS!C1652),ShareOfSearch_SERPS!C1652,\"\")","v":""},{"$f":"IF(ISTEXT(ShareOfSearch_SERPS!D1652),ShareOfSearch_SERPS!D1652,\"\")","v":""},{"$f":"IF(NOT(ISBLANK(ShareOfSearch_SERPS!A1652)),ShareOfSearch_SERPS!A1652,\"\")","v":""},{"$f":"IF(NOT(ISBLANK(ShareOfSearch_SERPS!G1652)),ShareOfSearch_SERPS!G1652,\"\")","v":""},{"$f":"IF(NOT(ISBLANK(ShareOfSearch_SERPS!K1652)),ShareOfSearch_SERPS!K1652,\"\")","v":""},{"$f":"IFERROR(VLOOKUP(C1652,ShareOfSearch_CTR!$A$1:$B$100,2,FALSE)*VLOOKUP(A1652&B1652,ShareOfSearch_Volume!$C$1:$D$1000,2,FALSE),\"\")","v":""}]
[{"$f":"IF(ISTEXT(ShareOfSearch_SERPS!C1653),ShareOfSearch_SERPS!C1653,\"\")","v":""},{"$f":"IF(ISTEXT(ShareOfSearch_SERPS!D1653),ShareOfSearch_SERPS!D1653,\"\")","v":""},{"$f":"IF(NOT(ISBLANK(ShareOfSearch_SERPS!A1653)),ShareOfSearch_SERPS!A1653,\"\")","v":""},{"$f":"IF(NOT(ISBLANK(ShareOfSearch_SERPS!G1653)),ShareOfSearch_SERPS!G1653,\"\")","v":""},{"$f":"IF(NOT(ISBLANK(ShareOfSearch_SERPS!K1653)),ShareOfSearch_SERPS!K1653,\"\")","v":""},{"$f":"IFERROR(VLOOKUP(C1653,ShareOfSearch_CTR!$A$1:$B$100,2,FALSE)*VLOOKUP(A1653&B1653,ShareOfSearch_Volume!$C$1:$D$1000,2,FALSE),\"\")","v":""}]
[{"$f":"IF(ISTEXT(ShareOfSearch_SERPS!C1654),ShareOfSearch_SERPS!C1654,\"\")","v":""},{"$f":"IF(ISTEXT(ShareOfSearch_SERPS!D1654),ShareOfSearch_SERPS!D1654,\"\")","v":""},{"$f":"IF(NOT(ISBLANK(ShareOfSearch_SERPS!A1654)),ShareOfSearch_SERPS!A1654,\"\")","v":""},{"$f":"IF(NOT(ISBLANK(ShareOfSearch_SERPS!G1654)),ShareOfSearch_SERPS!G1654,\"\")","v":""},{"$f":"IF(NOT(ISBLANK(ShareOfSearch_SERPS!K1654)),ShareOfSearch_SERPS!K1654,\"\")","v":""},{"$f":"IFERROR(VLOOKUP(C1654,ShareOfSearch_CTR!$A$1:$B$100,2,FALSE)*VLOOKUP(A1654&B1654,ShareOfSearch_Volume!$C$1:$D$1000,2,FALSE),\"\")","v":""}]
[{"$f":"IF(ISTEXT(ShareOfSearch_SERPS!C1655),ShareOfSearch_SERPS!C1655,\"\")","v":""},{"$f":"IF(ISTEXT(ShareOfSearch_SERPS!D1655),ShareOfSearch_SERPS!D1655,\"\")","v":""},{"$f":"IF(NOT(ISBLANK(ShareOfSearch_SERPS!A1655)),ShareOfSearch_SERPS!A1655,\"\")","v":""},{"$f":"IF(NOT(ISBLANK(ShareOfSearch_SERPS!G1655)),ShareOfSearch_SERPS!G1655,\"\")","v":""},{"$f":"IF(NOT(ISBLANK(ShareOfSearch_SERPS!K1655)),ShareOfSearch_SERPS!K1655,\"\")","v":""},{"$f":"IFERROR(VLOOKUP(C1655,ShareOfSearch_CTR!$A$1:$B$100,2,FALSE)*VLOOKUP(A1655&B1655,ShareOfSearch_Volume!$C$1:$D$1000,2,FALSE),\"\")","v":""}]
[{"$f":"IF(ISTEXT(ShareOfSearch_SERPS!C1656),ShareOfSearch_SERPS!C1656,\"\")","v":""},{"$f":"IF(ISTEXT(ShareOfSearch_SERPS!D1656),ShareOfSearch_SERPS!D1656,\"\")","v":""},{"$f":"IF(NOT(ISBLANK(ShareOfSearch_SERPS!A1656)),ShareOfSearch_SERPS!A1656,\"\")","v":""},{"$f":"IF(NOT(ISBLANK(ShareOfSearch_SERPS!G1656)),ShareOfSearch_SERPS!G1656,\"\")","v":""},{"$f":"IF(NOT(ISBLANK(ShareOfSearch_SERPS!K1656)),ShareOfSearch_SERPS!K1656,\"\")","v":""},{"$f":"IFERROR(VLOOKUP(C1656,ShareOfSearch_CTR!$A$1:$B$100,2,FALSE)*VLOOKUP(A1656&B1656,ShareOfSearch_Volume!$C$1:$D$1000,2,FALSE),\"\")","v":""}]
[{"$f":"IF(ISTEXT(ShareOfSearch_SERPS!C1657),ShareOfSearch_SERPS!C1657,\"\")","v":""},{"$f":"IF(ISTEXT(ShareOfSearch_SERPS!D1657),ShareOfSearch_SERPS!D1657,\"\")","v":""},{"$f":"IF(NOT(ISBLANK(ShareOfSearch_SERPS!A1657)),ShareOfSearch_SERPS!A1657,\"\")","v":""},{"$f":"IF(NOT(ISBLANK(ShareOfSearch_SERPS!G1657)),ShareOfSearch_SERPS!G1657,\"\")","v":""},{"$f":"IF(NOT(ISBLANK(ShareOfSearch_SERPS!K1657)),ShareOfSearch_SERPS!K1657,\"\")","v":""},{"$f":"IFERROR(VLOOKUP(C1657,ShareOfSearch_CTR!$A$1:$B$100,2,FALSE)*VLOOKUP(A1657&B1657,ShareOfSearch_Volume!$C$1:$D$1000,2,FALSE),\"\")","v":""}]
[{"$f":"IF(ISTEXT(ShareOfSearch_SERPS!C1658),ShareOfSearch_SERPS!C1658,\"\")","v":""},{"$f":"IF(ISTEXT(ShareOfSearch_SERPS!D1658),ShareOfSearch_SERPS!D1658,\"\")","v":""},{"$f":"IF(NOT(ISBLANK(ShareOfSearch_SERPS!A1658)),ShareOfSearch_SERPS!A1658,\"\")","v":""},{"$f":"IF(NOT(ISBLANK(ShareOfSearch_SERPS!G1658)),ShareOfSearch_SERPS!G1658,\"\")","v":""},{"$f":"IF(NOT(ISBLANK(ShareOfSearch_SERPS!K1658)),ShareOfSearch_SERPS!K1658,\"\")","v":""},{"$f":"IFERROR(VLOOKUP(C1658,ShareOfSearch_CTR!$A$1:$B$100,2,FALSE)*VLOOKUP(A1658&B1658,ShareOfSearch_Volume!$C$1:$D$1000,2,FALSE),\"\")","v":""}]
[{"$f":"IF(ISTEXT(ShareOfSearch_SERPS!C1659),ShareOfSearch_SERPS!C1659,\"\")","v":""},{"$f":"IF(ISTEXT(ShareOfSearch_SERPS!D1659),ShareOfSearch_SERPS!D1659,\"\")","v":""},{"$f":"IF(NOT(ISBLANK(ShareOfSearch_SERPS!A1659)),ShareOfSearch_SERPS!A1659,\"\")","v":""},{"$f":"IF(NOT(ISBLANK(ShareOfSearch_SERPS!G1659)),ShareOfSearch_SERPS!G1659,\"\")","v":""},{"$f":"IF(NOT(ISBLANK(ShareOfSearch_SERPS!K1659)),ShareOfSearch_SERPS!K1659,\"\")","v":""},{"$f":"IFERROR(VLOOKUP(C1659,ShareOfSearch_CTR!$A$1:$B$100,2,FALSE)*VLOOKUP(A1659&B1659,ShareOfSearch_Volume!$C$1:$D$1000,2,FALSE),\"\")","v":""}]
[{"$f":"IF(ISTEXT(ShareOfSearch_SERPS!C1660),ShareOfSearch_SERPS!C1660,\"\")","v":""},{"$f":"IF(ISTEXT(ShareOfSearch_SERPS!D1660),ShareOfSearch_SERPS!D1660,\"\")","v":""},{"$f":"IF(NOT(ISBLANK(ShareOfSearch_SERPS!A1660)),ShareOfSearch_SERPS!A1660,\"\")","v":""},{"$f":"IF(NOT(ISBLANK(ShareOfSearch_SERPS!G1660)),ShareOfSearch_SERPS!G1660,\"\")","v":""},{"$f":"IF(NOT(ISBLANK(ShareOfSearch_SERPS!K1660)),ShareOfSearch_SERPS!K1660,\"\")","v":""},{"$f":"IFERROR(VLOOKUP(C1660,ShareOfSearch_CTR!$A$1:$B$100,2,FALSE)*VLOOKUP(A1660&B1660,ShareOfSearch_Volume!$C$1:$D$1000,2,FALSE),\"\")","v":""}]
[{"$f":"IF(ISTEXT(ShareOfSearch_SERPS!C1661),ShareOfSearch_SERPS!C1661,\"\")","v":""},{"$f":"IF(ISTEXT(ShareOfSearch_SERPS!D1661),ShareOfSearch_SERPS!D1661,\"\")","v":""},{"$f":"IF(NOT(ISBLANK(ShareOfSearch_SERPS!A1661)),ShareOfSearch_SERPS!A1661,\"\")","v":""},{"$f":"IF(NOT(ISBLANK(ShareOfSearch_SERPS!G1661)),ShareOfSearch_SERPS!G1661,\"\")","v":""},{"$f":"IF(NOT(ISBLANK(ShareOfSearch_SERPS!K1661)),ShareOfSearch_SERPS!K1661,\"\")","v":""},{"$f":"IFERROR(VLOOKUP(C1661,ShareOfSearch_CTR!$A$1:$B$100,2,FALSE)*VLOOKUP(A1661&B1661,ShareOfSearch_Volume!$C$1:$D$1000,2,FALSE),\"\")","v":""}]
[{"$f":"IF(ISTEXT(ShareOfSearch_SERPS!C1662),ShareOfSearch_SERPS!C1662,\"\")","v":""},{"$f":"IF(ISTEXT(ShareOfSearch_SERPS!D1662),ShareOfSearch_SERPS!D1662,\"\")","v":""},{"$f":"IF(NOT(ISBLANK(ShareOfSearch_SERPS!A1662)),ShareOfSearch_SERPS!A1662,\"\")","v":""},{"$f":"IF(NOT(ISBLANK(ShareOfSearch_SERPS!G1662)),ShareOfSearch_SERPS!G1662,\"\")","v":""},{"$f":"IF(NOT(ISBLANK(ShareOfSearch_SERPS!K1662)),ShareOfSearch_SERPS!K1662,\"\")","v":""},{"$f":"IFERROR(VLOOKUP(C1662,ShareOfSearch_CTR!$A$1:$B$100,2,FALSE)*VLOOKUP(A1662&B1662,ShareOfSearch_Volume!$C$1:$D$1000,2,FALSE),\"\")","v":""}]
[{"$f":"IF(ISTEXT(ShareOfSearch_SERPS!C1663),ShareOfSearch_SERPS!C1663,\"\")","v":""},{"$f":"IF(ISTEXT(ShareOfSearch_SERPS!D1663),ShareOfSearch_SERPS!D1663,\"\")","v":""},{"$f":"IF(NOT(ISBLANK(ShareOfSearch_SERPS!A1663)),ShareOfSearch_SERPS!A1663,\"\")","v":""},{"$f":"IF(NOT(ISBLANK(ShareOfSearch_SERPS!G1663)),ShareOfSearch_SERPS!G1663,\"\")","v":""},{"$f":"IF(NOT(ISBLANK(ShareOfSearch_SERPS!K1663)),ShareOfSearch_SERPS!K1663,\"\")","v":""},{"$f":"IFERROR(VLOOKUP(C1663,ShareOfSearch_CTR!$A$1:$B$100,2,FALSE)*VLOOKUP(A1663&B1663,ShareOfSearch_Volume!$C$1:$D$1000,2,FALSE),\"\")","v":""}]
[{"$f":"IF(ISTEXT(ShareOfSearch_SERPS!C1664),ShareOfSearch_SERPS!C1664,\"\")","v":""},{"$f":"IF(ISTEXT(ShareOfSearch_SERPS!D1664),ShareOfSearch_SERPS!D1664,\"\")","v":""},{"$f":"IF(NOT(ISBLANK(ShareOfSearch_SERPS!A1664)),ShareOfSearch_SERPS!A1664,\"\")","v":""},{"$f":"IF(NOT(ISBLANK(ShareOfSearch_SERPS!G1664)),ShareOfSearch_SERPS!G1664,\"\")","v":""},{"$f":"IF(NOT(ISBLANK(ShareOfSearch_SERPS!K1664)),ShareOfSearch_SERPS!K1664,\"\")","v":""},{"$f":"IFERROR(VLOOKUP(C1664,ShareOfSearch_CTR!$A$1:$B$100,2,FALSE)*VLOOKUP(A1664&B1664,ShareOfSearch_Volume!$C$1:$D$1000,2,FALSE),\"\")","v":""}]
[{"$f":"IF(ISTEXT(ShareOfSearch_SERPS!C1665),ShareOfSearch_SERPS!C1665,\"\")","v":""},{"$f":"IF(ISTEXT(ShareOfSearch_SERPS!D1665),ShareOfSearch_SERPS!D1665,\"\")","v":""},{"$f":"IF(NOT(ISBLANK(ShareOfSearch_SERPS!A1665)),ShareOfSearch_SERPS!A1665,\"\")","v":""},{"$f":"IF(NOT(ISBLANK(ShareOfSearch_SERPS!G1665)),ShareOfSearch_SERPS!G1665,\"\")","v":""},{"$f":"IF(NOT(ISBLANK(ShareOfSearch_SERPS!K1665)),ShareOfSearch_SERPS!K1665,\"\")","v":""},{"$f":"IFERROR(VLOOKUP(C1665,ShareOfSearch_CTR!$A$1:$B$100,2,FALSE)*VLOOKUP(A1665&B1665,ShareOfSearch_Volume!$C$1:$D$1000,2,FALSE),\"\")","v":""}]
[{"$f":"IF(ISTEXT(ShareOfSearch_SERPS!C1666),ShareOfSearch_SERPS!C1666,\"\")","v":""},{"$f":"IF(ISTEXT(ShareOfSearch_SERPS!D1666),ShareOfSearch_SERPS!D1666,\"\")","v":""},{"$f":"IF(NOT(ISBLANK(ShareOfSearch_SERPS!A1666)),ShareOfSearch_SERPS!A1666,\"\")","v":""},{"$f":"IF(NOT(ISBLANK(ShareOfSearch_SERPS!G1666)),ShareOfSearch_SERPS!G1666,\"\")","v":""},{"$f":"IF(NOT(ISBLANK(ShareOfSearch_SERPS!K1666)),ShareOfSearch_SERPS!K1666,\"\")","v":""},{"$f":"IFERROR(VLOOKUP(C1666,ShareOfSearch_CTR!$A$1:$B$100,2,FALSE)*VLOOKUP(A1666&B1666,ShareOfSearch_Volume!$C$1:$D$1000,2,FALSE),\"\")","v":""}]
[{"$f":"IF(ISTEXT(ShareOfSearch_SERPS!C1667),ShareOfSearch_SERPS!C1667,\"\")","v":""},{"$f":"IF(ISTEXT(ShareOfSearch_SERPS!D1667),ShareOfSearch_SERPS!D1667,\"\")","v":""},{"$f":"IF(NOT(ISBLANK(ShareOfSearch_SERPS!A1667)),ShareOfSearch_SERPS!A1667,\"\")","v":""},{"$f":"IF(NOT(ISBLANK(ShareOfSearch_SERPS!G1667)),ShareOfSearch_SERPS!G1667,\"\")","v":""},{"$f":"IF(NOT(ISBLANK(ShareOfSearch_SERPS!K1667)),ShareOfSearch_SERPS!K1667,\"\")","v":""},{"$f":"IFERROR(VLOOKUP(C1667,ShareOfSearch_CTR!$A$1:$B$100,2,FALSE)*VLOOKUP(A1667&B1667,ShareOfSearch_Volume!$C$1:$D$1000,2,FALSE),\"\")","v":""}]
[{"$f":"IF(ISTEXT(ShareOfSearch_SERPS!C1668),ShareOfSearch_SERPS!C1668,\"\")","v":""},{"$f":"IF(ISTEXT(ShareOfSearch_SERPS!D1668),ShareOfSearch_SERPS!D1668,\"\")","v":""},{"$f":"IF(NOT(ISBLANK(ShareOfSearch_SERPS!A1668)),ShareOfSearch_SERPS!A1668,\"\")","v":""},{"$f":"IF(NOT(ISBLANK(ShareOfSearch_SERPS!G1668)),ShareOfSearch_SERPS!G1668,\"\")","v":""},{"$f":"IF(NOT(ISBLANK(ShareOfSearch_SERPS!K1668)),ShareOfSearch_SERPS!K1668,\"\")","v":""},{"$f":"IFERROR(VLOOKUP(C1668,ShareOfSearch_CTR!$A$1:$B$100,2,FALSE)*VLOOKUP(A1668&B1668,ShareOfSearch_Volume!$C$1:$D$1000,2,FALSE),\"\")","v":""}]
[{"$f":"IF(ISTEXT(ShareOfSearch_SERPS!C1669),ShareOfSearch_SERPS!C1669,\"\")","v":""},{"$f":"IF(ISTEXT(ShareOfSearch_SERPS!D1669),ShareOfSearch_SERPS!D1669,\"\")","v":""},{"$f":"IF(NOT(ISBLANK(ShareOfSearch_SERPS!A1669)),ShareOfSearch_SERPS!A1669,\"\")","v":""},{"$f":"IF(NOT(ISBLANK(ShareOfSearch_SERPS!G1669)),ShareOfSearch_SERPS!G1669,\"\")","v":""},{"$f":"IF(NOT(ISBLANK(ShareOfSearch_SERPS!K1669)),ShareOfSearch_SERPS!K1669,\"\")","v":""},{"$f":"IFERROR(VLOOKUP(C1669,ShareOfSearch_CTR!$A$1:$B$100,2,FALSE)*VLOOKUP(A1669&B1669,ShareOfSearch_Volume!$C$1:$D$1000,2,FALSE),\"\")","v":""}]
[{"$f":"IF(ISTEXT(ShareOfSearch_SERPS!C1670),ShareOfSearch_SERPS!C1670,\"\")","v":""},{"$f":"IF(ISTEXT(ShareOfSearch_SERPS!D1670),ShareOfSearch_SERPS!D1670,\"\")","v":""},{"$f":"IF(NOT(ISBLANK(ShareOfSearch_SERPS!A1670)),ShareOfSearch_SERPS!A1670,\"\")","v":""},{"$f":"IF(NOT(ISBLANK(ShareOfSearch_SERPS!G1670)),ShareOfSearch_SERPS!G1670,\"\")","v":""},{"$f":"IF(NOT(ISBLANK(ShareOfSearch_SERPS!K1670)),ShareOfSearch_SERPS!K1670,\"\")","v":""},{"$f":"IFERROR(VLOOKUP(C1670,ShareOfSearch_CTR!$A$1:$B$100,2,FALSE)*VLOOKUP(A1670&B1670,ShareOfSearch_Volume!$C$1:$D$1000,2,FALSE),\"\")","v":""}]
[{"$f":"IF(ISTEXT(ShareOfSearch_SERPS!C1671),ShareOfSearch_SERPS!C1671,\"\")","v":""},{"$f":"IF(ISTEXT(ShareOfSearch_SERPS!D1671),ShareOfSearch_SERPS!D1671,\"\")","v":""},{"$f":"IF(NOT(ISBLANK(ShareOfSearch_SERPS!A1671)),ShareOfSearch_SERPS!A1671,\"\")","v":""},{"$f":"IF(NOT(ISBLANK(ShareOfSearch_SERPS!G1671)),ShareOfSearch_SERPS!G1671,\"\")","v":""},{"$f":"IF(NOT(ISBLANK(ShareOfSearch_SERPS!K1671)),ShareOfSearch_SERPS!K1671,\"\")","v":""},{"$f":"IFERROR(VLOOKUP(C1671,ShareOfSearch_CTR!$A$1:$B$100,2,FALSE)*VLOOKUP(A1671&B1671,ShareOfSearch_Volume!$C$1:$D$1000,2,FALSE),\"\")","v":""}]
[{"$f":"IF(ISTEXT(ShareOfSearch_SERPS!C1672),ShareOfSearch_SERPS!C1672,\"\")","v":""},{"$f":"IF(ISTEXT(ShareOfSearch_SERPS!D1672),ShareOfSearch_SERPS!D1672,\"\")","v":""},{"$f":"IF(NOT(ISBLANK(ShareOfSearch_SERPS!A1672)),ShareOfSearch_SERPS!A1672,\"\")","v":""},{"$f":"IF(NOT(ISBLANK(ShareOfSearch_SERPS!G1672)),ShareOfSearch_SERPS!G1672,\"\")","v":""},{"$f":"IF(NOT(ISBLANK(ShareOfSearch_SERPS!K1672)),ShareOfSearch_SERPS!K1672,\"\")","v":""},{"$f":"IFERROR(VLOOKUP(C1672,ShareOfSearch_CTR!$A$1:$B$100,2,FALSE)*VLOOKUP(A1672&B1672,ShareOfSearch_Volume!$C$1:$D$1000,2,FALSE),\"\")","v":""}]
[{"$f":"IF(ISTEXT(ShareOfSearch_SERPS!C1673),ShareOfSearch_SERPS!C1673,\"\")","v":""},{"$f":"IF(ISTEXT(ShareOfSearch_SERPS!D1673),ShareOfSearch_SERPS!D1673,\"\")","v":""},{"$f":"IF(NOT(ISBLANK(ShareOfSearch_SERPS!A1673)),ShareOfSearch_SERPS!A1673,\"\")","v":""},{"$f":"IF(NOT(ISBLANK(ShareOfSearch_SERPS!G1673)),ShareOfSearch_SERPS!G1673,\"\")","v":""},{"$f":"IF(NOT(ISBLANK(ShareOfSearch_SERPS!K1673)),ShareOfSearch_SERPS!K1673,\"\")","v":""},{"$f":"IFERROR(VLOOKUP(C1673,ShareOfSearch_CTR!$A$1:$B$100,2,FALSE)*VLOOKUP(A1673&B1673,ShareOfSearch_Volume!$C$1:$D$1000,2,FALSE),\"\")","v":""}]
[{"$f":"IF(ISTEXT(ShareOfSearch_SERPS!C1674),ShareOfSearch_SERPS!C1674,\"\")","v":""},{"$f":"IF(ISTEXT(ShareOfSearch_SERPS!D1674),ShareOfSearch_SERPS!D1674,\"\")","v":""},{"$f":"IF(NOT(ISBLANK(ShareOfSearch_SERPS!A1674)),ShareOfSearch_SERPS!A1674,\"\")","v":""},{"$f":"IF(NOT(ISBLANK(ShareOfSearch_SERPS!G1674)),ShareOfSearch_SERPS!G1674,\"\")","v":""},{"$f":"IF(NOT(ISBLANK(ShareOfSearch_SERPS!K1674)),ShareOfSearch_SERPS!K1674,\"\")","v":""},{"$f":"IFERROR(VLOOKUP(C1674,ShareOfSearch_CTR!$A$1:$B$100,2,FALSE)*VLOOKUP(A1674&B1674,ShareOfSearch_Volume!$C$1:$D$1000,2,FALSE),\"\")","v":""}]
[{"$f":"IF(ISTEXT(ShareOfSearch_SERPS!C1675),ShareOfSearch_SERPS!C1675,\"\")","v":""},{"$f":"IF(ISTEXT(ShareOfSearch_SERPS!D1675),ShareOfSearch_SERPS!D1675,\"\")","v":""},{"$f":"IF(NOT(ISBLANK(ShareOfSearch_SERPS!A1675)),ShareOfSearch_SERPS!A1675,\"\")","v":""},{"$f":"IF(NOT(ISBLANK(ShareOfSearch_SERPS!G1675)),ShareOfSearch_SERPS!G1675,\"\")","v":""},{"$f":"IF(NOT(ISBLANK(ShareOfSearch_SERPS!K1675)),ShareOfSearch_SERPS!K1675,\"\")","v":""},{"$f":"IFERROR(VLOOKUP(C1675,ShareOfSearch_CTR!$A$1:$B$100,2,FALSE)*VLOOKUP(A1675&B1675,ShareOfSearch_Volume!$C$1:$D$1000,2,FALSE),\"\")","v":""}]
[{"$f":"IF(ISTEXT(ShareOfSearch_SERPS!C1676),ShareOfSearch_SERPS!C1676,\"\")","v":""},{"$f":"IF(ISTEXT(ShareOfSearch_SERPS!D1676),ShareOfSearch_SERPS!D1676,\"\")","v":""},{"$f":"IF(NOT(ISBLANK(ShareOfSearch_SERPS!A1676)),ShareOfSearch_SERPS!A1676,\"\")","v":""},{"$f":"IF(NOT(ISBLANK(ShareOfSearch_SERPS!G1676)),ShareOfSearch_SERPS!G1676,\"\")","v":""},{"$f":"IF(NOT(ISBLANK(ShareOfSearch_SERPS!K1676)),ShareOfSearch_SERPS!K1676,\"\")","v":""},{"$f":"IFERROR(VLOOKUP(C1676,ShareOfSearch_CTR!$A$1:$B$100,2,FALSE)*VLOOKUP(A1676&B1676,ShareOfSearch_Volume!$C$1:$D$1000,2,FALSE),\"\")","v":""}]
[{"$f":"IF(ISTEXT(ShareOfSearch_SERPS!C1677),ShareOfSearch_SERPS!C1677,\"\")","v":""},{"$f":"IF(ISTEXT(ShareOfSearch_SERPS!D1677),ShareOfSearch_SERPS!D1677,\"\")","v":""},{"$f":"IF(NOT(ISBLANK(ShareOfSearch_SERPS!A1677)),ShareOfSearch_SERPS!A1677,\"\")","v":""},{"$f":"IF(NOT(ISBLANK(ShareOfSearch_SERPS!G1677)),ShareOfSearch_SERPS!G1677,\"\")","v":""},{"$f":"IF(NOT(ISBLANK(ShareOfSearch_SERPS!K1677)),ShareOfSearch_SERPS!K1677,\"\")","v":""},{"$f":"IFERROR(VLOOKUP(C1677,ShareOfSearch_CTR!$A$1:$B$100,2,FALSE)*VLOOKUP(A1677&B1677,ShareOfSearch_Volume!$C$1:$D$1000,2,FALSE),\"\")","v":""}]
[{"$f":"IF(ISTEXT(ShareOfSearch_SERPS!C1678),ShareOfSearch_SERPS!C1678,\"\")","v":""},{"$f":"IF(ISTEXT(ShareOfSearch_SERPS!D1678),ShareOfSearch_SERPS!D1678,\"\")","v":""},{"$f":"IF(NOT(ISBLANK(ShareOfSearch_SERPS!A1678)),ShareOfSearch_SERPS!A1678,\"\")","v":""},{"$f":"IF(NOT(ISBLANK(ShareOfSearch_SERPS!G1678)),ShareOfSearch_SERPS!G1678,\"\")","v":""},{"$f":"IF(NOT(ISBLANK(ShareOfSearch_SERPS!K1678)),ShareOfSearch_SERPS!K1678,\"\")","v":""},{"$f":"IFERROR(VLOOKUP(C1678,ShareOfSearch_CTR!$A$1:$B$100,2,FALSE)*VLOOKUP(A1678&B1678,ShareOfSearch_Volume!$C$1:$D$1000,2,FALSE),\"\")","v":""}]
[{"$f":"IF(ISTEXT(ShareOfSearch_SERPS!C1679),ShareOfSearch_SERPS!C1679,\"\")","v":""},{"$f":"IF(ISTEXT(ShareOfSearch_SERPS!D1679),ShareOfSearch_SERPS!D1679,\"\")","v":""},{"$f":"IF(NOT(ISBLANK(ShareOfSearch_SERPS!A1679)),ShareOfSearch_SERPS!A1679,\"\")","v":""},{"$f":"IF(NOT(ISBLANK(ShareOfSearch_SERPS!G1679)),ShareOfSearch_SERPS!G1679,\"\")","v":""},{"$f":"IF(NOT(ISBLANK(ShareOfSearch_SERPS!K1679)),ShareOfSearch_SERPS!K1679,\"\")","v":""},{"$f":"IFERROR(VLOOKUP(C1679,ShareOfSearch_CTR!$A$1:$B$100,2,FALSE)*VLOOKUP(A1679&B1679,ShareOfSearch_Volume!$C$1:$D$1000,2,FALSE),\"\")","v":""}]
[{"$f":"IF(ISTEXT(ShareOfSearch_SERPS!C1680),ShareOfSearch_SERPS!C1680,\"\")","v":""},{"$f":"IF(ISTEXT(ShareOfSearch_SERPS!D1680),ShareOfSearch_SERPS!D1680,\"\")","v":""},{"$f":"IF(NOT(ISBLANK(ShareOfSearch_SERPS!A1680)),ShareOfSearch_SERPS!A1680,\"\")","v":""},{"$f":"IF(NOT(ISBLANK(ShareOfSearch_SERPS!G1680)),ShareOfSearch_SERPS!G1680,\"\")","v":""},{"$f":"IF(NOT(ISBLANK(ShareOfSearch_SERPS!K1680)),ShareOfSearch_SERPS!K1680,\"\")","v":""},{"$f":"IFERROR(VLOOKUP(C1680,ShareOfSearch_CTR!$A$1:$B$100,2,FALSE)*VLOOKUP(A1680&B1680,ShareOfSearch_Volume!$C$1:$D$1000,2,FALSE),\"\")","v":""}]
[{"$f":"IF(ISTEXT(ShareOfSearch_SERPS!C1681),ShareOfSearch_SERPS!C1681,\"\")","v":""},{"$f":"IF(ISTEXT(ShareOfSearch_SERPS!D1681),ShareOfSearch_SERPS!D1681,\"\")","v":""},{"$f":"IF(NOT(ISBLANK(ShareOfSearch_SERPS!A1681)),ShareOfSearch_SERPS!A1681,\"\")","v":""},{"$f":"IF(NOT(ISBLANK(ShareOfSearch_SERPS!G1681)),ShareOfSearch_SERPS!G1681,\"\")","v":""},{"$f":"IF(NOT(ISBLANK(ShareOfSearch_SERPS!K1681)),ShareOfSearch_SERPS!K1681,\"\")","v":""},{"$f":"IFERROR(VLOOKUP(C1681,ShareOfSearch_CTR!$A$1:$B$100,2,FALSE)*VLOOKUP(A1681&B1681,ShareOfSearch_Volume!$C$1:$D$1000,2,FALSE),\"\")","v":""}]
[{"$f":"IF(ISTEXT(ShareOfSearch_SERPS!C1682),ShareOfSearch_SERPS!C1682,\"\")","v":""},{"$f":"IF(ISTEXT(ShareOfSearch_SERPS!D1682),ShareOfSearch_SERPS!D1682,\"\")","v":""},{"$f":"IF(NOT(ISBLANK(ShareOfSearch_SERPS!A1682)),ShareOfSearch_SERPS!A1682,\"\")","v":""},{"$f":"IF(NOT(ISBLANK(ShareOfSearch_SERPS!G1682)),ShareOfSearch_SERPS!G1682,\"\")","v":""},{"$f":"IF(NOT(ISBLANK(ShareOfSearch_SERPS!K1682)),ShareOfSearch_SERPS!K1682,\"\")","v":""},{"$f":"IFERROR(VLOOKUP(C1682,ShareOfSearch_CTR!$A$1:$B$100,2,FALSE)*VLOOKUP(A1682&B1682,ShareOfSearch_Volume!$C$1:$D$1000,2,FALSE),\"\")","v":""}]
[{"$f":"IF(ISTEXT(ShareOfSearch_SERPS!C1683),ShareOfSearch_SERPS!C1683,\"\")","v":""},{"$f":"IF(ISTEXT(ShareOfSearch_SERPS!D1683),ShareOfSearch_SERPS!D1683,\"\")","v":""},{"$f":"IF(NOT(ISBLANK(ShareOfSearch_SERPS!A1683)),ShareOfSearch_SERPS!A1683,\"\")","v":""},{"$f":"IF(NOT(ISBLANK(ShareOfSearch_SERPS!G1683)),ShareOfSearch_SERPS!G1683,\"\")","v":""},{"$f":"IF(NOT(ISBLANK(ShareOfSearch_SERPS!K1683)),ShareOfSearch_SERPS!K1683,\"\")","v":""},{"$f":"IFERROR(VLOOKUP(C1683,ShareOfSearch_CTR!$A$1:$B$100,2,FALSE)*VLOOKUP(A1683&B1683,ShareOfSearch_Volume!$C$1:$D$1000,2,FALSE),\"\")","v":""}]
[{"$f":"IF(ISTEXT(ShareOfSearch_SERPS!C1684),ShareOfSearch_SERPS!C1684,\"\")","v":""},{"$f":"IF(ISTEXT(ShareOfSearch_SERPS!D1684),ShareOfSearch_SERPS!D1684,\"\")","v":""},{"$f":"IF(NOT(ISBLANK(ShareOfSearch_SERPS!A1684)),ShareOfSearch_SERPS!A1684,\"\")","v":""},{"$f":"IF(NOT(ISBLANK(ShareOfSearch_SERPS!G1684)),ShareOfSearch_SERPS!G1684,\"\")","v":""},{"$f":"IF(NOT(ISBLANK(ShareOfSearch_SERPS!K1684)),ShareOfSearch_SERPS!K1684,\"\")","v":""},{"$f":"IFERROR(VLOOKUP(C1684,ShareOfSearch_CTR!$A$1:$B$100,2,FALSE)*VLOOKUP(A1684&B1684,ShareOfSearch_Volume!$C$1:$D$1000,2,FALSE),\"\")","v":""}]
[{"$f":"IF(ISTEXT(ShareOfSearch_SERPS!C1685),ShareOfSearch_SERPS!C1685,\"\")","v":""},{"$f":"IF(ISTEXT(ShareOfSearch_SERPS!D1685),ShareOfSearch_SERPS!D1685,\"\")","v":""},{"$f":"IF(NOT(ISBLANK(ShareOfSearch_SERPS!A1685)),ShareOfSearch_SERPS!A1685,\"\")","v":""},{"$f":"IF(NOT(ISBLANK(ShareOfSearch_SERPS!G1685)),ShareOfSearch_SERPS!G1685,\"\")","v":""},{"$f":"IF(NOT(ISBLANK(ShareOfSearch_SERPS!K1685)),ShareOfSearch_SERPS!K1685,\"\")","v":""},{"$f":"IFERROR(VLOOKUP(C1685,ShareOfSearch_CTR!$A$1:$B$100,2,FALSE)*VLOOKUP(A1685&B1685,ShareOfSearch_Volume!$C$1:$D$1000,2,FALSE),\"\")","v":""}]
[{"$f":"IF(ISTEXT(ShareOfSearch_SERPS!C1686),ShareOfSearch_SERPS!C1686,\"\")","v":""},{"$f":"IF(ISTEXT(ShareOfSearch_SERPS!D1686),ShareOfSearch_SERPS!D1686,\"\")","v":""},{"$f":"IF(NOT(ISBLANK(ShareOfSearch_SERPS!A1686)),ShareOfSearch_SERPS!A1686,\"\")","v":""},{"$f":"IF(NOT(ISBLANK(ShareOfSearch_SERPS!G1686)),ShareOfSearch_SERPS!G1686,\"\")","v":""},{"$f":"IF(NOT(ISBLANK(ShareOfSearch_SERPS!K1686)),ShareOfSearch_SERPS!K1686,\"\")","v":""},{"$f":"IFERROR(VLOOKUP(C1686,ShareOfSearch_CTR!$A$1:$B$100,2,FALSE)*VLOOKUP(A1686&B1686,ShareOfSearch_Volume!$C$1:$D$1000,2,FALSE),\"\")","v":""}]
[{"$f":"IF(ISTEXT(ShareOfSearch_SERPS!C1687),ShareOfSearch_SERPS!C1687,\"\")","v":""},{"$f":"IF(ISTEXT(ShareOfSearch_SERPS!D1687),ShareOfSearch_SERPS!D1687,\"\")","v":""},{"$f":"IF(NOT(ISBLANK(ShareOfSearch_SERPS!A1687)),ShareOfSearch_SERPS!A1687,\"\")","v":""},{"$f":"IF(NOT(ISBLANK(ShareOfSearch_SERPS!G1687)),ShareOfSearch_SERPS!G1687,\"\")","v":""},{"$f":"IF(NOT(ISBLANK(ShareOfSearch_SERPS!K1687)),ShareOfSearch_SERPS!K1687,\"\")","v":""},{"$f":"IFERROR(VLOOKUP(C1687,ShareOfSearch_CTR!$A$1:$B$100,2,FALSE)*VLOOKUP(A1687&B1687,ShareOfSearch_Volume!$C$1:$D$1000,2,FALSE),\"\")","v":""}]
[{"$f":"IF(ISTEXT(ShareOfSearch_SERPS!C1688),ShareOfSearch_SERPS!C1688,\"\")","v":""},{"$f":"IF(ISTEXT(ShareOfSearch_SERPS!D1688),ShareOfSearch_SERPS!D1688,\"\")","v":""},{"$f":"IF(NOT(ISBLANK(ShareOfSearch_SERPS!A1688)),ShareOfSearch_SERPS!A1688,\"\")","v":""},{"$f":"IF(NOT(ISBLANK(ShareOfSearch_SERPS!G1688)),ShareOfSearch_SERPS!G1688,\"\")","v":""},{"$f":"IF(NOT(ISBLANK(ShareOfSearch_SERPS!K1688)),ShareOfSearch_SERPS!K1688,\"\")","v":""},{"$f":"IFERROR(VLOOKUP(C1688,ShareOfSearch_CTR!$A$1:$B$100,2,FALSE)*VLOOKUP(A1688&B1688,ShareOfSearch_Volume!$C$1:$D$1000,2,FALSE),\"\")","v":""}]
[{"$f":"IF(ISTEXT(ShareOfSearch_SERPS!C1689),ShareOfSearch_SERPS!C1689,\"\")","v":""},{"$f":"IF(ISTEXT(ShareOfSearch_SERPS!D1689),ShareOfSearch_SERPS!D1689,\"\")","v":""},{"$f":"IF(NOT(ISBLANK(ShareOfSearch_SERPS!A1689)),ShareOfSearch_SERPS!A1689,\"\")","v":""},{"$f":"IF(NOT(ISBLANK(ShareOfSearch_SERPS!G1689)),ShareOfSearch_SERPS!G1689,\"\")","v":""},{"$f":"IF(NOT(ISBLANK(ShareOfSearch_SERPS!K1689)),ShareOfSearch_SERPS!K1689,\"\")","v":""},{"$f":"IFERROR(VLOOKUP(C1689,ShareOfSearch_CTR!$A$1:$B$100,2,FALSE)*VLOOKUP(A1689&B1689,ShareOfSearch_Volume!$C$1:$D$1000,2,FALSE),\"\")","v":""}]
[{"$f":"IF(ISTEXT(ShareOfSearch_SERPS!C1690),ShareOfSearch_SERPS!C1690,\"\")","v":""},{"$f":"IF(ISTEXT(ShareOfSearch_SERPS!D1690),ShareOfSearch_SERPS!D1690,\"\")","v":""},{"$f":"IF(NOT(ISBLANK(ShareOfSearch_SERPS!A1690)),ShareOfSearch_SERPS!A1690,\"\")","v":""},{"$f":"IF(NOT(ISBLANK(ShareOfSearch_SERPS!G1690)),ShareOfSearch_SERPS!G1690,\"\")","v":""},{"$f":"IF(NOT(ISBLANK(ShareOfSearch_SERPS!K1690)),ShareOfSearch_SERPS!K1690,\"\")","v":""},{"$f":"IFERROR(VLOOKUP(C1690,ShareOfSearch_CTR!$A$1:$B$100,2,FALSE)*VLOOKUP(A1690&B1690,ShareOfSearch_Volume!$C$1:$D$1000,2,FALSE),\"\")","v":""}]
[{"$f":"IF(ISTEXT(ShareOfSearch_SERPS!C1691),ShareOfSearch_SERPS!C1691,\"\")","v":""},{"$f":"IF(ISTEXT(ShareOfSearch_SERPS!D1691),ShareOfSearch_SERPS!D1691,\"\")","v":""},{"$f":"IF(NOT(ISBLANK(ShareOfSearch_SERPS!A1691)),ShareOfSearch_SERPS!A1691,\"\")","v":""},{"$f":"IF(NOT(ISBLANK(ShareOfSearch_SERPS!G1691)),ShareOfSearch_SERPS!G1691,\"\")","v":""},{"$f":"IF(NOT(ISBLANK(ShareOfSearch_SERPS!K1691)),ShareOfSearch_SERPS!K1691,\"\")","v":""},{"$f":"IFERROR(VLOOKUP(C1691,ShareOfSearch_CTR!$A$1:$B$100,2,FALSE)*VLOOKUP(A1691&B1691,ShareOfSearch_Volume!$C$1:$D$1000,2,FALSE),\"\")","v":""}]
[{"$f":"IF(ISTEXT(ShareOfSearch_SERPS!C1692),ShareOfSearch_SERPS!C1692,\"\")","v":""},{"$f":"IF(ISTEXT(ShareOfSearch_SERPS!D1692),ShareOfSearch_SERPS!D1692,\"\")","v":""},{"$f":"IF(NOT(ISBLANK(ShareOfSearch_SERPS!A1692)),ShareOfSearch_SERPS!A1692,\"\")","v":""},{"$f":"IF(NOT(ISBLANK(ShareOfSearch_SERPS!G1692)),ShareOfSearch_SERPS!G1692,\"\")","v":""},{"$f":"IF(NOT(ISBLANK(ShareOfSearch_SERPS!K1692)),ShareOfSearch_SERPS!K1692,\"\")","v":""},{"$f":"IFERROR(VLOOKUP(C1692,ShareOfSearch_CTR!$A$1:$B$100,2,FALSE)*VLOOKUP(A1692&B1692,ShareOfSearch_Volume!$C$1:$D$1000,2,FALSE),\"\")","v":""}]
[{"$f":"IF(ISTEXT(ShareOfSearch_SERPS!C1693),ShareOfSearch_SERPS!C1693,\"\")","v":""},{"$f":"IF(ISTEXT(ShareOfSearch_SERPS!D1693),ShareOfSearch_SERPS!D1693,\"\")","v":""},{"$f":"IF(NOT(ISBLANK(ShareOfSearch_SERPS!A1693)),ShareOfSearch_SERPS!A1693,\"\")","v":""},{"$f":"IF(NOT(ISBLANK(ShareOfSearch_SERPS!G1693)),ShareOfSearch_SERPS!G1693,\"\")","v":""},{"$f":"IF(NOT(ISBLANK(ShareOfSearch_SERPS!K1693)),ShareOfSearch_SERPS!K1693,\"\")","v":""},{"$f":"IFERROR(VLOOKUP(C1693,ShareOfSearch_CTR!$A$1:$B$100,2,FALSE)*VLOOKUP(A1693&B1693,ShareOfSearch_Volume!$C$1:$D$1000,2,FALSE),\"\")","v":""}]
[{"$f":"IF(ISTEXT(ShareOfSearch_SERPS!C1694),ShareOfSearch_SERPS!C1694,\"\")","v":""},{"$f":"IF(ISTEXT(ShareOfSearch_SERPS!D1694),ShareOfSearch_SERPS!D1694,\"\")","v":""},{"$f":"IF(NOT(ISBLANK(ShareOfSearch_SERPS!A1694)),ShareOfSearch_SERPS!A1694,\"\")","v":""},{"$f":"IF(NOT(ISBLANK(ShareOfSearch_SERPS!G1694)),ShareOfSearch_SERPS!G1694,\"\")","v":""},{"$f":"IF(NOT(ISBLANK(ShareOfSearch_SERPS!K1694)),ShareOfSearch_SERPS!K1694,\"\")","v":""},{"$f":"IFERROR(VLOOKUP(C1694,ShareOfSearch_CTR!$A$1:$B$100,2,FALSE)*VLOOKUP(A1694&B1694,ShareOfSearch_Volume!$C$1:$D$1000,2,FALSE),\"\")","v":""}]
[{"$f":"IF(ISTEXT(ShareOfSearch_SERPS!C1695),ShareOfSearch_SERPS!C1695,\"\")","v":""},{"$f":"IF(ISTEXT(ShareOfSearch_SERPS!D1695),ShareOfSearch_SERPS!D1695,\"\")","v":""},{"$f":"IF(NOT(ISBLANK(ShareOfSearch_SERPS!A1695)),ShareOfSearch_SERPS!A1695,\"\")","v":""},{"$f":"IF(NOT(ISBLANK(ShareOfSearch_SERPS!G1695)),ShareOfSearch_SERPS!G1695,\"\")","v":""},{"$f":"IF(NOT(ISBLANK(ShareOfSearch_SERPS!K1695)),ShareOfSearch_SERPS!K1695,\"\")","v":""},{"$f":"IFERROR(VLOOKUP(C1695,ShareOfSearch_CTR!$A$1:$B$100,2,FALSE)*VLOOKUP(A1695&B1695,ShareOfSearch_Volume!$C$1:$D$1000,2,FALSE),\"\")","v":""}]
[{"$f":"IF(ISTEXT(ShareOfSearch_SERPS!C1696),ShareOfSearch_SERPS!C1696,\"\")","v":""},{"$f":"IF(ISTEXT(ShareOfSearch_SERPS!D1696),ShareOfSearch_SERPS!D1696,\"\")","v":""},{"$f":"IF(NOT(ISBLANK(ShareOfSearch_SERPS!A1696)),ShareOfSearch_SERPS!A1696,\"\")","v":""},{"$f":"IF(NOT(ISBLANK(ShareOfSearch_SERPS!G1696)),ShareOfSearch_SERPS!G1696,\"\")","v":""},{"$f":"IF(NOT(ISBLANK(ShareOfSearch_SERPS!K1696)),ShareOfSearch_SERPS!K1696,\"\")","v":""},{"$f":"IFERROR(VLOOKUP(C1696,ShareOfSearch_CTR!$A$1:$B$100,2,FALSE)*VLOOKUP(A1696&B1696,ShareOfSearch_Volume!$C$1:$D$1000,2,FALSE),\"\")","v":""}]
[{"$f":"IF(ISTEXT(ShareOfSearch_SERPS!C1697),ShareOfSearch_SERPS!C1697,\"\")","v":""},{"$f":"IF(ISTEXT(ShareOfSearch_SERPS!D1697),ShareOfSearch_SERPS!D1697,\"\")","v":""},{"$f":"IF(NOT(ISBLANK(ShareOfSearch_SERPS!A1697)),ShareOfSearch_SERPS!A1697,\"\")","v":""},{"$f":"IF(NOT(ISBLANK(ShareOfSearch_SERPS!G1697)),ShareOfSearch_SERPS!G1697,\"\")","v":""},{"$f":"IF(NOT(ISBLANK(ShareOfSearch_SERPS!K1697)),ShareOfSearch_SERPS!K1697,\"\")","v":""},{"$f":"IFERROR(VLOOKUP(C1697,ShareOfSearch_CTR!$A$1:$B$100,2,FALSE)*VLOOKUP(A1697&B1697,ShareOfSearch_Volume!$C$1:$D$1000,2,FALSE),\"\")","v":""}]
[{"$f":"IF(ISTEXT(ShareOfSearch_SERPS!C1698),ShareOfSearch_SERPS!C1698,\"\")","v":""},{"$f":"IF(ISTEXT(ShareOfSearch_SERPS!D1698),ShareOfSearch_SERPS!D1698,\"\")","v":""},{"$f":"IF(NOT(ISBLANK(ShareOfSearch_SERPS!A1698)),ShareOfSearch_SERPS!A1698,\"\")","v":""},{"$f":"IF(NOT(ISBLANK(ShareOfSearch_SERPS!G1698)),ShareOfSearch_SERPS!G1698,\"\")","v":""},{"$f":"IF(NOT(ISBLANK(ShareOfSearch_SERPS!K1698)),ShareOfSearch_SERPS!K1698,\"\")","v":""},{"$f":"IFERROR(VLOOKUP(C1698,ShareOfSearch_CTR!$A$1:$B$100,2,FALSE)*VLOOKUP(A1698&B1698,ShareOfSearch_Volume!$C$1:$D$1000,2,FALSE),\"\")","v":""}]
[{"$f":"IF(ISTEXT(ShareOfSearch_SERPS!C1699),ShareOfSearch_SERPS!C1699,\"\")","v":""},{"$f":"IF(ISTEXT(ShareOfSearch_SERPS!D1699),ShareOfSearch_SERPS!D1699,\"\")","v":""},{"$f":"IF(NOT(ISBLANK(ShareOfSearch_SERPS!A1699)),ShareOfSearch_SERPS!A1699,\"\")","v":""},{"$f":"IF(NOT(ISBLANK(ShareOfSearch_SERPS!G1699)),ShareOfSearch_SERPS!G1699,\"\")","v":""},{"$f":"IF(NOT(ISBLANK(ShareOfSearch_SERPS!K1699)),ShareOfSearch_SERPS!K1699,\"\")","v":""},{"$f":"IFERROR(VLOOKUP(C1699,ShareOfSearch_CTR!$A$1:$B$100,2,FALSE)*VLOOKUP(A1699&B1699,ShareOfSearch_Volume!$C$1:$D$1000,2,FALSE),\"\")","v":""}]
[{"$f":"IF(ISTEXT(ShareOfSearch_SERPS!C1700),ShareOfSearch_SERPS!C1700,\"\")","v":""},{"$f":"IF(ISTEXT(ShareOfSearch_SERPS!D1700),ShareOfSearch_SERPS!D1700,\"\")","v":""},{"$f":"IF(NOT(ISBLANK(ShareOfSearch_SERPS!A1700)),ShareOfSearch_SERPS!A1700,\"\")","v":""},{"$f":"IF(NOT(ISBLANK(ShareOfSearch_SERPS!G1700)),ShareOfSearch_SERPS!G1700,\"\")","v":""},{"$f":"IF(NOT(ISBLANK(ShareOfSearch_SERPS!K1700)),ShareOfSearch_SERPS!K1700,\"\")","v":""},{"$f":"IFERROR(VLOOKUP(C1700,ShareOfSearch_CTR!$A$1:$B$100,2,FALSE)*VLOOKUP(A1700&B1700,ShareOfSearch_Volume!$C$1:$D$1000,2,FALSE),\"\")","v":""}]
[{"$f":"IF(ISTEXT(ShareOfSearch_SERPS!C1701),ShareOfSearch_SERPS!C1701,\"\")","v":""},{"$f":"IF(ISTEXT(ShareOfSearch_SERPS!D1701),ShareOfSearch_SERPS!D1701,\"\")","v":""},{"$f":"IF(NOT(ISBLANK(ShareOfSearch_SERPS!A1701)),ShareOfSearch_SERPS!A1701,\"\")","v":""},{"$f":"IF(NOT(ISBLANK(ShareOfSearch_SERPS!G1701)),ShareOfSearch_SERPS!G1701,\"\")","v":""},{"$f":"IF(NOT(ISBLANK(ShareOfSearch_SERPS!K1701)),ShareOfSearch_SERPS!K1701,\"\")","v":""},{"$f":"IFERROR(VLOOKUP(C1701,ShareOfSearch_CTR!$A$1:$B$100,2,FALSE)*VLOOKUP(A1701&B1701,ShareOfSearch_Volume!$C$1:$D$1000,2,FALSE),\"\")","v":""}]
[{"$f":"IF(ISTEXT(ShareOfSearch_SERPS!C1702),ShareOfSearch_SERPS!C1702,\"\")","v":""},{"$f":"IF(ISTEXT(ShareOfSearch_SERPS!D1702),ShareOfSearch_SERPS!D1702,\"\")","v":""},{"$f":"IF(NOT(ISBLANK(ShareOfSearch_SERPS!A1702)),ShareOfSearch_SERPS!A1702,\"\")","v":""},{"$f":"IF(NOT(ISBLANK(ShareOfSearch_SERPS!G1702)),ShareOfSearch_SERPS!G1702,\"\")","v":""},{"$f":"IF(NOT(ISBLANK(ShareOfSearch_SERPS!K1702)),ShareOfSearch_SERPS!K1702,\"\")","v":""},{"$f":"IFERROR(VLOOKUP(C1702,ShareOfSearch_CTR!$A$1:$B$100,2,FALSE)*VLOOKUP(A1702&B1702,ShareOfSearch_Volume!$C$1:$D$1000,2,FALSE),\"\")","v":""}]
[{"$f":"IF(ISTEXT(ShareOfSearch_SERPS!C1703),ShareOfSearch_SERPS!C1703,\"\")","v":""},{"$f":"IF(ISTEXT(ShareOfSearch_SERPS!D1703),ShareOfSearch_SERPS!D1703,\"\")","v":""},{"$f":"IF(NOT(ISBLANK(ShareOfSearch_SERPS!A1703)),ShareOfSearch_SERPS!A1703,\"\")","v":""},{"$f":"IF(NOT(ISBLANK(ShareOfSearch_SERPS!G1703)),ShareOfSearch_SERPS!G1703,\"\")","v":""},{"$f":"IF(NOT(ISBLANK(ShareOfSearch_SERPS!K1703)),ShareOfSearch_SERPS!K1703,\"\")","v":""},{"$f":"IFERROR(VLOOKUP(C1703,ShareOfSearch_CTR!$A$1:$B$100,2,FALSE)*VLOOKUP(A1703&B1703,ShareOfSearch_Volume!$C$1:$D$1000,2,FALSE),\"\")","v":""}]
[{"$f":"IF(ISTEXT(ShareOfSearch_SERPS!C1704),ShareOfSearch_SERPS!C1704,\"\")","v":""},{"$f":"IF(ISTEXT(ShareOfSearch_SERPS!D1704),ShareOfSearch_SERPS!D1704,\"\")","v":""},{"$f":"IF(NOT(ISBLANK(ShareOfSearch_SERPS!A1704)),ShareOfSearch_SERPS!A1704,\"\")","v":""},{"$f":"IF(NOT(ISBLANK(ShareOfSearch_SERPS!G1704)),ShareOfSearch_SERPS!G1704,\"\")","v":""},{"$f":"IF(NOT(ISBLANK(ShareOfSearch_SERPS!K1704)),ShareOfSearch_SERPS!K1704,\"\")","v":""},{"$f":"IFERROR(VLOOKUP(C1704,ShareOfSearch_CTR!$A$1:$B$100,2,FALSE)*VLOOKUP(A1704&B1704,ShareOfSearch_Volume!$C$1:$D$1000,2,FALSE),\"\")","v":""}]
[{"$f":"IF(ISTEXT(ShareOfSearch_SERPS!C1705),ShareOfSearch_SERPS!C1705,\"\")","v":""},{"$f":"IF(ISTEXT(ShareOfSearch_SERPS!D1705),ShareOfSearch_SERPS!D1705,\"\")","v":""},{"$f":"IF(NOT(ISBLANK(ShareOfSearch_SERPS!A1705)),ShareOfSearch_SERPS!A1705,\"\")","v":""},{"$f":"IF(NOT(ISBLANK(ShareOfSearch_SERPS!G1705)),ShareOfSearch_SERPS!G1705,\"\")","v":""},{"$f":"IF(NOT(ISBLANK(ShareOfSearch_SERPS!K1705)),ShareOfSearch_SERPS!K1705,\"\")","v":""},{"$f":"IFERROR(VLOOKUP(C1705,ShareOfSearch_CTR!$A$1:$B$100,2,FALSE)*VLOOKUP(A1705&B1705,ShareOfSearch_Volume!$C$1:$D$1000,2,FALSE),\"\")","v":""}]
[{"$f":"IF(ISTEXT(ShareOfSearch_SERPS!C1706),ShareOfSearch_SERPS!C1706,\"\")","v":""},{"$f":"IF(ISTEXT(ShareOfSearch_SERPS!D1706),ShareOfSearch_SERPS!D1706,\"\")","v":""},{"$f":"IF(NOT(ISBLANK(ShareOfSearch_SERPS!A1706)),ShareOfSearch_SERPS!A1706,\"\")","v":""},{"$f":"IF(NOT(ISBLANK(ShareOfSearch_SERPS!G1706)),ShareOfSearch_SERPS!G1706,\"\")","v":""},{"$f":"IF(NOT(ISBLANK(ShareOfSearch_SERPS!K1706)),ShareOfSearch_SERPS!K1706,\"\")","v":""},{"$f":"IFERROR(VLOOKUP(C1706,ShareOfSearch_CTR!$A$1:$B$100,2,FALSE)*VLOOKUP(A1706&B1706,ShareOfSearch_Volume!$C$1:$D$1000,2,FALSE),\"\")","v":""}]
[{"$f":"IF(ISTEXT(ShareOfSearch_SERPS!C1707),ShareOfSearch_SERPS!C1707,\"\")","v":""},{"$f":"IF(ISTEXT(ShareOfSearch_SERPS!D1707),ShareOfSearch_SERPS!D1707,\"\")","v":""},{"$f":"IF(NOT(ISBLANK(ShareOfSearch_SERPS!A1707)),ShareOfSearch_SERPS!A1707,\"\")","v":""},{"$f":"IF(NOT(ISBLANK(ShareOfSearch_SERPS!G1707)),ShareOfSearch_SERPS!G1707,\"\")","v":""},{"$f":"IF(NOT(ISBLANK(ShareOfSearch_SERPS!K1707)),ShareOfSearch_SERPS!K1707,\"\")","v":""},{"$f":"IFERROR(VLOOKUP(C1707,ShareOfSearch_CTR!$A$1:$B$100,2,FALSE)*VLOOKUP(A1707&B1707,ShareOfSearch_Volume!$C$1:$D$1000,2,FALSE),\"\")","v":""}]
[{"$f":"IF(ISTEXT(ShareOfSearch_SERPS!C1708),ShareOfSearch_SERPS!C1708,\"\")","v":""},{"$f":"IF(ISTEXT(ShareOfSearch_SERPS!D1708),ShareOfSearch_SERPS!D1708,\"\")","v":""},{"$f":"IF(NOT(ISBLANK(ShareOfSearch_SERPS!A1708)),ShareOfSearch_SERPS!A1708,\"\")","v":""},{"$f":"IF(NOT(ISBLANK(ShareOfSearch_SERPS!G1708)),ShareOfSearch_SERPS!G1708,\"\")","v":""},{"$f":"IF(NOT(ISBLANK(ShareOfSearch_SERPS!K1708)),ShareOfSearch_SERPS!K1708,\"\")","v":""},{"$f":"IFERROR(VLOOKUP(C1708,ShareOfSearch_CTR!$A$1:$B$100,2,FALSE)*VLOOKUP(A1708&B1708,ShareOfSearch_Volume!$C$1:$D$1000,2,FALSE),\"\")","v":""}]
[{"$f":"IF(ISTEXT(ShareOfSearch_SERPS!C1709),ShareOfSearch_SERPS!C1709,\"\")","v":""},{"$f":"IF(ISTEXT(ShareOfSearch_SERPS!D1709),ShareOfSearch_SERPS!D1709,\"\")","v":""},{"$f":"IF(NOT(ISBLANK(ShareOfSearch_SERPS!A1709)),ShareOfSearch_SERPS!A1709,\"\")","v":""},{"$f":"IF(NOT(ISBLANK(ShareOfSearch_SERPS!G1709)),ShareOfSearch_SERPS!G1709,\"\")","v":""},{"$f":"IF(NOT(ISBLANK(ShareOfSearch_SERPS!K1709)),ShareOfSearch_SERPS!K1709,\"\")","v":""},{"$f":"IFERROR(VLOOKUP(C1709,ShareOfSearch_CTR!$A$1:$B$100,2,FALSE)*VLOOKUP(A1709&B1709,ShareOfSearch_Volume!$C$1:$D$1000,2,FALSE),\"\")","v":""}]
[{"$f":"IF(ISTEXT(ShareOfSearch_SERPS!C1710),ShareOfSearch_SERPS!C1710,\"\")","v":""},{"$f":"IF(ISTEXT(ShareOfSearch_SERPS!D1710),ShareOfSearch_SERPS!D1710,\"\")","v":""},{"$f":"IF(NOT(ISBLANK(ShareOfSearch_SERPS!A1710)),ShareOfSearch_SERPS!A1710,\"\")","v":""},{"$f":"IF(NOT(ISBLANK(ShareOfSearch_SERPS!G1710)),ShareOfSearch_SERPS!G1710,\"\")","v":""},{"$f":"IF(NOT(ISBLANK(ShareOfSearch_SERPS!K1710)),ShareOfSearch_SERPS!K1710,\"\")","v":""},{"$f":"IFERROR(VLOOKUP(C1710,ShareOfSearch_CTR!$A$1:$B$100,2,FALSE)*VLOOKUP(A1710&B1710,ShareOfSearch_Volume!$C$1:$D$1000,2,FALSE),\"\")","v":""}]
[{"$f":"IF(ISTEXT(ShareOfSearch_SERPS!C1711),ShareOfSearch_SERPS!C1711,\"\")","v":""},{"$f":"IF(ISTEXT(ShareOfSearch_SERPS!D1711),ShareOfSearch_SERPS!D1711,\"\")","v":""},{"$f":"IF(NOT(ISBLANK(ShareOfSearch_SERPS!A1711)),ShareOfSearch_SERPS!A1711,\"\")","v":""},{"$f":"IF(NOT(ISBLANK(ShareOfSearch_SERPS!G1711)),ShareOfSearch_SERPS!G1711,\"\")","v":""},{"$f":"IF(NOT(ISBLANK(ShareOfSearch_SERPS!K1711)),ShareOfSearch_SERPS!K1711,\"\")","v":""},{"$f":"IFERROR(VLOOKUP(C1711,ShareOfSearch_CTR!$A$1:$B$100,2,FALSE)*VLOOKUP(A1711&B1711,ShareOfSearch_Volume!$C$1:$D$1000,2,FALSE),\"\")","v":""}]
[{"$f":"IF(ISTEXT(ShareOfSearch_SERPS!C1712),ShareOfSearch_SERPS!C1712,\"\")","v":""},{"$f":"IF(ISTEXT(ShareOfSearch_SERPS!D1712),ShareOfSearch_SERPS!D1712,\"\")","v":""},{"$f":"IF(NOT(ISBLANK(ShareOfSearch_SERPS!A1712)),ShareOfSearch_SERPS!A1712,\"\")","v":""},{"$f":"IF(NOT(ISBLANK(ShareOfSearch_SERPS!G1712)),ShareOfSearch_SERPS!G1712,\"\")","v":""},{"$f":"IF(NOT(ISBLANK(ShareOfSearch_SERPS!K1712)),ShareOfSearch_SERPS!K1712,\"\")","v":""},{"$f":"IFERROR(VLOOKUP(C1712,ShareOfSearch_CTR!$A$1:$B$100,2,FALSE)*VLOOKUP(A1712&B1712,ShareOfSearch_Volume!$C$1:$D$1000,2,FALSE),\"\")","v":""}]
[{"$f":"IF(ISTEXT(ShareOfSearch_SERPS!C1713),ShareOfSearch_SERPS!C1713,\"\")","v":""},{"$f":"IF(ISTEXT(ShareOfSearch_SERPS!D1713),ShareOfSearch_SERPS!D1713,\"\")","v":""},{"$f":"IF(NOT(ISBLANK(ShareOfSearch_SERPS!A1713)),ShareOfSearch_SERPS!A1713,\"\")","v":""},{"$f":"IF(NOT(ISBLANK(ShareOfSearch_SERPS!G1713)),ShareOfSearch_SERPS!G1713,\"\")","v":""},{"$f":"IF(NOT(ISBLANK(ShareOfSearch_SERPS!K1713)),ShareOfSearch_SERPS!K1713,\"\")","v":""},{"$f":"IFERROR(VLOOKUP(C1713,ShareOfSearch_CTR!$A$1:$B$100,2,FALSE)*VLOOKUP(A1713&B1713,ShareOfSearch_Volume!$C$1:$D$1000,2,FALSE),\"\")","v":""}]
[{"$f":"IF(ISTEXT(ShareOfSearch_SERPS!C1714),ShareOfSearch_SERPS!C1714,\"\")","v":""},{"$f":"IF(ISTEXT(ShareOfSearch_SERPS!D1714),ShareOfSearch_SERPS!D1714,\"\")","v":""},{"$f":"IF(NOT(ISBLANK(ShareOfSearch_SERPS!A1714)),ShareOfSearch_SERPS!A1714,\"\")","v":""},{"$f":"IF(NOT(ISBLANK(ShareOfSearch_SERPS!G1714)),ShareOfSearch_SERPS!G1714,\"\")","v":""},{"$f":"IF(NOT(ISBLANK(ShareOfSearch_SERPS!K1714)),ShareOfSearch_SERPS!K1714,\"\")","v":""},{"$f":"IFERROR(VLOOKUP(C1714,ShareOfSearch_CTR!$A$1:$B$100,2,FALSE)*VLOOKUP(A1714&B1714,ShareOfSearch_Volume!$C$1:$D$1000,2,FALSE),\"\")","v":""}]
[{"$f":"IF(ISTEXT(ShareOfSearch_SERPS!C1715),ShareOfSearch_SERPS!C1715,\"\")","v":""},{"$f":"IF(ISTEXT(ShareOfSearch_SERPS!D1715),ShareOfSearch_SERPS!D1715,\"\")","v":""},{"$f":"IF(NOT(ISBLANK(ShareOfSearch_SERPS!A1715)),ShareOfSearch_SERPS!A1715,\"\")","v":""},{"$f":"IF(NOT(ISBLANK(ShareOfSearch_SERPS!G1715)),ShareOfSearch_SERPS!G1715,\"\")","v":""},{"$f":"IF(NOT(ISBLANK(ShareOfSearch_SERPS!K1715)),ShareOfSearch_SERPS!K1715,\"\")","v":""},{"$f":"IFERROR(VLOOKUP(C1715,ShareOfSearch_CTR!$A$1:$B$100,2,FALSE)*VLOOKUP(A1715&B1715,ShareOfSearch_Volume!$C$1:$D$1000,2,FALSE),\"\")","v":""}]
[{"$f":"IF(ISTEXT(ShareOfSearch_SERPS!C1716),ShareOfSearch_SERPS!C1716,\"\")","v":""},{"$f":"IF(ISTEXT(ShareOfSearch_SERPS!D1716),ShareOfSearch_SERPS!D1716,\"\")","v":""},{"$f":"IF(NOT(ISBLANK(ShareOfSearch_SERPS!A1716)),ShareOfSearch_SERPS!A1716,\"\")","v":""},{"$f":"IF(NOT(ISBLANK(ShareOfSearch_SERPS!G1716)),ShareOfSearch_SERPS!G1716,\"\")","v":""},{"$f":"IF(NOT(ISBLANK(ShareOfSearch_SERPS!K1716)),ShareOfSearch_SERPS!K1716,\"\")","v":""},{"$f":"IFERROR(VLOOKUP(C1716,ShareOfSearch_CTR!$A$1:$B$100,2,FALSE)*VLOOKUP(A1716&B1716,ShareOfSearch_Volume!$C$1:$D$1000,2,FALSE),\"\")","v":""}]
[{"$f":"IF(ISTEXT(ShareOfSearch_SERPS!C1717),ShareOfSearch_SERPS!C1717,\"\")","v":""},{"$f":"IF(ISTEXT(ShareOfSearch_SERPS!D1717),ShareOfSearch_SERPS!D1717,\"\")","v":""},{"$f":"IF(NOT(ISBLANK(ShareOfSearch_SERPS!A1717)),ShareOfSearch_SERPS!A1717,\"\")","v":""},{"$f":"IF(NOT(ISBLANK(ShareOfSearch_SERPS!G1717)),ShareOfSearch_SERPS!G1717,\"\")","v":""},{"$f":"IF(NOT(ISBLANK(ShareOfSearch_SERPS!K1717)),ShareOfSearch_SERPS!K1717,\"\")","v":""},{"$f":"IFERROR(VLOOKUP(C1717,ShareOfSearch_CTR!$A$1:$B$100,2,FALSE)*VLOOKUP(A1717&B1717,ShareOfSearch_Volume!$C$1:$D$1000,2,FALSE),\"\")","v":""}]
[{"$f":"IF(ISTEXT(ShareOfSearch_SERPS!C1718),ShareOfSearch_SERPS!C1718,\"\")","v":""},{"$f":"IF(ISTEXT(ShareOfSearch_SERPS!D1718),ShareOfSearch_SERPS!D1718,\"\")","v":""},{"$f":"IF(NOT(ISBLANK(ShareOfSearch_SERPS!A1718)),ShareOfSearch_SERPS!A1718,\"\")","v":""},{"$f":"IF(NOT(ISBLANK(ShareOfSearch_SERPS!G1718)),ShareOfSearch_SERPS!G1718,\"\")","v":""},{"$f":"IF(NOT(ISBLANK(ShareOfSearch_SERPS!K1718)),ShareOfSearch_SERPS!K1718,\"\")","v":""},{"$f":"IFERROR(VLOOKUP(C1718,ShareOfSearch_CTR!$A$1:$B$100,2,FALSE)*VLOOKUP(A1718&B1718,ShareOfSearch_Volume!$C$1:$D$1000,2,FALSE),\"\")","v":""}]
[{"$f":"IF(ISTEXT(ShareOfSearch_SERPS!C1719),ShareOfSearch_SERPS!C1719,\"\")","v":""},{"$f":"IF(ISTEXT(ShareOfSearch_SERPS!D1719),ShareOfSearch_SERPS!D1719,\"\")","v":""},{"$f":"IF(NOT(ISBLANK(ShareOfSearch_SERPS!A1719)),ShareOfSearch_SERPS!A1719,\"\")","v":""},{"$f":"IF(NOT(ISBLANK(ShareOfSearch_SERPS!G1719)),ShareOfSearch_SERPS!G1719,\"\")","v":""},{"$f":"IF(NOT(ISBLANK(ShareOfSearch_SERPS!K1719)),ShareOfSearch_SERPS!K1719,\"\")","v":""},{"$f":"IFERROR(VLOOKUP(C1719,ShareOfSearch_CTR!$A$1:$B$100,2,FALSE)*VLOOKUP(A1719&B1719,ShareOfSearch_Volume!$C$1:$D$1000,2,FALSE),\"\")","v":""}]
[{"$f":"IF(ISTEXT(ShareOfSearch_SERPS!C1720),ShareOfSearch_SERPS!C1720,\"\")","v":""},{"$f":"IF(ISTEXT(ShareOfSearch_SERPS!D1720),ShareOfSearch_SERPS!D1720,\"\")","v":""},{"$f":"IF(NOT(ISBLANK(ShareOfSearch_SERPS!A1720)),ShareOfSearch_SERPS!A1720,\"\")","v":""},{"$f":"IF(NOT(ISBLANK(ShareOfSearch_SERPS!G1720)),ShareOfSearch_SERPS!G1720,\"\")","v":""},{"$f":"IF(NOT(ISBLANK(ShareOfSearch_SERPS!K1720)),ShareOfSearch_SERPS!K1720,\"\")","v":""},{"$f":"IFERROR(VLOOKUP(C1720,ShareOfSearch_CTR!$A$1:$B$100,2,FALSE)*VLOOKUP(A1720&B1720,ShareOfSearch_Volume!$C$1:$D$1000,2,FALSE),\"\")","v":""}]
[{"$f":"IF(ISTEXT(ShareOfSearch_SERPS!C1721),ShareOfSearch_SERPS!C1721,\"\")","v":""},{"$f":"IF(ISTEXT(ShareOfSearch_SERPS!D1721),ShareOfSearch_SERPS!D1721,\"\")","v":""},{"$f":"IF(NOT(ISBLANK(ShareOfSearch_SERPS!A1721)),ShareOfSearch_SERPS!A1721,\"\")","v":""},{"$f":"IF(NOT(ISBLANK(ShareOfSearch_SERPS!G1721)),ShareOfSearch_SERPS!G1721,\"\")","v":""},{"$f":"IF(NOT(ISBLANK(ShareOfSearch_SERPS!K1721)),ShareOfSearch_SERPS!K1721,\"\")","v":""},{"$f":"IFERROR(VLOOKUP(C1721,ShareOfSearch_CTR!$A$1:$B$100,2,FALSE)*VLOOKUP(A1721&B1721,ShareOfSearch_Volume!$C$1:$D$1000,2,FALSE),\"\")","v":""}]
[{"$f":"IF(ISTEXT(ShareOfSearch_SERPS!C1722),ShareOfSearch_SERPS!C1722,\"\")","v":""},{"$f":"IF(ISTEXT(ShareOfSearch_SERPS!D1722),ShareOfSearch_SERPS!D1722,\"\")","v":""},{"$f":"IF(NOT(ISBLANK(ShareOfSearch_SERPS!A1722)),ShareOfSearch_SERPS!A1722,\"\")","v":""},{"$f":"IF(NOT(ISBLANK(ShareOfSearch_SERPS!G1722)),ShareOfSearch_SERPS!G1722,\"\")","v":""},{"$f":"IF(NOT(ISBLANK(ShareOfSearch_SERPS!K1722)),ShareOfSearch_SERPS!K1722,\"\")","v":""},{"$f":"IFERROR(VLOOKUP(C1722,ShareOfSearch_CTR!$A$1:$B$100,2,FALSE)*VLOOKUP(A1722&B1722,ShareOfSearch_Volume!$C$1:$D$1000,2,FALSE),\"\")","v":""}]
[{"$f":"IF(ISTEXT(ShareOfSearch_SERPS!C1723),ShareOfSearch_SERPS!C1723,\"\")","v":""},{"$f":"IF(ISTEXT(ShareOfSearch_SERPS!D1723),ShareOfSearch_SERPS!D1723,\"\")","v":""},{"$f":"IF(NOT(ISBLANK(ShareOfSearch_SERPS!A1723)),ShareOfSearch_SERPS!A1723,\"\")","v":""},{"$f":"IF(NOT(ISBLANK(ShareOfSearch_SERPS!G1723)),ShareOfSearch_SERPS!G1723,\"\")","v":""},{"$f":"IF(NOT(ISBLANK(ShareOfSearch_SERPS!K1723)),ShareOfSearch_SERPS!K1723,\"\")","v":""},{"$f":"IFERROR(VLOOKUP(C1723,ShareOfSearch_CTR!$A$1:$B$100,2,FALSE)*VLOOKUP(A1723&B1723,ShareOfSearch_Volume!$C$1:$D$1000,2,FALSE),\"\")","v":""}]
[{"$f":"IF(ISTEXT(ShareOfSearch_SERPS!C1724),ShareOfSearch_SERPS!C1724,\"\")","v":""},{"$f":"IF(ISTEXT(ShareOfSearch_SERPS!D1724),ShareOfSearch_SERPS!D1724,\"\")","v":""},{"$f":"IF(NOT(ISBLANK(ShareOfSearch_SERPS!A1724)),ShareOfSearch_SERPS!A1724,\"\")","v":""},{"$f":"IF(NOT(ISBLANK(ShareOfSearch_SERPS!G1724)),ShareOfSearch_SERPS!G1724,\"\")","v":""},{"$f":"IF(NOT(ISBLANK(ShareOfSearch_SERPS!K1724)),ShareOfSearch_SERPS!K1724,\"\")","v":""},{"$f":"IFERROR(VLOOKUP(C1724,ShareOfSearch_CTR!$A$1:$B$100,2,FALSE)*VLOOKUP(A1724&B1724,ShareOfSearch_Volume!$C$1:$D$1000,2,FALSE),\"\")","v":""}]
[{"$f":"IF(ISTEXT(ShareOfSearch_SERPS!C1725),ShareOfSearch_SERPS!C1725,\"\")","v":""},{"$f":"IF(ISTEXT(ShareOfSearch_SERPS!D1725),ShareOfSearch_SERPS!D1725,\"\")","v":""},{"$f":"IF(NOT(ISBLANK(ShareOfSearch_SERPS!A1725)),ShareOfSearch_SERPS!A1725,\"\")","v":""},{"$f":"IF(NOT(ISBLANK(ShareOfSearch_SERPS!G1725)),ShareOfSearch_SERPS!G1725,\"\")","v":""},{"$f":"IF(NOT(ISBLANK(ShareOfSearch_SERPS!K1725)),ShareOfSearch_SERPS!K1725,\"\")","v":""},{"$f":"IFERROR(VLOOKUP(C1725,ShareOfSearch_CTR!$A$1:$B$100,2,FALSE)*VLOOKUP(A1725&B1725,ShareOfSearch_Volume!$C$1:$D$1000,2,FALSE),\"\")","v":""}]
[{"$f":"IF(ISTEXT(ShareOfSearch_SERPS!C1726),ShareOfSearch_SERPS!C1726,\"\")","v":""},{"$f":"IF(ISTEXT(ShareOfSearch_SERPS!D1726),ShareOfSearch_SERPS!D1726,\"\")","v":""},{"$f":"IF(NOT(ISBLANK(ShareOfSearch_SERPS!A1726)),ShareOfSearch_SERPS!A1726,\"\")","v":""},{"$f":"IF(NOT(ISBLANK(ShareOfSearch_SERPS!G1726)),ShareOfSearch_SERPS!G1726,\"\")","v":""},{"$f":"IF(NOT(ISBLANK(ShareOfSearch_SERPS!K1726)),ShareOfSearch_SERPS!K1726,\"\")","v":""},{"$f":"IFERROR(VLOOKUP(C1726,ShareOfSearch_CTR!$A$1:$B$100,2,FALSE)*VLOOKUP(A1726&B1726,ShareOfSearch_Volume!$C$1:$D$1000,2,FALSE),\"\")","v":""}]
[{"$f":"IF(ISTEXT(ShareOfSearch_SERPS!C1727),ShareOfSearch_SERPS!C1727,\"\")","v":""},{"$f":"IF(ISTEXT(ShareOfSearch_SERPS!D1727),ShareOfSearch_SERPS!D1727,\"\")","v":""},{"$f":"IF(NOT(ISBLANK(ShareOfSearch_SERPS!A1727)),ShareOfSearch_SERPS!A1727,\"\")","v":""},{"$f":"IF(NOT(ISBLANK(ShareOfSearch_SERPS!G1727)),ShareOfSearch_SERPS!G1727,\"\")","v":""},{"$f":"IF(NOT(ISBLANK(ShareOfSearch_SERPS!K1727)),ShareOfSearch_SERPS!K1727,\"\")","v":""},{"$f":"IFERROR(VLOOKUP(C1727,ShareOfSearch_CTR!$A$1:$B$100,2,FALSE)*VLOOKUP(A1727&B1727,ShareOfSearch_Volume!$C$1:$D$1000,2,FALSE),\"\")","v":""}]
[{"$f":"IF(ISTEXT(ShareOfSearch_SERPS!C1728),ShareOfSearch_SERPS!C1728,\"\")","v":""},{"$f":"IF(ISTEXT(ShareOfSearch_SERPS!D1728),ShareOfSearch_SERPS!D1728,\"\")","v":""},{"$f":"IF(NOT(ISBLANK(ShareOfSearch_SERPS!A1728)),ShareOfSearch_SERPS!A1728,\"\")","v":""},{"$f":"IF(NOT(ISBLANK(ShareOfSearch_SERPS!G1728)),ShareOfSearch_SERPS!G1728,\"\")","v":""},{"$f":"IF(NOT(ISBLANK(ShareOfSearch_SERPS!K1728)),ShareOfSearch_SERPS!K1728,\"\")","v":""},{"$f":"IFERROR(VLOOKUP(C1728,ShareOfSearch_CTR!$A$1:$B$100,2,FALSE)*VLOOKUP(A1728&B1728,ShareOfSearch_Volume!$C$1:$D$1000,2,FALSE),\"\")","v":""}]
[{"$f":"IF(ISTEXT(ShareOfSearch_SERPS!C1729),ShareOfSearch_SERPS!C1729,\"\")","v":""},{"$f":"IF(ISTEXT(ShareOfSearch_SERPS!D1729),ShareOfSearch_SERPS!D1729,\"\")","v":""},{"$f":"IF(NOT(ISBLANK(ShareOfSearch_SERPS!A1729)),ShareOfSearch_SERPS!A1729,\"\")","v":""},{"$f":"IF(NOT(ISBLANK(ShareOfSearch_SERPS!G1729)),ShareOfSearch_SERPS!G1729,\"\")","v":""},{"$f":"IF(NOT(ISBLANK(ShareOfSearch_SERPS!K1729)),ShareOfSearch_SERPS!K1729,\"\")","v":""},{"$f":"IFERROR(VLOOKUP(C1729,ShareOfSearch_CTR!$A$1:$B$100,2,FALSE)*VLOOKUP(A1729&B1729,ShareOfSearch_Volume!$C$1:$D$1000,2,FALSE),\"\")","v":""}]
[{"$f":"IF(ISTEXT(ShareOfSearch_SERPS!C1730),ShareOfSearch_SERPS!C1730,\"\")","v":""},{"$f":"IF(ISTEXT(ShareOfSearch_SERPS!D1730),ShareOfSearch_SERPS!D1730,\"\")","v":""},{"$f":"IF(NOT(ISBLANK(ShareOfSearch_SERPS!A1730)),ShareOfSearch_SERPS!A1730,\"\")","v":""},{"$f":"IF(NOT(ISBLANK(ShareOfSearch_SERPS!G1730)),ShareOfSearch_SERPS!G1730,\"\")","v":""},{"$f":"IF(NOT(ISBLANK(ShareOfSearch_SERPS!K1730)),ShareOfSearch_SERPS!K1730,\"\")","v":""},{"$f":"IFERROR(VLOOKUP(C1730,ShareOfSearch_CTR!$A$1:$B$100,2,FALSE)*VLOOKUP(A1730&B1730,ShareOfSearch_Volume!$C$1:$D$1000,2,FALSE),\"\")","v":""}]
[{"$f":"IF(ISTEXT(ShareOfSearch_SERPS!C1731),ShareOfSearch_SERPS!C1731,\"\")","v":""},{"$f":"IF(ISTEXT(ShareOfSearch_SERPS!D1731),ShareOfSearch_SERPS!D1731,\"\")","v":""},{"$f":"IF(NOT(ISBLANK(ShareOfSearch_SERPS!A1731)),ShareOfSearch_SERPS!A1731,\"\")","v":""},{"$f":"IF(NOT(ISBLANK(ShareOfSearch_SERPS!G1731)),ShareOfSearch_SERPS!G1731,\"\")","v":""},{"$f":"IF(NOT(ISBLANK(ShareOfSearch_SERPS!K1731)),ShareOfSearch_SERPS!K1731,\"\")","v":""},{"$f":"IFERROR(VLOOKUP(C1731,ShareOfSearch_CTR!$A$1:$B$100,2,FALSE)*VLOOKUP(A1731&B1731,ShareOfSearch_Volume!$C$1:$D$1000,2,FALSE),\"\")","v":""}]
[{"$f":"IF(ISTEXT(ShareOfSearch_SERPS!C1732),ShareOfSearch_SERPS!C1732,\"\")","v":""},{"$f":"IF(ISTEXT(ShareOfSearch_SERPS!D1732),ShareOfSearch_SERPS!D1732,\"\")","v":""},{"$f":"IF(NOT(ISBLANK(ShareOfSearch_SERPS!A1732)),ShareOfSearch_SERPS!A1732,\"\")","v":""},{"$f":"IF(NOT(ISBLANK(ShareOfSearch_SERPS!G1732)),ShareOfSearch_SERPS!G1732,\"\")","v":""},{"$f":"IF(NOT(ISBLANK(ShareOfSearch_SERPS!K1732)),ShareOfSearch_SERPS!K1732,\"\")","v":""},{"$f":"IFERROR(VLOOKUP(C1732,ShareOfSearch_CTR!$A$1:$B$100,2,FALSE)*VLOOKUP(A1732&B1732,ShareOfSearch_Volume!$C$1:$D$1000,2,FALSE),\"\")","v":""}]
[{"$f":"IF(ISTEXT(ShareOfSearch_SERPS!C1733),ShareOfSearch_SERPS!C1733,\"\")","v":""},{"$f":"IF(ISTEXT(ShareOfSearch_SERPS!D1733),ShareOfSearch_SERPS!D1733,\"\")","v":""},{"$f":"IF(NOT(ISBLANK(ShareOfSearch_SERPS!A1733)),ShareOfSearch_SERPS!A1733,\"\")","v":""},{"$f":"IF(NOT(ISBLANK(ShareOfSearch_SERPS!G1733)),ShareOfSearch_SERPS!G1733,\"\")","v":""},{"$f":"IF(NOT(ISBLANK(ShareOfSearch_SERPS!K1733)),ShareOfSearch_SERPS!K1733,\"\")","v":""},{"$f":"IFERROR(VLOOKUP(C1733,ShareOfSearch_CTR!$A$1:$B$100,2,FALSE)*VLOOKUP(A1733&B1733,ShareOfSearch_Volume!$C$1:$D$1000,2,FALSE),\"\")","v":""}]
[{"$f":"IF(ISTEXT(ShareOfSearch_SERPS!C1734),ShareOfSearch_SERPS!C1734,\"\")","v":""},{"$f":"IF(ISTEXT(ShareOfSearch_SERPS!D1734),ShareOfSearch_SERPS!D1734,\"\")","v":""},{"$f":"IF(NOT(ISBLANK(ShareOfSearch_SERPS!A1734)),ShareOfSearch_SERPS!A1734,\"\")","v":""},{"$f":"IF(NOT(ISBLANK(ShareOfSearch_SERPS!G1734)),ShareOfSearch_SERPS!G1734,\"\")","v":""},{"$f":"IF(NOT(ISBLANK(ShareOfSearch_SERPS!K1734)),ShareOfSearch_SERPS!K1734,\"\")","v":""},{"$f":"IFERROR(VLOOKUP(C1734,ShareOfSearch_CTR!$A$1:$B$100,2,FALSE)*VLOOKUP(A1734&B1734,ShareOfSearch_Volume!$C$1:$D$1000,2,FALSE),\"\")","v":""}]
[{"$f":"IF(ISTEXT(ShareOfSearch_SERPS!C1735),ShareOfSearch_SERPS!C1735,\"\")","v":""},{"$f":"IF(ISTEXT(ShareOfSearch_SERPS!D1735),ShareOfSearch_SERPS!D1735,\"\")","v":""},{"$f":"IF(NOT(ISBLANK(ShareOfSearch_SERPS!A1735)),ShareOfSearch_SERPS!A1735,\"\")","v":""},{"$f":"IF(NOT(ISBLANK(ShareOfSearch_SERPS!G1735)),ShareOfSearch_SERPS!G1735,\"\")","v":""},{"$f":"IF(NOT(ISBLANK(ShareOfSearch_SERPS!K1735)),ShareOfSearch_SERPS!K1735,\"\")","v":""},{"$f":"IFERROR(VLOOKUP(C1735,ShareOfSearch_CTR!$A$1:$B$100,2,FALSE)*VLOOKUP(A1735&B1735,ShareOfSearch_Volume!$C$1:$D$1000,2,FALSE),\"\")","v":""}]
[{"$f":"IF(ISTEXT(ShareOfSearch_SERPS!C1736),ShareOfSearch_SERPS!C1736,\"\")","v":""},{"$f":"IF(ISTEXT(ShareOfSearch_SERPS!D1736),ShareOfSearch_SERPS!D1736,\"\")","v":""},{"$f":"IF(NOT(ISBLANK(ShareOfSearch_SERPS!A1736)),ShareOfSearch_SERPS!A1736,\"\")","v":""},{"$f":"IF(NOT(ISBLANK(ShareOfSearch_SERPS!G1736)),ShareOfSearch_SERPS!G1736,\"\")","v":""},{"$f":"IF(NOT(ISBLANK(ShareOfSearch_SERPS!K1736)),ShareOfSearch_SERPS!K1736,\"\")","v":""},{"$f":"IFERROR(VLOOKUP(C1736,ShareOfSearch_CTR!$A$1:$B$100,2,FALSE)*VLOOKUP(A1736&B1736,ShareOfSearch_Volume!$C$1:$D$1000,2,FALSE),\"\")","v":""}]
[{"$f":"IF(ISTEXT(ShareOfSearch_SERPS!C1737),ShareOfSearch_SERPS!C1737,\"\")","v":""},{"$f":"IF(ISTEXT(ShareOfSearch_SERPS!D1737),ShareOfSearch_SERPS!D1737,\"\")","v":""},{"$f":"IF(NOT(ISBLANK(ShareOfSearch_SERPS!A1737)),ShareOfSearch_SERPS!A1737,\"\")","v":""},{"$f":"IF(NOT(ISBLANK(ShareOfSearch_SERPS!G1737)),ShareOfSearch_SERPS!G1737,\"\")","v":""},{"$f":"IF(NOT(ISBLANK(ShareOfSearch_SERPS!K1737)),ShareOfSearch_SERPS!K1737,\"\")","v":""},{"$f":"IFERROR(VLOOKUP(C1737,ShareOfSearch_CTR!$A$1:$B$100,2,FALSE)*VLOOKUP(A1737&B1737,ShareOfSearch_Volume!$C$1:$D$1000,2,FALSE),\"\")","v":""}]
[{"$f":"IF(ISTEXT(ShareOfSearch_SERPS!C1738),ShareOfSearch_SERPS!C1738,\"\")","v":""},{"$f":"IF(ISTEXT(ShareOfSearch_SERPS!D1738),ShareOfSearch_SERPS!D1738,\"\")","v":""},{"$f":"IF(NOT(ISBLANK(ShareOfSearch_SERPS!A1738)),ShareOfSearch_SERPS!A1738,\"\")","v":""},{"$f":"IF(NOT(ISBLANK(ShareOfSearch_SERPS!G1738)),ShareOfSearch_SERPS!G1738,\"\")","v":""},{"$f":"IF(NOT(ISBLANK(ShareOfSearch_SERPS!K1738)),ShareOfSearch_SERPS!K1738,\"\")","v":""},{"$f":"IFERROR(VLOOKUP(C1738,ShareOfSearch_CTR!$A$1:$B$100,2,FALSE)*VLOOKUP(A1738&B1738,ShareOfSearch_Volume!$C$1:$D$1000,2,FALSE),\"\")","v":""}]
[{"$f":"IF(ISTEXT(ShareOfSearch_SERPS!C1739),ShareOfSearch_SERPS!C1739,\"\")","v":""},{"$f":"IF(ISTEXT(ShareOfSearch_SERPS!D1739),ShareOfSearch_SERPS!D1739,\"\")","v":""},{"$f":"IF(NOT(ISBLANK(ShareOfSearch_SERPS!A1739)),ShareOfSearch_SERPS!A1739,\"\")","v":""},{"$f":"IF(NOT(ISBLANK(ShareOfSearch_SERPS!G1739)),ShareOfSearch_SERPS!G1739,\"\")","v":""},{"$f":"IF(NOT(ISBLANK(ShareOfSearch_SERPS!K1739)),ShareOfSearch_SERPS!K1739,\"\")","v":""},{"$f":"IFERROR(VLOOKUP(C1739,ShareOfSearch_CTR!$A$1:$B$100,2,FALSE)*VLOOKUP(A1739&B1739,ShareOfSearch_Volume!$C$1:$D$1000,2,FALSE),\"\")","v":""}]
[{"$f":"IF(ISTEXT(ShareOfSearch_SERPS!C1740),ShareOfSearch_SERPS!C1740,\"\")","v":""},{"$f":"IF(ISTEXT(ShareOfSearch_SERPS!D1740),ShareOfSearch_SERPS!D1740,\"\")","v":""},{"$f":"IF(NOT(ISBLANK(ShareOfSearch_SERPS!A1740)),ShareOfSearch_SERPS!A1740,\"\")","v":""},{"$f":"IF(NOT(ISBLANK(ShareOfSearch_SERPS!G1740)),ShareOfSearch_SERPS!G1740,\"\")","v":""},{"$f":"IF(NOT(ISBLANK(ShareOfSearch_SERPS!K1740)),ShareOfSearch_SERPS!K1740,\"\")","v":""},{"$f":"IFERROR(VLOOKUP(C1740,ShareOfSearch_CTR!$A$1:$B$100,2,FALSE)*VLOOKUP(A1740&B1740,ShareOfSearch_Volume!$C$1:$D$1000,2,FALSE),\"\")","v":""}]
[{"$f":"IF(ISTEXT(ShareOfSearch_SERPS!C1741),ShareOfSearch_SERPS!C1741,\"\")","v":""},{"$f":"IF(ISTEXT(ShareOfSearch_SERPS!D1741),ShareOfSearch_SERPS!D1741,\"\")","v":""},{"$f":"IF(NOT(ISBLANK(ShareOfSearch_SERPS!A1741)),ShareOfSearch_SERPS!A1741,\"\")","v":""},{"$f":"IF(NOT(ISBLANK(ShareOfSearch_SERPS!G1741)),ShareOfSearch_SERPS!G1741,\"\")","v":""},{"$f":"IF(NOT(ISBLANK(ShareOfSearch_SERPS!K1741)),ShareOfSearch_SERPS!K1741,\"\")","v":""},{"$f":"IFERROR(VLOOKUP(C1741,ShareOfSearch_CTR!$A$1:$B$100,2,FALSE)*VLOOKUP(A1741&B1741,ShareOfSearch_Volume!$C$1:$D$1000,2,FALSE),\"\")","v":""}]
[{"$f":"IF(ISTEXT(ShareOfSearch_SERPS!C1742),ShareOfSearch_SERPS!C1742,\"\")","v":""},{"$f":"IF(ISTEXT(ShareOfSearch_SERPS!D1742),ShareOfSearch_SERPS!D1742,\"\")","v":""},{"$f":"IF(NOT(ISBLANK(ShareOfSearch_SERPS!A1742)),ShareOfSearch_SERPS!A1742,\"\")","v":""},{"$f":"IF(NOT(ISBLANK(ShareOfSearch_SERPS!G1742)),ShareOfSearch_SERPS!G1742,\"\")","v":""},{"$f":"IF(NOT(ISBLANK(ShareOfSearch_SERPS!K1742)),ShareOfSearch_SERPS!K1742,\"\")","v":""},{"$f":"IFERROR(VLOOKUP(C1742,ShareOfSearch_CTR!$A$1:$B$100,2,FALSE)*VLOOKUP(A1742&B1742,ShareOfSearch_Volume!$C$1:$D$1000,2,FALSE),\"\")","v":""}]
[{"$f":"IF(ISTEXT(ShareOfSearch_SERPS!C1743),ShareOfSearch_SERPS!C1743,\"\")","v":""},{"$f":"IF(ISTEXT(ShareOfSearch_SERPS!D1743),ShareOfSearch_SERPS!D1743,\"\")","v":""},{"$f":"IF(NOT(ISBLANK(ShareOfSearch_SERPS!A1743)),ShareOfSearch_SERPS!A1743,\"\")","v":""},{"$f":"IF(NOT(ISBLANK(ShareOfSearch_SERPS!G1743)),ShareOfSearch_SERPS!G1743,\"\")","v":""},{"$f":"IF(NOT(ISBLANK(ShareOfSearch_SERPS!K1743)),ShareOfSearch_SERPS!K1743,\"\")","v":""},{"$f":"IFERROR(VLOOKUP(C1743,ShareOfSearch_CTR!$A$1:$B$100,2,FALSE)*VLOOKUP(A1743&B1743,ShareOfSearch_Volume!$C$1:$D$1000,2,FALSE),\"\")","v":""}]
[{"$f":"IF(ISTEXT(ShareOfSearch_SERPS!C1744),ShareOfSearch_SERPS!C1744,\"\")","v":""},{"$f":"IF(ISTEXT(ShareOfSearch_SERPS!D1744),ShareOfSearch_SERPS!D1744,\"\")","v":""},{"$f":"IF(NOT(ISBLANK(ShareOfSearch_SERPS!A1744)),ShareOfSearch_SERPS!A1744,\"\")","v":""},{"$f":"IF(NOT(ISBLANK(ShareOfSearch_SERPS!G1744)),ShareOfSearch_SERPS!G1744,\"\")","v":""},{"$f":"IF(NOT(ISBLANK(ShareOfSearch_SERPS!K1744)),ShareOfSearch_SERPS!K1744,\"\")","v":""},{"$f":"IFERROR(VLOOKUP(C1744,ShareOfSearch_CTR!$A$1:$B$100,2,FALSE)*VLOOKUP(A1744&B1744,ShareOfSearch_Volume!$C$1:$D$1000,2,FALSE),\"\")","v":""}]
[{"$f":"IF(ISTEXT(ShareOfSearch_SERPS!C1745),ShareOfSearch_SERPS!C1745,\"\")","v":""},{"$f":"IF(ISTEXT(ShareOfSearch_SERPS!D1745),ShareOfSearch_SERPS!D1745,\"\")","v":""},{"$f":"IF(NOT(ISBLANK(ShareOfSearch_SERPS!A1745)),ShareOfSearch_SERPS!A1745,\"\")","v":""},{"$f":"IF(NOT(ISBLANK(ShareOfSearch_SERPS!G1745)),ShareOfSearch_SERPS!G1745,\"\")","v":""},{"$f":"IF(NOT(ISBLANK(ShareOfSearch_SERPS!K1745)),ShareOfSearch_SERPS!K1745,\"\")","v":""},{"$f":"IFERROR(VLOOKUP(C1745,ShareOfSearch_CTR!$A$1:$B$100,2,FALSE)*VLOOKUP(A1745&B1745,ShareOfSearch_Volume!$C$1:$D$1000,2,FALSE),\"\")","v":""}]
[{"$f":"IF(ISTEXT(ShareOfSearch_SERPS!C1746),ShareOfSearch_SERPS!C1746,\"\")","v":""},{"$f":"IF(ISTEXT(ShareOfSearch_SERPS!D1746),ShareOfSearch_SERPS!D1746,\"\")","v":""},{"$f":"IF(NOT(ISBLANK(ShareOfSearch_SERPS!A1746)),ShareOfSearch_SERPS!A1746,\"\")","v":""},{"$f":"IF(NOT(ISBLANK(ShareOfSearch_SERPS!G1746)),ShareOfSearch_SERPS!G1746,\"\")","v":""},{"$f":"IF(NOT(ISBLANK(ShareOfSearch_SERPS!K1746)),ShareOfSearch_SERPS!K1746,\"\")","v":""},{"$f":"IFERROR(VLOOKUP(C1746,ShareOfSearch_CTR!$A$1:$B$100,2,FALSE)*VLOOKUP(A1746&B1746,ShareOfSearch_Volume!$C$1:$D$1000,2,FALSE),\"\")","v":""}]
[{"$f":"IF(ISTEXT(ShareOfSearch_SERPS!C1747),ShareOfSearch_SERPS!C1747,\"\")","v":""},{"$f":"IF(ISTEXT(ShareOfSearch_SERPS!D1747),ShareOfSearch_SERPS!D1747,\"\")","v":""},{"$f":"IF(NOT(ISBLANK(ShareOfSearch_SERPS!A1747)),ShareOfSearch_SERPS!A1747,\"\")","v":""},{"$f":"IF(NOT(ISBLANK(ShareOfSearch_SERPS!G1747)),ShareOfSearch_SERPS!G1747,\"\")","v":""},{"$f":"IF(NOT(ISBLANK(ShareOfSearch_SERPS!K1747)),ShareOfSearch_SERPS!K1747,\"\")","v":""},{"$f":"IFERROR(VLOOKUP(C1747,ShareOfSearch_CTR!$A$1:$B$100,2,FALSE)*VLOOKUP(A1747&B1747,ShareOfSearch_Volume!$C$1:$D$1000,2,FALSE),\"\")","v":""}]
[{"$f":"IF(ISTEXT(ShareOfSearch_SERPS!C1748),ShareOfSearch_SERPS!C1748,\"\")","v":""},{"$f":"IF(ISTEXT(ShareOfSearch_SERPS!D1748),ShareOfSearch_SERPS!D1748,\"\")","v":""},{"$f":"IF(NOT(ISBLANK(ShareOfSearch_SERPS!A1748)),ShareOfSearch_SERPS!A1748,\"\")","v":""},{"$f":"IF(NOT(ISBLANK(ShareOfSearch_SERPS!G1748)),ShareOfSearch_SERPS!G1748,\"\")","v":""},{"$f":"IF(NOT(ISBLANK(ShareOfSearch_SERPS!K1748)),ShareOfSearch_SERPS!K1748,\"\")","v":""},{"$f":"IFERROR(VLOOKUP(C1748,ShareOfSearch_CTR!$A$1:$B$100,2,FALSE)*VLOOKUP(A1748&B1748,ShareOfSearch_Volume!$C$1:$D$1000,2,FALSE),\"\")","v":""}]
[{"$f":"IF(ISTEXT(ShareOfSearch_SERPS!C1749),ShareOfSearch_SERPS!C1749,\"\")","v":""},{"$f":"IF(ISTEXT(ShareOfSearch_SERPS!D1749),ShareOfSearch_SERPS!D1749,\"\")","v":""},{"$f":"IF(NOT(ISBLANK(ShareOfSearch_SERPS!A1749)),ShareOfSearch_SERPS!A1749,\"\")","v":""},{"$f":"IF(NOT(ISBLANK(ShareOfSearch_SERPS!G1749)),ShareOfSearch_SERPS!G1749,\"\")","v":""},{"$f":"IF(NOT(ISBLANK(ShareOfSearch_SERPS!K1749)),ShareOfSearch_SERPS!K1749,\"\")","v":""},{"$f":"IFERROR(VLOOKUP(C1749,ShareOfSearch_CTR!$A$1:$B$100,2,FALSE)*VLOOKUP(A1749&B1749,ShareOfSearch_Volume!$C$1:$D$1000,2,FALSE),\"\")","v":""}]
[{"$f":"IF(ISTEXT(ShareOfSearch_SERPS!C1750),ShareOfSearch_SERPS!C1750,\"\")","v":""},{"$f":"IF(ISTEXT(ShareOfSearch_SERPS!D1750),ShareOfSearch_SERPS!D1750,\"\")","v":""},{"$f":"IF(NOT(ISBLANK(ShareOfSearch_SERPS!A1750)),ShareOfSearch_SERPS!A1750,\"\")","v":""},{"$f":"IF(NOT(ISBLANK(ShareOfSearch_SERPS!G1750)),ShareOfSearch_SERPS!G1750,\"\")","v":""},{"$f":"IF(NOT(ISBLANK(ShareOfSearch_SERPS!K1750)),ShareOfSearch_SERPS!K1750,\"\")","v":""},{"$f":"IFERROR(VLOOKUP(C1750,ShareOfSearch_CTR!$A$1:$B$100,2,FALSE)*VLOOKUP(A1750&B1750,ShareOfSearch_Volume!$C$1:$D$1000,2,FALSE),\"\")","v":""}]
[{"$f":"IF(ISTEXT(ShareOfSearch_SERPS!C1751),ShareOfSearch_SERPS!C1751,\"\")","v":""},{"$f":"IF(ISTEXT(ShareOfSearch_SERPS!D1751),ShareOfSearch_SERPS!D1751,\"\")","v":""},{"$f":"IF(NOT(ISBLANK(ShareOfSearch_SERPS!A1751)),ShareOfSearch_SERPS!A1751,\"\")","v":""},{"$f":"IF(NOT(ISBLANK(ShareOfSearch_SERPS!G1751)),ShareOfSearch_SERPS!G1751,\"\")","v":""},{"$f":"IF(NOT(ISBLANK(ShareOfSearch_SERPS!K1751)),ShareOfSearch_SERPS!K1751,\"\")","v":""},{"$f":"IFERROR(VLOOKUP(C1751,ShareOfSearch_CTR!$A$1:$B$100,2,FALSE)*VLOOKUP(A1751&B1751,ShareOfSearch_Volume!$C$1:$D$1000,2,FALSE),\"\")","v":""}]
[{"$f":"IF(ISTEXT(ShareOfSearch_SERPS!C1752),ShareOfSearch_SERPS!C1752,\"\")","v":""},{"$f":"IF(ISTEXT(ShareOfSearch_SERPS!D1752),ShareOfSearch_SERPS!D1752,\"\")","v":""},{"$f":"IF(NOT(ISBLANK(ShareOfSearch_SERPS!A1752)),ShareOfSearch_SERPS!A1752,\"\")","v":""},{"$f":"IF(NOT(ISBLANK(ShareOfSearch_SERPS!G1752)),ShareOfSearch_SERPS!G1752,\"\")","v":""},{"$f":"IF(NOT(ISBLANK(ShareOfSearch_SERPS!K1752)),ShareOfSearch_SERPS!K1752,\"\")","v":""},{"$f":"IFERROR(VLOOKUP(C1752,ShareOfSearch_CTR!$A$1:$B$100,2,FALSE)*VLOOKUP(A1752&B1752,ShareOfSearch_Volume!$C$1:$D$1000,2,FALSE),\"\")","v":""}]
[{"$f":"IF(ISTEXT(ShareOfSearch_SERPS!C1753),ShareOfSearch_SERPS!C1753,\"\")","v":""},{"$f":"IF(ISTEXT(ShareOfSearch_SERPS!D1753),ShareOfSearch_SERPS!D1753,\"\")","v":""},{"$f":"IF(NOT(ISBLANK(ShareOfSearch_SERPS!A1753)),ShareOfSearch_SERPS!A1753,\"\")","v":""},{"$f":"IF(NOT(ISBLANK(ShareOfSearch_SERPS!G1753)),ShareOfSearch_SERPS!G1753,\"\")","v":""},{"$f":"IF(NOT(ISBLANK(ShareOfSearch_SERPS!K1753)),ShareOfSearch_SERPS!K1753,\"\")","v":""},{"$f":"IFERROR(VLOOKUP(C1753,ShareOfSearch_CTR!$A$1:$B$100,2,FALSE)*VLOOKUP(A1753&B1753,ShareOfSearch_Volume!$C$1:$D$1000,2,FALSE),\"\")","v":""}]
[{"$f":"IF(ISTEXT(ShareOfSearch_SERPS!C1754),ShareOfSearch_SERPS!C1754,\"\")","v":""},{"$f":"IF(ISTEXT(ShareOfSearch_SERPS!D1754),ShareOfSearch_SERPS!D1754,\"\")","v":""},{"$f":"IF(NOT(ISBLANK(ShareOfSearch_SERPS!A1754)),ShareOfSearch_SERPS!A1754,\"\")","v":""},{"$f":"IF(NOT(ISBLANK(ShareOfSearch_SERPS!G1754)),ShareOfSearch_SERPS!G1754,\"\")","v":""},{"$f":"IF(NOT(ISBLANK(ShareOfSearch_SERPS!K1754)),ShareOfSearch_SERPS!K1754,\"\")","v":""},{"$f":"IFERROR(VLOOKUP(C1754,ShareOfSearch_CTR!$A$1:$B$100,2,FALSE)*VLOOKUP(A1754&B1754,ShareOfSearch_Volume!$C$1:$D$1000,2,FALSE),\"\")","v":""}]
[{"$f":"IF(ISTEXT(ShareOfSearch_SERPS!C1755),ShareOfSearch_SERPS!C1755,\"\")","v":""},{"$f":"IF(ISTEXT(ShareOfSearch_SERPS!D1755),ShareOfSearch_SERPS!D1755,\"\")","v":""},{"$f":"IF(NOT(ISBLANK(ShareOfSearch_SERPS!A1755)),ShareOfSearch_SERPS!A1755,\"\")","v":""},{"$f":"IF(NOT(ISBLANK(ShareOfSearch_SERPS!G1755)),ShareOfSearch_SERPS!G1755,\"\")","v":""},{"$f":"IF(NOT(ISBLANK(ShareOfSearch_SERPS!K1755)),ShareOfSearch_SERPS!K1755,\"\")","v":""},{"$f":"IFERROR(VLOOKUP(C1755,ShareOfSearch_CTR!$A$1:$B$100,2,FALSE)*VLOOKUP(A1755&B1755,ShareOfSearch_Volume!$C$1:$D$1000,2,FALSE),\"\")","v":""}]
[{"$f":"IF(ISTEXT(ShareOfSearch_SERPS!C1756),ShareOfSearch_SERPS!C1756,\"\")","v":""},{"$f":"IF(ISTEXT(ShareOfSearch_SERPS!D1756),ShareOfSearch_SERPS!D1756,\"\")","v":""},{"$f":"IF(NOT(ISBLANK(ShareOfSearch_SERPS!A1756)),ShareOfSearch_SERPS!A1756,\"\")","v":""},{"$f":"IF(NOT(ISBLANK(ShareOfSearch_SERPS!G1756)),ShareOfSearch_SERPS!G1756,\"\")","v":""},{"$f":"IF(NOT(ISBLANK(ShareOfSearch_SERPS!K1756)),ShareOfSearch_SERPS!K1756,\"\")","v":""},{"$f":"IFERROR(VLOOKUP(C1756,ShareOfSearch_CTR!$A$1:$B$100,2,FALSE)*VLOOKUP(A1756&B1756,ShareOfSearch_Volume!$C$1:$D$1000,2,FALSE),\"\")","v":""}]
[{"$f":"IF(ISTEXT(ShareOfSearch_SERPS!C1757),ShareOfSearch_SERPS!C1757,\"\")","v":""},{"$f":"IF(ISTEXT(ShareOfSearch_SERPS!D1757),ShareOfSearch_SERPS!D1757,\"\")","v":""},{"$f":"IF(NOT(ISBLANK(ShareOfSearch_SERPS!A1757)),ShareOfSearch_SERPS!A1757,\"\")","v":""},{"$f":"IF(NOT(ISBLANK(ShareOfSearch_SERPS!G1757)),ShareOfSearch_SERPS!G1757,\"\")","v":""},{"$f":"IF(NOT(ISBLANK(ShareOfSearch_SERPS!K1757)),ShareOfSearch_SERPS!K1757,\"\")","v":""},{"$f":"IFERROR(VLOOKUP(C1757,ShareOfSearch_CTR!$A$1:$B$100,2,FALSE)*VLOOKUP(A1757&B1757,ShareOfSearch_Volume!$C$1:$D$1000,2,FALSE),\"\")","v":""}]
[{"$f":"IF(ISTEXT(ShareOfSearch_SERPS!C1758),ShareOfSearch_SERPS!C1758,\"\")","v":""},{"$f":"IF(ISTEXT(ShareOfSearch_SERPS!D1758),ShareOfSearch_SERPS!D1758,\"\")","v":""},{"$f":"IF(NOT(ISBLANK(ShareOfSearch_SERPS!A1758)),ShareOfSearch_SERPS!A1758,\"\")","v":""},{"$f":"IF(NOT(ISBLANK(ShareOfSearch_SERPS!G1758)),ShareOfSearch_SERPS!G1758,\"\")","v":""},{"$f":"IF(NOT(ISBLANK(ShareOfSearch_SERPS!K1758)),ShareOfSearch_SERPS!K1758,\"\")","v":""},{"$f":"IFERROR(VLOOKUP(C1758,ShareOfSearch_CTR!$A$1:$B$100,2,FALSE)*VLOOKUP(A1758&B1758,ShareOfSearch_Volume!$C$1:$D$1000,2,FALSE),\"\")","v":""}]
[{"$f":"IF(ISTEXT(ShareOfSearch_SERPS!C1759),ShareOfSearch_SERPS!C1759,\"\")","v":""},{"$f":"IF(ISTEXT(ShareOfSearch_SERPS!D1759),ShareOfSearch_SERPS!D1759,\"\")","v":""},{"$f":"IF(NOT(ISBLANK(ShareOfSearch_SERPS!A1759)),ShareOfSearch_SERPS!A1759,\"\")","v":""},{"$f":"IF(NOT(ISBLANK(ShareOfSearch_SERPS!G1759)),ShareOfSearch_SERPS!G1759,\"\")","v":""},{"$f":"IF(NOT(ISBLANK(ShareOfSearch_SERPS!K1759)),ShareOfSearch_SERPS!K1759,\"\")","v":""},{"$f":"IFERROR(VLOOKUP(C1759,ShareOfSearch_CTR!$A$1:$B$100,2,FALSE)*VLOOKUP(A1759&B1759,ShareOfSearch_Volume!$C$1:$D$1000,2,FALSE),\"\")","v":""}]
[{"$f":"IF(ISTEXT(ShareOfSearch_SERPS!C1760),ShareOfSearch_SERPS!C1760,\"\")","v":""},{"$f":"IF(ISTEXT(ShareOfSearch_SERPS!D1760),ShareOfSearch_SERPS!D1760,\"\")","v":""},{"$f":"IF(NOT(ISBLANK(ShareOfSearch_SERPS!A1760)),ShareOfSearch_SERPS!A1760,\"\")","v":""},{"$f":"IF(NOT(ISBLANK(ShareOfSearch_SERPS!G1760)),ShareOfSearch_SERPS!G1760,\"\")","v":""},{"$f":"IF(NOT(ISBLANK(ShareOfSearch_SERPS!K1760)),ShareOfSearch_SERPS!K1760,\"\")","v":""},{"$f":"IFERROR(VLOOKUP(C1760,ShareOfSearch_CTR!$A$1:$B$100,2,FALSE)*VLOOKUP(A1760&B1760,ShareOfSearch_Volume!$C$1:$D$1000,2,FALSE),\"\")","v":""}]
[{"$f":"IF(ISTEXT(ShareOfSearch_SERPS!C1761),ShareOfSearch_SERPS!C1761,\"\")","v":""},{"$f":"IF(ISTEXT(ShareOfSearch_SERPS!D1761),ShareOfSearch_SERPS!D1761,\"\")","v":""},{"$f":"IF(NOT(ISBLANK(ShareOfSearch_SERPS!A1761)),ShareOfSearch_SERPS!A1761,\"\")","v":""},{"$f":"IF(NOT(ISBLANK(ShareOfSearch_SERPS!G1761)),ShareOfSearch_SERPS!G1761,\"\")","v":""},{"$f":"IF(NOT(ISBLANK(ShareOfSearch_SERPS!K1761)),ShareOfSearch_SERPS!K1761,\"\")","v":""},{"$f":"IFERROR(VLOOKUP(C1761,ShareOfSearch_CTR!$A$1:$B$100,2,FALSE)*VLOOKUP(A1761&B1761,ShareOfSearch_Volume!$C$1:$D$1000,2,FALSE),\"\")","v":""}]
[{"$f":"IF(ISTEXT(ShareOfSearch_SERPS!C1762),ShareOfSearch_SERPS!C1762,\"\")","v":""},{"$f":"IF(ISTEXT(ShareOfSearch_SERPS!D1762),ShareOfSearch_SERPS!D1762,\"\")","v":""},{"$f":"IF(NOT(ISBLANK(ShareOfSearch_SERPS!A1762)),ShareOfSearch_SERPS!A1762,\"\")","v":""},{"$f":"IF(NOT(ISBLANK(ShareOfSearch_SERPS!G1762)),ShareOfSearch_SERPS!G1762,\"\")","v":""},{"$f":"IF(NOT(ISBLANK(ShareOfSearch_SERPS!K1762)),ShareOfSearch_SERPS!K1762,\"\")","v":""},{"$f":"IFERROR(VLOOKUP(C1762,ShareOfSearch_CTR!$A$1:$B$100,2,FALSE)*VLOOKUP(A1762&B1762,ShareOfSearch_Volume!$C$1:$D$1000,2,FALSE),\"\")","v":""}]
[{"$f":"IF(ISTEXT(ShareOfSearch_SERPS!C1763),ShareOfSearch_SERPS!C1763,\"\")","v":""},{"$f":"IF(ISTEXT(ShareOfSearch_SERPS!D1763),ShareOfSearch_SERPS!D1763,\"\")","v":""},{"$f":"IF(NOT(ISBLANK(ShareOfSearch_SERPS!A1763)),ShareOfSearch_SERPS!A1763,\"\")","v":""},{"$f":"IF(NOT(ISBLANK(ShareOfSearch_SERPS!G1763)),ShareOfSearch_SERPS!G1763,\"\")","v":""},{"$f":"IF(NOT(ISBLANK(ShareOfSearch_SERPS!K1763)),ShareOfSearch_SERPS!K1763,\"\")","v":""},{"$f":"IFERROR(VLOOKUP(C1763,ShareOfSearch_CTR!$A$1:$B$100,2,FALSE)*VLOOKUP(A1763&B1763,ShareOfSearch_Volume!$C$1:$D$1000,2,FALSE),\"\")","v":""}]
[{"$f":"IF(ISTEXT(ShareOfSearch_SERPS!C1764),ShareOfSearch_SERPS!C1764,\"\")","v":""},{"$f":"IF(ISTEXT(ShareOfSearch_SERPS!D1764),ShareOfSearch_SERPS!D1764,\"\")","v":""},{"$f":"IF(NOT(ISBLANK(ShareOfSearch_SERPS!A1764)),ShareOfSearch_SERPS!A1764,\"\")","v":""},{"$f":"IF(NOT(ISBLANK(ShareOfSearch_SERPS!G1764)),ShareOfSearch_SERPS!G1764,\"\")","v":""},{"$f":"IF(NOT(ISBLANK(ShareOfSearch_SERPS!K1764)),ShareOfSearch_SERPS!K1764,\"\")","v":""},{"$f":"IFERROR(VLOOKUP(C1764,ShareOfSearch_CTR!$A$1:$B$100,2,FALSE)*VLOOKUP(A1764&B1764,ShareOfSearch_Volume!$C$1:$D$1000,2,FALSE),\"\")","v":""}]
[{"$f":"IF(ISTEXT(ShareOfSearch_SERPS!C1765),ShareOfSearch_SERPS!C1765,\"\")","v":""},{"$f":"IF(ISTEXT(ShareOfSearch_SERPS!D1765),ShareOfSearch_SERPS!D1765,\"\")","v":""},{"$f":"IF(NOT(ISBLANK(ShareOfSearch_SERPS!A1765)),ShareOfSearch_SERPS!A1765,\"\")","v":""},{"$f":"IF(NOT(ISBLANK(ShareOfSearch_SERPS!G1765)),ShareOfSearch_SERPS!G1765,\"\")","v":""},{"$f":"IF(NOT(ISBLANK(ShareOfSearch_SERPS!K1765)),ShareOfSearch_SERPS!K1765,\"\")","v":""},{"$f":"IFERROR(VLOOKUP(C1765,ShareOfSearch_CTR!$A$1:$B$100,2,FALSE)*VLOOKUP(A1765&B1765,ShareOfSearch_Volume!$C$1:$D$1000,2,FALSE),\"\")","v":""}]
[{"$f":"IF(ISTEXT(ShareOfSearch_SERPS!C1766),ShareOfSearch_SERPS!C1766,\"\")","v":""},{"$f":"IF(ISTEXT(ShareOfSearch_SERPS!D1766),ShareOfSearch_SERPS!D1766,\"\")","v":""},{"$f":"IF(NOT(ISBLANK(ShareOfSearch_SERPS!A1766)),ShareOfSearch_SERPS!A1766,\"\")","v":""},{"$f":"IF(NOT(ISBLANK(ShareOfSearch_SERPS!G1766)),ShareOfSearch_SERPS!G1766,\"\")","v":""},{"$f":"IF(NOT(ISBLANK(ShareOfSearch_SERPS!K1766)),ShareOfSearch_SERPS!K1766,\"\")","v":""},{"$f":"IFERROR(VLOOKUP(C1766,ShareOfSearch_CTR!$A$1:$B$100,2,FALSE)*VLOOKUP(A1766&B1766,ShareOfSearch_Volume!$C$1:$D$1000,2,FALSE),\"\")","v":""}]
[{"$f":"IF(ISTEXT(ShareOfSearch_SERPS!C1767),ShareOfSearch_SERPS!C1767,\"\")","v":""},{"$f":"IF(ISTEXT(ShareOfSearch_SERPS!D1767),ShareOfSearch_SERPS!D1767,\"\")","v":""},{"$f":"IF(NOT(ISBLANK(ShareOfSearch_SERPS!A1767)),ShareOfSearch_SERPS!A1767,\"\")","v":""},{"$f":"IF(NOT(ISBLANK(ShareOfSearch_SERPS!G1767)),ShareOfSearch_SERPS!G1767,\"\")","v":""},{"$f":"IF(NOT(ISBLANK(ShareOfSearch_SERPS!K1767)),ShareOfSearch_SERPS!K1767,\"\")","v":""},{"$f":"IFERROR(VLOOKUP(C1767,ShareOfSearch_CTR!$A$1:$B$100,2,FALSE)*VLOOKUP(A1767&B1767,ShareOfSearch_Volume!$C$1:$D$1000,2,FALSE),\"\")","v":""}]
[{"$f":"IF(ISTEXT(ShareOfSearch_SERPS!C1768),ShareOfSearch_SERPS!C1768,\"\")","v":""},{"$f":"IF(ISTEXT(ShareOfSearch_SERPS!D1768),ShareOfSearch_SERPS!D1768,\"\")","v":""},{"$f":"IF(NOT(ISBLANK(ShareOfSearch_SERPS!A1768)),ShareOfSearch_SERPS!A1768,\"\")","v":""},{"$f":"IF(NOT(ISBLANK(ShareOfSearch_SERPS!G1768)),ShareOfSearch_SERPS!G1768,\"\")","v":""},{"$f":"IF(NOT(ISBLANK(ShareOfSearch_SERPS!K1768)),ShareOfSearch_SERPS!K1768,\"\")","v":""},{"$f":"IFERROR(VLOOKUP(C1768,ShareOfSearch_CTR!$A$1:$B$100,2,FALSE)*VLOOKUP(A1768&B1768,ShareOfSearch_Volume!$C$1:$D$1000,2,FALSE),\"\")","v":""}]
[{"$f":"IF(ISTEXT(ShareOfSearch_SERPS!C1769),ShareOfSearch_SERPS!C1769,\"\")","v":""},{"$f":"IF(ISTEXT(ShareOfSearch_SERPS!D1769),ShareOfSearch_SERPS!D1769,\"\")","v":""},{"$f":"IF(NOT(ISBLANK(ShareOfSearch_SERPS!A1769)),ShareOfSearch_SERPS!A1769,\"\")","v":""},{"$f":"IF(NOT(ISBLANK(ShareOfSearch_SERPS!G1769)),ShareOfSearch_SERPS!G1769,\"\")","v":""},{"$f":"IF(NOT(ISBLANK(ShareOfSearch_SERPS!K1769)),ShareOfSearch_SERPS!K1769,\"\")","v":""},{"$f":"IFERROR(VLOOKUP(C1769,ShareOfSearch_CTR!$A$1:$B$100,2,FALSE)*VLOOKUP(A1769&B1769,ShareOfSearch_Volume!$C$1:$D$1000,2,FALSE),\"\")","v":""}]
[{"$f":"IF(ISTEXT(ShareOfSearch_SERPS!C1770),ShareOfSearch_SERPS!C1770,\"\")","v":""},{"$f":"IF(ISTEXT(ShareOfSearch_SERPS!D1770),ShareOfSearch_SERPS!D1770,\"\")","v":""},{"$f":"IF(NOT(ISBLANK(ShareOfSearch_SERPS!A1770)),ShareOfSearch_SERPS!A1770,\"\")","v":""},{"$f":"IF(NOT(ISBLANK(ShareOfSearch_SERPS!G1770)),ShareOfSearch_SERPS!G1770,\"\")","v":""},{"$f":"IF(NOT(ISBLANK(ShareOfSearch_SERPS!K1770)),ShareOfSearch_SERPS!K1770,\"\")","v":""},{"$f":"IFERROR(VLOOKUP(C1770,ShareOfSearch_CTR!$A$1:$B$100,2,FALSE)*VLOOKUP(A1770&B1770,ShareOfSearch_Volume!$C$1:$D$1000,2,FALSE),\"\")","v":""}]
[{"$f":"IF(ISTEXT(ShareOfSearch_SERPS!C1771),ShareOfSearch_SERPS!C1771,\"\")","v":""},{"$f":"IF(ISTEXT(ShareOfSearch_SERPS!D1771),ShareOfSearch_SERPS!D1771,\"\")","v":""},{"$f":"IF(NOT(ISBLANK(ShareOfSearch_SERPS!A1771)),ShareOfSearch_SERPS!A1771,\"\")","v":""},{"$f":"IF(NOT(ISBLANK(ShareOfSearch_SERPS!G1771)),ShareOfSearch_SERPS!G1771,\"\")","v":""},{"$f":"IF(NOT(ISBLANK(ShareOfSearch_SERPS!K1771)),ShareOfSearch_SERPS!K1771,\"\")","v":""},{"$f":"IFERROR(VLOOKUP(C1771,ShareOfSearch_CTR!$A$1:$B$100,2,FALSE)*VLOOKUP(A1771&B1771,ShareOfSearch_Volume!$C$1:$D$1000,2,FALSE),\"\")","v":""}]
[{"$f":"IF(ISTEXT(ShareOfSearch_SERPS!C1772),ShareOfSearch_SERPS!C1772,\"\")","v":""},{"$f":"IF(ISTEXT(ShareOfSearch_SERPS!D1772),ShareOfSearch_SERPS!D1772,\"\")","v":""},{"$f":"IF(NOT(ISBLANK(ShareOfSearch_SERPS!A1772)),ShareOfSearch_SERPS!A1772,\"\")","v":""},{"$f":"IF(NOT(ISBLANK(ShareOfSearch_SERPS!G1772)),ShareOfSearch_SERPS!G1772,\"\")","v":""},{"$f":"IF(NOT(ISBLANK(ShareOfSearch_SERPS!K1772)),ShareOfSearch_SERPS!K1772,\"\")","v":""},{"$f":"IFERROR(VLOOKUP(C1772,ShareOfSearch_CTR!$A$1:$B$100,2,FALSE)*VLOOKUP(A1772&B1772,ShareOfSearch_Volume!$C$1:$D$1000,2,FALSE),\"\")","v":""}]
[{"$f":"IF(ISTEXT(ShareOfSearch_SERPS!C1773),ShareOfSearch_SERPS!C1773,\"\")","v":""},{"$f":"IF(ISTEXT(ShareOfSearch_SERPS!D1773),ShareOfSearch_SERPS!D1773,\"\")","v":""},{"$f":"IF(NOT(ISBLANK(ShareOfSearch_SERPS!A1773)),ShareOfSearch_SERPS!A1773,\"\")","v":""},{"$f":"IF(NOT(ISBLANK(ShareOfSearch_SERPS!G1773)),ShareOfSearch_SERPS!G1773,\"\")","v":""},{"$f":"IF(NOT(ISBLANK(ShareOfSearch_SERPS!K1773)),ShareOfSearch_SERPS!K1773,\"\")","v":""},{"$f":"IFERROR(VLOOKUP(C1773,ShareOfSearch_CTR!$A$1:$B$100,2,FALSE)*VLOOKUP(A1773&B1773,ShareOfSearch_Volume!$C$1:$D$1000,2,FALSE),\"\")","v":""}]
[{"$f":"IF(ISTEXT(ShareOfSearch_SERPS!C1774),ShareOfSearch_SERPS!C1774,\"\")","v":""},{"$f":"IF(ISTEXT(ShareOfSearch_SERPS!D1774),ShareOfSearch_SERPS!D1774,\"\")","v":""},{"$f":"IF(NOT(ISBLANK(ShareOfSearch_SERPS!A1774)),ShareOfSearch_SERPS!A1774,\"\")","v":""},{"$f":"IF(NOT(ISBLANK(ShareOfSearch_SERPS!G1774)),ShareOfSearch_SERPS!G1774,\"\")","v":""},{"$f":"IF(NOT(ISBLANK(ShareOfSearch_SERPS!K1774)),ShareOfSearch_SERPS!K1774,\"\")","v":""},{"$f":"IFERROR(VLOOKUP(C1774,ShareOfSearch_CTR!$A$1:$B$100,2,FALSE)*VLOOKUP(A1774&B1774,ShareOfSearch_Volume!$C$1:$D$1000,2,FALSE),\"\")","v":""}]
[{"$f":"IF(ISTEXT(ShareOfSearch_SERPS!C1775),ShareOfSearch_SERPS!C1775,\"\")","v":""},{"$f":"IF(ISTEXT(ShareOfSearch_SERPS!D1775),ShareOfSearch_SERPS!D1775,\"\")","v":""},{"$f":"IF(NOT(ISBLANK(ShareOfSearch_SERPS!A1775)),ShareOfSearch_SERPS!A1775,\"\")","v":""},{"$f":"IF(NOT(ISBLANK(ShareOfSearch_SERPS!G1775)),ShareOfSearch_SERPS!G1775,\"\")","v":""},{"$f":"IF(NOT(ISBLANK(ShareOfSearch_SERPS!K1775)),ShareOfSearch_SERPS!K1775,\"\")","v":""},{"$f":"IFERROR(VLOOKUP(C1775,ShareOfSearch_CTR!$A$1:$B$100,2,FALSE)*VLOOKUP(A1775&B1775,ShareOfSearch_Volume!$C$1:$D$1000,2,FALSE),\"\")","v":""}]
[{"$f":"IF(ISTEXT(ShareOfSearch_SERPS!C1776),ShareOfSearch_SERPS!C1776,\"\")","v":""},{"$f":"IF(ISTEXT(ShareOfSearch_SERPS!D1776),ShareOfSearch_SERPS!D1776,\"\")","v":""},{"$f":"IF(NOT(ISBLANK(ShareOfSearch_SERPS!A1776)),ShareOfSearch_SERPS!A1776,\"\")","v":""},{"$f":"IF(NOT(ISBLANK(ShareOfSearch_SERPS!G1776)),ShareOfSearch_SERPS!G1776,\"\")","v":""},{"$f":"IF(NOT(ISBLANK(ShareOfSearch_SERPS!K1776)),ShareOfSearch_SERPS!K1776,\"\")","v":""},{"$f":"IFERROR(VLOOKUP(C1776,ShareOfSearch_CTR!$A$1:$B$100,2,FALSE)*VLOOKUP(A1776&B1776,ShareOfSearch_Volume!$C$1:$D$1000,2,FALSE),\"\")","v":""}]
[{"$f":"IF(ISTEXT(ShareOfSearch_SERPS!C1777),ShareOfSearch_SERPS!C1777,\"\")","v":""},{"$f":"IF(ISTEXT(ShareOfSearch_SERPS!D1777),ShareOfSearch_SERPS!D1777,\"\")","v":""},{"$f":"IF(NOT(ISBLANK(ShareOfSearch_SERPS!A1777)),ShareOfSearch_SERPS!A1777,\"\")","v":""},{"$f":"IF(NOT(ISBLANK(ShareOfSearch_SERPS!G1777)),ShareOfSearch_SERPS!G1777,\"\")","v":""},{"$f":"IF(NOT(ISBLANK(ShareOfSearch_SERPS!K1777)),ShareOfSearch_SERPS!K1777,\"\")","v":""},{"$f":"IFERROR(VLOOKUP(C1777,ShareOfSearch_CTR!$A$1:$B$100,2,FALSE)*VLOOKUP(A1777&B1777,ShareOfSearch_Volume!$C$1:$D$1000,2,FALSE),\"\")","v":""}]
[{"$f":"IF(ISTEXT(ShareOfSearch_SERPS!C1778),ShareOfSearch_SERPS!C1778,\"\")","v":""},{"$f":"IF(ISTEXT(ShareOfSearch_SERPS!D1778),ShareOfSearch_SERPS!D1778,\"\")","v":""},{"$f":"IF(NOT(ISBLANK(ShareOfSearch_SERPS!A1778)),ShareOfSearch_SERPS!A1778,\"\")","v":""},{"$f":"IF(NOT(ISBLANK(ShareOfSearch_SERPS!G1778)),ShareOfSearch_SERPS!G1778,\"\")","v":""},{"$f":"IF(NOT(ISBLANK(ShareOfSearch_SERPS!K1778)),ShareOfSearch_SERPS!K1778,\"\")","v":""},{"$f":"IFERROR(VLOOKUP(C1778,ShareOfSearch_CTR!$A$1:$B$100,2,FALSE)*VLOOKUP(A1778&B1778,ShareOfSearch_Volume!$C$1:$D$1000,2,FALSE),\"\")","v":""}]
[{"$f":"IF(ISTEXT(ShareOfSearch_SERPS!C1779),ShareOfSearch_SERPS!C1779,\"\")","v":""},{"$f":"IF(ISTEXT(ShareOfSearch_SERPS!D1779),ShareOfSearch_SERPS!D1779,\"\")","v":""},{"$f":"IF(NOT(ISBLANK(ShareOfSearch_SERPS!A1779)),ShareOfSearch_SERPS!A1779,\"\")","v":""},{"$f":"IF(NOT(ISBLANK(ShareOfSearch_SERPS!G1779)),ShareOfSearch_SERPS!G1779,\"\")","v":""},{"$f":"IF(NOT(ISBLANK(ShareOfSearch_SERPS!K1779)),ShareOfSearch_SERPS!K1779,\"\")","v":""},{"$f":"IFERROR(VLOOKUP(C1779,ShareOfSearch_CTR!$A$1:$B$100,2,FALSE)*VLOOKUP(A1779&B1779,ShareOfSearch_Volume!$C$1:$D$1000,2,FALSE),\"\")","v":""}]
[{"$f":"IF(ISTEXT(ShareOfSearch_SERPS!C1780),ShareOfSearch_SERPS!C1780,\"\")","v":""},{"$f":"IF(ISTEXT(ShareOfSearch_SERPS!D1780),ShareOfSearch_SERPS!D1780,\"\")","v":""},{"$f":"IF(NOT(ISBLANK(ShareOfSearch_SERPS!A1780)),ShareOfSearch_SERPS!A1780,\"\")","v":""},{"$f":"IF(NOT(ISBLANK(ShareOfSearch_SERPS!G1780)),ShareOfSearch_SERPS!G1780,\"\")","v":""},{"$f":"IF(NOT(ISBLANK(ShareOfSearch_SERPS!K1780)),ShareOfSearch_SERPS!K1780,\"\")","v":""},{"$f":"IFERROR(VLOOKUP(C1780,ShareOfSearch_CTR!$A$1:$B$100,2,FALSE)*VLOOKUP(A1780&B1780,ShareOfSearch_Volume!$C$1:$D$1000,2,FALSE),\"\")","v":""}]
[{"$f":"IF(ISTEXT(ShareOfSearch_SERPS!C1781),ShareOfSearch_SERPS!C1781,\"\")","v":""},{"$f":"IF(ISTEXT(ShareOfSearch_SERPS!D1781),ShareOfSearch_SERPS!D1781,\"\")","v":""},{"$f":"IF(NOT(ISBLANK(ShareOfSearch_SERPS!A1781)),ShareOfSearch_SERPS!A1781,\"\")","v":""},{"$f":"IF(NOT(ISBLANK(ShareOfSearch_SERPS!G1781)),ShareOfSearch_SERPS!G1781,\"\")","v":""},{"$f":"IF(NOT(ISBLANK(ShareOfSearch_SERPS!K1781)),ShareOfSearch_SERPS!K1781,\"\")","v":""},{"$f":"IFERROR(VLOOKUP(C1781,ShareOfSearch_CTR!$A$1:$B$100,2,FALSE)*VLOOKUP(A1781&B1781,ShareOfSearch_Volume!$C$1:$D$1000,2,FALSE),\"\")","v":""}]
[{"$f":"IF(ISTEXT(ShareOfSearch_SERPS!C1782),ShareOfSearch_SERPS!C1782,\"\")","v":""},{"$f":"IF(ISTEXT(ShareOfSearch_SERPS!D1782),ShareOfSearch_SERPS!D1782,\"\")","v":""},{"$f":"IF(NOT(ISBLANK(ShareOfSearch_SERPS!A1782)),ShareOfSearch_SERPS!A1782,\"\")","v":""},{"$f":"IF(NOT(ISBLANK(ShareOfSearch_SERPS!G1782)),ShareOfSearch_SERPS!G1782,\"\")","v":""},{"$f":"IF(NOT(ISBLANK(ShareOfSearch_SERPS!K1782)),ShareOfSearch_SERPS!K1782,\"\")","v":""},{"$f":"IFERROR(VLOOKUP(C1782,ShareOfSearch_CTR!$A$1:$B$100,2,FALSE)*VLOOKUP(A1782&B1782,ShareOfSearch_Volume!$C$1:$D$1000,2,FALSE),\"\")","v":""}]
[{"$f":"IF(ISTEXT(ShareOfSearch_SERPS!C1783),ShareOfSearch_SERPS!C1783,\"\")","v":""},{"$f":"IF(ISTEXT(ShareOfSearch_SERPS!D1783),ShareOfSearch_SERPS!D1783,\"\")","v":""},{"$f":"IF(NOT(ISBLANK(ShareOfSearch_SERPS!A1783)),ShareOfSearch_SERPS!A1783,\"\")","v":""},{"$f":"IF(NOT(ISBLANK(ShareOfSearch_SERPS!G1783)),ShareOfSearch_SERPS!G1783,\"\")","v":""},{"$f":"IF(NOT(ISBLANK(ShareOfSearch_SERPS!K1783)),ShareOfSearch_SERPS!K1783,\"\")","v":""},{"$f":"IFERROR(VLOOKUP(C1783,ShareOfSearch_CTR!$A$1:$B$100,2,FALSE)*VLOOKUP(A1783&B1783,ShareOfSearch_Volume!$C$1:$D$1000,2,FALSE),\"\")","v":""}]
[{"$f":"IF(ISTEXT(ShareOfSearch_SERPS!C1784),ShareOfSearch_SERPS!C1784,\"\")","v":""},{"$f":"IF(ISTEXT(ShareOfSearch_SERPS!D1784),ShareOfSearch_SERPS!D1784,\"\")","v":""},{"$f":"IF(NOT(ISBLANK(ShareOfSearch_SERPS!A1784)),ShareOfSearch_SERPS!A1784,\"\")","v":""},{"$f":"IF(NOT(ISBLANK(ShareOfSearch_SERPS!G1784)),ShareOfSearch_SERPS!G1784,\"\")","v":""},{"$f":"IF(NOT(ISBLANK(ShareOfSearch_SERPS!K1784)),ShareOfSearch_SERPS!K1784,\"\")","v":""},{"$f":"IFERROR(VLOOKUP(C1784,ShareOfSearch_CTR!$A$1:$B$100,2,FALSE)*VLOOKUP(A1784&B1784,ShareOfSearch_Volume!$C$1:$D$1000,2,FALSE),\"\")","v":""}]
[{"$f":"IF(ISTEXT(ShareOfSearch_SERPS!C1785),ShareOfSearch_SERPS!C1785,\"\")","v":""},{"$f":"IF(ISTEXT(ShareOfSearch_SERPS!D1785),ShareOfSearch_SERPS!D1785,\"\")","v":""},{"$f":"IF(NOT(ISBLANK(ShareOfSearch_SERPS!A1785)),ShareOfSearch_SERPS!A1785,\"\")","v":""},{"$f":"IF(NOT(ISBLANK(ShareOfSearch_SERPS!G1785)),ShareOfSearch_SERPS!G1785,\"\")","v":""},{"$f":"IF(NOT(ISBLANK(ShareOfSearch_SERPS!K1785)),ShareOfSearch_SERPS!K1785,\"\")","v":""},{"$f":"IFERROR(VLOOKUP(C1785,ShareOfSearch_CTR!$A$1:$B$100,2,FALSE)*VLOOKUP(A1785&B1785,ShareOfSearch_Volume!$C$1:$D$1000,2,FALSE),\"\")","v":""}]
[{"$f":"IF(ISTEXT(ShareOfSearch_SERPS!C1786),ShareOfSearch_SERPS!C1786,\"\")","v":""},{"$f":"IF(ISTEXT(ShareOfSearch_SERPS!D1786),ShareOfSearch_SERPS!D1786,\"\")","v":""},{"$f":"IF(NOT(ISBLANK(ShareOfSearch_SERPS!A1786)),ShareOfSearch_SERPS!A1786,\"\")","v":""},{"$f":"IF(NOT(ISBLANK(ShareOfSearch_SERPS!G1786)),ShareOfSearch_SERPS!G1786,\"\")","v":""},{"$f":"IF(NOT(ISBLANK(ShareOfSearch_SERPS!K1786)),ShareOfSearch_SERPS!K1786,\"\")","v":""},{"$f":"IFERROR(VLOOKUP(C1786,ShareOfSearch_CTR!$A$1:$B$100,2,FALSE)*VLOOKUP(A1786&B1786,ShareOfSearch_Volume!$C$1:$D$1000,2,FALSE),\"\")","v":""}]
[{"$f":"IF(ISTEXT(ShareOfSearch_SERPS!C1787),ShareOfSearch_SERPS!C1787,\"\")","v":""},{"$f":"IF(ISTEXT(ShareOfSearch_SERPS!D1787),ShareOfSearch_SERPS!D1787,\"\")","v":""},{"$f":"IF(NOT(ISBLANK(ShareOfSearch_SERPS!A1787)),ShareOfSearch_SERPS!A1787,\"\")","v":""},{"$f":"IF(NOT(ISBLANK(ShareOfSearch_SERPS!G1787)),ShareOfSearch_SERPS!G1787,\"\")","v":""},{"$f":"IF(NOT(ISBLANK(ShareOfSearch_SERPS!K1787)),ShareOfSearch_SERPS!K1787,\"\")","v":""},{"$f":"IFERROR(VLOOKUP(C1787,ShareOfSearch_CTR!$A$1:$B$100,2,FALSE)*VLOOKUP(A1787&B1787,ShareOfSearch_Volume!$C$1:$D$1000,2,FALSE),\"\")","v":""}]
[{"$f":"IF(ISTEXT(ShareOfSearch_SERPS!C1788),ShareOfSearch_SERPS!C1788,\"\")","v":""},{"$f":"IF(ISTEXT(ShareOfSearch_SERPS!D1788),ShareOfSearch_SERPS!D1788,\"\")","v":""},{"$f":"IF(NOT(ISBLANK(ShareOfSearch_SERPS!A1788)),ShareOfSearch_SERPS!A1788,\"\")","v":""},{"$f":"IF(NOT(ISBLANK(ShareOfSearch_SERPS!G1788)),ShareOfSearch_SERPS!G1788,\"\")","v":""},{"$f":"IF(NOT(ISBLANK(ShareOfSearch_SERPS!K1788)),ShareOfSearch_SERPS!K1788,\"\")","v":""},{"$f":"IFERROR(VLOOKUP(C1788,ShareOfSearch_CTR!$A$1:$B$100,2,FALSE)*VLOOKUP(A1788&B1788,ShareOfSearch_Volume!$C$1:$D$1000,2,FALSE),\"\")","v":""}]
[{"$f":"IF(ISTEXT(ShareOfSearch_SERPS!C1789),ShareOfSearch_SERPS!C1789,\"\")","v":""},{"$f":"IF(ISTEXT(ShareOfSearch_SERPS!D1789),ShareOfSearch_SERPS!D1789,\"\")","v":""},{"$f":"IF(NOT(ISBLANK(ShareOfSearch_SERPS!A1789)),ShareOfSearch_SERPS!A1789,\"\")","v":""},{"$f":"IF(NOT(ISBLANK(ShareOfSearch_SERPS!G1789)),ShareOfSearch_SERPS!G1789,\"\")","v":""},{"$f":"IF(NOT(ISBLANK(ShareOfSearch_SERPS!K1789)),ShareOfSearch_SERPS!K1789,\"\")","v":""},{"$f":"IFERROR(VLOOKUP(C1789,ShareOfSearch_CTR!$A$1:$B$100,2,FALSE)*VLOOKUP(A1789&B1789,ShareOfSearch_Volume!$C$1:$D$1000,2,FALSE),\"\")","v":""}]
[{"$f":"IF(ISTEXT(ShareOfSearch_SERPS!C1790),ShareOfSearch_SERPS!C1790,\"\")","v":""},{"$f":"IF(ISTEXT(ShareOfSearch_SERPS!D1790),ShareOfSearch_SERPS!D1790,\"\")","v":""},{"$f":"IF(NOT(ISBLANK(ShareOfSearch_SERPS!A1790)),ShareOfSearch_SERPS!A1790,\"\")","v":""},{"$f":"IF(NOT(ISBLANK(ShareOfSearch_SERPS!G1790)),ShareOfSearch_SERPS!G1790,\"\")","v":""},{"$f":"IF(NOT(ISBLANK(ShareOfSearch_SERPS!K1790)),ShareOfSearch_SERPS!K1790,\"\")","v":""},{"$f":"IFERROR(VLOOKUP(C1790,ShareOfSearch_CTR!$A$1:$B$100,2,FALSE)*VLOOKUP(A1790&B1790,ShareOfSearch_Volume!$C$1:$D$1000,2,FALSE),\"\")","v":""}]
[{"$f":"IF(ISTEXT(ShareOfSearch_SERPS!C1791),ShareOfSearch_SERPS!C1791,\"\")","v":""},{"$f":"IF(ISTEXT(ShareOfSearch_SERPS!D1791),ShareOfSearch_SERPS!D1791,\"\")","v":""},{"$f":"IF(NOT(ISBLANK(ShareOfSearch_SERPS!A1791)),ShareOfSearch_SERPS!A1791,\"\")","v":""},{"$f":"IF(NOT(ISBLANK(ShareOfSearch_SERPS!G1791)),ShareOfSearch_SERPS!G1791,\"\")","v":""},{"$f":"IF(NOT(ISBLANK(ShareOfSearch_SERPS!K1791)),ShareOfSearch_SERPS!K1791,\"\")","v":""},{"$f":"IFERROR(VLOOKUP(C1791,ShareOfSearch_CTR!$A$1:$B$100,2,FALSE)*VLOOKUP(A1791&B1791,ShareOfSearch_Volume!$C$1:$D$1000,2,FALSE),\"\")","v":""}]
[{"$f":"IF(ISTEXT(ShareOfSearch_SERPS!C1792),ShareOfSearch_SERPS!C1792,\"\")","v":""},{"$f":"IF(ISTEXT(ShareOfSearch_SERPS!D1792),ShareOfSearch_SERPS!D1792,\"\")","v":""},{"$f":"IF(NOT(ISBLANK(ShareOfSearch_SERPS!A1792)),ShareOfSearch_SERPS!A1792,\"\")","v":""},{"$f":"IF(NOT(ISBLANK(ShareOfSearch_SERPS!G1792)),ShareOfSearch_SERPS!G1792,\"\")","v":""},{"$f":"IF(NOT(ISBLANK(ShareOfSearch_SERPS!K1792)),ShareOfSearch_SERPS!K1792,\"\")","v":""},{"$f":"IFERROR(VLOOKUP(C1792,ShareOfSearch_CTR!$A$1:$B$100,2,FALSE)*VLOOKUP(A1792&B1792,ShareOfSearch_Volume!$C$1:$D$1000,2,FALSE),\"\")","v":""}]
[{"$f":"IF(ISTEXT(ShareOfSearch_SERPS!C1793),ShareOfSearch_SERPS!C1793,\"\")","v":""},{"$f":"IF(ISTEXT(ShareOfSearch_SERPS!D1793),ShareOfSearch_SERPS!D1793,\"\")","v":""},{"$f":"IF(NOT(ISBLANK(ShareOfSearch_SERPS!A1793)),ShareOfSearch_SERPS!A1793,\"\")","v":""},{"$f":"IF(NOT(ISBLANK(ShareOfSearch_SERPS!G1793)),ShareOfSearch_SERPS!G1793,\"\")","v":""},{"$f":"IF(NOT(ISBLANK(ShareOfSearch_SERPS!K1793)),ShareOfSearch_SERPS!K1793,\"\")","v":""},{"$f":"IFERROR(VLOOKUP(C1793,ShareOfSearch_CTR!$A$1:$B$100,2,FALSE)*VLOOKUP(A1793&B1793,ShareOfSearch_Volume!$C$1:$D$1000,2,FALSE),\"\")","v":""}]
[{"$f":"IF(ISTEXT(ShareOfSearch_SERPS!C1794),ShareOfSearch_SERPS!C1794,\"\")","v":""},{"$f":"IF(ISTEXT(ShareOfSearch_SERPS!D1794),ShareOfSearch_SERPS!D1794,\"\")","v":""},{"$f":"IF(NOT(ISBLANK(ShareOfSearch_SERPS!A1794)),ShareOfSearch_SERPS!A1794,\"\")","v":""},{"$f":"IF(NOT(ISBLANK(ShareOfSearch_SERPS!G1794)),ShareOfSearch_SERPS!G1794,\"\")","v":""},{"$f":"IF(NOT(ISBLANK(ShareOfSearch_SERPS!K1794)),ShareOfSearch_SERPS!K1794,\"\")","v":""},{"$f":"IFERROR(VLOOKUP(C1794,ShareOfSearch_CTR!$A$1:$B$100,2,FALSE)*VLOOKUP(A1794&B1794,ShareOfSearch_Volume!$C$1:$D$1000,2,FALSE),\"\")","v":""}]
[{"$f":"IF(ISTEXT(ShareOfSearch_SERPS!C1795),ShareOfSearch_SERPS!C1795,\"\")","v":""},{"$f":"IF(ISTEXT(ShareOfSearch_SERPS!D1795),ShareOfSearch_SERPS!D1795,\"\")","v":""},{"$f":"IF(NOT(ISBLANK(ShareOfSearch_SERPS!A1795)),ShareOfSearch_SERPS!A1795,\"\")","v":""},{"$f":"IF(NOT(ISBLANK(ShareOfSearch_SERPS!G1795)),ShareOfSearch_SERPS!G1795,\"\")","v":""},{"$f":"IF(NOT(ISBLANK(ShareOfSearch_SERPS!K1795)),ShareOfSearch_SERPS!K1795,\"\")","v":""},{"$f":"IFERROR(VLOOKUP(C1795,ShareOfSearch_CTR!$A$1:$B$100,2,FALSE)*VLOOKUP(A1795&B1795,ShareOfSearch_Volume!$C$1:$D$1000,2,FALSE),\"\")","v":""}]
[{"$f":"IF(ISTEXT(ShareOfSearch_SERPS!C1796),ShareOfSearch_SERPS!C1796,\"\")","v":""},{"$f":"IF(ISTEXT(ShareOfSearch_SERPS!D1796),ShareOfSearch_SERPS!D1796,\"\")","v":""},{"$f":"IF(NOT(ISBLANK(ShareOfSearch_SERPS!A1796)),ShareOfSearch_SERPS!A1796,\"\")","v":""},{"$f":"IF(NOT(ISBLANK(ShareOfSearch_SERPS!G1796)),ShareOfSearch_SERPS!G1796,\"\")","v":""},{"$f":"IF(NOT(ISBLANK(ShareOfSearch_SERPS!K1796)),ShareOfSearch_SERPS!K1796,\"\")","v":""},{"$f":"IFERROR(VLOOKUP(C1796,ShareOfSearch_CTR!$A$1:$B$100,2,FALSE)*VLOOKUP(A1796&B1796,ShareOfSearch_Volume!$C$1:$D$1000,2,FALSE),\"\")","v":""}]
[{"$f":"IF(ISTEXT(ShareOfSearch_SERPS!C1797),ShareOfSearch_SERPS!C1797,\"\")","v":""},{"$f":"IF(ISTEXT(ShareOfSearch_SERPS!D1797),ShareOfSearch_SERPS!D1797,\"\")","v":""},{"$f":"IF(NOT(ISBLANK(ShareOfSearch_SERPS!A1797)),ShareOfSearch_SERPS!A1797,\"\")","v":""},{"$f":"IF(NOT(ISBLANK(ShareOfSearch_SERPS!G1797)),ShareOfSearch_SERPS!G1797,\"\")","v":""},{"$f":"IF(NOT(ISBLANK(ShareOfSearch_SERPS!K1797)),ShareOfSearch_SERPS!K1797,\"\")","v":""},{"$f":"IFERROR(VLOOKUP(C1797,ShareOfSearch_CTR!$A$1:$B$100,2,FALSE)*VLOOKUP(A1797&B1797,ShareOfSearch_Volume!$C$1:$D$1000,2,FALSE),\"\")","v":""}]
[{"$f":"IF(ISTEXT(ShareOfSearch_SERPS!C1798),ShareOfSearch_SERPS!C1798,\"\")","v":""},{"$f":"IF(ISTEXT(ShareOfSearch_SERPS!D1798),ShareOfSearch_SERPS!D1798,\"\")","v":""},{"$f":"IF(NOT(ISBLANK(ShareOfSearch_SERPS!A1798)),ShareOfSearch_SERPS!A1798,\"\")","v":""},{"$f":"IF(NOT(ISBLANK(ShareOfSearch_SERPS!G1798)),ShareOfSearch_SERPS!G1798,\"\")","v":""},{"$f":"IF(NOT(ISBLANK(ShareOfSearch_SERPS!K1798)),ShareOfSearch_SERPS!K1798,\"\")","v":""},{"$f":"IFERROR(VLOOKUP(C1798,ShareOfSearch_CTR!$A$1:$B$100,2,FALSE)*VLOOKUP(A1798&B1798,ShareOfSearch_Volume!$C$1:$D$1000,2,FALSE),\"\")","v":""}]
[{"$f":"IF(ISTEXT(ShareOfSearch_SERPS!C1799),ShareOfSearch_SERPS!C1799,\"\")","v":""},{"$f":"IF(ISTEXT(ShareOfSearch_SERPS!D1799),ShareOfSearch_SERPS!D1799,\"\")","v":""},{"$f":"IF(NOT(ISBLANK(ShareOfSearch_SERPS!A1799)),ShareOfSearch_SERPS!A1799,\"\")","v":""},{"$f":"IF(NOT(ISBLANK(ShareOfSearch_SERPS!G1799)),ShareOfSearch_SERPS!G1799,\"\")","v":""},{"$f":"IF(NOT(ISBLANK(ShareOfSearch_SERPS!K1799)),ShareOfSearch_SERPS!K1799,\"\")","v":""},{"$f":"IFERROR(VLOOKUP(C1799,ShareOfSearch_CTR!$A$1:$B$100,2,FALSE)*VLOOKUP(A1799&B1799,ShareOfSearch_Volume!$C$1:$D$1000,2,FALSE),\"\")","v":""}]
[{"$f":"IF(ISTEXT(ShareOfSearch_SERPS!C1800),ShareOfSearch_SERPS!C1800,\"\")","v":""},{"$f":"IF(ISTEXT(ShareOfSearch_SERPS!D1800),ShareOfSearch_SERPS!D1800,\"\")","v":""},{"$f":"IF(NOT(ISBLANK(ShareOfSearch_SERPS!A1800)),ShareOfSearch_SERPS!A1800,\"\")","v":""},{"$f":"IF(NOT(ISBLANK(ShareOfSearch_SERPS!G1800)),ShareOfSearch_SERPS!G1800,\"\")","v":""},{"$f":"IF(NOT(ISBLANK(ShareOfSearch_SERPS!K1800)),ShareOfSearch_SERPS!K1800,\"\")","v":""},{"$f":"IFERROR(VLOOKUP(C1800,ShareOfSearch_CTR!$A$1:$B$100,2,FALSE)*VLOOKUP(A1800&B1800,ShareOfSearch_Volume!$C$1:$D$1000,2,FALSE),\"\")","v":""}]
[{"$f":"IF(ISTEXT(ShareOfSearch_SERPS!C1801),ShareOfSearch_SERPS!C1801,\"\")","v":""},{"$f":"IF(ISTEXT(ShareOfSearch_SERPS!D1801),ShareOfSearch_SERPS!D1801,\"\")","v":""},{"$f":"IF(NOT(ISBLANK(ShareOfSearch_SERPS!A1801)),ShareOfSearch_SERPS!A1801,\"\")","v":""},{"$f":"IF(NOT(ISBLANK(ShareOfSearch_SERPS!G1801)),ShareOfSearch_SERPS!G1801,\"\")","v":""},{"$f":"IF(NOT(ISBLANK(ShareOfSearch_SERPS!K1801)),ShareOfSearch_SERPS!K1801,\"\")","v":""},{"$f":"IFERROR(VLOOKUP(C1801,ShareOfSearch_CTR!$A$1:$B$100,2,FALSE)*VLOOKUP(A1801&B1801,ShareOfSearch_Volume!$C$1:$D$1000,2,FALSE),\"\")","v":""}]
[{"$f":"IF(ISTEXT(ShareOfSearch_SERPS!C1802),ShareOfSearch_SERPS!C1802,\"\")","v":""},{"$f":"IF(ISTEXT(ShareOfSearch_SERPS!D1802),ShareOfSearch_SERPS!D1802,\"\")","v":""},{"$f":"IF(NOT(ISBLANK(ShareOfSearch_SERPS!A1802)),ShareOfSearch_SERPS!A1802,\"\")","v":""},{"$f":"IF(NOT(ISBLANK(ShareOfSearch_SERPS!G1802)),ShareOfSearch_SERPS!G1802,\"\")","v":""},{"$f":"IF(NOT(ISBLANK(ShareOfSearch_SERPS!K1802)),ShareOfSearch_SERPS!K1802,\"\")","v":""},{"$f":"IFERROR(VLOOKUP(C1802,ShareOfSearch_CTR!$A$1:$B$100,2,FALSE)*VLOOKUP(A1802&B1802,ShareOfSearch_Volume!$C$1:$D$1000,2,FALSE),\"\")","v":""}]
[{"$f":"IF(ISTEXT(ShareOfSearch_SERPS!C1803),ShareOfSearch_SERPS!C1803,\"\")","v":""},{"$f":"IF(ISTEXT(ShareOfSearch_SERPS!D1803),ShareOfSearch_SERPS!D1803,\"\")","v":""},{"$f":"IF(NOT(ISBLANK(ShareOfSearch_SERPS!A1803)),ShareOfSearch_SERPS!A1803,\"\")","v":""},{"$f":"IF(NOT(ISBLANK(ShareOfSearch_SERPS!G1803)),ShareOfSearch_SERPS!G1803,\"\")","v":""},{"$f":"IF(NOT(ISBLANK(ShareOfSearch_SERPS!K1803)),ShareOfSearch_SERPS!K1803,\"\")","v":""},{"$f":"IFERROR(VLOOKUP(C1803,ShareOfSearch_CTR!$A$1:$B$100,2,FALSE)*VLOOKUP(A1803&B1803,ShareOfSearch_Volume!$C$1:$D$1000,2,FALSE),\"\")","v":""}]
[{"$f":"IF(ISTEXT(ShareOfSearch_SERPS!C1804),ShareOfSearch_SERPS!C1804,\"\")","v":""},{"$f":"IF(ISTEXT(ShareOfSearch_SERPS!D1804),ShareOfSearch_SERPS!D1804,\"\")","v":""},{"$f":"IF(NOT(ISBLANK(ShareOfSearch_SERPS!A1804)),ShareOfSearch_SERPS!A1804,\"\")","v":""},{"$f":"IF(NOT(ISBLANK(ShareOfSearch_SERPS!G1804)),ShareOfSearch_SERPS!G1804,\"\")","v":""},{"$f":"IF(NOT(ISBLANK(ShareOfSearch_SERPS!K1804)),ShareOfSearch_SERPS!K1804,\"\")","v":""},{"$f":"IFERROR(VLOOKUP(C1804,ShareOfSearch_CTR!$A$1:$B$100,2,FALSE)*VLOOKUP(A1804&B1804,ShareOfSearch_Volume!$C$1:$D$1000,2,FALSE),\"\")","v":""}]
[{"$f":"IF(ISTEXT(ShareOfSearch_SERPS!C1805),ShareOfSearch_SERPS!C1805,\"\")","v":""},{"$f":"IF(ISTEXT(ShareOfSearch_SERPS!D1805),ShareOfSearch_SERPS!D1805,\"\")","v":""},{"$f":"IF(NOT(ISBLANK(ShareOfSearch_SERPS!A1805)),ShareOfSearch_SERPS!A1805,\"\")","v":""},{"$f":"IF(NOT(ISBLANK(ShareOfSearch_SERPS!G1805)),ShareOfSearch_SERPS!G1805,\"\")","v":""},{"$f":"IF(NOT(ISBLANK(ShareOfSearch_SERPS!K1805)),ShareOfSearch_SERPS!K1805,\"\")","v":""},{"$f":"IFERROR(VLOOKUP(C1805,ShareOfSearch_CTR!$A$1:$B$100,2,FALSE)*VLOOKUP(A1805&B1805,ShareOfSearch_Volume!$C$1:$D$1000,2,FALSE),\"\")","v":""}]
[{"$f":"IF(ISTEXT(ShareOfSearch_SERPS!C1806),ShareOfSearch_SERPS!C1806,\"\")","v":""},{"$f":"IF(ISTEXT(ShareOfSearch_SERPS!D1806),ShareOfSearch_SERPS!D1806,\"\")","v":""},{"$f":"IF(NOT(ISBLANK(ShareOfSearch_SERPS!A1806)),ShareOfSearch_SERPS!A1806,\"\")","v":""},{"$f":"IF(NOT(ISBLANK(ShareOfSearch_SERPS!G1806)),ShareOfSearch_SERPS!G1806,\"\")","v":""},{"$f":"IF(NOT(ISBLANK(ShareOfSearch_SERPS!K1806)),ShareOfSearch_SERPS!K1806,\"\")","v":""},{"$f":"IFERROR(VLOOKUP(C1806,ShareOfSearch_CTR!$A$1:$B$100,2,FALSE)*VLOOKUP(A1806&B1806,ShareOfSearch_Volume!$C$1:$D$1000,2,FALSE),\"\")","v":""}]
[{"$f":"IF(ISTEXT(ShareOfSearch_SERPS!C1807),ShareOfSearch_SERPS!C1807,\"\")","v":""},{"$f":"IF(ISTEXT(ShareOfSearch_SERPS!D1807),ShareOfSearch_SERPS!D1807,\"\")","v":""},{"$f":"IF(NOT(ISBLANK(ShareOfSearch_SERPS!A1807)),ShareOfSearch_SERPS!A1807,\"\")","v":""},{"$f":"IF(NOT(ISBLANK(ShareOfSearch_SERPS!G1807)),ShareOfSearch_SERPS!G1807,\"\")","v":""},{"$f":"IF(NOT(ISBLANK(ShareOfSearch_SERPS!K1807)),ShareOfSearch_SERPS!K1807,\"\")","v":""},{"$f":"IFERROR(VLOOKUP(C1807,ShareOfSearch_CTR!$A$1:$B$100,2,FALSE)*VLOOKUP(A1807&B1807,ShareOfSearch_Volume!$C$1:$D$1000,2,FALSE),\"\")","v":""}]
[{"$f":"IF(ISTEXT(ShareOfSearch_SERPS!C1808),ShareOfSearch_SERPS!C1808,\"\")","v":""},{"$f":"IF(ISTEXT(ShareOfSearch_SERPS!D1808),ShareOfSearch_SERPS!D1808,\"\")","v":""},{"$f":"IF(NOT(ISBLANK(ShareOfSearch_SERPS!A1808)),ShareOfSearch_SERPS!A1808,\"\")","v":""},{"$f":"IF(NOT(ISBLANK(ShareOfSearch_SERPS!G1808)),ShareOfSearch_SERPS!G1808,\"\")","v":""},{"$f":"IF(NOT(ISBLANK(ShareOfSearch_SERPS!K1808)),ShareOfSearch_SERPS!K1808,\"\")","v":""},{"$f":"IFERROR(VLOOKUP(C1808,ShareOfSearch_CTR!$A$1:$B$100,2,FALSE)*VLOOKUP(A1808&B1808,ShareOfSearch_Volume!$C$1:$D$1000,2,FALSE),\"\")","v":""}]
[{"$f":"IF(ISTEXT(ShareOfSearch_SERPS!C1809),ShareOfSearch_SERPS!C1809,\"\")","v":""},{"$f":"IF(ISTEXT(ShareOfSearch_SERPS!D1809),ShareOfSearch_SERPS!D1809,\"\")","v":""},{"$f":"IF(NOT(ISBLANK(ShareOfSearch_SERPS!A1809)),ShareOfSearch_SERPS!A1809,\"\")","v":""},{"$f":"IF(NOT(ISBLANK(ShareOfSearch_SERPS!G1809)),ShareOfSearch_SERPS!G1809,\"\")","v":""},{"$f":"IF(NOT(ISBLANK(ShareOfSearch_SERPS!K1809)),ShareOfSearch_SERPS!K1809,\"\")","v":""},{"$f":"IFERROR(VLOOKUP(C1809,ShareOfSearch_CTR!$A$1:$B$100,2,FALSE)*VLOOKUP(A1809&B1809,ShareOfSearch_Volume!$C$1:$D$1000,2,FALSE),\"\")","v":""}]
[{"$f":"IF(ISTEXT(ShareOfSearch_SERPS!C1810),ShareOfSearch_SERPS!C1810,\"\")","v":""},{"$f":"IF(ISTEXT(ShareOfSearch_SERPS!D1810),ShareOfSearch_SERPS!D1810,\"\")","v":""},{"$f":"IF(NOT(ISBLANK(ShareOfSearch_SERPS!A1810)),ShareOfSearch_SERPS!A1810,\"\")","v":""},{"$f":"IF(NOT(ISBLANK(ShareOfSearch_SERPS!G1810)),ShareOfSearch_SERPS!G1810,\"\")","v":""},{"$f":"IF(NOT(ISBLANK(ShareOfSearch_SERPS!K1810)),ShareOfSearch_SERPS!K1810,\"\")","v":""},{"$f":"IFERROR(VLOOKUP(C1810,ShareOfSearch_CTR!$A$1:$B$100,2,FALSE)*VLOOKUP(A1810&B1810,ShareOfSearch_Volume!$C$1:$D$1000,2,FALSE),\"\")","v":""}]
[{"$f":"IF(ISTEXT(ShareOfSearch_SERPS!C1811),ShareOfSearch_SERPS!C1811,\"\")","v":""},{"$f":"IF(ISTEXT(ShareOfSearch_SERPS!D1811),ShareOfSearch_SERPS!D1811,\"\")","v":""},{"$f":"IF(NOT(ISBLANK(ShareOfSearch_SERPS!A1811)),ShareOfSearch_SERPS!A1811,\"\")","v":""},{"$f":"IF(NOT(ISBLANK(ShareOfSearch_SERPS!G1811)),ShareOfSearch_SERPS!G1811,\"\")","v":""},{"$f":"IF(NOT(ISBLANK(ShareOfSearch_SERPS!K1811)),ShareOfSearch_SERPS!K1811,\"\")","v":""},{"$f":"IFERROR(VLOOKUP(C1811,ShareOfSearch_CTR!$A$1:$B$100,2,FALSE)*VLOOKUP(A1811&B1811,ShareOfSearch_Volume!$C$1:$D$1000,2,FALSE),\"\")","v":""}]
[{"$f":"IF(ISTEXT(ShareOfSearch_SERPS!C1812),ShareOfSearch_SERPS!C1812,\"\")","v":""},{"$f":"IF(ISTEXT(ShareOfSearch_SERPS!D1812),ShareOfSearch_SERPS!D1812,\"\")","v":""},{"$f":"IF(NOT(ISBLANK(ShareOfSearch_SERPS!A1812)),ShareOfSearch_SERPS!A1812,\"\")","v":""},{"$f":"IF(NOT(ISBLANK(ShareOfSearch_SERPS!G1812)),ShareOfSearch_SERPS!G1812,\"\")","v":""},{"$f":"IF(NOT(ISBLANK(ShareOfSearch_SERPS!K1812)),ShareOfSearch_SERPS!K1812,\"\")","v":""},{"$f":"IFERROR(VLOOKUP(C1812,ShareOfSearch_CTR!$A$1:$B$100,2,FALSE)*VLOOKUP(A1812&B1812,ShareOfSearch_Volume!$C$1:$D$1000,2,FALSE),\"\")","v":""}]
[{"$f":"IF(ISTEXT(ShareOfSearch_SERPS!C1813),ShareOfSearch_SERPS!C1813,\"\")","v":""},{"$f":"IF(ISTEXT(ShareOfSearch_SERPS!D1813),ShareOfSearch_SERPS!D1813,\"\")","v":""},{"$f":"IF(NOT(ISBLANK(ShareOfSearch_SERPS!A1813)),ShareOfSearch_SERPS!A1813,\"\")","v":""},{"$f":"IF(NOT(ISBLANK(ShareOfSearch_SERPS!G1813)),ShareOfSearch_SERPS!G1813,\"\")","v":""},{"$f":"IF(NOT(ISBLANK(ShareOfSearch_SERPS!K1813)),ShareOfSearch_SERPS!K1813,\"\")","v":""},{"$f":"IFERROR(VLOOKUP(C1813,ShareOfSearch_CTR!$A$1:$B$100,2,FALSE)*VLOOKUP(A1813&B1813,ShareOfSearch_Volume!$C$1:$D$1000,2,FALSE),\"\")","v":""}]
[{"$f":"IF(ISTEXT(ShareOfSearch_SERPS!C1814),ShareOfSearch_SERPS!C1814,\"\")","v":""},{"$f":"IF(ISTEXT(ShareOfSearch_SERPS!D1814),ShareOfSearch_SERPS!D1814,\"\")","v":""},{"$f":"IF(NOT(ISBLANK(ShareOfSearch_SERPS!A1814)),ShareOfSearch_SERPS!A1814,\"\")","v":""},{"$f":"IF(NOT(ISBLANK(ShareOfSearch_SERPS!G1814)),ShareOfSearch_SERPS!G1814,\"\")","v":""},{"$f":"IF(NOT(ISBLANK(ShareOfSearch_SERPS!K1814)),ShareOfSearch_SERPS!K1814,\"\")","v":""},{"$f":"IFERROR(VLOOKUP(C1814,ShareOfSearch_CTR!$A$1:$B$100,2,FALSE)*VLOOKUP(A1814&B1814,ShareOfSearch_Volume!$C$1:$D$1000,2,FALSE),\"\")","v":""}]
[{"$f":"IF(ISTEXT(ShareOfSearch_SERPS!C1815),ShareOfSearch_SERPS!C1815,\"\")","v":""},{"$f":"IF(ISTEXT(ShareOfSearch_SERPS!D1815),ShareOfSearch_SERPS!D1815,\"\")","v":""},{"$f":"IF(NOT(ISBLANK(ShareOfSearch_SERPS!A1815)),ShareOfSearch_SERPS!A1815,\"\")","v":""},{"$f":"IF(NOT(ISBLANK(ShareOfSearch_SERPS!G1815)),ShareOfSearch_SERPS!G1815,\"\")","v":""},{"$f":"IF(NOT(ISBLANK(ShareOfSearch_SERPS!K1815)),ShareOfSearch_SERPS!K1815,\"\")","v":""},{"$f":"IFERROR(VLOOKUP(C1815,ShareOfSearch_CTR!$A$1:$B$100,2,FALSE)*VLOOKUP(A1815&B1815,ShareOfSearch_Volume!$C$1:$D$1000,2,FALSE),\"\")","v":""}]
[{"$f":"IF(ISTEXT(ShareOfSearch_SERPS!C1816),ShareOfSearch_SERPS!C1816,\"\")","v":""},{"$f":"IF(ISTEXT(ShareOfSearch_SERPS!D1816),ShareOfSearch_SERPS!D1816,\"\")","v":""},{"$f":"IF(NOT(ISBLANK(ShareOfSearch_SERPS!A1816)),ShareOfSearch_SERPS!A1816,\"\")","v":""},{"$f":"IF(NOT(ISBLANK(ShareOfSearch_SERPS!G1816)),ShareOfSearch_SERPS!G1816,\"\")","v":""},{"$f":"IF(NOT(ISBLANK(ShareOfSearch_SERPS!K1816)),ShareOfSearch_SERPS!K1816,\"\")","v":""},{"$f":"IFERROR(VLOOKUP(C1816,ShareOfSearch_CTR!$A$1:$B$100,2,FALSE)*VLOOKUP(A1816&B1816,ShareOfSearch_Volume!$C$1:$D$1000,2,FALSE),\"\")","v":""}]
[{"$f":"IF(ISTEXT(ShareOfSearch_SERPS!C1817),ShareOfSearch_SERPS!C1817,\"\")","v":""},{"$f":"IF(ISTEXT(ShareOfSearch_SERPS!D1817),ShareOfSearch_SERPS!D1817,\"\")","v":""},{"$f":"IF(NOT(ISBLANK(ShareOfSearch_SERPS!A1817)),ShareOfSearch_SERPS!A1817,\"\")","v":""},{"$f":"IF(NOT(ISBLANK(ShareOfSearch_SERPS!G1817)),ShareOfSearch_SERPS!G1817,\"\")","v":""},{"$f":"IF(NOT(ISBLANK(ShareOfSearch_SERPS!K1817)),ShareOfSearch_SERPS!K1817,\"\")","v":""},{"$f":"IFERROR(VLOOKUP(C1817,ShareOfSearch_CTR!$A$1:$B$100,2,FALSE)*VLOOKUP(A1817&B1817,ShareOfSearch_Volume!$C$1:$D$1000,2,FALSE),\"\")","v":""}]
[{"$f":"IF(ISTEXT(ShareOfSearch_SERPS!C1818),ShareOfSearch_SERPS!C1818,\"\")","v":""},{"$f":"IF(ISTEXT(ShareOfSearch_SERPS!D1818),ShareOfSearch_SERPS!D1818,\"\")","v":""},{"$f":"IF(NOT(ISBLANK(ShareOfSearch_SERPS!A1818)),ShareOfSearch_SERPS!A1818,\"\")","v":""},{"$f":"IF(NOT(ISBLANK(ShareOfSearch_SERPS!G1818)),ShareOfSearch_SERPS!G1818,\"\")","v":""},{"$f":"IF(NOT(ISBLANK(ShareOfSearch_SERPS!K1818)),ShareOfSearch_SERPS!K1818,\"\")","v":""},{"$f":"IFERROR(VLOOKUP(C1818,ShareOfSearch_CTR!$A$1:$B$100,2,FALSE)*VLOOKUP(A1818&B1818,ShareOfSearch_Volume!$C$1:$D$1000,2,FALSE),\"\")","v":""}]
[{"$f":"IF(ISTEXT(ShareOfSearch_SERPS!C1819),ShareOfSearch_SERPS!C1819,\"\")","v":""},{"$f":"IF(ISTEXT(ShareOfSearch_SERPS!D1819),ShareOfSearch_SERPS!D1819,\"\")","v":""},{"$f":"IF(NOT(ISBLANK(ShareOfSearch_SERPS!A1819)),ShareOfSearch_SERPS!A1819,\"\")","v":""},{"$f":"IF(NOT(ISBLANK(ShareOfSearch_SERPS!G1819)),ShareOfSearch_SERPS!G1819,\"\")","v":""},{"$f":"IF(NOT(ISBLANK(ShareOfSearch_SERPS!K1819)),ShareOfSearch_SERPS!K1819,\"\")","v":""},{"$f":"IFERROR(VLOOKUP(C1819,ShareOfSearch_CTR!$A$1:$B$100,2,FALSE)*VLOOKUP(A1819&B1819,ShareOfSearch_Volume!$C$1:$D$1000,2,FALSE),\"\")","v":""}]
[{"$f":"IF(ISTEXT(ShareOfSearch_SERPS!C1820),ShareOfSearch_SERPS!C1820,\"\")","v":""},{"$f":"IF(ISTEXT(ShareOfSearch_SERPS!D1820),ShareOfSearch_SERPS!D1820,\"\")","v":""},{"$f":"IF(NOT(ISBLANK(ShareOfSearch_SERPS!A1820)),ShareOfSearch_SERPS!A1820,\"\")","v":""},{"$f":"IF(NOT(ISBLANK(ShareOfSearch_SERPS!G1820)),ShareOfSearch_SERPS!G1820,\"\")","v":""},{"$f":"IF(NOT(ISBLANK(ShareOfSearch_SERPS!K1820)),ShareOfSearch_SERPS!K1820,\"\")","v":""},{"$f":"IFERROR(VLOOKUP(C1820,ShareOfSearch_CTR!$A$1:$B$100,2,FALSE)*VLOOKUP(A1820&B1820,ShareOfSearch_Volume!$C$1:$D$1000,2,FALSE),\"\")","v":""}]
[{"$f":"IF(ISTEXT(ShareOfSearch_SERPS!C1821),ShareOfSearch_SERPS!C1821,\"\")","v":""},{"$f":"IF(ISTEXT(ShareOfSearch_SERPS!D1821),ShareOfSearch_SERPS!D1821,\"\")","v":""},{"$f":"IF(NOT(ISBLANK(ShareOfSearch_SERPS!A1821)),ShareOfSearch_SERPS!A1821,\"\")","v":""},{"$f":"IF(NOT(ISBLANK(ShareOfSearch_SERPS!G1821)),ShareOfSearch_SERPS!G1821,\"\")","v":""},{"$f":"IF(NOT(ISBLANK(ShareOfSearch_SERPS!K1821)),ShareOfSearch_SERPS!K1821,\"\")","v":""},{"$f":"IFERROR(VLOOKUP(C1821,ShareOfSearch_CTR!$A$1:$B$100,2,FALSE)*VLOOKUP(A1821&B1821,ShareOfSearch_Volume!$C$1:$D$1000,2,FALSE),\"\")","v":""}]
[{"$f":"IF(ISTEXT(ShareOfSearch_SERPS!C1822),ShareOfSearch_SERPS!C1822,\"\")","v":""},{"$f":"IF(ISTEXT(ShareOfSearch_SERPS!D1822),ShareOfSearch_SERPS!D1822,\"\")","v":""},{"$f":"IF(NOT(ISBLANK(ShareOfSearch_SERPS!A1822)),ShareOfSearch_SERPS!A1822,\"\")","v":""},{"$f":"IF(NOT(ISBLANK(ShareOfSearch_SERPS!G1822)),ShareOfSearch_SERPS!G1822,\"\")","v":""},{"$f":"IF(NOT(ISBLANK(ShareOfSearch_SERPS!K1822)),ShareOfSearch_SERPS!K1822,\"\")","v":""},{"$f":"IFERROR(VLOOKUP(C1822,ShareOfSearch_CTR!$A$1:$B$100,2,FALSE)*VLOOKUP(A1822&B1822,ShareOfSearch_Volume!$C$1:$D$1000,2,FALSE),\"\")","v":""}]
[{"$f":"IF(ISTEXT(ShareOfSearch_SERPS!C1823),ShareOfSearch_SERPS!C1823,\"\")","v":""},{"$f":"IF(ISTEXT(ShareOfSearch_SERPS!D1823),ShareOfSearch_SERPS!D1823,\"\")","v":""},{"$f":"IF(NOT(ISBLANK(ShareOfSearch_SERPS!A1823)),ShareOfSearch_SERPS!A1823,\"\")","v":""},{"$f":"IF(NOT(ISBLANK(ShareOfSearch_SERPS!G1823)),ShareOfSearch_SERPS!G1823,\"\")","v":""},{"$f":"IF(NOT(ISBLANK(ShareOfSearch_SERPS!K1823)),ShareOfSearch_SERPS!K1823,\"\")","v":""},{"$f":"IFERROR(VLOOKUP(C1823,ShareOfSearch_CTR!$A$1:$B$100,2,FALSE)*VLOOKUP(A1823&B1823,ShareOfSearch_Volume!$C$1:$D$1000,2,FALSE),\"\")","v":""}]
[{"$f":"IF(ISTEXT(ShareOfSearch_SERPS!C1824),ShareOfSearch_SERPS!C1824,\"\")","v":""},{"$f":"IF(ISTEXT(ShareOfSearch_SERPS!D1824),ShareOfSearch_SERPS!D1824,\"\")","v":""},{"$f":"IF(NOT(ISBLANK(ShareOfSearch_SERPS!A1824)),ShareOfSearch_SERPS!A1824,\"\")","v":""},{"$f":"IF(NOT(ISBLANK(ShareOfSearch_SERPS!G1824)),ShareOfSearch_SERPS!G1824,\"\")","v":""},{"$f":"IF(NOT(ISBLANK(ShareOfSearch_SERPS!K1824)),ShareOfSearch_SERPS!K1824,\"\")","v":""},{"$f":"IFERROR(VLOOKUP(C1824,ShareOfSearch_CTR!$A$1:$B$100,2,FALSE)*VLOOKUP(A1824&B1824,ShareOfSearch_Volume!$C$1:$D$1000,2,FALSE),\"\")","v":""}]
[{"$f":"IF(ISTEXT(ShareOfSearch_SERPS!C1825),ShareOfSearch_SERPS!C1825,\"\")","v":""},{"$f":"IF(ISTEXT(ShareOfSearch_SERPS!D1825),ShareOfSearch_SERPS!D1825,\"\")","v":""},{"$f":"IF(NOT(ISBLANK(ShareOfSearch_SERPS!A1825)),ShareOfSearch_SERPS!A1825,\"\")","v":""},{"$f":"IF(NOT(ISBLANK(ShareOfSearch_SERPS!G1825)),ShareOfSearch_SERPS!G1825,\"\")","v":""},{"$f":"IF(NOT(ISBLANK(ShareOfSearch_SERPS!K1825)),ShareOfSearch_SERPS!K1825,\"\")","v":""},{"$f":"IFERROR(VLOOKUP(C1825,ShareOfSearch_CTR!$A$1:$B$100,2,FALSE)*VLOOKUP(A1825&B1825,ShareOfSearch_Volume!$C$1:$D$1000,2,FALSE),\"\")","v":""}]
[{"$f":"IF(ISTEXT(ShareOfSearch_SERPS!C1826),ShareOfSearch_SERPS!C1826,\"\")","v":""},{"$f":"IF(ISTEXT(ShareOfSearch_SERPS!D1826),ShareOfSearch_SERPS!D1826,\"\")","v":""},{"$f":"IF(NOT(ISBLANK(ShareOfSearch_SERPS!A1826)),ShareOfSearch_SERPS!A1826,\"\")","v":""},{"$f":"IF(NOT(ISBLANK(ShareOfSearch_SERPS!G1826)),ShareOfSearch_SERPS!G1826,\"\")","v":""},{"$f":"IF(NOT(ISBLANK(ShareOfSearch_SERPS!K1826)),ShareOfSearch_SERPS!K1826,\"\")","v":""},{"$f":"IFERROR(VLOOKUP(C1826,ShareOfSearch_CTR!$A$1:$B$100,2,FALSE)*VLOOKUP(A1826&B1826,ShareOfSearch_Volume!$C$1:$D$1000,2,FALSE),\"\")","v":""}]
[{"$f":"IF(ISTEXT(ShareOfSearch_SERPS!C1827),ShareOfSearch_SERPS!C1827,\"\")","v":""},{"$f":"IF(ISTEXT(ShareOfSearch_SERPS!D1827),ShareOfSearch_SERPS!D1827,\"\")","v":""},{"$f":"IF(NOT(ISBLANK(ShareOfSearch_SERPS!A1827)),ShareOfSearch_SERPS!A1827,\"\")","v":""},{"$f":"IF(NOT(ISBLANK(ShareOfSearch_SERPS!G1827)),ShareOfSearch_SERPS!G1827,\"\")","v":""},{"$f":"IF(NOT(ISBLANK(ShareOfSearch_SERPS!K1827)),ShareOfSearch_SERPS!K1827,\"\")","v":""},{"$f":"IFERROR(VLOOKUP(C1827,ShareOfSearch_CTR!$A$1:$B$100,2,FALSE)*VLOOKUP(A1827&B1827,ShareOfSearch_Volume!$C$1:$D$1000,2,FALSE),\"\")","v":""}]
[{"$f":"IF(ISTEXT(ShareOfSearch_SERPS!C1828),ShareOfSearch_SERPS!C1828,\"\")","v":""},{"$f":"IF(ISTEXT(ShareOfSearch_SERPS!D1828),ShareOfSearch_SERPS!D1828,\"\")","v":""},{"$f":"IF(NOT(ISBLANK(ShareOfSearch_SERPS!A1828)),ShareOfSearch_SERPS!A1828,\"\")","v":""},{"$f":"IF(NOT(ISBLANK(ShareOfSearch_SERPS!G1828)),ShareOfSearch_SERPS!G1828,\"\")","v":""},{"$f":"IF(NOT(ISBLANK(ShareOfSearch_SERPS!K1828)),ShareOfSearch_SERPS!K1828,\"\")","v":""},{"$f":"IFERROR(VLOOKUP(C1828,ShareOfSearch_CTR!$A$1:$B$100,2,FALSE)*VLOOKUP(A1828&B1828,ShareOfSearch_Volume!$C$1:$D$1000,2,FALSE),\"\")","v":""}]
[{"$f":"IF(ISTEXT(ShareOfSearch_SERPS!C1829),ShareOfSearch_SERPS!C1829,\"\")","v":""},{"$f":"IF(ISTEXT(ShareOfSearch_SERPS!D1829),ShareOfSearch_SERPS!D1829,\"\")","v":""},{"$f":"IF(NOT(ISBLANK(ShareOfSearch_SERPS!A1829)),ShareOfSearch_SERPS!A1829,\"\")","v":""},{"$f":"IF(NOT(ISBLANK(ShareOfSearch_SERPS!G1829)),ShareOfSearch_SERPS!G1829,\"\")","v":""},{"$f":"IF(NOT(ISBLANK(ShareOfSearch_SERPS!K1829)),ShareOfSearch_SERPS!K1829,\"\")","v":""},{"$f":"IFERROR(VLOOKUP(C1829,ShareOfSearch_CTR!$A$1:$B$100,2,FALSE)*VLOOKUP(A1829&B1829,ShareOfSearch_Volume!$C$1:$D$1000,2,FALSE),\"\")","v":""}]
[{"$f":"IF(ISTEXT(ShareOfSearch_SERPS!C1830),ShareOfSearch_SERPS!C1830,\"\")","v":""},{"$f":"IF(ISTEXT(ShareOfSearch_SERPS!D1830),ShareOfSearch_SERPS!D1830,\"\")","v":""},{"$f":"IF(NOT(ISBLANK(ShareOfSearch_SERPS!A1830)),ShareOfSearch_SERPS!A1830,\"\")","v":""},{"$f":"IF(NOT(ISBLANK(ShareOfSearch_SERPS!G1830)),ShareOfSearch_SERPS!G1830,\"\")","v":""},{"$f":"IF(NOT(ISBLANK(ShareOfSearch_SERPS!K1830)),ShareOfSearch_SERPS!K1830,\"\")","v":""},{"$f":"IFERROR(VLOOKUP(C1830,ShareOfSearch_CTR!$A$1:$B$100,2,FALSE)*VLOOKUP(A1830&B1830,ShareOfSearch_Volume!$C$1:$D$1000,2,FALSE),\"\")","v":""}]
[{"$f":"IF(ISTEXT(ShareOfSearch_SERPS!C1831),ShareOfSearch_SERPS!C1831,\"\")","v":""},{"$f":"IF(ISTEXT(ShareOfSearch_SERPS!D1831),ShareOfSearch_SERPS!D1831,\"\")","v":""},{"$f":"IF(NOT(ISBLANK(ShareOfSearch_SERPS!A1831)),ShareOfSearch_SERPS!A1831,\"\")","v":""},{"$f":"IF(NOT(ISBLANK(ShareOfSearch_SERPS!G1831)),ShareOfSearch_SERPS!G1831,\"\")","v":""},{"$f":"IF(NOT(ISBLANK(ShareOfSearch_SERPS!K1831)),ShareOfSearch_SERPS!K1831,\"\")","v":""},{"$f":"IFERROR(VLOOKUP(C1831,ShareOfSearch_CTR!$A$1:$B$100,2,FALSE)*VLOOKUP(A1831&B1831,ShareOfSearch_Volume!$C$1:$D$1000,2,FALSE),\"\")","v":""}]
[{"$f":"IF(ISTEXT(ShareOfSearch_SERPS!C1832),ShareOfSearch_SERPS!C1832,\"\")","v":""},{"$f":"IF(ISTEXT(ShareOfSearch_SERPS!D1832),ShareOfSearch_SERPS!D1832,\"\")","v":""},{"$f":"IF(NOT(ISBLANK(ShareOfSearch_SERPS!A1832)),ShareOfSearch_SERPS!A1832,\"\")","v":""},{"$f":"IF(NOT(ISBLANK(ShareOfSearch_SERPS!G1832)),ShareOfSearch_SERPS!G1832,\"\")","v":""},{"$f":"IF(NOT(ISBLANK(ShareOfSearch_SERPS!K1832)),ShareOfSearch_SERPS!K1832,\"\")","v":""},{"$f":"IFERROR(VLOOKUP(C1832,ShareOfSearch_CTR!$A$1:$B$100,2,FALSE)*VLOOKUP(A1832&B1832,ShareOfSearch_Volume!$C$1:$D$1000,2,FALSE),\"\")","v":""}]
[{"$f":"IF(ISTEXT(ShareOfSearch_SERPS!C1833),ShareOfSearch_SERPS!C1833,\"\")","v":""},{"$f":"IF(ISTEXT(ShareOfSearch_SERPS!D1833),ShareOfSearch_SERPS!D1833,\"\")","v":""},{"$f":"IF(NOT(ISBLANK(ShareOfSearch_SERPS!A1833)),ShareOfSearch_SERPS!A1833,\"\")","v":""},{"$f":"IF(NOT(ISBLANK(ShareOfSearch_SERPS!G1833)),ShareOfSearch_SERPS!G1833,\"\")","v":""},{"$f":"IF(NOT(ISBLANK(ShareOfSearch_SERPS!K1833)),ShareOfSearch_SERPS!K1833,\"\")","v":""},{"$f":"IFERROR(VLOOKUP(C1833,ShareOfSearch_CTR!$A$1:$B$100,2,FALSE)*VLOOKUP(A1833&B1833,ShareOfSearch_Volume!$C$1:$D$1000,2,FALSE),\"\")","v":""}]
[{"$f":"IF(ISTEXT(ShareOfSearch_SERPS!C1834),ShareOfSearch_SERPS!C1834,\"\")","v":""},{"$f":"IF(ISTEXT(ShareOfSearch_SERPS!D1834),ShareOfSearch_SERPS!D1834,\"\")","v":""},{"$f":"IF(NOT(ISBLANK(ShareOfSearch_SERPS!A1834)),ShareOfSearch_SERPS!A1834,\"\")","v":""},{"$f":"IF(NOT(ISBLANK(ShareOfSearch_SERPS!G1834)),ShareOfSearch_SERPS!G1834,\"\")","v":""},{"$f":"IF(NOT(ISBLANK(ShareOfSearch_SERPS!K1834)),ShareOfSearch_SERPS!K1834,\"\")","v":""},{"$f":"IFERROR(VLOOKUP(C1834,ShareOfSearch_CTR!$A$1:$B$100,2,FALSE)*VLOOKUP(A1834&B1834,ShareOfSearch_Volume!$C$1:$D$1000,2,FALSE),\"\")","v":""}]
[{"$f":"IF(ISTEXT(ShareOfSearch_SERPS!C1835),ShareOfSearch_SERPS!C1835,\"\")","v":""},{"$f":"IF(ISTEXT(ShareOfSearch_SERPS!D1835),ShareOfSearch_SERPS!D1835,\"\")","v":""},{"$f":"IF(NOT(ISBLANK(ShareOfSearch_SERPS!A1835)),ShareOfSearch_SERPS!A1835,\"\")","v":""},{"$f":"IF(NOT(ISBLANK(ShareOfSearch_SERPS!G1835)),ShareOfSearch_SERPS!G1835,\"\")","v":""},{"$f":"IF(NOT(ISBLANK(ShareOfSearch_SERPS!K1835)),ShareOfSearch_SERPS!K1835,\"\")","v":""},{"$f":"IFERROR(VLOOKUP(C1835,ShareOfSearch_CTR!$A$1:$B$100,2,FALSE)*VLOOKUP(A1835&B1835,ShareOfSearch_Volume!$C$1:$D$1000,2,FALSE),\"\")","v":""}]
[{"$f":"IF(ISTEXT(ShareOfSearch_SERPS!C1836),ShareOfSearch_SERPS!C1836,\"\")","v":""},{"$f":"IF(ISTEXT(ShareOfSearch_SERPS!D1836),ShareOfSearch_SERPS!D1836,\"\")","v":""},{"$f":"IF(NOT(ISBLANK(ShareOfSearch_SERPS!A1836)),ShareOfSearch_SERPS!A1836,\"\")","v":""},{"$f":"IF(NOT(ISBLANK(ShareOfSearch_SERPS!G1836)),ShareOfSearch_SERPS!G1836,\"\")","v":""},{"$f":"IF(NOT(ISBLANK(ShareOfSearch_SERPS!K1836)),ShareOfSearch_SERPS!K1836,\"\")","v":""},{"$f":"IFERROR(VLOOKUP(C1836,ShareOfSearch_CTR!$A$1:$B$100,2,FALSE)*VLOOKUP(A1836&B1836,ShareOfSearch_Volume!$C$1:$D$1000,2,FALSE),\"\")","v":""}]
[{"$f":"IF(ISTEXT(ShareOfSearch_SERPS!C1837),ShareOfSearch_SERPS!C1837,\"\")","v":""},{"$f":"IF(ISTEXT(ShareOfSearch_SERPS!D1837),ShareOfSearch_SERPS!D1837,\"\")","v":""},{"$f":"IF(NOT(ISBLANK(ShareOfSearch_SERPS!A1837)),ShareOfSearch_SERPS!A1837,\"\")","v":""},{"$f":"IF(NOT(ISBLANK(ShareOfSearch_SERPS!G1837)),ShareOfSearch_SERPS!G1837,\"\")","v":""},{"$f":"IF(NOT(ISBLANK(ShareOfSearch_SERPS!K1837)),ShareOfSearch_SERPS!K1837,\"\")","v":""},{"$f":"IFERROR(VLOOKUP(C1837,ShareOfSearch_CTR!$A$1:$B$100,2,FALSE)*VLOOKUP(A1837&B1837,ShareOfSearch_Volume!$C$1:$D$1000,2,FALSE),\"\")","v":""}]
[{"$f":"IF(ISTEXT(ShareOfSearch_SERPS!C1838),ShareOfSearch_SERPS!C1838,\"\")","v":""},{"$f":"IF(ISTEXT(ShareOfSearch_SERPS!D1838),ShareOfSearch_SERPS!D1838,\"\")","v":""},{"$f":"IF(NOT(ISBLANK(ShareOfSearch_SERPS!A1838)),ShareOfSearch_SERPS!A1838,\"\")","v":""},{"$f":"IF(NOT(ISBLANK(ShareOfSearch_SERPS!G1838)),ShareOfSearch_SERPS!G1838,\"\")","v":""},{"$f":"IF(NOT(ISBLANK(ShareOfSearch_SERPS!K1838)),ShareOfSearch_SERPS!K1838,\"\")","v":""},{"$f":"IFERROR(VLOOKUP(C1838,ShareOfSearch_CTR!$A$1:$B$100,2,FALSE)*VLOOKUP(A1838&B1838,ShareOfSearch_Volume!$C$1:$D$1000,2,FALSE),\"\")","v":""}]
[{"$f":"IF(ISTEXT(ShareOfSearch_SERPS!C1839),ShareOfSearch_SERPS!C1839,\"\")","v":""},{"$f":"IF(ISTEXT(ShareOfSearch_SERPS!D1839),ShareOfSearch_SERPS!D1839,\"\")","v":""},{"$f":"IF(NOT(ISBLANK(ShareOfSearch_SERPS!A1839)),ShareOfSearch_SERPS!A1839,\"\")","v":""},{"$f":"IF(NOT(ISBLANK(ShareOfSearch_SERPS!G1839)),ShareOfSearch_SERPS!G1839,\"\")","v":""},{"$f":"IF(NOT(ISBLANK(ShareOfSearch_SERPS!K1839)),ShareOfSearch_SERPS!K1839,\"\")","v":""},{"$f":"IFERROR(VLOOKUP(C1839,ShareOfSearch_CTR!$A$1:$B$100,2,FALSE)*VLOOKUP(A1839&B1839,ShareOfSearch_Volume!$C$1:$D$1000,2,FALSE),\"\")","v":""}]
[{"$f":"IF(ISTEXT(ShareOfSearch_SERPS!C1840),ShareOfSearch_SERPS!C1840,\"\")","v":""},{"$f":"IF(ISTEXT(ShareOfSearch_SERPS!D1840),ShareOfSearch_SERPS!D1840,\"\")","v":""},{"$f":"IF(NOT(ISBLANK(ShareOfSearch_SERPS!A1840)),ShareOfSearch_SERPS!A1840,\"\")","v":""},{"$f":"IF(NOT(ISBLANK(ShareOfSearch_SERPS!G1840)),ShareOfSearch_SERPS!G1840,\"\")","v":""},{"$f":"IF(NOT(ISBLANK(ShareOfSearch_SERPS!K1840)),ShareOfSearch_SERPS!K1840,\"\")","v":""},{"$f":"IFERROR(VLOOKUP(C1840,ShareOfSearch_CTR!$A$1:$B$100,2,FALSE)*VLOOKUP(A1840&B1840,ShareOfSearch_Volume!$C$1:$D$1000,2,FALSE),\"\")","v":""}]
[{"$f":"IF(ISTEXT(ShareOfSearch_SERPS!C1841),ShareOfSearch_SERPS!C1841,\"\")","v":""},{"$f":"IF(ISTEXT(ShareOfSearch_SERPS!D1841),ShareOfSearch_SERPS!D1841,\"\")","v":""},{"$f":"IF(NOT(ISBLANK(ShareOfSearch_SERPS!A1841)),ShareOfSearch_SERPS!A1841,\"\")","v":""},{"$f":"IF(NOT(ISBLANK(ShareOfSearch_SERPS!G1841)),ShareOfSearch_SERPS!G1841,\"\")","v":""},{"$f":"IF(NOT(ISBLANK(ShareOfSearch_SERPS!K1841)),ShareOfSearch_SERPS!K1841,\"\")","v":""},{"$f":"IFERROR(VLOOKUP(C1841,ShareOfSearch_CTR!$A$1:$B$100,2,FALSE)*VLOOKUP(A1841&B1841,ShareOfSearch_Volume!$C$1:$D$1000,2,FALSE),\"\")","v":""}]
[{"$f":"IF(ISTEXT(ShareOfSearch_SERPS!C1842),ShareOfSearch_SERPS!C1842,\"\")","v":""},{"$f":"IF(ISTEXT(ShareOfSearch_SERPS!D1842),ShareOfSearch_SERPS!D1842,\"\")","v":""},{"$f":"IF(NOT(ISBLANK(ShareOfSearch_SERPS!A1842)),ShareOfSearch_SERPS!A1842,\"\")","v":""},{"$f":"IF(NOT(ISBLANK(ShareOfSearch_SERPS!G1842)),ShareOfSearch_SERPS!G1842,\"\")","v":""},{"$f":"IF(NOT(ISBLANK(ShareOfSearch_SERPS!K1842)),ShareOfSearch_SERPS!K1842,\"\")","v":""},{"$f":"IFERROR(VLOOKUP(C1842,ShareOfSearch_CTR!$A$1:$B$100,2,FALSE)*VLOOKUP(A1842&B1842,ShareOfSearch_Volume!$C$1:$D$1000,2,FALSE),\"\")","v":""}]
[{"$f":"IF(ISTEXT(ShareOfSearch_SERPS!C1843),ShareOfSearch_SERPS!C1843,\"\")","v":""},{"$f":"IF(ISTEXT(ShareOfSearch_SERPS!D1843),ShareOfSearch_SERPS!D1843,\"\")","v":""},{"$f":"IF(NOT(ISBLANK(ShareOfSearch_SERPS!A1843)),ShareOfSearch_SERPS!A1843,\"\")","v":""},{"$f":"IF(NOT(ISBLANK(ShareOfSearch_SERPS!G1843)),ShareOfSearch_SERPS!G1843,\"\")","v":""},{"$f":"IF(NOT(ISBLANK(ShareOfSearch_SERPS!K1843)),ShareOfSearch_SERPS!K1843,\"\")","v":""},{"$f":"IFERROR(VLOOKUP(C1843,ShareOfSearch_CTR!$A$1:$B$100,2,FALSE)*VLOOKUP(A1843&B1843,ShareOfSearch_Volume!$C$1:$D$1000,2,FALSE),\"\")","v":""}]
[{"$f":"IF(ISTEXT(ShareOfSearch_SERPS!C1844),ShareOfSearch_SERPS!C1844,\"\")","v":""},{"$f":"IF(ISTEXT(ShareOfSearch_SERPS!D1844),ShareOfSearch_SERPS!D1844,\"\")","v":""},{"$f":"IF(NOT(ISBLANK(ShareOfSearch_SERPS!A1844)),ShareOfSearch_SERPS!A1844,\"\")","v":""},{"$f":"IF(NOT(ISBLANK(ShareOfSearch_SERPS!G1844)),ShareOfSearch_SERPS!G1844,\"\")","v":""},{"$f":"IF(NOT(ISBLANK(ShareOfSearch_SERPS!K1844)),ShareOfSearch_SERPS!K1844,\"\")","v":""},{"$f":"IFERROR(VLOOKUP(C1844,ShareOfSearch_CTR!$A$1:$B$100,2,FALSE)*VLOOKUP(A1844&B1844,ShareOfSearch_Volume!$C$1:$D$1000,2,FALSE),\"\")","v":""}]
[{"$f":"IF(ISTEXT(ShareOfSearch_SERPS!C1845),ShareOfSearch_SERPS!C1845,\"\")","v":""},{"$f":"IF(ISTEXT(ShareOfSearch_SERPS!D1845),ShareOfSearch_SERPS!D1845,\"\")","v":""},{"$f":"IF(NOT(ISBLANK(ShareOfSearch_SERPS!A1845)),ShareOfSearch_SERPS!A1845,\"\")","v":""},{"$f":"IF(NOT(ISBLANK(ShareOfSearch_SERPS!G1845)),ShareOfSearch_SERPS!G1845,\"\")","v":""},{"$f":"IF(NOT(ISBLANK(ShareOfSearch_SERPS!K1845)),ShareOfSearch_SERPS!K1845,\"\")","v":""},{"$f":"IFERROR(VLOOKUP(C1845,ShareOfSearch_CTR!$A$1:$B$100,2,FALSE)*VLOOKUP(A1845&B1845,ShareOfSearch_Volume!$C$1:$D$1000,2,FALSE),\"\")","v":""}]
[{"$f":"IF(ISTEXT(ShareOfSearch_SERPS!C1846),ShareOfSearch_SERPS!C1846,\"\")","v":""},{"$f":"IF(ISTEXT(ShareOfSearch_SERPS!D1846),ShareOfSearch_SERPS!D1846,\"\")","v":""},{"$f":"IF(NOT(ISBLANK(ShareOfSearch_SERPS!A1846)),ShareOfSearch_SERPS!A1846,\"\")","v":""},{"$f":"IF(NOT(ISBLANK(ShareOfSearch_SERPS!G1846)),ShareOfSearch_SERPS!G1846,\"\")","v":""},{"$f":"IF(NOT(ISBLANK(ShareOfSearch_SERPS!K1846)),ShareOfSearch_SERPS!K1846,\"\")","v":""},{"$f":"IFERROR(VLOOKUP(C1846,ShareOfSearch_CTR!$A$1:$B$100,2,FALSE)*VLOOKUP(A1846&B1846,ShareOfSearch_Volume!$C$1:$D$1000,2,FALSE),\"\")","v":""}]
[{"$f":"IF(ISTEXT(ShareOfSearch_SERPS!C1847),ShareOfSearch_SERPS!C1847,\"\")","v":""},{"$f":"IF(ISTEXT(ShareOfSearch_SERPS!D1847),ShareOfSearch_SERPS!D1847,\"\")","v":""},{"$f":"IF(NOT(ISBLANK(ShareOfSearch_SERPS!A1847)),ShareOfSearch_SERPS!A1847,\"\")","v":""},{"$f":"IF(NOT(ISBLANK(ShareOfSearch_SERPS!G1847)),ShareOfSearch_SERPS!G1847,\"\")","v":""},{"$f":"IF(NOT(ISBLANK(ShareOfSearch_SERPS!K1847)),ShareOfSearch_SERPS!K1847,\"\")","v":""},{"$f":"IFERROR(VLOOKUP(C1847,ShareOfSearch_CTR!$A$1:$B$100,2,FALSE)*VLOOKUP(A1847&B1847,ShareOfSearch_Volume!$C$1:$D$1000,2,FALSE),\"\")","v":""}]
[{"$f":"IF(ISTEXT(ShareOfSearch_SERPS!C1848),ShareOfSearch_SERPS!C1848,\"\")","v":""},{"$f":"IF(ISTEXT(ShareOfSearch_SERPS!D1848),ShareOfSearch_SERPS!D1848,\"\")","v":""},{"$f":"IF(NOT(ISBLANK(ShareOfSearch_SERPS!A1848)),ShareOfSearch_SERPS!A1848,\"\")","v":""},{"$f":"IF(NOT(ISBLANK(ShareOfSearch_SERPS!G1848)),ShareOfSearch_SERPS!G1848,\"\")","v":""},{"$f":"IF(NOT(ISBLANK(ShareOfSearch_SERPS!K1848)),ShareOfSearch_SERPS!K1848,\"\")","v":""},{"$f":"IFERROR(VLOOKUP(C1848,ShareOfSearch_CTR!$A$1:$B$100,2,FALSE)*VLOOKUP(A1848&B1848,ShareOfSearch_Volume!$C$1:$D$1000,2,FALSE),\"\")","v":""}]
[{"$f":"IF(ISTEXT(ShareOfSearch_SERPS!C1849),ShareOfSearch_SERPS!C1849,\"\")","v":""},{"$f":"IF(ISTEXT(ShareOfSearch_SERPS!D1849),ShareOfSearch_SERPS!D1849,\"\")","v":""},{"$f":"IF(NOT(ISBLANK(ShareOfSearch_SERPS!A1849)),ShareOfSearch_SERPS!A1849,\"\")","v":""},{"$f":"IF(NOT(ISBLANK(ShareOfSearch_SERPS!G1849)),ShareOfSearch_SERPS!G1849,\"\")","v":""},{"$f":"IF(NOT(ISBLANK(ShareOfSearch_SERPS!K1849)),ShareOfSearch_SERPS!K1849,\"\")","v":""},{"$f":"IFERROR(VLOOKUP(C1849,ShareOfSearch_CTR!$A$1:$B$100,2,FALSE)*VLOOKUP(A1849&B1849,ShareOfSearch_Volume!$C$1:$D$1000,2,FALSE),\"\")","v":""}]
[{"$f":"IF(ISTEXT(ShareOfSearch_SERPS!C1850),ShareOfSearch_SERPS!C1850,\"\")","v":""},{"$f":"IF(ISTEXT(ShareOfSearch_SERPS!D1850),ShareOfSearch_SERPS!D1850,\"\")","v":""},{"$f":"IF(NOT(ISBLANK(ShareOfSearch_SERPS!A1850)),ShareOfSearch_SERPS!A1850,\"\")","v":""},{"$f":"IF(NOT(ISBLANK(ShareOfSearch_SERPS!G1850)),ShareOfSearch_SERPS!G1850,\"\")","v":""},{"$f":"IF(NOT(ISBLANK(ShareOfSearch_SERPS!K1850)),ShareOfSearch_SERPS!K1850,\"\")","v":""},{"$f":"IFERROR(VLOOKUP(C1850,ShareOfSearch_CTR!$A$1:$B$100,2,FALSE)*VLOOKUP(A1850&B1850,ShareOfSearch_Volume!$C$1:$D$1000,2,FALSE),\"\")","v":""}]
[{"$f":"IF(ISTEXT(ShareOfSearch_SERPS!C1851),ShareOfSearch_SERPS!C1851,\"\")","v":""},{"$f":"IF(ISTEXT(ShareOfSearch_SERPS!D1851),ShareOfSearch_SERPS!D1851,\"\")","v":""},{"$f":"IF(NOT(ISBLANK(ShareOfSearch_SERPS!A1851)),ShareOfSearch_SERPS!A1851,\"\")","v":""},{"$f":"IF(NOT(ISBLANK(ShareOfSearch_SERPS!G1851)),ShareOfSearch_SERPS!G1851,\"\")","v":""},{"$f":"IF(NOT(ISBLANK(ShareOfSearch_SERPS!K1851)),ShareOfSearch_SERPS!K1851,\"\")","v":""},{"$f":"IFERROR(VLOOKUP(C1851,ShareOfSearch_CTR!$A$1:$B$100,2,FALSE)*VLOOKUP(A1851&B1851,ShareOfSearch_Volume!$C$1:$D$1000,2,FALSE),\"\")","v":""}]
[{"$f":"IF(ISTEXT(ShareOfSearch_SERPS!C1852),ShareOfSearch_SERPS!C1852,\"\")","v":""},{"$f":"IF(ISTEXT(ShareOfSearch_SERPS!D1852),ShareOfSearch_SERPS!D1852,\"\")","v":""},{"$f":"IF(NOT(ISBLANK(ShareOfSearch_SERPS!A1852)),ShareOfSearch_SERPS!A1852,\"\")","v":""},{"$f":"IF(NOT(ISBLANK(ShareOfSearch_SERPS!G1852)),ShareOfSearch_SERPS!G1852,\"\")","v":""},{"$f":"IF(NOT(ISBLANK(ShareOfSearch_SERPS!K1852)),ShareOfSearch_SERPS!K1852,\"\")","v":""},{"$f":"IFERROR(VLOOKUP(C1852,ShareOfSearch_CTR!$A$1:$B$100,2,FALSE)*VLOOKUP(A1852&B1852,ShareOfSearch_Volume!$C$1:$D$1000,2,FALSE),\"\")","v":""}]
[{"$f":"IF(ISTEXT(ShareOfSearch_SERPS!C1853),ShareOfSearch_SERPS!C1853,\"\")","v":""},{"$f":"IF(ISTEXT(ShareOfSearch_SERPS!D1853),ShareOfSearch_SERPS!D1853,\"\")","v":""},{"$f":"IF(NOT(ISBLANK(ShareOfSearch_SERPS!A1853)),ShareOfSearch_SERPS!A1853,\"\")","v":""},{"$f":"IF(NOT(ISBLANK(ShareOfSearch_SERPS!G1853)),ShareOfSearch_SERPS!G1853,\"\")","v":""},{"$f":"IF(NOT(ISBLANK(ShareOfSearch_SERPS!K1853)),ShareOfSearch_SERPS!K1853,\"\")","v":""},{"$f":"IFERROR(VLOOKUP(C1853,ShareOfSearch_CTR!$A$1:$B$100,2,FALSE)*VLOOKUP(A1853&B1853,ShareOfSearch_Volume!$C$1:$D$1000,2,FALSE),\"\")","v":""}]
[{"$f":"IF(ISTEXT(ShareOfSearch_SERPS!C1854),ShareOfSearch_SERPS!C1854,\"\")","v":""},{"$f":"IF(ISTEXT(ShareOfSearch_SERPS!D1854),ShareOfSearch_SERPS!D1854,\"\")","v":""},{"$f":"IF(NOT(ISBLANK(ShareOfSearch_SERPS!A1854)),ShareOfSearch_SERPS!A1854,\"\")","v":""},{"$f":"IF(NOT(ISBLANK(ShareOfSearch_SERPS!G1854)),ShareOfSearch_SERPS!G1854,\"\")","v":""},{"$f":"IF(NOT(ISBLANK(ShareOfSearch_SERPS!K1854)),ShareOfSearch_SERPS!K1854,\"\")","v":""},{"$f":"IFERROR(VLOOKUP(C1854,ShareOfSearch_CTR!$A$1:$B$100,2,FALSE)*VLOOKUP(A1854&B1854,ShareOfSearch_Volume!$C$1:$D$1000,2,FALSE),\"\")","v":""}]
[{"$f":"IF(ISTEXT(ShareOfSearch_SERPS!C1855),ShareOfSearch_SERPS!C1855,\"\")","v":""},{"$f":"IF(ISTEXT(ShareOfSearch_SERPS!D1855),ShareOfSearch_SERPS!D1855,\"\")","v":""},{"$f":"IF(NOT(ISBLANK(ShareOfSearch_SERPS!A1855)),ShareOfSearch_SERPS!A1855,\"\")","v":""},{"$f":"IF(NOT(ISBLANK(ShareOfSearch_SERPS!G1855)),ShareOfSearch_SERPS!G1855,\"\")","v":""},{"$f":"IF(NOT(ISBLANK(ShareOfSearch_SERPS!K1855)),ShareOfSearch_SERPS!K1855,\"\")","v":""},{"$f":"IFERROR(VLOOKUP(C1855,ShareOfSearch_CTR!$A$1:$B$100,2,FALSE)*VLOOKUP(A1855&B1855,ShareOfSearch_Volume!$C$1:$D$1000,2,FALSE),\"\")","v":""}]
[{"$f":"IF(ISTEXT(ShareOfSearch_SERPS!C1856),ShareOfSearch_SERPS!C1856,\"\")","v":""},{"$f":"IF(ISTEXT(ShareOfSearch_SERPS!D1856),ShareOfSearch_SERPS!D1856,\"\")","v":""},{"$f":"IF(NOT(ISBLANK(ShareOfSearch_SERPS!A1856)),ShareOfSearch_SERPS!A1856,\"\")","v":""},{"$f":"IF(NOT(ISBLANK(ShareOfSearch_SERPS!G1856)),ShareOfSearch_SERPS!G1856,\"\")","v":""},{"$f":"IF(NOT(ISBLANK(ShareOfSearch_SERPS!K1856)),ShareOfSearch_SERPS!K1856,\"\")","v":""},{"$f":"IFERROR(VLOOKUP(C1856,ShareOfSearch_CTR!$A$1:$B$100,2,FALSE)*VLOOKUP(A1856&B1856,ShareOfSearch_Volume!$C$1:$D$1000,2,FALSE),\"\")","v":""}]
[{"$f":"IF(ISTEXT(ShareOfSearch_SERPS!C1857),ShareOfSearch_SERPS!C1857,\"\")","v":""},{"$f":"IF(ISTEXT(ShareOfSearch_SERPS!D1857),ShareOfSearch_SERPS!D1857,\"\")","v":""},{"$f":"IF(NOT(ISBLANK(ShareOfSearch_SERPS!A1857)),ShareOfSearch_SERPS!A1857,\"\")","v":""},{"$f":"IF(NOT(ISBLANK(ShareOfSearch_SERPS!G1857)),ShareOfSearch_SERPS!G1857,\"\")","v":""},{"$f":"IF(NOT(ISBLANK(ShareOfSearch_SERPS!K1857)),ShareOfSearch_SERPS!K1857,\"\")","v":""},{"$f":"IFERROR(VLOOKUP(C1857,ShareOfSearch_CTR!$A$1:$B$100,2,FALSE)*VLOOKUP(A1857&B1857,ShareOfSearch_Volume!$C$1:$D$1000,2,FALSE),\"\")","v":""}]
[{"$f":"IF(ISTEXT(ShareOfSearch_SERPS!C1858),ShareOfSearch_SERPS!C1858,\"\")","v":""},{"$f":"IF(ISTEXT(ShareOfSearch_SERPS!D1858),ShareOfSearch_SERPS!D1858,\"\")","v":""},{"$f":"IF(NOT(ISBLANK(ShareOfSearch_SERPS!A1858)),ShareOfSearch_SERPS!A1858,\"\")","v":""},{"$f":"IF(NOT(ISBLANK(ShareOfSearch_SERPS!G1858)),ShareOfSearch_SERPS!G1858,\"\")","v":""},{"$f":"IF(NOT(ISBLANK(ShareOfSearch_SERPS!K1858)),ShareOfSearch_SERPS!K1858,\"\")","v":""},{"$f":"IFERROR(VLOOKUP(C1858,ShareOfSearch_CTR!$A$1:$B$100,2,FALSE)*VLOOKUP(A1858&B1858,ShareOfSearch_Volume!$C$1:$D$1000,2,FALSE),\"\")","v":""}]
[{"$f":"IF(ISTEXT(ShareOfSearch_SERPS!C1859),ShareOfSearch_SERPS!C1859,\"\")","v":""},{"$f":"IF(ISTEXT(ShareOfSearch_SERPS!D1859),ShareOfSearch_SERPS!D1859,\"\")","v":""},{"$f":"IF(NOT(ISBLANK(ShareOfSearch_SERPS!A1859)),ShareOfSearch_SERPS!A1859,\"\")","v":""},{"$f":"IF(NOT(ISBLANK(ShareOfSearch_SERPS!G1859)),ShareOfSearch_SERPS!G1859,\"\")","v":""},{"$f":"IF(NOT(ISBLANK(ShareOfSearch_SERPS!K1859)),ShareOfSearch_SERPS!K1859,\"\")","v":""},{"$f":"IFERROR(VLOOKUP(C1859,ShareOfSearch_CTR!$A$1:$B$100,2,FALSE)*VLOOKUP(A1859&B1859,ShareOfSearch_Volume!$C$1:$D$1000,2,FALSE),\"\")","v":""}]
[{"$f":"IF(ISTEXT(ShareOfSearch_SERPS!C1860),ShareOfSearch_SERPS!C1860,\"\")","v":""},{"$f":"IF(ISTEXT(ShareOfSearch_SERPS!D1860),ShareOfSearch_SERPS!D1860,\"\")","v":""},{"$f":"IF(NOT(ISBLANK(ShareOfSearch_SERPS!A1860)),ShareOfSearch_SERPS!A1860,\"\")","v":""},{"$f":"IF(NOT(ISBLANK(ShareOfSearch_SERPS!G1860)),ShareOfSearch_SERPS!G1860,\"\")","v":""},{"$f":"IF(NOT(ISBLANK(ShareOfSearch_SERPS!K1860)),ShareOfSearch_SERPS!K1860,\"\")","v":""},{"$f":"IFERROR(VLOOKUP(C1860,ShareOfSearch_CTR!$A$1:$B$100,2,FALSE)*VLOOKUP(A1860&B1860,ShareOfSearch_Volume!$C$1:$D$1000,2,FALSE),\"\")","v":""}]
[{"$f":"IF(ISTEXT(ShareOfSearch_SERPS!C1861),ShareOfSearch_SERPS!C1861,\"\")","v":""},{"$f":"IF(ISTEXT(ShareOfSearch_SERPS!D1861),ShareOfSearch_SERPS!D1861,\"\")","v":""},{"$f":"IF(NOT(ISBLANK(ShareOfSearch_SERPS!A1861)),ShareOfSearch_SERPS!A1861,\"\")","v":""},{"$f":"IF(NOT(ISBLANK(ShareOfSearch_SERPS!G1861)),ShareOfSearch_SERPS!G1861,\"\")","v":""},{"$f":"IF(NOT(ISBLANK(ShareOfSearch_SERPS!K1861)),ShareOfSearch_SERPS!K1861,\"\")","v":""},{"$f":"IFERROR(VLOOKUP(C1861,ShareOfSearch_CTR!$A$1:$B$100,2,FALSE)*VLOOKUP(A1861&B1861,ShareOfSearch_Volume!$C$1:$D$1000,2,FALSE),\"\")","v":""}]
[{"$f":"IF(ISTEXT(ShareOfSearch_SERPS!C1862),ShareOfSearch_SERPS!C1862,\"\")","v":""},{"$f":"IF(ISTEXT(ShareOfSearch_SERPS!D1862),ShareOfSearch_SERPS!D1862,\"\")","v":""},{"$f":"IF(NOT(ISBLANK(ShareOfSearch_SERPS!A1862)),ShareOfSearch_SERPS!A1862,\"\")","v":""},{"$f":"IF(NOT(ISBLANK(ShareOfSearch_SERPS!G1862)),ShareOfSearch_SERPS!G1862,\"\")","v":""},{"$f":"IF(NOT(ISBLANK(ShareOfSearch_SERPS!K1862)),ShareOfSearch_SERPS!K1862,\"\")","v":""},{"$f":"IFERROR(VLOOKUP(C1862,ShareOfSearch_CTR!$A$1:$B$100,2,FALSE)*VLOOKUP(A1862&B1862,ShareOfSearch_Volume!$C$1:$D$1000,2,FALSE),\"\")","v":""}]
[{"$f":"IF(ISTEXT(ShareOfSearch_SERPS!C1863),ShareOfSearch_SERPS!C1863,\"\")","v":""},{"$f":"IF(ISTEXT(ShareOfSearch_SERPS!D1863),ShareOfSearch_SERPS!D1863,\"\")","v":""},{"$f":"IF(NOT(ISBLANK(ShareOfSearch_SERPS!A1863)),ShareOfSearch_SERPS!A1863,\"\")","v":""},{"$f":"IF(NOT(ISBLANK(ShareOfSearch_SERPS!G1863)),ShareOfSearch_SERPS!G1863,\"\")","v":""},{"$f":"IF(NOT(ISBLANK(ShareOfSearch_SERPS!K1863)),ShareOfSearch_SERPS!K1863,\"\")","v":""},{"$f":"IFERROR(VLOOKUP(C1863,ShareOfSearch_CTR!$A$1:$B$100,2,FALSE)*VLOOKUP(A1863&B1863,ShareOfSearch_Volume!$C$1:$D$1000,2,FALSE),\"\")","v":""}]
[{"$f":"IF(ISTEXT(ShareOfSearch_SERPS!C1864),ShareOfSearch_SERPS!C1864,\"\")","v":""},{"$f":"IF(ISTEXT(ShareOfSearch_SERPS!D1864),ShareOfSearch_SERPS!D1864,\"\")","v":""},{"$f":"IF(NOT(ISBLANK(ShareOfSearch_SERPS!A1864)),ShareOfSearch_SERPS!A1864,\"\")","v":""},{"$f":"IF(NOT(ISBLANK(ShareOfSearch_SERPS!G1864)),ShareOfSearch_SERPS!G1864,\"\")","v":""},{"$f":"IF(NOT(ISBLANK(ShareOfSearch_SERPS!K1864)),ShareOfSearch_SERPS!K1864,\"\")","v":""},{"$f":"IFERROR(VLOOKUP(C1864,ShareOfSearch_CTR!$A$1:$B$100,2,FALSE)*VLOOKUP(A1864&B1864,ShareOfSearch_Volume!$C$1:$D$1000,2,FALSE),\"\")","v":""}]
[{"$f":"IF(ISTEXT(ShareOfSearch_SERPS!C1865),ShareOfSearch_SERPS!C1865,\"\")","v":""},{"$f":"IF(ISTEXT(ShareOfSearch_SERPS!D1865),ShareOfSearch_SERPS!D1865,\"\")","v":""},{"$f":"IF(NOT(ISBLANK(ShareOfSearch_SERPS!A1865)),ShareOfSearch_SERPS!A1865,\"\")","v":""},{"$f":"IF(NOT(ISBLANK(ShareOfSearch_SERPS!G1865)),ShareOfSearch_SERPS!G1865,\"\")","v":""},{"$f":"IF(NOT(ISBLANK(ShareOfSearch_SERPS!K1865)),ShareOfSearch_SERPS!K1865,\"\")","v":""},{"$f":"IFERROR(VLOOKUP(C1865,ShareOfSearch_CTR!$A$1:$B$100,2,FALSE)*VLOOKUP(A1865&B1865,ShareOfSearch_Volume!$C$1:$D$1000,2,FALSE),\"\")","v":""}]
[{"$f":"IF(ISTEXT(ShareOfSearch_SERPS!C1866),ShareOfSearch_SERPS!C1866,\"\")","v":""},{"$f":"IF(ISTEXT(ShareOfSearch_SERPS!D1866),ShareOfSearch_SERPS!D1866,\"\")","v":""},{"$f":"IF(NOT(ISBLANK(ShareOfSearch_SERPS!A1866)),ShareOfSearch_SERPS!A1866,\"\")","v":""},{"$f":"IF(NOT(ISBLANK(ShareOfSearch_SERPS!G1866)),ShareOfSearch_SERPS!G1866,\"\")","v":""},{"$f":"IF(NOT(ISBLANK(ShareOfSearch_SERPS!K1866)),ShareOfSearch_SERPS!K1866,\"\")","v":""},{"$f":"IFERROR(VLOOKUP(C1866,ShareOfSearch_CTR!$A$1:$B$100,2,FALSE)*VLOOKUP(A1866&B1866,ShareOfSearch_Volume!$C$1:$D$1000,2,FALSE),\"\")","v":""}]
[{"$f":"IF(ISTEXT(ShareOfSearch_SERPS!C1867),ShareOfSearch_SERPS!C1867,\"\")","v":""},{"$f":"IF(ISTEXT(ShareOfSearch_SERPS!D1867),ShareOfSearch_SERPS!D1867,\"\")","v":""},{"$f":"IF(NOT(ISBLANK(ShareOfSearch_SERPS!A1867)),ShareOfSearch_SERPS!A1867,\"\")","v":""},{"$f":"IF(NOT(ISBLANK(ShareOfSearch_SERPS!G1867)),ShareOfSearch_SERPS!G1867,\"\")","v":""},{"$f":"IF(NOT(ISBLANK(ShareOfSearch_SERPS!K1867)),ShareOfSearch_SERPS!K1867,\"\")","v":""},{"$f":"IFERROR(VLOOKUP(C1867,ShareOfSearch_CTR!$A$1:$B$100,2,FALSE)*VLOOKUP(A1867&B1867,ShareOfSearch_Volume!$C$1:$D$1000,2,FALSE),\"\")","v":""}]
[{"$f":"IF(ISTEXT(ShareOfSearch_SERPS!C1868),ShareOfSearch_SERPS!C1868,\"\")","v":""},{"$f":"IF(ISTEXT(ShareOfSearch_SERPS!D1868),ShareOfSearch_SERPS!D1868,\"\")","v":""},{"$f":"IF(NOT(ISBLANK(ShareOfSearch_SERPS!A1868)),ShareOfSearch_SERPS!A1868,\"\")","v":""},{"$f":"IF(NOT(ISBLANK(ShareOfSearch_SERPS!G1868)),ShareOfSearch_SERPS!G1868,\"\")","v":""},{"$f":"IF(NOT(ISBLANK(ShareOfSearch_SERPS!K1868)),ShareOfSearch_SERPS!K1868,\"\")","v":""},{"$f":"IFERROR(VLOOKUP(C1868,ShareOfSearch_CTR!$A$1:$B$100,2,FALSE)*VLOOKUP(A1868&B1868,ShareOfSearch_Volume!$C$1:$D$1000,2,FALSE),\"\")","v":""}]
[{"$f":"IF(ISTEXT(ShareOfSearch_SERPS!C1869),ShareOfSearch_SERPS!C1869,\"\")","v":""},{"$f":"IF(ISTEXT(ShareOfSearch_SERPS!D1869),ShareOfSearch_SERPS!D1869,\"\")","v":""},{"$f":"IF(NOT(ISBLANK(ShareOfSearch_SERPS!A1869)),ShareOfSearch_SERPS!A1869,\"\")","v":""},{"$f":"IF(NOT(ISBLANK(ShareOfSearch_SERPS!G1869)),ShareOfSearch_SERPS!G1869,\"\")","v":""},{"$f":"IF(NOT(ISBLANK(ShareOfSearch_SERPS!K1869)),ShareOfSearch_SERPS!K1869,\"\")","v":""},{"$f":"IFERROR(VLOOKUP(C1869,ShareOfSearch_CTR!$A$1:$B$100,2,FALSE)*VLOOKUP(A1869&B1869,ShareOfSearch_Volume!$C$1:$D$1000,2,FALSE),\"\")","v":""}]
[{"$f":"IF(ISTEXT(ShareOfSearch_SERPS!C1870),ShareOfSearch_SERPS!C1870,\"\")","v":""},{"$f":"IF(ISTEXT(ShareOfSearch_SERPS!D1870),ShareOfSearch_SERPS!D1870,\"\")","v":""},{"$f":"IF(NOT(ISBLANK(ShareOfSearch_SERPS!A1870)),ShareOfSearch_SERPS!A1870,\"\")","v":""},{"$f":"IF(NOT(ISBLANK(ShareOfSearch_SERPS!G1870)),ShareOfSearch_SERPS!G1870,\"\")","v":""},{"$f":"IF(NOT(ISBLANK(ShareOfSearch_SERPS!K1870)),ShareOfSearch_SERPS!K1870,\"\")","v":""},{"$f":"IFERROR(VLOOKUP(C1870,ShareOfSearch_CTR!$A$1:$B$100,2,FALSE)*VLOOKUP(A1870&B1870,ShareOfSearch_Volume!$C$1:$D$1000,2,FALSE),\"\")","v":""}]
[{"$f":"IF(ISTEXT(ShareOfSearch_SERPS!C1871),ShareOfSearch_SERPS!C1871,\"\")","v":""},{"$f":"IF(ISTEXT(ShareOfSearch_SERPS!D1871),ShareOfSearch_SERPS!D1871,\"\")","v":""},{"$f":"IF(NOT(ISBLANK(ShareOfSearch_SERPS!A1871)),ShareOfSearch_SERPS!A1871,\"\")","v":""},{"$f":"IF(NOT(ISBLANK(ShareOfSearch_SERPS!G1871)),ShareOfSearch_SERPS!G1871,\"\")","v":""},{"$f":"IF(NOT(ISBLANK(ShareOfSearch_SERPS!K1871)),ShareOfSearch_SERPS!K1871,\"\")","v":""},{"$f":"IFERROR(VLOOKUP(C1871,ShareOfSearch_CTR!$A$1:$B$100,2,FALSE)*VLOOKUP(A1871&B1871,ShareOfSearch_Volume!$C$1:$D$1000,2,FALSE),\"\")","v":""}]
[{"$f":"IF(ISTEXT(ShareOfSearch_SERPS!C1872),ShareOfSearch_SERPS!C1872,\"\")","v":""},{"$f":"IF(ISTEXT(ShareOfSearch_SERPS!D1872),ShareOfSearch_SERPS!D1872,\"\")","v":""},{"$f":"IF(NOT(ISBLANK(ShareOfSearch_SERPS!A1872)),ShareOfSearch_SERPS!A1872,\"\")","v":""},{"$f":"IF(NOT(ISBLANK(ShareOfSearch_SERPS!G1872)),ShareOfSearch_SERPS!G1872,\"\")","v":""},{"$f":"IF(NOT(ISBLANK(ShareOfSearch_SERPS!K1872)),ShareOfSearch_SERPS!K1872,\"\")","v":""},{"$f":"IFERROR(VLOOKUP(C1872,ShareOfSearch_CTR!$A$1:$B$100,2,FALSE)*VLOOKUP(A1872&B1872,ShareOfSearch_Volume!$C$1:$D$1000,2,FALSE),\"\")","v":""}]
[{"$f":"IF(ISTEXT(ShareOfSearch_SERPS!C1873),ShareOfSearch_SERPS!C1873,\"\")","v":""},{"$f":"IF(ISTEXT(ShareOfSearch_SERPS!D1873),ShareOfSearch_SERPS!D1873,\"\")","v":""},{"$f":"IF(NOT(ISBLANK(ShareOfSearch_SERPS!A1873)),ShareOfSearch_SERPS!A1873,\"\")","v":""},{"$f":"IF(NOT(ISBLANK(ShareOfSearch_SERPS!G1873)),ShareOfSearch_SERPS!G1873,\"\")","v":""},{"$f":"IF(NOT(ISBLANK(ShareOfSearch_SERPS!K1873)),ShareOfSearch_SERPS!K1873,\"\")","v":""},{"$f":"IFERROR(VLOOKUP(C1873,ShareOfSearch_CTR!$A$1:$B$100,2,FALSE)*VLOOKUP(A1873&B1873,ShareOfSearch_Volume!$C$1:$D$1000,2,FALSE),\"\")","v":""}]
[{"$f":"IF(ISTEXT(ShareOfSearch_SERPS!C1874),ShareOfSearch_SERPS!C1874,\"\")","v":""},{"$f":"IF(ISTEXT(ShareOfSearch_SERPS!D1874),ShareOfSearch_SERPS!D1874,\"\")","v":""},{"$f":"IF(NOT(ISBLANK(ShareOfSearch_SERPS!A1874)),ShareOfSearch_SERPS!A1874,\"\")","v":""},{"$f":"IF(NOT(ISBLANK(ShareOfSearch_SERPS!G1874)),ShareOfSearch_SERPS!G1874,\"\")","v":""},{"$f":"IF(NOT(ISBLANK(ShareOfSearch_SERPS!K1874)),ShareOfSearch_SERPS!K1874,\"\")","v":""},{"$f":"IFERROR(VLOOKUP(C1874,ShareOfSearch_CTR!$A$1:$B$100,2,FALSE)*VLOOKUP(A1874&B1874,ShareOfSearch_Volume!$C$1:$D$1000,2,FALSE),\"\")","v":""}]
[{"$f":"IF(ISTEXT(ShareOfSearch_SERPS!C1875),ShareOfSearch_SERPS!C1875,\"\")","v":""},{"$f":"IF(ISTEXT(ShareOfSearch_SERPS!D1875),ShareOfSearch_SERPS!D1875,\"\")","v":""},{"$f":"IF(NOT(ISBLANK(ShareOfSearch_SERPS!A1875)),ShareOfSearch_SERPS!A1875,\"\")","v":""},{"$f":"IF(NOT(ISBLANK(ShareOfSearch_SERPS!G1875)),ShareOfSearch_SERPS!G1875,\"\")","v":""},{"$f":"IF(NOT(ISBLANK(ShareOfSearch_SERPS!K1875)),ShareOfSearch_SERPS!K1875,\"\")","v":""},{"$f":"IFERROR(VLOOKUP(C1875,ShareOfSearch_CTR!$A$1:$B$100,2,FALSE)*VLOOKUP(A1875&B1875,ShareOfSearch_Volume!$C$1:$D$1000,2,FALSE),\"\")","v":""}]
[{"$f":"IF(ISTEXT(ShareOfSearch_SERPS!C1876),ShareOfSearch_SERPS!C1876,\"\")","v":""},{"$f":"IF(ISTEXT(ShareOfSearch_SERPS!D1876),ShareOfSearch_SERPS!D1876,\"\")","v":""},{"$f":"IF(NOT(ISBLANK(ShareOfSearch_SERPS!A1876)),ShareOfSearch_SERPS!A1876,\"\")","v":""},{"$f":"IF(NOT(ISBLANK(ShareOfSearch_SERPS!G1876)),ShareOfSearch_SERPS!G1876,\"\")","v":""},{"$f":"IF(NOT(ISBLANK(ShareOfSearch_SERPS!K1876)),ShareOfSearch_SERPS!K1876,\"\")","v":""},{"$f":"IFERROR(VLOOKUP(C1876,ShareOfSearch_CTR!$A$1:$B$100,2,FALSE)*VLOOKUP(A1876&B1876,ShareOfSearch_Volume!$C$1:$D$1000,2,FALSE),\"\")","v":""}]
[{"$f":"IF(ISTEXT(ShareOfSearch_SERPS!C1877),ShareOfSearch_SERPS!C1877,\"\")","v":""},{"$f":"IF(ISTEXT(ShareOfSearch_SERPS!D1877),ShareOfSearch_SERPS!D1877,\"\")","v":""},{"$f":"IF(NOT(ISBLANK(ShareOfSearch_SERPS!A1877)),ShareOfSearch_SERPS!A1877,\"\")","v":""},{"$f":"IF(NOT(ISBLANK(ShareOfSearch_SERPS!G1877)),ShareOfSearch_SERPS!G1877,\"\")","v":""},{"$f":"IF(NOT(ISBLANK(ShareOfSearch_SERPS!K1877)),ShareOfSearch_SERPS!K1877,\"\")","v":""},{"$f":"IFERROR(VLOOKUP(C1877,ShareOfSearch_CTR!$A$1:$B$100,2,FALSE)*VLOOKUP(A1877&B1877,ShareOfSearch_Volume!$C$1:$D$1000,2,FALSE),\"\")","v":""}]
[{"$f":"IF(ISTEXT(ShareOfSearch_SERPS!C1878),ShareOfSearch_SERPS!C1878,\"\")","v":""},{"$f":"IF(ISTEXT(ShareOfSearch_SERPS!D1878),ShareOfSearch_SERPS!D1878,\"\")","v":""},{"$f":"IF(NOT(ISBLANK(ShareOfSearch_SERPS!A1878)),ShareOfSearch_SERPS!A1878,\"\")","v":""},{"$f":"IF(NOT(ISBLANK(ShareOfSearch_SERPS!G1878)),ShareOfSearch_SERPS!G1878,\"\")","v":""},{"$f":"IF(NOT(ISBLANK(ShareOfSearch_SERPS!K1878)),ShareOfSearch_SERPS!K1878,\"\")","v":""},{"$f":"IFERROR(VLOOKUP(C1878,ShareOfSearch_CTR!$A$1:$B$100,2,FALSE)*VLOOKUP(A1878&B1878,ShareOfSearch_Volume!$C$1:$D$1000,2,FALSE),\"\")","v":""}]
[{"$f":"IF(ISTEXT(ShareOfSearch_SERPS!C1879),ShareOfSearch_SERPS!C1879,\"\")","v":""},{"$f":"IF(ISTEXT(ShareOfSearch_SERPS!D1879),ShareOfSearch_SERPS!D1879,\"\")","v":""},{"$f":"IF(NOT(ISBLANK(ShareOfSearch_SERPS!A1879)),ShareOfSearch_SERPS!A1879,\"\")","v":""},{"$f":"IF(NOT(ISBLANK(ShareOfSearch_SERPS!G1879)),ShareOfSearch_SERPS!G1879,\"\")","v":""},{"$f":"IF(NOT(ISBLANK(ShareOfSearch_SERPS!K1879)),ShareOfSearch_SERPS!K1879,\"\")","v":""},{"$f":"IFERROR(VLOOKUP(C1879,ShareOfSearch_CTR!$A$1:$B$100,2,FALSE)*VLOOKUP(A1879&B1879,ShareOfSearch_Volume!$C$1:$D$1000,2,FALSE),\"\")","v":""}]
[{"$f":"IF(ISTEXT(ShareOfSearch_SERPS!C1880),ShareOfSearch_SERPS!C1880,\"\")","v":""},{"$f":"IF(ISTEXT(ShareOfSearch_SERPS!D1880),ShareOfSearch_SERPS!D1880,\"\")","v":""},{"$f":"IF(NOT(ISBLANK(ShareOfSearch_SERPS!A1880)),ShareOfSearch_SERPS!A1880,\"\")","v":""},{"$f":"IF(NOT(ISBLANK(ShareOfSearch_SERPS!G1880)),ShareOfSearch_SERPS!G1880,\"\")","v":""},{"$f":"IF(NOT(ISBLANK(ShareOfSearch_SERPS!K1880)),ShareOfSearch_SERPS!K1880,\"\")","v":""},{"$f":"IFERROR(VLOOKUP(C1880,ShareOfSearch_CTR!$A$1:$B$100,2,FALSE)*VLOOKUP(A1880&B1880,ShareOfSearch_Volume!$C$1:$D$1000,2,FALSE),\"\")","v":""}]
[{"$f":"IF(ISTEXT(ShareOfSearch_SERPS!C1881),ShareOfSearch_SERPS!C1881,\"\")","v":""},{"$f":"IF(ISTEXT(ShareOfSearch_SERPS!D1881),ShareOfSearch_SERPS!D1881,\"\")","v":""},{"$f":"IF(NOT(ISBLANK(ShareOfSearch_SERPS!A1881)),ShareOfSearch_SERPS!A1881,\"\")","v":""},{"$f":"IF(NOT(ISBLANK(ShareOfSearch_SERPS!G1881)),ShareOfSearch_SERPS!G1881,\"\")","v":""},{"$f":"IF(NOT(ISBLANK(ShareOfSearch_SERPS!K1881)),ShareOfSearch_SERPS!K1881,\"\")","v":""},{"$f":"IFERROR(VLOOKUP(C1881,ShareOfSearch_CTR!$A$1:$B$100,2,FALSE)*VLOOKUP(A1881&B1881,ShareOfSearch_Volume!$C$1:$D$1000,2,FALSE),\"\")","v":""}]
[{"$f":"IF(ISTEXT(ShareOfSearch_SERPS!C1882),ShareOfSearch_SERPS!C1882,\"\")","v":""},{"$f":"IF(ISTEXT(ShareOfSearch_SERPS!D1882),ShareOfSearch_SERPS!D1882,\"\")","v":""},{"$f":"IF(NOT(ISBLANK(ShareOfSearch_SERPS!A1882)),ShareOfSearch_SERPS!A1882,\"\")","v":""},{"$f":"IF(NOT(ISBLANK(ShareOfSearch_SERPS!G1882)),ShareOfSearch_SERPS!G1882,\"\")","v":""},{"$f":"IF(NOT(ISBLANK(ShareOfSearch_SERPS!K1882)),ShareOfSearch_SERPS!K1882,\"\")","v":""},{"$f":"IFERROR(VLOOKUP(C1882,ShareOfSearch_CTR!$A$1:$B$100,2,FALSE)*VLOOKUP(A1882&B1882,ShareOfSearch_Volume!$C$1:$D$1000,2,FALSE),\"\")","v":""}]
[{"$f":"IF(ISTEXT(ShareOfSearch_SERPS!C1883),ShareOfSearch_SERPS!C1883,\"\")","v":""},{"$f":"IF(ISTEXT(ShareOfSearch_SERPS!D1883),ShareOfSearch_SERPS!D1883,\"\")","v":""},{"$f":"IF(NOT(ISBLANK(ShareOfSearch_SERPS!A1883)),ShareOfSearch_SERPS!A1883,\"\")","v":""},{"$f":"IF(NOT(ISBLANK(ShareOfSearch_SERPS!G1883)),ShareOfSearch_SERPS!G1883,\"\")","v":""},{"$f":"IF(NOT(ISBLANK(ShareOfSearch_SERPS!K1883)),ShareOfSearch_SERPS!K1883,\"\")","v":""},{"$f":"IFERROR(VLOOKUP(C1883,ShareOfSearch_CTR!$A$1:$B$100,2,FALSE)*VLOOKUP(A1883&B1883,ShareOfSearch_Volume!$C$1:$D$1000,2,FALSE),\"\")","v":""}]
[{"$f":"IF(ISTEXT(ShareOfSearch_SERPS!C1884),ShareOfSearch_SERPS!C1884,\"\")","v":""},{"$f":"IF(ISTEXT(ShareOfSearch_SERPS!D1884),ShareOfSearch_SERPS!D1884,\"\")","v":""},{"$f":"IF(NOT(ISBLANK(ShareOfSearch_SERPS!A1884)),ShareOfSearch_SERPS!A1884,\"\")","v":""},{"$f":"IF(NOT(ISBLANK(ShareOfSearch_SERPS!G1884)),ShareOfSearch_SERPS!G1884,\"\")","v":""},{"$f":"IF(NOT(ISBLANK(ShareOfSearch_SERPS!K1884)),ShareOfSearch_SERPS!K1884,\"\")","v":""},{"$f":"IFERROR(VLOOKUP(C1884,ShareOfSearch_CTR!$A$1:$B$100,2,FALSE)*VLOOKUP(A1884&B1884,ShareOfSearch_Volume!$C$1:$D$1000,2,FALSE),\"\")","v":""}]
[{"$f":"IF(ISTEXT(ShareOfSearch_SERPS!C1885),ShareOfSearch_SERPS!C1885,\"\")","v":""},{"$f":"IF(ISTEXT(ShareOfSearch_SERPS!D1885),ShareOfSearch_SERPS!D1885,\"\")","v":""},{"$f":"IF(NOT(ISBLANK(ShareOfSearch_SERPS!A1885)),ShareOfSearch_SERPS!A1885,\"\")","v":""},{"$f":"IF(NOT(ISBLANK(ShareOfSearch_SERPS!G1885)),ShareOfSearch_SERPS!G1885,\"\")","v":""},{"$f":"IF(NOT(ISBLANK(ShareOfSearch_SERPS!K1885)),ShareOfSearch_SERPS!K1885,\"\")","v":""},{"$f":"IFERROR(VLOOKUP(C1885,ShareOfSearch_CTR!$A$1:$B$100,2,FALSE)*VLOOKUP(A1885&B1885,ShareOfSearch_Volume!$C$1:$D$1000,2,FALSE),\"\")","v":""}]
[{"$f":"IF(ISTEXT(ShareOfSearch_SERPS!C1886),ShareOfSearch_SERPS!C1886,\"\")","v":""},{"$f":"IF(ISTEXT(ShareOfSearch_SERPS!D1886),ShareOfSearch_SERPS!D1886,\"\")","v":""},{"$f":"IF(NOT(ISBLANK(ShareOfSearch_SERPS!A1886)),ShareOfSearch_SERPS!A1886,\"\")","v":""},{"$f":"IF(NOT(ISBLANK(ShareOfSearch_SERPS!G1886)),ShareOfSearch_SERPS!G1886,\"\")","v":""},{"$f":"IF(NOT(ISBLANK(ShareOfSearch_SERPS!K1886)),ShareOfSearch_SERPS!K1886,\"\")","v":""},{"$f":"IFERROR(VLOOKUP(C1886,ShareOfSearch_CTR!$A$1:$B$100,2,FALSE)*VLOOKUP(A1886&B1886,ShareOfSearch_Volume!$C$1:$D$1000,2,FALSE),\"\")","v":""}]
[{"$f":"IF(ISTEXT(ShareOfSearch_SERPS!C1887),ShareOfSearch_SERPS!C1887,\"\")","v":""},{"$f":"IF(ISTEXT(ShareOfSearch_SERPS!D1887),ShareOfSearch_SERPS!D1887,\"\")","v":""},{"$f":"IF(NOT(ISBLANK(ShareOfSearch_SERPS!A1887)),ShareOfSearch_SERPS!A1887,\"\")","v":""},{"$f":"IF(NOT(ISBLANK(ShareOfSearch_SERPS!G1887)),ShareOfSearch_SERPS!G1887,\"\")","v":""},{"$f":"IF(NOT(ISBLANK(ShareOfSearch_SERPS!K1887)),ShareOfSearch_SERPS!K1887,\"\")","v":""},{"$f":"IFERROR(VLOOKUP(C1887,ShareOfSearch_CTR!$A$1:$B$100,2,FALSE)*VLOOKUP(A1887&B1887,ShareOfSearch_Volume!$C$1:$D$1000,2,FALSE),\"\")","v":""}]
[{"$f":"IF(ISTEXT(ShareOfSearch_SERPS!C1888),ShareOfSearch_SERPS!C1888,\"\")","v":""},{"$f":"IF(ISTEXT(ShareOfSearch_SERPS!D1888),ShareOfSearch_SERPS!D1888,\"\")","v":""},{"$f":"IF(NOT(ISBLANK(ShareOfSearch_SERPS!A1888)),ShareOfSearch_SERPS!A1888,\"\")","v":""},{"$f":"IF(NOT(ISBLANK(ShareOfSearch_SERPS!G1888)),ShareOfSearch_SERPS!G1888,\"\")","v":""},{"$f":"IF(NOT(ISBLANK(ShareOfSearch_SERPS!K1888)),ShareOfSearch_SERPS!K1888,\"\")","v":""},{"$f":"IFERROR(VLOOKUP(C1888,ShareOfSearch_CTR!$A$1:$B$100,2,FALSE)*VLOOKUP(A1888&B1888,ShareOfSearch_Volume!$C$1:$D$1000,2,FALSE),\"\")","v":""}]
[{"$f":"IF(ISTEXT(ShareOfSearch_SERPS!C1889),ShareOfSearch_SERPS!C1889,\"\")","v":""},{"$f":"IF(ISTEXT(ShareOfSearch_SERPS!D1889),ShareOfSearch_SERPS!D1889,\"\")","v":""},{"$f":"IF(NOT(ISBLANK(ShareOfSearch_SERPS!A1889)),ShareOfSearch_SERPS!A1889,\"\")","v":""},{"$f":"IF(NOT(ISBLANK(ShareOfSearch_SERPS!G1889)),ShareOfSearch_SERPS!G1889,\"\")","v":""},{"$f":"IF(NOT(ISBLANK(ShareOfSearch_SERPS!K1889)),ShareOfSearch_SERPS!K1889,\"\")","v":""},{"$f":"IFERROR(VLOOKUP(C1889,ShareOfSearch_CTR!$A$1:$B$100,2,FALSE)*VLOOKUP(A1889&B1889,ShareOfSearch_Volume!$C$1:$D$1000,2,FALSE),\"\")","v":""}]
[{"$f":"IF(ISTEXT(ShareOfSearch_SERPS!C1890),ShareOfSearch_SERPS!C1890,\"\")","v":""},{"$f":"IF(ISTEXT(ShareOfSearch_SERPS!D1890),ShareOfSearch_SERPS!D1890,\"\")","v":""},{"$f":"IF(NOT(ISBLANK(ShareOfSearch_SERPS!A1890)),ShareOfSearch_SERPS!A1890,\"\")","v":""},{"$f":"IF(NOT(ISBLANK(ShareOfSearch_SERPS!G1890)),ShareOfSearch_SERPS!G1890,\"\")","v":""},{"$f":"IF(NOT(ISBLANK(ShareOfSearch_SERPS!K1890)),ShareOfSearch_SERPS!K1890,\"\")","v":""},{"$f":"IFERROR(VLOOKUP(C1890,ShareOfSearch_CTR!$A$1:$B$100,2,FALSE)*VLOOKUP(A1890&B1890,ShareOfSearch_Volume!$C$1:$D$1000,2,FALSE),\"\")","v":""}]
[{"$f":"IF(ISTEXT(ShareOfSearch_SERPS!C1891),ShareOfSearch_SERPS!C1891,\"\")","v":""},{"$f":"IF(ISTEXT(ShareOfSearch_SERPS!D1891),ShareOfSearch_SERPS!D1891,\"\")","v":""},{"$f":"IF(NOT(ISBLANK(ShareOfSearch_SERPS!A1891)),ShareOfSearch_SERPS!A1891,\"\")","v":""},{"$f":"IF(NOT(ISBLANK(ShareOfSearch_SERPS!G1891)),ShareOfSearch_SERPS!G1891,\"\")","v":""},{"$f":"IF(NOT(ISBLANK(ShareOfSearch_SERPS!K1891)),ShareOfSearch_SERPS!K1891,\"\")","v":""},{"$f":"IFERROR(VLOOKUP(C1891,ShareOfSearch_CTR!$A$1:$B$100,2,FALSE)*VLOOKUP(A1891&B1891,ShareOfSearch_Volume!$C$1:$D$1000,2,FALSE),\"\")","v":""}]
[{"$f":"IF(ISTEXT(ShareOfSearch_SERPS!C1892),ShareOfSearch_SERPS!C1892,\"\")","v":""},{"$f":"IF(ISTEXT(ShareOfSearch_SERPS!D1892),ShareOfSearch_SERPS!D1892,\"\")","v":""},{"$f":"IF(NOT(ISBLANK(ShareOfSearch_SERPS!A1892)),ShareOfSearch_SERPS!A1892,\"\")","v":""},{"$f":"IF(NOT(ISBLANK(ShareOfSearch_SERPS!G1892)),ShareOfSearch_SERPS!G1892,\"\")","v":""},{"$f":"IF(NOT(ISBLANK(ShareOfSearch_SERPS!K1892)),ShareOfSearch_SERPS!K1892,\"\")","v":""},{"$f":"IFERROR(VLOOKUP(C1892,ShareOfSearch_CTR!$A$1:$B$100,2,FALSE)*VLOOKUP(A1892&B1892,ShareOfSearch_Volume!$C$1:$D$1000,2,FALSE),\"\")","v":""}]
[{"$f":"IF(ISTEXT(ShareOfSearch_SERPS!C1893),ShareOfSearch_SERPS!C1893,\"\")","v":""},{"$f":"IF(ISTEXT(ShareOfSearch_SERPS!D1893),ShareOfSearch_SERPS!D1893,\"\")","v":""},{"$f":"IF(NOT(ISBLANK(ShareOfSearch_SERPS!A1893)),ShareOfSearch_SERPS!A1893,\"\")","v":""},{"$f":"IF(NOT(ISBLANK(ShareOfSearch_SERPS!G1893)),ShareOfSearch_SERPS!G1893,\"\")","v":""},{"$f":"IF(NOT(ISBLANK(ShareOfSearch_SERPS!K1893)),ShareOfSearch_SERPS!K1893,\"\")","v":""},{"$f":"IFERROR(VLOOKUP(C1893,ShareOfSearch_CTR!$A$1:$B$100,2,FALSE)*VLOOKUP(A1893&B1893,ShareOfSearch_Volume!$C$1:$D$1000,2,FALSE),\"\")","v":""}]
[{"$f":"IF(ISTEXT(ShareOfSearch_SERPS!C1894),ShareOfSearch_SERPS!C1894,\"\")","v":""},{"$f":"IF(ISTEXT(ShareOfSearch_SERPS!D1894),ShareOfSearch_SERPS!D1894,\"\")","v":""},{"$f":"IF(NOT(ISBLANK(ShareOfSearch_SERPS!A1894)),ShareOfSearch_SERPS!A1894,\"\")","v":""},{"$f":"IF(NOT(ISBLANK(ShareOfSearch_SERPS!G1894)),ShareOfSearch_SERPS!G1894,\"\")","v":""},{"$f":"IF(NOT(ISBLANK(ShareOfSearch_SERPS!K1894)),ShareOfSearch_SERPS!K1894,\"\")","v":""},{"$f":"IFERROR(VLOOKUP(C1894,ShareOfSearch_CTR!$A$1:$B$100,2,FALSE)*VLOOKUP(A1894&B1894,ShareOfSearch_Volume!$C$1:$D$1000,2,FALSE),\"\")","v":""}]
[{"$f":"IF(ISTEXT(ShareOfSearch_SERPS!C1895),ShareOfSearch_SERPS!C1895,\"\")","v":""},{"$f":"IF(ISTEXT(ShareOfSearch_SERPS!D1895),ShareOfSearch_SERPS!D1895,\"\")","v":""},{"$f":"IF(NOT(ISBLANK(ShareOfSearch_SERPS!A1895)),ShareOfSearch_SERPS!A1895,\"\")","v":""},{"$f":"IF(NOT(ISBLANK(ShareOfSearch_SERPS!G1895)),ShareOfSearch_SERPS!G1895,\"\")","v":""},{"$f":"IF(NOT(ISBLANK(ShareOfSearch_SERPS!K1895)),ShareOfSearch_SERPS!K1895,\"\")","v":""},{"$f":"IFERROR(VLOOKUP(C1895,ShareOfSearch_CTR!$A$1:$B$100,2,FALSE)*VLOOKUP(A1895&B1895,ShareOfSearch_Volume!$C$1:$D$1000,2,FALSE),\"\")","v":""}]
[{"$f":"IF(ISTEXT(ShareOfSearch_SERPS!C1896),ShareOfSearch_SERPS!C1896,\"\")","v":""},{"$f":"IF(ISTEXT(ShareOfSearch_SERPS!D1896),ShareOfSearch_SERPS!D1896,\"\")","v":""},{"$f":"IF(NOT(ISBLANK(ShareOfSearch_SERPS!A1896)),ShareOfSearch_SERPS!A1896,\"\")","v":""},{"$f":"IF(NOT(ISBLANK(ShareOfSearch_SERPS!G1896)),ShareOfSearch_SERPS!G1896,\"\")","v":""},{"$f":"IF(NOT(ISBLANK(ShareOfSearch_SERPS!K1896)),ShareOfSearch_SERPS!K1896,\"\")","v":""},{"$f":"IFERROR(VLOOKUP(C1896,ShareOfSearch_CTR!$A$1:$B$100,2,FALSE)*VLOOKUP(A1896&B1896,ShareOfSearch_Volume!$C$1:$D$1000,2,FALSE),\"\")","v":""}]
[{"$f":"IF(ISTEXT(ShareOfSearch_SERPS!C1897),ShareOfSearch_SERPS!C1897,\"\")","v":""},{"$f":"IF(ISTEXT(ShareOfSearch_SERPS!D1897),ShareOfSearch_SERPS!D1897,\"\")","v":""},{"$f":"IF(NOT(ISBLANK(ShareOfSearch_SERPS!A1897)),ShareOfSearch_SERPS!A1897,\"\")","v":""},{"$f":"IF(NOT(ISBLANK(ShareOfSearch_SERPS!G1897)),ShareOfSearch_SERPS!G1897,\"\")","v":""},{"$f":"IF(NOT(ISBLANK(ShareOfSearch_SERPS!K1897)),ShareOfSearch_SERPS!K1897,\"\")","v":""},{"$f":"IFERROR(VLOOKUP(C1897,ShareOfSearch_CTR!$A$1:$B$100,2,FALSE)*VLOOKUP(A1897&B1897,ShareOfSearch_Volume!$C$1:$D$1000,2,FALSE),\"\")","v":""}]
[{"$f":"IF(ISTEXT(ShareOfSearch_SERPS!C1898),ShareOfSearch_SERPS!C1898,\"\")","v":""},{"$f":"IF(ISTEXT(ShareOfSearch_SERPS!D1898),ShareOfSearch_SERPS!D1898,\"\")","v":""},{"$f":"IF(NOT(ISBLANK(ShareOfSearch_SERPS!A1898)),ShareOfSearch_SERPS!A1898,\"\")","v":""},{"$f":"IF(NOT(ISBLANK(ShareOfSearch_SERPS!G1898)),ShareOfSearch_SERPS!G1898,\"\")","v":""},{"$f":"IF(NOT(ISBLANK(ShareOfSearch_SERPS!K1898)),ShareOfSearch_SERPS!K1898,\"\")","v":""},{"$f":"IFERROR(VLOOKUP(C1898,ShareOfSearch_CTR!$A$1:$B$100,2,FALSE)*VLOOKUP(A1898&B1898,ShareOfSearch_Volume!$C$1:$D$1000,2,FALSE),\"\")","v":""}]
[{"$f":"IF(ISTEXT(ShareOfSearch_SERPS!C1899),ShareOfSearch_SERPS!C1899,\"\")","v":""},{"$f":"IF(ISTEXT(ShareOfSearch_SERPS!D1899),ShareOfSearch_SERPS!D1899,\"\")","v":""},{"$f":"IF(NOT(ISBLANK(ShareOfSearch_SERPS!A1899)),ShareOfSearch_SERPS!A1899,\"\")","v":""},{"$f":"IF(NOT(ISBLANK(ShareOfSearch_SERPS!G1899)),ShareOfSearch_SERPS!G1899,\"\")","v":""},{"$f":"IF(NOT(ISBLANK(ShareOfSearch_SERPS!K1899)),ShareOfSearch_SERPS!K1899,\"\")","v":""},{"$f":"IFERROR(VLOOKUP(C1899,ShareOfSearch_CTR!$A$1:$B$100,2,FALSE)*VLOOKUP(A1899&B1899,ShareOfSearch_Volume!$C$1:$D$1000,2,FALSE),\"\")","v":""}]
[{"$f":"IF(ISTEXT(ShareOfSearch_SERPS!C1900),ShareOfSearch_SERPS!C1900,\"\")","v":""},{"$f":"IF(ISTEXT(ShareOfSearch_SERPS!D1900),ShareOfSearch_SERPS!D1900,\"\")","v":""},{"$f":"IF(NOT(ISBLANK(ShareOfSearch_SERPS!A1900)),ShareOfSearch_SERPS!A1900,\"\")","v":""},{"$f":"IF(NOT(ISBLANK(ShareOfSearch_SERPS!G1900)),ShareOfSearch_SERPS!G1900,\"\")","v":""},{"$f":"IF(NOT(ISBLANK(ShareOfSearch_SERPS!K1900)),ShareOfSearch_SERPS!K1900,\"\")","v":""},{"$f":"IFERROR(VLOOKUP(C1900,ShareOfSearch_CTR!$A$1:$B$100,2,FALSE)*VLOOKUP(A1900&B1900,ShareOfSearch_Volume!$C$1:$D$1000,2,FALSE),\"\")","v":""}]
[{"$f":"IF(ISTEXT(ShareOfSearch_SERPS!C1901),ShareOfSearch_SERPS!C1901,\"\")","v":""},{"$f":"IF(ISTEXT(ShareOfSearch_SERPS!D1901),ShareOfSearch_SERPS!D1901,\"\")","v":""},{"$f":"IF(NOT(ISBLANK(ShareOfSearch_SERPS!A1901)),ShareOfSearch_SERPS!A1901,\"\")","v":""},{"$f":"IF(NOT(ISBLANK(ShareOfSearch_SERPS!G1901)),ShareOfSearch_SERPS!G1901,\"\")","v":""},{"$f":"IF(NOT(ISBLANK(ShareOfSearch_SERPS!K1901)),ShareOfSearch_SERPS!K1901,\"\")","v":""},{"$f":"IFERROR(VLOOKUP(C1901,ShareOfSearch_CTR!$A$1:$B$100,2,FALSE)*VLOOKUP(A1901&B1901,ShareOfSearch_Volume!$C$1:$D$1000,2,FALSE),\"\")","v":""}]
[{"$f":"IF(ISTEXT(ShareOfSearch_SERPS!C1902),ShareOfSearch_SERPS!C1902,\"\")","v":""},{"$f":"IF(ISTEXT(ShareOfSearch_SERPS!D1902),ShareOfSearch_SERPS!D1902,\"\")","v":""},{"$f":"IF(NOT(ISBLANK(ShareOfSearch_SERPS!A1902)),ShareOfSearch_SERPS!A1902,\"\")","v":""},{"$f":"IF(NOT(ISBLANK(ShareOfSearch_SERPS!G1902)),ShareOfSearch_SERPS!G1902,\"\")","v":""},{"$f":"IF(NOT(ISBLANK(ShareOfSearch_SERPS!K1902)),ShareOfSearch_SERPS!K1902,\"\")","v":""},{"$f":"IFERROR(VLOOKUP(C1902,ShareOfSearch_CTR!$A$1:$B$100,2,FALSE)*VLOOKUP(A1902&B1902,ShareOfSearch_Volume!$C$1:$D$1000,2,FALSE),\"\")","v":""}]
[{"$f":"IF(ISTEXT(ShareOfSearch_SERPS!C1903),ShareOfSearch_SERPS!C1903,\"\")","v":""},{"$f":"IF(ISTEXT(ShareOfSearch_SERPS!D1903),ShareOfSearch_SERPS!D1903,\"\")","v":""},{"$f":"IF(NOT(ISBLANK(ShareOfSearch_SERPS!A1903)),ShareOfSearch_SERPS!A1903,\"\")","v":""},{"$f":"IF(NOT(ISBLANK(ShareOfSearch_SERPS!G1903)),ShareOfSearch_SERPS!G1903,\"\")","v":""},{"$f":"IF(NOT(ISBLANK(ShareOfSearch_SERPS!K1903)),ShareOfSearch_SERPS!K1903,\"\")","v":""},{"$f":"IFERROR(VLOOKUP(C1903,ShareOfSearch_CTR!$A$1:$B$100,2,FALSE)*VLOOKUP(A1903&B1903,ShareOfSearch_Volume!$C$1:$D$1000,2,FALSE),\"\")","v":""}]
[{"$f":"IF(ISTEXT(ShareOfSearch_SERPS!C1904),ShareOfSearch_SERPS!C1904,\"\")","v":""},{"$f":"IF(ISTEXT(ShareOfSearch_SERPS!D1904),ShareOfSearch_SERPS!D1904,\"\")","v":""},{"$f":"IF(NOT(ISBLANK(ShareOfSearch_SERPS!A1904)),ShareOfSearch_SERPS!A1904,\"\")","v":""},{"$f":"IF(NOT(ISBLANK(ShareOfSearch_SERPS!G1904)),ShareOfSearch_SERPS!G1904,\"\")","v":""},{"$f":"IF(NOT(ISBLANK(ShareOfSearch_SERPS!K1904)),ShareOfSearch_SERPS!K1904,\"\")","v":""},{"$f":"IFERROR(VLOOKUP(C1904,ShareOfSearch_CTR!$A$1:$B$100,2,FALSE)*VLOOKUP(A1904&B1904,ShareOfSearch_Volume!$C$1:$D$1000,2,FALSE),\"\")","v":""}]
[{"$f":"IF(ISTEXT(ShareOfSearch_SERPS!C1905),ShareOfSearch_SERPS!C1905,\"\")","v":""},{"$f":"IF(ISTEXT(ShareOfSearch_SERPS!D1905),ShareOfSearch_SERPS!D1905,\"\")","v":""},{"$f":"IF(NOT(ISBLANK(ShareOfSearch_SERPS!A1905)),ShareOfSearch_SERPS!A1905,\"\")","v":""},{"$f":"IF(NOT(ISBLANK(ShareOfSearch_SERPS!G1905)),ShareOfSearch_SERPS!G1905,\"\")","v":""},{"$f":"IF(NOT(ISBLANK(ShareOfSearch_SERPS!K1905)),ShareOfSearch_SERPS!K1905,\"\")","v":""},{"$f":"IFERROR(VLOOKUP(C1905,ShareOfSearch_CTR!$A$1:$B$100,2,FALSE)*VLOOKUP(A1905&B1905,ShareOfSearch_Volume!$C$1:$D$1000,2,FALSE),\"\")","v":""}]
[{"$f":"IF(ISTEXT(ShareOfSearch_SERPS!C1906),ShareOfSearch_SERPS!C1906,\"\")","v":""},{"$f":"IF(ISTEXT(ShareOfSearch_SERPS!D1906),ShareOfSearch_SERPS!D1906,\"\")","v":""},{"$f":"IF(NOT(ISBLANK(ShareOfSearch_SERPS!A1906)),ShareOfSearch_SERPS!A1906,\"\")","v":""},{"$f":"IF(NOT(ISBLANK(ShareOfSearch_SERPS!G1906)),ShareOfSearch_SERPS!G1906,\"\")","v":""},{"$f":"IF(NOT(ISBLANK(ShareOfSearch_SERPS!K1906)),ShareOfSearch_SERPS!K1906,\"\")","v":""},{"$f":"IFERROR(VLOOKUP(C1906,ShareOfSearch_CTR!$A$1:$B$100,2,FALSE)*VLOOKUP(A1906&B1906,ShareOfSearch_Volume!$C$1:$D$1000,2,FALSE),\"\")","v":""}]
[{"$f":"IF(ISTEXT(ShareOfSearch_SERPS!C1907),ShareOfSearch_SERPS!C1907,\"\")","v":""},{"$f":"IF(ISTEXT(ShareOfSearch_SERPS!D1907),ShareOfSearch_SERPS!D1907,\"\")","v":""},{"$f":"IF(NOT(ISBLANK(ShareOfSearch_SERPS!A1907)),ShareOfSearch_SERPS!A1907,\"\")","v":""},{"$f":"IF(NOT(ISBLANK(ShareOfSearch_SERPS!G1907)),ShareOfSearch_SERPS!G1907,\"\")","v":""},{"$f":"IF(NOT(ISBLANK(ShareOfSearch_SERPS!K1907)),ShareOfSearch_SERPS!K1907,\"\")","v":""},{"$f":"IFERROR(VLOOKUP(C1907,ShareOfSearch_CTR!$A$1:$B$100,2,FALSE)*VLOOKUP(A1907&B1907,ShareOfSearch_Volume!$C$1:$D$1000,2,FALSE),\"\")","v":""}]
[{"$f":"IF(ISTEXT(ShareOfSearch_SERPS!C1908),ShareOfSearch_SERPS!C1908,\"\")","v":""},{"$f":"IF(ISTEXT(ShareOfSearch_SERPS!D1908),ShareOfSearch_SERPS!D1908,\"\")","v":""},{"$f":"IF(NOT(ISBLANK(ShareOfSearch_SERPS!A1908)),ShareOfSearch_SERPS!A1908,\"\")","v":""},{"$f":"IF(NOT(ISBLANK(ShareOfSearch_SERPS!G1908)),ShareOfSearch_SERPS!G1908,\"\")","v":""},{"$f":"IF(NOT(ISBLANK(ShareOfSearch_SERPS!K1908)),ShareOfSearch_SERPS!K1908,\"\")","v":""},{"$f":"IFERROR(VLOOKUP(C1908,ShareOfSearch_CTR!$A$1:$B$100,2,FALSE)*VLOOKUP(A1908&B1908,ShareOfSearch_Volume!$C$1:$D$1000,2,FALSE),\"\")","v":""}]
[{"$f":"IF(ISTEXT(ShareOfSearch_SERPS!C1909),ShareOfSearch_SERPS!C1909,\"\")","v":""},{"$f":"IF(ISTEXT(ShareOfSearch_SERPS!D1909),ShareOfSearch_SERPS!D1909,\"\")","v":""},{"$f":"IF(NOT(ISBLANK(ShareOfSearch_SERPS!A1909)),ShareOfSearch_SERPS!A1909,\"\")","v":""},{"$f":"IF(NOT(ISBLANK(ShareOfSearch_SERPS!G1909)),ShareOfSearch_SERPS!G1909,\"\")","v":""},{"$f":"IF(NOT(ISBLANK(ShareOfSearch_SERPS!K1909)),ShareOfSearch_SERPS!K1909,\"\")","v":""},{"$f":"IFERROR(VLOOKUP(C1909,ShareOfSearch_CTR!$A$1:$B$100,2,FALSE)*VLOOKUP(A1909&B1909,ShareOfSearch_Volume!$C$1:$D$1000,2,FALSE),\"\")","v":""}]
[{"$f":"IF(ISTEXT(ShareOfSearch_SERPS!C1910),ShareOfSearch_SERPS!C1910,\"\")","v":""},{"$f":"IF(ISTEXT(ShareOfSearch_SERPS!D1910),ShareOfSearch_SERPS!D1910,\"\")","v":""},{"$f":"IF(NOT(ISBLANK(ShareOfSearch_SERPS!A1910)),ShareOfSearch_SERPS!A1910,\"\")","v":""},{"$f":"IF(NOT(ISBLANK(ShareOfSearch_SERPS!G1910)),ShareOfSearch_SERPS!G1910,\"\")","v":""},{"$f":"IF(NOT(ISBLANK(ShareOfSearch_SERPS!K1910)),ShareOfSearch_SERPS!K1910,\"\")","v":""},{"$f":"IFERROR(VLOOKUP(C1910,ShareOfSearch_CTR!$A$1:$B$100,2,FALSE)*VLOOKUP(A1910&B1910,ShareOfSearch_Volume!$C$1:$D$1000,2,FALSE),\"\")","v":""}]
[{"$f":"IF(ISTEXT(ShareOfSearch_SERPS!C1911),ShareOfSearch_SERPS!C1911,\"\")","v":""},{"$f":"IF(ISTEXT(ShareOfSearch_SERPS!D1911),ShareOfSearch_SERPS!D1911,\"\")","v":""},{"$f":"IF(NOT(ISBLANK(ShareOfSearch_SERPS!A1911)),ShareOfSearch_SERPS!A1911,\"\")","v":""},{"$f":"IF(NOT(ISBLANK(ShareOfSearch_SERPS!G1911)),ShareOfSearch_SERPS!G1911,\"\")","v":""},{"$f":"IF(NOT(ISBLANK(ShareOfSearch_SERPS!K1911)),ShareOfSearch_SERPS!K1911,\"\")","v":""},{"$f":"IFERROR(VLOOKUP(C1911,ShareOfSearch_CTR!$A$1:$B$100,2,FALSE)*VLOOKUP(A1911&B1911,ShareOfSearch_Volume!$C$1:$D$1000,2,FALSE),\"\")","v":""}]
[{"$f":"IF(ISTEXT(ShareOfSearch_SERPS!C1912),ShareOfSearch_SERPS!C1912,\"\")","v":""},{"$f":"IF(ISTEXT(ShareOfSearch_SERPS!D1912),ShareOfSearch_SERPS!D1912,\"\")","v":""},{"$f":"IF(NOT(ISBLANK(ShareOfSearch_SERPS!A1912)),ShareOfSearch_SERPS!A1912,\"\")","v":""},{"$f":"IF(NOT(ISBLANK(ShareOfSearch_SERPS!G1912)),ShareOfSearch_SERPS!G1912,\"\")","v":""},{"$f":"IF(NOT(ISBLANK(ShareOfSearch_SERPS!K1912)),ShareOfSearch_SERPS!K1912,\"\")","v":""},{"$f":"IFERROR(VLOOKUP(C1912,ShareOfSearch_CTR!$A$1:$B$100,2,FALSE)*VLOOKUP(A1912&B1912,ShareOfSearch_Volume!$C$1:$D$1000,2,FALSE),\"\")","v":""}]
[{"$f":"IF(ISTEXT(ShareOfSearch_SERPS!C1913),ShareOfSearch_SERPS!C1913,\"\")","v":""},{"$f":"IF(ISTEXT(ShareOfSearch_SERPS!D1913),ShareOfSearch_SERPS!D1913,\"\")","v":""},{"$f":"IF(NOT(ISBLANK(ShareOfSearch_SERPS!A1913)),ShareOfSearch_SERPS!A1913,\"\")","v":""},{"$f":"IF(NOT(ISBLANK(ShareOfSearch_SERPS!G1913)),ShareOfSearch_SERPS!G1913,\"\")","v":""},{"$f":"IF(NOT(ISBLANK(ShareOfSearch_SERPS!K1913)),ShareOfSearch_SERPS!K1913,\"\")","v":""},{"$f":"IFERROR(VLOOKUP(C1913,ShareOfSearch_CTR!$A$1:$B$100,2,FALSE)*VLOOKUP(A1913&B1913,ShareOfSearch_Volume!$C$1:$D$1000,2,FALSE),\"\")","v":""}]
[{"$f":"IF(ISTEXT(ShareOfSearch_SERPS!C1914),ShareOfSearch_SERPS!C1914,\"\")","v":""},{"$f":"IF(ISTEXT(ShareOfSearch_SERPS!D1914),ShareOfSearch_SERPS!D1914,\"\")","v":""},{"$f":"IF(NOT(ISBLANK(ShareOfSearch_SERPS!A1914)),ShareOfSearch_SERPS!A1914,\"\")","v":""},{"$f":"IF(NOT(ISBLANK(ShareOfSearch_SERPS!G1914)),ShareOfSearch_SERPS!G1914,\"\")","v":""},{"$f":"IF(NOT(ISBLANK(ShareOfSearch_SERPS!K1914)),ShareOfSearch_SERPS!K1914,\"\")","v":""},{"$f":"IFERROR(VLOOKUP(C1914,ShareOfSearch_CTR!$A$1:$B$100,2,FALSE)*VLOOKUP(A1914&B1914,ShareOfSearch_Volume!$C$1:$D$1000,2,FALSE),\"\")","v":""}]
[{"$f":"IF(ISTEXT(ShareOfSearch_SERPS!C1915),ShareOfSearch_SERPS!C1915,\"\")","v":""},{"$f":"IF(ISTEXT(ShareOfSearch_SERPS!D1915),ShareOfSearch_SERPS!D1915,\"\")","v":""},{"$f":"IF(NOT(ISBLANK(ShareOfSearch_SERPS!A1915)),ShareOfSearch_SERPS!A1915,\"\")","v":""},{"$f":"IF(NOT(ISBLANK(ShareOfSearch_SERPS!G1915)),ShareOfSearch_SERPS!G1915,\"\")","v":""},{"$f":"IF(NOT(ISBLANK(ShareOfSearch_SERPS!K1915)),ShareOfSearch_SERPS!K1915,\"\")","v":""},{"$f":"IFERROR(VLOOKUP(C1915,ShareOfSearch_CTR!$A$1:$B$100,2,FALSE)*VLOOKUP(A1915&B1915,ShareOfSearch_Volume!$C$1:$D$1000,2,FALSE),\"\")","v":""}]
[{"$f":"IF(ISTEXT(ShareOfSearch_SERPS!C1916),ShareOfSearch_SERPS!C1916,\"\")","v":""},{"$f":"IF(ISTEXT(ShareOfSearch_SERPS!D1916),ShareOfSearch_SERPS!D1916,\"\")","v":""},{"$f":"IF(NOT(ISBLANK(ShareOfSearch_SERPS!A1916)),ShareOfSearch_SERPS!A1916,\"\")","v":""},{"$f":"IF(NOT(ISBLANK(ShareOfSearch_SERPS!G1916)),ShareOfSearch_SERPS!G1916,\"\")","v":""},{"$f":"IF(NOT(ISBLANK(ShareOfSearch_SERPS!K1916)),ShareOfSearch_SERPS!K1916,\"\")","v":""},{"$f":"IFERROR(VLOOKUP(C1916,ShareOfSearch_CTR!$A$1:$B$100,2,FALSE)*VLOOKUP(A1916&B1916,ShareOfSearch_Volume!$C$1:$D$1000,2,FALSE),\"\")","v":""}]
[{"$f":"IF(ISTEXT(ShareOfSearch_SERPS!C1917),ShareOfSearch_SERPS!C1917,\"\")","v":""},{"$f":"IF(ISTEXT(ShareOfSearch_SERPS!D1917),ShareOfSearch_SERPS!D1917,\"\")","v":""},{"$f":"IF(NOT(ISBLANK(ShareOfSearch_SERPS!A1917)),ShareOfSearch_SERPS!A1917,\"\")","v":""},{"$f":"IF(NOT(ISBLANK(ShareOfSearch_SERPS!G1917)),ShareOfSearch_SERPS!G1917,\"\")","v":""},{"$f":"IF(NOT(ISBLANK(ShareOfSearch_SERPS!K1917)),ShareOfSearch_SERPS!K1917,\"\")","v":""},{"$f":"IFERROR(VLOOKUP(C1917,ShareOfSearch_CTR!$A$1:$B$100,2,FALSE)*VLOOKUP(A1917&B1917,ShareOfSearch_Volume!$C$1:$D$1000,2,FALSE),\"\")","v":""}]
[{"$f":"IF(ISTEXT(ShareOfSearch_SERPS!C1918),ShareOfSearch_SERPS!C1918,\"\")","v":""},{"$f":"IF(ISTEXT(ShareOfSearch_SERPS!D1918),ShareOfSearch_SERPS!D1918,\"\")","v":""},{"$f":"IF(NOT(ISBLANK(ShareOfSearch_SERPS!A1918)),ShareOfSearch_SERPS!A1918,\"\")","v":""},{"$f":"IF(NOT(ISBLANK(ShareOfSearch_SERPS!G1918)),ShareOfSearch_SERPS!G1918,\"\")","v":""},{"$f":"IF(NOT(ISBLANK(ShareOfSearch_SERPS!K1918)),ShareOfSearch_SERPS!K1918,\"\")","v":""},{"$f":"IFERROR(VLOOKUP(C1918,ShareOfSearch_CTR!$A$1:$B$100,2,FALSE)*VLOOKUP(A1918&B1918,ShareOfSearch_Volume!$C$1:$D$1000,2,FALSE),\"\")","v":""}]
[{"$f":"IF(ISTEXT(ShareOfSearch_SERPS!C1919),ShareOfSearch_SERPS!C1919,\"\")","v":""},{"$f":"IF(ISTEXT(ShareOfSearch_SERPS!D1919),ShareOfSearch_SERPS!D1919,\"\")","v":""},{"$f":"IF(NOT(ISBLANK(ShareOfSearch_SERPS!A1919)),ShareOfSearch_SERPS!A1919,\"\")","v":""},{"$f":"IF(NOT(ISBLANK(ShareOfSearch_SERPS!G1919)),ShareOfSearch_SERPS!G1919,\"\")","v":""},{"$f":"IF(NOT(ISBLANK(ShareOfSearch_SERPS!K1919)),ShareOfSearch_SERPS!K1919,\"\")","v":""},{"$f":"IFERROR(VLOOKUP(C1919,ShareOfSearch_CTR!$A$1:$B$100,2,FALSE)*VLOOKUP(A1919&B1919,ShareOfSearch_Volume!$C$1:$D$1000,2,FALSE),\"\")","v":""}]
[{"$f":"IF(ISTEXT(ShareOfSearch_SERPS!C1920),ShareOfSearch_SERPS!C1920,\"\")","v":""},{"$f":"IF(ISTEXT(ShareOfSearch_SERPS!D1920),ShareOfSearch_SERPS!D1920,\"\")","v":""},{"$f":"IF(NOT(ISBLANK(ShareOfSearch_SERPS!A1920)),ShareOfSearch_SERPS!A1920,\"\")","v":""},{"$f":"IF(NOT(ISBLANK(ShareOfSearch_SERPS!G1920)),ShareOfSearch_SERPS!G1920,\"\")","v":""},{"$f":"IF(NOT(ISBLANK(ShareOfSearch_SERPS!K1920)),ShareOfSearch_SERPS!K1920,\"\")","v":""},{"$f":"IFERROR(VLOOKUP(C1920,ShareOfSearch_CTR!$A$1:$B$100,2,FALSE)*VLOOKUP(A1920&B1920,ShareOfSearch_Volume!$C$1:$D$1000,2,FALSE),\"\")","v":""}]
[{"$f":"IF(ISTEXT(ShareOfSearch_SERPS!C1921),ShareOfSearch_SERPS!C1921,\"\")","v":""},{"$f":"IF(ISTEXT(ShareOfSearch_SERPS!D1921),ShareOfSearch_SERPS!D1921,\"\")","v":""},{"$f":"IF(NOT(ISBLANK(ShareOfSearch_SERPS!A1921)),ShareOfSearch_SERPS!A1921,\"\")","v":""},{"$f":"IF(NOT(ISBLANK(ShareOfSearch_SERPS!G1921)),ShareOfSearch_SERPS!G1921,\"\")","v":""},{"$f":"IF(NOT(ISBLANK(ShareOfSearch_SERPS!K1921)),ShareOfSearch_SERPS!K1921,\"\")","v":""},{"$f":"IFERROR(VLOOKUP(C1921,ShareOfSearch_CTR!$A$1:$B$100,2,FALSE)*VLOOKUP(A1921&B1921,ShareOfSearch_Volume!$C$1:$D$1000,2,FALSE),\"\")","v":""}]
[{"$f":"IF(ISTEXT(ShareOfSearch_SERPS!C1922),ShareOfSearch_SERPS!C1922,\"\")","v":""},{"$f":"IF(ISTEXT(ShareOfSearch_SERPS!D1922),ShareOfSearch_SERPS!D1922,\"\")","v":""},{"$f":"IF(NOT(ISBLANK(ShareOfSearch_SERPS!A1922)),ShareOfSearch_SERPS!A1922,\"\")","v":""},{"$f":"IF(NOT(ISBLANK(ShareOfSearch_SERPS!G1922)),ShareOfSearch_SERPS!G1922,\"\")","v":""},{"$f":"IF(NOT(ISBLANK(ShareOfSearch_SERPS!K1922)),ShareOfSearch_SERPS!K1922,\"\")","v":""},{"$f":"IFERROR(VLOOKUP(C1922,ShareOfSearch_CTR!$A$1:$B$100,2,FALSE)*VLOOKUP(A1922&B1922,ShareOfSearch_Volume!$C$1:$D$1000,2,FALSE),\"\")","v":""}]
[{"$f":"IF(ISTEXT(ShareOfSearch_SERPS!C1923),ShareOfSearch_SERPS!C1923,\"\")","v":""},{"$f":"IF(ISTEXT(ShareOfSearch_SERPS!D1923),ShareOfSearch_SERPS!D1923,\"\")","v":""},{"$f":"IF(NOT(ISBLANK(ShareOfSearch_SERPS!A1923)),ShareOfSearch_SERPS!A1923,\"\")","v":""},{"$f":"IF(NOT(ISBLANK(ShareOfSearch_SERPS!G1923)),ShareOfSearch_SERPS!G1923,\"\")","v":""},{"$f":"IF(NOT(ISBLANK(ShareOfSearch_SERPS!K1923)),ShareOfSearch_SERPS!K1923,\"\")","v":""},{"$f":"IFERROR(VLOOKUP(C1923,ShareOfSearch_CTR!$A$1:$B$100,2,FALSE)*VLOOKUP(A1923&B1923,ShareOfSearch_Volume!$C$1:$D$1000,2,FALSE),\"\")","v":""}]
[{"$f":"IF(ISTEXT(ShareOfSearch_SERPS!C1924),ShareOfSearch_SERPS!C1924,\"\")","v":""},{"$f":"IF(ISTEXT(ShareOfSearch_SERPS!D1924),ShareOfSearch_SERPS!D1924,\"\")","v":""},{"$f":"IF(NOT(ISBLANK(ShareOfSearch_SERPS!A1924)),ShareOfSearch_SERPS!A1924,\"\")","v":""},{"$f":"IF(NOT(ISBLANK(ShareOfSearch_SERPS!G1924)),ShareOfSearch_SERPS!G1924,\"\")","v":""},{"$f":"IF(NOT(ISBLANK(ShareOfSearch_SERPS!K1924)),ShareOfSearch_SERPS!K1924,\"\")","v":""},{"$f":"IFERROR(VLOOKUP(C1924,ShareOfSearch_CTR!$A$1:$B$100,2,FALSE)*VLOOKUP(A1924&B1924,ShareOfSearch_Volume!$C$1:$D$1000,2,FALSE),\"\")","v":""}]
[{"$f":"IF(ISTEXT(ShareOfSearch_SERPS!C1925),ShareOfSearch_SERPS!C1925,\"\")","v":""},{"$f":"IF(ISTEXT(ShareOfSearch_SERPS!D1925),ShareOfSearch_SERPS!D1925,\"\")","v":""},{"$f":"IF(NOT(ISBLANK(ShareOfSearch_SERPS!A1925)),ShareOfSearch_SERPS!A1925,\"\")","v":""},{"$f":"IF(NOT(ISBLANK(ShareOfSearch_SERPS!G1925)),ShareOfSearch_SERPS!G1925,\"\")","v":""},{"$f":"IF(NOT(ISBLANK(ShareOfSearch_SERPS!K1925)),ShareOfSearch_SERPS!K1925,\"\")","v":""},{"$f":"IFERROR(VLOOKUP(C1925,ShareOfSearch_CTR!$A$1:$B$100,2,FALSE)*VLOOKUP(A1925&B1925,ShareOfSearch_Volume!$C$1:$D$1000,2,FALSE),\"\")","v":""}]
[{"$f":"IF(ISTEXT(ShareOfSearch_SERPS!C1926),ShareOfSearch_SERPS!C1926,\"\")","v":""},{"$f":"IF(ISTEXT(ShareOfSearch_SERPS!D1926),ShareOfSearch_SERPS!D1926,\"\")","v":""},{"$f":"IF(NOT(ISBLANK(ShareOfSearch_SERPS!A1926)),ShareOfSearch_SERPS!A1926,\"\")","v":""},{"$f":"IF(NOT(ISBLANK(ShareOfSearch_SERPS!G1926)),ShareOfSearch_SERPS!G1926,\"\")","v":""},{"$f":"IF(NOT(ISBLANK(ShareOfSearch_SERPS!K1926)),ShareOfSearch_SERPS!K1926,\"\")","v":""},{"$f":"IFERROR(VLOOKUP(C1926,ShareOfSearch_CTR!$A$1:$B$100,2,FALSE)*VLOOKUP(A1926&B1926,ShareOfSearch_Volume!$C$1:$D$1000,2,FALSE),\"\")","v":""}]
[{"$f":"IF(ISTEXT(ShareOfSearch_SERPS!C1927),ShareOfSearch_SERPS!C1927,\"\")","v":""},{"$f":"IF(ISTEXT(ShareOfSearch_SERPS!D1927),ShareOfSearch_SERPS!D1927,\"\")","v":""},{"$f":"IF(NOT(ISBLANK(ShareOfSearch_SERPS!A1927)),ShareOfSearch_SERPS!A1927,\"\")","v":""},{"$f":"IF(NOT(ISBLANK(ShareOfSearch_SERPS!G1927)),ShareOfSearch_SERPS!G1927,\"\")","v":""},{"$f":"IF(NOT(ISBLANK(ShareOfSearch_SERPS!K1927)),ShareOfSearch_SERPS!K1927,\"\")","v":""},{"$f":"IFERROR(VLOOKUP(C1927,ShareOfSearch_CTR!$A$1:$B$100,2,FALSE)*VLOOKUP(A1927&B1927,ShareOfSearch_Volume!$C$1:$D$1000,2,FALSE),\"\")","v":""}]
[{"$f":"IF(ISTEXT(ShareOfSearch_SERPS!C1928),ShareOfSearch_SERPS!C1928,\"\")","v":""},{"$f":"IF(ISTEXT(ShareOfSearch_SERPS!D1928),ShareOfSearch_SERPS!D1928,\"\")","v":""},{"$f":"IF(NOT(ISBLANK(ShareOfSearch_SERPS!A1928)),ShareOfSearch_SERPS!A1928,\"\")","v":""},{"$f":"IF(NOT(ISBLANK(ShareOfSearch_SERPS!G1928)),ShareOfSearch_SERPS!G1928,\"\")","v":""},{"$f":"IF(NOT(ISBLANK(ShareOfSearch_SERPS!K1928)),ShareOfSearch_SERPS!K1928,\"\")","v":""},{"$f":"IFERROR(VLOOKUP(C1928,ShareOfSearch_CTR!$A$1:$B$100,2,FALSE)*VLOOKUP(A1928&B1928,ShareOfSearch_Volume!$C$1:$D$1000,2,FALSE),\"\")","v":""}]
[{"$f":"IF(ISTEXT(ShareOfSearch_SERPS!C1929),ShareOfSearch_SERPS!C1929,\"\")","v":""},{"$f":"IF(ISTEXT(ShareOfSearch_SERPS!D1929),ShareOfSearch_SERPS!D1929,\"\")","v":""},{"$f":"IF(NOT(ISBLANK(ShareOfSearch_SERPS!A1929)),ShareOfSearch_SERPS!A1929,\"\")","v":""},{"$f":"IF(NOT(ISBLANK(ShareOfSearch_SERPS!G1929)),ShareOfSearch_SERPS!G1929,\"\")","v":""},{"$f":"IF(NOT(ISBLANK(ShareOfSearch_SERPS!K1929)),ShareOfSearch_SERPS!K1929,\"\")","v":""},{"$f":"IFERROR(VLOOKUP(C1929,ShareOfSearch_CTR!$A$1:$B$100,2,FALSE)*VLOOKUP(A1929&B1929,ShareOfSearch_Volume!$C$1:$D$1000,2,FALSE),\"\")","v":""}]
[{"$f":"IF(ISTEXT(ShareOfSearch_SERPS!C1930),ShareOfSearch_SERPS!C1930,\"\")","v":""},{"$f":"IF(ISTEXT(ShareOfSearch_SERPS!D1930),ShareOfSearch_SERPS!D1930,\"\")","v":""},{"$f":"IF(NOT(ISBLANK(ShareOfSearch_SERPS!A1930)),ShareOfSearch_SERPS!A1930,\"\")","v":""},{"$f":"IF(NOT(ISBLANK(ShareOfSearch_SERPS!G1930)),ShareOfSearch_SERPS!G1930,\"\")","v":""},{"$f":"IF(NOT(ISBLANK(ShareOfSearch_SERPS!K1930)),ShareOfSearch_SERPS!K1930,\"\")","v":""},{"$f":"IFERROR(VLOOKUP(C1930,ShareOfSearch_CTR!$A$1:$B$100,2,FALSE)*VLOOKUP(A1930&B1930,ShareOfSearch_Volume!$C$1:$D$1000,2,FALSE),\"\")","v":""}]
[{"$f":"IF(ISTEXT(ShareOfSearch_SERPS!C1931),ShareOfSearch_SERPS!C1931,\"\")","v":""},{"$f":"IF(ISTEXT(ShareOfSearch_SERPS!D1931),ShareOfSearch_SERPS!D1931,\"\")","v":""},{"$f":"IF(NOT(ISBLANK(ShareOfSearch_SERPS!A1931)),ShareOfSearch_SERPS!A1931,\"\")","v":""},{"$f":"IF(NOT(ISBLANK(ShareOfSearch_SERPS!G1931)),ShareOfSearch_SERPS!G1931,\"\")","v":""},{"$f":"IF(NOT(ISBLANK(ShareOfSearch_SERPS!K1931)),ShareOfSearch_SERPS!K1931,\"\")","v":""},{"$f":"IFERROR(VLOOKUP(C1931,ShareOfSearch_CTR!$A$1:$B$100,2,FALSE)*VLOOKUP(A1931&B1931,ShareOfSearch_Volume!$C$1:$D$1000,2,FALSE),\"\")","v":""}]
[{"$f":"IF(ISTEXT(ShareOfSearch_SERPS!C1932),ShareOfSearch_SERPS!C1932,\"\")","v":""},{"$f":"IF(ISTEXT(ShareOfSearch_SERPS!D1932),ShareOfSearch_SERPS!D1932,\"\")","v":""},{"$f":"IF(NOT(ISBLANK(ShareOfSearch_SERPS!A1932)),ShareOfSearch_SERPS!A1932,\"\")","v":""},{"$f":"IF(NOT(ISBLANK(ShareOfSearch_SERPS!G1932)),ShareOfSearch_SERPS!G1932,\"\")","v":""},{"$f":"IF(NOT(ISBLANK(ShareOfSearch_SERPS!K1932)),ShareOfSearch_SERPS!K1932,\"\")","v":""},{"$f":"IFERROR(VLOOKUP(C1932,ShareOfSearch_CTR!$A$1:$B$100,2,FALSE)*VLOOKUP(A1932&B1932,ShareOfSearch_Volume!$C$1:$D$1000,2,FALSE),\"\")","v":""}]
[{"$f":"IF(ISTEXT(ShareOfSearch_SERPS!C1933),ShareOfSearch_SERPS!C1933,\"\")","v":""},{"$f":"IF(ISTEXT(ShareOfSearch_SERPS!D1933),ShareOfSearch_SERPS!D1933,\"\")","v":""},{"$f":"IF(NOT(ISBLANK(ShareOfSearch_SERPS!A1933)),ShareOfSearch_SERPS!A1933,\"\")","v":""},{"$f":"IF(NOT(ISBLANK(ShareOfSearch_SERPS!G1933)),ShareOfSearch_SERPS!G1933,\"\")","v":""},{"$f":"IF(NOT(ISBLANK(ShareOfSearch_SERPS!K1933)),ShareOfSearch_SERPS!K1933,\"\")","v":""},{"$f":"IFERROR(VLOOKUP(C1933,ShareOfSearch_CTR!$A$1:$B$100,2,FALSE)*VLOOKUP(A1933&B1933,ShareOfSearch_Volume!$C$1:$D$1000,2,FALSE),\"\")","v":""}]
[{"$f":"IF(ISTEXT(ShareOfSearch_SERPS!C1934),ShareOfSearch_SERPS!C1934,\"\")","v":""},{"$f":"IF(ISTEXT(ShareOfSearch_SERPS!D1934),ShareOfSearch_SERPS!D1934,\"\")","v":""},{"$f":"IF(NOT(ISBLANK(ShareOfSearch_SERPS!A1934)),ShareOfSearch_SERPS!A1934,\"\")","v":""},{"$f":"IF(NOT(ISBLANK(ShareOfSearch_SERPS!G1934)),ShareOfSearch_SERPS!G1934,\"\")","v":""},{"$f":"IF(NOT(ISBLANK(ShareOfSearch_SERPS!K1934)),ShareOfSearch_SERPS!K1934,\"\")","v":""},{"$f":"IFERROR(VLOOKUP(C1934,ShareOfSearch_CTR!$A$1:$B$100,2,FALSE)*VLOOKUP(A1934&B1934,ShareOfSearch_Volume!$C$1:$D$1000,2,FALSE),\"\")","v":""}]
[{"$f":"IF(ISTEXT(ShareOfSearch_SERPS!C1935),ShareOfSearch_SERPS!C1935,\"\")","v":""},{"$f":"IF(ISTEXT(ShareOfSearch_SERPS!D1935),ShareOfSearch_SERPS!D1935,\"\")","v":""},{"$f":"IF(NOT(ISBLANK(ShareOfSearch_SERPS!A1935)),ShareOfSearch_SERPS!A1935,\"\")","v":""},{"$f":"IF(NOT(ISBLANK(ShareOfSearch_SERPS!G1935)),ShareOfSearch_SERPS!G1935,\"\")","v":""},{"$f":"IF(NOT(ISBLANK(ShareOfSearch_SERPS!K1935)),ShareOfSearch_SERPS!K1935,\"\")","v":""},{"$f":"IFERROR(VLOOKUP(C1935,ShareOfSearch_CTR!$A$1:$B$100,2,FALSE)*VLOOKUP(A1935&B1935,ShareOfSearch_Volume!$C$1:$D$1000,2,FALSE),\"\")","v":""}]
[{"$f":"IF(ISTEXT(ShareOfSearch_SERPS!C1936),ShareOfSearch_SERPS!C1936,\"\")","v":""},{"$f":"IF(ISTEXT(ShareOfSearch_SERPS!D1936),ShareOfSearch_SERPS!D1936,\"\")","v":""},{"$f":"IF(NOT(ISBLANK(ShareOfSearch_SERPS!A1936)),ShareOfSearch_SERPS!A1936,\"\")","v":""},{"$f":"IF(NOT(ISBLANK(ShareOfSearch_SERPS!G1936)),ShareOfSearch_SERPS!G1936,\"\")","v":""},{"$f":"IF(NOT(ISBLANK(ShareOfSearch_SERPS!K1936)),ShareOfSearch_SERPS!K1936,\"\")","v":""},{"$f":"IFERROR(VLOOKUP(C1936,ShareOfSearch_CTR!$A$1:$B$100,2,FALSE)*VLOOKUP(A1936&B1936,ShareOfSearch_Volume!$C$1:$D$1000,2,FALSE),\"\")","v":""}]
[{"$f":"IF(ISTEXT(ShareOfSearch_SERPS!C1937),ShareOfSearch_SERPS!C1937,\"\")","v":""},{"$f":"IF(ISTEXT(ShareOfSearch_SERPS!D1937),ShareOfSearch_SERPS!D1937,\"\")","v":""},{"$f":"IF(NOT(ISBLANK(ShareOfSearch_SERPS!A1937)),ShareOfSearch_SERPS!A1937,\"\")","v":""},{"$f":"IF(NOT(ISBLANK(ShareOfSearch_SERPS!G1937)),ShareOfSearch_SERPS!G1937,\"\")","v":""},{"$f":"IF(NOT(ISBLANK(ShareOfSearch_SERPS!K1937)),ShareOfSearch_SERPS!K1937,\"\")","v":""},{"$f":"IFERROR(VLOOKUP(C1937,ShareOfSearch_CTR!$A$1:$B$100,2,FALSE)*VLOOKUP(A1937&B1937,ShareOfSearch_Volume!$C$1:$D$1000,2,FALSE),\"\")","v":""}]
[{"$f":"IF(ISTEXT(ShareOfSearch_SERPS!C1938),ShareOfSearch_SERPS!C1938,\"\")","v":""},{"$f":"IF(ISTEXT(ShareOfSearch_SERPS!D1938),ShareOfSearch_SERPS!D1938,\"\")","v":""},{"$f":"IF(NOT(ISBLANK(ShareOfSearch_SERPS!A1938)),ShareOfSearch_SERPS!A1938,\"\")","v":""},{"$f":"IF(NOT(ISBLANK(ShareOfSearch_SERPS!G1938)),ShareOfSearch_SERPS!G1938,\"\")","v":""},{"$f":"IF(NOT(ISBLANK(ShareOfSearch_SERPS!K1938)),ShareOfSearch_SERPS!K1938,\"\")","v":""},{"$f":"IFERROR(VLOOKUP(C1938,ShareOfSearch_CTR!$A$1:$B$100,2,FALSE)*VLOOKUP(A1938&B1938,ShareOfSearch_Volume!$C$1:$D$1000,2,FALSE),\"\")","v":""}]
[{"$f":"IF(ISTEXT(ShareOfSearch_SERPS!C1939),ShareOfSearch_SERPS!C1939,\"\")","v":""},{"$f":"IF(ISTEXT(ShareOfSearch_SERPS!D1939),ShareOfSearch_SERPS!D1939,\"\")","v":""},{"$f":"IF(NOT(ISBLANK(ShareOfSearch_SERPS!A1939)),ShareOfSearch_SERPS!A1939,\"\")","v":""},{"$f":"IF(NOT(ISBLANK(ShareOfSearch_SERPS!G1939)),ShareOfSearch_SERPS!G1939,\"\")","v":""},{"$f":"IF(NOT(ISBLANK(ShareOfSearch_SERPS!K1939)),ShareOfSearch_SERPS!K1939,\"\")","v":""},{"$f":"IFERROR(VLOOKUP(C1939,ShareOfSearch_CTR!$A$1:$B$100,2,FALSE)*VLOOKUP(A1939&B1939,ShareOfSearch_Volume!$C$1:$D$1000,2,FALSE),\"\")","v":""}]
[{"$f":"IF(ISTEXT(ShareOfSearch_SERPS!C1940),ShareOfSearch_SERPS!C1940,\"\")","v":""},{"$f":"IF(ISTEXT(ShareOfSearch_SERPS!D1940),ShareOfSearch_SERPS!D1940,\"\")","v":""},{"$f":"IF(NOT(ISBLANK(ShareOfSearch_SERPS!A1940)),ShareOfSearch_SERPS!A1940,\"\")","v":""},{"$f":"IF(NOT(ISBLANK(ShareOfSearch_SERPS!G1940)),ShareOfSearch_SERPS!G1940,\"\")","v":""},{"$f":"IF(NOT(ISBLANK(ShareOfSearch_SERPS!K1940)),ShareOfSearch_SERPS!K1940,\"\")","v":""},{"$f":"IFERROR(VLOOKUP(C1940,ShareOfSearch_CTR!$A$1:$B$100,2,FALSE)*VLOOKUP(A1940&B1940,ShareOfSearch_Volume!$C$1:$D$1000,2,FALSE),\"\")","v":""}]
[{"$f":"IF(ISTEXT(ShareOfSearch_SERPS!C1941),ShareOfSearch_SERPS!C1941,\"\")","v":""},{"$f":"IF(ISTEXT(ShareOfSearch_SERPS!D1941),ShareOfSearch_SERPS!D1941,\"\")","v":""},{"$f":"IF(NOT(ISBLANK(ShareOfSearch_SERPS!A1941)),ShareOfSearch_SERPS!A1941,\"\")","v":""},{"$f":"IF(NOT(ISBLANK(ShareOfSearch_SERPS!G1941)),ShareOfSearch_SERPS!G1941,\"\")","v":""},{"$f":"IF(NOT(ISBLANK(ShareOfSearch_SERPS!K1941)),ShareOfSearch_SERPS!K1941,\"\")","v":""},{"$f":"IFERROR(VLOOKUP(C1941,ShareOfSearch_CTR!$A$1:$B$100,2,FALSE)*VLOOKUP(A1941&B1941,ShareOfSearch_Volume!$C$1:$D$1000,2,FALSE),\"\")","v":""}]
[{"$f":"IF(ISTEXT(ShareOfSearch_SERPS!C1942),ShareOfSearch_SERPS!C1942,\"\")","v":""},{"$f":"IF(ISTEXT(ShareOfSearch_SERPS!D1942),ShareOfSearch_SERPS!D1942,\"\")","v":""},{"$f":"IF(NOT(ISBLANK(ShareOfSearch_SERPS!A1942)),ShareOfSearch_SERPS!A1942,\"\")","v":""},{"$f":"IF(NOT(ISBLANK(ShareOfSearch_SERPS!G1942)),ShareOfSearch_SERPS!G1942,\"\")","v":""},{"$f":"IF(NOT(ISBLANK(ShareOfSearch_SERPS!K1942)),ShareOfSearch_SERPS!K1942,\"\")","v":""},{"$f":"IFERROR(VLOOKUP(C1942,ShareOfSearch_CTR!$A$1:$B$100,2,FALSE)*VLOOKUP(A1942&B1942,ShareOfSearch_Volume!$C$1:$D$1000,2,FALSE),\"\")","v":""}]
[{"$f":"IF(ISTEXT(ShareOfSearch_SERPS!C1943),ShareOfSearch_SERPS!C1943,\"\")","v":""},{"$f":"IF(ISTEXT(ShareOfSearch_SERPS!D1943),ShareOfSearch_SERPS!D1943,\"\")","v":""},{"$f":"IF(NOT(ISBLANK(ShareOfSearch_SERPS!A1943)),ShareOfSearch_SERPS!A1943,\"\")","v":""},{"$f":"IF(NOT(ISBLANK(ShareOfSearch_SERPS!G1943)),ShareOfSearch_SERPS!G1943,\"\")","v":""},{"$f":"IF(NOT(ISBLANK(ShareOfSearch_SERPS!K1943)),ShareOfSearch_SERPS!K1943,\"\")","v":""},{"$f":"IFERROR(VLOOKUP(C1943,ShareOfSearch_CTR!$A$1:$B$100,2,FALSE)*VLOOKUP(A1943&B1943,ShareOfSearch_Volume!$C$1:$D$1000,2,FALSE),\"\")","v":""}]
[{"$f":"IF(ISTEXT(ShareOfSearch_SERPS!C1944),ShareOfSearch_SERPS!C1944,\"\")","v":""},{"$f":"IF(ISTEXT(ShareOfSearch_SERPS!D1944),ShareOfSearch_SERPS!D1944,\"\")","v":""},{"$f":"IF(NOT(ISBLANK(ShareOfSearch_SERPS!A1944)),ShareOfSearch_SERPS!A1944,\"\")","v":""},{"$f":"IF(NOT(ISBLANK(ShareOfSearch_SERPS!G1944)),ShareOfSearch_SERPS!G1944,\"\")","v":""},{"$f":"IF(NOT(ISBLANK(ShareOfSearch_SERPS!K1944)),ShareOfSearch_SERPS!K1944,\"\")","v":""},{"$f":"IFERROR(VLOOKUP(C1944,ShareOfSearch_CTR!$A$1:$B$100,2,FALSE)*VLOOKUP(A1944&B1944,ShareOfSearch_Volume!$C$1:$D$1000,2,FALSE),\"\")","v":""}]
[{"$f":"IF(ISTEXT(ShareOfSearch_SERPS!C1945),ShareOfSearch_SERPS!C1945,\"\")","v":""},{"$f":"IF(ISTEXT(ShareOfSearch_SERPS!D1945),ShareOfSearch_SERPS!D1945,\"\")","v":""},{"$f":"IF(NOT(ISBLANK(ShareOfSearch_SERPS!A1945)),ShareOfSearch_SERPS!A1945,\"\")","v":""},{"$f":"IF(NOT(ISBLANK(ShareOfSearch_SERPS!G1945)),ShareOfSearch_SERPS!G1945,\"\")","v":""},{"$f":"IF(NOT(ISBLANK(ShareOfSearch_SERPS!K1945)),ShareOfSearch_SERPS!K1945,\"\")","v":""},{"$f":"IFERROR(VLOOKUP(C1945,ShareOfSearch_CTR!$A$1:$B$100,2,FALSE)*VLOOKUP(A1945&B1945,ShareOfSearch_Volume!$C$1:$D$1000,2,FALSE),\"\")","v":""}]
[{"$f":"IF(ISTEXT(ShareOfSearch_SERPS!C1946),ShareOfSearch_SERPS!C1946,\"\")","v":""},{"$f":"IF(ISTEXT(ShareOfSearch_SERPS!D1946),ShareOfSearch_SERPS!D1946,\"\")","v":""},{"$f":"IF(NOT(ISBLANK(ShareOfSearch_SERPS!A1946)),ShareOfSearch_SERPS!A1946,\"\")","v":""},{"$f":"IF(NOT(ISBLANK(ShareOfSearch_SERPS!G1946)),ShareOfSearch_SERPS!G1946,\"\")","v":""},{"$f":"IF(NOT(ISBLANK(ShareOfSearch_SERPS!K1946)),ShareOfSearch_SERPS!K1946,\"\")","v":""},{"$f":"IFERROR(VLOOKUP(C1946,ShareOfSearch_CTR!$A$1:$B$100,2,FALSE)*VLOOKUP(A1946&B1946,ShareOfSearch_Volume!$C$1:$D$1000,2,FALSE),\"\")","v":""}]
[{"$f":"IF(ISTEXT(ShareOfSearch_SERPS!C1947),ShareOfSearch_SERPS!C1947,\"\")","v":""},{"$f":"IF(ISTEXT(ShareOfSearch_SERPS!D1947),ShareOfSearch_SERPS!D1947,\"\")","v":""},{"$f":"IF(NOT(ISBLANK(ShareOfSearch_SERPS!A1947)),ShareOfSearch_SERPS!A1947,\"\")","v":""},{"$f":"IF(NOT(ISBLANK(ShareOfSearch_SERPS!G1947)),ShareOfSearch_SERPS!G1947,\"\")","v":""},{"$f":"IF(NOT(ISBLANK(ShareOfSearch_SERPS!K1947)),ShareOfSearch_SERPS!K1947,\"\")","v":""},{"$f":"IFERROR(VLOOKUP(C1947,ShareOfSearch_CTR!$A$1:$B$100,2,FALSE)*VLOOKUP(A1947&B1947,ShareOfSearch_Volume!$C$1:$D$1000,2,FALSE),\"\")","v":""}]
[{"$f":"IF(ISTEXT(ShareOfSearch_SERPS!C1948),ShareOfSearch_SERPS!C1948,\"\")","v":""},{"$f":"IF(ISTEXT(ShareOfSearch_SERPS!D1948),ShareOfSearch_SERPS!D1948,\"\")","v":""},{"$f":"IF(NOT(ISBLANK(ShareOfSearch_SERPS!A1948)),ShareOfSearch_SERPS!A1948,\"\")","v":""},{"$f":"IF(NOT(ISBLANK(ShareOfSearch_SERPS!G1948)),ShareOfSearch_SERPS!G1948,\"\")","v":""},{"$f":"IF(NOT(ISBLANK(ShareOfSearch_SERPS!K1948)),ShareOfSearch_SERPS!K1948,\"\")","v":""},{"$f":"IFERROR(VLOOKUP(C1948,ShareOfSearch_CTR!$A$1:$B$100,2,FALSE)*VLOOKUP(A1948&B1948,ShareOfSearch_Volume!$C$1:$D$1000,2,FALSE),\"\")","v":""}]
[{"$f":"IF(ISTEXT(ShareOfSearch_SERPS!C1949),ShareOfSearch_SERPS!C1949,\"\")","v":""},{"$f":"IF(ISTEXT(ShareOfSearch_SERPS!D1949),ShareOfSearch_SERPS!D1949,\"\")","v":""},{"$f":"IF(NOT(ISBLANK(ShareOfSearch_SERPS!A1949)),ShareOfSearch_SERPS!A1949,\"\")","v":""},{"$f":"IF(NOT(ISBLANK(ShareOfSearch_SERPS!G1949)),ShareOfSearch_SERPS!G1949,\"\")","v":""},{"$f":"IF(NOT(ISBLANK(ShareOfSearch_SERPS!K1949)),ShareOfSearch_SERPS!K1949,\"\")","v":""},{"$f":"IFERROR(VLOOKUP(C1949,ShareOfSearch_CTR!$A$1:$B$100,2,FALSE)*VLOOKUP(A1949&B1949,ShareOfSearch_Volume!$C$1:$D$1000,2,FALSE),\"\")","v":""}]
[{"$f":"IF(ISTEXT(ShareOfSearch_SERPS!C1950),ShareOfSearch_SERPS!C1950,\"\")","v":""},{"$f":"IF(ISTEXT(ShareOfSearch_SERPS!D1950),ShareOfSearch_SERPS!D1950,\"\")","v":""},{"$f":"IF(NOT(ISBLANK(ShareOfSearch_SERPS!A1950)),ShareOfSearch_SERPS!A1950,\"\")","v":""},{"$f":"IF(NOT(ISBLANK(ShareOfSearch_SERPS!G1950)),ShareOfSearch_SERPS!G1950,\"\")","v":""},{"$f":"IF(NOT(ISBLANK(ShareOfSearch_SERPS!K1950)),ShareOfSearch_SERPS!K1950,\"\")","v":""},{"$f":"IFERROR(VLOOKUP(C1950,ShareOfSearch_CTR!$A$1:$B$100,2,FALSE)*VLOOKUP(A1950&B1950,ShareOfSearch_Volume!$C$1:$D$1000,2,FALSE),\"\")","v":""}]
[{"$f":"IF(ISTEXT(ShareOfSearch_SERPS!C1951),ShareOfSearch_SERPS!C1951,\"\")","v":""},{"$f":"IF(ISTEXT(ShareOfSearch_SERPS!D1951),ShareOfSearch_SERPS!D1951,\"\")","v":""},{"$f":"IF(NOT(ISBLANK(ShareOfSearch_SERPS!A1951)),ShareOfSearch_SERPS!A1951,\"\")","v":""},{"$f":"IF(NOT(ISBLANK(ShareOfSearch_SERPS!G1951)),ShareOfSearch_SERPS!G1951,\"\")","v":""},{"$f":"IF(NOT(ISBLANK(ShareOfSearch_SERPS!K1951)),ShareOfSearch_SERPS!K1951,\"\")","v":""},{"$f":"IFERROR(VLOOKUP(C1951,ShareOfSearch_CTR!$A$1:$B$100,2,FALSE)*VLOOKUP(A1951&B1951,ShareOfSearch_Volume!$C$1:$D$1000,2,FALSE),\"\")","v":""}]
[{"$f":"IF(ISTEXT(ShareOfSearch_SERPS!C1952),ShareOfSearch_SERPS!C1952,\"\")","v":""},{"$f":"IF(ISTEXT(ShareOfSearch_SERPS!D1952),ShareOfSearch_SERPS!D1952,\"\")","v":""},{"$f":"IF(NOT(ISBLANK(ShareOfSearch_SERPS!A1952)),ShareOfSearch_SERPS!A1952,\"\")","v":""},{"$f":"IF(NOT(ISBLANK(ShareOfSearch_SERPS!G1952)),ShareOfSearch_SERPS!G1952,\"\")","v":""},{"$f":"IF(NOT(ISBLANK(ShareOfSearch_SERPS!K1952)),ShareOfSearch_SERPS!K1952,\"\")","v":""},{"$f":"IFERROR(VLOOKUP(C1952,ShareOfSearch_CTR!$A$1:$B$100,2,FALSE)*VLOOKUP(A1952&B1952,ShareOfSearch_Volume!$C$1:$D$1000,2,FALSE),\"\")","v":""}]
[{"$f":"IF(ISTEXT(ShareOfSearch_SERPS!C1953),ShareOfSearch_SERPS!C1953,\"\")","v":""},{"$f":"IF(ISTEXT(ShareOfSearch_SERPS!D1953),ShareOfSearch_SERPS!D1953,\"\")","v":""},{"$f":"IF(NOT(ISBLANK(ShareOfSearch_SERPS!A1953)),ShareOfSearch_SERPS!A1953,\"\")","v":""},{"$f":"IF(NOT(ISBLANK(ShareOfSearch_SERPS!G1953)),ShareOfSearch_SERPS!G1953,\"\")","v":""},{"$f":"IF(NOT(ISBLANK(ShareOfSearch_SERPS!K1953)),ShareOfSearch_SERPS!K1953,\"\")","v":""},{"$f":"IFERROR(VLOOKUP(C1953,ShareOfSearch_CTR!$A$1:$B$100,2,FALSE)*VLOOKUP(A1953&B1953,ShareOfSearch_Volume!$C$1:$D$1000,2,FALSE),\"\")","v":""}]
[{"$f":"IF(ISTEXT(ShareOfSearch_SERPS!C1954),ShareOfSearch_SERPS!C1954,\"\")","v":""},{"$f":"IF(ISTEXT(ShareOfSearch_SERPS!D1954),ShareOfSearch_SERPS!D1954,\"\")","v":""},{"$f":"IF(NOT(ISBLANK(ShareOfSearch_SERPS!A1954)),ShareOfSearch_SERPS!A1954,\"\")","v":""},{"$f":"IF(NOT(ISBLANK(ShareOfSearch_SERPS!G1954)),ShareOfSearch_SERPS!G1954,\"\")","v":""},{"$f":"IF(NOT(ISBLANK(ShareOfSearch_SERPS!K1954)),ShareOfSearch_SERPS!K1954,\"\")","v":""},{"$f":"IFERROR(VLOOKUP(C1954,ShareOfSearch_CTR!$A$1:$B$100,2,FALSE)*VLOOKUP(A1954&B1954,ShareOfSearch_Volume!$C$1:$D$1000,2,FALSE),\"\")","v":""}]
[{"$f":"IF(ISTEXT(ShareOfSearch_SERPS!C1955),ShareOfSearch_SERPS!C1955,\"\")","v":""},{"$f":"IF(ISTEXT(ShareOfSearch_SERPS!D1955),ShareOfSearch_SERPS!D1955,\"\")","v":""},{"$f":"IF(NOT(ISBLANK(ShareOfSearch_SERPS!A1955)),ShareOfSearch_SERPS!A1955,\"\")","v":""},{"$f":"IF(NOT(ISBLANK(ShareOfSearch_SERPS!G1955)),ShareOfSearch_SERPS!G1955,\"\")","v":""},{"$f":"IF(NOT(ISBLANK(ShareOfSearch_SERPS!K1955)),ShareOfSearch_SERPS!K1955,\"\")","v":""},{"$f":"IFERROR(VLOOKUP(C1955,ShareOfSearch_CTR!$A$1:$B$100,2,FALSE)*VLOOKUP(A1955&B1955,ShareOfSearch_Volume!$C$1:$D$1000,2,FALSE),\"\")","v":""}]
[{"$f":"IF(ISTEXT(ShareOfSearch_SERPS!C1956),ShareOfSearch_SERPS!C1956,\"\")","v":""},{"$f":"IF(ISTEXT(ShareOfSearch_SERPS!D1956),ShareOfSearch_SERPS!D1956,\"\")","v":""},{"$f":"IF(NOT(ISBLANK(ShareOfSearch_SERPS!A1956)),ShareOfSearch_SERPS!A1956,\"\")","v":""},{"$f":"IF(NOT(ISBLANK(ShareOfSearch_SERPS!G1956)),ShareOfSearch_SERPS!G1956,\"\")","v":""},{"$f":"IF(NOT(ISBLANK(ShareOfSearch_SERPS!K1956)),ShareOfSearch_SERPS!K1956,\"\")","v":""},{"$f":"IFERROR(VLOOKUP(C1956,ShareOfSearch_CTR!$A$1:$B$100,2,FALSE)*VLOOKUP(A1956&B1956,ShareOfSearch_Volume!$C$1:$D$1000,2,FALSE),\"\")","v":""}]
[{"$f":"IF(ISTEXT(ShareOfSearch_SERPS!C1957),ShareOfSearch_SERPS!C1957,\"\")","v":""},{"$f":"IF(ISTEXT(ShareOfSearch_SERPS!D1957),ShareOfSearch_SERPS!D1957,\"\")","v":""},{"$f":"IF(NOT(ISBLANK(ShareOfSearch_SERPS!A1957)),ShareOfSearch_SERPS!A1957,\"\")","v":""},{"$f":"IF(NOT(ISBLANK(ShareOfSearch_SERPS!G1957)),ShareOfSearch_SERPS!G1957,\"\")","v":""},{"$f":"IF(NOT(ISBLANK(ShareOfSearch_SERPS!K1957)),ShareOfSearch_SERPS!K1957,\"\")","v":""},{"$f":"IFERROR(VLOOKUP(C1957,ShareOfSearch_CTR!$A$1:$B$100,2,FALSE)*VLOOKUP(A1957&B1957,ShareOfSearch_Volume!$C$1:$D$1000,2,FALSE),\"\")","v":""}]
[{"$f":"IF(ISTEXT(ShareOfSearch_SERPS!C1958),ShareOfSearch_SERPS!C1958,\"\")","v":""},{"$f":"IF(ISTEXT(ShareOfSearch_SERPS!D1958),ShareOfSearch_SERPS!D1958,\"\")","v":""},{"$f":"IF(NOT(ISBLANK(ShareOfSearch_SERPS!A1958)),ShareOfSearch_SERPS!A1958,\"\")","v":""},{"$f":"IF(NOT(ISBLANK(ShareOfSearch_SERPS!G1958)),ShareOfSearch_SERPS!G1958,\"\")","v":""},{"$f":"IF(NOT(ISBLANK(ShareOfSearch_SERPS!K1958)),ShareOfSearch_SERPS!K1958,\"\")","v":""},{"$f":"IFERROR(VLOOKUP(C1958,ShareOfSearch_CTR!$A$1:$B$100,2,FALSE)*VLOOKUP(A1958&B1958,ShareOfSearch_Volume!$C$1:$D$1000,2,FALSE),\"\")","v":""}]
[{"$f":"IF(ISTEXT(ShareOfSearch_SERPS!C1959),ShareOfSearch_SERPS!C1959,\"\")","v":""},{"$f":"IF(ISTEXT(ShareOfSearch_SERPS!D1959),ShareOfSearch_SERPS!D1959,\"\")","v":""},{"$f":"IF(NOT(ISBLANK(ShareOfSearch_SERPS!A1959)),ShareOfSearch_SERPS!A1959,\"\")","v":""},{"$f":"IF(NOT(ISBLANK(ShareOfSearch_SERPS!G1959)),ShareOfSearch_SERPS!G1959,\"\")","v":""},{"$f":"IF(NOT(ISBLANK(ShareOfSearch_SERPS!K1959)),ShareOfSearch_SERPS!K1959,\"\")","v":""},{"$f":"IFERROR(VLOOKUP(C1959,ShareOfSearch_CTR!$A$1:$B$100,2,FALSE)*VLOOKUP(A1959&B1959,ShareOfSearch_Volume!$C$1:$D$1000,2,FALSE),\"\")","v":""}]
[{"$f":"IF(ISTEXT(ShareOfSearch_SERPS!C1960),ShareOfSearch_SERPS!C1960,\"\")","v":""},{"$f":"IF(ISTEXT(ShareOfSearch_SERPS!D1960),ShareOfSearch_SERPS!D1960,\"\")","v":""},{"$f":"IF(NOT(ISBLANK(ShareOfSearch_SERPS!A1960)),ShareOfSearch_SERPS!A1960,\"\")","v":""},{"$f":"IF(NOT(ISBLANK(ShareOfSearch_SERPS!G1960)),ShareOfSearch_SERPS!G1960,\"\")","v":""},{"$f":"IF(NOT(ISBLANK(ShareOfSearch_SERPS!K1960)),ShareOfSearch_SERPS!K1960,\"\")","v":""},{"$f":"IFERROR(VLOOKUP(C1960,ShareOfSearch_CTR!$A$1:$B$100,2,FALSE)*VLOOKUP(A1960&B1960,ShareOfSearch_Volume!$C$1:$D$1000,2,FALSE),\"\")","v":""}]
[{"$f":"IF(ISTEXT(ShareOfSearch_SERPS!C1961),ShareOfSearch_SERPS!C1961,\"\")","v":""},{"$f":"IF(ISTEXT(ShareOfSearch_SERPS!D1961),ShareOfSearch_SERPS!D1961,\"\")","v":""},{"$f":"IF(NOT(ISBLANK(ShareOfSearch_SERPS!A1961)),ShareOfSearch_SERPS!A1961,\"\")","v":""},{"$f":"IF(NOT(ISBLANK(ShareOfSearch_SERPS!G1961)),ShareOfSearch_SERPS!G1961,\"\")","v":""},{"$f":"IF(NOT(ISBLANK(ShareOfSearch_SERPS!K1961)),ShareOfSearch_SERPS!K1961,\"\")","v":""},{"$f":"IFERROR(VLOOKUP(C1961,ShareOfSearch_CTR!$A$1:$B$100,2,FALSE)*VLOOKUP(A1961&B1961,ShareOfSearch_Volume!$C$1:$D$1000,2,FALSE),\"\")","v":""}]
[{"$f":"IF(ISTEXT(ShareOfSearch_SERPS!C1962),ShareOfSearch_SERPS!C1962,\"\")","v":""},{"$f":"IF(ISTEXT(ShareOfSearch_SERPS!D1962),ShareOfSearch_SERPS!D1962,\"\")","v":""},{"$f":"IF(NOT(ISBLANK(ShareOfSearch_SERPS!A1962)),ShareOfSearch_SERPS!A1962,\"\")","v":""},{"$f":"IF(NOT(ISBLANK(ShareOfSearch_SERPS!G1962)),ShareOfSearch_SERPS!G1962,\"\")","v":""},{"$f":"IF(NOT(ISBLANK(ShareOfSearch_SERPS!K1962)),ShareOfSearch_SERPS!K1962,\"\")","v":""},{"$f":"IFERROR(VLOOKUP(C1962,ShareOfSearch_CTR!$A$1:$B$100,2,FALSE)*VLOOKUP(A1962&B1962,ShareOfSearch_Volume!$C$1:$D$1000,2,FALSE),\"\")","v":""}]
[{"$f":"IF(ISTEXT(ShareOfSearch_SERPS!C1963),ShareOfSearch_SERPS!C1963,\"\")","v":""},{"$f":"IF(ISTEXT(ShareOfSearch_SERPS!D1963),ShareOfSearch_SERPS!D1963,\"\")","v":""},{"$f":"IF(NOT(ISBLANK(ShareOfSearch_SERPS!A1963)),ShareOfSearch_SERPS!A1963,\"\")","v":""},{"$f":"IF(NOT(ISBLANK(ShareOfSearch_SERPS!G1963)),ShareOfSearch_SERPS!G1963,\"\")","v":""},{"$f":"IF(NOT(ISBLANK(ShareOfSearch_SERPS!K1963)),ShareOfSearch_SERPS!K1963,\"\")","v":""},{"$f":"IFERROR(VLOOKUP(C1963,ShareOfSearch_CTR!$A$1:$B$100,2,FALSE)*VLOOKUP(A1963&B1963,ShareOfSearch_Volume!$C$1:$D$1000,2,FALSE),\"\")","v":""}]
[{"$f":"IF(ISTEXT(ShareOfSearch_SERPS!C1964),ShareOfSearch_SERPS!C1964,\"\")","v":""},{"$f":"IF(ISTEXT(ShareOfSearch_SERPS!D1964),ShareOfSearch_SERPS!D1964,\"\")","v":""},{"$f":"IF(NOT(ISBLANK(ShareOfSearch_SERPS!A1964)),ShareOfSearch_SERPS!A1964,\"\")","v":""},{"$f":"IF(NOT(ISBLANK(ShareOfSearch_SERPS!G1964)),ShareOfSearch_SERPS!G1964,\"\")","v":""},{"$f":"IF(NOT(ISBLANK(ShareOfSearch_SERPS!K1964)),ShareOfSearch_SERPS!K1964,\"\")","v":""},{"$f":"IFERROR(VLOOKUP(C1964,ShareOfSearch_CTR!$A$1:$B$100,2,FALSE)*VLOOKUP(A1964&B1964,ShareOfSearch_Volume!$C$1:$D$1000,2,FALSE),\"\")","v":""}]
[{"$f":"IF(ISTEXT(ShareOfSearch_SERPS!C1965),ShareOfSearch_SERPS!C1965,\"\")","v":""},{"$f":"IF(ISTEXT(ShareOfSearch_SERPS!D1965),ShareOfSearch_SERPS!D1965,\"\")","v":""},{"$f":"IF(NOT(ISBLANK(ShareOfSearch_SERPS!A1965)),ShareOfSearch_SERPS!A1965,\"\")","v":""},{"$f":"IF(NOT(ISBLANK(ShareOfSearch_SERPS!G1965)),ShareOfSearch_SERPS!G1965,\"\")","v":""},{"$f":"IF(NOT(ISBLANK(ShareOfSearch_SERPS!K1965)),ShareOfSearch_SERPS!K1965,\"\")","v":""},{"$f":"IFERROR(VLOOKUP(C1965,ShareOfSearch_CTR!$A$1:$B$100,2,FALSE)*VLOOKUP(A1965&B1965,ShareOfSearch_Volume!$C$1:$D$1000,2,FALSE),\"\")","v":""}]
[{"$f":"IF(ISTEXT(ShareOfSearch_SERPS!C1966),ShareOfSearch_SERPS!C1966,\"\")","v":""},{"$f":"IF(ISTEXT(ShareOfSearch_SERPS!D1966),ShareOfSearch_SERPS!D1966,\"\")","v":""},{"$f":"IF(NOT(ISBLANK(ShareOfSearch_SERPS!A1966)),ShareOfSearch_SERPS!A1966,\"\")","v":""},{"$f":"IF(NOT(ISBLANK(ShareOfSearch_SERPS!G1966)),ShareOfSearch_SERPS!G1966,\"\")","v":""},{"$f":"IF(NOT(ISBLANK(ShareOfSearch_SERPS!K1966)),ShareOfSearch_SERPS!K1966,\"\")","v":""},{"$f":"IFERROR(VLOOKUP(C1966,ShareOfSearch_CTR!$A$1:$B$100,2,FALSE)*VLOOKUP(A1966&B1966,ShareOfSearch_Volume!$C$1:$D$1000,2,FALSE),\"\")","v":""}]
[{"$f":"IF(ISTEXT(ShareOfSearch_SERPS!C1967),ShareOfSearch_SERPS!C1967,\"\")","v":""},{"$f":"IF(ISTEXT(ShareOfSearch_SERPS!D1967),ShareOfSearch_SERPS!D1967,\"\")","v":""},{"$f":"IF(NOT(ISBLANK(ShareOfSearch_SERPS!A1967)),ShareOfSearch_SERPS!A1967,\"\")","v":""},{"$f":"IF(NOT(ISBLANK(ShareOfSearch_SERPS!G1967)),ShareOfSearch_SERPS!G1967,\"\")","v":""},{"$f":"IF(NOT(ISBLANK(ShareOfSearch_SERPS!K1967)),ShareOfSearch_SERPS!K1967,\"\")","v":""},{"$f":"IFERROR(VLOOKUP(C1967,ShareOfSearch_CTR!$A$1:$B$100,2,FALSE)*VLOOKUP(A1967&B1967,ShareOfSearch_Volume!$C$1:$D$1000,2,FALSE),\"\")","v":""}]
[{"$f":"IF(ISTEXT(ShareOfSearch_SERPS!C1968),ShareOfSearch_SERPS!C1968,\"\")","v":""},{"$f":"IF(ISTEXT(ShareOfSearch_SERPS!D1968),ShareOfSearch_SERPS!D1968,\"\")","v":""},{"$f":"IF(NOT(ISBLANK(ShareOfSearch_SERPS!A1968)),ShareOfSearch_SERPS!A1968,\"\")","v":""},{"$f":"IF(NOT(ISBLANK(ShareOfSearch_SERPS!G1968)),ShareOfSearch_SERPS!G1968,\"\")","v":""},{"$f":"IF(NOT(ISBLANK(ShareOfSearch_SERPS!K1968)),ShareOfSearch_SERPS!K1968,\"\")","v":""},{"$f":"IFERROR(VLOOKUP(C1968,ShareOfSearch_CTR!$A$1:$B$100,2,FALSE)*VLOOKUP(A1968&B1968,ShareOfSearch_Volume!$C$1:$D$1000,2,FALSE),\"\")","v":""}]
[{"$f":"IF(ISTEXT(ShareOfSearch_SERPS!C1969),ShareOfSearch_SERPS!C1969,\"\")","v":""},{"$f":"IF(ISTEXT(ShareOfSearch_SERPS!D1969),ShareOfSearch_SERPS!D1969,\"\")","v":""},{"$f":"IF(NOT(ISBLANK(ShareOfSearch_SERPS!A1969)),ShareOfSearch_SERPS!A1969,\"\")","v":""},{"$f":"IF(NOT(ISBLANK(ShareOfSearch_SERPS!G1969)),ShareOfSearch_SERPS!G1969,\"\")","v":""},{"$f":"IF(NOT(ISBLANK(ShareOfSearch_SERPS!K1969)),ShareOfSearch_SERPS!K1969,\"\")","v":""},{"$f":"IFERROR(VLOOKUP(C1969,ShareOfSearch_CTR!$A$1:$B$100,2,FALSE)*VLOOKUP(A1969&B1969,ShareOfSearch_Volume!$C$1:$D$1000,2,FALSE),\"\")","v":""}]
[{"$f":"IF(ISTEXT(ShareOfSearch_SERPS!C1970),ShareOfSearch_SERPS!C1970,\"\")","v":""},{"$f":"IF(ISTEXT(ShareOfSearch_SERPS!D1970),ShareOfSearch_SERPS!D1970,\"\")","v":""},{"$f":"IF(NOT(ISBLANK(ShareOfSearch_SERPS!A1970)),ShareOfSearch_SERPS!A1970,\"\")","v":""},{"$f":"IF(NOT(ISBLANK(ShareOfSearch_SERPS!G1970)),ShareOfSearch_SERPS!G1970,\"\")","v":""},{"$f":"IF(NOT(ISBLANK(ShareOfSearch_SERPS!K1970)),ShareOfSearch_SERPS!K1970,\"\")","v":""},{"$f":"IFERROR(VLOOKUP(C1970,ShareOfSearch_CTR!$A$1:$B$100,2,FALSE)*VLOOKUP(A1970&B1970,ShareOfSearch_Volume!$C$1:$D$1000,2,FALSE),\"\")","v":""}]
[{"$f":"IF(ISTEXT(ShareOfSearch_SERPS!C1971),ShareOfSearch_SERPS!C1971,\"\")","v":""},{"$f":"IF(ISTEXT(ShareOfSearch_SERPS!D1971),ShareOfSearch_SERPS!D1971,\"\")","v":""},{"$f":"IF(NOT(ISBLANK(ShareOfSearch_SERPS!A1971)),ShareOfSearch_SERPS!A1971,\"\")","v":""},{"$f":"IF(NOT(ISBLANK(ShareOfSearch_SERPS!G1971)),ShareOfSearch_SERPS!G1971,\"\")","v":""},{"$f":"IF(NOT(ISBLANK(ShareOfSearch_SERPS!K1971)),ShareOfSearch_SERPS!K1971,\"\")","v":""},{"$f":"IFERROR(VLOOKUP(C1971,ShareOfSearch_CTR!$A$1:$B$100,2,FALSE)*VLOOKUP(A1971&B1971,ShareOfSearch_Volume!$C$1:$D$1000,2,FALSE),\"\")","v":""}]
[{"$f":"IF(ISTEXT(ShareOfSearch_SERPS!C1972),ShareOfSearch_SERPS!C1972,\"\")","v":""},{"$f":"IF(ISTEXT(ShareOfSearch_SERPS!D1972),ShareOfSearch_SERPS!D1972,\"\")","v":""},{"$f":"IF(NOT(ISBLANK(ShareOfSearch_SERPS!A1972)),ShareOfSearch_SERPS!A1972,\"\")","v":""},{"$f":"IF(NOT(ISBLANK(ShareOfSearch_SERPS!G1972)),ShareOfSearch_SERPS!G1972,\"\")","v":""},{"$f":"IF(NOT(ISBLANK(ShareOfSearch_SERPS!K1972)),ShareOfSearch_SERPS!K1972,\"\")","v":""},{"$f":"IFERROR(VLOOKUP(C1972,ShareOfSearch_CTR!$A$1:$B$100,2,FALSE)*VLOOKUP(A1972&B1972,ShareOfSearch_Volume!$C$1:$D$1000,2,FALSE),\"\")","v":""}]
[{"$f":"IF(ISTEXT(ShareOfSearch_SERPS!C1973),ShareOfSearch_SERPS!C1973,\"\")","v":""},{"$f":"IF(ISTEXT(ShareOfSearch_SERPS!D1973),ShareOfSearch_SERPS!D1973,\"\")","v":""},{"$f":"IF(NOT(ISBLANK(ShareOfSearch_SERPS!A1973)),ShareOfSearch_SERPS!A1973,\"\")","v":""},{"$f":"IF(NOT(ISBLANK(ShareOfSearch_SERPS!G1973)),ShareOfSearch_SERPS!G1973,\"\")","v":""},{"$f":"IF(NOT(ISBLANK(ShareOfSearch_SERPS!K1973)),ShareOfSearch_SERPS!K1973,\"\")","v":""},{"$f":"IFERROR(VLOOKUP(C1973,ShareOfSearch_CTR!$A$1:$B$100,2,FALSE)*VLOOKUP(A1973&B1973,ShareOfSearch_Volume!$C$1:$D$1000,2,FALSE),\"\")","v":""}]
[{"$f":"IF(ISTEXT(ShareOfSearch_SERPS!C1974),ShareOfSearch_SERPS!C1974,\"\")","v":""},{"$f":"IF(ISTEXT(ShareOfSearch_SERPS!D1974),ShareOfSearch_SERPS!D1974,\"\")","v":""},{"$f":"IF(NOT(ISBLANK(ShareOfSearch_SERPS!A1974)),ShareOfSearch_SERPS!A1974,\"\")","v":""},{"$f":"IF(NOT(ISBLANK(ShareOfSearch_SERPS!G1974)),ShareOfSearch_SERPS!G1974,\"\")","v":""},{"$f":"IF(NOT(ISBLANK(ShareOfSearch_SERPS!K1974)),ShareOfSearch_SERPS!K1974,\"\")","v":""},{"$f":"IFERROR(VLOOKUP(C1974,ShareOfSearch_CTR!$A$1:$B$100,2,FALSE)*VLOOKUP(A1974&B1974,ShareOfSearch_Volume!$C$1:$D$1000,2,FALSE),\"\")","v":""}]
[{"$f":"IF(ISTEXT(ShareOfSearch_SERPS!C1975),ShareOfSearch_SERPS!C1975,\"\")","v":""},{"$f":"IF(ISTEXT(ShareOfSearch_SERPS!D1975),ShareOfSearch_SERPS!D1975,\"\")","v":""},{"$f":"IF(NOT(ISBLANK(ShareOfSearch_SERPS!A1975)),ShareOfSearch_SERPS!A1975,\"\")","v":""},{"$f":"IF(NOT(ISBLANK(ShareOfSearch_SERPS!G1975)),ShareOfSearch_SERPS!G1975,\"\")","v":""},{"$f":"IF(NOT(ISBLANK(ShareOfSearch_SERPS!K1975)),ShareOfSearch_SERPS!K1975,\"\")","v":""},{"$f":"IFERROR(VLOOKUP(C1975,ShareOfSearch_CTR!$A$1:$B$100,2,FALSE)*VLOOKUP(A1975&B1975,ShareOfSearch_Volume!$C$1:$D$1000,2,FALSE),\"\")","v":""}]
[{"$f":"IF(ISTEXT(ShareOfSearch_SERPS!C1976),ShareOfSearch_SERPS!C1976,\"\")","v":""},{"$f":"IF(ISTEXT(ShareOfSearch_SERPS!D1976),ShareOfSearch_SERPS!D1976,\"\")","v":""},{"$f":"IF(NOT(ISBLANK(ShareOfSearch_SERPS!A1976)),ShareOfSearch_SERPS!A1976,\"\")","v":""},{"$f":"IF(NOT(ISBLANK(ShareOfSearch_SERPS!G1976)),ShareOfSearch_SERPS!G1976,\"\")","v":""},{"$f":"IF(NOT(ISBLANK(ShareOfSearch_SERPS!K1976)),ShareOfSearch_SERPS!K1976,\"\")","v":""},{"$f":"IFERROR(VLOOKUP(C1976,ShareOfSearch_CTR!$A$1:$B$100,2,FALSE)*VLOOKUP(A1976&B1976,ShareOfSearch_Volume!$C$1:$D$1000,2,FALSE),\"\")","v":""}]
[{"$f":"IF(ISTEXT(ShareOfSearch_SERPS!C1977),ShareOfSearch_SERPS!C1977,\"\")","v":""},{"$f":"IF(ISTEXT(ShareOfSearch_SERPS!D1977),ShareOfSearch_SERPS!D1977,\"\")","v":""},{"$f":"IF(NOT(ISBLANK(ShareOfSearch_SERPS!A1977)),ShareOfSearch_SERPS!A1977,\"\")","v":""},{"$f":"IF(NOT(ISBLANK(ShareOfSearch_SERPS!G1977)),ShareOfSearch_SERPS!G1977,\"\")","v":""},{"$f":"IF(NOT(ISBLANK(ShareOfSearch_SERPS!K1977)),ShareOfSearch_SERPS!K1977,\"\")","v":""},{"$f":"IFERROR(VLOOKUP(C1977,ShareOfSearch_CTR!$A$1:$B$100,2,FALSE)*VLOOKUP(A1977&B1977,ShareOfSearch_Volume!$C$1:$D$1000,2,FALSE),\"\")","v":""}]
[{"$f":"IF(ISTEXT(ShareOfSearch_SERPS!C1978),ShareOfSearch_SERPS!C1978,\"\")","v":""},{"$f":"IF(ISTEXT(ShareOfSearch_SERPS!D1978),ShareOfSearch_SERPS!D1978,\"\")","v":""},{"$f":"IF(NOT(ISBLANK(ShareOfSearch_SERPS!A1978)),ShareOfSearch_SERPS!A1978,\"\")","v":""},{"$f":"IF(NOT(ISBLANK(ShareOfSearch_SERPS!G1978)),ShareOfSearch_SERPS!G1978,\"\")","v":""},{"$f":"IF(NOT(ISBLANK(ShareOfSearch_SERPS!K1978)),ShareOfSearch_SERPS!K1978,\"\")","v":""},{"$f":"IFERROR(VLOOKUP(C1978,ShareOfSearch_CTR!$A$1:$B$100,2,FALSE)*VLOOKUP(A1978&B1978,ShareOfSearch_Volume!$C$1:$D$1000,2,FALSE),\"\")","v":""}]
[{"$f":"IF(ISTEXT(ShareOfSearch_SERPS!C1979),ShareOfSearch_SERPS!C1979,\"\")","v":""},{"$f":"IF(ISTEXT(ShareOfSearch_SERPS!D1979),ShareOfSearch_SERPS!D1979,\"\")","v":""},{"$f":"IF(NOT(ISBLANK(ShareOfSearch_SERPS!A1979)),ShareOfSearch_SERPS!A1979,\"\")","v":""},{"$f":"IF(NOT(ISBLANK(ShareOfSearch_SERPS!G1979)),ShareOfSearch_SERPS!G1979,\"\")","v":""},{"$f":"IF(NOT(ISBLANK(ShareOfSearch_SERPS!K1979)),ShareOfSearch_SERPS!K1979,\"\")","v":""},{"$f":"IFERROR(VLOOKUP(C1979,ShareOfSearch_CTR!$A$1:$B$100,2,FALSE)*VLOOKUP(A1979&B1979,ShareOfSearch_Volume!$C$1:$D$1000,2,FALSE),\"\")","v":""}]
[{"$f":"IF(ISTEXT(ShareOfSearch_SERPS!C1980),ShareOfSearch_SERPS!C1980,\"\")","v":""},{"$f":"IF(ISTEXT(ShareOfSearch_SERPS!D1980),ShareOfSearch_SERPS!D1980,\"\")","v":""},{"$f":"IF(NOT(ISBLANK(ShareOfSearch_SERPS!A1980)),ShareOfSearch_SERPS!A1980,\"\")","v":""},{"$f":"IF(NOT(ISBLANK(ShareOfSearch_SERPS!G1980)),ShareOfSearch_SERPS!G1980,\"\")","v":""},{"$f":"IF(NOT(ISBLANK(ShareOfSearch_SERPS!K1980)),ShareOfSearch_SERPS!K1980,\"\")","v":""},{"$f":"IFERROR(VLOOKUP(C1980,ShareOfSearch_CTR!$A$1:$B$100,2,FALSE)*VLOOKUP(A1980&B1980,ShareOfSearch_Volume!$C$1:$D$1000,2,FALSE),\"\")","v":""}]
[{"$f":"IF(ISTEXT(ShareOfSearch_SERPS!C1981),ShareOfSearch_SERPS!C1981,\"\")","v":""},{"$f":"IF(ISTEXT(ShareOfSearch_SERPS!D1981),ShareOfSearch_SERPS!D1981,\"\")","v":""},{"$f":"IF(NOT(ISBLANK(ShareOfSearch_SERPS!A1981)),ShareOfSearch_SERPS!A1981,\"\")","v":""},{"$f":"IF(NOT(ISBLANK(ShareOfSearch_SERPS!G1981)),ShareOfSearch_SERPS!G1981,\"\")","v":""},{"$f":"IF(NOT(ISBLANK(ShareOfSearch_SERPS!K1981)),ShareOfSearch_SERPS!K1981,\"\")","v":""},{"$f":"IFERROR(VLOOKUP(C1981,ShareOfSearch_CTR!$A$1:$B$100,2,FALSE)*VLOOKUP(A1981&B1981,ShareOfSearch_Volume!$C$1:$D$1000,2,FALSE),\"\")","v":""}]
[{"$f":"IF(ISTEXT(ShareOfSearch_SERPS!C1982),ShareOfSearch_SERPS!C1982,\"\")","v":""},{"$f":"IF(ISTEXT(ShareOfSearch_SERPS!D1982),ShareOfSearch_SERPS!D1982,\"\")","v":""},{"$f":"IF(NOT(ISBLANK(ShareOfSearch_SERPS!A1982)),ShareOfSearch_SERPS!A1982,\"\")","v":""},{"$f":"IF(NOT(ISBLANK(ShareOfSearch_SERPS!G1982)),ShareOfSearch_SERPS!G1982,\"\")","v":""},{"$f":"IF(NOT(ISBLANK(ShareOfSearch_SERPS!K1982)),ShareOfSearch_SERPS!K1982,\"\")","v":""},{"$f":"IFERROR(VLOOKUP(C1982,ShareOfSearch_CTR!$A$1:$B$100,2,FALSE)*VLOOKUP(A1982&B1982,ShareOfSearch_Volume!$C$1:$D$1000,2,FALSE),\"\")","v":""}]
[{"$f":"IF(ISTEXT(ShareOfSearch_SERPS!C1983),ShareOfSearch_SERPS!C1983,\"\")","v":""},{"$f":"IF(ISTEXT(ShareOfSearch_SERPS!D1983),ShareOfSearch_SERPS!D1983,\"\")","v":""},{"$f":"IF(NOT(ISBLANK(ShareOfSearch_SERPS!A1983)),ShareOfSearch_SERPS!A1983,\"\")","v":""},{"$f":"IF(NOT(ISBLANK(ShareOfSearch_SERPS!G1983)),ShareOfSearch_SERPS!G1983,\"\")","v":""},{"$f":"IF(NOT(ISBLANK(ShareOfSearch_SERPS!K1983)),ShareOfSearch_SERPS!K1983,\"\")","v":""},{"$f":"IFERROR(VLOOKUP(C1983,ShareOfSearch_CTR!$A$1:$B$100,2,FALSE)*VLOOKUP(A1983&B1983,ShareOfSearch_Volume!$C$1:$D$1000,2,FALSE),\"\")","v":""}]
[{"$f":"IF(ISTEXT(ShareOfSearch_SERPS!C1984),ShareOfSearch_SERPS!C1984,\"\")","v":""},{"$f":"IF(ISTEXT(ShareOfSearch_SERPS!D1984),ShareOfSearch_SERPS!D1984,\"\")","v":""},{"$f":"IF(NOT(ISBLANK(ShareOfSearch_SERPS!A1984)),ShareOfSearch_SERPS!A1984,\"\")","v":""},{"$f":"IF(NOT(ISBLANK(ShareOfSearch_SERPS!G1984)),ShareOfSearch_SERPS!G1984,\"\")","v":""},{"$f":"IF(NOT(ISBLANK(ShareOfSearch_SERPS!K1984)),ShareOfSearch_SERPS!K1984,\"\")","v":""},{"$f":"IFERROR(VLOOKUP(C1984,ShareOfSearch_CTR!$A$1:$B$100,2,FALSE)*VLOOKUP(A1984&B1984,ShareOfSearch_Volume!$C$1:$D$1000,2,FALSE),\"\")","v":""}]
[{"$f":"IF(ISTEXT(ShareOfSearch_SERPS!C1985),ShareOfSearch_SERPS!C1985,\"\")","v":""},{"$f":"IF(ISTEXT(ShareOfSearch_SERPS!D1985),ShareOfSearch_SERPS!D1985,\"\")","v":""},{"$f":"IF(NOT(ISBLANK(ShareOfSearch_SERPS!A1985)),ShareOfSearch_SERPS!A1985,\"\")","v":""},{"$f":"IF(NOT(ISBLANK(ShareOfSearch_SERPS!G1985)),ShareOfSearch_SERPS!G1985,\"\")","v":""},{"$f":"IF(NOT(ISBLANK(ShareOfSearch_SERPS!K1985)),ShareOfSearch_SERPS!K1985,\"\")","v":""},{"$f":"IFERROR(VLOOKUP(C1985,ShareOfSearch_CTR!$A$1:$B$100,2,FALSE)*VLOOKUP(A1985&B1985,ShareOfSearch_Volume!$C$1:$D$1000,2,FALSE),\"\")","v":""}]
[{"$f":"IF(ISTEXT(ShareOfSearch_SERPS!C1986),ShareOfSearch_SERPS!C1986,\"\")","v":""},{"$f":"IF(ISTEXT(ShareOfSearch_SERPS!D1986),ShareOfSearch_SERPS!D1986,\"\")","v":""},{"$f":"IF(NOT(ISBLANK(ShareOfSearch_SERPS!A1986)),ShareOfSearch_SERPS!A1986,\"\")","v":""},{"$f":"IF(NOT(ISBLANK(ShareOfSearch_SERPS!G1986)),ShareOfSearch_SERPS!G1986,\"\")","v":""},{"$f":"IF(NOT(ISBLANK(ShareOfSearch_SERPS!K1986)),ShareOfSearch_SERPS!K1986,\"\")","v":""},{"$f":"IFERROR(VLOOKUP(C1986,ShareOfSearch_CTR!$A$1:$B$100,2,FALSE)*VLOOKUP(A1986&B1986,ShareOfSearch_Volume!$C$1:$D$1000,2,FALSE),\"\")","v":""}]
[{"$f":"IF(ISTEXT(ShareOfSearch_SERPS!C1987),ShareOfSearch_SERPS!C1987,\"\")","v":""},{"$f":"IF(ISTEXT(ShareOfSearch_SERPS!D1987),ShareOfSearch_SERPS!D1987,\"\")","v":""},{"$f":"IF(NOT(ISBLANK(ShareOfSearch_SERPS!A1987)),ShareOfSearch_SERPS!A1987,\"\")","v":""},{"$f":"IF(NOT(ISBLANK(ShareOfSearch_SERPS!G1987)),ShareOfSearch_SERPS!G1987,\"\")","v":""},{"$f":"IF(NOT(ISBLANK(ShareOfSearch_SERPS!K1987)),ShareOfSearch_SERPS!K1987,\"\")","v":""},{"$f":"IFERROR(VLOOKUP(C1987,ShareOfSearch_CTR!$A$1:$B$100,2,FALSE)*VLOOKUP(A1987&B1987,ShareOfSearch_Volume!$C$1:$D$1000,2,FALSE),\"\")","v":""}]
[{"$f":"IF(ISTEXT(ShareOfSearch_SERPS!C1988),ShareOfSearch_SERPS!C1988,\"\")","v":""},{"$f":"IF(ISTEXT(ShareOfSearch_SERPS!D1988),ShareOfSearch_SERPS!D1988,\"\")","v":""},{"$f":"IF(NOT(ISBLANK(ShareOfSearch_SERPS!A1988)),ShareOfSearch_SERPS!A1988,\"\")","v":""},{"$f":"IF(NOT(ISBLANK(ShareOfSearch_SERPS!G1988)),ShareOfSearch_SERPS!G1988,\"\")","v":""},{"$f":"IF(NOT(ISBLANK(ShareOfSearch_SERPS!K1988)),ShareOfSearch_SERPS!K1988,\"\")","v":""},{"$f":"IFERROR(VLOOKUP(C1988,ShareOfSearch_CTR!$A$1:$B$100,2,FALSE)*VLOOKUP(A1988&B1988,ShareOfSearch_Volume!$C$1:$D$1000,2,FALSE),\"\")","v":""}]
[{"$f":"IF(ISTEXT(ShareOfSearch_SERPS!C1989),ShareOfSearch_SERPS!C1989,\"\")","v":""},{"$f":"IF(ISTEXT(ShareOfSearch_SERPS!D1989),ShareOfSearch_SERPS!D1989,\"\")","v":""},{"$f":"IF(NOT(ISBLANK(ShareOfSearch_SERPS!A1989)),ShareOfSearch_SERPS!A1989,\"\")","v":""},{"$f":"IF(NOT(ISBLANK(ShareOfSearch_SERPS!G1989)),ShareOfSearch_SERPS!G1989,\"\")","v":""},{"$f":"IF(NOT(ISBLANK(ShareOfSearch_SERPS!K1989)),ShareOfSearch_SERPS!K1989,\"\")","v":""},{"$f":"IFERROR(VLOOKUP(C1989,ShareOfSearch_CTR!$A$1:$B$100,2,FALSE)*VLOOKUP(A1989&B1989,ShareOfSearch_Volume!$C$1:$D$1000,2,FALSE),\"\")","v":""}]
[{"$f":"IF(ISTEXT(ShareOfSearch_SERPS!C1990),ShareOfSearch_SERPS!C1990,\"\")","v":""},{"$f":"IF(ISTEXT(ShareOfSearch_SERPS!D1990),ShareOfSearch_SERPS!D1990,\"\")","v":""},{"$f":"IF(NOT(ISBLANK(ShareOfSearch_SERPS!A1990)),ShareOfSearch_SERPS!A1990,\"\")","v":""},{"$f":"IF(NOT(ISBLANK(ShareOfSearch_SERPS!G1990)),ShareOfSearch_SERPS!G1990,\"\")","v":""},{"$f":"IF(NOT(ISBLANK(ShareOfSearch_SERPS!K1990)),ShareOfSearch_SERPS!K1990,\"\")","v":""},{"$f":"IFERROR(VLOOKUP(C1990,ShareOfSearch_CTR!$A$1:$B$100,2,FALSE)*VLOOKUP(A1990&B1990,ShareOfSearch_Volume!$C$1:$D$1000,2,FALSE),\"\")","v":""}]
[{"$f":"IF(ISTEXT(ShareOfSearch_SERPS!C1991),ShareOfSearch_SERPS!C1991,\"\")","v":""},{"$f":"IF(ISTEXT(ShareOfSearch_SERPS!D1991),ShareOfSearch_SERPS!D1991,\"\")","v":""},{"$f":"IF(NOT(ISBLANK(ShareOfSearch_SERPS!A1991)),ShareOfSearch_SERPS!A1991,\"\")","v":""},{"$f":"IF(NOT(ISBLANK(ShareOfSearch_SERPS!G1991)),ShareOfSearch_SERPS!G1991,\"\")","v":""},{"$f":"IF(NOT(ISBLANK(ShareOfSearch_SERPS!K1991)),ShareOfSearch_SERPS!K1991,\"\")","v":""},{"$f":"IFERROR(VLOOKUP(C1991,ShareOfSearch_CTR!$A$1:$B$100,2,FALSE)*VLOOKUP(A1991&B1991,ShareOfSearch_Volume!$C$1:$D$1000,2,FALSE),\"\")","v":""}]
[{"$f":"IF(ISTEXT(ShareOfSearch_SERPS!C1992),ShareOfSearch_SERPS!C1992,\"\")","v":""},{"$f":"IF(ISTEXT(ShareOfSearch_SERPS!D1992),ShareOfSearch_SERPS!D1992,\"\")","v":""},{"$f":"IF(NOT(ISBLANK(ShareOfSearch_SERPS!A1992)),ShareOfSearch_SERPS!A1992,\"\")","v":""},{"$f":"IF(NOT(ISBLANK(ShareOfSearch_SERPS!G1992)),ShareOfSearch_SERPS!G1992,\"\")","v":""},{"$f":"IF(NOT(ISBLANK(ShareOfSearch_SERPS!K1992)),ShareOfSearch_SERPS!K1992,\"\")","v":""},{"$f":"IFERROR(VLOOKUP(C1992,ShareOfSearch_CTR!$A$1:$B$100,2,FALSE)*VLOOKUP(A1992&B1992,ShareOfSearch_Volume!$C$1:$D$1000,2,FALSE),\"\")","v":""}]
[{"$f":"IF(ISTEXT(ShareOfSearch_SERPS!C1993),ShareOfSearch_SERPS!C1993,\"\")","v":""},{"$f":"IF(ISTEXT(ShareOfSearch_SERPS!D1993),ShareOfSearch_SERPS!D1993,\"\")","v":""},{"$f":"IF(NOT(ISBLANK(ShareOfSearch_SERPS!A1993)),ShareOfSearch_SERPS!A1993,\"\")","v":""},{"$f":"IF(NOT(ISBLANK(ShareOfSearch_SERPS!G1993)),ShareOfSearch_SERPS!G1993,\"\")","v":""},{"$f":"IF(NOT(ISBLANK(ShareOfSearch_SERPS!K1993)),ShareOfSearch_SERPS!K1993,\"\")","v":""},{"$f":"IFERROR(VLOOKUP(C1993,ShareOfSearch_CTR!$A$1:$B$100,2,FALSE)*VLOOKUP(A1993&B1993,ShareOfSearch_Volume!$C$1:$D$1000,2,FALSE),\"\")","v":""}]
[{"$f":"IF(ISTEXT(ShareOfSearch_SERPS!C1994),ShareOfSearch_SERPS!C1994,\"\")","v":""},{"$f":"IF(ISTEXT(ShareOfSearch_SERPS!D1994),ShareOfSearch_SERPS!D1994,\"\")","v":""},{"$f":"IF(NOT(ISBLANK(ShareOfSearch_SERPS!A1994)),ShareOfSearch_SERPS!A1994,\"\")","v":""},{"$f":"IF(NOT(ISBLANK(ShareOfSearch_SERPS!G1994)),ShareOfSearch_SERPS!G1994,\"\")","v":""},{"$f":"IF(NOT(ISBLANK(ShareOfSearch_SERPS!K1994)),ShareOfSearch_SERPS!K1994,\"\")","v":""},{"$f":"IFERROR(VLOOKUP(C1994,ShareOfSearch_CTR!$A$1:$B$100,2,FALSE)*VLOOKUP(A1994&B1994,ShareOfSearch_Volume!$C$1:$D$1000,2,FALSE),\"\")","v":""}]
[{"$f":"IF(ISTEXT(ShareOfSearch_SERPS!C1995),ShareOfSearch_SERPS!C1995,\"\")","v":""},{"$f":"IF(ISTEXT(ShareOfSearch_SERPS!D1995),ShareOfSearch_SERPS!D1995,\"\")","v":""},{"$f":"IF(NOT(ISBLANK(ShareOfSearch_SERPS!A1995)),ShareOfSearch_SERPS!A1995,\"\")","v":""},{"$f":"IF(NOT(ISBLANK(ShareOfSearch_SERPS!G1995)),ShareOfSearch_SERPS!G1995,\"\")","v":""},{"$f":"IF(NOT(ISBLANK(ShareOfSearch_SERPS!K1995)),ShareOfSearch_SERPS!K1995,\"\")","v":""},{"$f":"IFERROR(VLOOKUP(C1995,ShareOfSearch_CTR!$A$1:$B$100,2,FALSE)*VLOOKUP(A1995&B1995,ShareOfSearch_Volume!$C$1:$D$1000,2,FALSE),\"\")","v":""}]
[{"$f":"IF(ISTEXT(ShareOfSearch_SERPS!C1996),ShareOfSearch_SERPS!C1996,\"\")","v":""},{"$f":"IF(ISTEXT(ShareOfSearch_SERPS!D1996),ShareOfSearch_SERPS!D1996,\"\")","v":""},{"$f":"IF(NOT(ISBLANK(ShareOfSearch_SERPS!A1996)),ShareOfSearch_SERPS!A1996,\"\")","v":""},{"$f":"IF(NOT(ISBLANK(ShareOfSearch_SERPS!G1996)),ShareOfSearch_SERPS!G1996,\"\")","v":""},{"$f":"IF(NOT(ISBLANK(ShareOfSearch_SERPS!K1996)),ShareOfSearch_SERPS!K1996,\"\")","v":""},{"$f":"IFERROR(VLOOKUP(C1996,ShareOfSearch_CTR!$A$1:$B$100,2,FALSE)*VLOOKUP(A1996&B1996,ShareOfSearch_Volume!$C$1:$D$1000,2,FALSE),\"\")","v":""}]
[{"$f":"IF(ISTEXT(ShareOfSearch_SERPS!C1997),ShareOfSearch_SERPS!C1997,\"\")","v":""},{"$f":"IF(ISTEXT(ShareOfSearch_SERPS!D1997),ShareOfSearch_SERPS!D1997,\"\")","v":""},{"$f":"IF(NOT(ISBLANK(ShareOfSearch_SERPS!A1997)),ShareOfSearch_SERPS!A1997,\"\")","v":""},{"$f":"IF(NOT(ISBLANK(ShareOfSearch_SERPS!G1997)),ShareOfSearch_SERPS!G1997,\"\")","v":""},{"$f":"IF(NOT(ISBLANK(ShareOfSearch_SERPS!K1997)),ShareOfSearch_SERPS!K1997,\"\")","v":""},{"$f":"IFERROR(VLOOKUP(C1997,ShareOfSearch_CTR!$A$1:$B$100,2,FALSE)*VLOOKUP(A1997&B1997,ShareOfSearch_Volume!$C$1:$D$1000,2,FALSE),\"\")","v":""}]
[{"$f":"IF(ISTEXT(ShareOfSearch_SERPS!C1998),ShareOfSearch_SERPS!C1998,\"\")","v":""},{"$f":"IF(ISTEXT(ShareOfSearch_SERPS!D1998),ShareOfSearch_SERPS!D1998,\"\")","v":""},{"$f":"IF(NOT(ISBLANK(ShareOfSearch_SERPS!A1998)),ShareOfSearch_SERPS!A1998,\"\")","v":""},{"$f":"IF(NOT(ISBLANK(ShareOfSearch_SERPS!G1998)),ShareOfSearch_SERPS!G1998,\"\")","v":""},{"$f":"IF(NOT(ISBLANK(ShareOfSearch_SERPS!K1998)),ShareOfSearch_SERPS!K1998,\"\")","v":""},{"$f":"IFERROR(VLOOKUP(C1998,ShareOfSearch_CTR!$A$1:$B$100,2,FALSE)*VLOOKUP(A1998&B1998,ShareOfSearch_Volume!$C$1:$D$1000,2,FALSE),\"\")","v":""}]
[{"$f":"IF(ISTEXT(ShareOfSearch_SERPS!C1999),ShareOfSearch_SERPS!C1999,\"\")","v":""},{"$f":"IF(ISTEXT(ShareOfSearch_SERPS!D1999),ShareOfSearch_SERPS!D1999,\"\")","v":""},{"$f":"IF(NOT(ISBLANK(ShareOfSearch_SERPS!A1999)),ShareOfSearch_SERPS!A1999,\"\")","v":""},{"$f":"IF(NOT(ISBLANK(ShareOfSearch_SERPS!G1999)),ShareOfSearch_SERPS!G1999,\"\")","v":""},{"$f":"IF(NOT(ISBLANK(ShareOfSearch_SERPS!K1999)),ShareOfSearch_SERPS!K1999,\"\")","v":""},{"$f":"IFERROR(VLOOKUP(C1999,ShareOfSearch_CTR!$A$1:$B$100,2,FALSE)*VLOOKUP(A1999&B1999,ShareOfSearch_Volume!$C$1:$D$1000,2,FALSE),\"\")","v":""}]
[{"$f":"IF(ISTEXT(ShareOfSearch_SERPS!C2000),ShareOfSearch_SERPS!C2000,\"\")","v":""},{"$f":"IF(ISTEXT(ShareOfSearch_SERPS!D2000),ShareOfSearch_SERPS!D2000,\"\")","v":""},{"$f":"IF(NOT(ISBLANK(ShareOfSearch_SERPS!A2000)),ShareOfSearch_SERPS!A2000,\"\")","v":""},{"$f":"IF(NOT(ISBLANK(ShareOfSearch_SERPS!G2000)),ShareOfSearch_SERPS!G2000,\"\")","v":""},{"$f":"IF(NOT(ISBLANK(ShareOfSearch_SERPS!K2000)),ShareOfSearch_SERPS!K2000,\"\")","v":""},{"$f":"IFERROR(VLOOKUP(C2000,ShareOfSearch_CTR!$A$1:$B$100,2,FALSE)*VLOOKUP(A2000&B2000,ShareOfSearch_Volume!$C$1:$D$1000,2,FALSE),\"\")","v":""}]
[{"$f":"IF(ISTEXT(ShareOfSearch_SERPS!C2001),ShareOfSearch_SERPS!C2001,\"\")","v":""},{"$f":"IF(ISTEXT(ShareOfSearch_SERPS!D2001),ShareOfSearch_SERPS!D2001,\"\")","v":""},{"$f":"IF(NOT(ISBLANK(ShareOfSearch_SERPS!A2001)),ShareOfSearch_SERPS!A2001,\"\")","v":""},{"$f":"IF(NOT(ISBLANK(ShareOfSearch_SERPS!G2001)),ShareOfSearch_SERPS!G2001,\"\")","v":""},{"$f":"IF(NOT(ISBLANK(ShareOfSearch_SERPS!K2001)),ShareOfSearch_SERPS!K2001,\"\")","v":""},{"$f":"IFERROR(VLOOKUP(C2001,ShareOfSearch_CTR!$A$1:$B$100,2,FALSE)*VLOOKUP(A2001&B2001,ShareOfSearch_Volume!$C$1:$D$1000,2,FALSE),\"\")","v":""}]
[{"$f":"IF(ISTEXT(ShareOfSearch_SERPS!C2002),ShareOfSearch_SERPS!C2002,\"\")","v":""},{"$f":"IF(ISTEXT(ShareOfSearch_SERPS!D2002),ShareOfSearch_SERPS!D2002,\"\")","v":""},{"$f":"IF(NOT(ISBLANK(ShareOfSearch_SERPS!A2002)),ShareOfSearch_SERPS!A2002,\"\")","v":""},{"$f":"IF(NOT(ISBLANK(ShareOfSearch_SERPS!G2002)),ShareOfSearch_SERPS!G2002,\"\")","v":""},{"$f":"IF(NOT(ISBLANK(ShareOfSearch_SERPS!K2002)),ShareOfSearch_SERPS!K2002,\"\")","v":""},{"$f":"IFERROR(VLOOKUP(C2002,ShareOfSearch_CTR!$A$1:$B$100,2,FALSE)*VLOOKUP(A2002&B2002,ShareOfSearch_Volume!$C$1:$D$1000,2,FALSE),\"\")","v":""}]
[{"$f":"IF(ISTEXT(ShareOfSearch_SERPS!C2003),ShareOfSearch_SERPS!C2003,\"\")","v":""},{"$f":"IF(ISTEXT(ShareOfSearch_SERPS!D2003),ShareOfSearch_SERPS!D2003,\"\")","v":""},{"$f":"IF(NOT(ISBLANK(ShareOfSearch_SERPS!A2003)),ShareOfSearch_SERPS!A2003,\"\")","v":""},{"$f":"IF(NOT(ISBLANK(ShareOfSearch_SERPS!G2003)),ShareOfSearch_SERPS!G2003,\"\")","v":""},{"$f":"IF(NOT(ISBLANK(ShareOfSearch_SERPS!K2003)),ShareOfSearch_SERPS!K2003,\"\")","v":""},{"$f":"IFERROR(VLOOKUP(C2003,ShareOfSearch_CTR!$A$1:$B$100,2,FALSE)*VLOOKUP(A2003&B2003,ShareOfSearch_Volume!$C$1:$D$1000,2,FALSE),\"\")","v":""}]
[{"$f":"IF(ISTEXT(ShareOfSearch_SERPS!C2004),ShareOfSearch_SERPS!C2004,\"\")","v":""},{"$f":"IF(ISTEXT(ShareOfSearch_SERPS!D2004),ShareOfSearch_SERPS!D2004,\"\")","v":""},{"$f":"IF(NOT(ISBLANK(ShareOfSearch_SERPS!A2004)),ShareOfSearch_SERPS!A2004,\"\")","v":""},{"$f":"IF(NOT(ISBLANK(ShareOfSearch_SERPS!G2004)),ShareOfSearch_SERPS!G2004,\"\")","v":""},{"$f":"IF(NOT(ISBLANK(ShareOfSearch_SERPS!K2004)),ShareOfSearch_SERPS!K2004,\"\")","v":""},{"$f":"IFERROR(VLOOKUP(C2004,ShareOfSearch_CTR!$A$1:$B$100,2,FALSE)*VLOOKUP(A2004&B2004,ShareOfSearch_Volume!$C$1:$D$1000,2,FALSE),\"\")","v":""}]
[{"$f":"IF(ISTEXT(ShareOfSearch_SERPS!C2005),ShareOfSearch_SERPS!C2005,\"\")","v":""},{"$f":"IF(ISTEXT(ShareOfSearch_SERPS!D2005),ShareOfSearch_SERPS!D2005,\"\")","v":""},{"$f":"IF(NOT(ISBLANK(ShareOfSearch_SERPS!A2005)),ShareOfSearch_SERPS!A2005,\"\")","v":""},{"$f":"IF(NOT(ISBLANK(ShareOfSearch_SERPS!G2005)),ShareOfSearch_SERPS!G2005,\"\")","v":""},{"$f":"IF(NOT(ISBLANK(ShareOfSearch_SERPS!K2005)),ShareOfSearch_SERPS!K2005,\"\")","v":""},{"$f":"IFERROR(VLOOKUP(C2005,ShareOfSearch_CTR!$A$1:$B$100,2,FALSE)*VLOOKUP(A2005&B2005,ShareOfSearch_Volume!$C$1:$D$1000,2,FALSE),\"\")","v":""}]
[{"$f":"IF(ISTEXT(ShareOfSearch_SERPS!C2006),ShareOfSearch_SERPS!C2006,\"\")","v":""},{"$f":"IF(ISTEXT(ShareOfSearch_SERPS!D2006),ShareOfSearch_SERPS!D2006,\"\")","v":""},{"$f":"IF(NOT(ISBLANK(ShareOfSearch_SERPS!A2006)),ShareOfSearch_SERPS!A2006,\"\")","v":""},{"$f":"IF(NOT(ISBLANK(ShareOfSearch_SERPS!G2006)),ShareOfSearch_SERPS!G2006,\"\")","v":""},{"$f":"IF(NOT(ISBLANK(ShareOfSearch_SERPS!K2006)),ShareOfSearch_SERPS!K2006,\"\")","v":""},{"$f":"IFERROR(VLOOKUP(C2006,ShareOfSearch_CTR!$A$1:$B$100,2,FALSE)*VLOOKUP(A2006&B2006,ShareOfSearch_Volume!$C$1:$D$1000,2,FALSE),\"\")","v":""}]
[{"$f":"IF(ISTEXT(ShareOfSearch_SERPS!C2007),ShareOfSearch_SERPS!C2007,\"\")","v":""},{"$f":"IF(ISTEXT(ShareOfSearch_SERPS!D2007),ShareOfSearch_SERPS!D2007,\"\")","v":""},{"$f":"IF(NOT(ISBLANK(ShareOfSearch_SERPS!A2007)),ShareOfSearch_SERPS!A2007,\"\")","v":""},{"$f":"IF(NOT(ISBLANK(ShareOfSearch_SERPS!G2007)),ShareOfSearch_SERPS!G2007,\"\")","v":""},{"$f":"IF(NOT(ISBLANK(ShareOfSearch_SERPS!K2007)),ShareOfSearch_SERPS!K2007,\"\")","v":""},{"$f":"IFERROR(VLOOKUP(C2007,ShareOfSearch_CTR!$A$1:$B$100,2,FALSE)*VLOOKUP(A2007&B2007,ShareOfSearch_Volume!$C$1:$D$1000,2,FALSE),\"\")","v":""}]
[{"$f":"IF(ISTEXT(ShareOfSearch_SERPS!C2008),ShareOfSearch_SERPS!C2008,\"\")","v":""},{"$f":"IF(ISTEXT(ShareOfSearch_SERPS!D2008),ShareOfSearch_SERPS!D2008,\"\")","v":""},{"$f":"IF(NOT(ISBLANK(ShareOfSearch_SERPS!A2008)),ShareOfSearch_SERPS!A2008,\"\")","v":""},{"$f":"IF(NOT(ISBLANK(ShareOfSearch_SERPS!G2008)),ShareOfSearch_SERPS!G2008,\"\")","v":""},{"$f":"IF(NOT(ISBLANK(ShareOfSearch_SERPS!K2008)),ShareOfSearch_SERPS!K2008,\"\")","v":""},{"$f":"IFERROR(VLOOKUP(C2008,ShareOfSearch_CTR!$A$1:$B$100,2,FALSE)*VLOOKUP(A2008&B2008,ShareOfSearch_Volume!$C$1:$D$1000,2,FALSE),\"\")","v":""}]
[{"$f":"IF(ISTEXT(ShareOfSearch_SERPS!C2009),ShareOfSearch_SERPS!C2009,\"\")","v":""},{"$f":"IF(ISTEXT(ShareOfSearch_SERPS!D2009),ShareOfSearch_SERPS!D2009,\"\")","v":""},{"$f":"IF(NOT(ISBLANK(ShareOfSearch_SERPS!A2009)),ShareOfSearch_SERPS!A2009,\"\")","v":""},{"$f":"IF(NOT(ISBLANK(ShareOfSearch_SERPS!G2009)),ShareOfSearch_SERPS!G2009,\"\")","v":""},{"$f":"IF(NOT(ISBLANK(ShareOfSearch_SERPS!K2009)),ShareOfSearch_SERPS!K2009,\"\")","v":""},{"$f":"IFERROR(VLOOKUP(C2009,ShareOfSearch_CTR!$A$1:$B$100,2,FALSE)*VLOOKUP(A2009&B2009,ShareOfSearch_Volume!$C$1:$D$1000,2,FALSE),\"\")","v":""}]
[{"$f":"IF(ISTEXT(ShareOfSearch_SERPS!C2010),ShareOfSearch_SERPS!C2010,\"\")","v":""},{"$f":"IF(ISTEXT(ShareOfSearch_SERPS!D2010),ShareOfSearch_SERPS!D2010,\"\")","v":""},{"$f":"IF(NOT(ISBLANK(ShareOfSearch_SERPS!A2010)),ShareOfSearch_SERPS!A2010,\"\")","v":""},{"$f":"IF(NOT(ISBLANK(ShareOfSearch_SERPS!G2010)),ShareOfSearch_SERPS!G2010,\"\")","v":""},{"$f":"IF(NOT(ISBLANK(ShareOfSearch_SERPS!K2010)),ShareOfSearch_SERPS!K2010,\"\")","v":""},{"$f":"IFERROR(VLOOKUP(C2010,ShareOfSearch_CTR!$A$1:$B$100,2,FALSE)*VLOOKUP(A2010&B2010,ShareOfSearch_Volume!$C$1:$D$1000,2,FALSE),\"\")","v":""}]
[{"$f":"IF(ISTEXT(ShareOfSearch_SERPS!C2011),ShareOfSearch_SERPS!C2011,\"\")","v":""},{"$f":"IF(ISTEXT(ShareOfSearch_SERPS!D2011),ShareOfSearch_SERPS!D2011,\"\")","v":""},{"$f":"IF(NOT(ISBLANK(ShareOfSearch_SERPS!A2011)),ShareOfSearch_SERPS!A2011,\"\")","v":""},{"$f":"IF(NOT(ISBLANK(ShareOfSearch_SERPS!G2011)),ShareOfSearch_SERPS!G2011,\"\")","v":""},{"$f":"IF(NOT(ISBLANK(ShareOfSearch_SERPS!K2011)),ShareOfSearch_SERPS!K2011,\"\")","v":""},{"$f":"IFERROR(VLOOKUP(C2011,ShareOfSearch_CTR!$A$1:$B$100,2,FALSE)*VLOOKUP(A2011&B2011,ShareOfSearch_Volume!$C$1:$D$1000,2,FALSE),\"\")","v":""}]
[{"$f":"IF(ISTEXT(ShareOfSearch_SERPS!C2012),ShareOfSearch_SERPS!C2012,\"\")","v":""},{"$f":"IF(ISTEXT(ShareOfSearch_SERPS!D2012),ShareOfSearch_SERPS!D2012,\"\")","v":""},{"$f":"IF(NOT(ISBLANK(ShareOfSearch_SERPS!A2012)),ShareOfSearch_SERPS!A2012,\"\")","v":""},{"$f":"IF(NOT(ISBLANK(ShareOfSearch_SERPS!G2012)),ShareOfSearch_SERPS!G2012,\"\")","v":""},{"$f":"IF(NOT(ISBLANK(ShareOfSearch_SERPS!K2012)),ShareOfSearch_SERPS!K2012,\"\")","v":""},{"$f":"IFERROR(VLOOKUP(C2012,ShareOfSearch_CTR!$A$1:$B$100,2,FALSE)*VLOOKUP(A2012&B2012,ShareOfSearch_Volume!$C$1:$D$1000,2,FALSE),\"\")","v":""}]
[{"$f":"IF(ISTEXT(ShareOfSearch_SERPS!C2013),ShareOfSearch_SERPS!C2013,\"\")","v":""},{"$f":"IF(ISTEXT(ShareOfSearch_SERPS!D2013),ShareOfSearch_SERPS!D2013,\"\")","v":""},{"$f":"IF(NOT(ISBLANK(ShareOfSearch_SERPS!A2013)),ShareOfSearch_SERPS!A2013,\"\")","v":""},{"$f":"IF(NOT(ISBLANK(ShareOfSearch_SERPS!G2013)),ShareOfSearch_SERPS!G2013,\"\")","v":""},{"$f":"IF(NOT(ISBLANK(ShareOfSearch_SERPS!K2013)),ShareOfSearch_SERPS!K2013,\"\")","v":""},{"$f":"IFERROR(VLOOKUP(C2013,ShareOfSearch_CTR!$A$1:$B$100,2,FALSE)*VLOOKUP(A2013&B2013,ShareOfSearch_Volume!$C$1:$D$1000,2,FALSE),\"\")","v":""}]
[{"$f":"IF(ISTEXT(ShareOfSearch_SERPS!C2014),ShareOfSearch_SERPS!C2014,\"\")","v":""},{"$f":"IF(ISTEXT(ShareOfSearch_SERPS!D2014),ShareOfSearch_SERPS!D2014,\"\")","v":""},{"$f":"IF(NOT(ISBLANK(ShareOfSearch_SERPS!A2014)),ShareOfSearch_SERPS!A2014,\"\")","v":""},{"$f":"IF(NOT(ISBLANK(ShareOfSearch_SERPS!G2014)),ShareOfSearch_SERPS!G2014,\"\")","v":""},{"$f":"IF(NOT(ISBLANK(ShareOfSearch_SERPS!K2014)),ShareOfSearch_SERPS!K2014,\"\")","v":""},{"$f":"IFERROR(VLOOKUP(C2014,ShareOfSearch_CTR!$A$1:$B$100,2,FALSE)*VLOOKUP(A2014&B2014,ShareOfSearch_Volume!$C$1:$D$1000,2,FALSE),\"\")","v":""}]
[{"$f":"IF(ISTEXT(ShareOfSearch_SERPS!C2015),ShareOfSearch_SERPS!C2015,\"\")","v":""},{"$f":"IF(ISTEXT(ShareOfSearch_SERPS!D2015),ShareOfSearch_SERPS!D2015,\"\")","v":""},{"$f":"IF(NOT(ISBLANK(ShareOfSearch_SERPS!A2015)),ShareOfSearch_SERPS!A2015,\"\")","v":""},{"$f":"IF(NOT(ISBLANK(ShareOfSearch_SERPS!G2015)),ShareOfSearch_SERPS!G2015,\"\")","v":""},{"$f":"IF(NOT(ISBLANK(ShareOfSearch_SERPS!K2015)),ShareOfSearch_SERPS!K2015,\"\")","v":""},{"$f":"IFERROR(VLOOKUP(C2015,ShareOfSearch_CTR!$A$1:$B$100,2,FALSE)*VLOOKUP(A2015&B2015,ShareOfSearch_Volume!$C$1:$D$1000,2,FALSE),\"\")","v":""}]
[{"$f":"IF(ISTEXT(ShareOfSearch_SERPS!C2016),ShareOfSearch_SERPS!C2016,\"\")","v":""},{"$f":"IF(ISTEXT(ShareOfSearch_SERPS!D2016),ShareOfSearch_SERPS!D2016,\"\")","v":""},{"$f":"IF(NOT(ISBLANK(ShareOfSearch_SERPS!A2016)),ShareOfSearch_SERPS!A2016,\"\")","v":""},{"$f":"IF(NOT(ISBLANK(ShareOfSearch_SERPS!G2016)),ShareOfSearch_SERPS!G2016,\"\")","v":""},{"$f":"IF(NOT(ISBLANK(ShareOfSearch_SERPS!K2016)),ShareOfSearch_SERPS!K2016,\"\")","v":""},{"$f":"IFERROR(VLOOKUP(C2016,ShareOfSearch_CTR!$A$1:$B$100,2,FALSE)*VLOOKUP(A2016&B2016,ShareOfSearch_Volume!$C$1:$D$1000,2,FALSE),\"\")","v":""}]
[{"$f":"IF(ISTEXT(ShareOfSearch_SERPS!C2017),ShareOfSearch_SERPS!C2017,\"\")","v":""},{"$f":"IF(ISTEXT(ShareOfSearch_SERPS!D2017),ShareOfSearch_SERPS!D2017,\"\")","v":""},{"$f":"IF(NOT(ISBLANK(ShareOfSearch_SERPS!A2017)),ShareOfSearch_SERPS!A2017,\"\")","v":""},{"$f":"IF(NOT(ISBLANK(ShareOfSearch_SERPS!G2017)),ShareOfSearch_SERPS!G2017,\"\")","v":""},{"$f":"IF(NOT(ISBLANK(ShareOfSearch_SERPS!K2017)),ShareOfSearch_SERPS!K2017,\"\")","v":""},{"$f":"IFERROR(VLOOKUP(C2017,ShareOfSearch_CTR!$A$1:$B$100,2,FALSE)*VLOOKUP(A2017&B2017,ShareOfSearch_Volume!$C$1:$D$1000,2,FALSE),\"\")","v":""}]
[{"$f":"IF(ISTEXT(ShareOfSearch_SERPS!C2018),ShareOfSearch_SERPS!C2018,\"\")","v":""},{"$f":"IF(ISTEXT(ShareOfSearch_SERPS!D2018),ShareOfSearch_SERPS!D2018,\"\")","v":""},{"$f":"IF(NOT(ISBLANK(ShareOfSearch_SERPS!A2018)),ShareOfSearch_SERPS!A2018,\"\")","v":""},{"$f":"IF(NOT(ISBLANK(ShareOfSearch_SERPS!G2018)),ShareOfSearch_SERPS!G2018,\"\")","v":""},{"$f":"IF(NOT(ISBLANK(ShareOfSearch_SERPS!K2018)),ShareOfSearch_SERPS!K2018,\"\")","v":""},{"$f":"IFERROR(VLOOKUP(C2018,ShareOfSearch_CTR!$A$1:$B$100,2,FALSE)*VLOOKUP(A2018&B2018,ShareOfSearch_Volume!$C$1:$D$1000,2,FALSE),\"\")","v":""}]
[{"$f":"IF(ISTEXT(ShareOfSearch_SERPS!C2019),ShareOfSearch_SERPS!C2019,\"\")","v":""},{"$f":"IF(ISTEXT(ShareOfSearch_SERPS!D2019),ShareOfSearch_SERPS!D2019,\"\")","v":""},{"$f":"IF(NOT(ISBLANK(ShareOfSearch_SERPS!A2019)),ShareOfSearch_SERPS!A2019,\"\")","v":""},{"$f":"IF(NOT(ISBLANK(ShareOfSearch_SERPS!G2019)),ShareOfSearch_SERPS!G2019,\"\")","v":""},{"$f":"IF(NOT(ISBLANK(ShareOfSearch_SERPS!K2019)),ShareOfSearch_SERPS!K2019,\"\")","v":""},{"$f":"IFERROR(VLOOKUP(C2019,ShareOfSearch_CTR!$A$1:$B$100,2,FALSE)*VLOOKUP(A2019&B2019,ShareOfSearch_Volume!$C$1:$D$1000,2,FALSE),\"\")","v":""}]
[{"$f":"IF(ISTEXT(ShareOfSearch_SERPS!C2020),ShareOfSearch_SERPS!C2020,\"\")","v":""},{"$f":"IF(ISTEXT(ShareOfSearch_SERPS!D2020),ShareOfSearch_SERPS!D2020,\"\")","v":""},{"$f":"IF(NOT(ISBLANK(ShareOfSearch_SERPS!A2020)),ShareOfSearch_SERPS!A2020,\"\")","v":""},{"$f":"IF(NOT(ISBLANK(ShareOfSearch_SERPS!G2020)),ShareOfSearch_SERPS!G2020,\"\")","v":""},{"$f":"IF(NOT(ISBLANK(ShareOfSearch_SERPS!K2020)),ShareOfSearch_SERPS!K2020,\"\")","v":""},{"$f":"IFERROR(VLOOKUP(C2020,ShareOfSearch_CTR!$A$1:$B$100,2,FALSE)*VLOOKUP(A2020&B2020,ShareOfSearch_Volume!$C$1:$D$1000,2,FALSE),\"\")","v":""}]
[{"$f":"IF(ISTEXT(ShareOfSearch_SERPS!C2021),ShareOfSearch_SERPS!C2021,\"\")","v":""},{"$f":"IF(ISTEXT(ShareOfSearch_SERPS!D2021),ShareOfSearch_SERPS!D2021,\"\")","v":""},{"$f":"IF(NOT(ISBLANK(ShareOfSearch_SERPS!A2021)),ShareOfSearch_SERPS!A2021,\"\")","v":""},{"$f":"IF(NOT(ISBLANK(ShareOfSearch_SERPS!G2021)),ShareOfSearch_SERPS!G2021,\"\")","v":""},{"$f":"IF(NOT(ISBLANK(ShareOfSearch_SERPS!K2021)),ShareOfSearch_SERPS!K2021,\"\")","v":""},{"$f":"IFERROR(VLOOKUP(C2021,ShareOfSearch_CTR!$A$1:$B$100,2,FALSE)*VLOOKUP(A2021&B2021,ShareOfSearch_Volume!$C$1:$D$1000,2,FALSE),\"\")","v":""}]
[{"$f":"IF(ISTEXT(ShareOfSearch_SERPS!C2022),ShareOfSearch_SERPS!C2022,\"\")","v":""},{"$f":"IF(ISTEXT(ShareOfSearch_SERPS!D2022),ShareOfSearch_SERPS!D2022,\"\")","v":""},{"$f":"IF(NOT(ISBLANK(ShareOfSearch_SERPS!A2022)),ShareOfSearch_SERPS!A2022,\"\")","v":""},{"$f":"IF(NOT(ISBLANK(ShareOfSearch_SERPS!G2022)),ShareOfSearch_SERPS!G2022,\"\")","v":""},{"$f":"IF(NOT(ISBLANK(ShareOfSearch_SERPS!K2022)),ShareOfSearch_SERPS!K2022,\"\")","v":""},{"$f":"IFERROR(VLOOKUP(C2022,ShareOfSearch_CTR!$A$1:$B$100,2,FALSE)*VLOOKUP(A2022&B2022,ShareOfSearch_Volume!$C$1:$D$1000,2,FALSE),\"\")","v":""}]
[{"$f":"IF(ISTEXT(ShareOfSearch_SERPS!C2023),ShareOfSearch_SERPS!C2023,\"\")","v":""},{"$f":"IF(ISTEXT(ShareOfSearch_SERPS!D2023),ShareOfSearch_SERPS!D2023,\"\")","v":""},{"$f":"IF(NOT(ISBLANK(ShareOfSearch_SERPS!A2023)),ShareOfSearch_SERPS!A2023,\"\")","v":""},{"$f":"IF(NOT(ISBLANK(ShareOfSearch_SERPS!G2023)),ShareOfSearch_SERPS!G2023,\"\")","v":""},{"$f":"IF(NOT(ISBLANK(ShareOfSearch_SERPS!K2023)),ShareOfSearch_SERPS!K2023,\"\")","v":""},{"$f":"IFERROR(VLOOKUP(C2023,ShareOfSearch_CTR!$A$1:$B$100,2,FALSE)*VLOOKUP(A2023&B2023,ShareOfSearch_Volume!$C$1:$D$1000,2,FALSE),\"\")","v":""}]
[{"$f":"IF(ISTEXT(ShareOfSearch_SERPS!C2024),ShareOfSearch_SERPS!C2024,\"\")","v":""},{"$f":"IF(ISTEXT(ShareOfSearch_SERPS!D2024),ShareOfSearch_SERPS!D2024,\"\")","v":""},{"$f":"IF(NOT(ISBLANK(ShareOfSearch_SERPS!A2024)),ShareOfSearch_SERPS!A2024,\"\")","v":""},{"$f":"IF(NOT(ISBLANK(ShareOfSearch_SERPS!G2024)),ShareOfSearch_SERPS!G2024,\"\")","v":""},{"$f":"IF(NOT(ISBLANK(ShareOfSearch_SERPS!K2024)),ShareOfSearch_SERPS!K2024,\"\")","v":""},{"$f":"IFERROR(VLOOKUP(C2024,ShareOfSearch_CTR!$A$1:$B$100,2,FALSE)*VLOOKUP(A2024&B2024,ShareOfSearch_Volume!$C$1:$D$1000,2,FALSE),\"\")","v":""}]
[{"$f":"IF(ISTEXT(ShareOfSearch_SERPS!C2025),ShareOfSearch_SERPS!C2025,\"\")","v":""},{"$f":"IF(ISTEXT(ShareOfSearch_SERPS!D2025),ShareOfSearch_SERPS!D2025,\"\")","v":""},{"$f":"IF(NOT(ISBLANK(ShareOfSearch_SERPS!A2025)),ShareOfSearch_SERPS!A2025,\"\")","v":""},{"$f":"IF(NOT(ISBLANK(ShareOfSearch_SERPS!G2025)),ShareOfSearch_SERPS!G2025,\"\")","v":""},{"$f":"IF(NOT(ISBLANK(ShareOfSearch_SERPS!K2025)),ShareOfSearch_SERPS!K2025,\"\")","v":""},{"$f":"IFERROR(VLOOKUP(C2025,ShareOfSearch_CTR!$A$1:$B$100,2,FALSE)*VLOOKUP(A2025&B2025,ShareOfSearch_Volume!$C$1:$D$1000,2,FALSE),\"\")","v":""}]
[{"$f":"IF(ISTEXT(ShareOfSearch_SERPS!C2026),ShareOfSearch_SERPS!C2026,\"\")","v":""},{"$f":"IF(ISTEXT(ShareOfSearch_SERPS!D2026),ShareOfSearch_SERPS!D2026,\"\")","v":""},{"$f":"IF(NOT(ISBLANK(ShareOfSearch_SERPS!A2026)),ShareOfSearch_SERPS!A2026,\"\")","v":""},{"$f":"IF(NOT(ISBLANK(ShareOfSearch_SERPS!G2026)),ShareOfSearch_SERPS!G2026,\"\")","v":""},{"$f":"IF(NOT(ISBLANK(ShareOfSearch_SERPS!K2026)),ShareOfSearch_SERPS!K2026,\"\")","v":""},{"$f":"IFERROR(VLOOKUP(C2026,ShareOfSearch_CTR!$A$1:$B$100,2,FALSE)*VLOOKUP(A2026&B2026,ShareOfSearch_Volume!$C$1:$D$1000,2,FALSE),\"\")","v":""}]
[{"$f":"IF(ISTEXT(ShareOfSearch_SERPS!C2027),ShareOfSearch_SERPS!C2027,\"\")","v":""},{"$f":"IF(ISTEXT(ShareOfSearch_SERPS!D2027),ShareOfSearch_SERPS!D2027,\"\")","v":""},{"$f":"IF(NOT(ISBLANK(ShareOfSearch_SERPS!A2027)),ShareOfSearch_SERPS!A2027,\"\")","v":""},{"$f":"IF(NOT(ISBLANK(ShareOfSearch_SERPS!G2027)),ShareOfSearch_SERPS!G2027,\"\")","v":""},{"$f":"IF(NOT(ISBLANK(ShareOfSearch_SERPS!K2027)),ShareOfSearch_SERPS!K2027,\"\")","v":""},{"$f":"IFERROR(VLOOKUP(C2027,ShareOfSearch_CTR!$A$1:$B$100,2,FALSE)*VLOOKUP(A2027&B2027,ShareOfSearch_Volume!$C$1:$D$1000,2,FALSE),\"\")","v":""}]
[{"$f":"IF(ISTEXT(ShareOfSearch_SERPS!C2028),ShareOfSearch_SERPS!C2028,\"\")","v":""},{"$f":"IF(ISTEXT(ShareOfSearch_SERPS!D2028),ShareOfSearch_SERPS!D2028,\"\")","v":""},{"$f":"IF(NOT(ISBLANK(ShareOfSearch_SERPS!A2028)),ShareOfSearch_SERPS!A2028,\"\")","v":""},{"$f":"IF(NOT(ISBLANK(ShareOfSearch_SERPS!G2028)),ShareOfSearch_SERPS!G2028,\"\")","v":""},{"$f":"IF(NOT(ISBLANK(ShareOfSearch_SERPS!K2028)),ShareOfSearch_SERPS!K2028,\"\")","v":""},{"$f":"IFERROR(VLOOKUP(C2028,ShareOfSearch_CTR!$A$1:$B$100,2,FALSE)*VLOOKUP(A2028&B2028,ShareOfSearch_Volume!$C$1:$D$1000,2,FALSE),\"\")","v":""}]
[{"$f":"IF(ISTEXT(ShareOfSearch_SERPS!C2029),ShareOfSearch_SERPS!C2029,\"\")","v":""},{"$f":"IF(ISTEXT(ShareOfSearch_SERPS!D2029),ShareOfSearch_SERPS!D2029,\"\")","v":""},{"$f":"IF(NOT(ISBLANK(ShareOfSearch_SERPS!A2029)),ShareOfSearch_SERPS!A2029,\"\")","v":""},{"$f":"IF(NOT(ISBLANK(ShareOfSearch_SERPS!G2029)),ShareOfSearch_SERPS!G2029,\"\")","v":""},{"$f":"IF(NOT(ISBLANK(ShareOfSearch_SERPS!K2029)),ShareOfSearch_SERPS!K2029,\"\")","v":""},{"$f":"IFERROR(VLOOKUP(C2029,ShareOfSearch_CTR!$A$1:$B$100,2,FALSE)*VLOOKUP(A2029&B2029,ShareOfSearch_Volume!$C$1:$D$1000,2,FALSE),\"\")","v":""}]
[{"$f":"IF(ISTEXT(ShareOfSearch_SERPS!C2030),ShareOfSearch_SERPS!C2030,\"\")","v":""},{"$f":"IF(ISTEXT(ShareOfSearch_SERPS!D2030),ShareOfSearch_SERPS!D2030,\"\")","v":""},{"$f":"IF(NOT(ISBLANK(ShareOfSearch_SERPS!A2030)),ShareOfSearch_SERPS!A2030,\"\")","v":""},{"$f":"IF(NOT(ISBLANK(ShareOfSearch_SERPS!G2030)),ShareOfSearch_SERPS!G2030,\"\")","v":""},{"$f":"IF(NOT(ISBLANK(ShareOfSearch_SERPS!K2030)),ShareOfSearch_SERPS!K2030,\"\")","v":""},{"$f":"IFERROR(VLOOKUP(C2030,ShareOfSearch_CTR!$A$1:$B$100,2,FALSE)*VLOOKUP(A2030&B2030,ShareOfSearch_Volume!$C$1:$D$1000,2,FALSE),\"\")","v":""}]
[{"$f":"IF(ISTEXT(ShareOfSearch_SERPS!C2031),ShareOfSearch_SERPS!C2031,\"\")","v":""},{"$f":"IF(ISTEXT(ShareOfSearch_SERPS!D2031),ShareOfSearch_SERPS!D2031,\"\")","v":""},{"$f":"IF(NOT(ISBLANK(ShareOfSearch_SERPS!A2031)),ShareOfSearch_SERPS!A2031,\"\")","v":""},{"$f":"IF(NOT(ISBLANK(ShareOfSearch_SERPS!G2031)),ShareOfSearch_SERPS!G2031,\"\")","v":""},{"$f":"IF(NOT(ISBLANK(ShareOfSearch_SERPS!K2031)),ShareOfSearch_SERPS!K2031,\"\")","v":""},{"$f":"IFERROR(VLOOKUP(C2031,ShareOfSearch_CTR!$A$1:$B$100,2,FALSE)*VLOOKUP(A2031&B2031,ShareOfSearch_Volume!$C$1:$D$1000,2,FALSE),\"\")","v":""}]
[{"$f":"IF(ISTEXT(ShareOfSearch_SERPS!C2032),ShareOfSearch_SERPS!C2032,\"\")","v":""},{"$f":"IF(ISTEXT(ShareOfSearch_SERPS!D2032),ShareOfSearch_SERPS!D2032,\"\")","v":""},{"$f":"IF(NOT(ISBLANK(ShareOfSearch_SERPS!A2032)),ShareOfSearch_SERPS!A2032,\"\")","v":""},{"$f":"IF(NOT(ISBLANK(ShareOfSearch_SERPS!G2032)),ShareOfSearch_SERPS!G2032,\"\")","v":""},{"$f":"IF(NOT(ISBLANK(ShareOfSearch_SERPS!K2032)),ShareOfSearch_SERPS!K2032,\"\")","v":""},{"$f":"IFERROR(VLOOKUP(C2032,ShareOfSearch_CTR!$A$1:$B$100,2,FALSE)*VLOOKUP(A2032&B2032,ShareOfSearch_Volume!$C$1:$D$1000,2,FALSE),\"\")","v":""}]
[{"$f":"IF(ISTEXT(ShareOfSearch_SERPS!C2033),ShareOfSearch_SERPS!C2033,\"\")","v":""},{"$f":"IF(ISTEXT(ShareOfSearch_SERPS!D2033),ShareOfSearch_SERPS!D2033,\"\")","v":""},{"$f":"IF(NOT(ISBLANK(ShareOfSearch_SERPS!A2033)),ShareOfSearch_SERPS!A2033,\"\")","v":""},{"$f":"IF(NOT(ISBLANK(ShareOfSearch_SERPS!G2033)),ShareOfSearch_SERPS!G2033,\"\")","v":""},{"$f":"IF(NOT(ISBLANK(ShareOfSearch_SERPS!K2033)),ShareOfSearch_SERPS!K2033,\"\")","v":""},{"$f":"IFERROR(VLOOKUP(C2033,ShareOfSearch_CTR!$A$1:$B$100,2,FALSE)*VLOOKUP(A2033&B2033,ShareOfSearch_Volume!$C$1:$D$1000,2,FALSE),\"\")","v":""}]
[{"$f":"IF(ISTEXT(ShareOfSearch_SERPS!C2034),ShareOfSearch_SERPS!C2034,\"\")","v":""},{"$f":"IF(ISTEXT(ShareOfSearch_SERPS!D2034),ShareOfSearch_SERPS!D2034,\"\")","v":""},{"$f":"IF(NOT(ISBLANK(ShareOfSearch_SERPS!A2034)),ShareOfSearch_SERPS!A2034,\"\")","v":""},{"$f":"IF(NOT(ISBLANK(ShareOfSearch_SERPS!G2034)),ShareOfSearch_SERPS!G2034,\"\")","v":""},{"$f":"IF(NOT(ISBLANK(ShareOfSearch_SERPS!K2034)),ShareOfSearch_SERPS!K2034,\"\")","v":""},{"$f":"IFERROR(VLOOKUP(C2034,ShareOfSearch_CTR!$A$1:$B$100,2,FALSE)*VLOOKUP(A2034&B2034,ShareOfSearch_Volume!$C$1:$D$1000,2,FALSE),\"\")","v":""}]
[{"$f":"IF(ISTEXT(ShareOfSearch_SERPS!C2035),ShareOfSearch_SERPS!C2035,\"\")","v":""},{"$f":"IF(ISTEXT(ShareOfSearch_SERPS!D2035),ShareOfSearch_SERPS!D2035,\"\")","v":""},{"$f":"IF(NOT(ISBLANK(ShareOfSearch_SERPS!A2035)),ShareOfSearch_SERPS!A2035,\"\")","v":""},{"$f":"IF(NOT(ISBLANK(ShareOfSearch_SERPS!G2035)),ShareOfSearch_SERPS!G2035,\"\")","v":""},{"$f":"IF(NOT(ISBLANK(ShareOfSearch_SERPS!K2035)),ShareOfSearch_SERPS!K2035,\"\")","v":""},{"$f":"IFERROR(VLOOKUP(C2035,ShareOfSearch_CTR!$A$1:$B$100,2,FALSE)*VLOOKUP(A2035&B2035,ShareOfSearch_Volume!$C$1:$D$1000,2,FALSE),\"\")","v":""}]
[{"$f":"IF(ISTEXT(ShareOfSearch_SERPS!C2036),ShareOfSearch_SERPS!C2036,\"\")","v":""},{"$f":"IF(ISTEXT(ShareOfSearch_SERPS!D2036),ShareOfSearch_SERPS!D2036,\"\")","v":""},{"$f":"IF(NOT(ISBLANK(ShareOfSearch_SERPS!A2036)),ShareOfSearch_SERPS!A2036,\"\")","v":""},{"$f":"IF(NOT(ISBLANK(ShareOfSearch_SERPS!G2036)),ShareOfSearch_SERPS!G2036,\"\")","v":""},{"$f":"IF(NOT(ISBLANK(ShareOfSearch_SERPS!K2036)),ShareOfSearch_SERPS!K2036,\"\")","v":""},{"$f":"IFERROR(VLOOKUP(C2036,ShareOfSearch_CTR!$A$1:$B$100,2,FALSE)*VLOOKUP(A2036&B2036,ShareOfSearch_Volume!$C$1:$D$1000,2,FALSE),\"\")","v":""}]
[{"$f":"IF(ISTEXT(ShareOfSearch_SERPS!C2037),ShareOfSearch_SERPS!C2037,\"\")","v":""},{"$f":"IF(ISTEXT(ShareOfSearch_SERPS!D2037),ShareOfSearch_SERPS!D2037,\"\")","v":""},{"$f":"IF(NOT(ISBLANK(ShareOfSearch_SERPS!A2037)),ShareOfSearch_SERPS!A2037,\"\")","v":""},{"$f":"IF(NOT(ISBLANK(ShareOfSearch_SERPS!G2037)),ShareOfSearch_SERPS!G2037,\"\")","v":""},{"$f":"IF(NOT(ISBLANK(ShareOfSearch_SERPS!K2037)),ShareOfSearch_SERPS!K2037,\"\")","v":""},{"$f":"IFERROR(VLOOKUP(C2037,ShareOfSearch_CTR!$A$1:$B$100,2,FALSE)*VLOOKUP(A2037&B2037,ShareOfSearch_Volume!$C$1:$D$1000,2,FALSE),\"\")","v":""}]
[{"$f":"IF(ISTEXT(ShareOfSearch_SERPS!C2038),ShareOfSearch_SERPS!C2038,\"\")","v":""},{"$f":"IF(ISTEXT(ShareOfSearch_SERPS!D2038),ShareOfSearch_SERPS!D2038,\"\")","v":""},{"$f":"IF(NOT(ISBLANK(ShareOfSearch_SERPS!A2038)),ShareOfSearch_SERPS!A2038,\"\")","v":""},{"$f":"IF(NOT(ISBLANK(ShareOfSearch_SERPS!G2038)),ShareOfSearch_SERPS!G2038,\"\")","v":""},{"$f":"IF(NOT(ISBLANK(ShareOfSearch_SERPS!K2038)),ShareOfSearch_SERPS!K2038,\"\")","v":""},{"$f":"IFERROR(VLOOKUP(C2038,ShareOfSearch_CTR!$A$1:$B$100,2,FALSE)*VLOOKUP(A2038&B2038,ShareOfSearch_Volume!$C$1:$D$1000,2,FALSE),\"\")","v":""}]
[{"$f":"IF(ISTEXT(ShareOfSearch_SERPS!C2039),ShareOfSearch_SERPS!C2039,\"\")","v":""},{"$f":"IF(ISTEXT(ShareOfSearch_SERPS!D2039),ShareOfSearch_SERPS!D2039,\"\")","v":""},{"$f":"IF(NOT(ISBLANK(ShareOfSearch_SERPS!A2039)),ShareOfSearch_SERPS!A2039,\"\")","v":""},{"$f":"IF(NOT(ISBLANK(ShareOfSearch_SERPS!G2039)),ShareOfSearch_SERPS!G2039,\"\")","v":""},{"$f":"IF(NOT(ISBLANK(ShareOfSearch_SERPS!K2039)),ShareOfSearch_SERPS!K2039,\"\")","v":""},{"$f":"IFERROR(VLOOKUP(C2039,ShareOfSearch_CTR!$A$1:$B$100,2,FALSE)*VLOOKUP(A2039&B2039,ShareOfSearch_Volume!$C$1:$D$1000,2,FALSE),\"\")","v":""}]
[{"$f":"IF(ISTEXT(ShareOfSearch_SERPS!C2040),ShareOfSearch_SERPS!C2040,\"\")","v":""},{"$f":"IF(ISTEXT(ShareOfSearch_SERPS!D2040),ShareOfSearch_SERPS!D2040,\"\")","v":""},{"$f":"IF(NOT(ISBLANK(ShareOfSearch_SERPS!A2040)),ShareOfSearch_SERPS!A2040,\"\")","v":""},{"$f":"IF(NOT(ISBLANK(ShareOfSearch_SERPS!G2040)),ShareOfSearch_SERPS!G2040,\"\")","v":""},{"$f":"IF(NOT(ISBLANK(ShareOfSearch_SERPS!K2040)),ShareOfSearch_SERPS!K2040,\"\")","v":""},{"$f":"IFERROR(VLOOKUP(C2040,ShareOfSearch_CTR!$A$1:$B$100,2,FALSE)*VLOOKUP(A2040&B2040,ShareOfSearch_Volume!$C$1:$D$1000,2,FALSE),\"\")","v":""}]
[{"$f":"IF(ISTEXT(ShareOfSearch_SERPS!C2041),ShareOfSearch_SERPS!C2041,\"\")","v":""},{"$f":"IF(ISTEXT(ShareOfSearch_SERPS!D2041),ShareOfSearch_SERPS!D2041,\"\")","v":""},{"$f":"IF(NOT(ISBLANK(ShareOfSearch_SERPS!A2041)),ShareOfSearch_SERPS!A2041,\"\")","v":""},{"$f":"IF(NOT(ISBLANK(ShareOfSearch_SERPS!G2041)),ShareOfSearch_SERPS!G2041,\"\")","v":""},{"$f":"IF(NOT(ISBLANK(ShareOfSearch_SERPS!K2041)),ShareOfSearch_SERPS!K2041,\"\")","v":""},{"$f":"IFERROR(VLOOKUP(C2041,ShareOfSearch_CTR!$A$1:$B$100,2,FALSE)*VLOOKUP(A2041&B2041,ShareOfSearch_Volume!$C$1:$D$1000,2,FALSE),\"\")","v":""}]
[{"$f":"IF(ISTEXT(ShareOfSearch_SERPS!C2042),ShareOfSearch_SERPS!C2042,\"\")","v":""},{"$f":"IF(ISTEXT(ShareOfSearch_SERPS!D2042),ShareOfSearch_SERPS!D2042,\"\")","v":""},{"$f":"IF(NOT(ISBLANK(ShareOfSearch_SERPS!A2042)),ShareOfSearch_SERPS!A2042,\"\")","v":""},{"$f":"IF(NOT(ISBLANK(ShareOfSearch_SERPS!G2042)),ShareOfSearch_SERPS!G2042,\"\")","v":""},{"$f":"IF(NOT(ISBLANK(ShareOfSearch_SERPS!K2042)),ShareOfSearch_SERPS!K2042,\"\")","v":""},{"$f":"IFERROR(VLOOKUP(C2042,ShareOfSearch_CTR!$A$1:$B$100,2,FALSE)*VLOOKUP(A2042&B2042,ShareOfSearch_Volume!$C$1:$D$1000,2,FALSE),\"\")","v":""}]
[{"$f":"IF(ISTEXT(ShareOfSearch_SERPS!C2043),ShareOfSearch_SERPS!C2043,\"\")","v":""},{"$f":"IF(ISTEXT(ShareOfSearch_SERPS!D2043),ShareOfSearch_SERPS!D2043,\"\")","v":""},{"$f":"IF(NOT(ISBLANK(ShareOfSearch_SERPS!A2043)),ShareOfSearch_SERPS!A2043,\"\")","v":""},{"$f":"IF(NOT(ISBLANK(ShareOfSearch_SERPS!G2043)),ShareOfSearch_SERPS!G2043,\"\")","v":""},{"$f":"IF(NOT(ISBLANK(ShareOfSearch_SERPS!K2043)),ShareOfSearch_SERPS!K2043,\"\")","v":""},{"$f":"IFERROR(VLOOKUP(C2043,ShareOfSearch_CTR!$A$1:$B$100,2,FALSE)*VLOOKUP(A2043&B2043,ShareOfSearch_Volume!$C$1:$D$1000,2,FALSE),\"\")","v":""}]
[{"$f":"IF(ISTEXT(ShareOfSearch_SERPS!C2044),ShareOfSearch_SERPS!C2044,\"\")","v":""},{"$f":"IF(ISTEXT(ShareOfSearch_SERPS!D2044),ShareOfSearch_SERPS!D2044,\"\")","v":""},{"$f":"IF(NOT(ISBLANK(ShareOfSearch_SERPS!A2044)),ShareOfSearch_SERPS!A2044,\"\")","v":""},{"$f":"IF(NOT(ISBLANK(ShareOfSearch_SERPS!G2044)),ShareOfSearch_SERPS!G2044,\"\")","v":""},{"$f":"IF(NOT(ISBLANK(ShareOfSearch_SERPS!K2044)),ShareOfSearch_SERPS!K2044,\"\")","v":""},{"$f":"IFERROR(VLOOKUP(C2044,ShareOfSearch_CTR!$A$1:$B$100,2,FALSE)*VLOOKUP(A2044&B2044,ShareOfSearch_Volume!$C$1:$D$1000,2,FALSE),\"\")","v":""}]
[{"$f":"IF(ISTEXT(ShareOfSearch_SERPS!C2045),ShareOfSearch_SERPS!C2045,\"\")","v":""},{"$f":"IF(ISTEXT(ShareOfSearch_SERPS!D2045),ShareOfSearch_SERPS!D2045,\"\")","v":""},{"$f":"IF(NOT(ISBLANK(ShareOfSearch_SERPS!A2045)),ShareOfSearch_SERPS!A2045,\"\")","v":""},{"$f":"IF(NOT(ISBLANK(ShareOfSearch_SERPS!G2045)),ShareOfSearch_SERPS!G2045,\"\")","v":""},{"$f":"IF(NOT(ISBLANK(ShareOfSearch_SERPS!K2045)),ShareOfSearch_SERPS!K2045,\"\")","v":""},{"$f":"IFERROR(VLOOKUP(C2045,ShareOfSearch_CTR!$A$1:$B$100,2,FALSE)*VLOOKUP(A2045&B2045,ShareOfSearch_Volume!$C$1:$D$1000,2,FALSE),\"\")","v":""}]
[{"$f":"IF(ISTEXT(ShareOfSearch_SERPS!C2046),ShareOfSearch_SERPS!C2046,\"\")","v":""},{"$f":"IF(ISTEXT(ShareOfSearch_SERPS!D2046),ShareOfSearch_SERPS!D2046,\"\")","v":""},{"$f":"IF(NOT(ISBLANK(ShareOfSearch_SERPS!A2046)),ShareOfSearch_SERPS!A2046,\"\")","v":""},{"$f":"IF(NOT(ISBLANK(ShareOfSearch_SERPS!G2046)),ShareOfSearch_SERPS!G2046,\"\")","v":""},{"$f":"IF(NOT(ISBLANK(ShareOfSearch_SERPS!K2046)),ShareOfSearch_SERPS!K2046,\"\")","v":""},{"$f":"IFERROR(VLOOKUP(C2046,ShareOfSearch_CTR!$A$1:$B$100,2,FALSE)*VLOOKUP(A2046&B2046,ShareOfSearch_Volume!$C$1:$D$1000,2,FALSE),\"\")","v":""}]
[{"$f":"IF(ISTEXT(ShareOfSearch_SERPS!C2047),ShareOfSearch_SERPS!C2047,\"\")","v":""},{"$f":"IF(ISTEXT(ShareOfSearch_SERPS!D2047),ShareOfSearch_SERPS!D2047,\"\")","v":""},{"$f":"IF(NOT(ISBLANK(ShareOfSearch_SERPS!A2047)),ShareOfSearch_SERPS!A2047,\"\")","v":""},{"$f":"IF(NOT(ISBLANK(ShareOfSearch_SERPS!G2047)),ShareOfSearch_SERPS!G2047,\"\")","v":""},{"$f":"IF(NOT(ISBLANK(ShareOfSearch_SERPS!K2047)),ShareOfSearch_SERPS!K2047,\"\")","v":""},{"$f":"IFERROR(VLOOKUP(C2047,ShareOfSearch_CTR!$A$1:$B$100,2,FALSE)*VLOOKUP(A2047&B2047,ShareOfSearch_Volume!$C$1:$D$1000,2,FALSE),\"\")","v":""}]
[{"$f":"IF(ISTEXT(ShareOfSearch_SERPS!C2048),ShareOfSearch_SERPS!C2048,\"\")","v":""},{"$f":"IF(ISTEXT(ShareOfSearch_SERPS!D2048),ShareOfSearch_SERPS!D2048,\"\")","v":""},{"$f":"IF(NOT(ISBLANK(ShareOfSearch_SERPS!A2048)),ShareOfSearch_SERPS!A2048,\"\")","v":""},{"$f":"IF(NOT(ISBLANK(ShareOfSearch_SERPS!G2048)),ShareOfSearch_SERPS!G2048,\"\")","v":""},{"$f":"IF(NOT(ISBLANK(ShareOfSearch_SERPS!K2048)),ShareOfSearch_SERPS!K2048,\"\")","v":""},{"$f":"IFERROR(VLOOKUP(C2048,ShareOfSearch_CTR!$A$1:$B$100,2,FALSE)*VLOOKUP(A2048&B2048,ShareOfSearch_Volume!$C$1:$D$1000,2,FALSE),\"\")","v":""}]
[{"$f":"IF(ISTEXT(ShareOfSearch_SERPS!C2049),ShareOfSearch_SERPS!C2049,\"\")","v":""},{"$f":"IF(ISTEXT(ShareOfSearch_SERPS!D2049),ShareOfSearch_SERPS!D2049,\"\")","v":""},{"$f":"IF(NOT(ISBLANK(ShareOfSearch_SERPS!A2049)),ShareOfSearch_SERPS!A2049,\"\")","v":""},{"$f":"IF(NOT(ISBLANK(ShareOfSearch_SERPS!G2049)),ShareOfSearch_SERPS!G2049,\"\")","v":""},{"$f":"IF(NOT(ISBLANK(ShareOfSearch_SERPS!K2049)),ShareOfSearch_SERPS!K2049,\"\")","v":""},{"$f":"IFERROR(VLOOKUP(C2049,ShareOfSearch_CTR!$A$1:$B$100,2,FALSE)*VLOOKUP(A2049&B2049,ShareOfSearch_Volume!$C$1:$D$1000,2,FALSE),\"\")","v":""}]
[{"$f":"IF(ISTEXT(ShareOfSearch_SERPS!C2050),ShareOfSearch_SERPS!C2050,\"\")","v":""},{"$f":"IF(ISTEXT(ShareOfSearch_SERPS!D2050),ShareOfSearch_SERPS!D2050,\"\")","v":""},{"$f":"IF(NOT(ISBLANK(ShareOfSearch_SERPS!A2050)),ShareOfSearch_SERPS!A2050,\"\")","v":""},{"$f":"IF(NOT(ISBLANK(ShareOfSearch_SERPS!G2050)),ShareOfSearch_SERPS!G2050,\"\")","v":""},{"$f":"IF(NOT(ISBLANK(ShareOfSearch_SERPS!K2050)),ShareOfSearch_SERPS!K2050,\"\")","v":""},{"$f":"IFERROR(VLOOKUP(C2050,ShareOfSearch_CTR!$A$1:$B$100,2,FALSE)*VLOOKUP(A2050&B2050,ShareOfSearch_Volume!$C$1:$D$1000,2,FALSE),\"\")","v":""}]
[{"$f":"IF(ISTEXT(ShareOfSearch_SERPS!C2051),ShareOfSearch_SERPS!C2051,\"\")","v":""},{"$f":"IF(ISTEXT(ShareOfSearch_SERPS!D2051),ShareOfSearch_SERPS!D2051,\"\")","v":""},{"$f":"IF(NOT(ISBLANK(ShareOfSearch_SERPS!A2051)),ShareOfSearch_SERPS!A2051,\"\")","v":""},{"$f":"IF(NOT(ISBLANK(ShareOfSearch_SERPS!G2051)),ShareOfSearch_SERPS!G2051,\"\")","v":""},{"$f":"IF(NOT(ISBLANK(ShareOfSearch_SERPS!K2051)),ShareOfSearch_SERPS!K2051,\"\")","v":""},{"$f":"IFERROR(VLOOKUP(C2051,ShareOfSearch_CTR!$A$1:$B$100,2,FALSE)*VLOOKUP(A2051&B2051,ShareOfSearch_Volume!$C$1:$D$1000,2,FALSE),\"\")","v":""}]
[{"$f":"IF(ISTEXT(ShareOfSearch_SERPS!C2052),ShareOfSearch_SERPS!C2052,\"\")","v":""},{"$f":"IF(ISTEXT(ShareOfSearch_SERPS!D2052),ShareOfSearch_SERPS!D2052,\"\")","v":""},{"$f":"IF(NOT(ISBLANK(ShareOfSearch_SERPS!A2052)),ShareOfSearch_SERPS!A2052,\"\")","v":""},{"$f":"IF(NOT(ISBLANK(ShareOfSearch_SERPS!G2052)),ShareOfSearch_SERPS!G2052,\"\")","v":""},{"$f":"IF(NOT(ISBLANK(ShareOfSearch_SERPS!K2052)),ShareOfSearch_SERPS!K2052,\"\")","v":""},{"$f":"IFERROR(VLOOKUP(C2052,ShareOfSearch_CTR!$A$1:$B$100,2,FALSE)*VLOOKUP(A2052&B2052,ShareOfSearch_Volume!$C$1:$D$1000,2,FALSE),\"\")","v":""}]
[{"$f":"IF(ISTEXT(ShareOfSearch_SERPS!C2053),ShareOfSearch_SERPS!C2053,\"\")","v":""},{"$f":"IF(ISTEXT(ShareOfSearch_SERPS!D2053),ShareOfSearch_SERPS!D2053,\"\")","v":""},{"$f":"IF(NOT(ISBLANK(ShareOfSearch_SERPS!A2053)),ShareOfSearch_SERPS!A2053,\"\")","v":""},{"$f":"IF(NOT(ISBLANK(ShareOfSearch_SERPS!G2053)),ShareOfSearch_SERPS!G2053,\"\")","v":""},{"$f":"IF(NOT(ISBLANK(ShareOfSearch_SERPS!K2053)),ShareOfSearch_SERPS!K2053,\"\")","v":""},{"$f":"IFERROR(VLOOKUP(C2053,ShareOfSearch_CTR!$A$1:$B$100,2,FALSE)*VLOOKUP(A2053&B2053,ShareOfSearch_Volume!$C$1:$D$1000,2,FALSE),\"\")","v":""}]
[{"$f":"IF(ISTEXT(ShareOfSearch_SERPS!C2054),ShareOfSearch_SERPS!C2054,\"\")","v":""},{"$f":"IF(ISTEXT(ShareOfSearch_SERPS!D2054),ShareOfSearch_SERPS!D2054,\"\")","v":""},{"$f":"IF(NOT(ISBLANK(ShareOfSearch_SERPS!A2054)),ShareOfSearch_SERPS!A2054,\"\")","v":""},{"$f":"IF(NOT(ISBLANK(ShareOfSearch_SERPS!G2054)),ShareOfSearch_SERPS!G2054,\"\")","v":""},{"$f":"IF(NOT(ISBLANK(ShareOfSearch_SERPS!K2054)),ShareOfSearch_SERPS!K2054,\"\")","v":""},{"$f":"IFERROR(VLOOKUP(C2054,ShareOfSearch_CTR!$A$1:$B$100,2,FALSE)*VLOOKUP(A2054&B2054,ShareOfSearch_Volume!$C$1:$D$1000,2,FALSE),\"\")","v":""}]
[{"$f":"IF(ISTEXT(ShareOfSearch_SERPS!C2055),ShareOfSearch_SERPS!C2055,\"\")","v":""},{"$f":"IF(ISTEXT(ShareOfSearch_SERPS!D2055),ShareOfSearch_SERPS!D2055,\"\")","v":""},{"$f":"IF(NOT(ISBLANK(ShareOfSearch_SERPS!A2055)),ShareOfSearch_SERPS!A2055,\"\")","v":""},{"$f":"IF(NOT(ISBLANK(ShareOfSearch_SERPS!G2055)),ShareOfSearch_SERPS!G2055,\"\")","v":""},{"$f":"IF(NOT(ISBLANK(ShareOfSearch_SERPS!K2055)),ShareOfSearch_SERPS!K2055,\"\")","v":""},{"$f":"IFERROR(VLOOKUP(C2055,ShareOfSearch_CTR!$A$1:$B$100,2,FALSE)*VLOOKUP(A2055&B2055,ShareOfSearch_Volume!$C$1:$D$1000,2,FALSE),\"\")","v":""}]
[{"$f":"IF(ISTEXT(ShareOfSearch_SERPS!C2056),ShareOfSearch_SERPS!C2056,\"\")","v":""},{"$f":"IF(ISTEXT(ShareOfSearch_SERPS!D2056),ShareOfSearch_SERPS!D2056,\"\")","v":""},{"$f":"IF(NOT(ISBLANK(ShareOfSearch_SERPS!A2056)),ShareOfSearch_SERPS!A2056,\"\")","v":""},{"$f":"IF(NOT(ISBLANK(ShareOfSearch_SERPS!G2056)),ShareOfSearch_SERPS!G2056,\"\")","v":""},{"$f":"IF(NOT(ISBLANK(ShareOfSearch_SERPS!K2056)),ShareOfSearch_SERPS!K2056,\"\")","v":""},{"$f":"IFERROR(VLOOKUP(C2056,ShareOfSearch_CTR!$A$1:$B$100,2,FALSE)*VLOOKUP(A2056&B2056,ShareOfSearch_Volume!$C$1:$D$1000,2,FALSE),\"\")","v":""}]
[{"$f":"IF(ISTEXT(ShareOfSearch_SERPS!C2057),ShareOfSearch_SERPS!C2057,\"\")","v":""},{"$f":"IF(ISTEXT(ShareOfSearch_SERPS!D2057),ShareOfSearch_SERPS!D2057,\"\")","v":""},{"$f":"IF(NOT(ISBLANK(ShareOfSearch_SERPS!A2057)),ShareOfSearch_SERPS!A2057,\"\")","v":""},{"$f":"IF(NOT(ISBLANK(ShareOfSearch_SERPS!G2057)),ShareOfSearch_SERPS!G2057,\"\")","v":""},{"$f":"IF(NOT(ISBLANK(ShareOfSearch_SERPS!K2057)),ShareOfSearch_SERPS!K2057,\"\")","v":""},{"$f":"IFERROR(VLOOKUP(C2057,ShareOfSearch_CTR!$A$1:$B$100,2,FALSE)*VLOOKUP(A2057&B2057,ShareOfSearch_Volume!$C$1:$D$1000,2,FALSE),\"\")","v":""}]
[{"$f":"IF(ISTEXT(ShareOfSearch_SERPS!C2058),ShareOfSearch_SERPS!C2058,\"\")","v":""},{"$f":"IF(ISTEXT(ShareOfSearch_SERPS!D2058),ShareOfSearch_SERPS!D2058,\"\")","v":""},{"$f":"IF(NOT(ISBLANK(ShareOfSearch_SERPS!A2058)),ShareOfSearch_SERPS!A2058,\"\")","v":""},{"$f":"IF(NOT(ISBLANK(ShareOfSearch_SERPS!G2058)),ShareOfSearch_SERPS!G2058,\"\")","v":""},{"$f":"IF(NOT(ISBLANK(ShareOfSearch_SERPS!K2058)),ShareOfSearch_SERPS!K2058,\"\")","v":""},{"$f":"IFERROR(VLOOKUP(C2058,ShareOfSearch_CTR!$A$1:$B$100,2,FALSE)*VLOOKUP(A2058&B2058,ShareOfSearch_Volume!$C$1:$D$1000,2,FALSE),\"\")","v":""}]
[{"$f":"IF(ISTEXT(ShareOfSearch_SERPS!C2059),ShareOfSearch_SERPS!C2059,\"\")","v":""},{"$f":"IF(ISTEXT(ShareOfSearch_SERPS!D2059),ShareOfSearch_SERPS!D2059,\"\")","v":""},{"$f":"IF(NOT(ISBLANK(ShareOfSearch_SERPS!A2059)),ShareOfSearch_SERPS!A2059,\"\")","v":""},{"$f":"IF(NOT(ISBLANK(ShareOfSearch_SERPS!G2059)),ShareOfSearch_SERPS!G2059,\"\")","v":""},{"$f":"IF(NOT(ISBLANK(ShareOfSearch_SERPS!K2059)),ShareOfSearch_SERPS!K2059,\"\")","v":""},{"$f":"IFERROR(VLOOKUP(C2059,ShareOfSearch_CTR!$A$1:$B$100,2,FALSE)*VLOOKUP(A2059&B2059,ShareOfSearch_Volume!$C$1:$D$1000,2,FALSE),\"\")","v":""}]
[{"$f":"IF(ISTEXT(ShareOfSearch_SERPS!C2060),ShareOfSearch_SERPS!C2060,\"\")","v":""},{"$f":"IF(ISTEXT(ShareOfSearch_SERPS!D2060),ShareOfSearch_SERPS!D2060,\"\")","v":""},{"$f":"IF(NOT(ISBLANK(ShareOfSearch_SERPS!A2060)),ShareOfSearch_SERPS!A2060,\"\")","v":""},{"$f":"IF(NOT(ISBLANK(ShareOfSearch_SERPS!G2060)),ShareOfSearch_SERPS!G2060,\"\")","v":""},{"$f":"IF(NOT(ISBLANK(ShareOfSearch_SERPS!K2060)),ShareOfSearch_SERPS!K2060,\"\")","v":""},{"$f":"IFERROR(VLOOKUP(C2060,ShareOfSearch_CTR!$A$1:$B$100,2,FALSE)*VLOOKUP(A2060&B2060,ShareOfSearch_Volume!$C$1:$D$1000,2,FALSE),\"\")","v":""}]
[{"$f":"IF(ISTEXT(ShareOfSearch_SERPS!C2061),ShareOfSearch_SERPS!C2061,\"\")","v":""},{"$f":"IF(ISTEXT(ShareOfSearch_SERPS!D2061),ShareOfSearch_SERPS!D2061,\"\")","v":""},{"$f":"IF(NOT(ISBLANK(ShareOfSearch_SERPS!A2061)),ShareOfSearch_SERPS!A2061,\"\")","v":""},{"$f":"IF(NOT(ISBLANK(ShareOfSearch_SERPS!G2061)),ShareOfSearch_SERPS!G2061,\"\")","v":""},{"$f":"IF(NOT(ISBLANK(ShareOfSearch_SERPS!K2061)),ShareOfSearch_SERPS!K2061,\"\")","v":""},{"$f":"IFERROR(VLOOKUP(C2061,ShareOfSearch_CTR!$A$1:$B$100,2,FALSE)*VLOOKUP(A2061&B2061,ShareOfSearch_Volume!$C$1:$D$1000,2,FALSE),\"\")","v":""}]
[{"$f":"IF(ISTEXT(ShareOfSearch_SERPS!C2062),ShareOfSearch_SERPS!C2062,\"\")","v":""},{"$f":"IF(ISTEXT(ShareOfSearch_SERPS!D2062),ShareOfSearch_SERPS!D2062,\"\")","v":""},{"$f":"IF(NOT(ISBLANK(ShareOfSearch_SERPS!A2062)),ShareOfSearch_SERPS!A2062,\"\")","v":""},{"$f":"IF(NOT(ISBLANK(ShareOfSearch_SERPS!G2062)),ShareOfSearch_SERPS!G2062,\"\")","v":""},{"$f":"IF(NOT(ISBLANK(ShareOfSearch_SERPS!K2062)),ShareOfSearch_SERPS!K2062,\"\")","v":""},{"$f":"IFERROR(VLOOKUP(C2062,ShareOfSearch_CTR!$A$1:$B$100,2,FALSE)*VLOOKUP(A2062&B2062,ShareOfSearch_Volume!$C$1:$D$1000,2,FALSE),\"\")","v":""}]
[{"$f":"IF(ISTEXT(ShareOfSearch_SERPS!C2063),ShareOfSearch_SERPS!C2063,\"\")","v":""},{"$f":"IF(ISTEXT(ShareOfSearch_SERPS!D2063),ShareOfSearch_SERPS!D2063,\"\")","v":""},{"$f":"IF(NOT(ISBLANK(ShareOfSearch_SERPS!A2063)),ShareOfSearch_SERPS!A2063,\"\")","v":""},{"$f":"IF(NOT(ISBLANK(ShareOfSearch_SERPS!G2063)),ShareOfSearch_SERPS!G2063,\"\")","v":""},{"$f":"IF(NOT(ISBLANK(ShareOfSearch_SERPS!K2063)),ShareOfSearch_SERPS!K2063,\"\")","v":""},{"$f":"IFERROR(VLOOKUP(C2063,ShareOfSearch_CTR!$A$1:$B$100,2,FALSE)*VLOOKUP(A2063&B2063,ShareOfSearch_Volume!$C$1:$D$1000,2,FALSE),\"\")","v":""}]
[{"$f":"IF(ISTEXT(ShareOfSearch_SERPS!C2064),ShareOfSearch_SERPS!C2064,\"\")","v":""},{"$f":"IF(ISTEXT(ShareOfSearch_SERPS!D2064),ShareOfSearch_SERPS!D2064,\"\")","v":""},{"$f":"IF(NOT(ISBLANK(ShareOfSearch_SERPS!A2064)),ShareOfSearch_SERPS!A2064,\"\")","v":""},{"$f":"IF(NOT(ISBLANK(ShareOfSearch_SERPS!G2064)),ShareOfSearch_SERPS!G2064,\"\")","v":""},{"$f":"IF(NOT(ISBLANK(ShareOfSearch_SERPS!K2064)),ShareOfSearch_SERPS!K2064,\"\")","v":""},{"$f":"IFERROR(VLOOKUP(C2064,ShareOfSearch_CTR!$A$1:$B$100,2,FALSE)*VLOOKUP(A2064&B2064,ShareOfSearch_Volume!$C$1:$D$1000,2,FALSE),\"\")","v":""}]
[{"$f":"IF(ISTEXT(ShareOfSearch_SERPS!C2065),ShareOfSearch_SERPS!C2065,\"\")","v":""},{"$f":"IF(ISTEXT(ShareOfSearch_SERPS!D2065),ShareOfSearch_SERPS!D2065,\"\")","v":""},{"$f":"IF(NOT(ISBLANK(ShareOfSearch_SERPS!A2065)),ShareOfSearch_SERPS!A2065,\"\")","v":""},{"$f":"IF(NOT(ISBLANK(ShareOfSearch_SERPS!G2065)),ShareOfSearch_SERPS!G2065,\"\")","v":""},{"$f":"IF(NOT(ISBLANK(ShareOfSearch_SERPS!K2065)),ShareOfSearch_SERPS!K2065,\"\")","v":""},{"$f":"IFERROR(VLOOKUP(C2065,ShareOfSearch_CTR!$A$1:$B$100,2,FALSE)*VLOOKUP(A2065&B2065,ShareOfSearch_Volume!$C$1:$D$1000,2,FALSE),\"\")","v":""}]
[{"$f":"IF(ISTEXT(ShareOfSearch_SERPS!C2066),ShareOfSearch_SERPS!C2066,\"\")","v":""},{"$f":"IF(ISTEXT(ShareOfSearch_SERPS!D2066),ShareOfSearch_SERPS!D2066,\"\")","v":""},{"$f":"IF(NOT(ISBLANK(ShareOfSearch_SERPS!A2066)),ShareOfSearch_SERPS!A2066,\"\")","v":""},{"$f":"IF(NOT(ISBLANK(ShareOfSearch_SERPS!G2066)),ShareOfSearch_SERPS!G2066,\"\")","v":""},{"$f":"IF(NOT(ISBLANK(ShareOfSearch_SERPS!K2066)),ShareOfSearch_SERPS!K2066,\"\")","v":""},{"$f":"IFERROR(VLOOKUP(C2066,ShareOfSearch_CTR!$A$1:$B$100,2,FALSE)*VLOOKUP(A2066&B2066,ShareOfSearch_Volume!$C$1:$D$1000,2,FALSE),\"\")","v":""}]
[{"$f":"IF(ISTEXT(ShareOfSearch_SERPS!C2067),ShareOfSearch_SERPS!C2067,\"\")","v":""},{"$f":"IF(ISTEXT(ShareOfSearch_SERPS!D2067),ShareOfSearch_SERPS!D2067,\"\")","v":""},{"$f":"IF(NOT(ISBLANK(ShareOfSearch_SERPS!A2067)),ShareOfSearch_SERPS!A2067,\"\")","v":""},{"$f":"IF(NOT(ISBLANK(ShareOfSearch_SERPS!G2067)),ShareOfSearch_SERPS!G2067,\"\")","v":""},{"$f":"IF(NOT(ISBLANK(ShareOfSearch_SERPS!K2067)),ShareOfSearch_SERPS!K2067,\"\")","v":""},{"$f":"IFERROR(VLOOKUP(C2067,ShareOfSearch_CTR!$A$1:$B$100,2,FALSE)*VLOOKUP(A2067&B2067,ShareOfSearch_Volume!$C$1:$D$1000,2,FALSE),\"\")","v":""}]
[{"$f":"IF(ISTEXT(ShareOfSearch_SERPS!C2068),ShareOfSearch_SERPS!C2068,\"\")","v":""},{"$f":"IF(ISTEXT(ShareOfSearch_SERPS!D2068),ShareOfSearch_SERPS!D2068,\"\")","v":""},{"$f":"IF(NOT(ISBLANK(ShareOfSearch_SERPS!A2068)),ShareOfSearch_SERPS!A2068,\"\")","v":""},{"$f":"IF(NOT(ISBLANK(ShareOfSearch_SERPS!G2068)),ShareOfSearch_SERPS!G2068,\"\")","v":""},{"$f":"IF(NOT(ISBLANK(ShareOfSearch_SERPS!K2068)),ShareOfSearch_SERPS!K2068,\"\")","v":""},{"$f":"IFERROR(VLOOKUP(C2068,ShareOfSearch_CTR!$A$1:$B$100,2,FALSE)*VLOOKUP(A2068&B2068,ShareOfSearch_Volume!$C$1:$D$1000,2,FALSE),\"\")","v":""}]
[{"$f":"IF(ISTEXT(ShareOfSearch_SERPS!C2069),ShareOfSearch_SERPS!C2069,\"\")","v":""},{"$f":"IF(ISTEXT(ShareOfSearch_SERPS!D2069),ShareOfSearch_SERPS!D2069,\"\")","v":""},{"$f":"IF(NOT(ISBLANK(ShareOfSearch_SERPS!A2069)),ShareOfSearch_SERPS!A2069,\"\")","v":""},{"$f":"IF(NOT(ISBLANK(ShareOfSearch_SERPS!G2069)),ShareOfSearch_SERPS!G2069,\"\")","v":""},{"$f":"IF(NOT(ISBLANK(ShareOfSearch_SERPS!K2069)),ShareOfSearch_SERPS!K2069,\"\")","v":""},{"$f":"IFERROR(VLOOKUP(C2069,ShareOfSearch_CTR!$A$1:$B$100,2,FALSE)*VLOOKUP(A2069&B2069,ShareOfSearch_Volume!$C$1:$D$1000,2,FALSE),\"\")","v":""}]
[{"$f":"IF(ISTEXT(ShareOfSearch_SERPS!C2070),ShareOfSearch_SERPS!C2070,\"\")","v":""},{"$f":"IF(ISTEXT(ShareOfSearch_SERPS!D2070),ShareOfSearch_SERPS!D2070,\"\")","v":""},{"$f":"IF(NOT(ISBLANK(ShareOfSearch_SERPS!A2070)),ShareOfSearch_SERPS!A2070,\"\")","v":""},{"$f":"IF(NOT(ISBLANK(ShareOfSearch_SERPS!G2070)),ShareOfSearch_SERPS!G2070,\"\")","v":""},{"$f":"IF(NOT(ISBLANK(ShareOfSearch_SERPS!K2070)),ShareOfSearch_SERPS!K2070,\"\")","v":""},{"$f":"IFERROR(VLOOKUP(C2070,ShareOfSearch_CTR!$A$1:$B$100,2,FALSE)*VLOOKUP(A2070&B2070,ShareOfSearch_Volume!$C$1:$D$1000,2,FALSE),\"\")","v":""}]
[{"$f":"IF(ISTEXT(ShareOfSearch_SERPS!C2071),ShareOfSearch_SERPS!C2071,\"\")","v":""},{"$f":"IF(ISTEXT(ShareOfSearch_SERPS!D2071),ShareOfSearch_SERPS!D2071,\"\")","v":""},{"$f":"IF(NOT(ISBLANK(ShareOfSearch_SERPS!A2071)),ShareOfSearch_SERPS!A2071,\"\")","v":""},{"$f":"IF(NOT(ISBLANK(ShareOfSearch_SERPS!G2071)),ShareOfSearch_SERPS!G2071,\"\")","v":""},{"$f":"IF(NOT(ISBLANK(ShareOfSearch_SERPS!K2071)),ShareOfSearch_SERPS!K2071,\"\")","v":""},{"$f":"IFERROR(VLOOKUP(C2071,ShareOfSearch_CTR!$A$1:$B$100,2,FALSE)*VLOOKUP(A2071&B2071,ShareOfSearch_Volume!$C$1:$D$1000,2,FALSE),\"\")","v":""}]
[{"$f":"IF(ISTEXT(ShareOfSearch_SERPS!C2072),ShareOfSearch_SERPS!C2072,\"\")","v":""},{"$f":"IF(ISTEXT(ShareOfSearch_SERPS!D2072),ShareOfSearch_SERPS!D2072,\"\")","v":""},{"$f":"IF(NOT(ISBLANK(ShareOfSearch_SERPS!A2072)),ShareOfSearch_SERPS!A2072,\"\")","v":""},{"$f":"IF(NOT(ISBLANK(ShareOfSearch_SERPS!G2072)),ShareOfSearch_SERPS!G2072,\"\")","v":""},{"$f":"IF(NOT(ISBLANK(ShareOfSearch_SERPS!K2072)),ShareOfSearch_SERPS!K2072,\"\")","v":""},{"$f":"IFERROR(VLOOKUP(C2072,ShareOfSearch_CTR!$A$1:$B$100,2,FALSE)*VLOOKUP(A2072&B2072,ShareOfSearch_Volume!$C$1:$D$1000,2,FALSE),\"\")","v":""}]
[{"$f":"IF(ISTEXT(ShareOfSearch_SERPS!C2073),ShareOfSearch_SERPS!C2073,\"\")","v":""},{"$f":"IF(ISTEXT(ShareOfSearch_SERPS!D2073),ShareOfSearch_SERPS!D2073,\"\")","v":""},{"$f":"IF(NOT(ISBLANK(ShareOfSearch_SERPS!A2073)),ShareOfSearch_SERPS!A2073,\"\")","v":""},{"$f":"IF(NOT(ISBLANK(ShareOfSearch_SERPS!G2073)),ShareOfSearch_SERPS!G2073,\"\")","v":""},{"$f":"IF(NOT(ISBLANK(ShareOfSearch_SERPS!K2073)),ShareOfSearch_SERPS!K2073,\"\")","v":""},{"$f":"IFERROR(VLOOKUP(C2073,ShareOfSearch_CTR!$A$1:$B$100,2,FALSE)*VLOOKUP(A2073&B2073,ShareOfSearch_Volume!$C$1:$D$1000,2,FALSE),\"\")","v":""}]
[{"$f":"IF(ISTEXT(ShareOfSearch_SERPS!C2074),ShareOfSearch_SERPS!C2074,\"\")","v":""},{"$f":"IF(ISTEXT(ShareOfSearch_SERPS!D2074),ShareOfSearch_SERPS!D2074,\"\")","v":""},{"$f":"IF(NOT(ISBLANK(ShareOfSearch_SERPS!A2074)),ShareOfSearch_SERPS!A2074,\"\")","v":""},{"$f":"IF(NOT(ISBLANK(ShareOfSearch_SERPS!G2074)),ShareOfSearch_SERPS!G2074,\"\")","v":""},{"$f":"IF(NOT(ISBLANK(ShareOfSearch_SERPS!K2074)),ShareOfSearch_SERPS!K2074,\"\")","v":""},{"$f":"IFERROR(VLOOKUP(C2074,ShareOfSearch_CTR!$A$1:$B$100,2,FALSE)*VLOOKUP(A2074&B2074,ShareOfSearch_Volume!$C$1:$D$1000,2,FALSE),\"\")","v":""}]
[{"$f":"IF(ISTEXT(ShareOfSearch_SERPS!C2075),ShareOfSearch_SERPS!C2075,\"\")","v":""},{"$f":"IF(ISTEXT(ShareOfSearch_SERPS!D2075),ShareOfSearch_SERPS!D2075,\"\")","v":""},{"$f":"IF(NOT(ISBLANK(ShareOfSearch_SERPS!A2075)),ShareOfSearch_SERPS!A2075,\"\")","v":""},{"$f":"IF(NOT(ISBLANK(ShareOfSearch_SERPS!G2075)),ShareOfSearch_SERPS!G2075,\"\")","v":""},{"$f":"IF(NOT(ISBLANK(ShareOfSearch_SERPS!K2075)),ShareOfSearch_SERPS!K2075,\"\")","v":""},{"$f":"IFERROR(VLOOKUP(C2075,ShareOfSearch_CTR!$A$1:$B$100,2,FALSE)*VLOOKUP(A2075&B2075,ShareOfSearch_Volume!$C$1:$D$1000,2,FALSE),\"\")","v":""}]
[{"$f":"IF(ISTEXT(ShareOfSearch_SERPS!C2076),ShareOfSearch_SERPS!C2076,\"\")","v":""},{"$f":"IF(ISTEXT(ShareOfSearch_SERPS!D2076),ShareOfSearch_SERPS!D2076,\"\")","v":""},{"$f":"IF(NOT(ISBLANK(ShareOfSearch_SERPS!A2076)),ShareOfSearch_SERPS!A2076,\"\")","v":""},{"$f":"IF(NOT(ISBLANK(ShareOfSearch_SERPS!G2076)),ShareOfSearch_SERPS!G2076,\"\")","v":""},{"$f":"IF(NOT(ISBLANK(ShareOfSearch_SERPS!K2076)),ShareOfSearch_SERPS!K2076,\"\")","v":""},{"$f":"IFERROR(VLOOKUP(C2076,ShareOfSearch_CTR!$A$1:$B$100,2,FALSE)*VLOOKUP(A2076&B2076,ShareOfSearch_Volume!$C$1:$D$1000,2,FALSE),\"\")","v":""}]
[{"$f":"IF(ISTEXT(ShareOfSearch_SERPS!C2077),ShareOfSearch_SERPS!C2077,\"\")","v":""},{"$f":"IF(ISTEXT(ShareOfSearch_SERPS!D2077),ShareOfSearch_SERPS!D2077,\"\")","v":""},{"$f":"IF(NOT(ISBLANK(ShareOfSearch_SERPS!A2077)),ShareOfSearch_SERPS!A2077,\"\")","v":""},{"$f":"IF(NOT(ISBLANK(ShareOfSearch_SERPS!G2077)),ShareOfSearch_SERPS!G2077,\"\")","v":""},{"$f":"IF(NOT(ISBLANK(ShareOfSearch_SERPS!K2077)),ShareOfSearch_SERPS!K2077,\"\")","v":""},{"$f":"IFERROR(VLOOKUP(C2077,ShareOfSearch_CTR!$A$1:$B$100,2,FALSE)*VLOOKUP(A2077&B2077,ShareOfSearch_Volume!$C$1:$D$1000,2,FALSE),\"\")","v":""}]
[{"$f":"IF(ISTEXT(ShareOfSearch_SERPS!C2078),ShareOfSearch_SERPS!C2078,\"\")","v":""},{"$f":"IF(ISTEXT(ShareOfSearch_SERPS!D2078),ShareOfSearch_SERPS!D2078,\"\")","v":""},{"$f":"IF(NOT(ISBLANK(ShareOfSearch_SERPS!A2078)),ShareOfSearch_SERPS!A2078,\"\")","v":""},{"$f":"IF(NOT(ISBLANK(ShareOfSearch_SERPS!G2078)),ShareOfSearch_SERPS!G2078,\"\")","v":""},{"$f":"IF(NOT(ISBLANK(ShareOfSearch_SERPS!K2078)),ShareOfSearch_SERPS!K2078,\"\")","v":""},{"$f":"IFERROR(VLOOKUP(C2078,ShareOfSearch_CTR!$A$1:$B$100,2,FALSE)*VLOOKUP(A2078&B2078,ShareOfSearch_Volume!$C$1:$D$1000,2,FALSE),\"\")","v":""}]
[{"$f":"IF(ISTEXT(ShareOfSearch_SERPS!C2079),ShareOfSearch_SERPS!C2079,\"\")","v":""},{"$f":"IF(ISTEXT(ShareOfSearch_SERPS!D2079),ShareOfSearch_SERPS!D2079,\"\")","v":""},{"$f":"IF(NOT(ISBLANK(ShareOfSearch_SERPS!A2079)),ShareOfSearch_SERPS!A2079,\"\")","v":""},{"$f":"IF(NOT(ISBLANK(ShareOfSearch_SERPS!G2079)),ShareOfSearch_SERPS!G2079,\"\")","v":""},{"$f":"IF(NOT(ISBLANK(ShareOfSearch_SERPS!K2079)),ShareOfSearch_SERPS!K2079,\"\")","v":""},{"$f":"IFERROR(VLOOKUP(C2079,ShareOfSearch_CTR!$A$1:$B$100,2,FALSE)*VLOOKUP(A2079&B2079,ShareOfSearch_Volume!$C$1:$D$1000,2,FALSE),\"\")","v":""}]
[{"$f":"IF(ISTEXT(ShareOfSearch_SERPS!C2080),ShareOfSearch_SERPS!C2080,\"\")","v":""},{"$f":"IF(ISTEXT(ShareOfSearch_SERPS!D2080),ShareOfSearch_SERPS!D2080,\"\")","v":""},{"$f":"IF(NOT(ISBLANK(ShareOfSearch_SERPS!A2080)),ShareOfSearch_SERPS!A2080,\"\")","v":""},{"$f":"IF(NOT(ISBLANK(ShareOfSearch_SERPS!G2080)),ShareOfSearch_SERPS!G2080,\"\")","v":""},{"$f":"IF(NOT(ISBLANK(ShareOfSearch_SERPS!K2080)),ShareOfSearch_SERPS!K2080,\"\")","v":""},{"$f":"IFERROR(VLOOKUP(C2080,ShareOfSearch_CTR!$A$1:$B$100,2,FALSE)*VLOOKUP(A2080&B2080,ShareOfSearch_Volume!$C$1:$D$1000,2,FALSE),\"\")","v":""}]
[{"$f":"IF(ISTEXT(ShareOfSearch_SERPS!C2081),ShareOfSearch_SERPS!C2081,\"\")","v":""},{"$f":"IF(ISTEXT(ShareOfSearch_SERPS!D2081),ShareOfSearch_SERPS!D2081,\"\")","v":""},{"$f":"IF(NOT(ISBLANK(ShareOfSearch_SERPS!A2081)),ShareOfSearch_SERPS!A2081,\"\")","v":""},{"$f":"IF(NOT(ISBLANK(ShareOfSearch_SERPS!G2081)),ShareOfSearch_SERPS!G2081,\"\")","v":""},{"$f":"IF(NOT(ISBLANK(ShareOfSearch_SERPS!K2081)),ShareOfSearch_SERPS!K2081,\"\")","v":""},{"$f":"IFERROR(VLOOKUP(C2081,ShareOfSearch_CTR!$A$1:$B$100,2,FALSE)*VLOOKUP(A2081&B2081,ShareOfSearch_Volume!$C$1:$D$1000,2,FALSE),\"\")","v":""}]
[{"$f":"IF(ISTEXT(ShareOfSearch_SERPS!C2082),ShareOfSearch_SERPS!C2082,\"\")","v":""},{"$f":"IF(ISTEXT(ShareOfSearch_SERPS!D2082),ShareOfSearch_SERPS!D2082,\"\")","v":""},{"$f":"IF(NOT(ISBLANK(ShareOfSearch_SERPS!A2082)),ShareOfSearch_SERPS!A2082,\"\")","v":""},{"$f":"IF(NOT(ISBLANK(ShareOfSearch_SERPS!G2082)),ShareOfSearch_SERPS!G2082,\"\")","v":""},{"$f":"IF(NOT(ISBLANK(ShareOfSearch_SERPS!K2082)),ShareOfSearch_SERPS!K2082,\"\")","v":""},{"$f":"IFERROR(VLOOKUP(C2082,ShareOfSearch_CTR!$A$1:$B$100,2,FALSE)*VLOOKUP(A2082&B2082,ShareOfSearch_Volume!$C$1:$D$1000,2,FALSE),\"\")","v":""}]
[{"$f":"IF(ISTEXT(ShareOfSearch_SERPS!C2083),ShareOfSearch_SERPS!C2083,\"\")","v":""},{"$f":"IF(ISTEXT(ShareOfSearch_SERPS!D2083),ShareOfSearch_SERPS!D2083,\"\")","v":""},{"$f":"IF(NOT(ISBLANK(ShareOfSearch_SERPS!A2083)),ShareOfSearch_SERPS!A2083,\"\")","v":""},{"$f":"IF(NOT(ISBLANK(ShareOfSearch_SERPS!G2083)),ShareOfSearch_SERPS!G2083,\"\")","v":""},{"$f":"IF(NOT(ISBLANK(ShareOfSearch_SERPS!K2083)),ShareOfSearch_SERPS!K2083,\"\")","v":""},{"$f":"IFERROR(VLOOKUP(C2083,ShareOfSearch_CTR!$A$1:$B$100,2,FALSE)*VLOOKUP(A2083&B2083,ShareOfSearch_Volume!$C$1:$D$1000,2,FALSE),\"\")","v":""}]
[{"$f":"IF(ISTEXT(ShareOfSearch_SERPS!C2084),ShareOfSearch_SERPS!C2084,\"\")","v":""},{"$f":"IF(ISTEXT(ShareOfSearch_SERPS!D2084),ShareOfSearch_SERPS!D2084,\"\")","v":""},{"$f":"IF(NOT(ISBLANK(ShareOfSearch_SERPS!A2084)),ShareOfSearch_SERPS!A2084,\"\")","v":""},{"$f":"IF(NOT(ISBLANK(ShareOfSearch_SERPS!G2084)),ShareOfSearch_SERPS!G2084,\"\")","v":""},{"$f":"IF(NOT(ISBLANK(ShareOfSearch_SERPS!K2084)),ShareOfSearch_SERPS!K2084,\"\")","v":""},{"$f":"IFERROR(VLOOKUP(C2084,ShareOfSearch_CTR!$A$1:$B$100,2,FALSE)*VLOOKUP(A2084&B2084,ShareOfSearch_Volume!$C$1:$D$1000,2,FALSE),\"\")","v":""}]
[{"$f":"IF(ISTEXT(ShareOfSearch_SERPS!C2085),ShareOfSearch_SERPS!C2085,\"\")","v":""},{"$f":"IF(ISTEXT(ShareOfSearch_SERPS!D2085),ShareOfSearch_SERPS!D2085,\"\")","v":""},{"$f":"IF(NOT(ISBLANK(ShareOfSearch_SERPS!A2085)),ShareOfSearch_SERPS!A2085,\"\")","v":""},{"$f":"IF(NOT(ISBLANK(ShareOfSearch_SERPS!G2085)),ShareOfSearch_SERPS!G2085,\"\")","v":""},{"$f":"IF(NOT(ISBLANK(ShareOfSearch_SERPS!K2085)),ShareOfSearch_SERPS!K2085,\"\")","v":""},{"$f":"IFERROR(VLOOKUP(C2085,ShareOfSearch_CTR!$A$1:$B$100,2,FALSE)*VLOOKUP(A2085&B2085,ShareOfSearch_Volume!$C$1:$D$1000,2,FALSE),\"\")","v":""}]
[{"$f":"IF(ISTEXT(ShareOfSearch_SERPS!C2086),ShareOfSearch_SERPS!C2086,\"\")","v":""},{"$f":"IF(ISTEXT(ShareOfSearch_SERPS!D2086),ShareOfSearch_SERPS!D2086,\"\")","v":""},{"$f":"IF(NOT(ISBLANK(ShareOfSearch_SERPS!A2086)),ShareOfSearch_SERPS!A2086,\"\")","v":""},{"$f":"IF(NOT(ISBLANK(ShareOfSearch_SERPS!G2086)),ShareOfSearch_SERPS!G2086,\"\")","v":""},{"$f":"IF(NOT(ISBLANK(ShareOfSearch_SERPS!K2086)),ShareOfSearch_SERPS!K2086,\"\")","v":""},{"$f":"IFERROR(VLOOKUP(C2086,ShareOfSearch_CTR!$A$1:$B$100,2,FALSE)*VLOOKUP(A2086&B2086,ShareOfSearch_Volume!$C$1:$D$1000,2,FALSE),\"\")","v":""}]
[{"$f":"IF(ISTEXT(ShareOfSearch_SERPS!C2087),ShareOfSearch_SERPS!C2087,\"\")","v":""},{"$f":"IF(ISTEXT(ShareOfSearch_SERPS!D2087),ShareOfSearch_SERPS!D2087,\"\")","v":""},{"$f":"IF(NOT(ISBLANK(ShareOfSearch_SERPS!A2087)),ShareOfSearch_SERPS!A2087,\"\")","v":""},{"$f":"IF(NOT(ISBLANK(ShareOfSearch_SERPS!G2087)),ShareOfSearch_SERPS!G2087,\"\")","v":""},{"$f":"IF(NOT(ISBLANK(ShareOfSearch_SERPS!K2087)),ShareOfSearch_SERPS!K2087,\"\")","v":""},{"$f":"IFERROR(VLOOKUP(C2087,ShareOfSearch_CTR!$A$1:$B$100,2,FALSE)*VLOOKUP(A2087&B2087,ShareOfSearch_Volume!$C$1:$D$1000,2,FALSE),\"\")","v":""}]
[{"$f":"IF(ISTEXT(ShareOfSearch_SERPS!C2088),ShareOfSearch_SERPS!C2088,\"\")","v":""},{"$f":"IF(ISTEXT(ShareOfSearch_SERPS!D2088),ShareOfSearch_SERPS!D2088,\"\")","v":""},{"$f":"IF(NOT(ISBLANK(ShareOfSearch_SERPS!A2088)),ShareOfSearch_SERPS!A2088,\"\")","v":""},{"$f":"IF(NOT(ISBLANK(ShareOfSearch_SERPS!G2088)),ShareOfSearch_SERPS!G2088,\"\")","v":""},{"$f":"IF(NOT(ISBLANK(ShareOfSearch_SERPS!K2088)),ShareOfSearch_SERPS!K2088,\"\")","v":""},{"$f":"IFERROR(VLOOKUP(C2088,ShareOfSearch_CTR!$A$1:$B$100,2,FALSE)*VLOOKUP(A2088&B2088,ShareOfSearch_Volume!$C$1:$D$1000,2,FALSE),\"\")","v":""}]
[{"$f":"IF(ISTEXT(ShareOfSearch_SERPS!C2089),ShareOfSearch_SERPS!C2089,\"\")","v":""},{"$f":"IF(ISTEXT(ShareOfSearch_SERPS!D2089),ShareOfSearch_SERPS!D2089,\"\")","v":""},{"$f":"IF(NOT(ISBLANK(ShareOfSearch_SERPS!A2089)),ShareOfSearch_SERPS!A2089,\"\")","v":""},{"$f":"IF(NOT(ISBLANK(ShareOfSearch_SERPS!G2089)),ShareOfSearch_SERPS!G2089,\"\")","v":""},{"$f":"IF(NOT(ISBLANK(ShareOfSearch_SERPS!K2089)),ShareOfSearch_SERPS!K2089,\"\")","v":""},{"$f":"IFERROR(VLOOKUP(C2089,ShareOfSearch_CTR!$A$1:$B$100,2,FALSE)*VLOOKUP(A2089&B2089,ShareOfSearch_Volume!$C$1:$D$1000,2,FALSE),\"\")","v":""}]
[{"$f":"IF(ISTEXT(ShareOfSearch_SERPS!C2090),ShareOfSearch_SERPS!C2090,\"\")","v":""},{"$f":"IF(ISTEXT(ShareOfSearch_SERPS!D2090),ShareOfSearch_SERPS!D2090,\"\")","v":""},{"$f":"IF(NOT(ISBLANK(ShareOfSearch_SERPS!A2090)),ShareOfSearch_SERPS!A2090,\"\")","v":""},{"$f":"IF(NOT(ISBLANK(ShareOfSearch_SERPS!G2090)),ShareOfSearch_SERPS!G2090,\"\")","v":""},{"$f":"IF(NOT(ISBLANK(ShareOfSearch_SERPS!K2090)),ShareOfSearch_SERPS!K2090,\"\")","v":""},{"$f":"IFERROR(VLOOKUP(C2090,ShareOfSearch_CTR!$A$1:$B$100,2,FALSE)*VLOOKUP(A2090&B2090,ShareOfSearch_Volume!$C$1:$D$1000,2,FALSE),\"\")","v":""}]
[{"$f":"IF(ISTEXT(ShareOfSearch_SERPS!C2091),ShareOfSearch_SERPS!C2091,\"\")","v":""},{"$f":"IF(ISTEXT(ShareOfSearch_SERPS!D2091),ShareOfSearch_SERPS!D2091,\"\")","v":""},{"$f":"IF(NOT(ISBLANK(ShareOfSearch_SERPS!A2091)),ShareOfSearch_SERPS!A2091,\"\")","v":""},{"$f":"IF(NOT(ISBLANK(ShareOfSearch_SERPS!G2091)),ShareOfSearch_SERPS!G2091,\"\")","v":""},{"$f":"IF(NOT(ISBLANK(ShareOfSearch_SERPS!K2091)),ShareOfSearch_SERPS!K2091,\"\")","v":""},{"$f":"IFERROR(VLOOKUP(C2091,ShareOfSearch_CTR!$A$1:$B$100,2,FALSE)*VLOOKUP(A2091&B2091,ShareOfSearch_Volume!$C$1:$D$1000,2,FALSE),\"\")","v":""}]
[{"$f":"IF(ISTEXT(ShareOfSearch_SERPS!C2092),ShareOfSearch_SERPS!C2092,\"\")","v":""},{"$f":"IF(ISTEXT(ShareOfSearch_SERPS!D2092),ShareOfSearch_SERPS!D2092,\"\")","v":""},{"$f":"IF(NOT(ISBLANK(ShareOfSearch_SERPS!A2092)),ShareOfSearch_SERPS!A2092,\"\")","v":""},{"$f":"IF(NOT(ISBLANK(ShareOfSearch_SERPS!G2092)),ShareOfSearch_SERPS!G2092,\"\")","v":""},{"$f":"IF(NOT(ISBLANK(ShareOfSearch_SERPS!K2092)),ShareOfSearch_SERPS!K2092,\"\")","v":""},{"$f":"IFERROR(VLOOKUP(C2092,ShareOfSearch_CTR!$A$1:$B$100,2,FALSE)*VLOOKUP(A2092&B2092,ShareOfSearch_Volume!$C$1:$D$1000,2,FALSE),\"\")","v":""}]
[{"$f":"IF(ISTEXT(ShareOfSearch_SERPS!C2093),ShareOfSearch_SERPS!C2093,\"\")","v":""},{"$f":"IF(ISTEXT(ShareOfSearch_SERPS!D2093),ShareOfSearch_SERPS!D2093,\"\")","v":""},{"$f":"IF(NOT(ISBLANK(ShareOfSearch_SERPS!A2093)),ShareOfSearch_SERPS!A2093,\"\")","v":""},{"$f":"IF(NOT(ISBLANK(ShareOfSearch_SERPS!G2093)),ShareOfSearch_SERPS!G2093,\"\")","v":""},{"$f":"IF(NOT(ISBLANK(ShareOfSearch_SERPS!K2093)),ShareOfSearch_SERPS!K2093,\"\")","v":""},{"$f":"IFERROR(VLOOKUP(C2093,ShareOfSearch_CTR!$A$1:$B$100,2,FALSE)*VLOOKUP(A2093&B2093,ShareOfSearch_Volume!$C$1:$D$1000,2,FALSE),\"\")","v":""}]
[{"$f":"IF(ISTEXT(ShareOfSearch_SERPS!C2094),ShareOfSearch_SERPS!C2094,\"\")","v":""},{"$f":"IF(ISTEXT(ShareOfSearch_SERPS!D2094),ShareOfSearch_SERPS!D2094,\"\")","v":""},{"$f":"IF(NOT(ISBLANK(ShareOfSearch_SERPS!A2094)),ShareOfSearch_SERPS!A2094,\"\")","v":""},{"$f":"IF(NOT(ISBLANK(ShareOfSearch_SERPS!G2094)),ShareOfSearch_SERPS!G2094,\"\")","v":""},{"$f":"IF(NOT(ISBLANK(ShareOfSearch_SERPS!K2094)),ShareOfSearch_SERPS!K2094,\"\")","v":""},{"$f":"IFERROR(VLOOKUP(C2094,ShareOfSearch_CTR!$A$1:$B$100,2,FALSE)*VLOOKUP(A2094&B2094,ShareOfSearch_Volume!$C$1:$D$1000,2,FALSE),\"\")","v":""}]
[{"$f":"IF(ISTEXT(ShareOfSearch_SERPS!C2095),ShareOfSearch_SERPS!C2095,\"\")","v":""},{"$f":"IF(ISTEXT(ShareOfSearch_SERPS!D2095),ShareOfSearch_SERPS!D2095,\"\")","v":""},{"$f":"IF(NOT(ISBLANK(ShareOfSearch_SERPS!A2095)),ShareOfSearch_SERPS!A2095,\"\")","v":""},{"$f":"IF(NOT(ISBLANK(ShareOfSearch_SERPS!G2095)),ShareOfSearch_SERPS!G2095,\"\")","v":""},{"$f":"IF(NOT(ISBLANK(ShareOfSearch_SERPS!K2095)),ShareOfSearch_SERPS!K2095,\"\")","v":""},{"$f":"IFERROR(VLOOKUP(C2095,ShareOfSearch_CTR!$A$1:$B$100,2,FALSE)*VLOOKUP(A2095&B2095,ShareOfSearch_Volume!$C$1:$D$1000,2,FALSE),\"\")","v":""}]
[{"$f":"IF(ISTEXT(ShareOfSearch_SERPS!C2096),ShareOfSearch_SERPS!C2096,\"\")","v":""},{"$f":"IF(ISTEXT(ShareOfSearch_SERPS!D2096),ShareOfSearch_SERPS!D2096,\"\")","v":""},{"$f":"IF(NOT(ISBLANK(ShareOfSearch_SERPS!A2096)),ShareOfSearch_SERPS!A2096,\"\")","v":""},{"$f":"IF(NOT(ISBLANK(ShareOfSearch_SERPS!G2096)),ShareOfSearch_SERPS!G2096,\"\")","v":""},{"$f":"IF(NOT(ISBLANK(ShareOfSearch_SERPS!K2096)),ShareOfSearch_SERPS!K2096,\"\")","v":""},{"$f":"IFERROR(VLOOKUP(C2096,ShareOfSearch_CTR!$A$1:$B$100,2,FALSE)*VLOOKUP(A2096&B2096,ShareOfSearch_Volume!$C$1:$D$1000,2,FALSE),\"\")","v":""}]
[{"$f":"IF(ISTEXT(ShareOfSearch_SERPS!C2097),ShareOfSearch_SERPS!C2097,\"\")","v":""},{"$f":"IF(ISTEXT(ShareOfSearch_SERPS!D2097),ShareOfSearch_SERPS!D2097,\"\")","v":""},{"$f":"IF(NOT(ISBLANK(ShareOfSearch_SERPS!A2097)),ShareOfSearch_SERPS!A2097,\"\")","v":""},{"$f":"IF(NOT(ISBLANK(ShareOfSearch_SERPS!G2097)),ShareOfSearch_SERPS!G2097,\"\")","v":""},{"$f":"IF(NOT(ISBLANK(ShareOfSearch_SERPS!K2097)),ShareOfSearch_SERPS!K2097,\"\")","v":""},{"$f":"IFERROR(VLOOKUP(C2097,ShareOfSearch_CTR!$A$1:$B$100,2,FALSE)*VLOOKUP(A2097&B2097,ShareOfSearch_Volume!$C$1:$D$1000,2,FALSE),\"\")","v":""}]
[{"$f":"IF(ISTEXT(ShareOfSearch_SERPS!C2098),ShareOfSearch_SERPS!C2098,\"\")","v":""},{"$f":"IF(ISTEXT(ShareOfSearch_SERPS!D2098),ShareOfSearch_SERPS!D2098,\"\")","v":""},{"$f":"IF(NOT(ISBLANK(ShareOfSearch_SERPS!A2098)),ShareOfSearch_SERPS!A2098,\"\")","v":""},{"$f":"IF(NOT(ISBLANK(ShareOfSearch_SERPS!G2098)),ShareOfSearch_SERPS!G2098,\"\")","v":""},{"$f":"IF(NOT(ISBLANK(ShareOfSearch_SERPS!K2098)),ShareOfSearch_SERPS!K2098,\"\")","v":""},{"$f":"IFERROR(VLOOKUP(C2098,ShareOfSearch_CTR!$A$1:$B$100,2,FALSE)*VLOOKUP(A2098&B2098,ShareOfSearch_Volume!$C$1:$D$1000,2,FALSE),\"\")","v":""}]
[{"$f":"IF(ISTEXT(ShareOfSearch_SERPS!C2099),ShareOfSearch_SERPS!C2099,\"\")","v":""},{"$f":"IF(ISTEXT(ShareOfSearch_SERPS!D2099),ShareOfSearch_SERPS!D2099,\"\")","v":""},{"$f":"IF(NOT(ISBLANK(ShareOfSearch_SERPS!A2099)),ShareOfSearch_SERPS!A2099,\"\")","v":""},{"$f":"IF(NOT(ISBLANK(ShareOfSearch_SERPS!G2099)),ShareOfSearch_SERPS!G2099,\"\")","v":""},{"$f":"IF(NOT(ISBLANK(ShareOfSearch_SERPS!K2099)),ShareOfSearch_SERPS!K2099,\"\")","v":""},{"$f":"IFERROR(VLOOKUP(C2099,ShareOfSearch_CTR!$A$1:$B$100,2,FALSE)*VLOOKUP(A2099&B2099,ShareOfSearch_Volume!$C$1:$D$1000,2,FALSE),\"\")","v":""}]
[{"$f":"IF(ISTEXT(ShareOfSearch_SERPS!C2100),ShareOfSearch_SERPS!C2100,\"\")","v":""},{"$f":"IF(ISTEXT(ShareOfSearch_SERPS!D2100),ShareOfSearch_SERPS!D2100,\"\")","v":""},{"$f":"IF(NOT(ISBLANK(ShareOfSearch_SERPS!A2100)),ShareOfSearch_SERPS!A2100,\"\")","v":""},{"$f":"IF(NOT(ISBLANK(ShareOfSearch_SERPS!G2100)),ShareOfSearch_SERPS!G2100,\"\")","v":""},{"$f":"IF(NOT(ISBLANK(ShareOfSearch_SERPS!K2100)),ShareOfSearch_SERPS!K2100,\"\")","v":""},{"$f":"IFERROR(VLOOKUP(C2100,ShareOfSearch_CTR!$A$1:$B$100,2,FALSE)*VLOOKUP(A2100&B2100,ShareOfSearch_Volume!$C$1:$D$1000,2,FALSE),\"\")","v":""}]
[{"$f":"IF(ISTEXT(ShareOfSearch_SERPS!C2101),ShareOfSearch_SERPS!C2101,\"\")","v":""},{"$f":"IF(ISTEXT(ShareOfSearch_SERPS!D2101),ShareOfSearch_SERPS!D2101,\"\")","v":""},{"$f":"IF(NOT(ISBLANK(ShareOfSearch_SERPS!A2101)),ShareOfSearch_SERPS!A2101,\"\")","v":""},{"$f":"IF(NOT(ISBLANK(ShareOfSearch_SERPS!G2101)),ShareOfSearch_SERPS!G2101,\"\")","v":""},{"$f":"IF(NOT(ISBLANK(ShareOfSearch_SERPS!K2101)),ShareOfSearch_SERPS!K2101,\"\")","v":""},{"$f":"IFERROR(VLOOKUP(C2101,ShareOfSearch_CTR!$A$1:$B$100,2,FALSE)*VLOOKUP(A2101&B2101,ShareOfSearch_Volume!$C$1:$D$1000,2,FALSE),\"\")","v":""}]
[{"$f":"IF(ISTEXT(ShareOfSearch_SERPS!C2102),ShareOfSearch_SERPS!C2102,\"\")","v":""},{"$f":"IF(ISTEXT(ShareOfSearch_SERPS!D2102),ShareOfSearch_SERPS!D2102,\"\")","v":""},{"$f":"IF(NOT(ISBLANK(ShareOfSearch_SERPS!A2102)),ShareOfSearch_SERPS!A2102,\"\")","v":""},{"$f":"IF(NOT(ISBLANK(ShareOfSearch_SERPS!G2102)),ShareOfSearch_SERPS!G2102,\"\")","v":""},{"$f":"IF(NOT(ISBLANK(ShareOfSearch_SERPS!K2102)),ShareOfSearch_SERPS!K2102,\"\")","v":""},{"$f":"IFERROR(VLOOKUP(C2102,ShareOfSearch_CTR!$A$1:$B$100,2,FALSE)*VLOOKUP(A2102&B2102,ShareOfSearch_Volume!$C$1:$D$1000,2,FALSE),\"\")","v":""}]
[{"$f":"IF(ISTEXT(ShareOfSearch_SERPS!C2103),ShareOfSearch_SERPS!C2103,\"\")","v":""},{"$f":"IF(ISTEXT(ShareOfSearch_SERPS!D2103),ShareOfSearch_SERPS!D2103,\"\")","v":""},{"$f":"IF(NOT(ISBLANK(ShareOfSearch_SERPS!A2103)),ShareOfSearch_SERPS!A2103,\"\")","v":""},{"$f":"IF(NOT(ISBLANK(ShareOfSearch_SERPS!G2103)),ShareOfSearch_SERPS!G2103,\"\")","v":""},{"$f":"IF(NOT(ISBLANK(ShareOfSearch_SERPS!K2103)),ShareOfSearch_SERPS!K2103,\"\")","v":""},{"$f":"IFERROR(VLOOKUP(C2103,ShareOfSearch_CTR!$A$1:$B$100,2,FALSE)*VLOOKUP(A2103&B2103,ShareOfSearch_Volume!$C$1:$D$1000,2,FALSE),\"\")","v":""}]
[{"$f":"IF(ISTEXT(ShareOfSearch_SERPS!C2104),ShareOfSearch_SERPS!C2104,\"\")","v":""},{"$f":"IF(ISTEXT(ShareOfSearch_SERPS!D2104),ShareOfSearch_SERPS!D2104,\"\")","v":""},{"$f":"IF(NOT(ISBLANK(ShareOfSearch_SERPS!A2104)),ShareOfSearch_SERPS!A2104,\"\")","v":""},{"$f":"IF(NOT(ISBLANK(ShareOfSearch_SERPS!G2104)),ShareOfSearch_SERPS!G2104,\"\")","v":""},{"$f":"IF(NOT(ISBLANK(ShareOfSearch_SERPS!K2104)),ShareOfSearch_SERPS!K2104,\"\")","v":""},{"$f":"IFERROR(VLOOKUP(C2104,ShareOfSearch_CTR!$A$1:$B$100,2,FALSE)*VLOOKUP(A2104&B2104,ShareOfSearch_Volume!$C$1:$D$1000,2,FALSE),\"\")","v":""}]
[{"$f":"IF(ISTEXT(ShareOfSearch_SERPS!C2105),ShareOfSearch_SERPS!C2105,\"\")","v":""},{"$f":"IF(ISTEXT(ShareOfSearch_SERPS!D2105),ShareOfSearch_SERPS!D2105,\"\")","v":""},{"$f":"IF(NOT(ISBLANK(ShareOfSearch_SERPS!A2105)),ShareOfSearch_SERPS!A2105,\"\")","v":""},{"$f":"IF(NOT(ISBLANK(ShareOfSearch_SERPS!G2105)),ShareOfSearch_SERPS!G2105,\"\")","v":""},{"$f":"IF(NOT(ISBLANK(ShareOfSearch_SERPS!K2105)),ShareOfSearch_SERPS!K2105,\"\")","v":""},{"$f":"IFERROR(VLOOKUP(C2105,ShareOfSearch_CTR!$A$1:$B$100,2,FALSE)*VLOOKUP(A2105&B2105,ShareOfSearch_Volume!$C$1:$D$1000,2,FALSE),\"\")","v":""}]
[{"$f":"IF(ISTEXT(ShareOfSearch_SERPS!C2106),ShareOfSearch_SERPS!C2106,\"\")","v":""},{"$f":"IF(ISTEXT(ShareOfSearch_SERPS!D2106),ShareOfSearch_SERPS!D2106,\"\")","v":""},{"$f":"IF(NOT(ISBLANK(ShareOfSearch_SERPS!A2106)),ShareOfSearch_SERPS!A2106,\"\")","v":""},{"$f":"IF(NOT(ISBLANK(ShareOfSearch_SERPS!G2106)),ShareOfSearch_SERPS!G2106,\"\")","v":""},{"$f":"IF(NOT(ISBLANK(ShareOfSearch_SERPS!K2106)),ShareOfSearch_SERPS!K2106,\"\")","v":""},{"$f":"IFERROR(VLOOKUP(C2106,ShareOfSearch_CTR!$A$1:$B$100,2,FALSE)*VLOOKUP(A2106&B2106,ShareOfSearch_Volume!$C$1:$D$1000,2,FALSE),\"\")","v":""}]
[{"$f":"IF(ISTEXT(ShareOfSearch_SERPS!C2107),ShareOfSearch_SERPS!C2107,\"\")","v":""},{"$f":"IF(ISTEXT(ShareOfSearch_SERPS!D2107),ShareOfSearch_SERPS!D2107,\"\")","v":""},{"$f":"IF(NOT(ISBLANK(ShareOfSearch_SERPS!A2107)),ShareOfSearch_SERPS!A2107,\"\")","v":""},{"$f":"IF(NOT(ISBLANK(ShareOfSearch_SERPS!G2107)),ShareOfSearch_SERPS!G2107,\"\")","v":""},{"$f":"IF(NOT(ISBLANK(ShareOfSearch_SERPS!K2107)),ShareOfSearch_SERPS!K2107,\"\")","v":""},{"$f":"IFERROR(VLOOKUP(C2107,ShareOfSearch_CTR!$A$1:$B$100,2,FALSE)*VLOOKUP(A2107&B2107,ShareOfSearch_Volume!$C$1:$D$1000,2,FALSE),\"\")","v":""}]
[{"$f":"IF(ISTEXT(ShareOfSearch_SERPS!C2108),ShareOfSearch_SERPS!C2108,\"\")","v":""},{"$f":"IF(ISTEXT(ShareOfSearch_SERPS!D2108),ShareOfSearch_SERPS!D2108,\"\")","v":""},{"$f":"IF(NOT(ISBLANK(ShareOfSearch_SERPS!A2108)),ShareOfSearch_SERPS!A2108,\"\")","v":""},{"$f":"IF(NOT(ISBLANK(ShareOfSearch_SERPS!G2108)),ShareOfSearch_SERPS!G2108,\"\")","v":""},{"$f":"IF(NOT(ISBLANK(ShareOfSearch_SERPS!K2108)),ShareOfSearch_SERPS!K2108,\"\")","v":""},{"$f":"IFERROR(VLOOKUP(C2108,ShareOfSearch_CTR!$A$1:$B$100,2,FALSE)*VLOOKUP(A2108&B2108,ShareOfSearch_Volume!$C$1:$D$1000,2,FALSE),\"\")","v":""}]
[{"$f":"IF(ISTEXT(ShareOfSearch_SERPS!C2109),ShareOfSearch_SERPS!C2109,\"\")","v":""},{"$f":"IF(ISTEXT(ShareOfSearch_SERPS!D2109),ShareOfSearch_SERPS!D2109,\"\")","v":""},{"$f":"IF(NOT(ISBLANK(ShareOfSearch_SERPS!A2109)),ShareOfSearch_SERPS!A2109,\"\")","v":""},{"$f":"IF(NOT(ISBLANK(ShareOfSearch_SERPS!G2109)),ShareOfSearch_SERPS!G2109,\"\")","v":""},{"$f":"IF(NOT(ISBLANK(ShareOfSearch_SERPS!K2109)),ShareOfSearch_SERPS!K2109,\"\")","v":""},{"$f":"IFERROR(VLOOKUP(C2109,ShareOfSearch_CTR!$A$1:$B$100,2,FALSE)*VLOOKUP(A2109&B2109,ShareOfSearch_Volume!$C$1:$D$1000,2,FALSE),\"\")","v":""}]
[{"$f":"IF(ISTEXT(ShareOfSearch_SERPS!C2110),ShareOfSearch_SERPS!C2110,\"\")","v":""},{"$f":"IF(ISTEXT(ShareOfSearch_SERPS!D2110),ShareOfSearch_SERPS!D2110,\"\")","v":""},{"$f":"IF(NOT(ISBLANK(ShareOfSearch_SERPS!A2110)),ShareOfSearch_SERPS!A2110,\"\")","v":""},{"$f":"IF(NOT(ISBLANK(ShareOfSearch_SERPS!G2110)),ShareOfSearch_SERPS!G2110,\"\")","v":""},{"$f":"IF(NOT(ISBLANK(ShareOfSearch_SERPS!K2110)),ShareOfSearch_SERPS!K2110,\"\")","v":""},{"$f":"IFERROR(VLOOKUP(C2110,ShareOfSearch_CTR!$A$1:$B$100,2,FALSE)*VLOOKUP(A2110&B2110,ShareOfSearch_Volume!$C$1:$D$1000,2,FALSE),\"\")","v":""}]
[{"$f":"IF(ISTEXT(ShareOfSearch_SERPS!C2111),ShareOfSearch_SERPS!C2111,\"\")","v":""},{"$f":"IF(ISTEXT(ShareOfSearch_SERPS!D2111),ShareOfSearch_SERPS!D2111,\"\")","v":""},{"$f":"IF(NOT(ISBLANK(ShareOfSearch_SERPS!A2111)),ShareOfSearch_SERPS!A2111,\"\")","v":""},{"$f":"IF(NOT(ISBLANK(ShareOfSearch_SERPS!G2111)),ShareOfSearch_SERPS!G2111,\"\")","v":""},{"$f":"IF(NOT(ISBLANK(ShareOfSearch_SERPS!K2111)),ShareOfSearch_SERPS!K2111,\"\")","v":""},{"$f":"IFERROR(VLOOKUP(C2111,ShareOfSearch_CTR!$A$1:$B$100,2,FALSE)*VLOOKUP(A2111&B2111,ShareOfSearch_Volume!$C$1:$D$1000,2,FALSE),\"\")","v":""}]
[{"$f":"IF(ISTEXT(ShareOfSearch_SERPS!C2112),ShareOfSearch_SERPS!C2112,\"\")","v":""},{"$f":"IF(ISTEXT(ShareOfSearch_SERPS!D2112),ShareOfSearch_SERPS!D2112,\"\")","v":""},{"$f":"IF(NOT(ISBLANK(ShareOfSearch_SERPS!A2112)),ShareOfSearch_SERPS!A2112,\"\")","v":""},{"$f":"IF(NOT(ISBLANK(ShareOfSearch_SERPS!G2112)),ShareOfSearch_SERPS!G2112,\"\")","v":""},{"$f":"IF(NOT(ISBLANK(ShareOfSearch_SERPS!K2112)),ShareOfSearch_SERPS!K2112,\"\")","v":""},{"$f":"IFERROR(VLOOKUP(C2112,ShareOfSearch_CTR!$A$1:$B$100,2,FALSE)*VLOOKUP(A2112&B2112,ShareOfSearch_Volume!$C$1:$D$1000,2,FALSE),\"\")","v":""}]
[{"$f":"IF(ISTEXT(ShareOfSearch_SERPS!C2113),ShareOfSearch_SERPS!C2113,\"\")","v":""},{"$f":"IF(ISTEXT(ShareOfSearch_SERPS!D2113),ShareOfSearch_SERPS!D2113,\"\")","v":""},{"$f":"IF(NOT(ISBLANK(ShareOfSearch_SERPS!A2113)),ShareOfSearch_SERPS!A2113,\"\")","v":""},{"$f":"IF(NOT(ISBLANK(ShareOfSearch_SERPS!G2113)),ShareOfSearch_SERPS!G2113,\"\")","v":""},{"$f":"IF(NOT(ISBLANK(ShareOfSearch_SERPS!K2113)),ShareOfSearch_SERPS!K2113,\"\")","v":""},{"$f":"IFERROR(VLOOKUP(C2113,ShareOfSearch_CTR!$A$1:$B$100,2,FALSE)*VLOOKUP(A2113&B2113,ShareOfSearch_Volume!$C$1:$D$1000,2,FALSE),\"\")","v":""}]
[{"$f":"IF(ISTEXT(ShareOfSearch_SERPS!C2114),ShareOfSearch_SERPS!C2114,\"\")","v":""},{"$f":"IF(ISTEXT(ShareOfSearch_SERPS!D2114),ShareOfSearch_SERPS!D2114,\"\")","v":""},{"$f":"IF(NOT(ISBLANK(ShareOfSearch_SERPS!A2114)),ShareOfSearch_SERPS!A2114,\"\")","v":""},{"$f":"IF(NOT(ISBLANK(ShareOfSearch_SERPS!G2114)),ShareOfSearch_SERPS!G2114,\"\")","v":""},{"$f":"IF(NOT(ISBLANK(ShareOfSearch_SERPS!K2114)),ShareOfSearch_SERPS!K2114,\"\")","v":""},{"$f":"IFERROR(VLOOKUP(C2114,ShareOfSearch_CTR!$A$1:$B$100,2,FALSE)*VLOOKUP(A2114&B2114,ShareOfSearch_Volume!$C$1:$D$1000,2,FALSE),\"\")","v":""}]
[{"$f":"IF(ISTEXT(ShareOfSearch_SERPS!C2115),ShareOfSearch_SERPS!C2115,\"\")","v":""},{"$f":"IF(ISTEXT(ShareOfSearch_SERPS!D2115),ShareOfSearch_SERPS!D2115,\"\")","v":""},{"$f":"IF(NOT(ISBLANK(ShareOfSearch_SERPS!A2115)),ShareOfSearch_SERPS!A2115,\"\")","v":""},{"$f":"IF(NOT(ISBLANK(ShareOfSearch_SERPS!G2115)),ShareOfSearch_SERPS!G2115,\"\")","v":""},{"$f":"IF(NOT(ISBLANK(ShareOfSearch_SERPS!K2115)),ShareOfSearch_SERPS!K2115,\"\")","v":""},{"$f":"IFERROR(VLOOKUP(C2115,ShareOfSearch_CTR!$A$1:$B$100,2,FALSE)*VLOOKUP(A2115&B2115,ShareOfSearch_Volume!$C$1:$D$1000,2,FALSE),\"\")","v":""}]
[{"$f":"IF(ISTEXT(ShareOfSearch_SERPS!C2116),ShareOfSearch_SERPS!C2116,\"\")","v":""},{"$f":"IF(ISTEXT(ShareOfSearch_SERPS!D2116),ShareOfSearch_SERPS!D2116,\"\")","v":""},{"$f":"IF(NOT(ISBLANK(ShareOfSearch_SERPS!A2116)),ShareOfSearch_SERPS!A2116,\"\")","v":""},{"$f":"IF(NOT(ISBLANK(ShareOfSearch_SERPS!G2116)),ShareOfSearch_SERPS!G2116,\"\")","v":""},{"$f":"IF(NOT(ISBLANK(ShareOfSearch_SERPS!K2116)),ShareOfSearch_SERPS!K2116,\"\")","v":""},{"$f":"IFERROR(VLOOKUP(C2116,ShareOfSearch_CTR!$A$1:$B$100,2,FALSE)*VLOOKUP(A2116&B2116,ShareOfSearch_Volume!$C$1:$D$1000,2,FALSE),\"\")","v":""}]
[{"$f":"IF(ISTEXT(ShareOfSearch_SERPS!C2117),ShareOfSearch_SERPS!C2117,\"\")","v":""},{"$f":"IF(ISTEXT(ShareOfSearch_SERPS!D2117),ShareOfSearch_SERPS!D2117,\"\")","v":""},{"$f":"IF(NOT(ISBLANK(ShareOfSearch_SERPS!A2117)),ShareOfSearch_SERPS!A2117,\"\")","v":""},{"$f":"IF(NOT(ISBLANK(ShareOfSearch_SERPS!G2117)),ShareOfSearch_SERPS!G2117,\"\")","v":""},{"$f":"IF(NOT(ISBLANK(ShareOfSearch_SERPS!K2117)),ShareOfSearch_SERPS!K2117,\"\")","v":""},{"$f":"IFERROR(VLOOKUP(C2117,ShareOfSearch_CTR!$A$1:$B$100,2,FALSE)*VLOOKUP(A2117&B2117,ShareOfSearch_Volume!$C$1:$D$1000,2,FALSE),\"\")","v":""}]
[{"$f":"IF(ISTEXT(ShareOfSearch_SERPS!C2118),ShareOfSearch_SERPS!C2118,\"\")","v":""},{"$f":"IF(ISTEXT(ShareOfSearch_SERPS!D2118),ShareOfSearch_SERPS!D2118,\"\")","v":""},{"$f":"IF(NOT(ISBLANK(ShareOfSearch_SERPS!A2118)),ShareOfSearch_SERPS!A2118,\"\")","v":""},{"$f":"IF(NOT(ISBLANK(ShareOfSearch_SERPS!G2118)),ShareOfSearch_SERPS!G2118,\"\")","v":""},{"$f":"IF(NOT(ISBLANK(ShareOfSearch_SERPS!K2118)),ShareOfSearch_SERPS!K2118,\"\")","v":""},{"$f":"IFERROR(VLOOKUP(C2118,ShareOfSearch_CTR!$A$1:$B$100,2,FALSE)*VLOOKUP(A2118&B2118,ShareOfSearch_Volume!$C$1:$D$1000,2,FALSE),\"\")","v":""}]
[{"$f":"IF(ISTEXT(ShareOfSearch_SERPS!C2119),ShareOfSearch_SERPS!C2119,\"\")","v":""},{"$f":"IF(ISTEXT(ShareOfSearch_SERPS!D2119),ShareOfSearch_SERPS!D2119,\"\")","v":""},{"$f":"IF(NOT(ISBLANK(ShareOfSearch_SERPS!A2119)),ShareOfSearch_SERPS!A2119,\"\")","v":""},{"$f":"IF(NOT(ISBLANK(ShareOfSearch_SERPS!G2119)),ShareOfSearch_SERPS!G2119,\"\")","v":""},{"$f":"IF(NOT(ISBLANK(ShareOfSearch_SERPS!K2119)),ShareOfSearch_SERPS!K2119,\"\")","v":""},{"$f":"IFERROR(VLOOKUP(C2119,ShareOfSearch_CTR!$A$1:$B$100,2,FALSE)*VLOOKUP(A2119&B2119,ShareOfSearch_Volume!$C$1:$D$1000,2,FALSE),\"\")","v":""}]
[{"$f":"IF(ISTEXT(ShareOfSearch_SERPS!C2120),ShareOfSearch_SERPS!C2120,\"\")","v":""},{"$f":"IF(ISTEXT(ShareOfSearch_SERPS!D2120),ShareOfSearch_SERPS!D2120,\"\")","v":""},{"$f":"IF(NOT(ISBLANK(ShareOfSearch_SERPS!A2120)),ShareOfSearch_SERPS!A2120,\"\")","v":""},{"$f":"IF(NOT(ISBLANK(ShareOfSearch_SERPS!G2120)),ShareOfSearch_SERPS!G2120,\"\")","v":""},{"$f":"IF(NOT(ISBLANK(ShareOfSearch_SERPS!K2120)),ShareOfSearch_SERPS!K2120,\"\")","v":""},{"$f":"IFERROR(VLOOKUP(C2120,ShareOfSearch_CTR!$A$1:$B$100,2,FALSE)*VLOOKUP(A2120&B2120,ShareOfSearch_Volume!$C$1:$D$1000,2,FALSE),\"\")","v":""}]
[{"$f":"IF(ISTEXT(ShareOfSearch_SERPS!C2121),ShareOfSearch_SERPS!C2121,\"\")","v":""},{"$f":"IF(ISTEXT(ShareOfSearch_SERPS!D2121),ShareOfSearch_SERPS!D2121,\"\")","v":""},{"$f":"IF(NOT(ISBLANK(ShareOfSearch_SERPS!A2121)),ShareOfSearch_SERPS!A2121,\"\")","v":""},{"$f":"IF(NOT(ISBLANK(ShareOfSearch_SERPS!G2121)),ShareOfSearch_SERPS!G2121,\"\")","v":""},{"$f":"IF(NOT(ISBLANK(ShareOfSearch_SERPS!K2121)),ShareOfSearch_SERPS!K2121,\"\")","v":""},{"$f":"IFERROR(VLOOKUP(C2121,ShareOfSearch_CTR!$A$1:$B$100,2,FALSE)*VLOOKUP(A2121&B2121,ShareOfSearch_Volume!$C$1:$D$1000,2,FALSE),\"\")","v":""}]
[{"$f":"IF(ISTEXT(ShareOfSearch_SERPS!C2122),ShareOfSearch_SERPS!C2122,\"\")","v":""},{"$f":"IF(ISTEXT(ShareOfSearch_SERPS!D2122),ShareOfSearch_SERPS!D2122,\"\")","v":""},{"$f":"IF(NOT(ISBLANK(ShareOfSearch_SERPS!A2122)),ShareOfSearch_SERPS!A2122,\"\")","v":""},{"$f":"IF(NOT(ISBLANK(ShareOfSearch_SERPS!G2122)),ShareOfSearch_SERPS!G2122,\"\")","v":""},{"$f":"IF(NOT(ISBLANK(ShareOfSearch_SERPS!K2122)),ShareOfSearch_SERPS!K2122,\"\")","v":""},{"$f":"IFERROR(VLOOKUP(C2122,ShareOfSearch_CTR!$A$1:$B$100,2,FALSE)*VLOOKUP(A2122&B2122,ShareOfSearch_Volume!$C$1:$D$1000,2,FALSE),\"\")","v":""}]
[{"$f":"IF(ISTEXT(ShareOfSearch_SERPS!C2123),ShareOfSearch_SERPS!C2123,\"\")","v":""},{"$f":"IF(ISTEXT(ShareOfSearch_SERPS!D2123),ShareOfSearch_SERPS!D2123,\"\")","v":""},{"$f":"IF(NOT(ISBLANK(ShareOfSearch_SERPS!A2123)),ShareOfSearch_SERPS!A2123,\"\")","v":""},{"$f":"IF(NOT(ISBLANK(ShareOfSearch_SERPS!G2123)),ShareOfSearch_SERPS!G2123,\"\")","v":""},{"$f":"IF(NOT(ISBLANK(ShareOfSearch_SERPS!K2123)),ShareOfSearch_SERPS!K2123,\"\")","v":""},{"$f":"IFERROR(VLOOKUP(C2123,ShareOfSearch_CTR!$A$1:$B$100,2,FALSE)*VLOOKUP(A2123&B2123,ShareOfSearch_Volume!$C$1:$D$1000,2,FALSE),\"\")","v":""}]
[{"$f":"IF(ISTEXT(ShareOfSearch_SERPS!C2124),ShareOfSearch_SERPS!C2124,\"\")","v":""},{"$f":"IF(ISTEXT(ShareOfSearch_SERPS!D2124),ShareOfSearch_SERPS!D2124,\"\")","v":""},{"$f":"IF(NOT(ISBLANK(ShareOfSearch_SERPS!A2124)),ShareOfSearch_SERPS!A2124,\"\")","v":""},{"$f":"IF(NOT(ISBLANK(ShareOfSearch_SERPS!G2124)),ShareOfSearch_SERPS!G2124,\"\")","v":""},{"$f":"IF(NOT(ISBLANK(ShareOfSearch_SERPS!K2124)),ShareOfSearch_SERPS!K2124,\"\")","v":""},{"$f":"IFERROR(VLOOKUP(C2124,ShareOfSearch_CTR!$A$1:$B$100,2,FALSE)*VLOOKUP(A2124&B2124,ShareOfSearch_Volume!$C$1:$D$1000,2,FALSE),\"\")","v":""}]
[{"$f":"IF(ISTEXT(ShareOfSearch_SERPS!C2125),ShareOfSearch_SERPS!C2125,\"\")","v":""},{"$f":"IF(ISTEXT(ShareOfSearch_SERPS!D2125),ShareOfSearch_SERPS!D2125,\"\")","v":""},{"$f":"IF(NOT(ISBLANK(ShareOfSearch_SERPS!A2125)),ShareOfSearch_SERPS!A2125,\"\")","v":""},{"$f":"IF(NOT(ISBLANK(ShareOfSearch_SERPS!G2125)),ShareOfSearch_SERPS!G2125,\"\")","v":""},{"$f":"IF(NOT(ISBLANK(ShareOfSearch_SERPS!K2125)),ShareOfSearch_SERPS!K2125,\"\")","v":""},{"$f":"IFERROR(VLOOKUP(C2125,ShareOfSearch_CTR!$A$1:$B$100,2,FALSE)*VLOOKUP(A2125&B2125,ShareOfSearch_Volume!$C$1:$D$1000,2,FALSE),\"\")","v":""}]
[{"$f":"IF(ISTEXT(ShareOfSearch_SERPS!C2126),ShareOfSearch_SERPS!C2126,\"\")","v":""},{"$f":"IF(ISTEXT(ShareOfSearch_SERPS!D2126),ShareOfSearch_SERPS!D2126,\"\")","v":""},{"$f":"IF(NOT(ISBLANK(ShareOfSearch_SERPS!A2126)),ShareOfSearch_SERPS!A2126,\"\")","v":""},{"$f":"IF(NOT(ISBLANK(ShareOfSearch_SERPS!G2126)),ShareOfSearch_SERPS!G2126,\"\")","v":""},{"$f":"IF(NOT(ISBLANK(ShareOfSearch_SERPS!K2126)),ShareOfSearch_SERPS!K2126,\"\")","v":""},{"$f":"IFERROR(VLOOKUP(C2126,ShareOfSearch_CTR!$A$1:$B$100,2,FALSE)*VLOOKUP(A2126&B2126,ShareOfSearch_Volume!$C$1:$D$1000,2,FALSE),\"\")","v":""}]
[{"$f":"IF(ISTEXT(ShareOfSearch_SERPS!C2127),ShareOfSearch_SERPS!C2127,\"\")","v":""},{"$f":"IF(ISTEXT(ShareOfSearch_SERPS!D2127),ShareOfSearch_SERPS!D2127,\"\")","v":""},{"$f":"IF(NOT(ISBLANK(ShareOfSearch_SERPS!A2127)),ShareOfSearch_SERPS!A2127,\"\")","v":""},{"$f":"IF(NOT(ISBLANK(ShareOfSearch_SERPS!G2127)),ShareOfSearch_SERPS!G2127,\"\")","v":""},{"$f":"IF(NOT(ISBLANK(ShareOfSearch_SERPS!K2127)),ShareOfSearch_SERPS!K2127,\"\")","v":""},{"$f":"IFERROR(VLOOKUP(C2127,ShareOfSearch_CTR!$A$1:$B$100,2,FALSE)*VLOOKUP(A2127&B2127,ShareOfSearch_Volume!$C$1:$D$1000,2,FALSE),\"\")","v":""}]
[{"$f":"IF(ISTEXT(ShareOfSearch_SERPS!C2128),ShareOfSearch_SERPS!C2128,\"\")","v":""},{"$f":"IF(ISTEXT(ShareOfSearch_SERPS!D2128),ShareOfSearch_SERPS!D2128,\"\")","v":""},{"$f":"IF(NOT(ISBLANK(ShareOfSearch_SERPS!A2128)),ShareOfSearch_SERPS!A2128,\"\")","v":""},{"$f":"IF(NOT(ISBLANK(ShareOfSearch_SERPS!G2128)),ShareOfSearch_SERPS!G2128,\"\")","v":""},{"$f":"IF(NOT(ISBLANK(ShareOfSearch_SERPS!K2128)),ShareOfSearch_SERPS!K2128,\"\")","v":""},{"$f":"IFERROR(VLOOKUP(C2128,ShareOfSearch_CTR!$A$1:$B$100,2,FALSE)*VLOOKUP(A2128&B2128,ShareOfSearch_Volume!$C$1:$D$1000,2,FALSE),\"\")","v":""}]
[{"$f":"IF(ISTEXT(ShareOfSearch_SERPS!C2129),ShareOfSearch_SERPS!C2129,\"\")","v":""},{"$f":"IF(ISTEXT(ShareOfSearch_SERPS!D2129),ShareOfSearch_SERPS!D2129,\"\")","v":""},{"$f":"IF(NOT(ISBLANK(ShareOfSearch_SERPS!A2129)),ShareOfSearch_SERPS!A2129,\"\")","v":""},{"$f":"IF(NOT(ISBLANK(ShareOfSearch_SERPS!G2129)),ShareOfSearch_SERPS!G2129,\"\")","v":""},{"$f":"IF(NOT(ISBLANK(ShareOfSearch_SERPS!K2129)),ShareOfSearch_SERPS!K2129,\"\")","v":""},{"$f":"IFERROR(VLOOKUP(C2129,ShareOfSearch_CTR!$A$1:$B$100,2,FALSE)*VLOOKUP(A2129&B2129,ShareOfSearch_Volume!$C$1:$D$1000,2,FALSE),\"\")","v":""}]
[{"$f":"IF(ISTEXT(ShareOfSearch_SERPS!C2130),ShareOfSearch_SERPS!C2130,\"\")","v":""},{"$f":"IF(ISTEXT(ShareOfSearch_SERPS!D2130),ShareOfSearch_SERPS!D2130,\"\")","v":""},{"$f":"IF(NOT(ISBLANK(ShareOfSearch_SERPS!A2130)),ShareOfSearch_SERPS!A2130,\"\")","v":""},{"$f":"IF(NOT(ISBLANK(ShareOfSearch_SERPS!G2130)),ShareOfSearch_SERPS!G2130,\"\")","v":""},{"$f":"IF(NOT(ISBLANK(ShareOfSearch_SERPS!K2130)),ShareOfSearch_SERPS!K2130,\"\")","v":""},{"$f":"IFERROR(VLOOKUP(C2130,ShareOfSearch_CTR!$A$1:$B$100,2,FALSE)*VLOOKUP(A2130&B2130,ShareOfSearch_Volume!$C$1:$D$1000,2,FALSE),\"\")","v":""}]
[{"$f":"IF(ISTEXT(ShareOfSearch_SERPS!C2131),ShareOfSearch_SERPS!C2131,\"\")","v":""},{"$f":"IF(ISTEXT(ShareOfSearch_SERPS!D2131),ShareOfSearch_SERPS!D2131,\"\")","v":""},{"$f":"IF(NOT(ISBLANK(ShareOfSearch_SERPS!A2131)),ShareOfSearch_SERPS!A2131,\"\")","v":""},{"$f":"IF(NOT(ISBLANK(ShareOfSearch_SERPS!G2131)),ShareOfSearch_SERPS!G2131,\"\")","v":""},{"$f":"IF(NOT(ISBLANK(ShareOfSearch_SERPS!K2131)),ShareOfSearch_SERPS!K2131,\"\")","v":""},{"$f":"IFERROR(VLOOKUP(C2131,ShareOfSearch_CTR!$A$1:$B$100,2,FALSE)*VLOOKUP(A2131&B2131,ShareOfSearch_Volume!$C$1:$D$1000,2,FALSE),\"\")","v":""}]
[{"$f":"IF(ISTEXT(ShareOfSearch_SERPS!C2132),ShareOfSearch_SERPS!C2132,\"\")","v":""},{"$f":"IF(ISTEXT(ShareOfSearch_SERPS!D2132),ShareOfSearch_SERPS!D2132,\"\")","v":""},{"$f":"IF(NOT(ISBLANK(ShareOfSearch_SERPS!A2132)),ShareOfSearch_SERPS!A2132,\"\")","v":""},{"$f":"IF(NOT(ISBLANK(ShareOfSearch_SERPS!G2132)),ShareOfSearch_SERPS!G2132,\"\")","v":""},{"$f":"IF(NOT(ISBLANK(ShareOfSearch_SERPS!K2132)),ShareOfSearch_SERPS!K2132,\"\")","v":""},{"$f":"IFERROR(VLOOKUP(C2132,ShareOfSearch_CTR!$A$1:$B$100,2,FALSE)*VLOOKUP(A2132&B2132,ShareOfSearch_Volume!$C$1:$D$1000,2,FALSE),\"\")","v":""}]
[{"$f":"IF(ISTEXT(ShareOfSearch_SERPS!C2133),ShareOfSearch_SERPS!C2133,\"\")","v":""},{"$f":"IF(ISTEXT(ShareOfSearch_SERPS!D2133),ShareOfSearch_SERPS!D2133,\"\")","v":""},{"$f":"IF(NOT(ISBLANK(ShareOfSearch_SERPS!A2133)),ShareOfSearch_SERPS!A2133,\"\")","v":""},{"$f":"IF(NOT(ISBLANK(ShareOfSearch_SERPS!G2133)),ShareOfSearch_SERPS!G2133,\"\")","v":""},{"$f":"IF(NOT(ISBLANK(ShareOfSearch_SERPS!K2133)),ShareOfSearch_SERPS!K2133,\"\")","v":""},{"$f":"IFERROR(VLOOKUP(C2133,ShareOfSearch_CTR!$A$1:$B$100,2,FALSE)*VLOOKUP(A2133&B2133,ShareOfSearch_Volume!$C$1:$D$1000,2,FALSE),\"\")","v":""}]
[{"$f":"IF(ISTEXT(ShareOfSearch_SERPS!C2134),ShareOfSearch_SERPS!C2134,\"\")","v":""},{"$f":"IF(ISTEXT(ShareOfSearch_SERPS!D2134),ShareOfSearch_SERPS!D2134,\"\")","v":""},{"$f":"IF(NOT(ISBLANK(ShareOfSearch_SERPS!A2134)),ShareOfSearch_SERPS!A2134,\"\")","v":""},{"$f":"IF(NOT(ISBLANK(ShareOfSearch_SERPS!G2134)),ShareOfSearch_SERPS!G2134,\"\")","v":""},{"$f":"IF(NOT(ISBLANK(ShareOfSearch_SERPS!K2134)),ShareOfSearch_SERPS!K2134,\"\")","v":""},{"$f":"IFERROR(VLOOKUP(C2134,ShareOfSearch_CTR!$A$1:$B$100,2,FALSE)*VLOOKUP(A2134&B2134,ShareOfSearch_Volume!$C$1:$D$1000,2,FALSE),\"\")","v":""}]
[{"$f":"IF(ISTEXT(ShareOfSearch_SERPS!C2135),ShareOfSearch_SERPS!C2135,\"\")","v":""},{"$f":"IF(ISTEXT(ShareOfSearch_SERPS!D2135),ShareOfSearch_SERPS!D2135,\"\")","v":""},{"$f":"IF(NOT(ISBLANK(ShareOfSearch_SERPS!A2135)),ShareOfSearch_SERPS!A2135,\"\")","v":""},{"$f":"IF(NOT(ISBLANK(ShareOfSearch_SERPS!G2135)),ShareOfSearch_SERPS!G2135,\"\")","v":""},{"$f":"IF(NOT(ISBLANK(ShareOfSearch_SERPS!K2135)),ShareOfSearch_SERPS!K2135,\"\")","v":""},{"$f":"IFERROR(VLOOKUP(C2135,ShareOfSearch_CTR!$A$1:$B$100,2,FALSE)*VLOOKUP(A2135&B2135,ShareOfSearch_Volume!$C$1:$D$1000,2,FALSE),\"\")","v":""}]
[{"$f":"IF(ISTEXT(ShareOfSearch_SERPS!C2136),ShareOfSearch_SERPS!C2136,\"\")","v":""},{"$f":"IF(ISTEXT(ShareOfSearch_SERPS!D2136),ShareOfSearch_SERPS!D2136,\"\")","v":""},{"$f":"IF(NOT(ISBLANK(ShareOfSearch_SERPS!A2136)),ShareOfSearch_SERPS!A2136,\"\")","v":""},{"$f":"IF(NOT(ISBLANK(ShareOfSearch_SERPS!G2136)),ShareOfSearch_SERPS!G2136,\"\")","v":""},{"$f":"IF(NOT(ISBLANK(ShareOfSearch_SERPS!K2136)),ShareOfSearch_SERPS!K2136,\"\")","v":""},{"$f":"IFERROR(VLOOKUP(C2136,ShareOfSearch_CTR!$A$1:$B$100,2,FALSE)*VLOOKUP(A2136&B2136,ShareOfSearch_Volume!$C$1:$D$1000,2,FALSE),\"\")","v":""}]
[{"$f":"IF(ISTEXT(ShareOfSearch_SERPS!C2137),ShareOfSearch_SERPS!C2137,\"\")","v":""},{"$f":"IF(ISTEXT(ShareOfSearch_SERPS!D2137),ShareOfSearch_SERPS!D2137,\"\")","v":""},{"$f":"IF(NOT(ISBLANK(ShareOfSearch_SERPS!A2137)),ShareOfSearch_SERPS!A2137,\"\")","v":""},{"$f":"IF(NOT(ISBLANK(ShareOfSearch_SERPS!G2137)),ShareOfSearch_SERPS!G2137,\"\")","v":""},{"$f":"IF(NOT(ISBLANK(ShareOfSearch_SERPS!K2137)),ShareOfSearch_SERPS!K2137,\"\")","v":""},{"$f":"IFERROR(VLOOKUP(C2137,ShareOfSearch_CTR!$A$1:$B$100,2,FALSE)*VLOOKUP(A2137&B2137,ShareOfSearch_Volume!$C$1:$D$1000,2,FALSE),\"\")","v":""}]
[{"$f":"IF(ISTEXT(ShareOfSearch_SERPS!C2138),ShareOfSearch_SERPS!C2138,\"\")","v":""},{"$f":"IF(ISTEXT(ShareOfSearch_SERPS!D2138),ShareOfSearch_SERPS!D2138,\"\")","v":""},{"$f":"IF(NOT(ISBLANK(ShareOfSearch_SERPS!A2138)),ShareOfSearch_SERPS!A2138,\"\")","v":""},{"$f":"IF(NOT(ISBLANK(ShareOfSearch_SERPS!G2138)),ShareOfSearch_SERPS!G2138,\"\")","v":""},{"$f":"IF(NOT(ISBLANK(ShareOfSearch_SERPS!K2138)),ShareOfSearch_SERPS!K2138,\"\")","v":""},{"$f":"IFERROR(VLOOKUP(C2138,ShareOfSearch_CTR!$A$1:$B$100,2,FALSE)*VLOOKUP(A2138&B2138,ShareOfSearch_Volume!$C$1:$D$1000,2,FALSE),\"\")","v":""}]
[{"$f":"IF(ISTEXT(ShareOfSearch_SERPS!C2139),ShareOfSearch_SERPS!C2139,\"\")","v":""},{"$f":"IF(ISTEXT(ShareOfSearch_SERPS!D2139),ShareOfSearch_SERPS!D2139,\"\")","v":""},{"$f":"IF(NOT(ISBLANK(ShareOfSearch_SERPS!A2139)),ShareOfSearch_SERPS!A2139,\"\")","v":""},{"$f":"IF(NOT(ISBLANK(ShareOfSearch_SERPS!G2139)),ShareOfSearch_SERPS!G2139,\"\")","v":""},{"$f":"IF(NOT(ISBLANK(ShareOfSearch_SERPS!K2139)),ShareOfSearch_SERPS!K2139,\"\")","v":""},{"$f":"IFERROR(VLOOKUP(C2139,ShareOfSearch_CTR!$A$1:$B$100,2,FALSE)*VLOOKUP(A2139&B2139,ShareOfSearch_Volume!$C$1:$D$1000,2,FALSE),\"\")","v":""}]
[{"$f":"IF(ISTEXT(ShareOfSearch_SERPS!C2140),ShareOfSearch_SERPS!C2140,\"\")","v":""},{"$f":"IF(ISTEXT(ShareOfSearch_SERPS!D2140),ShareOfSearch_SERPS!D2140,\"\")","v":""},{"$f":"IF(NOT(ISBLANK(ShareOfSearch_SERPS!A2140)),ShareOfSearch_SERPS!A2140,\"\")","v":""},{"$f":"IF(NOT(ISBLANK(ShareOfSearch_SERPS!G2140)),ShareOfSearch_SERPS!G2140,\"\")","v":""},{"$f":"IF(NOT(ISBLANK(ShareOfSearch_SERPS!K2140)),ShareOfSearch_SERPS!K2140,\"\")","v":""},{"$f":"IFERROR(VLOOKUP(C2140,ShareOfSearch_CTR!$A$1:$B$100,2,FALSE)*VLOOKUP(A2140&B2140,ShareOfSearch_Volume!$C$1:$D$1000,2,FALSE),\"\")","v":""}]
[{"$f":"IF(ISTEXT(ShareOfSearch_SERPS!C2141),ShareOfSearch_SERPS!C2141,\"\")","v":""},{"$f":"IF(ISTEXT(ShareOfSearch_SERPS!D2141),ShareOfSearch_SERPS!D2141,\"\")","v":""},{"$f":"IF(NOT(ISBLANK(ShareOfSearch_SERPS!A2141)),ShareOfSearch_SERPS!A2141,\"\")","v":""},{"$f":"IF(NOT(ISBLANK(ShareOfSearch_SERPS!G2141)),ShareOfSearch_SERPS!G2141,\"\")","v":""},{"$f":"IF(NOT(ISBLANK(ShareOfSearch_SERPS!K2141)),ShareOfSearch_SERPS!K2141,\"\")","v":""},{"$f":"IFERROR(VLOOKUP(C2141,ShareOfSearch_CTR!$A$1:$B$100,2,FALSE)*VLOOKUP(A2141&B2141,ShareOfSearch_Volume!$C$1:$D$1000,2,FALSE),\"\")","v":""}]
[{"$f":"IF(ISTEXT(ShareOfSearch_SERPS!C2142),ShareOfSearch_SERPS!C2142,\"\")","v":""},{"$f":"IF(ISTEXT(ShareOfSearch_SERPS!D2142),ShareOfSearch_SERPS!D2142,\"\")","v":""},{"$f":"IF(NOT(ISBLANK(ShareOfSearch_SERPS!A2142)),ShareOfSearch_SERPS!A2142,\"\")","v":""},{"$f":"IF(NOT(ISBLANK(ShareOfSearch_SERPS!G2142)),ShareOfSearch_SERPS!G2142,\"\")","v":""},{"$f":"IF(NOT(ISBLANK(ShareOfSearch_SERPS!K2142)),ShareOfSearch_SERPS!K2142,\"\")","v":""},{"$f":"IFERROR(VLOOKUP(C2142,ShareOfSearch_CTR!$A$1:$B$100,2,FALSE)*VLOOKUP(A2142&B2142,ShareOfSearch_Volume!$C$1:$D$1000,2,FALSE),\"\")","v":""}]
[{"$f":"IF(ISTEXT(ShareOfSearch_SERPS!C2143),ShareOfSearch_SERPS!C2143,\"\")","v":""},{"$f":"IF(ISTEXT(ShareOfSearch_SERPS!D2143),ShareOfSearch_SERPS!D2143,\"\")","v":""},{"$f":"IF(NOT(ISBLANK(ShareOfSearch_SERPS!A2143)),ShareOfSearch_SERPS!A2143,\"\")","v":""},{"$f":"IF(NOT(ISBLANK(ShareOfSearch_SERPS!G2143)),ShareOfSearch_SERPS!G2143,\"\")","v":""},{"$f":"IF(NOT(ISBLANK(ShareOfSearch_SERPS!K2143)),ShareOfSearch_SERPS!K2143,\"\")","v":""},{"$f":"IFERROR(VLOOKUP(C2143,ShareOfSearch_CTR!$A$1:$B$100,2,FALSE)*VLOOKUP(A2143&B2143,ShareOfSearch_Volume!$C$1:$D$1000,2,FALSE),\"\")","v":""}]
[{"$f":"IF(ISTEXT(ShareOfSearch_SERPS!C2144),ShareOfSearch_SERPS!C2144,\"\")","v":""},{"$f":"IF(ISTEXT(ShareOfSearch_SERPS!D2144),ShareOfSearch_SERPS!D2144,\"\")","v":""},{"$f":"IF(NOT(ISBLANK(ShareOfSearch_SERPS!A2144)),ShareOfSearch_SERPS!A2144,\"\")","v":""},{"$f":"IF(NOT(ISBLANK(ShareOfSearch_SERPS!G2144)),ShareOfSearch_SERPS!G2144,\"\")","v":""},{"$f":"IF(NOT(ISBLANK(ShareOfSearch_SERPS!K2144)),ShareOfSearch_SERPS!K2144,\"\")","v":""},{"$f":"IFERROR(VLOOKUP(C2144,ShareOfSearch_CTR!$A$1:$B$100,2,FALSE)*VLOOKUP(A2144&B2144,ShareOfSearch_Volume!$C$1:$D$1000,2,FALSE),\"\")","v":""}]
[{"$f":"IF(ISTEXT(ShareOfSearch_SERPS!C2145),ShareOfSearch_SERPS!C2145,\"\")","v":""},{"$f":"IF(ISTEXT(ShareOfSearch_SERPS!D2145),ShareOfSearch_SERPS!D2145,\"\")","v":""},{"$f":"IF(NOT(ISBLANK(ShareOfSearch_SERPS!A2145)),ShareOfSearch_SERPS!A2145,\"\")","v":""},{"$f":"IF(NOT(ISBLANK(ShareOfSearch_SERPS!G2145)),ShareOfSearch_SERPS!G2145,\"\")","v":""},{"$f":"IF(NOT(ISBLANK(ShareOfSearch_SERPS!K2145)),ShareOfSearch_SERPS!K2145,\"\")","v":""},{"$f":"IFERROR(VLOOKUP(C2145,ShareOfSearch_CTR!$A$1:$B$100,2,FALSE)*VLOOKUP(A2145&B2145,ShareOfSearch_Volume!$C$1:$D$1000,2,FALSE),\"\")","v":""}]
[{"$f":"IF(ISTEXT(ShareOfSearch_SERPS!C2146),ShareOfSearch_SERPS!C2146,\"\")","v":""},{"$f":"IF(ISTEXT(ShareOfSearch_SERPS!D2146),ShareOfSearch_SERPS!D2146,\"\")","v":""},{"$f":"IF(NOT(ISBLANK(ShareOfSearch_SERPS!A2146)),ShareOfSearch_SERPS!A2146,\"\")","v":""},{"$f":"IF(NOT(ISBLANK(ShareOfSearch_SERPS!G2146)),ShareOfSearch_SERPS!G2146,\"\")","v":""},{"$f":"IF(NOT(ISBLANK(ShareOfSearch_SERPS!K2146)),ShareOfSearch_SERPS!K2146,\"\")","v":""},{"$f":"IFERROR(VLOOKUP(C2146,ShareOfSearch_CTR!$A$1:$B$100,2,FALSE)*VLOOKUP(A2146&B2146,ShareOfSearch_Volume!$C$1:$D$1000,2,FALSE),\"\")","v":""}]
[{"$f":"IF(ISTEXT(ShareOfSearch_SERPS!C2147),ShareOfSearch_SERPS!C2147,\"\")","v":""},{"$f":"IF(ISTEXT(ShareOfSearch_SERPS!D2147),ShareOfSearch_SERPS!D2147,\"\")","v":""},{"$f":"IF(NOT(ISBLANK(ShareOfSearch_SERPS!A2147)),ShareOfSearch_SERPS!A2147,\"\")","v":""},{"$f":"IF(NOT(ISBLANK(ShareOfSearch_SERPS!G2147)),ShareOfSearch_SERPS!G2147,\"\")","v":""},{"$f":"IF(NOT(ISBLANK(ShareOfSearch_SERPS!K2147)),ShareOfSearch_SERPS!K2147,\"\")","v":""},{"$f":"IFERROR(VLOOKUP(C2147,ShareOfSearch_CTR!$A$1:$B$100,2,FALSE)*VLOOKUP(A2147&B2147,ShareOfSearch_Volume!$C$1:$D$1000,2,FALSE),\"\")","v":""}]
[{"$f":"IF(ISTEXT(ShareOfSearch_SERPS!C2148),ShareOfSearch_SERPS!C2148,\"\")","v":""},{"$f":"IF(ISTEXT(ShareOfSearch_SERPS!D2148),ShareOfSearch_SERPS!D2148,\"\")","v":""},{"$f":"IF(NOT(ISBLANK(ShareOfSearch_SERPS!A2148)),ShareOfSearch_SERPS!A2148,\"\")","v":""},{"$f":"IF(NOT(ISBLANK(ShareOfSearch_SERPS!G2148)),ShareOfSearch_SERPS!G2148,\"\")","v":""},{"$f":"IF(NOT(ISBLANK(ShareOfSearch_SERPS!K2148)),ShareOfSearch_SERPS!K2148,\"\")","v":""},{"$f":"IFERROR(VLOOKUP(C2148,ShareOfSearch_CTR!$A$1:$B$100,2,FALSE)*VLOOKUP(A2148&B2148,ShareOfSearch_Volume!$C$1:$D$1000,2,FALSE),\"\")","v":""}]
[{"$f":"IF(ISTEXT(ShareOfSearch_SERPS!C2149),ShareOfSearch_SERPS!C2149,\"\")","v":""},{"$f":"IF(ISTEXT(ShareOfSearch_SERPS!D2149),ShareOfSearch_SERPS!D2149,\"\")","v":""},{"$f":"IF(NOT(ISBLANK(ShareOfSearch_SERPS!A2149)),ShareOfSearch_SERPS!A2149,\"\")","v":""},{"$f":"IF(NOT(ISBLANK(ShareOfSearch_SERPS!G2149)),ShareOfSearch_SERPS!G2149,\"\")","v":""},{"$f":"IF(NOT(ISBLANK(ShareOfSearch_SERPS!K2149)),ShareOfSearch_SERPS!K2149,\"\")","v":""},{"$f":"IFERROR(VLOOKUP(C2149,ShareOfSearch_CTR!$A$1:$B$100,2,FALSE)*VLOOKUP(A2149&B2149,ShareOfSearch_Volume!$C$1:$D$1000,2,FALSE),\"\")","v":""}]
[{"$f":"IF(ISTEXT(ShareOfSearch_SERPS!C2150),ShareOfSearch_SERPS!C2150,\"\")","v":""},{"$f":"IF(ISTEXT(ShareOfSearch_SERPS!D2150),ShareOfSearch_SERPS!D2150,\"\")","v":""},{"$f":"IF(NOT(ISBLANK(ShareOfSearch_SERPS!A2150)),ShareOfSearch_SERPS!A2150,\"\")","v":""},{"$f":"IF(NOT(ISBLANK(ShareOfSearch_SERPS!G2150)),ShareOfSearch_SERPS!G2150,\"\")","v":""},{"$f":"IF(NOT(ISBLANK(ShareOfSearch_SERPS!K2150)),ShareOfSearch_SERPS!K2150,\"\")","v":""},{"$f":"IFERROR(VLOOKUP(C2150,ShareOfSearch_CTR!$A$1:$B$100,2,FALSE)*VLOOKUP(A2150&B2150,ShareOfSearch_Volume!$C$1:$D$1000,2,FALSE),\"\")","v":""}]
[{"$f":"IF(ISTEXT(ShareOfSearch_SERPS!C2151),ShareOfSearch_SERPS!C2151,\"\")","v":""},{"$f":"IF(ISTEXT(ShareOfSearch_SERPS!D2151),ShareOfSearch_SERPS!D2151,\"\")","v":""},{"$f":"IF(NOT(ISBLANK(ShareOfSearch_SERPS!A2151)),ShareOfSearch_SERPS!A2151,\"\")","v":""},{"$f":"IF(NOT(ISBLANK(ShareOfSearch_SERPS!G2151)),ShareOfSearch_SERPS!G2151,\"\")","v":""},{"$f":"IF(NOT(ISBLANK(ShareOfSearch_SERPS!K2151)),ShareOfSearch_SERPS!K2151,\"\")","v":""},{"$f":"IFERROR(VLOOKUP(C2151,ShareOfSearch_CTR!$A$1:$B$100,2,FALSE)*VLOOKUP(A2151&B2151,ShareOfSearch_Volume!$C$1:$D$1000,2,FALSE),\"\")","v":""}]
[{"$f":"IF(ISTEXT(ShareOfSearch_SERPS!C2152),ShareOfSearch_SERPS!C2152,\"\")","v":""},{"$f":"IF(ISTEXT(ShareOfSearch_SERPS!D2152),ShareOfSearch_SERPS!D2152,\"\")","v":""},{"$f":"IF(NOT(ISBLANK(ShareOfSearch_SERPS!A2152)),ShareOfSearch_SERPS!A2152,\"\")","v":""},{"$f":"IF(NOT(ISBLANK(ShareOfSearch_SERPS!G2152)),ShareOfSearch_SERPS!G2152,\"\")","v":""},{"$f":"IF(NOT(ISBLANK(ShareOfSearch_SERPS!K2152)),ShareOfSearch_SERPS!K2152,\"\")","v":""},{"$f":"IFERROR(VLOOKUP(C2152,ShareOfSearch_CTR!$A$1:$B$100,2,FALSE)*VLOOKUP(A2152&B2152,ShareOfSearch_Volume!$C$1:$D$1000,2,FALSE),\"\")","v":""}]
[{"$f":"IF(ISTEXT(ShareOfSearch_SERPS!C2153),ShareOfSearch_SERPS!C2153,\"\")","v":""},{"$f":"IF(ISTEXT(ShareOfSearch_SERPS!D2153),ShareOfSearch_SERPS!D2153,\"\")","v":""},{"$f":"IF(NOT(ISBLANK(ShareOfSearch_SERPS!A2153)),ShareOfSearch_SERPS!A2153,\"\")","v":""},{"$f":"IF(NOT(ISBLANK(ShareOfSearch_SERPS!G2153)),ShareOfSearch_SERPS!G2153,\"\")","v":""},{"$f":"IF(NOT(ISBLANK(ShareOfSearch_SERPS!K2153)),ShareOfSearch_SERPS!K2153,\"\")","v":""},{"$f":"IFERROR(VLOOKUP(C2153,ShareOfSearch_CTR!$A$1:$B$100,2,FALSE)*VLOOKUP(A2153&B2153,ShareOfSearch_Volume!$C$1:$D$1000,2,FALSE),\"\")","v":""}]
[{"$f":"IF(ISTEXT(ShareOfSearch_SERPS!C2154),ShareOfSearch_SERPS!C2154,\"\")","v":""},{"$f":"IF(ISTEXT(ShareOfSearch_SERPS!D2154),ShareOfSearch_SERPS!D2154,\"\")","v":""},{"$f":"IF(NOT(ISBLANK(ShareOfSearch_SERPS!A2154)),ShareOfSearch_SERPS!A2154,\"\")","v":""},{"$f":"IF(NOT(ISBLANK(ShareOfSearch_SERPS!G2154)),ShareOfSearch_SERPS!G2154,\"\")","v":""},{"$f":"IF(NOT(ISBLANK(ShareOfSearch_SERPS!K2154)),ShareOfSearch_SERPS!K2154,\"\")","v":""},{"$f":"IFERROR(VLOOKUP(C2154,ShareOfSearch_CTR!$A$1:$B$100,2,FALSE)*VLOOKUP(A2154&B2154,ShareOfSearch_Volume!$C$1:$D$1000,2,FALSE),\"\")","v":""}]
[{"$f":"IF(ISTEXT(ShareOfSearch_SERPS!C2155),ShareOfSearch_SERPS!C2155,\"\")","v":""},{"$f":"IF(ISTEXT(ShareOfSearch_SERPS!D2155),ShareOfSearch_SERPS!D2155,\"\")","v":""},{"$f":"IF(NOT(ISBLANK(ShareOfSearch_SERPS!A2155)),ShareOfSearch_SERPS!A2155,\"\")","v":""},{"$f":"IF(NOT(ISBLANK(ShareOfSearch_SERPS!G2155)),ShareOfSearch_SERPS!G2155,\"\")","v":""},{"$f":"IF(NOT(ISBLANK(ShareOfSearch_SERPS!K2155)),ShareOfSearch_SERPS!K2155,\"\")","v":""},{"$f":"IFERROR(VLOOKUP(C2155,ShareOfSearch_CTR!$A$1:$B$100,2,FALSE)*VLOOKUP(A2155&B2155,ShareOfSearch_Volume!$C$1:$D$1000,2,FALSE),\"\")","v":""}]
[{"$f":"IF(ISTEXT(ShareOfSearch_SERPS!C2156),ShareOfSearch_SERPS!C2156,\"\")","v":""},{"$f":"IF(ISTEXT(ShareOfSearch_SERPS!D2156),ShareOfSearch_SERPS!D2156,\"\")","v":""},{"$f":"IF(NOT(ISBLANK(ShareOfSearch_SERPS!A2156)),ShareOfSearch_SERPS!A2156,\"\")","v":""},{"$f":"IF(NOT(ISBLANK(ShareOfSearch_SERPS!G2156)),ShareOfSearch_SERPS!G2156,\"\")","v":""},{"$f":"IF(NOT(ISBLANK(ShareOfSearch_SERPS!K2156)),ShareOfSearch_SERPS!K2156,\"\")","v":""},{"$f":"IFERROR(VLOOKUP(C2156,ShareOfSearch_CTR!$A$1:$B$100,2,FALSE)*VLOOKUP(A2156&B2156,ShareOfSearch_Volume!$C$1:$D$1000,2,FALSE),\"\")","v":""}]
[{"$f":"IF(ISTEXT(ShareOfSearch_SERPS!C2157),ShareOfSearch_SERPS!C2157,\"\")","v":""},{"$f":"IF(ISTEXT(ShareOfSearch_SERPS!D2157),ShareOfSearch_SERPS!D2157,\"\")","v":""},{"$f":"IF(NOT(ISBLANK(ShareOfSearch_SERPS!A2157)),ShareOfSearch_SERPS!A2157,\"\")","v":""},{"$f":"IF(NOT(ISBLANK(ShareOfSearch_SERPS!G2157)),ShareOfSearch_SERPS!G2157,\"\")","v":""},{"$f":"IF(NOT(ISBLANK(ShareOfSearch_SERPS!K2157)),ShareOfSearch_SERPS!K2157,\"\")","v":""},{"$f":"IFERROR(VLOOKUP(C2157,ShareOfSearch_CTR!$A$1:$B$100,2,FALSE)*VLOOKUP(A2157&B2157,ShareOfSearch_Volume!$C$1:$D$1000,2,FALSE),\"\")","v":""}]
[{"$f":"IF(ISTEXT(ShareOfSearch_SERPS!C2158),ShareOfSearch_SERPS!C2158,\"\")","v":""},{"$f":"IF(ISTEXT(ShareOfSearch_SERPS!D2158),ShareOfSearch_SERPS!D2158,\"\")","v":""},{"$f":"IF(NOT(ISBLANK(ShareOfSearch_SERPS!A2158)),ShareOfSearch_SERPS!A2158,\"\")","v":""},{"$f":"IF(NOT(ISBLANK(ShareOfSearch_SERPS!G2158)),ShareOfSearch_SERPS!G2158,\"\")","v":""},{"$f":"IF(NOT(ISBLANK(ShareOfSearch_SERPS!K2158)),ShareOfSearch_SERPS!K2158,\"\")","v":""},{"$f":"IFERROR(VLOOKUP(C2158,ShareOfSearch_CTR!$A$1:$B$100,2,FALSE)*VLOOKUP(A2158&B2158,ShareOfSearch_Volume!$C$1:$D$1000,2,FALSE),\"\")","v":""}]
[{"$f":"IF(ISTEXT(ShareOfSearch_SERPS!C2159),ShareOfSearch_SERPS!C2159,\"\")","v":""},{"$f":"IF(ISTEXT(ShareOfSearch_SERPS!D2159),ShareOfSearch_SERPS!D2159,\"\")","v":""},{"$f":"IF(NOT(ISBLANK(ShareOfSearch_SERPS!A2159)),ShareOfSearch_SERPS!A2159,\"\")","v":""},{"$f":"IF(NOT(ISBLANK(ShareOfSearch_SERPS!G2159)),ShareOfSearch_SERPS!G2159,\"\")","v":""},{"$f":"IF(NOT(ISBLANK(ShareOfSearch_SERPS!K2159)),ShareOfSearch_SERPS!K2159,\"\")","v":""},{"$f":"IFERROR(VLOOKUP(C2159,ShareOfSearch_CTR!$A$1:$B$100,2,FALSE)*VLOOKUP(A2159&B2159,ShareOfSearch_Volume!$C$1:$D$1000,2,FALSE),\"\")","v":""}]
[{"$f":"IF(ISTEXT(ShareOfSearch_SERPS!C2160),ShareOfSearch_SERPS!C2160,\"\")","v":""},{"$f":"IF(ISTEXT(ShareOfSearch_SERPS!D2160),ShareOfSearch_SERPS!D2160,\"\")","v":""},{"$f":"IF(NOT(ISBLANK(ShareOfSearch_SERPS!A2160)),ShareOfSearch_SERPS!A2160,\"\")","v":""},{"$f":"IF(NOT(ISBLANK(ShareOfSearch_SERPS!G2160)),ShareOfSearch_SERPS!G2160,\"\")","v":""},{"$f":"IF(NOT(ISBLANK(ShareOfSearch_SERPS!K2160)),ShareOfSearch_SERPS!K2160,\"\")","v":""},{"$f":"IFERROR(VLOOKUP(C2160,ShareOfSearch_CTR!$A$1:$B$100,2,FALSE)*VLOOKUP(A2160&B2160,ShareOfSearch_Volume!$C$1:$D$1000,2,FALSE),\"\")","v":""}]
[{"$f":"IF(ISTEXT(ShareOfSearch_SERPS!C2161),ShareOfSearch_SERPS!C2161,\"\")","v":""},{"$f":"IF(ISTEXT(ShareOfSearch_SERPS!D2161),ShareOfSearch_SERPS!D2161,\"\")","v":""},{"$f":"IF(NOT(ISBLANK(ShareOfSearch_SERPS!A2161)),ShareOfSearch_SERPS!A2161,\"\")","v":""},{"$f":"IF(NOT(ISBLANK(ShareOfSearch_SERPS!G2161)),ShareOfSearch_SERPS!G2161,\"\")","v":""},{"$f":"IF(NOT(ISBLANK(ShareOfSearch_SERPS!K2161)),ShareOfSearch_SERPS!K2161,\"\")","v":""},{"$f":"IFERROR(VLOOKUP(C2161,ShareOfSearch_CTR!$A$1:$B$100,2,FALSE)*VLOOKUP(A2161&B2161,ShareOfSearch_Volume!$C$1:$D$1000,2,FALSE),\"\")","v":""}]
[{"$f":"IF(ISTEXT(ShareOfSearch_SERPS!C2162),ShareOfSearch_SERPS!C2162,\"\")","v":""},{"$f":"IF(ISTEXT(ShareOfSearch_SERPS!D2162),ShareOfSearch_SERPS!D2162,\"\")","v":""},{"$f":"IF(NOT(ISBLANK(ShareOfSearch_SERPS!A2162)),ShareOfSearch_SERPS!A2162,\"\")","v":""},{"$f":"IF(NOT(ISBLANK(ShareOfSearch_SERPS!G2162)),ShareOfSearch_SERPS!G2162,\"\")","v":""},{"$f":"IF(NOT(ISBLANK(ShareOfSearch_SERPS!K2162)),ShareOfSearch_SERPS!K2162,\"\")","v":""},{"$f":"IFERROR(VLOOKUP(C2162,ShareOfSearch_CTR!$A$1:$B$100,2,FALSE)*VLOOKUP(A2162&B2162,ShareOfSearch_Volume!$C$1:$D$1000,2,FALSE),\"\")","v":""}]
[{"$f":"IF(ISTEXT(ShareOfSearch_SERPS!C2163),ShareOfSearch_SERPS!C2163,\"\")","v":""},{"$f":"IF(ISTEXT(ShareOfSearch_SERPS!D2163),ShareOfSearch_SERPS!D2163,\"\")","v":""},{"$f":"IF(NOT(ISBLANK(ShareOfSearch_SERPS!A2163)),ShareOfSearch_SERPS!A2163,\"\")","v":""},{"$f":"IF(NOT(ISBLANK(ShareOfSearch_SERPS!G2163)),ShareOfSearch_SERPS!G2163,\"\")","v":""},{"$f":"IF(NOT(ISBLANK(ShareOfSearch_SERPS!K2163)),ShareOfSearch_SERPS!K2163,\"\")","v":""},{"$f":"IFERROR(VLOOKUP(C2163,ShareOfSearch_CTR!$A$1:$B$100,2,FALSE)*VLOOKUP(A2163&B2163,ShareOfSearch_Volume!$C$1:$D$1000,2,FALSE),\"\")","v":""}]
[{"$f":"IF(ISTEXT(ShareOfSearch_SERPS!C2164),ShareOfSearch_SERPS!C2164,\"\")","v":""},{"$f":"IF(ISTEXT(ShareOfSearch_SERPS!D2164),ShareOfSearch_SERPS!D2164,\"\")","v":""},{"$f":"IF(NOT(ISBLANK(ShareOfSearch_SERPS!A2164)),ShareOfSearch_SERPS!A2164,\"\")","v":""},{"$f":"IF(NOT(ISBLANK(ShareOfSearch_SERPS!G2164)),ShareOfSearch_SERPS!G2164,\"\")","v":""},{"$f":"IF(NOT(ISBLANK(ShareOfSearch_SERPS!K2164)),ShareOfSearch_SERPS!K2164,\"\")","v":""},{"$f":"IFERROR(VLOOKUP(C2164,ShareOfSearch_CTR!$A$1:$B$100,2,FALSE)*VLOOKUP(A2164&B2164,ShareOfSearch_Volume!$C$1:$D$1000,2,FALSE),\"\")","v":""}]
[{"$f":"IF(ISTEXT(ShareOfSearch_SERPS!C2165),ShareOfSearch_SERPS!C2165,\"\")","v":""},{"$f":"IF(ISTEXT(ShareOfSearch_SERPS!D2165),ShareOfSearch_SERPS!D2165,\"\")","v":""},{"$f":"IF(NOT(ISBLANK(ShareOfSearch_SERPS!A2165)),ShareOfSearch_SERPS!A2165,\"\")","v":""},{"$f":"IF(NOT(ISBLANK(ShareOfSearch_SERPS!G2165)),ShareOfSearch_SERPS!G2165,\"\")","v":""},{"$f":"IF(NOT(ISBLANK(ShareOfSearch_SERPS!K2165)),ShareOfSearch_SERPS!K2165,\"\")","v":""},{"$f":"IFERROR(VLOOKUP(C2165,ShareOfSearch_CTR!$A$1:$B$100,2,FALSE)*VLOOKUP(A2165&B2165,ShareOfSearch_Volume!$C$1:$D$1000,2,FALSE),\"\")","v":""}]
[{"$f":"IF(ISTEXT(ShareOfSearch_SERPS!C2166),ShareOfSearch_SERPS!C2166,\"\")","v":""},{"$f":"IF(ISTEXT(ShareOfSearch_SERPS!D2166),ShareOfSearch_SERPS!D2166,\"\")","v":""},{"$f":"IF(NOT(ISBLANK(ShareOfSearch_SERPS!A2166)),ShareOfSearch_SERPS!A2166,\"\")","v":""},{"$f":"IF(NOT(ISBLANK(ShareOfSearch_SERPS!G2166)),ShareOfSearch_SERPS!G2166,\"\")","v":""},{"$f":"IF(NOT(ISBLANK(ShareOfSearch_SERPS!K2166)),ShareOfSearch_SERPS!K2166,\"\")","v":""},{"$f":"IFERROR(VLOOKUP(C2166,ShareOfSearch_CTR!$A$1:$B$100,2,FALSE)*VLOOKUP(A2166&B2166,ShareOfSearch_Volume!$C$1:$D$1000,2,FALSE),\"\")","v":""}]
[{"$f":"IF(ISTEXT(ShareOfSearch_SERPS!C2167),ShareOfSearch_SERPS!C2167,\"\")","v":""},{"$f":"IF(ISTEXT(ShareOfSearch_SERPS!D2167),ShareOfSearch_SERPS!D2167,\"\")","v":""},{"$f":"IF(NOT(ISBLANK(ShareOfSearch_SERPS!A2167)),ShareOfSearch_SERPS!A2167,\"\")","v":""},{"$f":"IF(NOT(ISBLANK(ShareOfSearch_SERPS!G2167)),ShareOfSearch_SERPS!G2167,\"\")","v":""},{"$f":"IF(NOT(ISBLANK(ShareOfSearch_SERPS!K2167)),ShareOfSearch_SERPS!K2167,\"\")","v":""},{"$f":"IFERROR(VLOOKUP(C2167,ShareOfSearch_CTR!$A$1:$B$100,2,FALSE)*VLOOKUP(A2167&B2167,ShareOfSearch_Volume!$C$1:$D$1000,2,FALSE),\"\")","v":""}]
[{"$f":"IF(ISTEXT(ShareOfSearch_SERPS!C2168),ShareOfSearch_SERPS!C2168,\"\")","v":""},{"$f":"IF(ISTEXT(ShareOfSearch_SERPS!D2168),ShareOfSearch_SERPS!D2168,\"\")","v":""},{"$f":"IF(NOT(ISBLANK(ShareOfSearch_SERPS!A2168)),ShareOfSearch_SERPS!A2168,\"\")","v":""},{"$f":"IF(NOT(ISBLANK(ShareOfSearch_SERPS!G2168)),ShareOfSearch_SERPS!G2168,\"\")","v":""},{"$f":"IF(NOT(ISBLANK(ShareOfSearch_SERPS!K2168)),ShareOfSearch_SERPS!K2168,\"\")","v":""},{"$f":"IFERROR(VLOOKUP(C2168,ShareOfSearch_CTR!$A$1:$B$100,2,FALSE)*VLOOKUP(A2168&B2168,ShareOfSearch_Volume!$C$1:$D$1000,2,FALSE),\"\")","v":""}]
[{"$f":"IF(ISTEXT(ShareOfSearch_SERPS!C2169),ShareOfSearch_SERPS!C2169,\"\")","v":""},{"$f":"IF(ISTEXT(ShareOfSearch_SERPS!D2169),ShareOfSearch_SERPS!D2169,\"\")","v":""},{"$f":"IF(NOT(ISBLANK(ShareOfSearch_SERPS!A2169)),ShareOfSearch_SERPS!A2169,\"\")","v":""},{"$f":"IF(NOT(ISBLANK(ShareOfSearch_SERPS!G2169)),ShareOfSearch_SERPS!G2169,\"\")","v":""},{"$f":"IF(NOT(ISBLANK(ShareOfSearch_SERPS!K2169)),ShareOfSearch_SERPS!K2169,\"\")","v":""},{"$f":"IFERROR(VLOOKUP(C2169,ShareOfSearch_CTR!$A$1:$B$100,2,FALSE)*VLOOKUP(A2169&B2169,ShareOfSearch_Volume!$C$1:$D$1000,2,FALSE),\"\")","v":""}]
[{"$f":"IF(ISTEXT(ShareOfSearch_SERPS!C2170),ShareOfSearch_SERPS!C2170,\"\")","v":""},{"$f":"IF(ISTEXT(ShareOfSearch_SERPS!D2170),ShareOfSearch_SERPS!D2170,\"\")","v":""},{"$f":"IF(NOT(ISBLANK(ShareOfSearch_SERPS!A2170)),ShareOfSearch_SERPS!A2170,\"\")","v":""},{"$f":"IF(NOT(ISBLANK(ShareOfSearch_SERPS!G2170)),ShareOfSearch_SERPS!G2170,\"\")","v":""},{"$f":"IF(NOT(ISBLANK(ShareOfSearch_SERPS!K2170)),ShareOfSearch_SERPS!K2170,\"\")","v":""},{"$f":"IFERROR(VLOOKUP(C2170,ShareOfSearch_CTR!$A$1:$B$100,2,FALSE)*VLOOKUP(A2170&B2170,ShareOfSearch_Volume!$C$1:$D$1000,2,FALSE),\"\")","v":""}]
[{"$f":"IF(ISTEXT(ShareOfSearch_SERPS!C2171),ShareOfSearch_SERPS!C2171,\"\")","v":""},{"$f":"IF(ISTEXT(ShareOfSearch_SERPS!D2171),ShareOfSearch_SERPS!D2171,\"\")","v":""},{"$f":"IF(NOT(ISBLANK(ShareOfSearch_SERPS!A2171)),ShareOfSearch_SERPS!A2171,\"\")","v":""},{"$f":"IF(NOT(ISBLANK(ShareOfSearch_SERPS!G2171)),ShareOfSearch_SERPS!G2171,\"\")","v":""},{"$f":"IF(NOT(ISBLANK(ShareOfSearch_SERPS!K2171)),ShareOfSearch_SERPS!K2171,\"\")","v":""},{"$f":"IFERROR(VLOOKUP(C2171,ShareOfSearch_CTR!$A$1:$B$100,2,FALSE)*VLOOKUP(A2171&B2171,ShareOfSearch_Volume!$C$1:$D$1000,2,FALSE),\"\")","v":""}]
[{"$f":"IF(ISTEXT(ShareOfSearch_SERPS!C2172),ShareOfSearch_SERPS!C2172,\"\")","v":""},{"$f":"IF(ISTEXT(ShareOfSearch_SERPS!D2172),ShareOfSearch_SERPS!D2172,\"\")","v":""},{"$f":"IF(NOT(ISBLANK(ShareOfSearch_SERPS!A2172)),ShareOfSearch_SERPS!A2172,\"\")","v":""},{"$f":"IF(NOT(ISBLANK(ShareOfSearch_SERPS!G2172)),ShareOfSearch_SERPS!G2172,\"\")","v":""},{"$f":"IF(NOT(ISBLANK(ShareOfSearch_SERPS!K2172)),ShareOfSearch_SERPS!K2172,\"\")","v":""},{"$f":"IFERROR(VLOOKUP(C2172,ShareOfSearch_CTR!$A$1:$B$100,2,FALSE)*VLOOKUP(A2172&B2172,ShareOfSearch_Volume!$C$1:$D$1000,2,FALSE),\"\")","v":""}]
[{"$f":"IF(ISTEXT(ShareOfSearch_SERPS!C2173),ShareOfSearch_SERPS!C2173,\"\")","v":""},{"$f":"IF(ISTEXT(ShareOfSearch_SERPS!D2173),ShareOfSearch_SERPS!D2173,\"\")","v":""},{"$f":"IF(NOT(ISBLANK(ShareOfSearch_SERPS!A2173)),ShareOfSearch_SERPS!A2173,\"\")","v":""},{"$f":"IF(NOT(ISBLANK(ShareOfSearch_SERPS!G2173)),ShareOfSearch_SERPS!G2173,\"\")","v":""},{"$f":"IF(NOT(ISBLANK(ShareOfSearch_SERPS!K2173)),ShareOfSearch_SERPS!K2173,\"\")","v":""},{"$f":"IFERROR(VLOOKUP(C2173,ShareOfSearch_CTR!$A$1:$B$100,2,FALSE)*VLOOKUP(A2173&B2173,ShareOfSearch_Volume!$C$1:$D$1000,2,FALSE),\"\")","v":""}]
[{"$f":"IF(ISTEXT(ShareOfSearch_SERPS!C2174),ShareOfSearch_SERPS!C2174,\"\")","v":""},{"$f":"IF(ISTEXT(ShareOfSearch_SERPS!D2174),ShareOfSearch_SERPS!D2174,\"\")","v":""},{"$f":"IF(NOT(ISBLANK(ShareOfSearch_SERPS!A2174)),ShareOfSearch_SERPS!A2174,\"\")","v":""},{"$f":"IF(NOT(ISBLANK(ShareOfSearch_SERPS!G2174)),ShareOfSearch_SERPS!G2174,\"\")","v":""},{"$f":"IF(NOT(ISBLANK(ShareOfSearch_SERPS!K2174)),ShareOfSearch_SERPS!K2174,\"\")","v":""},{"$f":"IFERROR(VLOOKUP(C2174,ShareOfSearch_CTR!$A$1:$B$100,2,FALSE)*VLOOKUP(A2174&B2174,ShareOfSearch_Volume!$C$1:$D$1000,2,FALSE),\"\")","v":""}]
[{"$f":"IF(ISTEXT(ShareOfSearch_SERPS!C2175),ShareOfSearch_SERPS!C2175,\"\")","v":""},{"$f":"IF(ISTEXT(ShareOfSearch_SERPS!D2175),ShareOfSearch_SERPS!D2175,\"\")","v":""},{"$f":"IF(NOT(ISBLANK(ShareOfSearch_SERPS!A2175)),ShareOfSearch_SERPS!A2175,\"\")","v":""},{"$f":"IF(NOT(ISBLANK(ShareOfSearch_SERPS!G2175)),ShareOfSearch_SERPS!G2175,\"\")","v":""},{"$f":"IF(NOT(ISBLANK(ShareOfSearch_SERPS!K2175)),ShareOfSearch_SERPS!K2175,\"\")","v":""},{"$f":"IFERROR(VLOOKUP(C2175,ShareOfSearch_CTR!$A$1:$B$100,2,FALSE)*VLOOKUP(A2175&B2175,ShareOfSearch_Volume!$C$1:$D$1000,2,FALSE),\"\")","v":""}]
[{"$f":"IF(ISTEXT(ShareOfSearch_SERPS!C2176),ShareOfSearch_SERPS!C2176,\"\")","v":""},{"$f":"IF(ISTEXT(ShareOfSearch_SERPS!D2176),ShareOfSearch_SERPS!D2176,\"\")","v":""},{"$f":"IF(NOT(ISBLANK(ShareOfSearch_SERPS!A2176)),ShareOfSearch_SERPS!A2176,\"\")","v":""},{"$f":"IF(NOT(ISBLANK(ShareOfSearch_SERPS!G2176)),ShareOfSearch_SERPS!G2176,\"\")","v":""},{"$f":"IF(NOT(ISBLANK(ShareOfSearch_SERPS!K2176)),ShareOfSearch_SERPS!K2176,\"\")","v":""},{"$f":"IFERROR(VLOOKUP(C2176,ShareOfSearch_CTR!$A$1:$B$100,2,FALSE)*VLOOKUP(A2176&B2176,ShareOfSearch_Volume!$C$1:$D$1000,2,FALSE),\"\")","v":""}]
[{"$f":"IF(ISTEXT(ShareOfSearch_SERPS!C2177),ShareOfSearch_SERPS!C2177,\"\")","v":""},{"$f":"IF(ISTEXT(ShareOfSearch_SERPS!D2177),ShareOfSearch_SERPS!D2177,\"\")","v":""},{"$f":"IF(NOT(ISBLANK(ShareOfSearch_SERPS!A2177)),ShareOfSearch_SERPS!A2177,\"\")","v":""},{"$f":"IF(NOT(ISBLANK(ShareOfSearch_SERPS!G2177)),ShareOfSearch_SERPS!G2177,\"\")","v":""},{"$f":"IF(NOT(ISBLANK(ShareOfSearch_SERPS!K2177)),ShareOfSearch_SERPS!K2177,\"\")","v":""},{"$f":"IFERROR(VLOOKUP(C2177,ShareOfSearch_CTR!$A$1:$B$100,2,FALSE)*VLOOKUP(A2177&B2177,ShareOfSearch_Volume!$C$1:$D$1000,2,FALSE),\"\")","v":""}]
[{"$f":"IF(ISTEXT(ShareOfSearch_SERPS!C2178),ShareOfSearch_SERPS!C2178,\"\")","v":""},{"$f":"IF(ISTEXT(ShareOfSearch_SERPS!D2178),ShareOfSearch_SERPS!D2178,\"\")","v":""},{"$f":"IF(NOT(ISBLANK(ShareOfSearch_SERPS!A2178)),ShareOfSearch_SERPS!A2178,\"\")","v":""},{"$f":"IF(NOT(ISBLANK(ShareOfSearch_SERPS!G2178)),ShareOfSearch_SERPS!G2178,\"\")","v":""},{"$f":"IF(NOT(ISBLANK(ShareOfSearch_SERPS!K2178)),ShareOfSearch_SERPS!K2178,\"\")","v":""},{"$f":"IFERROR(VLOOKUP(C2178,ShareOfSearch_CTR!$A$1:$B$100,2,FALSE)*VLOOKUP(A2178&B2178,ShareOfSearch_Volume!$C$1:$D$1000,2,FALSE),\"\")","v":""}]
[{"$f":"IF(ISTEXT(ShareOfSearch_SERPS!C2179),ShareOfSearch_SERPS!C2179,\"\")","v":""},{"$f":"IF(ISTEXT(ShareOfSearch_SERPS!D2179),ShareOfSearch_SERPS!D2179,\"\")","v":""},{"$f":"IF(NOT(ISBLANK(ShareOfSearch_SERPS!A2179)),ShareOfSearch_SERPS!A2179,\"\")","v":""},{"$f":"IF(NOT(ISBLANK(ShareOfSearch_SERPS!G2179)),ShareOfSearch_SERPS!G2179,\"\")","v":""},{"$f":"IF(NOT(ISBLANK(ShareOfSearch_SERPS!K2179)),ShareOfSearch_SERPS!K2179,\"\")","v":""},{"$f":"IFERROR(VLOOKUP(C2179,ShareOfSearch_CTR!$A$1:$B$100,2,FALSE)*VLOOKUP(A2179&B2179,ShareOfSearch_Volume!$C$1:$D$1000,2,FALSE),\"\")","v":""}]
[{"$f":"IF(ISTEXT(ShareOfSearch_SERPS!C2180),ShareOfSearch_SERPS!C2180,\"\")","v":""},{"$f":"IF(ISTEXT(ShareOfSearch_SERPS!D2180),ShareOfSearch_SERPS!D2180,\"\")","v":""},{"$f":"IF(NOT(ISBLANK(ShareOfSearch_SERPS!A2180)),ShareOfSearch_SERPS!A2180,\"\")","v":""},{"$f":"IF(NOT(ISBLANK(ShareOfSearch_SERPS!G2180)),ShareOfSearch_SERPS!G2180,\"\")","v":""},{"$f":"IF(NOT(ISBLANK(ShareOfSearch_SERPS!K2180)),ShareOfSearch_SERPS!K2180,\"\")","v":""},{"$f":"IFERROR(VLOOKUP(C2180,ShareOfSearch_CTR!$A$1:$B$100,2,FALSE)*VLOOKUP(A2180&B2180,ShareOfSearch_Volume!$C$1:$D$1000,2,FALSE),\"\")","v":""}]
[{"$f":"IF(ISTEXT(ShareOfSearch_SERPS!C2181),ShareOfSearch_SERPS!C2181,\"\")","v":""},{"$f":"IF(ISTEXT(ShareOfSearch_SERPS!D2181),ShareOfSearch_SERPS!D2181,\"\")","v":""},{"$f":"IF(NOT(ISBLANK(ShareOfSearch_SERPS!A2181)),ShareOfSearch_SERPS!A2181,\"\")","v":""},{"$f":"IF(NOT(ISBLANK(ShareOfSearch_SERPS!G2181)),ShareOfSearch_SERPS!G2181,\"\")","v":""},{"$f":"IF(NOT(ISBLANK(ShareOfSearch_SERPS!K2181)),ShareOfSearch_SERPS!K2181,\"\")","v":""},{"$f":"IFERROR(VLOOKUP(C2181,ShareOfSearch_CTR!$A$1:$B$100,2,FALSE)*VLOOKUP(A2181&B2181,ShareOfSearch_Volume!$C$1:$D$1000,2,FALSE),\"\")","v":""}]
[{"$f":"IF(ISTEXT(ShareOfSearch_SERPS!C2182),ShareOfSearch_SERPS!C2182,\"\")","v":""},{"$f":"IF(ISTEXT(ShareOfSearch_SERPS!D2182),ShareOfSearch_SERPS!D2182,\"\")","v":""},{"$f":"IF(NOT(ISBLANK(ShareOfSearch_SERPS!A2182)),ShareOfSearch_SERPS!A2182,\"\")","v":""},{"$f":"IF(NOT(ISBLANK(ShareOfSearch_SERPS!G2182)),ShareOfSearch_SERPS!G2182,\"\")","v":""},{"$f":"IF(NOT(ISBLANK(ShareOfSearch_SERPS!K2182)),ShareOfSearch_SERPS!K2182,\"\")","v":""},{"$f":"IFERROR(VLOOKUP(C2182,ShareOfSearch_CTR!$A$1:$B$100,2,FALSE)*VLOOKUP(A2182&B2182,ShareOfSearch_Volume!$C$1:$D$1000,2,FALSE),\"\")","v":""}]
[{"$f":"IF(ISTEXT(ShareOfSearch_SERPS!C2183),ShareOfSearch_SERPS!C2183,\"\")","v":""},{"$f":"IF(ISTEXT(ShareOfSearch_SERPS!D2183),ShareOfSearch_SERPS!D2183,\"\")","v":""},{"$f":"IF(NOT(ISBLANK(ShareOfSearch_SERPS!A2183)),ShareOfSearch_SERPS!A2183,\"\")","v":""},{"$f":"IF(NOT(ISBLANK(ShareOfSearch_SERPS!G2183)),ShareOfSearch_SERPS!G2183,\"\")","v":""},{"$f":"IF(NOT(ISBLANK(ShareOfSearch_SERPS!K2183)),ShareOfSearch_SERPS!K2183,\"\")","v":""},{"$f":"IFERROR(VLOOKUP(C2183,ShareOfSearch_CTR!$A$1:$B$100,2,FALSE)*VLOOKUP(A2183&B2183,ShareOfSearch_Volume!$C$1:$D$1000,2,FALSE),\"\")","v":""}]
[{"$f":"IF(ISTEXT(ShareOfSearch_SERPS!C2184),ShareOfSearch_SERPS!C2184,\"\")","v":""},{"$f":"IF(ISTEXT(ShareOfSearch_SERPS!D2184),ShareOfSearch_SERPS!D2184,\"\")","v":""},{"$f":"IF(NOT(ISBLANK(ShareOfSearch_SERPS!A2184)),ShareOfSearch_SERPS!A2184,\"\")","v":""},{"$f":"IF(NOT(ISBLANK(ShareOfSearch_SERPS!G2184)),ShareOfSearch_SERPS!G2184,\"\")","v":""},{"$f":"IF(NOT(ISBLANK(ShareOfSearch_SERPS!K2184)),ShareOfSearch_SERPS!K2184,\"\")","v":""},{"$f":"IFERROR(VLOOKUP(C2184,ShareOfSearch_CTR!$A$1:$B$100,2,FALSE)*VLOOKUP(A2184&B2184,ShareOfSearch_Volume!$C$1:$D$1000,2,FALSE),\"\")","v":""}]
[{"$f":"IF(ISTEXT(ShareOfSearch_SERPS!C2185),ShareOfSearch_SERPS!C2185,\"\")","v":""},{"$f":"IF(ISTEXT(ShareOfSearch_SERPS!D2185),ShareOfSearch_SERPS!D2185,\"\")","v":""},{"$f":"IF(NOT(ISBLANK(ShareOfSearch_SERPS!A2185)),ShareOfSearch_SERPS!A2185,\"\")","v":""},{"$f":"IF(NOT(ISBLANK(ShareOfSearch_SERPS!G2185)),ShareOfSearch_SERPS!G2185,\"\")","v":""},{"$f":"IF(NOT(ISBLANK(ShareOfSearch_SERPS!K2185)),ShareOfSearch_SERPS!K2185,\"\")","v":""},{"$f":"IFERROR(VLOOKUP(C2185,ShareOfSearch_CTR!$A$1:$B$100,2,FALSE)*VLOOKUP(A2185&B2185,ShareOfSearch_Volume!$C$1:$D$1000,2,FALSE),\"\")","v":""}]
[{"$f":"IF(ISTEXT(ShareOfSearch_SERPS!C2186),ShareOfSearch_SERPS!C2186,\"\")","v":""},{"$f":"IF(ISTEXT(ShareOfSearch_SERPS!D2186),ShareOfSearch_SERPS!D2186,\"\")","v":""},{"$f":"IF(NOT(ISBLANK(ShareOfSearch_SERPS!A2186)),ShareOfSearch_SERPS!A2186,\"\")","v":""},{"$f":"IF(NOT(ISBLANK(ShareOfSearch_SERPS!G2186)),ShareOfSearch_SERPS!G2186,\"\")","v":""},{"$f":"IF(NOT(ISBLANK(ShareOfSearch_SERPS!K2186)),ShareOfSearch_SERPS!K2186,\"\")","v":""},{"$f":"IFERROR(VLOOKUP(C2186,ShareOfSearch_CTR!$A$1:$B$100,2,FALSE)*VLOOKUP(A2186&B2186,ShareOfSearch_Volume!$C$1:$D$1000,2,FALSE),\"\")","v":""}]
[{"$f":"IF(ISTEXT(ShareOfSearch_SERPS!C2187),ShareOfSearch_SERPS!C2187,\"\")","v":""},{"$f":"IF(ISTEXT(ShareOfSearch_SERPS!D2187),ShareOfSearch_SERPS!D2187,\"\")","v":""},{"$f":"IF(NOT(ISBLANK(ShareOfSearch_SERPS!A2187)),ShareOfSearch_SERPS!A2187,\"\")","v":""},{"$f":"IF(NOT(ISBLANK(ShareOfSearch_SERPS!G2187)),ShareOfSearch_SERPS!G2187,\"\")","v":""},{"$f":"IF(NOT(ISBLANK(ShareOfSearch_SERPS!K2187)),ShareOfSearch_SERPS!K2187,\"\")","v":""},{"$f":"IFERROR(VLOOKUP(C2187,ShareOfSearch_CTR!$A$1:$B$100,2,FALSE)*VLOOKUP(A2187&B2187,ShareOfSearch_Volume!$C$1:$D$1000,2,FALSE),\"\")","v":""}]
[{"$f":"IF(ISTEXT(ShareOfSearch_SERPS!C2188),ShareOfSearch_SERPS!C2188,\"\")","v":""},{"$f":"IF(ISTEXT(ShareOfSearch_SERPS!D2188),ShareOfSearch_SERPS!D2188,\"\")","v":""},{"$f":"IF(NOT(ISBLANK(ShareOfSearch_SERPS!A2188)),ShareOfSearch_SERPS!A2188,\"\")","v":""},{"$f":"IF(NOT(ISBLANK(ShareOfSearch_SERPS!G2188)),ShareOfSearch_SERPS!G2188,\"\")","v":""},{"$f":"IF(NOT(ISBLANK(ShareOfSearch_SERPS!K2188)),ShareOfSearch_SERPS!K2188,\"\")","v":""},{"$f":"IFERROR(VLOOKUP(C2188,ShareOfSearch_CTR!$A$1:$B$100,2,FALSE)*VLOOKUP(A2188&B2188,ShareOfSearch_Volume!$C$1:$D$1000,2,FALSE),\"\")","v":""}]
[{"$f":"IF(ISTEXT(ShareOfSearch_SERPS!C2189),ShareOfSearch_SERPS!C2189,\"\")","v":""},{"$f":"IF(ISTEXT(ShareOfSearch_SERPS!D2189),ShareOfSearch_SERPS!D2189,\"\")","v":""},{"$f":"IF(NOT(ISBLANK(ShareOfSearch_SERPS!A2189)),ShareOfSearch_SERPS!A2189,\"\")","v":""},{"$f":"IF(NOT(ISBLANK(ShareOfSearch_SERPS!G2189)),ShareOfSearch_SERPS!G2189,\"\")","v":""},{"$f":"IF(NOT(ISBLANK(ShareOfSearch_SERPS!K2189)),ShareOfSearch_SERPS!K2189,\"\")","v":""},{"$f":"IFERROR(VLOOKUP(C2189,ShareOfSearch_CTR!$A$1:$B$100,2,FALSE)*VLOOKUP(A2189&B2189,ShareOfSearch_Volume!$C$1:$D$1000,2,FALSE),\"\")","v":""}]
[{"$f":"IF(ISTEXT(ShareOfSearch_SERPS!C2190),ShareOfSearch_SERPS!C2190,\"\")","v":""},{"$f":"IF(ISTEXT(ShareOfSearch_SERPS!D2190),ShareOfSearch_SERPS!D2190,\"\")","v":""},{"$f":"IF(NOT(ISBLANK(ShareOfSearch_SERPS!A2190)),ShareOfSearch_SERPS!A2190,\"\")","v":""},{"$f":"IF(NOT(ISBLANK(ShareOfSearch_SERPS!G2190)),ShareOfSearch_SERPS!G2190,\"\")","v":""},{"$f":"IF(NOT(ISBLANK(ShareOfSearch_SERPS!K2190)),ShareOfSearch_SERPS!K2190,\"\")","v":""},{"$f":"IFERROR(VLOOKUP(C2190,ShareOfSearch_CTR!$A$1:$B$100,2,FALSE)*VLOOKUP(A2190&B2190,ShareOfSearch_Volume!$C$1:$D$1000,2,FALSE),\"\")","v":""}]
[{"$f":"IF(ISTEXT(ShareOfSearch_SERPS!C2191),ShareOfSearch_SERPS!C2191,\"\")","v":""},{"$f":"IF(ISTEXT(ShareOfSearch_SERPS!D2191),ShareOfSearch_SERPS!D2191,\"\")","v":""},{"$f":"IF(NOT(ISBLANK(ShareOfSearch_SERPS!A2191)),ShareOfSearch_SERPS!A2191,\"\")","v":""},{"$f":"IF(NOT(ISBLANK(ShareOfSearch_SERPS!G2191)),ShareOfSearch_SERPS!G2191,\"\")","v":""},{"$f":"IF(NOT(ISBLANK(ShareOfSearch_SERPS!K2191)),ShareOfSearch_SERPS!K2191,\"\")","v":""},{"$f":"IFERROR(VLOOKUP(C2191,ShareOfSearch_CTR!$A$1:$B$100,2,FALSE)*VLOOKUP(A2191&B2191,ShareOfSearch_Volume!$C$1:$D$1000,2,FALSE),\"\")","v":""}]
[{"$f":"IF(ISTEXT(ShareOfSearch_SERPS!C2192),ShareOfSearch_SERPS!C2192,\"\")","v":""},{"$f":"IF(ISTEXT(ShareOfSearch_SERPS!D2192),ShareOfSearch_SERPS!D2192,\"\")","v":""},{"$f":"IF(NOT(ISBLANK(ShareOfSearch_SERPS!A2192)),ShareOfSearch_SERPS!A2192,\"\")","v":""},{"$f":"IF(NOT(ISBLANK(ShareOfSearch_SERPS!G2192)),ShareOfSearch_SERPS!G2192,\"\")","v":""},{"$f":"IF(NOT(ISBLANK(ShareOfSearch_SERPS!K2192)),ShareOfSearch_SERPS!K2192,\"\")","v":""},{"$f":"IFERROR(VLOOKUP(C2192,ShareOfSearch_CTR!$A$1:$B$100,2,FALSE)*VLOOKUP(A2192&B2192,ShareOfSearch_Volume!$C$1:$D$1000,2,FALSE),\"\")","v":""}]
[{"$f":"IF(ISTEXT(ShareOfSearch_SERPS!C2193),ShareOfSearch_SERPS!C2193,\"\")","v":""},{"$f":"IF(ISTEXT(ShareOfSearch_SERPS!D2193),ShareOfSearch_SERPS!D2193,\"\")","v":""},{"$f":"IF(NOT(ISBLANK(ShareOfSearch_SERPS!A2193)),ShareOfSearch_SERPS!A2193,\"\")","v":""},{"$f":"IF(NOT(ISBLANK(ShareOfSearch_SERPS!G2193)),ShareOfSearch_SERPS!G2193,\"\")","v":""},{"$f":"IF(NOT(ISBLANK(ShareOfSearch_SERPS!K2193)),ShareOfSearch_SERPS!K2193,\"\")","v":""},{"$f":"IFERROR(VLOOKUP(C2193,ShareOfSearch_CTR!$A$1:$B$100,2,FALSE)*VLOOKUP(A2193&B2193,ShareOfSearch_Volume!$C$1:$D$1000,2,FALSE),\"\")","v":""}]
[{"$f":"IF(ISTEXT(ShareOfSearch_SERPS!C2194),ShareOfSearch_SERPS!C2194,\"\")","v":""},{"$f":"IF(ISTEXT(ShareOfSearch_SERPS!D2194),ShareOfSearch_SERPS!D2194,\"\")","v":""},{"$f":"IF(NOT(ISBLANK(ShareOfSearch_SERPS!A2194)),ShareOfSearch_SERPS!A2194,\"\")","v":""},{"$f":"IF(NOT(ISBLANK(ShareOfSearch_SERPS!G2194)),ShareOfSearch_SERPS!G2194,\"\")","v":""},{"$f":"IF(NOT(ISBLANK(ShareOfSearch_SERPS!K2194)),ShareOfSearch_SERPS!K2194,\"\")","v":""},{"$f":"IFERROR(VLOOKUP(C2194,ShareOfSearch_CTR!$A$1:$B$100,2,FALSE)*VLOOKUP(A2194&B2194,ShareOfSearch_Volume!$C$1:$D$1000,2,FALSE),\"\")","v":""}]
[{"$f":"IF(ISTEXT(ShareOfSearch_SERPS!C2195),ShareOfSearch_SERPS!C2195,\"\")","v":""},{"$f":"IF(ISTEXT(ShareOfSearch_SERPS!D2195),ShareOfSearch_SERPS!D2195,\"\")","v":""},{"$f":"IF(NOT(ISBLANK(ShareOfSearch_SERPS!A2195)),ShareOfSearch_SERPS!A2195,\"\")","v":""},{"$f":"IF(NOT(ISBLANK(ShareOfSearch_SERPS!G2195)),ShareOfSearch_SERPS!G2195,\"\")","v":""},{"$f":"IF(NOT(ISBLANK(ShareOfSearch_SERPS!K2195)),ShareOfSearch_SERPS!K2195,\"\")","v":""},{"$f":"IFERROR(VLOOKUP(C2195,ShareOfSearch_CTR!$A$1:$B$100,2,FALSE)*VLOOKUP(A2195&B2195,ShareOfSearch_Volume!$C$1:$D$1000,2,FALSE),\"\")","v":""}]
[{"$f":"IF(ISTEXT(ShareOfSearch_SERPS!C2196),ShareOfSearch_SERPS!C2196,\"\")","v":""},{"$f":"IF(ISTEXT(ShareOfSearch_SERPS!D2196),ShareOfSearch_SERPS!D2196,\"\")","v":""},{"$f":"IF(NOT(ISBLANK(ShareOfSearch_SERPS!A2196)),ShareOfSearch_SERPS!A2196,\"\")","v":""},{"$f":"IF(NOT(ISBLANK(ShareOfSearch_SERPS!G2196)),ShareOfSearch_SERPS!G2196,\"\")","v":""},{"$f":"IF(NOT(ISBLANK(ShareOfSearch_SERPS!K2196)),ShareOfSearch_SERPS!K2196,\"\")","v":""},{"$f":"IFERROR(VLOOKUP(C2196,ShareOfSearch_CTR!$A$1:$B$100,2,FALSE)*VLOOKUP(A2196&B2196,ShareOfSearch_Volume!$C$1:$D$1000,2,FALSE),\"\")","v":""}]
[{"$f":"IF(ISTEXT(ShareOfSearch_SERPS!C2197),ShareOfSearch_SERPS!C2197,\"\")","v":""},{"$f":"IF(ISTEXT(ShareOfSearch_SERPS!D2197),ShareOfSearch_SERPS!D2197,\"\")","v":""},{"$f":"IF(NOT(ISBLANK(ShareOfSearch_SERPS!A2197)),ShareOfSearch_SERPS!A2197,\"\")","v":""},{"$f":"IF(NOT(ISBLANK(ShareOfSearch_SERPS!G2197)),ShareOfSearch_SERPS!G2197,\"\")","v":""},{"$f":"IF(NOT(ISBLANK(ShareOfSearch_SERPS!K2197)),ShareOfSearch_SERPS!K2197,\"\")","v":""},{"$f":"IFERROR(VLOOKUP(C2197,ShareOfSearch_CTR!$A$1:$B$100,2,FALSE)*VLOOKUP(A2197&B2197,ShareOfSearch_Volume!$C$1:$D$1000,2,FALSE),\"\")","v":""}]
[{"$f":"IF(ISTEXT(ShareOfSearch_SERPS!C2198),ShareOfSearch_SERPS!C2198,\"\")","v":""},{"$f":"IF(ISTEXT(ShareOfSearch_SERPS!D2198),ShareOfSearch_SERPS!D2198,\"\")","v":""},{"$f":"IF(NOT(ISBLANK(ShareOfSearch_SERPS!A2198)),ShareOfSearch_SERPS!A2198,\"\")","v":""},{"$f":"IF(NOT(ISBLANK(ShareOfSearch_SERPS!G2198)),ShareOfSearch_SERPS!G2198,\"\")","v":""},{"$f":"IF(NOT(ISBLANK(ShareOfSearch_SERPS!K2198)),ShareOfSearch_SERPS!K2198,\"\")","v":""},{"$f":"IFERROR(VLOOKUP(C2198,ShareOfSearch_CTR!$A$1:$B$100,2,FALSE)*VLOOKUP(A2198&B2198,ShareOfSearch_Volume!$C$1:$D$1000,2,FALSE),\"\")","v":""}]
[{"$f":"IF(ISTEXT(ShareOfSearch_SERPS!C2199),ShareOfSearch_SERPS!C2199,\"\")","v":""},{"$f":"IF(ISTEXT(ShareOfSearch_SERPS!D2199),ShareOfSearch_SERPS!D2199,\"\")","v":""},{"$f":"IF(NOT(ISBLANK(ShareOfSearch_SERPS!A2199)),ShareOfSearch_SERPS!A2199,\"\")","v":""},{"$f":"IF(NOT(ISBLANK(ShareOfSearch_SERPS!G2199)),ShareOfSearch_SERPS!G2199,\"\")","v":""},{"$f":"IF(NOT(ISBLANK(ShareOfSearch_SERPS!K2199)),ShareOfSearch_SERPS!K2199,\"\")","v":""},{"$f":"IFERROR(VLOOKUP(C2199,ShareOfSearch_CTR!$A$1:$B$100,2,FALSE)*VLOOKUP(A2199&B2199,ShareOfSearch_Volume!$C$1:$D$1000,2,FALSE),\"\")","v":""}]
[{"$f":"IF(ISTEXT(ShareOfSearch_SERPS!C2200),ShareOfSearch_SERPS!C2200,\"\")","v":""},{"$f":"IF(ISTEXT(ShareOfSearch_SERPS!D2200),ShareOfSearch_SERPS!D2200,\"\")","v":""},{"$f":"IF(NOT(ISBLANK(ShareOfSearch_SERPS!A2200)),ShareOfSearch_SERPS!A2200,\"\")","v":""},{"$f":"IF(NOT(ISBLANK(ShareOfSearch_SERPS!G2200)),ShareOfSearch_SERPS!G2200,\"\")","v":""},{"$f":"IF(NOT(ISBLANK(ShareOfSearch_SERPS!K2200)),ShareOfSearch_SERPS!K2200,\"\")","v":""},{"$f":"IFERROR(VLOOKUP(C2200,ShareOfSearch_CTR!$A$1:$B$100,2,FALSE)*VLOOKUP(A2200&B2200,ShareOfSearch_Volume!$C$1:$D$1000,2,FALSE),\"\")","v":""}]
[{"$f":"IF(ISTEXT(ShareOfSearch_SERPS!C2201),ShareOfSearch_SERPS!C2201,\"\")","v":""},{"$f":"IF(ISTEXT(ShareOfSearch_SERPS!D2201),ShareOfSearch_SERPS!D2201,\"\")","v":""},{"$f":"IF(NOT(ISBLANK(ShareOfSearch_SERPS!A2201)),ShareOfSearch_SERPS!A2201,\"\")","v":""},{"$f":"IF(NOT(ISBLANK(ShareOfSearch_SERPS!G2201)),ShareOfSearch_SERPS!G2201,\"\")","v":""},{"$f":"IF(NOT(ISBLANK(ShareOfSearch_SERPS!K2201)),ShareOfSearch_SERPS!K2201,\"\")","v":""},{"$f":"IFERROR(VLOOKUP(C2201,ShareOfSearch_CTR!$A$1:$B$100,2,FALSE)*VLOOKUP(A2201&B2201,ShareOfSearch_Volume!$C$1:$D$1000,2,FALSE),\"\")","v":""}]
[{"$f":"IF(ISTEXT(ShareOfSearch_SERPS!C2202),ShareOfSearch_SERPS!C2202,\"\")","v":""},{"$f":"IF(ISTEXT(ShareOfSearch_SERPS!D2202),ShareOfSearch_SERPS!D2202,\"\")","v":""},{"$f":"IF(NOT(ISBLANK(ShareOfSearch_SERPS!A2202)),ShareOfSearch_SERPS!A2202,\"\")","v":""},{"$f":"IF(NOT(ISBLANK(ShareOfSearch_SERPS!G2202)),ShareOfSearch_SERPS!G2202,\"\")","v":""},{"$f":"IF(NOT(ISBLANK(ShareOfSearch_SERPS!K2202)),ShareOfSearch_SERPS!K2202,\"\")","v":""},{"$f":"IFERROR(VLOOKUP(C2202,ShareOfSearch_CTR!$A$1:$B$100,2,FALSE)*VLOOKUP(A2202&B2202,ShareOfSearch_Volume!$C$1:$D$1000,2,FALSE),\"\")","v":""}]
[{"$f":"IF(ISTEXT(ShareOfSearch_SERPS!C2203),ShareOfSearch_SERPS!C2203,\"\")","v":""},{"$f":"IF(ISTEXT(ShareOfSearch_SERPS!D2203),ShareOfSearch_SERPS!D2203,\"\")","v":""},{"$f":"IF(NOT(ISBLANK(ShareOfSearch_SERPS!A2203)),ShareOfSearch_SERPS!A2203,\"\")","v":""},{"$f":"IF(NOT(ISBLANK(ShareOfSearch_SERPS!G2203)),ShareOfSearch_SERPS!G2203,\"\")","v":""},{"$f":"IF(NOT(ISBLANK(ShareOfSearch_SERPS!K2203)),ShareOfSearch_SERPS!K2203,\"\")","v":""},{"$f":"IFERROR(VLOOKUP(C2203,ShareOfSearch_CTR!$A$1:$B$100,2,FALSE)*VLOOKUP(A2203&B2203,ShareOfSearch_Volume!$C$1:$D$1000,2,FALSE),\"\")","v":""}]
[{"$f":"IF(ISTEXT(ShareOfSearch_SERPS!C2204),ShareOfSearch_SERPS!C2204,\"\")","v":""},{"$f":"IF(ISTEXT(ShareOfSearch_SERPS!D2204),ShareOfSearch_SERPS!D2204,\"\")","v":""},{"$f":"IF(NOT(ISBLANK(ShareOfSearch_SERPS!A2204)),ShareOfSearch_SERPS!A2204,\"\")","v":""},{"$f":"IF(NOT(ISBLANK(ShareOfSearch_SERPS!G2204)),ShareOfSearch_SERPS!G2204,\"\")","v":""},{"$f":"IF(NOT(ISBLANK(ShareOfSearch_SERPS!K2204)),ShareOfSearch_SERPS!K2204,\"\")","v":""},{"$f":"IFERROR(VLOOKUP(C2204,ShareOfSearch_CTR!$A$1:$B$100,2,FALSE)*VLOOKUP(A2204&B2204,ShareOfSearch_Volume!$C$1:$D$1000,2,FALSE),\"\")","v":""}]
[{"$f":"IF(ISTEXT(ShareOfSearch_SERPS!C2205),ShareOfSearch_SERPS!C2205,\"\")","v":""},{"$f":"IF(ISTEXT(ShareOfSearch_SERPS!D2205),ShareOfSearch_SERPS!D2205,\"\")","v":""},{"$f":"IF(NOT(ISBLANK(ShareOfSearch_SERPS!A2205)),ShareOfSearch_SERPS!A2205,\"\")","v":""},{"$f":"IF(NOT(ISBLANK(ShareOfSearch_SERPS!G2205)),ShareOfSearch_SERPS!G2205,\"\")","v":""},{"$f":"IF(NOT(ISBLANK(ShareOfSearch_SERPS!K2205)),ShareOfSearch_SERPS!K2205,\"\")","v":""},{"$f":"IFERROR(VLOOKUP(C2205,ShareOfSearch_CTR!$A$1:$B$100,2,FALSE)*VLOOKUP(A2205&B2205,ShareOfSearch_Volume!$C$1:$D$1000,2,FALSE),\"\")","v":""}]
[{"$f":"IF(ISTEXT(ShareOfSearch_SERPS!C2206),ShareOfSearch_SERPS!C2206,\"\")","v":""},{"$f":"IF(ISTEXT(ShareOfSearch_SERPS!D2206),ShareOfSearch_SERPS!D2206,\"\")","v":""},{"$f":"IF(NOT(ISBLANK(ShareOfSearch_SERPS!A2206)),ShareOfSearch_SERPS!A2206,\"\")","v":""},{"$f":"IF(NOT(ISBLANK(ShareOfSearch_SERPS!G2206)),ShareOfSearch_SERPS!G2206,\"\")","v":""},{"$f":"IF(NOT(ISBLANK(ShareOfSearch_SERPS!K2206)),ShareOfSearch_SERPS!K2206,\"\")","v":""},{"$f":"IFERROR(VLOOKUP(C2206,ShareOfSearch_CTR!$A$1:$B$100,2,FALSE)*VLOOKUP(A2206&B2206,ShareOfSearch_Volume!$C$1:$D$1000,2,FALSE),\"\")","v":""}]
[{"$f":"IF(ISTEXT(ShareOfSearch_SERPS!C2207),ShareOfSearch_SERPS!C2207,\"\")","v":""},{"$f":"IF(ISTEXT(ShareOfSearch_SERPS!D2207),ShareOfSearch_SERPS!D2207,\"\")","v":""},{"$f":"IF(NOT(ISBLANK(ShareOfSearch_SERPS!A2207)),ShareOfSearch_SERPS!A2207,\"\")","v":""},{"$f":"IF(NOT(ISBLANK(ShareOfSearch_SERPS!G2207)),ShareOfSearch_SERPS!G2207,\"\")","v":""},{"$f":"IF(NOT(ISBLANK(ShareOfSearch_SERPS!K2207)),ShareOfSearch_SERPS!K2207,\"\")","v":""},{"$f":"IFERROR(VLOOKUP(C2207,ShareOfSearch_CTR!$A$1:$B$100,2,FALSE)*VLOOKUP(A2207&B2207,ShareOfSearch_Volume!$C$1:$D$1000,2,FALSE),\"\")","v":""}]
[{"$f":"IF(ISTEXT(ShareOfSearch_SERPS!C2208),ShareOfSearch_SERPS!C2208,\"\")","v":""},{"$f":"IF(ISTEXT(ShareOfSearch_SERPS!D2208),ShareOfSearch_SERPS!D2208,\"\")","v":""},{"$f":"IF(NOT(ISBLANK(ShareOfSearch_SERPS!A2208)),ShareOfSearch_SERPS!A2208,\"\")","v":""},{"$f":"IF(NOT(ISBLANK(ShareOfSearch_SERPS!G2208)),ShareOfSearch_SERPS!G2208,\"\")","v":""},{"$f":"IF(NOT(ISBLANK(ShareOfSearch_SERPS!K2208)),ShareOfSearch_SERPS!K2208,\"\")","v":""},{"$f":"IFERROR(VLOOKUP(C2208,ShareOfSearch_CTR!$A$1:$B$100,2,FALSE)*VLOOKUP(A2208&B2208,ShareOfSearch_Volume!$C$1:$D$1000,2,FALSE),\"\")","v":""}]
[{"$f":"IF(ISTEXT(ShareOfSearch_SERPS!C2209),ShareOfSearch_SERPS!C2209,\"\")","v":""},{"$f":"IF(ISTEXT(ShareOfSearch_SERPS!D2209),ShareOfSearch_SERPS!D2209,\"\")","v":""},{"$f":"IF(NOT(ISBLANK(ShareOfSearch_SERPS!A2209)),ShareOfSearch_SERPS!A2209,\"\")","v":""},{"$f":"IF(NOT(ISBLANK(ShareOfSearch_SERPS!G2209)),ShareOfSearch_SERPS!G2209,\"\")","v":""},{"$f":"IF(NOT(ISBLANK(ShareOfSearch_SERPS!K2209)),ShareOfSearch_SERPS!K2209,\"\")","v":""},{"$f":"IFERROR(VLOOKUP(C2209,ShareOfSearch_CTR!$A$1:$B$100,2,FALSE)*VLOOKUP(A2209&B2209,ShareOfSearch_Volume!$C$1:$D$1000,2,FALSE),\"\")","v":""}]
[{"$f":"IF(ISTEXT(ShareOfSearch_SERPS!C2210),ShareOfSearch_SERPS!C2210,\"\")","v":""},{"$f":"IF(ISTEXT(ShareOfSearch_SERPS!D2210),ShareOfSearch_SERPS!D2210,\"\")","v":""},{"$f":"IF(NOT(ISBLANK(ShareOfSearch_SERPS!A2210)),ShareOfSearch_SERPS!A2210,\"\")","v":""},{"$f":"IF(NOT(ISBLANK(ShareOfSearch_SERPS!G2210)),ShareOfSearch_SERPS!G2210,\"\")","v":""},{"$f":"IF(NOT(ISBLANK(ShareOfSearch_SERPS!K2210)),ShareOfSearch_SERPS!K2210,\"\")","v":""},{"$f":"IFERROR(VLOOKUP(C2210,ShareOfSearch_CTR!$A$1:$B$100,2,FALSE)*VLOOKUP(A2210&B2210,ShareOfSearch_Volume!$C$1:$D$1000,2,FALSE),\"\")","v":""}]
[{"$f":"IF(ISTEXT(ShareOfSearch_SERPS!C2211),ShareOfSearch_SERPS!C2211,\"\")","v":""},{"$f":"IF(ISTEXT(ShareOfSearch_SERPS!D2211),ShareOfSearch_SERPS!D2211,\"\")","v":""},{"$f":"IF(NOT(ISBLANK(ShareOfSearch_SERPS!A2211)),ShareOfSearch_SERPS!A2211,\"\")","v":""},{"$f":"IF(NOT(ISBLANK(ShareOfSearch_SERPS!G2211)),ShareOfSearch_SERPS!G2211,\"\")","v":""},{"$f":"IF(NOT(ISBLANK(ShareOfSearch_SERPS!K2211)),ShareOfSearch_SERPS!K2211,\"\")","v":""},{"$f":"IFERROR(VLOOKUP(C2211,ShareOfSearch_CTR!$A$1:$B$100,2,FALSE)*VLOOKUP(A2211&B2211,ShareOfSearch_Volume!$C$1:$D$1000,2,FALSE),\"\")","v":""}]
[{"$f":"IF(ISTEXT(ShareOfSearch_SERPS!C2212),ShareOfSearch_SERPS!C2212,\"\")","v":""},{"$f":"IF(ISTEXT(ShareOfSearch_SERPS!D2212),ShareOfSearch_SERPS!D2212,\"\")","v":""},{"$f":"IF(NOT(ISBLANK(ShareOfSearch_SERPS!A2212)),ShareOfSearch_SERPS!A2212,\"\")","v":""},{"$f":"IF(NOT(ISBLANK(ShareOfSearch_SERPS!G2212)),ShareOfSearch_SERPS!G2212,\"\")","v":""},{"$f":"IF(NOT(ISBLANK(ShareOfSearch_SERPS!K2212)),ShareOfSearch_SERPS!K2212,\"\")","v":""},{"$f":"IFERROR(VLOOKUP(C2212,ShareOfSearch_CTR!$A$1:$B$100,2,FALSE)*VLOOKUP(A2212&B2212,ShareOfSearch_Volume!$C$1:$D$1000,2,FALSE),\"\")","v":""}]
[{"$f":"IF(ISTEXT(ShareOfSearch_SERPS!C2213),ShareOfSearch_SERPS!C2213,\"\")","v":""},{"$f":"IF(ISTEXT(ShareOfSearch_SERPS!D2213),ShareOfSearch_SERPS!D2213,\"\")","v":""},{"$f":"IF(NOT(ISBLANK(ShareOfSearch_SERPS!A2213)),ShareOfSearch_SERPS!A2213,\"\")","v":""},{"$f":"IF(NOT(ISBLANK(ShareOfSearch_SERPS!G2213)),ShareOfSearch_SERPS!G2213,\"\")","v":""},{"$f":"IF(NOT(ISBLANK(ShareOfSearch_SERPS!K2213)),ShareOfSearch_SERPS!K2213,\"\")","v":""},{"$f":"IFERROR(VLOOKUP(C2213,ShareOfSearch_CTR!$A$1:$B$100,2,FALSE)*VLOOKUP(A2213&B2213,ShareOfSearch_Volume!$C$1:$D$1000,2,FALSE),\"\")","v":""}]
[{"$f":"IF(ISTEXT(ShareOfSearch_SERPS!C2214),ShareOfSearch_SERPS!C2214,\"\")","v":""},{"$f":"IF(ISTEXT(ShareOfSearch_SERPS!D2214),ShareOfSearch_SERPS!D2214,\"\")","v":""},{"$f":"IF(NOT(ISBLANK(ShareOfSearch_SERPS!A2214)),ShareOfSearch_SERPS!A2214,\"\")","v":""},{"$f":"IF(NOT(ISBLANK(ShareOfSearch_SERPS!G2214)),ShareOfSearch_SERPS!G2214,\"\")","v":""},{"$f":"IF(NOT(ISBLANK(ShareOfSearch_SERPS!K2214)),ShareOfSearch_SERPS!K2214,\"\")","v":""},{"$f":"IFERROR(VLOOKUP(C2214,ShareOfSearch_CTR!$A$1:$B$100,2,FALSE)*VLOOKUP(A2214&B2214,ShareOfSearch_Volume!$C$1:$D$1000,2,FALSE),\"\")","v":""}]
[{"$f":"IF(ISTEXT(ShareOfSearch_SERPS!C2215),ShareOfSearch_SERPS!C2215,\"\")","v":""},{"$f":"IF(ISTEXT(ShareOfSearch_SERPS!D2215),ShareOfSearch_SERPS!D2215,\"\")","v":""},{"$f":"IF(NOT(ISBLANK(ShareOfSearch_SERPS!A2215)),ShareOfSearch_SERPS!A2215,\"\")","v":""},{"$f":"IF(NOT(ISBLANK(ShareOfSearch_SERPS!G2215)),ShareOfSearch_SERPS!G2215,\"\")","v":""},{"$f":"IF(NOT(ISBLANK(ShareOfSearch_SERPS!K2215)),ShareOfSearch_SERPS!K2215,\"\")","v":""},{"$f":"IFERROR(VLOOKUP(C2215,ShareOfSearch_CTR!$A$1:$B$100,2,FALSE)*VLOOKUP(A2215&B2215,ShareOfSearch_Volume!$C$1:$D$1000,2,FALSE),\"\")","v":""}]
[{"$f":"IF(ISTEXT(ShareOfSearch_SERPS!C2216),ShareOfSearch_SERPS!C2216,\"\")","v":""},{"$f":"IF(ISTEXT(ShareOfSearch_SERPS!D2216),ShareOfSearch_SERPS!D2216,\"\")","v":""},{"$f":"IF(NOT(ISBLANK(ShareOfSearch_SERPS!A2216)),ShareOfSearch_SERPS!A2216,\"\")","v":""},{"$f":"IF(NOT(ISBLANK(ShareOfSearch_SERPS!G2216)),ShareOfSearch_SERPS!G2216,\"\")","v":""},{"$f":"IF(NOT(ISBLANK(ShareOfSearch_SERPS!K2216)),ShareOfSearch_SERPS!K2216,\"\")","v":""},{"$f":"IFERROR(VLOOKUP(C2216,ShareOfSearch_CTR!$A$1:$B$100,2,FALSE)*VLOOKUP(A2216&B2216,ShareOfSearch_Volume!$C$1:$D$1000,2,FALSE),\"\")","v":""}]
[{"$f":"IF(ISTEXT(ShareOfSearch_SERPS!C2217),ShareOfSearch_SERPS!C2217,\"\")","v":""},{"$f":"IF(ISTEXT(ShareOfSearch_SERPS!D2217),ShareOfSearch_SERPS!D2217,\"\")","v":""},{"$f":"IF(NOT(ISBLANK(ShareOfSearch_SERPS!A2217)),ShareOfSearch_SERPS!A2217,\"\")","v":""},{"$f":"IF(NOT(ISBLANK(ShareOfSearch_SERPS!G2217)),ShareOfSearch_SERPS!G2217,\"\")","v":""},{"$f":"IF(NOT(ISBLANK(ShareOfSearch_SERPS!K2217)),ShareOfSearch_SERPS!K2217,\"\")","v":""},{"$f":"IFERROR(VLOOKUP(C2217,ShareOfSearch_CTR!$A$1:$B$100,2,FALSE)*VLOOKUP(A2217&B2217,ShareOfSearch_Volume!$C$1:$D$1000,2,FALSE),\"\")","v":""}]
[{"$f":"IF(ISTEXT(ShareOfSearch_SERPS!C2218),ShareOfSearch_SERPS!C2218,\"\")","v":""},{"$f":"IF(ISTEXT(ShareOfSearch_SERPS!D2218),ShareOfSearch_SERPS!D2218,\"\")","v":""},{"$f":"IF(NOT(ISBLANK(ShareOfSearch_SERPS!A2218)),ShareOfSearch_SERPS!A2218,\"\")","v":""},{"$f":"IF(NOT(ISBLANK(ShareOfSearch_SERPS!G2218)),ShareOfSearch_SERPS!G2218,\"\")","v":""},{"$f":"IF(NOT(ISBLANK(ShareOfSearch_SERPS!K2218)),ShareOfSearch_SERPS!K2218,\"\")","v":""},{"$f":"IFERROR(VLOOKUP(C2218,ShareOfSearch_CTR!$A$1:$B$100,2,FALSE)*VLOOKUP(A2218&B2218,ShareOfSearch_Volume!$C$1:$D$1000,2,FALSE),\"\")","v":""}]
[{"$f":"IF(ISTEXT(ShareOfSearch_SERPS!C2219),ShareOfSearch_SERPS!C2219,\"\")","v":""},{"$f":"IF(ISTEXT(ShareOfSearch_SERPS!D2219),ShareOfSearch_SERPS!D2219,\"\")","v":""},{"$f":"IF(NOT(ISBLANK(ShareOfSearch_SERPS!A2219)),ShareOfSearch_SERPS!A2219,\"\")","v":""},{"$f":"IF(NOT(ISBLANK(ShareOfSearch_SERPS!G2219)),ShareOfSearch_SERPS!G2219,\"\")","v":""},{"$f":"IF(NOT(ISBLANK(ShareOfSearch_SERPS!K2219)),ShareOfSearch_SERPS!K2219,\"\")","v":""},{"$f":"IFERROR(VLOOKUP(C2219,ShareOfSearch_CTR!$A$1:$B$100,2,FALSE)*VLOOKUP(A2219&B2219,ShareOfSearch_Volume!$C$1:$D$1000,2,FALSE),\"\")","v":""}]
[{"$f":"IF(ISTEXT(ShareOfSearch_SERPS!C2220),ShareOfSearch_SERPS!C2220,\"\")","v":""},{"$f":"IF(ISTEXT(ShareOfSearch_SERPS!D2220),ShareOfSearch_SERPS!D2220,\"\")","v":""},{"$f":"IF(NOT(ISBLANK(ShareOfSearch_SERPS!A2220)),ShareOfSearch_SERPS!A2220,\"\")","v":""},{"$f":"IF(NOT(ISBLANK(ShareOfSearch_SERPS!G2220)),ShareOfSearch_SERPS!G2220,\"\")","v":""},{"$f":"IF(NOT(ISBLANK(ShareOfSearch_SERPS!K2220)),ShareOfSearch_SERPS!K2220,\"\")","v":""},{"$f":"IFERROR(VLOOKUP(C2220,ShareOfSearch_CTR!$A$1:$B$100,2,FALSE)*VLOOKUP(A2220&B2220,ShareOfSearch_Volume!$C$1:$D$1000,2,FALSE),\"\")","v":""}]
[{"$f":"IF(ISTEXT(ShareOfSearch_SERPS!C2221),ShareOfSearch_SERPS!C2221,\"\")","v":""},{"$f":"IF(ISTEXT(ShareOfSearch_SERPS!D2221),ShareOfSearch_SERPS!D2221,\"\")","v":""},{"$f":"IF(NOT(ISBLANK(ShareOfSearch_SERPS!A2221)),ShareOfSearch_SERPS!A2221,\"\")","v":""},{"$f":"IF(NOT(ISBLANK(ShareOfSearch_SERPS!G2221)),ShareOfSearch_SERPS!G2221,\"\")","v":""},{"$f":"IF(NOT(ISBLANK(ShareOfSearch_SERPS!K2221)),ShareOfSearch_SERPS!K2221,\"\")","v":""},{"$f":"IFERROR(VLOOKUP(C2221,ShareOfSearch_CTR!$A$1:$B$100,2,FALSE)*VLOOKUP(A2221&B2221,ShareOfSearch_Volume!$C$1:$D$1000,2,FALSE),\"\")","v":""}]
[{"$f":"IF(ISTEXT(ShareOfSearch_SERPS!C2222),ShareOfSearch_SERPS!C2222,\"\")","v":""},{"$f":"IF(ISTEXT(ShareOfSearch_SERPS!D2222),ShareOfSearch_SERPS!D2222,\"\")","v":""},{"$f":"IF(NOT(ISBLANK(ShareOfSearch_SERPS!A2222)),ShareOfSearch_SERPS!A2222,\"\")","v":""},{"$f":"IF(NOT(ISBLANK(ShareOfSearch_SERPS!G2222)),ShareOfSearch_SERPS!G2222,\"\")","v":""},{"$f":"IF(NOT(ISBLANK(ShareOfSearch_SERPS!K2222)),ShareOfSearch_SERPS!K2222,\"\")","v":""},{"$f":"IFERROR(VLOOKUP(C2222,ShareOfSearch_CTR!$A$1:$B$100,2,FALSE)*VLOOKUP(A2222&B2222,ShareOfSearch_Volume!$C$1:$D$1000,2,FALSE),\"\")","v":""}]
[{"$f":"IF(ISTEXT(ShareOfSearch_SERPS!C2223),ShareOfSearch_SERPS!C2223,\"\")","v":""},{"$f":"IF(ISTEXT(ShareOfSearch_SERPS!D2223),ShareOfSearch_SERPS!D2223,\"\")","v":""},{"$f":"IF(NOT(ISBLANK(ShareOfSearch_SERPS!A2223)),ShareOfSearch_SERPS!A2223,\"\")","v":""},{"$f":"IF(NOT(ISBLANK(ShareOfSearch_SERPS!G2223)),ShareOfSearch_SERPS!G2223,\"\")","v":""},{"$f":"IF(NOT(ISBLANK(ShareOfSearch_SERPS!K2223)),ShareOfSearch_SERPS!K2223,\"\")","v":""},{"$f":"IFERROR(VLOOKUP(C2223,ShareOfSearch_CTR!$A$1:$B$100,2,FALSE)*VLOOKUP(A2223&B2223,ShareOfSearch_Volume!$C$1:$D$1000,2,FALSE),\"\")","v":""}]
[{"$f":"IF(ISTEXT(ShareOfSearch_SERPS!C2224),ShareOfSearch_SERPS!C2224,\"\")","v":""},{"$f":"IF(ISTEXT(ShareOfSearch_SERPS!D2224),ShareOfSearch_SERPS!D2224,\"\")","v":""},{"$f":"IF(NOT(ISBLANK(ShareOfSearch_SERPS!A2224)),ShareOfSearch_SERPS!A2224,\"\")","v":""},{"$f":"IF(NOT(ISBLANK(ShareOfSearch_SERPS!G2224)),ShareOfSearch_SERPS!G2224,\"\")","v":""},{"$f":"IF(NOT(ISBLANK(ShareOfSearch_SERPS!K2224)),ShareOfSearch_SERPS!K2224,\"\")","v":""},{"$f":"IFERROR(VLOOKUP(C2224,ShareOfSearch_CTR!$A$1:$B$100,2,FALSE)*VLOOKUP(A2224&B2224,ShareOfSearch_Volume!$C$1:$D$1000,2,FALSE),\"\")","v":""}]
[{"$f":"IF(ISTEXT(ShareOfSearch_SERPS!C2225),ShareOfSearch_SERPS!C2225,\"\")","v":""},{"$f":"IF(ISTEXT(ShareOfSearch_SERPS!D2225),ShareOfSearch_SERPS!D2225,\"\")","v":""},{"$f":"IF(NOT(ISBLANK(ShareOfSearch_SERPS!A2225)),ShareOfSearch_SERPS!A2225,\"\")","v":""},{"$f":"IF(NOT(ISBLANK(ShareOfSearch_SERPS!G2225)),ShareOfSearch_SERPS!G2225,\"\")","v":""},{"$f":"IF(NOT(ISBLANK(ShareOfSearch_SERPS!K2225)),ShareOfSearch_SERPS!K2225,\"\")","v":""},{"$f":"IFERROR(VLOOKUP(C2225,ShareOfSearch_CTR!$A$1:$B$100,2,FALSE)*VLOOKUP(A2225&B2225,ShareOfSearch_Volume!$C$1:$D$1000,2,FALSE),\"\")","v":""}]
[{"$f":"IF(ISTEXT(ShareOfSearch_SERPS!C2226),ShareOfSearch_SERPS!C2226,\"\")","v":""},{"$f":"IF(ISTEXT(ShareOfSearch_SERPS!D2226),ShareOfSearch_SERPS!D2226,\"\")","v":""},{"$f":"IF(NOT(ISBLANK(ShareOfSearch_SERPS!A2226)),ShareOfSearch_SERPS!A2226,\"\")","v":""},{"$f":"IF(NOT(ISBLANK(ShareOfSearch_SERPS!G2226)),ShareOfSearch_SERPS!G2226,\"\")","v":""},{"$f":"IF(NOT(ISBLANK(ShareOfSearch_SERPS!K2226)),ShareOfSearch_SERPS!K2226,\"\")","v":""},{"$f":"IFERROR(VLOOKUP(C2226,ShareOfSearch_CTR!$A$1:$B$100,2,FALSE)*VLOOKUP(A2226&B2226,ShareOfSearch_Volume!$C$1:$D$1000,2,FALSE),\"\")","v":""}]
[{"$f":"IF(ISTEXT(ShareOfSearch_SERPS!C2227),ShareOfSearch_SERPS!C2227,\"\")","v":""},{"$f":"IF(ISTEXT(ShareOfSearch_SERPS!D2227),ShareOfSearch_SERPS!D2227,\"\")","v":""},{"$f":"IF(NOT(ISBLANK(ShareOfSearch_SERPS!A2227)),ShareOfSearch_SERPS!A2227,\"\")","v":""},{"$f":"IF(NOT(ISBLANK(ShareOfSearch_SERPS!G2227)),ShareOfSearch_SERPS!G2227,\"\")","v":""},{"$f":"IF(NOT(ISBLANK(ShareOfSearch_SERPS!K2227)),ShareOfSearch_SERPS!K2227,\"\")","v":""},{"$f":"IFERROR(VLOOKUP(C2227,ShareOfSearch_CTR!$A$1:$B$100,2,FALSE)*VLOOKUP(A2227&B2227,ShareOfSearch_Volume!$C$1:$D$1000,2,FALSE),\"\")","v":""}]
[{"$f":"IF(ISTEXT(ShareOfSearch_SERPS!C2228),ShareOfSearch_SERPS!C2228,\"\")","v":""},{"$f":"IF(ISTEXT(ShareOfSearch_SERPS!D2228),ShareOfSearch_SERPS!D2228,\"\")","v":""},{"$f":"IF(NOT(ISBLANK(ShareOfSearch_SERPS!A2228)),ShareOfSearch_SERPS!A2228,\"\")","v":""},{"$f":"IF(NOT(ISBLANK(ShareOfSearch_SERPS!G2228)),ShareOfSearch_SERPS!G2228,\"\")","v":""},{"$f":"IF(NOT(ISBLANK(ShareOfSearch_SERPS!K2228)),ShareOfSearch_SERPS!K2228,\"\")","v":""},{"$f":"IFERROR(VLOOKUP(C2228,ShareOfSearch_CTR!$A$1:$B$100,2,FALSE)*VLOOKUP(A2228&B2228,ShareOfSearch_Volume!$C$1:$D$1000,2,FALSE),\"\")","v":""}]
[{"$f":"IF(ISTEXT(ShareOfSearch_SERPS!C2229),ShareOfSearch_SERPS!C2229,\"\")","v":""},{"$f":"IF(ISTEXT(ShareOfSearch_SERPS!D2229),ShareOfSearch_SERPS!D2229,\"\")","v":""},{"$f":"IF(NOT(ISBLANK(ShareOfSearch_SERPS!A2229)),ShareOfSearch_SERPS!A2229,\"\")","v":""},{"$f":"IF(NOT(ISBLANK(ShareOfSearch_SERPS!G2229)),ShareOfSearch_SERPS!G2229,\"\")","v":""},{"$f":"IF(NOT(ISBLANK(ShareOfSearch_SERPS!K2229)),ShareOfSearch_SERPS!K2229,\"\")","v":""},{"$f":"IFERROR(VLOOKUP(C2229,ShareOfSearch_CTR!$A$1:$B$100,2,FALSE)*VLOOKUP(A2229&B2229,ShareOfSearch_Volume!$C$1:$D$1000,2,FALSE),\"\")","v":""}]
[{"$f":"IF(ISTEXT(ShareOfSearch_SERPS!C2230),ShareOfSearch_SERPS!C2230,\"\")","v":""},{"$f":"IF(ISTEXT(ShareOfSearch_SERPS!D2230),ShareOfSearch_SERPS!D2230,\"\")","v":""},{"$f":"IF(NOT(ISBLANK(ShareOfSearch_SERPS!A2230)),ShareOfSearch_SERPS!A2230,\"\")","v":""},{"$f":"IF(NOT(ISBLANK(ShareOfSearch_SERPS!G2230)),ShareOfSearch_SERPS!G2230,\"\")","v":""},{"$f":"IF(NOT(ISBLANK(ShareOfSearch_SERPS!K2230)),ShareOfSearch_SERPS!K2230,\"\")","v":""},{"$f":"IFERROR(VLOOKUP(C2230,ShareOfSearch_CTR!$A$1:$B$100,2,FALSE)*VLOOKUP(A2230&B2230,ShareOfSearch_Volume!$C$1:$D$1000,2,FALSE),\"\")","v":""}]
[{"$f":"IF(ISTEXT(ShareOfSearch_SERPS!C2231),ShareOfSearch_SERPS!C2231,\"\")","v":""},{"$f":"IF(ISTEXT(ShareOfSearch_SERPS!D2231),ShareOfSearch_SERPS!D2231,\"\")","v":""},{"$f":"IF(NOT(ISBLANK(ShareOfSearch_SERPS!A2231)),ShareOfSearch_SERPS!A2231,\"\")","v":""},{"$f":"IF(NOT(ISBLANK(ShareOfSearch_SERPS!G2231)),ShareOfSearch_SERPS!G2231,\"\")","v":""},{"$f":"IF(NOT(ISBLANK(ShareOfSearch_SERPS!K2231)),ShareOfSearch_SERPS!K2231,\"\")","v":""},{"$f":"IFERROR(VLOOKUP(C2231,ShareOfSearch_CTR!$A$1:$B$100,2,FALSE)*VLOOKUP(A2231&B2231,ShareOfSearch_Volume!$C$1:$D$1000,2,FALSE),\"\")","v":""}]
[{"$f":"IF(ISTEXT(ShareOfSearch_SERPS!C2232),ShareOfSearch_SERPS!C2232,\"\")","v":""},{"$f":"IF(ISTEXT(ShareOfSearch_SERPS!D2232),ShareOfSearch_SERPS!D2232,\"\")","v":""},{"$f":"IF(NOT(ISBLANK(ShareOfSearch_SERPS!A2232)),ShareOfSearch_SERPS!A2232,\"\")","v":""},{"$f":"IF(NOT(ISBLANK(ShareOfSearch_SERPS!G2232)),ShareOfSearch_SERPS!G2232,\"\")","v":""},{"$f":"IF(NOT(ISBLANK(ShareOfSearch_SERPS!K2232)),ShareOfSearch_SERPS!K2232,\"\")","v":""},{"$f":"IFERROR(VLOOKUP(C2232,ShareOfSearch_CTR!$A$1:$B$100,2,FALSE)*VLOOKUP(A2232&B2232,ShareOfSearch_Volume!$C$1:$D$1000,2,FALSE),\"\")","v":""}]
[{"$f":"IF(ISTEXT(ShareOfSearch_SERPS!C2233),ShareOfSearch_SERPS!C2233,\"\")","v":""},{"$f":"IF(ISTEXT(ShareOfSearch_SERPS!D2233),ShareOfSearch_SERPS!D2233,\"\")","v":""},{"$f":"IF(NOT(ISBLANK(ShareOfSearch_SERPS!A2233)),ShareOfSearch_SERPS!A2233,\"\")","v":""},{"$f":"IF(NOT(ISBLANK(ShareOfSearch_SERPS!G2233)),ShareOfSearch_SERPS!G2233,\"\")","v":""},{"$f":"IF(NOT(ISBLANK(ShareOfSearch_SERPS!K2233)),ShareOfSearch_SERPS!K2233,\"\")","v":""},{"$f":"IFERROR(VLOOKUP(C2233,ShareOfSearch_CTR!$A$1:$B$100,2,FALSE)*VLOOKUP(A2233&B2233,ShareOfSearch_Volume!$C$1:$D$1000,2,FALSE),\"\")","v":""}]
[{"$f":"IF(ISTEXT(ShareOfSearch_SERPS!C2234),ShareOfSearch_SERPS!C2234,\"\")","v":""},{"$f":"IF(ISTEXT(ShareOfSearch_SERPS!D2234),ShareOfSearch_SERPS!D2234,\"\")","v":""},{"$f":"IF(NOT(ISBLANK(ShareOfSearch_SERPS!A2234)),ShareOfSearch_SERPS!A2234,\"\")","v":""},{"$f":"IF(NOT(ISBLANK(ShareOfSearch_SERPS!G2234)),ShareOfSearch_SERPS!G2234,\"\")","v":""},{"$f":"IF(NOT(ISBLANK(ShareOfSearch_SERPS!K2234)),ShareOfSearch_SERPS!K2234,\"\")","v":""},{"$f":"IFERROR(VLOOKUP(C2234,ShareOfSearch_CTR!$A$1:$B$100,2,FALSE)*VLOOKUP(A2234&B2234,ShareOfSearch_Volume!$C$1:$D$1000,2,FALSE),\"\")","v":""}]
[{"$f":"IF(ISTEXT(ShareOfSearch_SERPS!C2235),ShareOfSearch_SERPS!C2235,\"\")","v":""},{"$f":"IF(ISTEXT(ShareOfSearch_SERPS!D2235),ShareOfSearch_SERPS!D2235,\"\")","v":""},{"$f":"IF(NOT(ISBLANK(ShareOfSearch_SERPS!A2235)),ShareOfSearch_SERPS!A2235,\"\")","v":""},{"$f":"IF(NOT(ISBLANK(ShareOfSearch_SERPS!G2235)),ShareOfSearch_SERPS!G2235,\"\")","v":""},{"$f":"IF(NOT(ISBLANK(ShareOfSearch_SERPS!K2235)),ShareOfSearch_SERPS!K2235,\"\")","v":""},{"$f":"IFERROR(VLOOKUP(C2235,ShareOfSearch_CTR!$A$1:$B$100,2,FALSE)*VLOOKUP(A2235&B2235,ShareOfSearch_Volume!$C$1:$D$1000,2,FALSE),\"\")","v":""}]
[{"$f":"IF(ISTEXT(ShareOfSearch_SERPS!C2236),ShareOfSearch_SERPS!C2236,\"\")","v":""},{"$f":"IF(ISTEXT(ShareOfSearch_SERPS!D2236),ShareOfSearch_SERPS!D2236,\"\")","v":""},{"$f":"IF(NOT(ISBLANK(ShareOfSearch_SERPS!A2236)),ShareOfSearch_SERPS!A2236,\"\")","v":""},{"$f":"IF(NOT(ISBLANK(ShareOfSearch_SERPS!G2236)),ShareOfSearch_SERPS!G2236,\"\")","v":""},{"$f":"IF(NOT(ISBLANK(ShareOfSearch_SERPS!K2236)),ShareOfSearch_SERPS!K2236,\"\")","v":""},{"$f":"IFERROR(VLOOKUP(C2236,ShareOfSearch_CTR!$A$1:$B$100,2,FALSE)*VLOOKUP(A2236&B2236,ShareOfSearch_Volume!$C$1:$D$1000,2,FALSE),\"\")","v":""}]
[{"$f":"IF(ISTEXT(ShareOfSearch_SERPS!C2237),ShareOfSearch_SERPS!C2237,\"\")","v":""},{"$f":"IF(ISTEXT(ShareOfSearch_SERPS!D2237),ShareOfSearch_SERPS!D2237,\"\")","v":""},{"$f":"IF(NOT(ISBLANK(ShareOfSearch_SERPS!A2237)),ShareOfSearch_SERPS!A2237,\"\")","v":""},{"$f":"IF(NOT(ISBLANK(ShareOfSearch_SERPS!G2237)),ShareOfSearch_SERPS!G2237,\"\")","v":""},{"$f":"IF(NOT(ISBLANK(ShareOfSearch_SERPS!K2237)),ShareOfSearch_SERPS!K2237,\"\")","v":""},{"$f":"IFERROR(VLOOKUP(C2237,ShareOfSearch_CTR!$A$1:$B$100,2,FALSE)*VLOOKUP(A2237&B2237,ShareOfSearch_Volume!$C$1:$D$1000,2,FALSE),\"\")","v":""}]
[{"$f":"IF(ISTEXT(ShareOfSearch_SERPS!C2238),ShareOfSearch_SERPS!C2238,\"\")","v":""},{"$f":"IF(ISTEXT(ShareOfSearch_SERPS!D2238),ShareOfSearch_SERPS!D2238,\"\")","v":""},{"$f":"IF(NOT(ISBLANK(ShareOfSearch_SERPS!A2238)),ShareOfSearch_SERPS!A2238,\"\")","v":""},{"$f":"IF(NOT(ISBLANK(ShareOfSearch_SERPS!G2238)),ShareOfSearch_SERPS!G2238,\"\")","v":""},{"$f":"IF(NOT(ISBLANK(ShareOfSearch_SERPS!K2238)),ShareOfSearch_SERPS!K2238,\"\")","v":""},{"$f":"IFERROR(VLOOKUP(C2238,ShareOfSearch_CTR!$A$1:$B$100,2,FALSE)*VLOOKUP(A2238&B2238,ShareOfSearch_Volume!$C$1:$D$1000,2,FALSE),\"\")","v":""}]
[{"$f":"IF(ISTEXT(ShareOfSearch_SERPS!C2239),ShareOfSearch_SERPS!C2239,\"\")","v":""},{"$f":"IF(ISTEXT(ShareOfSearch_SERPS!D2239),ShareOfSearch_SERPS!D2239,\"\")","v":""},{"$f":"IF(NOT(ISBLANK(ShareOfSearch_SERPS!A2239)),ShareOfSearch_SERPS!A2239,\"\")","v":""},{"$f":"IF(NOT(ISBLANK(ShareOfSearch_SERPS!G2239)),ShareOfSearch_SERPS!G2239,\"\")","v":""},{"$f":"IF(NOT(ISBLANK(ShareOfSearch_SERPS!K2239)),ShareOfSearch_SERPS!K2239,\"\")","v":""},{"$f":"IFERROR(VLOOKUP(C2239,ShareOfSearch_CTR!$A$1:$B$100,2,FALSE)*VLOOKUP(A2239&B2239,ShareOfSearch_Volume!$C$1:$D$1000,2,FALSE),\"\")","v":""}]
[{"$f":"IF(ISTEXT(ShareOfSearch_SERPS!C2240),ShareOfSearch_SERPS!C2240,\"\")","v":""},{"$f":"IF(ISTEXT(ShareOfSearch_SERPS!D2240),ShareOfSearch_SERPS!D2240,\"\")","v":""},{"$f":"IF(NOT(ISBLANK(ShareOfSearch_SERPS!A2240)),ShareOfSearch_SERPS!A2240,\"\")","v":""},{"$f":"IF(NOT(ISBLANK(ShareOfSearch_SERPS!G2240)),ShareOfSearch_SERPS!G2240,\"\")","v":""},{"$f":"IF(NOT(ISBLANK(ShareOfSearch_SERPS!K2240)),ShareOfSearch_SERPS!K2240,\"\")","v":""},{"$f":"IFERROR(VLOOKUP(C2240,ShareOfSearch_CTR!$A$1:$B$100,2,FALSE)*VLOOKUP(A2240&B2240,ShareOfSearch_Volume!$C$1:$D$1000,2,FALSE),\"\")","v":""}]
[{"$f":"IF(ISTEXT(ShareOfSearch_SERPS!C2241),ShareOfSearch_SERPS!C2241,\"\")","v":""},{"$f":"IF(ISTEXT(ShareOfSearch_SERPS!D2241),ShareOfSearch_SERPS!D2241,\"\")","v":""},{"$f":"IF(NOT(ISBLANK(ShareOfSearch_SERPS!A2241)),ShareOfSearch_SERPS!A2241,\"\")","v":""},{"$f":"IF(NOT(ISBLANK(ShareOfSearch_SERPS!G2241)),ShareOfSearch_SERPS!G2241,\"\")","v":""},{"$f":"IF(NOT(ISBLANK(ShareOfSearch_SERPS!K2241)),ShareOfSearch_SERPS!K2241,\"\")","v":""},{"$f":"IFERROR(VLOOKUP(C2241,ShareOfSearch_CTR!$A$1:$B$100,2,FALSE)*VLOOKUP(A2241&B2241,ShareOfSearch_Volume!$C$1:$D$1000,2,FALSE),\"\")","v":""}]
[{"$f":"IF(ISTEXT(ShareOfSearch_SERPS!C2242),ShareOfSearch_SERPS!C2242,\"\")","v":""},{"$f":"IF(ISTEXT(ShareOfSearch_SERPS!D2242),ShareOfSearch_SERPS!D2242,\"\")","v":""},{"$f":"IF(NOT(ISBLANK(ShareOfSearch_SERPS!A2242)),ShareOfSearch_SERPS!A2242,\"\")","v":""},{"$f":"IF(NOT(ISBLANK(ShareOfSearch_SERPS!G2242)),ShareOfSearch_SERPS!G2242,\"\")","v":""},{"$f":"IF(NOT(ISBLANK(ShareOfSearch_SERPS!K2242)),ShareOfSearch_SERPS!K2242,\"\")","v":""},{"$f":"IFERROR(VLOOKUP(C2242,ShareOfSearch_CTR!$A$1:$B$100,2,FALSE)*VLOOKUP(A2242&B2242,ShareOfSearch_Volume!$C$1:$D$1000,2,FALSE),\"\")","v":""}]
[{"$f":"IF(ISTEXT(ShareOfSearch_SERPS!C2243),ShareOfSearch_SERPS!C2243,\"\")","v":""},{"$f":"IF(ISTEXT(ShareOfSearch_SERPS!D2243),ShareOfSearch_SERPS!D2243,\"\")","v":""},{"$f":"IF(NOT(ISBLANK(ShareOfSearch_SERPS!A2243)),ShareOfSearch_SERPS!A2243,\"\")","v":""},{"$f":"IF(NOT(ISBLANK(ShareOfSearch_SERPS!G2243)),ShareOfSearch_SERPS!G2243,\"\")","v":""},{"$f":"IF(NOT(ISBLANK(ShareOfSearch_SERPS!K2243)),ShareOfSearch_SERPS!K2243,\"\")","v":""},{"$f":"IFERROR(VLOOKUP(C2243,ShareOfSearch_CTR!$A$1:$B$100,2,FALSE)*VLOOKUP(A2243&B2243,ShareOfSearch_Volume!$C$1:$D$1000,2,FALSE),\"\")","v":""}]
[{"$f":"IF(ISTEXT(ShareOfSearch_SERPS!C2244),ShareOfSearch_SERPS!C2244,\"\")","v":""},{"$f":"IF(ISTEXT(ShareOfSearch_SERPS!D2244),ShareOfSearch_SERPS!D2244,\"\")","v":""},{"$f":"IF(NOT(ISBLANK(ShareOfSearch_SERPS!A2244)),ShareOfSearch_SERPS!A2244,\"\")","v":""},{"$f":"IF(NOT(ISBLANK(ShareOfSearch_SERPS!G2244)),ShareOfSearch_SERPS!G2244,\"\")","v":""},{"$f":"IF(NOT(ISBLANK(ShareOfSearch_SERPS!K2244)),ShareOfSearch_SERPS!K2244,\"\")","v":""},{"$f":"IFERROR(VLOOKUP(C2244,ShareOfSearch_CTR!$A$1:$B$100,2,FALSE)*VLOOKUP(A2244&B2244,ShareOfSearch_Volume!$C$1:$D$1000,2,FALSE),\"\")","v":""}]
[{"$f":"IF(ISTEXT(ShareOfSearch_SERPS!C2245),ShareOfSearch_SERPS!C2245,\"\")","v":""},{"$f":"IF(ISTEXT(ShareOfSearch_SERPS!D2245),ShareOfSearch_SERPS!D2245,\"\")","v":""},{"$f":"IF(NOT(ISBLANK(ShareOfSearch_SERPS!A2245)),ShareOfSearch_SERPS!A2245,\"\")","v":""},{"$f":"IF(NOT(ISBLANK(ShareOfSearch_SERPS!G2245)),ShareOfSearch_SERPS!G2245,\"\")","v":""},{"$f":"IF(NOT(ISBLANK(ShareOfSearch_SERPS!K2245)),ShareOfSearch_SERPS!K2245,\"\")","v":""},{"$f":"IFERROR(VLOOKUP(C2245,ShareOfSearch_CTR!$A$1:$B$100,2,FALSE)*VLOOKUP(A2245&B2245,ShareOfSearch_Volume!$C$1:$D$1000,2,FALSE),\"\")","v":""}]
[{"$f":"IF(ISTEXT(ShareOfSearch_SERPS!C2246),ShareOfSearch_SERPS!C2246,\"\")","v":""},{"$f":"IF(ISTEXT(ShareOfSearch_SERPS!D2246),ShareOfSearch_SERPS!D2246,\"\")","v":""},{"$f":"IF(NOT(ISBLANK(ShareOfSearch_SERPS!A2246)),ShareOfSearch_SERPS!A2246,\"\")","v":""},{"$f":"IF(NOT(ISBLANK(ShareOfSearch_SERPS!G2246)),ShareOfSearch_SERPS!G2246,\"\")","v":""},{"$f":"IF(NOT(ISBLANK(ShareOfSearch_SERPS!K2246)),ShareOfSearch_SERPS!K2246,\"\")","v":""},{"$f":"IFERROR(VLOOKUP(C2246,ShareOfSearch_CTR!$A$1:$B$100,2,FALSE)*VLOOKUP(A2246&B2246,ShareOfSearch_Volume!$C$1:$D$1000,2,FALSE),\"\")","v":""}]
[{"$f":"IF(ISTEXT(ShareOfSearch_SERPS!C2247),ShareOfSearch_SERPS!C2247,\"\")","v":""},{"$f":"IF(ISTEXT(ShareOfSearch_SERPS!D2247),ShareOfSearch_SERPS!D2247,\"\")","v":""},{"$f":"IF(NOT(ISBLANK(ShareOfSearch_SERPS!A2247)),ShareOfSearch_SERPS!A2247,\"\")","v":""},{"$f":"IF(NOT(ISBLANK(ShareOfSearch_SERPS!G2247)),ShareOfSearch_SERPS!G2247,\"\")","v":""},{"$f":"IF(NOT(ISBLANK(ShareOfSearch_SERPS!K2247)),ShareOfSearch_SERPS!K2247,\"\")","v":""},{"$f":"IFERROR(VLOOKUP(C2247,ShareOfSearch_CTR!$A$1:$B$100,2,FALSE)*VLOOKUP(A2247&B2247,ShareOfSearch_Volume!$C$1:$D$1000,2,FALSE),\"\")","v":""}]
[{"$f":"IF(ISTEXT(ShareOfSearch_SERPS!C2248),ShareOfSearch_SERPS!C2248,\"\")","v":""},{"$f":"IF(ISTEXT(ShareOfSearch_SERPS!D2248),ShareOfSearch_SERPS!D2248,\"\")","v":""},{"$f":"IF(NOT(ISBLANK(ShareOfSearch_SERPS!A2248)),ShareOfSearch_SERPS!A2248,\"\")","v":""},{"$f":"IF(NOT(ISBLANK(ShareOfSearch_SERPS!G2248)),ShareOfSearch_SERPS!G2248,\"\")","v":""},{"$f":"IF(NOT(ISBLANK(ShareOfSearch_SERPS!K2248)),ShareOfSearch_SERPS!K2248,\"\")","v":""},{"$f":"IFERROR(VLOOKUP(C2248,ShareOfSearch_CTR!$A$1:$B$100,2,FALSE)*VLOOKUP(A2248&B2248,ShareOfSearch_Volume!$C$1:$D$1000,2,FALSE),\"\")","v":""}]
[{"$f":"IF(ISTEXT(ShareOfSearch_SERPS!C2249),ShareOfSearch_SERPS!C2249,\"\")","v":""},{"$f":"IF(ISTEXT(ShareOfSearch_SERPS!D2249),ShareOfSearch_SERPS!D2249,\"\")","v":""},{"$f":"IF(NOT(ISBLANK(ShareOfSearch_SERPS!A2249)),ShareOfSearch_SERPS!A2249,\"\")","v":""},{"$f":"IF(NOT(ISBLANK(ShareOfSearch_SERPS!G2249)),ShareOfSearch_SERPS!G2249,\"\")","v":""},{"$f":"IF(NOT(ISBLANK(ShareOfSearch_SERPS!K2249)),ShareOfSearch_SERPS!K2249,\"\")","v":""},{"$f":"IFERROR(VLOOKUP(C2249,ShareOfSearch_CTR!$A$1:$B$100,2,FALSE)*VLOOKUP(A2249&B2249,ShareOfSearch_Volume!$C$1:$D$1000,2,FALSE),\"\")","v":""}]
[{"$f":"IF(ISTEXT(ShareOfSearch_SERPS!C2250),ShareOfSearch_SERPS!C2250,\"\")","v":""},{"$f":"IF(ISTEXT(ShareOfSearch_SERPS!D2250),ShareOfSearch_SERPS!D2250,\"\")","v":""},{"$f":"IF(NOT(ISBLANK(ShareOfSearch_SERPS!A2250)),ShareOfSearch_SERPS!A2250,\"\")","v":""},{"$f":"IF(NOT(ISBLANK(ShareOfSearch_SERPS!G2250)),ShareOfSearch_SERPS!G2250,\"\")","v":""},{"$f":"IF(NOT(ISBLANK(ShareOfSearch_SERPS!K2250)),ShareOfSearch_SERPS!K2250,\"\")","v":""},{"$f":"IFERROR(VLOOKUP(C2250,ShareOfSearch_CTR!$A$1:$B$100,2,FALSE)*VLOOKUP(A2250&B2250,ShareOfSearch_Volume!$C$1:$D$1000,2,FALSE),\"\")","v":""}]
[{"$f":"IF(ISTEXT(ShareOfSearch_SERPS!C2251),ShareOfSearch_SERPS!C2251,\"\")","v":""},{"$f":"IF(ISTEXT(ShareOfSearch_SERPS!D2251),ShareOfSearch_SERPS!D2251,\"\")","v":""},{"$f":"IF(NOT(ISBLANK(ShareOfSearch_SERPS!A2251)),ShareOfSearch_SERPS!A2251,\"\")","v":""},{"$f":"IF(NOT(ISBLANK(ShareOfSearch_SERPS!G2251)),ShareOfSearch_SERPS!G2251,\"\")","v":""},{"$f":"IF(NOT(ISBLANK(ShareOfSearch_SERPS!K2251)),ShareOfSearch_SERPS!K2251,\"\")","v":""},{"$f":"IFERROR(VLOOKUP(C2251,ShareOfSearch_CTR!$A$1:$B$100,2,FALSE)*VLOOKUP(A2251&B2251,ShareOfSearch_Volume!$C$1:$D$1000,2,FALSE),\"\")","v":""}]
[{"$f":"IF(ISTEXT(ShareOfSearch_SERPS!C2252),ShareOfSearch_SERPS!C2252,\"\")","v":""},{"$f":"IF(ISTEXT(ShareOfSearch_SERPS!D2252),ShareOfSearch_SERPS!D2252,\"\")","v":""},{"$f":"IF(NOT(ISBLANK(ShareOfSearch_SERPS!A2252)),ShareOfSearch_SERPS!A2252,\"\")","v":""},{"$f":"IF(NOT(ISBLANK(ShareOfSearch_SERPS!G2252)),ShareOfSearch_SERPS!G2252,\"\")","v":""},{"$f":"IF(NOT(ISBLANK(ShareOfSearch_SERPS!K2252)),ShareOfSearch_SERPS!K2252,\"\")","v":""},{"$f":"IFERROR(VLOOKUP(C2252,ShareOfSearch_CTR!$A$1:$B$100,2,FALSE)*VLOOKUP(A2252&B2252,ShareOfSearch_Volume!$C$1:$D$1000,2,FALSE),\"\")","v":""}]
[{"$f":"IF(ISTEXT(ShareOfSearch_SERPS!C2253),ShareOfSearch_SERPS!C2253,\"\")","v":""},{"$f":"IF(ISTEXT(ShareOfSearch_SERPS!D2253),ShareOfSearch_SERPS!D2253,\"\")","v":""},{"$f":"IF(NOT(ISBLANK(ShareOfSearch_SERPS!A2253)),ShareOfSearch_SERPS!A2253,\"\")","v":""},{"$f":"IF(NOT(ISBLANK(ShareOfSearch_SERPS!G2253)),ShareOfSearch_SERPS!G2253,\"\")","v":""},{"$f":"IF(NOT(ISBLANK(ShareOfSearch_SERPS!K2253)),ShareOfSearch_SERPS!K2253,\"\")","v":""},{"$f":"IFERROR(VLOOKUP(C2253,ShareOfSearch_CTR!$A$1:$B$100,2,FALSE)*VLOOKUP(A2253&B2253,ShareOfSearch_Volume!$C$1:$D$1000,2,FALSE),\"\")","v":""}]
[{"$f":"IF(ISTEXT(ShareOfSearch_SERPS!C2254),ShareOfSearch_SERPS!C2254,\"\")","v":""},{"$f":"IF(ISTEXT(ShareOfSearch_SERPS!D2254),ShareOfSearch_SERPS!D2254,\"\")","v":""},{"$f":"IF(NOT(ISBLANK(ShareOfSearch_SERPS!A2254)),ShareOfSearch_SERPS!A2254,\"\")","v":""},{"$f":"IF(NOT(ISBLANK(ShareOfSearch_SERPS!G2254)),ShareOfSearch_SERPS!G2254,\"\")","v":""},{"$f":"IF(NOT(ISBLANK(ShareOfSearch_SERPS!K2254)),ShareOfSearch_SERPS!K2254,\"\")","v":""},{"$f":"IFERROR(VLOOKUP(C2254,ShareOfSearch_CTR!$A$1:$B$100,2,FALSE)*VLOOKUP(A2254&B2254,ShareOfSearch_Volume!$C$1:$D$1000,2,FALSE),\"\")","v":""}]
[{"$f":"IF(ISTEXT(ShareOfSearch_SERPS!C2255),ShareOfSearch_SERPS!C2255,\"\")","v":""},{"$f":"IF(ISTEXT(ShareOfSearch_SERPS!D2255),ShareOfSearch_SERPS!D2255,\"\")","v":""},{"$f":"IF(NOT(ISBLANK(ShareOfSearch_SERPS!A2255)),ShareOfSearch_SERPS!A2255,\"\")","v":""},{"$f":"IF(NOT(ISBLANK(ShareOfSearch_SERPS!G2255)),ShareOfSearch_SERPS!G2255,\"\")","v":""},{"$f":"IF(NOT(ISBLANK(ShareOfSearch_SERPS!K2255)),ShareOfSearch_SERPS!K2255,\"\")","v":""},{"$f":"IFERROR(VLOOKUP(C2255,ShareOfSearch_CTR!$A$1:$B$100,2,FALSE)*VLOOKUP(A2255&B2255,ShareOfSearch_Volume!$C$1:$D$1000,2,FALSE),\"\")","v":""}]
[{"$f":"IF(ISTEXT(ShareOfSearch_SERPS!C2256),ShareOfSearch_SERPS!C2256,\"\")","v":""},{"$f":"IF(ISTEXT(ShareOfSearch_SERPS!D2256),ShareOfSearch_SERPS!D2256,\"\")","v":""},{"$f":"IF(NOT(ISBLANK(ShareOfSearch_SERPS!A2256)),ShareOfSearch_SERPS!A2256,\"\")","v":""},{"$f":"IF(NOT(ISBLANK(ShareOfSearch_SERPS!G2256)),ShareOfSearch_SERPS!G2256,\"\")","v":""},{"$f":"IF(NOT(ISBLANK(ShareOfSearch_SERPS!K2256)),ShareOfSearch_SERPS!K2256,\"\")","v":""},{"$f":"IFERROR(VLOOKUP(C2256,ShareOfSearch_CTR!$A$1:$B$100,2,FALSE)*VLOOKUP(A2256&B2256,ShareOfSearch_Volume!$C$1:$D$1000,2,FALSE),\"\")","v":""}]
[{"$f":"IF(ISTEXT(ShareOfSearch_SERPS!C2257),ShareOfSearch_SERPS!C2257,\"\")","v":""},{"$f":"IF(ISTEXT(ShareOfSearch_SERPS!D2257),ShareOfSearch_SERPS!D2257,\"\")","v":""},{"$f":"IF(NOT(ISBLANK(ShareOfSearch_SERPS!A2257)),ShareOfSearch_SERPS!A2257,\"\")","v":""},{"$f":"IF(NOT(ISBLANK(ShareOfSearch_SERPS!G2257)),ShareOfSearch_SERPS!G2257,\"\")","v":""},{"$f":"IF(NOT(ISBLANK(ShareOfSearch_SERPS!K2257)),ShareOfSearch_SERPS!K2257,\"\")","v":""},{"$f":"IFERROR(VLOOKUP(C2257,ShareOfSearch_CTR!$A$1:$B$100,2,FALSE)*VLOOKUP(A2257&B2257,ShareOfSearch_Volume!$C$1:$D$1000,2,FALSE),\"\")","v":""}]
[{"$f":"IF(ISTEXT(ShareOfSearch_SERPS!C2258),ShareOfSearch_SERPS!C2258,\"\")","v":""},{"$f":"IF(ISTEXT(ShareOfSearch_SERPS!D2258),ShareOfSearch_SERPS!D2258,\"\")","v":""},{"$f":"IF(NOT(ISBLANK(ShareOfSearch_SERPS!A2258)),ShareOfSearch_SERPS!A2258,\"\")","v":""},{"$f":"IF(NOT(ISBLANK(ShareOfSearch_SERPS!G2258)),ShareOfSearch_SERPS!G2258,\"\")","v":""},{"$f":"IF(NOT(ISBLANK(ShareOfSearch_SERPS!K2258)),ShareOfSearch_SERPS!K2258,\"\")","v":""},{"$f":"IFERROR(VLOOKUP(C2258,ShareOfSearch_CTR!$A$1:$B$100,2,FALSE)*VLOOKUP(A2258&B2258,ShareOfSearch_Volume!$C$1:$D$1000,2,FALSE),\"\")","v":""}]
[{"$f":"IF(ISTEXT(ShareOfSearch_SERPS!C2259),ShareOfSearch_SERPS!C2259,\"\")","v":""},{"$f":"IF(ISTEXT(ShareOfSearch_SERPS!D2259),ShareOfSearch_SERPS!D2259,\"\")","v":""},{"$f":"IF(NOT(ISBLANK(ShareOfSearch_SERPS!A2259)),ShareOfSearch_SERPS!A2259,\"\")","v":""},{"$f":"IF(NOT(ISBLANK(ShareOfSearch_SERPS!G2259)),ShareOfSearch_SERPS!G2259,\"\")","v":""},{"$f":"IF(NOT(ISBLANK(ShareOfSearch_SERPS!K2259)),ShareOfSearch_SERPS!K2259,\"\")","v":""},{"$f":"IFERROR(VLOOKUP(C2259,ShareOfSearch_CTR!$A$1:$B$100,2,FALSE)*VLOOKUP(A2259&B2259,ShareOfSearch_Volume!$C$1:$D$1000,2,FALSE),\"\")","v":""}]
[{"$f":"IF(ISTEXT(ShareOfSearch_SERPS!C2260),ShareOfSearch_SERPS!C2260,\"\")","v":""},{"$f":"IF(ISTEXT(ShareOfSearch_SERPS!D2260),ShareOfSearch_SERPS!D2260,\"\")","v":""},{"$f":"IF(NOT(ISBLANK(ShareOfSearch_SERPS!A2260)),ShareOfSearch_SERPS!A2260,\"\")","v":""},{"$f":"IF(NOT(ISBLANK(ShareOfSearch_SERPS!G2260)),ShareOfSearch_SERPS!G2260,\"\")","v":""},{"$f":"IF(NOT(ISBLANK(ShareOfSearch_SERPS!K2260)),ShareOfSearch_SERPS!K2260,\"\")","v":""},{"$f":"IFERROR(VLOOKUP(C2260,ShareOfSearch_CTR!$A$1:$B$100,2,FALSE)*VLOOKUP(A2260&B2260,ShareOfSearch_Volume!$C$1:$D$1000,2,FALSE),\"\")","v":""}]
[{"$f":"IF(ISTEXT(ShareOfSearch_SERPS!C2261),ShareOfSearch_SERPS!C2261,\"\")","v":""},{"$f":"IF(ISTEXT(ShareOfSearch_SERPS!D2261),ShareOfSearch_SERPS!D2261,\"\")","v":""},{"$f":"IF(NOT(ISBLANK(ShareOfSearch_SERPS!A2261)),ShareOfSearch_SERPS!A2261,\"\")","v":""},{"$f":"IF(NOT(ISBLANK(ShareOfSearch_SERPS!G2261)),ShareOfSearch_SERPS!G2261,\"\")","v":""},{"$f":"IF(NOT(ISBLANK(ShareOfSearch_SERPS!K2261)),ShareOfSearch_SERPS!K2261,\"\")","v":""},{"$f":"IFERROR(VLOOKUP(C2261,ShareOfSearch_CTR!$A$1:$B$100,2,FALSE)*VLOOKUP(A2261&B2261,ShareOfSearch_Volume!$C$1:$D$1000,2,FALSE),\"\")","v":""}]
[{"$f":"IF(ISTEXT(ShareOfSearch_SERPS!C2262),ShareOfSearch_SERPS!C2262,\"\")","v":""},{"$f":"IF(ISTEXT(ShareOfSearch_SERPS!D2262),ShareOfSearch_SERPS!D2262,\"\")","v":""},{"$f":"IF(NOT(ISBLANK(ShareOfSearch_SERPS!A2262)),ShareOfSearch_SERPS!A2262,\"\")","v":""},{"$f":"IF(NOT(ISBLANK(ShareOfSearch_SERPS!G2262)),ShareOfSearch_SERPS!G2262,\"\")","v":""},{"$f":"IF(NOT(ISBLANK(ShareOfSearch_SERPS!K2262)),ShareOfSearch_SERPS!K2262,\"\")","v":""},{"$f":"IFERROR(VLOOKUP(C2262,ShareOfSearch_CTR!$A$1:$B$100,2,FALSE)*VLOOKUP(A2262&B2262,ShareOfSearch_Volume!$C$1:$D$1000,2,FALSE),\"\")","v":""}]
[{"$f":"IF(ISTEXT(ShareOfSearch_SERPS!C2263),ShareOfSearch_SERPS!C2263,\"\")","v":""},{"$f":"IF(ISTEXT(ShareOfSearch_SERPS!D2263),ShareOfSearch_SERPS!D2263,\"\")","v":""},{"$f":"IF(NOT(ISBLANK(ShareOfSearch_SERPS!A2263)),ShareOfSearch_SERPS!A2263,\"\")","v":""},{"$f":"IF(NOT(ISBLANK(ShareOfSearch_SERPS!G2263)),ShareOfSearch_SERPS!G2263,\"\")","v":""},{"$f":"IF(NOT(ISBLANK(ShareOfSearch_SERPS!K2263)),ShareOfSearch_SERPS!K2263,\"\")","v":""},{"$f":"IFERROR(VLOOKUP(C2263,ShareOfSearch_CTR!$A$1:$B$100,2,FALSE)*VLOOKUP(A2263&B2263,ShareOfSearch_Volume!$C$1:$D$1000,2,FALSE),\"\")","v":""}]
[{"$f":"IF(ISTEXT(ShareOfSearch_SERPS!C2264),ShareOfSearch_SERPS!C2264,\"\")","v":""},{"$f":"IF(ISTEXT(ShareOfSearch_SERPS!D2264),ShareOfSearch_SERPS!D2264,\"\")","v":""},{"$f":"IF(NOT(ISBLANK(ShareOfSearch_SERPS!A2264)),ShareOfSearch_SERPS!A2264,\"\")","v":""},{"$f":"IF(NOT(ISBLANK(ShareOfSearch_SERPS!G2264)),ShareOfSearch_SERPS!G2264,\"\")","v":""},{"$f":"IF(NOT(ISBLANK(ShareOfSearch_SERPS!K2264)),ShareOfSearch_SERPS!K2264,\"\")","v":""},{"$f":"IFERROR(VLOOKUP(C2264,ShareOfSearch_CTR!$A$1:$B$100,2,FALSE)*VLOOKUP(A2264&B2264,ShareOfSearch_Volume!$C$1:$D$1000,2,FALSE),\"\")","v":""}]
[{"$f":"IF(ISTEXT(ShareOfSearch_SERPS!C2265),ShareOfSearch_SERPS!C2265,\"\")","v":""},{"$f":"IF(ISTEXT(ShareOfSearch_SERPS!D2265),ShareOfSearch_SERPS!D2265,\"\")","v":""},{"$f":"IF(NOT(ISBLANK(ShareOfSearch_SERPS!A2265)),ShareOfSearch_SERPS!A2265,\"\")","v":""},{"$f":"IF(NOT(ISBLANK(ShareOfSearch_SERPS!G2265)),ShareOfSearch_SERPS!G2265,\"\")","v":""},{"$f":"IF(NOT(ISBLANK(ShareOfSearch_SERPS!K2265)),ShareOfSearch_SERPS!K2265,\"\")","v":""},{"$f":"IFERROR(VLOOKUP(C2265,ShareOfSearch_CTR!$A$1:$B$100,2,FALSE)*VLOOKUP(A2265&B2265,ShareOfSearch_Volume!$C$1:$D$1000,2,FALSE),\"\")","v":""}]
[{"$f":"IF(ISTEXT(ShareOfSearch_SERPS!C2266),ShareOfSearch_SERPS!C2266,\"\")","v":""},{"$f":"IF(ISTEXT(ShareOfSearch_SERPS!D2266),ShareOfSearch_SERPS!D2266,\"\")","v":""},{"$f":"IF(NOT(ISBLANK(ShareOfSearch_SERPS!A2266)),ShareOfSearch_SERPS!A2266,\"\")","v":""},{"$f":"IF(NOT(ISBLANK(ShareOfSearch_SERPS!G2266)),ShareOfSearch_SERPS!G2266,\"\")","v":""},{"$f":"IF(NOT(ISBLANK(ShareOfSearch_SERPS!K2266)),ShareOfSearch_SERPS!K2266,\"\")","v":""},{"$f":"IFERROR(VLOOKUP(C2266,ShareOfSearch_CTR!$A$1:$B$100,2,FALSE)*VLOOKUP(A2266&B2266,ShareOfSearch_Volume!$C$1:$D$1000,2,FALSE),\"\")","v":""}]
[{"$f":"IF(ISTEXT(ShareOfSearch_SERPS!C2267),ShareOfSearch_SERPS!C2267,\"\")","v":""},{"$f":"IF(ISTEXT(ShareOfSearch_SERPS!D2267),ShareOfSearch_SERPS!D2267,\"\")","v":""},{"$f":"IF(NOT(ISBLANK(ShareOfSearch_SERPS!A2267)),ShareOfSearch_SERPS!A2267,\"\")","v":""},{"$f":"IF(NOT(ISBLANK(ShareOfSearch_SERPS!G2267)),ShareOfSearch_SERPS!G2267,\"\")","v":""},{"$f":"IF(NOT(ISBLANK(ShareOfSearch_SERPS!K2267)),ShareOfSearch_SERPS!K2267,\"\")","v":""},{"$f":"IFERROR(VLOOKUP(C2267,ShareOfSearch_CTR!$A$1:$B$100,2,FALSE)*VLOOKUP(A2267&B2267,ShareOfSearch_Volume!$C$1:$D$1000,2,FALSE),\"\")","v":""}]
[{"$f":"IF(ISTEXT(ShareOfSearch_SERPS!C2268),ShareOfSearch_SERPS!C2268,\"\")","v":""},{"$f":"IF(ISTEXT(ShareOfSearch_SERPS!D2268),ShareOfSearch_SERPS!D2268,\"\")","v":""},{"$f":"IF(NOT(ISBLANK(ShareOfSearch_SERPS!A2268)),ShareOfSearch_SERPS!A2268,\"\")","v":""},{"$f":"IF(NOT(ISBLANK(ShareOfSearch_SERPS!G2268)),ShareOfSearch_SERPS!G2268,\"\")","v":""},{"$f":"IF(NOT(ISBLANK(ShareOfSearch_SERPS!K2268)),ShareOfSearch_SERPS!K2268,\"\")","v":""},{"$f":"IFERROR(VLOOKUP(C2268,ShareOfSearch_CTR!$A$1:$B$100,2,FALSE)*VLOOKUP(A2268&B2268,ShareOfSearch_Volume!$C$1:$D$1000,2,FALSE),\"\")","v":""}]
[{"$f":"IF(ISTEXT(ShareOfSearch_SERPS!C2269),ShareOfSearch_SERPS!C2269,\"\")","v":""},{"$f":"IF(ISTEXT(ShareOfSearch_SERPS!D2269),ShareOfSearch_SERPS!D2269,\"\")","v":""},{"$f":"IF(NOT(ISBLANK(ShareOfSearch_SERPS!A2269)),ShareOfSearch_SERPS!A2269,\"\")","v":""},{"$f":"IF(NOT(ISBLANK(ShareOfSearch_SERPS!G2269)),ShareOfSearch_SERPS!G2269,\"\")","v":""},{"$f":"IF(NOT(ISBLANK(ShareOfSearch_SERPS!K2269)),ShareOfSearch_SERPS!K2269,\"\")","v":""},{"$f":"IFERROR(VLOOKUP(C2269,ShareOfSearch_CTR!$A$1:$B$100,2,FALSE)*VLOOKUP(A2269&B2269,ShareOfSearch_Volume!$C$1:$D$1000,2,FALSE),\"\")","v":""}]
[{"$f":"IF(ISTEXT(ShareOfSearch_SERPS!C2270),ShareOfSearch_SERPS!C2270,\"\")","v":""},{"$f":"IF(ISTEXT(ShareOfSearch_SERPS!D2270),ShareOfSearch_SERPS!D2270,\"\")","v":""},{"$f":"IF(NOT(ISBLANK(ShareOfSearch_SERPS!A2270)),ShareOfSearch_SERPS!A2270,\"\")","v":""},{"$f":"IF(NOT(ISBLANK(ShareOfSearch_SERPS!G2270)),ShareOfSearch_SERPS!G2270,\"\")","v":""},{"$f":"IF(NOT(ISBLANK(ShareOfSearch_SERPS!K2270)),ShareOfSearch_SERPS!K2270,\"\")","v":""},{"$f":"IFERROR(VLOOKUP(C2270,ShareOfSearch_CTR!$A$1:$B$100,2,FALSE)*VLOOKUP(A2270&B2270,ShareOfSearch_Volume!$C$1:$D$1000,2,FALSE),\"\")","v":""}]
[{"$f":"IF(ISTEXT(ShareOfSearch_SERPS!C2271),ShareOfSearch_SERPS!C2271,\"\")","v":""},{"$f":"IF(ISTEXT(ShareOfSearch_SERPS!D2271),ShareOfSearch_SERPS!D2271,\"\")","v":""},{"$f":"IF(NOT(ISBLANK(ShareOfSearch_SERPS!A2271)),ShareOfSearch_SERPS!A2271,\"\")","v":""},{"$f":"IF(NOT(ISBLANK(ShareOfSearch_SERPS!G2271)),ShareOfSearch_SERPS!G2271,\"\")","v":""},{"$f":"IF(NOT(ISBLANK(ShareOfSearch_SERPS!K2271)),ShareOfSearch_SERPS!K2271,\"\")","v":""},{"$f":"IFERROR(VLOOKUP(C2271,ShareOfSearch_CTR!$A$1:$B$100,2,FALSE)*VLOOKUP(A2271&B2271,ShareOfSearch_Volume!$C$1:$D$1000,2,FALSE),\"\")","v":""}]
[{"$f":"IF(ISTEXT(ShareOfSearch_SERPS!C2272),ShareOfSearch_SERPS!C2272,\"\")","v":""},{"$f":"IF(ISTEXT(ShareOfSearch_SERPS!D2272),ShareOfSearch_SERPS!D2272,\"\")","v":""},{"$f":"IF(NOT(ISBLANK(ShareOfSearch_SERPS!A2272)),ShareOfSearch_SERPS!A2272,\"\")","v":""},{"$f":"IF(NOT(ISBLANK(ShareOfSearch_SERPS!G2272)),ShareOfSearch_SERPS!G2272,\"\")","v":""},{"$f":"IF(NOT(ISBLANK(ShareOfSearch_SERPS!K2272)),ShareOfSearch_SERPS!K2272,\"\")","v":""},{"$f":"IFERROR(VLOOKUP(C2272,ShareOfSearch_CTR!$A$1:$B$100,2,FALSE)*VLOOKUP(A2272&B2272,ShareOfSearch_Volume!$C$1:$D$1000,2,FALSE),\"\")","v":""}]
[{"$f":"IF(ISTEXT(ShareOfSearch_SERPS!C2273),ShareOfSearch_SERPS!C2273,\"\")","v":""},{"$f":"IF(ISTEXT(ShareOfSearch_SERPS!D2273),ShareOfSearch_SERPS!D2273,\"\")","v":""},{"$f":"IF(NOT(ISBLANK(ShareOfSearch_SERPS!A2273)),ShareOfSearch_SERPS!A2273,\"\")","v":""},{"$f":"IF(NOT(ISBLANK(ShareOfSearch_SERPS!G2273)),ShareOfSearch_SERPS!G2273,\"\")","v":""},{"$f":"IF(NOT(ISBLANK(ShareOfSearch_SERPS!K2273)),ShareOfSearch_SERPS!K2273,\"\")","v":""},{"$f":"IFERROR(VLOOKUP(C2273,ShareOfSearch_CTR!$A$1:$B$100,2,FALSE)*VLOOKUP(A2273&B2273,ShareOfSearch_Volume!$C$1:$D$1000,2,FALSE),\"\")","v":""}]
[{"$f":"IF(ISTEXT(ShareOfSearch_SERPS!C2274),ShareOfSearch_SERPS!C2274,\"\")","v":""},{"$f":"IF(ISTEXT(ShareOfSearch_SERPS!D2274),ShareOfSearch_SERPS!D2274,\"\")","v":""},{"$f":"IF(NOT(ISBLANK(ShareOfSearch_SERPS!A2274)),ShareOfSearch_SERPS!A2274,\"\")","v":""},{"$f":"IF(NOT(ISBLANK(ShareOfSearch_SERPS!G2274)),ShareOfSearch_SERPS!G2274,\"\")","v":""},{"$f":"IF(NOT(ISBLANK(ShareOfSearch_SERPS!K2274)),ShareOfSearch_SERPS!K2274,\"\")","v":""},{"$f":"IFERROR(VLOOKUP(C2274,ShareOfSearch_CTR!$A$1:$B$100,2,FALSE)*VLOOKUP(A2274&B2274,ShareOfSearch_Volume!$C$1:$D$1000,2,FALSE),\"\")","v":""}]
[{"$f":"IF(ISTEXT(ShareOfSearch_SERPS!C2275),ShareOfSearch_SERPS!C2275,\"\")","v":""},{"$f":"IF(ISTEXT(ShareOfSearch_SERPS!D2275),ShareOfSearch_SERPS!D2275,\"\")","v":""},{"$f":"IF(NOT(ISBLANK(ShareOfSearch_SERPS!A2275)),ShareOfSearch_SERPS!A2275,\"\")","v":""},{"$f":"IF(NOT(ISBLANK(ShareOfSearch_SERPS!G2275)),ShareOfSearch_SERPS!G2275,\"\")","v":""},{"$f":"IF(NOT(ISBLANK(ShareOfSearch_SERPS!K2275)),ShareOfSearch_SERPS!K2275,\"\")","v":""},{"$f":"IFERROR(VLOOKUP(C2275,ShareOfSearch_CTR!$A$1:$B$100,2,FALSE)*VLOOKUP(A2275&B2275,ShareOfSearch_Volume!$C$1:$D$1000,2,FALSE),\"\")","v":""}]
[{"$f":"IF(ISTEXT(ShareOfSearch_SERPS!C2276),ShareOfSearch_SERPS!C2276,\"\")","v":""},{"$f":"IF(ISTEXT(ShareOfSearch_SERPS!D2276),ShareOfSearch_SERPS!D2276,\"\")","v":""},{"$f":"IF(NOT(ISBLANK(ShareOfSearch_SERPS!A2276)),ShareOfSearch_SERPS!A2276,\"\")","v":""},{"$f":"IF(NOT(ISBLANK(ShareOfSearch_SERPS!G2276)),ShareOfSearch_SERPS!G2276,\"\")","v":""},{"$f":"IF(NOT(ISBLANK(ShareOfSearch_SERPS!K2276)),ShareOfSearch_SERPS!K2276,\"\")","v":""},{"$f":"IFERROR(VLOOKUP(C2276,ShareOfSearch_CTR!$A$1:$B$100,2,FALSE)*VLOOKUP(A2276&B2276,ShareOfSearch_Volume!$C$1:$D$1000,2,FALSE),\"\")","v":""}]
[{"$f":"IF(ISTEXT(ShareOfSearch_SERPS!C2277),ShareOfSearch_SERPS!C2277,\"\")","v":""},{"$f":"IF(ISTEXT(ShareOfSearch_SERPS!D2277),ShareOfSearch_SERPS!D2277,\"\")","v":""},{"$f":"IF(NOT(ISBLANK(ShareOfSearch_SERPS!A2277)),ShareOfSearch_SERPS!A2277,\"\")","v":""},{"$f":"IF(NOT(ISBLANK(ShareOfSearch_SERPS!G2277)),ShareOfSearch_SERPS!G2277,\"\")","v":""},{"$f":"IF(NOT(ISBLANK(ShareOfSearch_SERPS!K2277)),ShareOfSearch_SERPS!K2277,\"\")","v":""},{"$f":"IFERROR(VLOOKUP(C2277,ShareOfSearch_CTR!$A$1:$B$100,2,FALSE)*VLOOKUP(A2277&B2277,ShareOfSearch_Volume!$C$1:$D$1000,2,FALSE),\"\")","v":""}]
[{"$f":"IF(ISTEXT(ShareOfSearch_SERPS!C2278),ShareOfSearch_SERPS!C2278,\"\")","v":""},{"$f":"IF(ISTEXT(ShareOfSearch_SERPS!D2278),ShareOfSearch_SERPS!D2278,\"\")","v":""},{"$f":"IF(NOT(ISBLANK(ShareOfSearch_SERPS!A2278)),ShareOfSearch_SERPS!A2278,\"\")","v":""},{"$f":"IF(NOT(ISBLANK(ShareOfSearch_SERPS!G2278)),ShareOfSearch_SERPS!G2278,\"\")","v":""},{"$f":"IF(NOT(ISBLANK(ShareOfSearch_SERPS!K2278)),ShareOfSearch_SERPS!K2278,\"\")","v":""},{"$f":"IFERROR(VLOOKUP(C2278,ShareOfSearch_CTR!$A$1:$B$100,2,FALSE)*VLOOKUP(A2278&B2278,ShareOfSearch_Volume!$C$1:$D$1000,2,FALSE),\"\")","v":""}]
[{"$f":"IF(ISTEXT(ShareOfSearch_SERPS!C2279),ShareOfSearch_SERPS!C2279,\"\")","v":""},{"$f":"IF(ISTEXT(ShareOfSearch_SERPS!D2279),ShareOfSearch_SERPS!D2279,\"\")","v":""},{"$f":"IF(NOT(ISBLANK(ShareOfSearch_SERPS!A2279)),ShareOfSearch_SERPS!A2279,\"\")","v":""},{"$f":"IF(NOT(ISBLANK(ShareOfSearch_SERPS!G2279)),ShareOfSearch_SERPS!G2279,\"\")","v":""},{"$f":"IF(NOT(ISBLANK(ShareOfSearch_SERPS!K2279)),ShareOfSearch_SERPS!K2279,\"\")","v":""},{"$f":"IFERROR(VLOOKUP(C2279,ShareOfSearch_CTR!$A$1:$B$100,2,FALSE)*VLOOKUP(A2279&B2279,ShareOfSearch_Volume!$C$1:$D$1000,2,FALSE),\"\")","v":""}]
[{"$f":"IF(ISTEXT(ShareOfSearch_SERPS!C2280),ShareOfSearch_SERPS!C2280,\"\")","v":""},{"$f":"IF(ISTEXT(ShareOfSearch_SERPS!D2280),ShareOfSearch_SERPS!D2280,\"\")","v":""},{"$f":"IF(NOT(ISBLANK(ShareOfSearch_SERPS!A2280)),ShareOfSearch_SERPS!A2280,\"\")","v":""},{"$f":"IF(NOT(ISBLANK(ShareOfSearch_SERPS!G2280)),ShareOfSearch_SERPS!G2280,\"\")","v":""},{"$f":"IF(NOT(ISBLANK(ShareOfSearch_SERPS!K2280)),ShareOfSearch_SERPS!K2280,\"\")","v":""},{"$f":"IFERROR(VLOOKUP(C2280,ShareOfSearch_CTR!$A$1:$B$100,2,FALSE)*VLOOKUP(A2280&B2280,ShareOfSearch_Volume!$C$1:$D$1000,2,FALSE),\"\")","v":""}]
[{"$f":"IF(ISTEXT(ShareOfSearch_SERPS!C2281),ShareOfSearch_SERPS!C2281,\"\")","v":""},{"$f":"IF(ISTEXT(ShareOfSearch_SERPS!D2281),ShareOfSearch_SERPS!D2281,\"\")","v":""},{"$f":"IF(NOT(ISBLANK(ShareOfSearch_SERPS!A2281)),ShareOfSearch_SERPS!A2281,\"\")","v":""},{"$f":"IF(NOT(ISBLANK(ShareOfSearch_SERPS!G2281)),ShareOfSearch_SERPS!G2281,\"\")","v":""},{"$f":"IF(NOT(ISBLANK(ShareOfSearch_SERPS!K2281)),ShareOfSearch_SERPS!K2281,\"\")","v":""},{"$f":"IFERROR(VLOOKUP(C2281,ShareOfSearch_CTR!$A$1:$B$100,2,FALSE)*VLOOKUP(A2281&B2281,ShareOfSearch_Volume!$C$1:$D$1000,2,FALSE),\"\")","v":""}]
[{"$f":"IF(ISTEXT(ShareOfSearch_SERPS!C2282),ShareOfSearch_SERPS!C2282,\"\")","v":""},{"$f":"IF(ISTEXT(ShareOfSearch_SERPS!D2282),ShareOfSearch_SERPS!D2282,\"\")","v":""},{"$f":"IF(NOT(ISBLANK(ShareOfSearch_SERPS!A2282)),ShareOfSearch_SERPS!A2282,\"\")","v":""},{"$f":"IF(NOT(ISBLANK(ShareOfSearch_SERPS!G2282)),ShareOfSearch_SERPS!G2282,\"\")","v":""},{"$f":"IF(NOT(ISBLANK(ShareOfSearch_SERPS!K2282)),ShareOfSearch_SERPS!K2282,\"\")","v":""},{"$f":"IFERROR(VLOOKUP(C2282,ShareOfSearch_CTR!$A$1:$B$100,2,FALSE)*VLOOKUP(A2282&B2282,ShareOfSearch_Volume!$C$1:$D$1000,2,FALSE),\"\")","v":""}]
[{"$f":"IF(ISTEXT(ShareOfSearch_SERPS!C2283),ShareOfSearch_SERPS!C2283,\"\")","v":""},{"$f":"IF(ISTEXT(ShareOfSearch_SERPS!D2283),ShareOfSearch_SERPS!D2283,\"\")","v":""},{"$f":"IF(NOT(ISBLANK(ShareOfSearch_SERPS!A2283)),ShareOfSearch_SERPS!A2283,\"\")","v":""},{"$f":"IF(NOT(ISBLANK(ShareOfSearch_SERPS!G2283)),ShareOfSearch_SERPS!G2283,\"\")","v":""},{"$f":"IF(NOT(ISBLANK(ShareOfSearch_SERPS!K2283)),ShareOfSearch_SERPS!K2283,\"\")","v":""},{"$f":"IFERROR(VLOOKUP(C2283,ShareOfSearch_CTR!$A$1:$B$100,2,FALSE)*VLOOKUP(A2283&B2283,ShareOfSearch_Volume!$C$1:$D$1000,2,FALSE),\"\")","v":""}]
[{"$f":"IF(ISTEXT(ShareOfSearch_SERPS!C2284),ShareOfSearch_SERPS!C2284,\"\")","v":""},{"$f":"IF(ISTEXT(ShareOfSearch_SERPS!D2284),ShareOfSearch_SERPS!D2284,\"\")","v":""},{"$f":"IF(NOT(ISBLANK(ShareOfSearch_SERPS!A2284)),ShareOfSearch_SERPS!A2284,\"\")","v":""},{"$f":"IF(NOT(ISBLANK(ShareOfSearch_SERPS!G2284)),ShareOfSearch_SERPS!G2284,\"\")","v":""},{"$f":"IF(NOT(ISBLANK(ShareOfSearch_SERPS!K2284)),ShareOfSearch_SERPS!K2284,\"\")","v":""},{"$f":"IFERROR(VLOOKUP(C2284,ShareOfSearch_CTR!$A$1:$B$100,2,FALSE)*VLOOKUP(A2284&B2284,ShareOfSearch_Volume!$C$1:$D$1000,2,FALSE),\"\")","v":""}]
[{"$f":"IF(ISTEXT(ShareOfSearch_SERPS!C2285),ShareOfSearch_SERPS!C2285,\"\")","v":""},{"$f":"IF(ISTEXT(ShareOfSearch_SERPS!D2285),ShareOfSearch_SERPS!D2285,\"\")","v":""},{"$f":"IF(NOT(ISBLANK(ShareOfSearch_SERPS!A2285)),ShareOfSearch_SERPS!A2285,\"\")","v":""},{"$f":"IF(NOT(ISBLANK(ShareOfSearch_SERPS!G2285)),ShareOfSearch_SERPS!G2285,\"\")","v":""},{"$f":"IF(NOT(ISBLANK(ShareOfSearch_SERPS!K2285)),ShareOfSearch_SERPS!K2285,\"\")","v":""},{"$f":"IFERROR(VLOOKUP(C2285,ShareOfSearch_CTR!$A$1:$B$100,2,FALSE)*VLOOKUP(A2285&B2285,ShareOfSearch_Volume!$C$1:$D$1000,2,FALSE),\"\")","v":""}]
[{"$f":"IF(ISTEXT(ShareOfSearch_SERPS!C2286),ShareOfSearch_SERPS!C2286,\"\")","v":""},{"$f":"IF(ISTEXT(ShareOfSearch_SERPS!D2286),ShareOfSearch_SERPS!D2286,\"\")","v":""},{"$f":"IF(NOT(ISBLANK(ShareOfSearch_SERPS!A2286)),ShareOfSearch_SERPS!A2286,\"\")","v":""},{"$f":"IF(NOT(ISBLANK(ShareOfSearch_SERPS!G2286)),ShareOfSearch_SERPS!G2286,\"\")","v":""},{"$f":"IF(NOT(ISBLANK(ShareOfSearch_SERPS!K2286)),ShareOfSearch_SERPS!K2286,\"\")","v":""},{"$f":"IFERROR(VLOOKUP(C2286,ShareOfSearch_CTR!$A$1:$B$100,2,FALSE)*VLOOKUP(A2286&B2286,ShareOfSearch_Volume!$C$1:$D$1000,2,FALSE),\"\")","v":""}]
[{"$f":"IF(ISTEXT(ShareOfSearch_SERPS!C2287),ShareOfSearch_SERPS!C2287,\"\")","v":""},{"$f":"IF(ISTEXT(ShareOfSearch_SERPS!D2287),ShareOfSearch_SERPS!D2287,\"\")","v":""},{"$f":"IF(NOT(ISBLANK(ShareOfSearch_SERPS!A2287)),ShareOfSearch_SERPS!A2287,\"\")","v":""},{"$f":"IF(NOT(ISBLANK(ShareOfSearch_SERPS!G2287)),ShareOfSearch_SERPS!G2287,\"\")","v":""},{"$f":"IF(NOT(ISBLANK(ShareOfSearch_SERPS!K2287)),ShareOfSearch_SERPS!K2287,\"\")","v":""},{"$f":"IFERROR(VLOOKUP(C2287,ShareOfSearch_CTR!$A$1:$B$100,2,FALSE)*VLOOKUP(A2287&B2287,ShareOfSearch_Volume!$C$1:$D$1000,2,FALSE),\"\")","v":""}]
[{"$f":"IF(ISTEXT(ShareOfSearch_SERPS!C2288),ShareOfSearch_SERPS!C2288,\"\")","v":""},{"$f":"IF(ISTEXT(ShareOfSearch_SERPS!D2288),ShareOfSearch_SERPS!D2288,\"\")","v":""},{"$f":"IF(NOT(ISBLANK(ShareOfSearch_SERPS!A2288)),ShareOfSearch_SERPS!A2288,\"\")","v":""},{"$f":"IF(NOT(ISBLANK(ShareOfSearch_SERPS!G2288)),ShareOfSearch_SERPS!G2288,\"\")","v":""},{"$f":"IF(NOT(ISBLANK(ShareOfSearch_SERPS!K2288)),ShareOfSearch_SERPS!K2288,\"\")","v":""},{"$f":"IFERROR(VLOOKUP(C2288,ShareOfSearch_CTR!$A$1:$B$100,2,FALSE)*VLOOKUP(A2288&B2288,ShareOfSearch_Volume!$C$1:$D$1000,2,FALSE),\"\")","v":""}]
[{"$f":"IF(ISTEXT(ShareOfSearch_SERPS!C2289),ShareOfSearch_SERPS!C2289,\"\")","v":""},{"$f":"IF(ISTEXT(ShareOfSearch_SERPS!D2289),ShareOfSearch_SERPS!D2289,\"\")","v":""},{"$f":"IF(NOT(ISBLANK(ShareOfSearch_SERPS!A2289)),ShareOfSearch_SERPS!A2289,\"\")","v":""},{"$f":"IF(NOT(ISBLANK(ShareOfSearch_SERPS!G2289)),ShareOfSearch_SERPS!G2289,\"\")","v":""},{"$f":"IF(NOT(ISBLANK(ShareOfSearch_SERPS!K2289)),ShareOfSearch_SERPS!K2289,\"\")","v":""},{"$f":"IFERROR(VLOOKUP(C2289,ShareOfSearch_CTR!$A$1:$B$100,2,FALSE)*VLOOKUP(A2289&B2289,ShareOfSearch_Volume!$C$1:$D$1000,2,FALSE),\"\")","v":""}]
[{"$f":"IF(ISTEXT(ShareOfSearch_SERPS!C2290),ShareOfSearch_SERPS!C2290,\"\")","v":""},{"$f":"IF(ISTEXT(ShareOfSearch_SERPS!D2290),ShareOfSearch_SERPS!D2290,\"\")","v":""},{"$f":"IF(NOT(ISBLANK(ShareOfSearch_SERPS!A2290)),ShareOfSearch_SERPS!A2290,\"\")","v":""},{"$f":"IF(NOT(ISBLANK(ShareOfSearch_SERPS!G2290)),ShareOfSearch_SERPS!G2290,\"\")","v":""},{"$f":"IF(NOT(ISBLANK(ShareOfSearch_SERPS!K2290)),ShareOfSearch_SERPS!K2290,\"\")","v":""},{"$f":"IFERROR(VLOOKUP(C2290,ShareOfSearch_CTR!$A$1:$B$100,2,FALSE)*VLOOKUP(A2290&B2290,ShareOfSearch_Volume!$C$1:$D$1000,2,FALSE),\"\")","v":""}]
[{"$f":"IF(ISTEXT(ShareOfSearch_SERPS!C2291),ShareOfSearch_SERPS!C2291,\"\")","v":""},{"$f":"IF(ISTEXT(ShareOfSearch_SERPS!D2291),ShareOfSearch_SERPS!D2291,\"\")","v":""},{"$f":"IF(NOT(ISBLANK(ShareOfSearch_SERPS!A2291)),ShareOfSearch_SERPS!A2291,\"\")","v":""},{"$f":"IF(NOT(ISBLANK(ShareOfSearch_SERPS!G2291)),ShareOfSearch_SERPS!G2291,\"\")","v":""},{"$f":"IF(NOT(ISBLANK(ShareOfSearch_SERPS!K2291)),ShareOfSearch_SERPS!K2291,\"\")","v":""},{"$f":"IFERROR(VLOOKUP(C2291,ShareOfSearch_CTR!$A$1:$B$100,2,FALSE)*VLOOKUP(A2291&B2291,ShareOfSearch_Volume!$C$1:$D$1000,2,FALSE),\"\")","v":""}]
[{"$f":"IF(ISTEXT(ShareOfSearch_SERPS!C2292),ShareOfSearch_SERPS!C2292,\"\")","v":""},{"$f":"IF(ISTEXT(ShareOfSearch_SERPS!D2292),ShareOfSearch_SERPS!D2292,\"\")","v":""},{"$f":"IF(NOT(ISBLANK(ShareOfSearch_SERPS!A2292)),ShareOfSearch_SERPS!A2292,\"\")","v":""},{"$f":"IF(NOT(ISBLANK(ShareOfSearch_SERPS!G2292)),ShareOfSearch_SERPS!G2292,\"\")","v":""},{"$f":"IF(NOT(ISBLANK(ShareOfSearch_SERPS!K2292)),ShareOfSearch_SERPS!K2292,\"\")","v":""},{"$f":"IFERROR(VLOOKUP(C2292,ShareOfSearch_CTR!$A$1:$B$100,2,FALSE)*VLOOKUP(A2292&B2292,ShareOfSearch_Volume!$C$1:$D$1000,2,FALSE),\"\")","v":""}]
[{"$f":"IF(ISTEXT(ShareOfSearch_SERPS!C2293),ShareOfSearch_SERPS!C2293,\"\")","v":""},{"$f":"IF(ISTEXT(ShareOfSearch_SERPS!D2293),ShareOfSearch_SERPS!D2293,\"\")","v":""},{"$f":"IF(NOT(ISBLANK(ShareOfSearch_SERPS!A2293)),ShareOfSearch_SERPS!A2293,\"\")","v":""},{"$f":"IF(NOT(ISBLANK(ShareOfSearch_SERPS!G2293)),ShareOfSearch_SERPS!G2293,\"\")","v":""},{"$f":"IF(NOT(ISBLANK(ShareOfSearch_SERPS!K2293)),ShareOfSearch_SERPS!K2293,\"\")","v":""},{"$f":"IFERROR(VLOOKUP(C2293,ShareOfSearch_CTR!$A$1:$B$100,2,FALSE)*VLOOKUP(A2293&B2293,ShareOfSearch_Volume!$C$1:$D$1000,2,FALSE),\"\")","v":""}]
[{"$f":"IF(ISTEXT(ShareOfSearch_SERPS!C2294),ShareOfSearch_SERPS!C2294,\"\")","v":""},{"$f":"IF(ISTEXT(ShareOfSearch_SERPS!D2294),ShareOfSearch_SERPS!D2294,\"\")","v":""},{"$f":"IF(NOT(ISBLANK(ShareOfSearch_SERPS!A2294)),ShareOfSearch_SERPS!A2294,\"\")","v":""},{"$f":"IF(NOT(ISBLANK(ShareOfSearch_SERPS!G2294)),ShareOfSearch_SERPS!G2294,\"\")","v":""},{"$f":"IF(NOT(ISBLANK(ShareOfSearch_SERPS!K2294)),ShareOfSearch_SERPS!K2294,\"\")","v":""},{"$f":"IFERROR(VLOOKUP(C2294,ShareOfSearch_CTR!$A$1:$B$100,2,FALSE)*VLOOKUP(A2294&B2294,ShareOfSearch_Volume!$C$1:$D$1000,2,FALSE),\"\")","v":""}]
[{"$f":"IF(ISTEXT(ShareOfSearch_SERPS!C2295),ShareOfSearch_SERPS!C2295,\"\")","v":""},{"$f":"IF(ISTEXT(ShareOfSearch_SERPS!D2295),ShareOfSearch_SERPS!D2295,\"\")","v":""},{"$f":"IF(NOT(ISBLANK(ShareOfSearch_SERPS!A2295)),ShareOfSearch_SERPS!A2295,\"\")","v":""},{"$f":"IF(NOT(ISBLANK(ShareOfSearch_SERPS!G2295)),ShareOfSearch_SERPS!G2295,\"\")","v":""},{"$f":"IF(NOT(ISBLANK(ShareOfSearch_SERPS!K2295)),ShareOfSearch_SERPS!K2295,\"\")","v":""},{"$f":"IFERROR(VLOOKUP(C2295,ShareOfSearch_CTR!$A$1:$B$100,2,FALSE)*VLOOKUP(A2295&B2295,ShareOfSearch_Volume!$C$1:$D$1000,2,FALSE),\"\")","v":""}]
[{"$f":"IF(ISTEXT(ShareOfSearch_SERPS!C2296),ShareOfSearch_SERPS!C2296,\"\")","v":""},{"$f":"IF(ISTEXT(ShareOfSearch_SERPS!D2296),ShareOfSearch_SERPS!D2296,\"\")","v":""},{"$f":"IF(NOT(ISBLANK(ShareOfSearch_SERPS!A2296)),ShareOfSearch_SERPS!A2296,\"\")","v":""},{"$f":"IF(NOT(ISBLANK(ShareOfSearch_SERPS!G2296)),ShareOfSearch_SERPS!G2296,\"\")","v":""},{"$f":"IF(NOT(ISBLANK(ShareOfSearch_SERPS!K2296)),ShareOfSearch_SERPS!K2296,\"\")","v":""},{"$f":"IFERROR(VLOOKUP(C2296,ShareOfSearch_CTR!$A$1:$B$100,2,FALSE)*VLOOKUP(A2296&B2296,ShareOfSearch_Volume!$C$1:$D$1000,2,FALSE),\"\")","v":""}]
[{"$f":"IF(ISTEXT(ShareOfSearch_SERPS!C2297),ShareOfSearch_SERPS!C2297,\"\")","v":""},{"$f":"IF(ISTEXT(ShareOfSearch_SERPS!D2297),ShareOfSearch_SERPS!D2297,\"\")","v":""},{"$f":"IF(NOT(ISBLANK(ShareOfSearch_SERPS!A2297)),ShareOfSearch_SERPS!A2297,\"\")","v":""},{"$f":"IF(NOT(ISBLANK(ShareOfSearch_SERPS!G2297)),ShareOfSearch_SERPS!G2297,\"\")","v":""},{"$f":"IF(NOT(ISBLANK(ShareOfSearch_SERPS!K2297)),ShareOfSearch_SERPS!K2297,\"\")","v":""},{"$f":"IFERROR(VLOOKUP(C2297,ShareOfSearch_CTR!$A$1:$B$100,2,FALSE)*VLOOKUP(A2297&B2297,ShareOfSearch_Volume!$C$1:$D$1000,2,FALSE),\"\")","v":""}]
[{"$f":"IF(ISTEXT(ShareOfSearch_SERPS!C2298),ShareOfSearch_SERPS!C2298,\"\")","v":""},{"$f":"IF(ISTEXT(ShareOfSearch_SERPS!D2298),ShareOfSearch_SERPS!D2298,\"\")","v":""},{"$f":"IF(NOT(ISBLANK(ShareOfSearch_SERPS!A2298)),ShareOfSearch_SERPS!A2298,\"\")","v":""},{"$f":"IF(NOT(ISBLANK(ShareOfSearch_SERPS!G2298)),ShareOfSearch_SERPS!G2298,\"\")","v":""},{"$f":"IF(NOT(ISBLANK(ShareOfSearch_SERPS!K2298)),ShareOfSearch_SERPS!K2298,\"\")","v":""},{"$f":"IFERROR(VLOOKUP(C2298,ShareOfSearch_CTR!$A$1:$B$100,2,FALSE)*VLOOKUP(A2298&B2298,ShareOfSearch_Volume!$C$1:$D$1000,2,FALSE),\"\")","v":""}]
[{"$f":"IF(ISTEXT(ShareOfSearch_SERPS!C2299),ShareOfSearch_SERPS!C2299,\"\")","v":""},{"$f":"IF(ISTEXT(ShareOfSearch_SERPS!D2299),ShareOfSearch_SERPS!D2299,\"\")","v":""},{"$f":"IF(NOT(ISBLANK(ShareOfSearch_SERPS!A2299)),ShareOfSearch_SERPS!A2299,\"\")","v":""},{"$f":"IF(NOT(ISBLANK(ShareOfSearch_SERPS!G2299)),ShareOfSearch_SERPS!G2299,\"\")","v":""},{"$f":"IF(NOT(ISBLANK(ShareOfSearch_SERPS!K2299)),ShareOfSearch_SERPS!K2299,\"\")","v":""},{"$f":"IFERROR(VLOOKUP(C2299,ShareOfSearch_CTR!$A$1:$B$100,2,FALSE)*VLOOKUP(A2299&B2299,ShareOfSearch_Volume!$C$1:$D$1000,2,FALSE),\"\")","v":""}]
[{"$f":"IF(ISTEXT(ShareOfSearch_SERPS!C2300),ShareOfSearch_SERPS!C2300,\"\")","v":""},{"$f":"IF(ISTEXT(ShareOfSearch_SERPS!D2300),ShareOfSearch_SERPS!D2300,\"\")","v":""},{"$f":"IF(NOT(ISBLANK(ShareOfSearch_SERPS!A2300)),ShareOfSearch_SERPS!A2300,\"\")","v":""},{"$f":"IF(NOT(ISBLANK(ShareOfSearch_SERPS!G2300)),ShareOfSearch_SERPS!G2300,\"\")","v":""},{"$f":"IF(NOT(ISBLANK(ShareOfSearch_SERPS!K2300)),ShareOfSearch_SERPS!K2300,\"\")","v":""},{"$f":"IFERROR(VLOOKUP(C2300,ShareOfSearch_CTR!$A$1:$B$100,2,FALSE)*VLOOKUP(A2300&B2300,ShareOfSearch_Volume!$C$1:$D$1000,2,FALSE),\"\")","v":""}]
[{"$f":"IF(ISTEXT(ShareOfSearch_SERPS!C2301),ShareOfSearch_SERPS!C2301,\"\")","v":""},{"$f":"IF(ISTEXT(ShareOfSearch_SERPS!D2301),ShareOfSearch_SERPS!D2301,\"\")","v":""},{"$f":"IF(NOT(ISBLANK(ShareOfSearch_SERPS!A2301)),ShareOfSearch_SERPS!A2301,\"\")","v":""},{"$f":"IF(NOT(ISBLANK(ShareOfSearch_SERPS!G2301)),ShareOfSearch_SERPS!G2301,\"\")","v":""},{"$f":"IF(NOT(ISBLANK(ShareOfSearch_SERPS!K2301)),ShareOfSearch_SERPS!K2301,\"\")","v":""},{"$f":"IFERROR(VLOOKUP(C2301,ShareOfSearch_CTR!$A$1:$B$100,2,FALSE)*VLOOKUP(A2301&B2301,ShareOfSearch_Volume!$C$1:$D$1000,2,FALSE),\"\")","v":""}]
[{"$f":"IF(ISTEXT(ShareOfSearch_SERPS!C2302),ShareOfSearch_SERPS!C2302,\"\")","v":""},{"$f":"IF(ISTEXT(ShareOfSearch_SERPS!D2302),ShareOfSearch_SERPS!D2302,\"\")","v":""},{"$f":"IF(NOT(ISBLANK(ShareOfSearch_SERPS!A2302)),ShareOfSearch_SERPS!A2302,\"\")","v":""},{"$f":"IF(NOT(ISBLANK(ShareOfSearch_SERPS!G2302)),ShareOfSearch_SERPS!G2302,\"\")","v":""},{"$f":"IF(NOT(ISBLANK(ShareOfSearch_SERPS!K2302)),ShareOfSearch_SERPS!K2302,\"\")","v":""},{"$f":"IFERROR(VLOOKUP(C2302,ShareOfSearch_CTR!$A$1:$B$100,2,FALSE)*VLOOKUP(A2302&B2302,ShareOfSearch_Volume!$C$1:$D$1000,2,FALSE),\"\")","v":""}]
[{"$f":"IF(ISTEXT(ShareOfSearch_SERPS!C2303),ShareOfSearch_SERPS!C2303,\"\")","v":""},{"$f":"IF(ISTEXT(ShareOfSearch_SERPS!D2303),ShareOfSearch_SERPS!D2303,\"\")","v":""},{"$f":"IF(NOT(ISBLANK(ShareOfSearch_SERPS!A2303)),ShareOfSearch_SERPS!A2303,\"\")","v":""},{"$f":"IF(NOT(ISBLANK(ShareOfSearch_SERPS!G2303)),ShareOfSearch_SERPS!G2303,\"\")","v":""},{"$f":"IF(NOT(ISBLANK(ShareOfSearch_SERPS!K2303)),ShareOfSearch_SERPS!K2303,\"\")","v":""},{"$f":"IFERROR(VLOOKUP(C2303,ShareOfSearch_CTR!$A$1:$B$100,2,FALSE)*VLOOKUP(A2303&B2303,ShareOfSearch_Volume!$C$1:$D$1000,2,FALSE),\"\")","v":""}]
[{"$f":"IF(ISTEXT(ShareOfSearch_SERPS!C2304),ShareOfSearch_SERPS!C2304,\"\")","v":""},{"$f":"IF(ISTEXT(ShareOfSearch_SERPS!D2304),ShareOfSearch_SERPS!D2304,\"\")","v":""},{"$f":"IF(NOT(ISBLANK(ShareOfSearch_SERPS!A2304)),ShareOfSearch_SERPS!A2304,\"\")","v":""},{"$f":"IF(NOT(ISBLANK(ShareOfSearch_SERPS!G2304)),ShareOfSearch_SERPS!G2304,\"\")","v":""},{"$f":"IF(NOT(ISBLANK(ShareOfSearch_SERPS!K2304)),ShareOfSearch_SERPS!K2304,\"\")","v":""},{"$f":"IFERROR(VLOOKUP(C2304,ShareOfSearch_CTR!$A$1:$B$100,2,FALSE)*VLOOKUP(A2304&B2304,ShareOfSearch_Volume!$C$1:$D$1000,2,FALSE),\"\")","v":""}]
[{"$f":"IF(ISTEXT(ShareOfSearch_SERPS!C2305),ShareOfSearch_SERPS!C2305,\"\")","v":""},{"$f":"IF(ISTEXT(ShareOfSearch_SERPS!D2305),ShareOfSearch_SERPS!D2305,\"\")","v":""},{"$f":"IF(NOT(ISBLANK(ShareOfSearch_SERPS!A2305)),ShareOfSearch_SERPS!A2305,\"\")","v":""},{"$f":"IF(NOT(ISBLANK(ShareOfSearch_SERPS!G2305)),ShareOfSearch_SERPS!G2305,\"\")","v":""},{"$f":"IF(NOT(ISBLANK(ShareOfSearch_SERPS!K2305)),ShareOfSearch_SERPS!K2305,\"\")","v":""},{"$f":"IFERROR(VLOOKUP(C2305,ShareOfSearch_CTR!$A$1:$B$100,2,FALSE)*VLOOKUP(A2305&B2305,ShareOfSearch_Volume!$C$1:$D$1000,2,FALSE),\"\")","v":""}]
[{"$f":"IF(ISTEXT(ShareOfSearch_SERPS!C2306),ShareOfSearch_SERPS!C2306,\"\")","v":""},{"$f":"IF(ISTEXT(ShareOfSearch_SERPS!D2306),ShareOfSearch_SERPS!D2306,\"\")","v":""},{"$f":"IF(NOT(ISBLANK(ShareOfSearch_SERPS!A2306)),ShareOfSearch_SERPS!A2306,\"\")","v":""},{"$f":"IF(NOT(ISBLANK(ShareOfSearch_SERPS!G2306)),ShareOfSearch_SERPS!G2306,\"\")","v":""},{"$f":"IF(NOT(ISBLANK(ShareOfSearch_SERPS!K2306)),ShareOfSearch_SERPS!K2306,\"\")","v":""},{"$f":"IFERROR(VLOOKUP(C2306,ShareOfSearch_CTR!$A$1:$B$100,2,FALSE)*VLOOKUP(A2306&B2306,ShareOfSearch_Volume!$C$1:$D$1000,2,FALSE),\"\")","v":""}]
[{"$f":"IF(ISTEXT(ShareOfSearch_SERPS!C2307),ShareOfSearch_SERPS!C2307,\"\")","v":""},{"$f":"IF(ISTEXT(ShareOfSearch_SERPS!D2307),ShareOfSearch_SERPS!D2307,\"\")","v":""},{"$f":"IF(NOT(ISBLANK(ShareOfSearch_SERPS!A2307)),ShareOfSearch_SERPS!A2307,\"\")","v":""},{"$f":"IF(NOT(ISBLANK(ShareOfSearch_SERPS!G2307)),ShareOfSearch_SERPS!G2307,\"\")","v":""},{"$f":"IF(NOT(ISBLANK(ShareOfSearch_SERPS!K2307)),ShareOfSearch_SERPS!K2307,\"\")","v":""},{"$f":"IFERROR(VLOOKUP(C2307,ShareOfSearch_CTR!$A$1:$B$100,2,FALSE)*VLOOKUP(A2307&B2307,ShareOfSearch_Volume!$C$1:$D$1000,2,FALSE),\"\")","v":""}]
[{"$f":"IF(ISTEXT(ShareOfSearch_SERPS!C2308),ShareOfSearch_SERPS!C2308,\"\")","v":""},{"$f":"IF(ISTEXT(ShareOfSearch_SERPS!D2308),ShareOfSearch_SERPS!D2308,\"\")","v":""},{"$f":"IF(NOT(ISBLANK(ShareOfSearch_SERPS!A2308)),ShareOfSearch_SERPS!A2308,\"\")","v":""},{"$f":"IF(NOT(ISBLANK(ShareOfSearch_SERPS!G2308)),ShareOfSearch_SERPS!G2308,\"\")","v":""},{"$f":"IF(NOT(ISBLANK(ShareOfSearch_SERPS!K2308)),ShareOfSearch_SERPS!K2308,\"\")","v":""},{"$f":"IFERROR(VLOOKUP(C2308,ShareOfSearch_CTR!$A$1:$B$100,2,FALSE)*VLOOKUP(A2308&B2308,ShareOfSearch_Volume!$C$1:$D$1000,2,FALSE),\"\")","v":""}]
[{"$f":"IF(ISTEXT(ShareOfSearch_SERPS!C2309),ShareOfSearch_SERPS!C2309,\"\")","v":""},{"$f":"IF(ISTEXT(ShareOfSearch_SERPS!D2309),ShareOfSearch_SERPS!D2309,\"\")","v":""},{"$f":"IF(NOT(ISBLANK(ShareOfSearch_SERPS!A2309)),ShareOfSearch_SERPS!A2309,\"\")","v":""},{"$f":"IF(NOT(ISBLANK(ShareOfSearch_SERPS!G2309)),ShareOfSearch_SERPS!G2309,\"\")","v":""},{"$f":"IF(NOT(ISBLANK(ShareOfSearch_SERPS!K2309)),ShareOfSearch_SERPS!K2309,\"\")","v":""},{"$f":"IFERROR(VLOOKUP(C2309,ShareOfSearch_CTR!$A$1:$B$100,2,FALSE)*VLOOKUP(A2309&B2309,ShareOfSearch_Volume!$C$1:$D$1000,2,FALSE),\"\")","v":""}]
[{"$f":"IF(ISTEXT(ShareOfSearch_SERPS!C2310),ShareOfSearch_SERPS!C2310,\"\")","v":""},{"$f":"IF(ISTEXT(ShareOfSearch_SERPS!D2310),ShareOfSearch_SERPS!D2310,\"\")","v":""},{"$f":"IF(NOT(ISBLANK(ShareOfSearch_SERPS!A2310)),ShareOfSearch_SERPS!A2310,\"\")","v":""},{"$f":"IF(NOT(ISBLANK(ShareOfSearch_SERPS!G2310)),ShareOfSearch_SERPS!G2310,\"\")","v":""},{"$f":"IF(NOT(ISBLANK(ShareOfSearch_SERPS!K2310)),ShareOfSearch_SERPS!K2310,\"\")","v":""},{"$f":"IFERROR(VLOOKUP(C2310,ShareOfSearch_CTR!$A$1:$B$100,2,FALSE)*VLOOKUP(A2310&B2310,ShareOfSearch_Volume!$C$1:$D$1000,2,FALSE),\"\")","v":""}]
[{"$f":"IF(ISTEXT(ShareOfSearch_SERPS!C2311),ShareOfSearch_SERPS!C2311,\"\")","v":""},{"$f":"IF(ISTEXT(ShareOfSearch_SERPS!D2311),ShareOfSearch_SERPS!D2311,\"\")","v":""},{"$f":"IF(NOT(ISBLANK(ShareOfSearch_SERPS!A2311)),ShareOfSearch_SERPS!A2311,\"\")","v":""},{"$f":"IF(NOT(ISBLANK(ShareOfSearch_SERPS!G2311)),ShareOfSearch_SERPS!G2311,\"\")","v":""},{"$f":"IF(NOT(ISBLANK(ShareOfSearch_SERPS!K2311)),ShareOfSearch_SERPS!K2311,\"\")","v":""},{"$f":"IFERROR(VLOOKUP(C2311,ShareOfSearch_CTR!$A$1:$B$100,2,FALSE)*VLOOKUP(A2311&B2311,ShareOfSearch_Volume!$C$1:$D$1000,2,FALSE),\"\")","v":""}]
[{"$f":"IF(ISTEXT(ShareOfSearch_SERPS!C2312),ShareOfSearch_SERPS!C2312,\"\")","v":""},{"$f":"IF(ISTEXT(ShareOfSearch_SERPS!D2312),ShareOfSearch_SERPS!D2312,\"\")","v":""},{"$f":"IF(NOT(ISBLANK(ShareOfSearch_SERPS!A2312)),ShareOfSearch_SERPS!A2312,\"\")","v":""},{"$f":"IF(NOT(ISBLANK(ShareOfSearch_SERPS!G2312)),ShareOfSearch_SERPS!G2312,\"\")","v":""},{"$f":"IF(NOT(ISBLANK(ShareOfSearch_SERPS!K2312)),ShareOfSearch_SERPS!K2312,\"\")","v":""},{"$f":"IFERROR(VLOOKUP(C2312,ShareOfSearch_CTR!$A$1:$B$100,2,FALSE)*VLOOKUP(A2312&B2312,ShareOfSearch_Volume!$C$1:$D$1000,2,FALSE),\"\")","v":""}]
[{"$f":"IF(ISTEXT(ShareOfSearch_SERPS!C2313),ShareOfSearch_SERPS!C2313,\"\")","v":""},{"$f":"IF(ISTEXT(ShareOfSearch_SERPS!D2313),ShareOfSearch_SERPS!D2313,\"\")","v":""},{"$f":"IF(NOT(ISBLANK(ShareOfSearch_SERPS!A2313)),ShareOfSearch_SERPS!A2313,\"\")","v":""},{"$f":"IF(NOT(ISBLANK(ShareOfSearch_SERPS!G2313)),ShareOfSearch_SERPS!G2313,\"\")","v":""},{"$f":"IF(NOT(ISBLANK(ShareOfSearch_SERPS!K2313)),ShareOfSearch_SERPS!K2313,\"\")","v":""},{"$f":"IFERROR(VLOOKUP(C2313,ShareOfSearch_CTR!$A$1:$B$100,2,FALSE)*VLOOKUP(A2313&B2313,ShareOfSearch_Volume!$C$1:$D$1000,2,FALSE),\"\")","v":""}]
[{"$f":"IF(ISTEXT(ShareOfSearch_SERPS!C2314),ShareOfSearch_SERPS!C2314,\"\")","v":""},{"$f":"IF(ISTEXT(ShareOfSearch_SERPS!D2314),ShareOfSearch_SERPS!D2314,\"\")","v":""},{"$f":"IF(NOT(ISBLANK(ShareOfSearch_SERPS!A2314)),ShareOfSearch_SERPS!A2314,\"\")","v":""},{"$f":"IF(NOT(ISBLANK(ShareOfSearch_SERPS!G2314)),ShareOfSearch_SERPS!G2314,\"\")","v":""},{"$f":"IF(NOT(ISBLANK(ShareOfSearch_SERPS!K2314)),ShareOfSearch_SERPS!K2314,\"\")","v":""},{"$f":"IFERROR(VLOOKUP(C2314,ShareOfSearch_CTR!$A$1:$B$100,2,FALSE)*VLOOKUP(A2314&B2314,ShareOfSearch_Volume!$C$1:$D$1000,2,FALSE),\"\")","v":""}]
[{"$f":"IF(ISTEXT(ShareOfSearch_SERPS!C2315),ShareOfSearch_SERPS!C2315,\"\")","v":""},{"$f":"IF(ISTEXT(ShareOfSearch_SERPS!D2315),ShareOfSearch_SERPS!D2315,\"\")","v":""},{"$f":"IF(NOT(ISBLANK(ShareOfSearch_SERPS!A2315)),ShareOfSearch_SERPS!A2315,\"\")","v":""},{"$f":"IF(NOT(ISBLANK(ShareOfSearch_SERPS!G2315)),ShareOfSearch_SERPS!G2315,\"\")","v":""},{"$f":"IF(NOT(ISBLANK(ShareOfSearch_SERPS!K2315)),ShareOfSearch_SERPS!K2315,\"\")","v":""},{"$f":"IFERROR(VLOOKUP(C2315,ShareOfSearch_CTR!$A$1:$B$100,2,FALSE)*VLOOKUP(A2315&B2315,ShareOfSearch_Volume!$C$1:$D$1000,2,FALSE),\"\")","v":""}]
[{"$f":"IF(ISTEXT(ShareOfSearch_SERPS!C2316),ShareOfSearch_SERPS!C2316,\"\")","v":""},{"$f":"IF(ISTEXT(ShareOfSearch_SERPS!D2316),ShareOfSearch_SERPS!D2316,\"\")","v":""},{"$f":"IF(NOT(ISBLANK(ShareOfSearch_SERPS!A2316)),ShareOfSearch_SERPS!A2316,\"\")","v":""},{"$f":"IF(NOT(ISBLANK(ShareOfSearch_SERPS!G2316)),ShareOfSearch_SERPS!G2316,\"\")","v":""},{"$f":"IF(NOT(ISBLANK(ShareOfSearch_SERPS!K2316)),ShareOfSearch_SERPS!K2316,\"\")","v":""},{"$f":"IFERROR(VLOOKUP(C2316,ShareOfSearch_CTR!$A$1:$B$100,2,FALSE)*VLOOKUP(A2316&B2316,ShareOfSearch_Volume!$C$1:$D$1000,2,FALSE),\"\")","v":""}]
[{"$f":"IF(ISTEXT(ShareOfSearch_SERPS!C2317),ShareOfSearch_SERPS!C2317,\"\")","v":""},{"$f":"IF(ISTEXT(ShareOfSearch_SERPS!D2317),ShareOfSearch_SERPS!D2317,\"\")","v":""},{"$f":"IF(NOT(ISBLANK(ShareOfSearch_SERPS!A2317)),ShareOfSearch_SERPS!A2317,\"\")","v":""},{"$f":"IF(NOT(ISBLANK(ShareOfSearch_SERPS!G2317)),ShareOfSearch_SERPS!G2317,\"\")","v":""},{"$f":"IF(NOT(ISBLANK(ShareOfSearch_SERPS!K2317)),ShareOfSearch_SERPS!K2317,\"\")","v":""},{"$f":"IFERROR(VLOOKUP(C2317,ShareOfSearch_CTR!$A$1:$B$100,2,FALSE)*VLOOKUP(A2317&B2317,ShareOfSearch_Volume!$C$1:$D$1000,2,FALSE),\"\")","v":""}]
[{"$f":"IF(ISTEXT(ShareOfSearch_SERPS!C2318),ShareOfSearch_SERPS!C2318,\"\")","v":""},{"$f":"IF(ISTEXT(ShareOfSearch_SERPS!D2318),ShareOfSearch_SERPS!D2318,\"\")","v":""},{"$f":"IF(NOT(ISBLANK(ShareOfSearch_SERPS!A2318)),ShareOfSearch_SERPS!A2318,\"\")","v":""},{"$f":"IF(NOT(ISBLANK(ShareOfSearch_SERPS!G2318)),ShareOfSearch_SERPS!G2318,\"\")","v":""},{"$f":"IF(NOT(ISBLANK(ShareOfSearch_SERPS!K2318)),ShareOfSearch_SERPS!K2318,\"\")","v":""},{"$f":"IFERROR(VLOOKUP(C2318,ShareOfSearch_CTR!$A$1:$B$100,2,FALSE)*VLOOKUP(A2318&B2318,ShareOfSearch_Volume!$C$1:$D$1000,2,FALSE),\"\")","v":""}]
[{"$f":"IF(ISTEXT(ShareOfSearch_SERPS!C2319),ShareOfSearch_SERPS!C2319,\"\")","v":""},{"$f":"IF(ISTEXT(ShareOfSearch_SERPS!D2319),ShareOfSearch_SERPS!D2319,\"\")","v":""},{"$f":"IF(NOT(ISBLANK(ShareOfSearch_SERPS!A2319)),ShareOfSearch_SERPS!A2319,\"\")","v":""},{"$f":"IF(NOT(ISBLANK(ShareOfSearch_SERPS!G2319)),ShareOfSearch_SERPS!G2319,\"\")","v":""},{"$f":"IF(NOT(ISBLANK(ShareOfSearch_SERPS!K2319)),ShareOfSearch_SERPS!K2319,\"\")","v":""},{"$f":"IFERROR(VLOOKUP(C2319,ShareOfSearch_CTR!$A$1:$B$100,2,FALSE)*VLOOKUP(A2319&B2319,ShareOfSearch_Volume!$C$1:$D$1000,2,FALSE),\"\")","v":""}]
[{"$f":"IF(ISTEXT(ShareOfSearch_SERPS!C2320),ShareOfSearch_SERPS!C2320,\"\")","v":""},{"$f":"IF(ISTEXT(ShareOfSearch_SERPS!D2320),ShareOfSearch_SERPS!D2320,\"\")","v":""},{"$f":"IF(NOT(ISBLANK(ShareOfSearch_SERPS!A2320)),ShareOfSearch_SERPS!A2320,\"\")","v":""},{"$f":"IF(NOT(ISBLANK(ShareOfSearch_SERPS!G2320)),ShareOfSearch_SERPS!G2320,\"\")","v":""},{"$f":"IF(NOT(ISBLANK(ShareOfSearch_SERPS!K2320)),ShareOfSearch_SERPS!K2320,\"\")","v":""},{"$f":"IFERROR(VLOOKUP(C2320,ShareOfSearch_CTR!$A$1:$B$100,2,FALSE)*VLOOKUP(A2320&B2320,ShareOfSearch_Volume!$C$1:$D$1000,2,FALSE),\"\")","v":""}]
[{"$f":"IF(ISTEXT(ShareOfSearch_SERPS!C2321),ShareOfSearch_SERPS!C2321,\"\")","v":""},{"$f":"IF(ISTEXT(ShareOfSearch_SERPS!D2321),ShareOfSearch_SERPS!D2321,\"\")","v":""},{"$f":"IF(NOT(ISBLANK(ShareOfSearch_SERPS!A2321)),ShareOfSearch_SERPS!A2321,\"\")","v":""},{"$f":"IF(NOT(ISBLANK(ShareOfSearch_SERPS!G2321)),ShareOfSearch_SERPS!G2321,\"\")","v":""},{"$f":"IF(NOT(ISBLANK(ShareOfSearch_SERPS!K2321)),ShareOfSearch_SERPS!K2321,\"\")","v":""},{"$f":"IFERROR(VLOOKUP(C2321,ShareOfSearch_CTR!$A$1:$B$100,2,FALSE)*VLOOKUP(A2321&B2321,ShareOfSearch_Volume!$C$1:$D$1000,2,FALSE),\"\")","v":""}]
[{"$f":"IF(ISTEXT(ShareOfSearch_SERPS!C2322),ShareOfSearch_SERPS!C2322,\"\")","v":""},{"$f":"IF(ISTEXT(ShareOfSearch_SERPS!D2322),ShareOfSearch_SERPS!D2322,\"\")","v":""},{"$f":"IF(NOT(ISBLANK(ShareOfSearch_SERPS!A2322)),ShareOfSearch_SERPS!A2322,\"\")","v":""},{"$f":"IF(NOT(ISBLANK(ShareOfSearch_SERPS!G2322)),ShareOfSearch_SERPS!G2322,\"\")","v":""},{"$f":"IF(NOT(ISBLANK(ShareOfSearch_SERPS!K2322)),ShareOfSearch_SERPS!K2322,\"\")","v":""},{"$f":"IFERROR(VLOOKUP(C2322,ShareOfSearch_CTR!$A$1:$B$100,2,FALSE)*VLOOKUP(A2322&B2322,ShareOfSearch_Volume!$C$1:$D$1000,2,FALSE),\"\")","v":""}]
[{"$f":"IF(ISTEXT(ShareOfSearch_SERPS!C2323),ShareOfSearch_SERPS!C2323,\"\")","v":""},{"$f":"IF(ISTEXT(ShareOfSearch_SERPS!D2323),ShareOfSearch_SERPS!D2323,\"\")","v":""},{"$f":"IF(NOT(ISBLANK(ShareOfSearch_SERPS!A2323)),ShareOfSearch_SERPS!A2323,\"\")","v":""},{"$f":"IF(NOT(ISBLANK(ShareOfSearch_SERPS!G2323)),ShareOfSearch_SERPS!G2323,\"\")","v":""},{"$f":"IF(NOT(ISBLANK(ShareOfSearch_SERPS!K2323)),ShareOfSearch_SERPS!K2323,\"\")","v":""},{"$f":"IFERROR(VLOOKUP(C2323,ShareOfSearch_CTR!$A$1:$B$100,2,FALSE)*VLOOKUP(A2323&B2323,ShareOfSearch_Volume!$C$1:$D$1000,2,FALSE),\"\")","v":""}]
[{"$f":"IF(ISTEXT(ShareOfSearch_SERPS!C2324),ShareOfSearch_SERPS!C2324,\"\")","v":""},{"$f":"IF(ISTEXT(ShareOfSearch_SERPS!D2324),ShareOfSearch_SERPS!D2324,\"\")","v":""},{"$f":"IF(NOT(ISBLANK(ShareOfSearch_SERPS!A2324)),ShareOfSearch_SERPS!A2324,\"\")","v":""},{"$f":"IF(NOT(ISBLANK(ShareOfSearch_SERPS!G2324)),ShareOfSearch_SERPS!G2324,\"\")","v":""},{"$f":"IF(NOT(ISBLANK(ShareOfSearch_SERPS!K2324)),ShareOfSearch_SERPS!K2324,\"\")","v":""},{"$f":"IFERROR(VLOOKUP(C2324,ShareOfSearch_CTR!$A$1:$B$100,2,FALSE)*VLOOKUP(A2324&B2324,ShareOfSearch_Volume!$C$1:$D$1000,2,FALSE),\"\")","v":""}]
[{"$f":"IF(ISTEXT(ShareOfSearch_SERPS!C2325),ShareOfSearch_SERPS!C2325,\"\")","v":""},{"$f":"IF(ISTEXT(ShareOfSearch_SERPS!D2325),ShareOfSearch_SERPS!D2325,\"\")","v":""},{"$f":"IF(NOT(ISBLANK(ShareOfSearch_SERPS!A2325)),ShareOfSearch_SERPS!A2325,\"\")","v":""},{"$f":"IF(NOT(ISBLANK(ShareOfSearch_SERPS!G2325)),ShareOfSearch_SERPS!G2325,\"\")","v":""},{"$f":"IF(NOT(ISBLANK(ShareOfSearch_SERPS!K2325)),ShareOfSearch_SERPS!K2325,\"\")","v":""},{"$f":"IFERROR(VLOOKUP(C2325,ShareOfSearch_CTR!$A$1:$B$100,2,FALSE)*VLOOKUP(A2325&B2325,ShareOfSearch_Volume!$C$1:$D$1000,2,FALSE),\"\")","v":""}]
[{"$f":"IF(ISTEXT(ShareOfSearch_SERPS!C2326),ShareOfSearch_SERPS!C2326,\"\")","v":""},{"$f":"IF(ISTEXT(ShareOfSearch_SERPS!D2326),ShareOfSearch_SERPS!D2326,\"\")","v":""},{"$f":"IF(NOT(ISBLANK(ShareOfSearch_SERPS!A2326)),ShareOfSearch_SERPS!A2326,\"\")","v":""},{"$f":"IF(NOT(ISBLANK(ShareOfSearch_SERPS!G2326)),ShareOfSearch_SERPS!G2326,\"\")","v":""},{"$f":"IF(NOT(ISBLANK(ShareOfSearch_SERPS!K2326)),ShareOfSearch_SERPS!K2326,\"\")","v":""},{"$f":"IFERROR(VLOOKUP(C2326,ShareOfSearch_CTR!$A$1:$B$100,2,FALSE)*VLOOKUP(A2326&B2326,ShareOfSearch_Volume!$C$1:$D$1000,2,FALSE),\"\")","v":""}]
[{"$f":"IF(ISTEXT(ShareOfSearch_SERPS!C2327),ShareOfSearch_SERPS!C2327,\"\")","v":""},{"$f":"IF(ISTEXT(ShareOfSearch_SERPS!D2327),ShareOfSearch_SERPS!D2327,\"\")","v":""},{"$f":"IF(NOT(ISBLANK(ShareOfSearch_SERPS!A2327)),ShareOfSearch_SERPS!A2327,\"\")","v":""},{"$f":"IF(NOT(ISBLANK(ShareOfSearch_SERPS!G2327)),ShareOfSearch_SERPS!G2327,\"\")","v":""},{"$f":"IF(NOT(ISBLANK(ShareOfSearch_SERPS!K2327)),ShareOfSearch_SERPS!K2327,\"\")","v":""},{"$f":"IFERROR(VLOOKUP(C2327,ShareOfSearch_CTR!$A$1:$B$100,2,FALSE)*VLOOKUP(A2327&B2327,ShareOfSearch_Volume!$C$1:$D$1000,2,FALSE),\"\")","v":""}]
[{"$f":"IF(ISTEXT(ShareOfSearch_SERPS!C2328),ShareOfSearch_SERPS!C2328,\"\")","v":""},{"$f":"IF(ISTEXT(ShareOfSearch_SERPS!D2328),ShareOfSearch_SERPS!D2328,\"\")","v":""},{"$f":"IF(NOT(ISBLANK(ShareOfSearch_SERPS!A2328)),ShareOfSearch_SERPS!A2328,\"\")","v":""},{"$f":"IF(NOT(ISBLANK(ShareOfSearch_SERPS!G2328)),ShareOfSearch_SERPS!G2328,\"\")","v":""},{"$f":"IF(NOT(ISBLANK(ShareOfSearch_SERPS!K2328)),ShareOfSearch_SERPS!K2328,\"\")","v":""},{"$f":"IFERROR(VLOOKUP(C2328,ShareOfSearch_CTR!$A$1:$B$100,2,FALSE)*VLOOKUP(A2328&B2328,ShareOfSearch_Volume!$C$1:$D$1000,2,FALSE),\"\")","v":""}]
[{"$f":"IF(ISTEXT(ShareOfSearch_SERPS!C2329),ShareOfSearch_SERPS!C2329,\"\")","v":""},{"$f":"IF(ISTEXT(ShareOfSearch_SERPS!D2329),ShareOfSearch_SERPS!D2329,\"\")","v":""},{"$f":"IF(NOT(ISBLANK(ShareOfSearch_SERPS!A2329)),ShareOfSearch_SERPS!A2329,\"\")","v":""},{"$f":"IF(NOT(ISBLANK(ShareOfSearch_SERPS!G2329)),ShareOfSearch_SERPS!G2329,\"\")","v":""},{"$f":"IF(NOT(ISBLANK(ShareOfSearch_SERPS!K2329)),ShareOfSearch_SERPS!K2329,\"\")","v":""},{"$f":"IFERROR(VLOOKUP(C2329,ShareOfSearch_CTR!$A$1:$B$100,2,FALSE)*VLOOKUP(A2329&B2329,ShareOfSearch_Volume!$C$1:$D$1000,2,FALSE),\"\")","v":""}]
[{"$f":"IF(ISTEXT(ShareOfSearch_SERPS!C2330),ShareOfSearch_SERPS!C2330,\"\")","v":""},{"$f":"IF(ISTEXT(ShareOfSearch_SERPS!D2330),ShareOfSearch_SERPS!D2330,\"\")","v":""},{"$f":"IF(NOT(ISBLANK(ShareOfSearch_SERPS!A2330)),ShareOfSearch_SERPS!A2330,\"\")","v":""},{"$f":"IF(NOT(ISBLANK(ShareOfSearch_SERPS!G2330)),ShareOfSearch_SERPS!G2330,\"\")","v":""},{"$f":"IF(NOT(ISBLANK(ShareOfSearch_SERPS!K2330)),ShareOfSearch_SERPS!K2330,\"\")","v":""},{"$f":"IFERROR(VLOOKUP(C2330,ShareOfSearch_CTR!$A$1:$B$100,2,FALSE)*VLOOKUP(A2330&B2330,ShareOfSearch_Volume!$C$1:$D$1000,2,FALSE),\"\")","v":""}]
[{"$f":"IF(ISTEXT(ShareOfSearch_SERPS!C2331),ShareOfSearch_SERPS!C2331,\"\")","v":""},{"$f":"IF(ISTEXT(ShareOfSearch_SERPS!D2331),ShareOfSearch_SERPS!D2331,\"\")","v":""},{"$f":"IF(NOT(ISBLANK(ShareOfSearch_SERPS!A2331)),ShareOfSearch_SERPS!A2331,\"\")","v":""},{"$f":"IF(NOT(ISBLANK(ShareOfSearch_SERPS!G2331)),ShareOfSearch_SERPS!G2331,\"\")","v":""},{"$f":"IF(NOT(ISBLANK(ShareOfSearch_SERPS!K2331)),ShareOfSearch_SERPS!K2331,\"\")","v":""},{"$f":"IFERROR(VLOOKUP(C2331,ShareOfSearch_CTR!$A$1:$B$100,2,FALSE)*VLOOKUP(A2331&B2331,ShareOfSearch_Volume!$C$1:$D$1000,2,FALSE),\"\")","v":""}]
[{"$f":"IF(ISTEXT(ShareOfSearch_SERPS!C2332),ShareOfSearch_SERPS!C2332,\"\")","v":""},{"$f":"IF(ISTEXT(ShareOfSearch_SERPS!D2332),ShareOfSearch_SERPS!D2332,\"\")","v":""},{"$f":"IF(NOT(ISBLANK(ShareOfSearch_SERPS!A2332)),ShareOfSearch_SERPS!A2332,\"\")","v":""},{"$f":"IF(NOT(ISBLANK(ShareOfSearch_SERPS!G2332)),ShareOfSearch_SERPS!G2332,\"\")","v":""},{"$f":"IF(NOT(ISBLANK(ShareOfSearch_SERPS!K2332)),ShareOfSearch_SERPS!K2332,\"\")","v":""},{"$f":"IFERROR(VLOOKUP(C2332,ShareOfSearch_CTR!$A$1:$B$100,2,FALSE)*VLOOKUP(A2332&B2332,ShareOfSearch_Volume!$C$1:$D$1000,2,FALSE),\"\")","v":""}]
[{"$f":"IF(ISTEXT(ShareOfSearch_SERPS!C2333),ShareOfSearch_SERPS!C2333,\"\")","v":""},{"$f":"IF(ISTEXT(ShareOfSearch_SERPS!D2333),ShareOfSearch_SERPS!D2333,\"\")","v":""},{"$f":"IF(NOT(ISBLANK(ShareOfSearch_SERPS!A2333)),ShareOfSearch_SERPS!A2333,\"\")","v":""},{"$f":"IF(NOT(ISBLANK(ShareOfSearch_SERPS!G2333)),ShareOfSearch_SERPS!G2333,\"\")","v":""},{"$f":"IF(NOT(ISBLANK(ShareOfSearch_SERPS!K2333)),ShareOfSearch_SERPS!K2333,\"\")","v":""},{"$f":"IFERROR(VLOOKUP(C2333,ShareOfSearch_CTR!$A$1:$B$100,2,FALSE)*VLOOKUP(A2333&B2333,ShareOfSearch_Volume!$C$1:$D$1000,2,FALSE),\"\")","v":""}]
[{"$f":"IF(ISTEXT(ShareOfSearch_SERPS!C2334),ShareOfSearch_SERPS!C2334,\"\")","v":""},{"$f":"IF(ISTEXT(ShareOfSearch_SERPS!D2334),ShareOfSearch_SERPS!D2334,\"\")","v":""},{"$f":"IF(NOT(ISBLANK(ShareOfSearch_SERPS!A2334)),ShareOfSearch_SERPS!A2334,\"\")","v":""},{"$f":"IF(NOT(ISBLANK(ShareOfSearch_SERPS!G2334)),ShareOfSearch_SERPS!G2334,\"\")","v":""},{"$f":"IF(NOT(ISBLANK(ShareOfSearch_SERPS!K2334)),ShareOfSearch_SERPS!K2334,\"\")","v":""},{"$f":"IFERROR(VLOOKUP(C2334,ShareOfSearch_CTR!$A$1:$B$100,2,FALSE)*VLOOKUP(A2334&B2334,ShareOfSearch_Volume!$C$1:$D$1000,2,FALSE),\"\")","v":""}]
[{"$f":"IF(ISTEXT(ShareOfSearch_SERPS!C2335),ShareOfSearch_SERPS!C2335,\"\")","v":""},{"$f":"IF(ISTEXT(ShareOfSearch_SERPS!D2335),ShareOfSearch_SERPS!D2335,\"\")","v":""},{"$f":"IF(NOT(ISBLANK(ShareOfSearch_SERPS!A2335)),ShareOfSearch_SERPS!A2335,\"\")","v":""},{"$f":"IF(NOT(ISBLANK(ShareOfSearch_SERPS!G2335)),ShareOfSearch_SERPS!G2335,\"\")","v":""},{"$f":"IF(NOT(ISBLANK(ShareOfSearch_SERPS!K2335)),ShareOfSearch_SERPS!K2335,\"\")","v":""},{"$f":"IFERROR(VLOOKUP(C2335,ShareOfSearch_CTR!$A$1:$B$100,2,FALSE)*VLOOKUP(A2335&B2335,ShareOfSearch_Volume!$C$1:$D$1000,2,FALSE),\"\")","v":""}]
[{"$f":"IF(ISTEXT(ShareOfSearch_SERPS!C2336),ShareOfSearch_SERPS!C2336,\"\")","v":""},{"$f":"IF(ISTEXT(ShareOfSearch_SERPS!D2336),ShareOfSearch_SERPS!D2336,\"\")","v":""},{"$f":"IF(NOT(ISBLANK(ShareOfSearch_SERPS!A2336)),ShareOfSearch_SERPS!A2336,\"\")","v":""},{"$f":"IF(NOT(ISBLANK(ShareOfSearch_SERPS!G2336)),ShareOfSearch_SERPS!G2336,\"\")","v":""},{"$f":"IF(NOT(ISBLANK(ShareOfSearch_SERPS!K2336)),ShareOfSearch_SERPS!K2336,\"\")","v":""},{"$f":"IFERROR(VLOOKUP(C2336,ShareOfSearch_CTR!$A$1:$B$100,2,FALSE)*VLOOKUP(A2336&B2336,ShareOfSearch_Volume!$C$1:$D$1000,2,FALSE),\"\")","v":""}]
[{"$f":"IF(ISTEXT(ShareOfSearch_SERPS!C2337),ShareOfSearch_SERPS!C2337,\"\")","v":""},{"$f":"IF(ISTEXT(ShareOfSearch_SERPS!D2337),ShareOfSearch_SERPS!D2337,\"\")","v":""},{"$f":"IF(NOT(ISBLANK(ShareOfSearch_SERPS!A2337)),ShareOfSearch_SERPS!A2337,\"\")","v":""},{"$f":"IF(NOT(ISBLANK(ShareOfSearch_SERPS!G2337)),ShareOfSearch_SERPS!G2337,\"\")","v":""},{"$f":"IF(NOT(ISBLANK(ShareOfSearch_SERPS!K2337)),ShareOfSearch_SERPS!K2337,\"\")","v":""},{"$f":"IFERROR(VLOOKUP(C2337,ShareOfSearch_CTR!$A$1:$B$100,2,FALSE)*VLOOKUP(A2337&B2337,ShareOfSearch_Volume!$C$1:$D$1000,2,FALSE),\"\")","v":""}]
[{"$f":"IF(ISTEXT(ShareOfSearch_SERPS!C2338),ShareOfSearch_SERPS!C2338,\"\")","v":""},{"$f":"IF(ISTEXT(ShareOfSearch_SERPS!D2338),ShareOfSearch_SERPS!D2338,\"\")","v":""},{"$f":"IF(NOT(ISBLANK(ShareOfSearch_SERPS!A2338)),ShareOfSearch_SERPS!A2338,\"\")","v":""},{"$f":"IF(NOT(ISBLANK(ShareOfSearch_SERPS!G2338)),ShareOfSearch_SERPS!G2338,\"\")","v":""},{"$f":"IF(NOT(ISBLANK(ShareOfSearch_SERPS!K2338)),ShareOfSearch_SERPS!K2338,\"\")","v":""},{"$f":"IFERROR(VLOOKUP(C2338,ShareOfSearch_CTR!$A$1:$B$100,2,FALSE)*VLOOKUP(A2338&B2338,ShareOfSearch_Volume!$C$1:$D$1000,2,FALSE),\"\")","v":""}]
[{"$f":"IF(ISTEXT(ShareOfSearch_SERPS!C2339),ShareOfSearch_SERPS!C2339,\"\")","v":""},{"$f":"IF(ISTEXT(ShareOfSearch_SERPS!D2339),ShareOfSearch_SERPS!D2339,\"\")","v":""},{"$f":"IF(NOT(ISBLANK(ShareOfSearch_SERPS!A2339)),ShareOfSearch_SERPS!A2339,\"\")","v":""},{"$f":"IF(NOT(ISBLANK(ShareOfSearch_SERPS!G2339)),ShareOfSearch_SERPS!G2339,\"\")","v":""},{"$f":"IF(NOT(ISBLANK(ShareOfSearch_SERPS!K2339)),ShareOfSearch_SERPS!K2339,\"\")","v":""},{"$f":"IFERROR(VLOOKUP(C2339,ShareOfSearch_CTR!$A$1:$B$100,2,FALSE)*VLOOKUP(A2339&B2339,ShareOfSearch_Volume!$C$1:$D$1000,2,FALSE),\"\")","v":""}]
[{"$f":"IF(ISTEXT(ShareOfSearch_SERPS!C2340),ShareOfSearch_SERPS!C2340,\"\")","v":""},{"$f":"IF(ISTEXT(ShareOfSearch_SERPS!D2340),ShareOfSearch_SERPS!D2340,\"\")","v":""},{"$f":"IF(NOT(ISBLANK(ShareOfSearch_SERPS!A2340)),ShareOfSearch_SERPS!A2340,\"\")","v":""},{"$f":"IF(NOT(ISBLANK(ShareOfSearch_SERPS!G2340)),ShareOfSearch_SERPS!G2340,\"\")","v":""},{"$f":"IF(NOT(ISBLANK(ShareOfSearch_SERPS!K2340)),ShareOfSearch_SERPS!K2340,\"\")","v":""},{"$f":"IFERROR(VLOOKUP(C2340,ShareOfSearch_CTR!$A$1:$B$100,2,FALSE)*VLOOKUP(A2340&B2340,ShareOfSearch_Volume!$C$1:$D$1000,2,FALSE),\"\")","v":""}]
[{"$f":"IF(ISTEXT(ShareOfSearch_SERPS!C2341),ShareOfSearch_SERPS!C2341,\"\")","v":""},{"$f":"IF(ISTEXT(ShareOfSearch_SERPS!D2341),ShareOfSearch_SERPS!D2341,\"\")","v":""},{"$f":"IF(NOT(ISBLANK(ShareOfSearch_SERPS!A2341)),ShareOfSearch_SERPS!A2341,\"\")","v":""},{"$f":"IF(NOT(ISBLANK(ShareOfSearch_SERPS!G2341)),ShareOfSearch_SERPS!G2341,\"\")","v":""},{"$f":"IF(NOT(ISBLANK(ShareOfSearch_SERPS!K2341)),ShareOfSearch_SERPS!K2341,\"\")","v":""},{"$f":"IFERROR(VLOOKUP(C2341,ShareOfSearch_CTR!$A$1:$B$100,2,FALSE)*VLOOKUP(A2341&B2341,ShareOfSearch_Volume!$C$1:$D$1000,2,FALSE),\"\")","v":""}]
[{"$f":"IF(ISTEXT(ShareOfSearch_SERPS!C2342),ShareOfSearch_SERPS!C2342,\"\")","v":""},{"$f":"IF(ISTEXT(ShareOfSearch_SERPS!D2342),ShareOfSearch_SERPS!D2342,\"\")","v":""},{"$f":"IF(NOT(ISBLANK(ShareOfSearch_SERPS!A2342)),ShareOfSearch_SERPS!A2342,\"\")","v":""},{"$f":"IF(NOT(ISBLANK(ShareOfSearch_SERPS!G2342)),ShareOfSearch_SERPS!G2342,\"\")","v":""},{"$f":"IF(NOT(ISBLANK(ShareOfSearch_SERPS!K2342)),ShareOfSearch_SERPS!K2342,\"\")","v":""},{"$f":"IFERROR(VLOOKUP(C2342,ShareOfSearch_CTR!$A$1:$B$100,2,FALSE)*VLOOKUP(A2342&B2342,ShareOfSearch_Volume!$C$1:$D$1000,2,FALSE),\"\")","v":""}]
[{"$f":"IF(ISTEXT(ShareOfSearch_SERPS!C2343),ShareOfSearch_SERPS!C2343,\"\")","v":""},{"$f":"IF(ISTEXT(ShareOfSearch_SERPS!D2343),ShareOfSearch_SERPS!D2343,\"\")","v":""},{"$f":"IF(NOT(ISBLANK(ShareOfSearch_SERPS!A2343)),ShareOfSearch_SERPS!A2343,\"\")","v":""},{"$f":"IF(NOT(ISBLANK(ShareOfSearch_SERPS!G2343)),ShareOfSearch_SERPS!G2343,\"\")","v":""},{"$f":"IF(NOT(ISBLANK(ShareOfSearch_SERPS!K2343)),ShareOfSearch_SERPS!K2343,\"\")","v":""},{"$f":"IFERROR(VLOOKUP(C2343,ShareOfSearch_CTR!$A$1:$B$100,2,FALSE)*VLOOKUP(A2343&B2343,ShareOfSearch_Volume!$C$1:$D$1000,2,FALSE),\"\")","v":""}]
[{"$f":"IF(ISTEXT(ShareOfSearch_SERPS!C2344),ShareOfSearch_SERPS!C2344,\"\")","v":""},{"$f":"IF(ISTEXT(ShareOfSearch_SERPS!D2344),ShareOfSearch_SERPS!D2344,\"\")","v":""},{"$f":"IF(NOT(ISBLANK(ShareOfSearch_SERPS!A2344)),ShareOfSearch_SERPS!A2344,\"\")","v":""},{"$f":"IF(NOT(ISBLANK(ShareOfSearch_SERPS!G2344)),ShareOfSearch_SERPS!G2344,\"\")","v":""},{"$f":"IF(NOT(ISBLANK(ShareOfSearch_SERPS!K2344)),ShareOfSearch_SERPS!K2344,\"\")","v":""},{"$f":"IFERROR(VLOOKUP(C2344,ShareOfSearch_CTR!$A$1:$B$100,2,FALSE)*VLOOKUP(A2344&B2344,ShareOfSearch_Volume!$C$1:$D$1000,2,FALSE),\"\")","v":""}]
[{"$f":"IF(ISTEXT(ShareOfSearch_SERPS!C2345),ShareOfSearch_SERPS!C2345,\"\")","v":""},{"$f":"IF(ISTEXT(ShareOfSearch_SERPS!D2345),ShareOfSearch_SERPS!D2345,\"\")","v":""},{"$f":"IF(NOT(ISBLANK(ShareOfSearch_SERPS!A2345)),ShareOfSearch_SERPS!A2345,\"\")","v":""},{"$f":"IF(NOT(ISBLANK(ShareOfSearch_SERPS!G2345)),ShareOfSearch_SERPS!G2345,\"\")","v":""},{"$f":"IF(NOT(ISBLANK(ShareOfSearch_SERPS!K2345)),ShareOfSearch_SERPS!K2345,\"\")","v":""},{"$f":"IFERROR(VLOOKUP(C2345,ShareOfSearch_CTR!$A$1:$B$100,2,FALSE)*VLOOKUP(A2345&B2345,ShareOfSearch_Volume!$C$1:$D$1000,2,FALSE),\"\")","v":""}]
[{"$f":"IF(ISTEXT(ShareOfSearch_SERPS!C2346),ShareOfSearch_SERPS!C2346,\"\")","v":""},{"$f":"IF(ISTEXT(ShareOfSearch_SERPS!D2346),ShareOfSearch_SERPS!D2346,\"\")","v":""},{"$f":"IF(NOT(ISBLANK(ShareOfSearch_SERPS!A2346)),ShareOfSearch_SERPS!A2346,\"\")","v":""},{"$f":"IF(NOT(ISBLANK(ShareOfSearch_SERPS!G2346)),ShareOfSearch_SERPS!G2346,\"\")","v":""},{"$f":"IF(NOT(ISBLANK(ShareOfSearch_SERPS!K2346)),ShareOfSearch_SERPS!K2346,\"\")","v":""},{"$f":"IFERROR(VLOOKUP(C2346,ShareOfSearch_CTR!$A$1:$B$100,2,FALSE)*VLOOKUP(A2346&B2346,ShareOfSearch_Volume!$C$1:$D$1000,2,FALSE),\"\")","v":""}]
[{"$f":"IF(ISTEXT(ShareOfSearch_SERPS!C2347),ShareOfSearch_SERPS!C2347,\"\")","v":""},{"$f":"IF(ISTEXT(ShareOfSearch_SERPS!D2347),ShareOfSearch_SERPS!D2347,\"\")","v":""},{"$f":"IF(NOT(ISBLANK(ShareOfSearch_SERPS!A2347)),ShareOfSearch_SERPS!A2347,\"\")","v":""},{"$f":"IF(NOT(ISBLANK(ShareOfSearch_SERPS!G2347)),ShareOfSearch_SERPS!G2347,\"\")","v":""},{"$f":"IF(NOT(ISBLANK(ShareOfSearch_SERPS!K2347)),ShareOfSearch_SERPS!K2347,\"\")","v":""},{"$f":"IFERROR(VLOOKUP(C2347,ShareOfSearch_CTR!$A$1:$B$100,2,FALSE)*VLOOKUP(A2347&B2347,ShareOfSearch_Volume!$C$1:$D$1000,2,FALSE),\"\")","v":""}]
[{"$f":"IF(ISTEXT(ShareOfSearch_SERPS!C2348),ShareOfSearch_SERPS!C2348,\"\")","v":""},{"$f":"IF(ISTEXT(ShareOfSearch_SERPS!D2348),ShareOfSearch_SERPS!D2348,\"\")","v":""},{"$f":"IF(NOT(ISBLANK(ShareOfSearch_SERPS!A2348)),ShareOfSearch_SERPS!A2348,\"\")","v":""},{"$f":"IF(NOT(ISBLANK(ShareOfSearch_SERPS!G2348)),ShareOfSearch_SERPS!G2348,\"\")","v":""},{"$f":"IF(NOT(ISBLANK(ShareOfSearch_SERPS!K2348)),ShareOfSearch_SERPS!K2348,\"\")","v":""},{"$f":"IFERROR(VLOOKUP(C2348,ShareOfSearch_CTR!$A$1:$B$100,2,FALSE)*VLOOKUP(A2348&B2348,ShareOfSearch_Volume!$C$1:$D$1000,2,FALSE),\"\")","v":""}]
[{"$f":"IF(ISTEXT(ShareOfSearch_SERPS!C2349),ShareOfSearch_SERPS!C2349,\"\")","v":""},{"$f":"IF(ISTEXT(ShareOfSearch_SERPS!D2349),ShareOfSearch_SERPS!D2349,\"\")","v":""},{"$f":"IF(NOT(ISBLANK(ShareOfSearch_SERPS!A2349)),ShareOfSearch_SERPS!A2349,\"\")","v":""},{"$f":"IF(NOT(ISBLANK(ShareOfSearch_SERPS!G2349)),ShareOfSearch_SERPS!G2349,\"\")","v":""},{"$f":"IF(NOT(ISBLANK(ShareOfSearch_SERPS!K2349)),ShareOfSearch_SERPS!K2349,\"\")","v":""},{"$f":"IFERROR(VLOOKUP(C2349,ShareOfSearch_CTR!$A$1:$B$100,2,FALSE)*VLOOKUP(A2349&B2349,ShareOfSearch_Volume!$C$1:$D$1000,2,FALSE),\"\")","v":""}]
[{"$f":"IF(ISTEXT(ShareOfSearch_SERPS!C2350),ShareOfSearch_SERPS!C2350,\"\")","v":""},{"$f":"IF(ISTEXT(ShareOfSearch_SERPS!D2350),ShareOfSearch_SERPS!D2350,\"\")","v":""},{"$f":"IF(NOT(ISBLANK(ShareOfSearch_SERPS!A2350)),ShareOfSearch_SERPS!A2350,\"\")","v":""},{"$f":"IF(NOT(ISBLANK(ShareOfSearch_SERPS!G2350)),ShareOfSearch_SERPS!G2350,\"\")","v":""},{"$f":"IF(NOT(ISBLANK(ShareOfSearch_SERPS!K2350)),ShareOfSearch_SERPS!K2350,\"\")","v":""},{"$f":"IFERROR(VLOOKUP(C2350,ShareOfSearch_CTR!$A$1:$B$100,2,FALSE)*VLOOKUP(A2350&B2350,ShareOfSearch_Volume!$C$1:$D$1000,2,FALSE),\"\")","v":""}]
[{"$f":"IF(ISTEXT(ShareOfSearch_SERPS!C2351),ShareOfSearch_SERPS!C2351,\"\")","v":""},{"$f":"IF(ISTEXT(ShareOfSearch_SERPS!D2351),ShareOfSearch_SERPS!D2351,\"\")","v":""},{"$f":"IF(NOT(ISBLANK(ShareOfSearch_SERPS!A2351)),ShareOfSearch_SERPS!A2351,\"\")","v":""},{"$f":"IF(NOT(ISBLANK(ShareOfSearch_SERPS!G2351)),ShareOfSearch_SERPS!G2351,\"\")","v":""},{"$f":"IF(NOT(ISBLANK(ShareOfSearch_SERPS!K2351)),ShareOfSearch_SERPS!K2351,\"\")","v":""},{"$f":"IFERROR(VLOOKUP(C2351,ShareOfSearch_CTR!$A$1:$B$100,2,FALSE)*VLOOKUP(A2351&B2351,ShareOfSearch_Volume!$C$1:$D$1000,2,FALSE),\"\")","v":""}]
[{"$f":"IF(ISTEXT(ShareOfSearch_SERPS!C2352),ShareOfSearch_SERPS!C2352,\"\")","v":""},{"$f":"IF(ISTEXT(ShareOfSearch_SERPS!D2352),ShareOfSearch_SERPS!D2352,\"\")","v":""},{"$f":"IF(NOT(ISBLANK(ShareOfSearch_SERPS!A2352)),ShareOfSearch_SERPS!A2352,\"\")","v":""},{"$f":"IF(NOT(ISBLANK(ShareOfSearch_SERPS!G2352)),ShareOfSearch_SERPS!G2352,\"\")","v":""},{"$f":"IF(NOT(ISBLANK(ShareOfSearch_SERPS!K2352)),ShareOfSearch_SERPS!K2352,\"\")","v":""},{"$f":"IFERROR(VLOOKUP(C2352,ShareOfSearch_CTR!$A$1:$B$100,2,FALSE)*VLOOKUP(A2352&B2352,ShareOfSearch_Volume!$C$1:$D$1000,2,FALSE),\"\")","v":""}]
[{"$f":"IF(ISTEXT(ShareOfSearch_SERPS!C2353),ShareOfSearch_SERPS!C2353,\"\")","v":""},{"$f":"IF(ISTEXT(ShareOfSearch_SERPS!D2353),ShareOfSearch_SERPS!D2353,\"\")","v":""},{"$f":"IF(NOT(ISBLANK(ShareOfSearch_SERPS!A2353)),ShareOfSearch_SERPS!A2353,\"\")","v":""},{"$f":"IF(NOT(ISBLANK(ShareOfSearch_SERPS!G2353)),ShareOfSearch_SERPS!G2353,\"\")","v":""},{"$f":"IF(NOT(ISBLANK(ShareOfSearch_SERPS!K2353)),ShareOfSearch_SERPS!K2353,\"\")","v":""},{"$f":"IFERROR(VLOOKUP(C2353,ShareOfSearch_CTR!$A$1:$B$100,2,FALSE)*VLOOKUP(A2353&B2353,ShareOfSearch_Volume!$C$1:$D$1000,2,FALSE),\"\")","v":""}]
[{"$f":"IF(ISTEXT(ShareOfSearch_SERPS!C2354),ShareOfSearch_SERPS!C2354,\"\")","v":""},{"$f":"IF(ISTEXT(ShareOfSearch_SERPS!D2354),ShareOfSearch_SERPS!D2354,\"\")","v":""},{"$f":"IF(NOT(ISBLANK(ShareOfSearch_SERPS!A2354)),ShareOfSearch_SERPS!A2354,\"\")","v":""},{"$f":"IF(NOT(ISBLANK(ShareOfSearch_SERPS!G2354)),ShareOfSearch_SERPS!G2354,\"\")","v":""},{"$f":"IF(NOT(ISBLANK(ShareOfSearch_SERPS!K2354)),ShareOfSearch_SERPS!K2354,\"\")","v":""},{"$f":"IFERROR(VLOOKUP(C2354,ShareOfSearch_CTR!$A$1:$B$100,2,FALSE)*VLOOKUP(A2354&B2354,ShareOfSearch_Volume!$C$1:$D$1000,2,FALSE),\"\")","v":""}]
[{"$f":"IF(ISTEXT(ShareOfSearch_SERPS!C2355),ShareOfSearch_SERPS!C2355,\"\")","v":""},{"$f":"IF(ISTEXT(ShareOfSearch_SERPS!D2355),ShareOfSearch_SERPS!D2355,\"\")","v":""},{"$f":"IF(NOT(ISBLANK(ShareOfSearch_SERPS!A2355)),ShareOfSearch_SERPS!A2355,\"\")","v":""},{"$f":"IF(NOT(ISBLANK(ShareOfSearch_SERPS!G2355)),ShareOfSearch_SERPS!G2355,\"\")","v":""},{"$f":"IF(NOT(ISBLANK(ShareOfSearch_SERPS!K2355)),ShareOfSearch_SERPS!K2355,\"\")","v":""},{"$f":"IFERROR(VLOOKUP(C2355,ShareOfSearch_CTR!$A$1:$B$100,2,FALSE)*VLOOKUP(A2355&B2355,ShareOfSearch_Volume!$C$1:$D$1000,2,FALSE),\"\")","v":""}]
[{"$f":"IF(ISTEXT(ShareOfSearch_SERPS!C2356),ShareOfSearch_SERPS!C2356,\"\")","v":""},{"$f":"IF(ISTEXT(ShareOfSearch_SERPS!D2356),ShareOfSearch_SERPS!D2356,\"\")","v":""},{"$f":"IF(NOT(ISBLANK(ShareOfSearch_SERPS!A2356)),ShareOfSearch_SERPS!A2356,\"\")","v":""},{"$f":"IF(NOT(ISBLANK(ShareOfSearch_SERPS!G2356)),ShareOfSearch_SERPS!G2356,\"\")","v":""},{"$f":"IF(NOT(ISBLANK(ShareOfSearch_SERPS!K2356)),ShareOfSearch_SERPS!K2356,\"\")","v":""},{"$f":"IFERROR(VLOOKUP(C2356,ShareOfSearch_CTR!$A$1:$B$100,2,FALSE)*VLOOKUP(A2356&B2356,ShareOfSearch_Volume!$C$1:$D$1000,2,FALSE),\"\")","v":""}]
[{"$f":"IF(ISTEXT(ShareOfSearch_SERPS!C2357),ShareOfSearch_SERPS!C2357,\"\")","v":""},{"$f":"IF(ISTEXT(ShareOfSearch_SERPS!D2357),ShareOfSearch_SERPS!D2357,\"\")","v":""},{"$f":"IF(NOT(ISBLANK(ShareOfSearch_SERPS!A2357)),ShareOfSearch_SERPS!A2357,\"\")","v":""},{"$f":"IF(NOT(ISBLANK(ShareOfSearch_SERPS!G2357)),ShareOfSearch_SERPS!G2357,\"\")","v":""},{"$f":"IF(NOT(ISBLANK(ShareOfSearch_SERPS!K2357)),ShareOfSearch_SERPS!K2357,\"\")","v":""},{"$f":"IFERROR(VLOOKUP(C2357,ShareOfSearch_CTR!$A$1:$B$100,2,FALSE)*VLOOKUP(A2357&B2357,ShareOfSearch_Volume!$C$1:$D$1000,2,FALSE),\"\")","v":""}]
[{"$f":"IF(ISTEXT(ShareOfSearch_SERPS!C2358),ShareOfSearch_SERPS!C2358,\"\")","v":""},{"$f":"IF(ISTEXT(ShareOfSearch_SERPS!D2358),ShareOfSearch_SERPS!D2358,\"\")","v":""},{"$f":"IF(NOT(ISBLANK(ShareOfSearch_SERPS!A2358)),ShareOfSearch_SERPS!A2358,\"\")","v":""},{"$f":"IF(NOT(ISBLANK(ShareOfSearch_SERPS!G2358)),ShareOfSearch_SERPS!G2358,\"\")","v":""},{"$f":"IF(NOT(ISBLANK(ShareOfSearch_SERPS!K2358)),ShareOfSearch_SERPS!K2358,\"\")","v":""},{"$f":"IFERROR(VLOOKUP(C2358,ShareOfSearch_CTR!$A$1:$B$100,2,FALSE)*VLOOKUP(A2358&B2358,ShareOfSearch_Volume!$C$1:$D$1000,2,FALSE),\"\")","v":""}]
[{"$f":"IF(ISTEXT(ShareOfSearch_SERPS!C2359),ShareOfSearch_SERPS!C2359,\"\")","v":""},{"$f":"IF(ISTEXT(ShareOfSearch_SERPS!D2359),ShareOfSearch_SERPS!D2359,\"\")","v":""},{"$f":"IF(NOT(ISBLANK(ShareOfSearch_SERPS!A2359)),ShareOfSearch_SERPS!A2359,\"\")","v":""},{"$f":"IF(NOT(ISBLANK(ShareOfSearch_SERPS!G2359)),ShareOfSearch_SERPS!G2359,\"\")","v":""},{"$f":"IF(NOT(ISBLANK(ShareOfSearch_SERPS!K2359)),ShareOfSearch_SERPS!K2359,\"\")","v":""},{"$f":"IFERROR(VLOOKUP(C2359,ShareOfSearch_CTR!$A$1:$B$100,2,FALSE)*VLOOKUP(A2359&B2359,ShareOfSearch_Volume!$C$1:$D$1000,2,FALSE),\"\")","v":""}]
[{"$f":"IF(ISTEXT(ShareOfSearch_SERPS!C2360),ShareOfSearch_SERPS!C2360,\"\")","v":""},{"$f":"IF(ISTEXT(ShareOfSearch_SERPS!D2360),ShareOfSearch_SERPS!D2360,\"\")","v":""},{"$f":"IF(NOT(ISBLANK(ShareOfSearch_SERPS!A2360)),ShareOfSearch_SERPS!A2360,\"\")","v":""},{"$f":"IF(NOT(ISBLANK(ShareOfSearch_SERPS!G2360)),ShareOfSearch_SERPS!G2360,\"\")","v":""},{"$f":"IF(NOT(ISBLANK(ShareOfSearch_SERPS!K2360)),ShareOfSearch_SERPS!K2360,\"\")","v":""},{"$f":"IFERROR(VLOOKUP(C2360,ShareOfSearch_CTR!$A$1:$B$100,2,FALSE)*VLOOKUP(A2360&B2360,ShareOfSearch_Volume!$C$1:$D$1000,2,FALSE),\"\")","v":""}]
[{"$f":"IF(ISTEXT(ShareOfSearch_SERPS!C2361),ShareOfSearch_SERPS!C2361,\"\")","v":""},{"$f":"IF(ISTEXT(ShareOfSearch_SERPS!D2361),ShareOfSearch_SERPS!D2361,\"\")","v":""},{"$f":"IF(NOT(ISBLANK(ShareOfSearch_SERPS!A2361)),ShareOfSearch_SERPS!A2361,\"\")","v":""},{"$f":"IF(NOT(ISBLANK(ShareOfSearch_SERPS!G2361)),ShareOfSearch_SERPS!G2361,\"\")","v":""},{"$f":"IF(NOT(ISBLANK(ShareOfSearch_SERPS!K2361)),ShareOfSearch_SERPS!K2361,\"\")","v":""},{"$f":"IFERROR(VLOOKUP(C2361,ShareOfSearch_CTR!$A$1:$B$100,2,FALSE)*VLOOKUP(A2361&B2361,ShareOfSearch_Volume!$C$1:$D$1000,2,FALSE),\"\")","v":""}]
[{"$f":"IF(ISTEXT(ShareOfSearch_SERPS!C2362),ShareOfSearch_SERPS!C2362,\"\")","v":""},{"$f":"IF(ISTEXT(ShareOfSearch_SERPS!D2362),ShareOfSearch_SERPS!D2362,\"\")","v":""},{"$f":"IF(NOT(ISBLANK(ShareOfSearch_SERPS!A2362)),ShareOfSearch_SERPS!A2362,\"\")","v":""},{"$f":"IF(NOT(ISBLANK(ShareOfSearch_SERPS!G2362)),ShareOfSearch_SERPS!G2362,\"\")","v":""},{"$f":"IF(NOT(ISBLANK(ShareOfSearch_SERPS!K2362)),ShareOfSearch_SERPS!K2362,\"\")","v":""},{"$f":"IFERROR(VLOOKUP(C2362,ShareOfSearch_CTR!$A$1:$B$100,2,FALSE)*VLOOKUP(A2362&B2362,ShareOfSearch_Volume!$C$1:$D$1000,2,FALSE),\"\")","v":""}]
[{"$f":"IF(ISTEXT(ShareOfSearch_SERPS!C2363),ShareOfSearch_SERPS!C2363,\"\")","v":""},{"$f":"IF(ISTEXT(ShareOfSearch_SERPS!D2363),ShareOfSearch_SERPS!D2363,\"\")","v":""},{"$f":"IF(NOT(ISBLANK(ShareOfSearch_SERPS!A2363)),ShareOfSearch_SERPS!A2363,\"\")","v":""},{"$f":"IF(NOT(ISBLANK(ShareOfSearch_SERPS!G2363)),ShareOfSearch_SERPS!G2363,\"\")","v":""},{"$f":"IF(NOT(ISBLANK(ShareOfSearch_SERPS!K2363)),ShareOfSearch_SERPS!K2363,\"\")","v":""},{"$f":"IFERROR(VLOOKUP(C2363,ShareOfSearch_CTR!$A$1:$B$100,2,FALSE)*VLOOKUP(A2363&B2363,ShareOfSearch_Volume!$C$1:$D$1000,2,FALSE),\"\")","v":""}]
[{"$f":"IF(ISTEXT(ShareOfSearch_SERPS!C2364),ShareOfSearch_SERPS!C2364,\"\")","v":""},{"$f":"IF(ISTEXT(ShareOfSearch_SERPS!D2364),ShareOfSearch_SERPS!D2364,\"\")","v":""},{"$f":"IF(NOT(ISBLANK(ShareOfSearch_SERPS!A2364)),ShareOfSearch_SERPS!A2364,\"\")","v":""},{"$f":"IF(NOT(ISBLANK(ShareOfSearch_SERPS!G2364)),ShareOfSearch_SERPS!G2364,\"\")","v":""},{"$f":"IF(NOT(ISBLANK(ShareOfSearch_SERPS!K2364)),ShareOfSearch_SERPS!K2364,\"\")","v":""},{"$f":"IFERROR(VLOOKUP(C2364,ShareOfSearch_CTR!$A$1:$B$100,2,FALSE)*VLOOKUP(A2364&B2364,ShareOfSearch_Volume!$C$1:$D$1000,2,FALSE),\"\")","v":""}]
[{"$f":"IF(ISTEXT(ShareOfSearch_SERPS!C2365),ShareOfSearch_SERPS!C2365,\"\")","v":""},{"$f":"IF(ISTEXT(ShareOfSearch_SERPS!D2365),ShareOfSearch_SERPS!D2365,\"\")","v":""},{"$f":"IF(NOT(ISBLANK(ShareOfSearch_SERPS!A2365)),ShareOfSearch_SERPS!A2365,\"\")","v":""},{"$f":"IF(NOT(ISBLANK(ShareOfSearch_SERPS!G2365)),ShareOfSearch_SERPS!G2365,\"\")","v":""},{"$f":"IF(NOT(ISBLANK(ShareOfSearch_SERPS!K2365)),ShareOfSearch_SERPS!K2365,\"\")","v":""},{"$f":"IFERROR(VLOOKUP(C2365,ShareOfSearch_CTR!$A$1:$B$100,2,FALSE)*VLOOKUP(A2365&B2365,ShareOfSearch_Volume!$C$1:$D$1000,2,FALSE),\"\")","v":""}]
[{"$f":"IF(ISTEXT(ShareOfSearch_SERPS!C2366),ShareOfSearch_SERPS!C2366,\"\")","v":""},{"$f":"IF(ISTEXT(ShareOfSearch_SERPS!D2366),ShareOfSearch_SERPS!D2366,\"\")","v":""},{"$f":"IF(NOT(ISBLANK(ShareOfSearch_SERPS!A2366)),ShareOfSearch_SERPS!A2366,\"\")","v":""},{"$f":"IF(NOT(ISBLANK(ShareOfSearch_SERPS!G2366)),ShareOfSearch_SERPS!G2366,\"\")","v":""},{"$f":"IF(NOT(ISBLANK(ShareOfSearch_SERPS!K2366)),ShareOfSearch_SERPS!K2366,\"\")","v":""},{"$f":"IFERROR(VLOOKUP(C2366,ShareOfSearch_CTR!$A$1:$B$100,2,FALSE)*VLOOKUP(A2366&B2366,ShareOfSearch_Volume!$C$1:$D$1000,2,FALSE),\"\")","v":""}]
[{"$f":"IF(ISTEXT(ShareOfSearch_SERPS!C2367),ShareOfSearch_SERPS!C2367,\"\")","v":""},{"$f":"IF(ISTEXT(ShareOfSearch_SERPS!D2367),ShareOfSearch_SERPS!D2367,\"\")","v":""},{"$f":"IF(NOT(ISBLANK(ShareOfSearch_SERPS!A2367)),ShareOfSearch_SERPS!A2367,\"\")","v":""},{"$f":"IF(NOT(ISBLANK(ShareOfSearch_SERPS!G2367)),ShareOfSearch_SERPS!G2367,\"\")","v":""},{"$f":"IF(NOT(ISBLANK(ShareOfSearch_SERPS!K2367)),ShareOfSearch_SERPS!K2367,\"\")","v":""},{"$f":"IFERROR(VLOOKUP(C2367,ShareOfSearch_CTR!$A$1:$B$100,2,FALSE)*VLOOKUP(A2367&B2367,ShareOfSearch_Volume!$C$1:$D$1000,2,FALSE),\"\")","v":""}]
[{"$f":"IF(ISTEXT(ShareOfSearch_SERPS!C2368),ShareOfSearch_SERPS!C2368,\"\")","v":""},{"$f":"IF(ISTEXT(ShareOfSearch_SERPS!D2368),ShareOfSearch_SERPS!D2368,\"\")","v":""},{"$f":"IF(NOT(ISBLANK(ShareOfSearch_SERPS!A2368)),ShareOfSearch_SERPS!A2368,\"\")","v":""},{"$f":"IF(NOT(ISBLANK(ShareOfSearch_SERPS!G2368)),ShareOfSearch_SERPS!G2368,\"\")","v":""},{"$f":"IF(NOT(ISBLANK(ShareOfSearch_SERPS!K2368)),ShareOfSearch_SERPS!K2368,\"\")","v":""},{"$f":"IFERROR(VLOOKUP(C2368,ShareOfSearch_CTR!$A$1:$B$100,2,FALSE)*VLOOKUP(A2368&B2368,ShareOfSearch_Volume!$C$1:$D$1000,2,FALSE),\"\")","v":""}]
[{"$f":"IF(ISTEXT(ShareOfSearch_SERPS!C2369),ShareOfSearch_SERPS!C2369,\"\")","v":""},{"$f":"IF(ISTEXT(ShareOfSearch_SERPS!D2369),ShareOfSearch_SERPS!D2369,\"\")","v":""},{"$f":"IF(NOT(ISBLANK(ShareOfSearch_SERPS!A2369)),ShareOfSearch_SERPS!A2369,\"\")","v":""},{"$f":"IF(NOT(ISBLANK(ShareOfSearch_SERPS!G2369)),ShareOfSearch_SERPS!G2369,\"\")","v":""},{"$f":"IF(NOT(ISBLANK(ShareOfSearch_SERPS!K2369)),ShareOfSearch_SERPS!K2369,\"\")","v":""},{"$f":"IFERROR(VLOOKUP(C2369,ShareOfSearch_CTR!$A$1:$B$100,2,FALSE)*VLOOKUP(A2369&B2369,ShareOfSearch_Volume!$C$1:$D$1000,2,FALSE),\"\")","v":""}]
[{"$f":"IF(ISTEXT(ShareOfSearch_SERPS!C2370),ShareOfSearch_SERPS!C2370,\"\")","v":""},{"$f":"IF(ISTEXT(ShareOfSearch_SERPS!D2370),ShareOfSearch_SERPS!D2370,\"\")","v":""},{"$f":"IF(NOT(ISBLANK(ShareOfSearch_SERPS!A2370)),ShareOfSearch_SERPS!A2370,\"\")","v":""},{"$f":"IF(NOT(ISBLANK(ShareOfSearch_SERPS!G2370)),ShareOfSearch_SERPS!G2370,\"\")","v":""},{"$f":"IF(NOT(ISBLANK(ShareOfSearch_SERPS!K2370)),ShareOfSearch_SERPS!K2370,\"\")","v":""},{"$f":"IFERROR(VLOOKUP(C2370,ShareOfSearch_CTR!$A$1:$B$100,2,FALSE)*VLOOKUP(A2370&B2370,ShareOfSearch_Volume!$C$1:$D$1000,2,FALSE),\"\")","v":""}]
[{"$f":"IF(ISTEXT(ShareOfSearch_SERPS!C2371),ShareOfSearch_SERPS!C2371,\"\")","v":""},{"$f":"IF(ISTEXT(ShareOfSearch_SERPS!D2371),ShareOfSearch_SERPS!D2371,\"\")","v":""},{"$f":"IF(NOT(ISBLANK(ShareOfSearch_SERPS!A2371)),ShareOfSearch_SERPS!A2371,\"\")","v":""},{"$f":"IF(NOT(ISBLANK(ShareOfSearch_SERPS!G2371)),ShareOfSearch_SERPS!G2371,\"\")","v":""},{"$f":"IF(NOT(ISBLANK(ShareOfSearch_SERPS!K2371)),ShareOfSearch_SERPS!K2371,\"\")","v":""},{"$f":"IFERROR(VLOOKUP(C2371,ShareOfSearch_CTR!$A$1:$B$100,2,FALSE)*VLOOKUP(A2371&B2371,ShareOfSearch_Volume!$C$1:$D$1000,2,FALSE),\"\")","v":""}]
[{"$f":"IF(ISTEXT(ShareOfSearch_SERPS!C2372),ShareOfSearch_SERPS!C2372,\"\")","v":""},{"$f":"IF(ISTEXT(ShareOfSearch_SERPS!D2372),ShareOfSearch_SERPS!D2372,\"\")","v":""},{"$f":"IF(NOT(ISBLANK(ShareOfSearch_SERPS!A2372)),ShareOfSearch_SERPS!A2372,\"\")","v":""},{"$f":"IF(NOT(ISBLANK(ShareOfSearch_SERPS!G2372)),ShareOfSearch_SERPS!G2372,\"\")","v":""},{"$f":"IF(NOT(ISBLANK(ShareOfSearch_SERPS!K2372)),ShareOfSearch_SERPS!K2372,\"\")","v":""},{"$f":"IFERROR(VLOOKUP(C2372,ShareOfSearch_CTR!$A$1:$B$100,2,FALSE)*VLOOKUP(A2372&B2372,ShareOfSearch_Volume!$C$1:$D$1000,2,FALSE),\"\")","v":""}]
[{"$f":"IF(ISTEXT(ShareOfSearch_SERPS!C2373),ShareOfSearch_SERPS!C2373,\"\")","v":""},{"$f":"IF(ISTEXT(ShareOfSearch_SERPS!D2373),ShareOfSearch_SERPS!D2373,\"\")","v":""},{"$f":"IF(NOT(ISBLANK(ShareOfSearch_SERPS!A2373)),ShareOfSearch_SERPS!A2373,\"\")","v":""},{"$f":"IF(NOT(ISBLANK(ShareOfSearch_SERPS!G2373)),ShareOfSearch_SERPS!G2373,\"\")","v":""},{"$f":"IF(NOT(ISBLANK(ShareOfSearch_SERPS!K2373)),ShareOfSearch_SERPS!K2373,\"\")","v":""},{"$f":"IFERROR(VLOOKUP(C2373,ShareOfSearch_CTR!$A$1:$B$100,2,FALSE)*VLOOKUP(A2373&B2373,ShareOfSearch_Volume!$C$1:$D$1000,2,FALSE),\"\")","v":""}]
[{"$f":"IF(ISTEXT(ShareOfSearch_SERPS!C2374),ShareOfSearch_SERPS!C2374,\"\")","v":""},{"$f":"IF(ISTEXT(ShareOfSearch_SERPS!D2374),ShareOfSearch_SERPS!D2374,\"\")","v":""},{"$f":"IF(NOT(ISBLANK(ShareOfSearch_SERPS!A2374)),ShareOfSearch_SERPS!A2374,\"\")","v":""},{"$f":"IF(NOT(ISBLANK(ShareOfSearch_SERPS!G2374)),ShareOfSearch_SERPS!G2374,\"\")","v":""},{"$f":"IF(NOT(ISBLANK(ShareOfSearch_SERPS!K2374)),ShareOfSearch_SERPS!K2374,\"\")","v":""},{"$f":"IFERROR(VLOOKUP(C2374,ShareOfSearch_CTR!$A$1:$B$100,2,FALSE)*VLOOKUP(A2374&B2374,ShareOfSearch_Volume!$C$1:$D$1000,2,FALSE),\"\")","v":""}]
[{"$f":"IF(ISTEXT(ShareOfSearch_SERPS!C2375),ShareOfSearch_SERPS!C2375,\"\")","v":""},{"$f":"IF(ISTEXT(ShareOfSearch_SERPS!D2375),ShareOfSearch_SERPS!D2375,\"\")","v":""},{"$f":"IF(NOT(ISBLANK(ShareOfSearch_SERPS!A2375)),ShareOfSearch_SERPS!A2375,\"\")","v":""},{"$f":"IF(NOT(ISBLANK(ShareOfSearch_SERPS!G2375)),ShareOfSearch_SERPS!G2375,\"\")","v":""},{"$f":"IF(NOT(ISBLANK(ShareOfSearch_SERPS!K2375)),ShareOfSearch_SERPS!K2375,\"\")","v":""},{"$f":"IFERROR(VLOOKUP(C2375,ShareOfSearch_CTR!$A$1:$B$100,2,FALSE)*VLOOKUP(A2375&B2375,ShareOfSearch_Volume!$C$1:$D$1000,2,FALSE),\"\")","v":""}]
[{"$f":"IF(ISTEXT(ShareOfSearch_SERPS!C2376),ShareOfSearch_SERPS!C2376,\"\")","v":""},{"$f":"IF(ISTEXT(ShareOfSearch_SERPS!D2376),ShareOfSearch_SERPS!D2376,\"\")","v":""},{"$f":"IF(NOT(ISBLANK(ShareOfSearch_SERPS!A2376)),ShareOfSearch_SERPS!A2376,\"\")","v":""},{"$f":"IF(NOT(ISBLANK(ShareOfSearch_SERPS!G2376)),ShareOfSearch_SERPS!G2376,\"\")","v":""},{"$f":"IF(NOT(ISBLANK(ShareOfSearch_SERPS!K2376)),ShareOfSearch_SERPS!K2376,\"\")","v":""},{"$f":"IFERROR(VLOOKUP(C2376,ShareOfSearch_CTR!$A$1:$B$100,2,FALSE)*VLOOKUP(A2376&B2376,ShareOfSearch_Volume!$C$1:$D$1000,2,FALSE),\"\")","v":""}]
[{"$f":"IF(ISTEXT(ShareOfSearch_SERPS!C2377),ShareOfSearch_SERPS!C2377,\"\")","v":""},{"$f":"IF(ISTEXT(ShareOfSearch_SERPS!D2377),ShareOfSearch_SERPS!D2377,\"\")","v":""},{"$f":"IF(NOT(ISBLANK(ShareOfSearch_SERPS!A2377)),ShareOfSearch_SERPS!A2377,\"\")","v":""},{"$f":"IF(NOT(ISBLANK(ShareOfSearch_SERPS!G2377)),ShareOfSearch_SERPS!G2377,\"\")","v":""},{"$f":"IF(NOT(ISBLANK(ShareOfSearch_SERPS!K2377)),ShareOfSearch_SERPS!K2377,\"\")","v":""},{"$f":"IFERROR(VLOOKUP(C2377,ShareOfSearch_CTR!$A$1:$B$100,2,FALSE)*VLOOKUP(A2377&B2377,ShareOfSearch_Volume!$C$1:$D$1000,2,FALSE),\"\")","v":""}]
[{"$f":"IF(ISTEXT(ShareOfSearch_SERPS!C2378),ShareOfSearch_SERPS!C2378,\"\")","v":""},{"$f":"IF(ISTEXT(ShareOfSearch_SERPS!D2378),ShareOfSearch_SERPS!D2378,\"\")","v":""},{"$f":"IF(NOT(ISBLANK(ShareOfSearch_SERPS!A2378)),ShareOfSearch_SERPS!A2378,\"\")","v":""},{"$f":"IF(NOT(ISBLANK(ShareOfSearch_SERPS!G2378)),ShareOfSearch_SERPS!G2378,\"\")","v":""},{"$f":"IF(NOT(ISBLANK(ShareOfSearch_SERPS!K2378)),ShareOfSearch_SERPS!K2378,\"\")","v":""},{"$f":"IFERROR(VLOOKUP(C2378,ShareOfSearch_CTR!$A$1:$B$100,2,FALSE)*VLOOKUP(A2378&B2378,ShareOfSearch_Volume!$C$1:$D$1000,2,FALSE),\"\")","v":""}]
[{"$f":"IF(ISTEXT(ShareOfSearch_SERPS!C2379),ShareOfSearch_SERPS!C2379,\"\")","v":""},{"$f":"IF(ISTEXT(ShareOfSearch_SERPS!D2379),ShareOfSearch_SERPS!D2379,\"\")","v":""},{"$f":"IF(NOT(ISBLANK(ShareOfSearch_SERPS!A2379)),ShareOfSearch_SERPS!A2379,\"\")","v":""},{"$f":"IF(NOT(ISBLANK(ShareOfSearch_SERPS!G2379)),ShareOfSearch_SERPS!G2379,\"\")","v":""},{"$f":"IF(NOT(ISBLANK(ShareOfSearch_SERPS!K2379)),ShareOfSearch_SERPS!K2379,\"\")","v":""},{"$f":"IFERROR(VLOOKUP(C2379,ShareOfSearch_CTR!$A$1:$B$100,2,FALSE)*VLOOKUP(A2379&B2379,ShareOfSearch_Volume!$C$1:$D$1000,2,FALSE),\"\")","v":""}]
[{"$f":"IF(ISTEXT(ShareOfSearch_SERPS!C2380),ShareOfSearch_SERPS!C2380,\"\")","v":""},{"$f":"IF(ISTEXT(ShareOfSearch_SERPS!D2380),ShareOfSearch_SERPS!D2380,\"\")","v":""},{"$f":"IF(NOT(ISBLANK(ShareOfSearch_SERPS!A2380)),ShareOfSearch_SERPS!A2380,\"\")","v":""},{"$f":"IF(NOT(ISBLANK(ShareOfSearch_SERPS!G2380)),ShareOfSearch_SERPS!G2380,\"\")","v":""},{"$f":"IF(NOT(ISBLANK(ShareOfSearch_SERPS!K2380)),ShareOfSearch_SERPS!K2380,\"\")","v":""},{"$f":"IFERROR(VLOOKUP(C2380,ShareOfSearch_CTR!$A$1:$B$100,2,FALSE)*VLOOKUP(A2380&B2380,ShareOfSearch_Volume!$C$1:$D$1000,2,FALSE),\"\")","v":""}]
[{"$f":"IF(ISTEXT(ShareOfSearch_SERPS!C2381),ShareOfSearch_SERPS!C2381,\"\")","v":""},{"$f":"IF(ISTEXT(ShareOfSearch_SERPS!D2381),ShareOfSearch_SERPS!D2381,\"\")","v":""},{"$f":"IF(NOT(ISBLANK(ShareOfSearch_SERPS!A2381)),ShareOfSearch_SERPS!A2381,\"\")","v":""},{"$f":"IF(NOT(ISBLANK(ShareOfSearch_SERPS!G2381)),ShareOfSearch_SERPS!G2381,\"\")","v":""},{"$f":"IF(NOT(ISBLANK(ShareOfSearch_SERPS!K2381)),ShareOfSearch_SERPS!K2381,\"\")","v":""},{"$f":"IFERROR(VLOOKUP(C2381,ShareOfSearch_CTR!$A$1:$B$100,2,FALSE)*VLOOKUP(A2381&B2381,ShareOfSearch_Volume!$C$1:$D$1000,2,FALSE),\"\")","v":""}]
[{"$f":"IF(ISTEXT(ShareOfSearch_SERPS!C2382),ShareOfSearch_SERPS!C2382,\"\")","v":""},{"$f":"IF(ISTEXT(ShareOfSearch_SERPS!D2382),ShareOfSearch_SERPS!D2382,\"\")","v":""},{"$f":"IF(NOT(ISBLANK(ShareOfSearch_SERPS!A2382)),ShareOfSearch_SERPS!A2382,\"\")","v":""},{"$f":"IF(NOT(ISBLANK(ShareOfSearch_SERPS!G2382)),ShareOfSearch_SERPS!G2382,\"\")","v":""},{"$f":"IF(NOT(ISBLANK(ShareOfSearch_SERPS!K2382)),ShareOfSearch_SERPS!K2382,\"\")","v":""},{"$f":"IFERROR(VLOOKUP(C2382,ShareOfSearch_CTR!$A$1:$B$100,2,FALSE)*VLOOKUP(A2382&B2382,ShareOfSearch_Volume!$C$1:$D$1000,2,FALSE),\"\")","v":""}]
[{"$f":"IF(ISTEXT(ShareOfSearch_SERPS!C2383),ShareOfSearch_SERPS!C2383,\"\")","v":""},{"$f":"IF(ISTEXT(ShareOfSearch_SERPS!D2383),ShareOfSearch_SERPS!D2383,\"\")","v":""},{"$f":"IF(NOT(ISBLANK(ShareOfSearch_SERPS!A2383)),ShareOfSearch_SERPS!A2383,\"\")","v":""},{"$f":"IF(NOT(ISBLANK(ShareOfSearch_SERPS!G2383)),ShareOfSearch_SERPS!G2383,\"\")","v":""},{"$f":"IF(NOT(ISBLANK(ShareOfSearch_SERPS!K2383)),ShareOfSearch_SERPS!K2383,\"\")","v":""},{"$f":"IFERROR(VLOOKUP(C2383,ShareOfSearch_CTR!$A$1:$B$100,2,FALSE)*VLOOKUP(A2383&B2383,ShareOfSearch_Volume!$C$1:$D$1000,2,FALSE),\"\")","v":""}]
[{"$f":"IF(ISTEXT(ShareOfSearch_SERPS!C2384),ShareOfSearch_SERPS!C2384,\"\")","v":""},{"$f":"IF(ISTEXT(ShareOfSearch_SERPS!D2384),ShareOfSearch_SERPS!D2384,\"\")","v":""},{"$f":"IF(NOT(ISBLANK(ShareOfSearch_SERPS!A2384)),ShareOfSearch_SERPS!A2384,\"\")","v":""},{"$f":"IF(NOT(ISBLANK(ShareOfSearch_SERPS!G2384)),ShareOfSearch_SERPS!G2384,\"\")","v":""},{"$f":"IF(NOT(ISBLANK(ShareOfSearch_SERPS!K2384)),ShareOfSearch_SERPS!K2384,\"\")","v":""},{"$f":"IFERROR(VLOOKUP(C2384,ShareOfSearch_CTR!$A$1:$B$100,2,FALSE)*VLOOKUP(A2384&B2384,ShareOfSearch_Volume!$C$1:$D$1000,2,FALSE),\"\")","v":""}]
[{"$f":"IF(ISTEXT(ShareOfSearch_SERPS!C2385),ShareOfSearch_SERPS!C2385,\"\")","v":""},{"$f":"IF(ISTEXT(ShareOfSearch_SERPS!D2385),ShareOfSearch_SERPS!D2385,\"\")","v":""},{"$f":"IF(NOT(ISBLANK(ShareOfSearch_SERPS!A2385)),ShareOfSearch_SERPS!A2385,\"\")","v":""},{"$f":"IF(NOT(ISBLANK(ShareOfSearch_SERPS!G2385)),ShareOfSearch_SERPS!G2385,\"\")","v":""},{"$f":"IF(NOT(ISBLANK(ShareOfSearch_SERPS!K2385)),ShareOfSearch_SERPS!K2385,\"\")","v":""},{"$f":"IFERROR(VLOOKUP(C2385,ShareOfSearch_CTR!$A$1:$B$100,2,FALSE)*VLOOKUP(A2385&B2385,ShareOfSearch_Volume!$C$1:$D$1000,2,FALSE),\"\")","v":""}]
[{"$f":"IF(ISTEXT(ShareOfSearch_SERPS!C2386),ShareOfSearch_SERPS!C2386,\"\")","v":""},{"$f":"IF(ISTEXT(ShareOfSearch_SERPS!D2386),ShareOfSearch_SERPS!D2386,\"\")","v":""},{"$f":"IF(NOT(ISBLANK(ShareOfSearch_SERPS!A2386)),ShareOfSearch_SERPS!A2386,\"\")","v":""},{"$f":"IF(NOT(ISBLANK(ShareOfSearch_SERPS!G2386)),ShareOfSearch_SERPS!G2386,\"\")","v":""},{"$f":"IF(NOT(ISBLANK(ShareOfSearch_SERPS!K2386)),ShareOfSearch_SERPS!K2386,\"\")","v":""},{"$f":"IFERROR(VLOOKUP(C2386,ShareOfSearch_CTR!$A$1:$B$100,2,FALSE)*VLOOKUP(A2386&B2386,ShareOfSearch_Volume!$C$1:$D$1000,2,FALSE),\"\")","v":""}]
[{"$f":"IF(ISTEXT(ShareOfSearch_SERPS!C2387),ShareOfSearch_SERPS!C2387,\"\")","v":""},{"$f":"IF(ISTEXT(ShareOfSearch_SERPS!D2387),ShareOfSearch_SERPS!D2387,\"\")","v":""},{"$f":"IF(NOT(ISBLANK(ShareOfSearch_SERPS!A2387)),ShareOfSearch_SERPS!A2387,\"\")","v":""},{"$f":"IF(NOT(ISBLANK(ShareOfSearch_SERPS!G2387)),ShareOfSearch_SERPS!G2387,\"\")","v":""},{"$f":"IF(NOT(ISBLANK(ShareOfSearch_SERPS!K2387)),ShareOfSearch_SERPS!K2387,\"\")","v":""},{"$f":"IFERROR(VLOOKUP(C2387,ShareOfSearch_CTR!$A$1:$B$100,2,FALSE)*VLOOKUP(A2387&B2387,ShareOfSearch_Volume!$C$1:$D$1000,2,FALSE),\"\")","v":""}]
[{"$f":"IF(ISTEXT(ShareOfSearch_SERPS!C2388),ShareOfSearch_SERPS!C2388,\"\")","v":""},{"$f":"IF(ISTEXT(ShareOfSearch_SERPS!D2388),ShareOfSearch_SERPS!D2388,\"\")","v":""},{"$f":"IF(NOT(ISBLANK(ShareOfSearch_SERPS!A2388)),ShareOfSearch_SERPS!A2388,\"\")","v":""},{"$f":"IF(NOT(ISBLANK(ShareOfSearch_SERPS!G2388)),ShareOfSearch_SERPS!G2388,\"\")","v":""},{"$f":"IF(NOT(ISBLANK(ShareOfSearch_SERPS!K2388)),ShareOfSearch_SERPS!K2388,\"\")","v":""},{"$f":"IFERROR(VLOOKUP(C2388,ShareOfSearch_CTR!$A$1:$B$100,2,FALSE)*VLOOKUP(A2388&B2388,ShareOfSearch_Volume!$C$1:$D$1000,2,FALSE),\"\")","v":""}]
[{"$f":"IF(ISTEXT(ShareOfSearch_SERPS!C2389),ShareOfSearch_SERPS!C2389,\"\")","v":""},{"$f":"IF(ISTEXT(ShareOfSearch_SERPS!D2389),ShareOfSearch_SERPS!D2389,\"\")","v":""},{"$f":"IF(NOT(ISBLANK(ShareOfSearch_SERPS!A2389)),ShareOfSearch_SERPS!A2389,\"\")","v":""},{"$f":"IF(NOT(ISBLANK(ShareOfSearch_SERPS!G2389)),ShareOfSearch_SERPS!G2389,\"\")","v":""},{"$f":"IF(NOT(ISBLANK(ShareOfSearch_SERPS!K2389)),ShareOfSearch_SERPS!K2389,\"\")","v":""},{"$f":"IFERROR(VLOOKUP(C2389,ShareOfSearch_CTR!$A$1:$B$100,2,FALSE)*VLOOKUP(A2389&B2389,ShareOfSearch_Volume!$C$1:$D$1000,2,FALSE),\"\")","v":""}]
[{"$f":"IF(ISTEXT(ShareOfSearch_SERPS!C2390),ShareOfSearch_SERPS!C2390,\"\")","v":""},{"$f":"IF(ISTEXT(ShareOfSearch_SERPS!D2390),ShareOfSearch_SERPS!D2390,\"\")","v":""},{"$f":"IF(NOT(ISBLANK(ShareOfSearch_SERPS!A2390)),ShareOfSearch_SERPS!A2390,\"\")","v":""},{"$f":"IF(NOT(ISBLANK(ShareOfSearch_SERPS!G2390)),ShareOfSearch_SERPS!G2390,\"\")","v":""},{"$f":"IF(NOT(ISBLANK(ShareOfSearch_SERPS!K2390)),ShareOfSearch_SERPS!K2390,\"\")","v":""},{"$f":"IFERROR(VLOOKUP(C2390,ShareOfSearch_CTR!$A$1:$B$100,2,FALSE)*VLOOKUP(A2390&B2390,ShareOfSearch_Volume!$C$1:$D$1000,2,FALSE),\"\")","v":""}]
[{"$f":"IF(ISTEXT(ShareOfSearch_SERPS!C2391),ShareOfSearch_SERPS!C2391,\"\")","v":""},{"$f":"IF(ISTEXT(ShareOfSearch_SERPS!D2391),ShareOfSearch_SERPS!D2391,\"\")","v":""},{"$f":"IF(NOT(ISBLANK(ShareOfSearch_SERPS!A2391)),ShareOfSearch_SERPS!A2391,\"\")","v":""},{"$f":"IF(NOT(ISBLANK(ShareOfSearch_SERPS!G2391)),ShareOfSearch_SERPS!G2391,\"\")","v":""},{"$f":"IF(NOT(ISBLANK(ShareOfSearch_SERPS!K2391)),ShareOfSearch_SERPS!K2391,\"\")","v":""},{"$f":"IFERROR(VLOOKUP(C2391,ShareOfSearch_CTR!$A$1:$B$100,2,FALSE)*VLOOKUP(A2391&B2391,ShareOfSearch_Volume!$C$1:$D$1000,2,FALSE),\"\")","v":""}]
[{"$f":"IF(ISTEXT(ShareOfSearch_SERPS!C2392),ShareOfSearch_SERPS!C2392,\"\")","v":""},{"$f":"IF(ISTEXT(ShareOfSearch_SERPS!D2392),ShareOfSearch_SERPS!D2392,\"\")","v":""},{"$f":"IF(NOT(ISBLANK(ShareOfSearch_SERPS!A2392)),ShareOfSearch_SERPS!A2392,\"\")","v":""},{"$f":"IF(NOT(ISBLANK(ShareOfSearch_SERPS!G2392)),ShareOfSearch_SERPS!G2392,\"\")","v":""},{"$f":"IF(NOT(ISBLANK(ShareOfSearch_SERPS!K2392)),ShareOfSearch_SERPS!K2392,\"\")","v":""},{"$f":"IFERROR(VLOOKUP(C2392,ShareOfSearch_CTR!$A$1:$B$100,2,FALSE)*VLOOKUP(A2392&B2392,ShareOfSearch_Volume!$C$1:$D$1000,2,FALSE),\"\")","v":""}]
[{"$f":"IF(ISTEXT(ShareOfSearch_SERPS!C2393),ShareOfSearch_SERPS!C2393,\"\")","v":""},{"$f":"IF(ISTEXT(ShareOfSearch_SERPS!D2393),ShareOfSearch_SERPS!D2393,\"\")","v":""},{"$f":"IF(NOT(ISBLANK(ShareOfSearch_SERPS!A2393)),ShareOfSearch_SERPS!A2393,\"\")","v":""},{"$f":"IF(NOT(ISBLANK(ShareOfSearch_SERPS!G2393)),ShareOfSearch_SERPS!G2393,\"\")","v":""},{"$f":"IF(NOT(ISBLANK(ShareOfSearch_SERPS!K2393)),ShareOfSearch_SERPS!K2393,\"\")","v":""},{"$f":"IFERROR(VLOOKUP(C2393,ShareOfSearch_CTR!$A$1:$B$100,2,FALSE)*VLOOKUP(A2393&B2393,ShareOfSearch_Volume!$C$1:$D$1000,2,FALSE),\"\")","v":""}]
[{"$f":"IF(ISTEXT(ShareOfSearch_SERPS!C2394),ShareOfSearch_SERPS!C2394,\"\")","v":""},{"$f":"IF(ISTEXT(ShareOfSearch_SERPS!D2394),ShareOfSearch_SERPS!D2394,\"\")","v":""},{"$f":"IF(NOT(ISBLANK(ShareOfSearch_SERPS!A2394)),ShareOfSearch_SERPS!A2394,\"\")","v":""},{"$f":"IF(NOT(ISBLANK(ShareOfSearch_SERPS!G2394)),ShareOfSearch_SERPS!G2394,\"\")","v":""},{"$f":"IF(NOT(ISBLANK(ShareOfSearch_SERPS!K2394)),ShareOfSearch_SERPS!K2394,\"\")","v":""},{"$f":"IFERROR(VLOOKUP(C2394,ShareOfSearch_CTR!$A$1:$B$100,2,FALSE)*VLOOKUP(A2394&B2394,ShareOfSearch_Volume!$C$1:$D$1000,2,FALSE),\"\")","v":""}]
[{"$f":"IF(ISTEXT(ShareOfSearch_SERPS!C2395),ShareOfSearch_SERPS!C2395,\"\")","v":""},{"$f":"IF(ISTEXT(ShareOfSearch_SERPS!D2395),ShareOfSearch_SERPS!D2395,\"\")","v":""},{"$f":"IF(NOT(ISBLANK(ShareOfSearch_SERPS!A2395)),ShareOfSearch_SERPS!A2395,\"\")","v":""},{"$f":"IF(NOT(ISBLANK(ShareOfSearch_SERPS!G2395)),ShareOfSearch_SERPS!G2395,\"\")","v":""},{"$f":"IF(NOT(ISBLANK(ShareOfSearch_SERPS!K2395)),ShareOfSearch_SERPS!K2395,\"\")","v":""},{"$f":"IFERROR(VLOOKUP(C2395,ShareOfSearch_CTR!$A$1:$B$100,2,FALSE)*VLOOKUP(A2395&B2395,ShareOfSearch_Volume!$C$1:$D$1000,2,FALSE),\"\")","v":""}]
[{"$f":"IF(ISTEXT(ShareOfSearch_SERPS!C2396),ShareOfSearch_SERPS!C2396,\"\")","v":""},{"$f":"IF(ISTEXT(ShareOfSearch_SERPS!D2396),ShareOfSearch_SERPS!D2396,\"\")","v":""},{"$f":"IF(NOT(ISBLANK(ShareOfSearch_SERPS!A2396)),ShareOfSearch_SERPS!A2396,\"\")","v":""},{"$f":"IF(NOT(ISBLANK(ShareOfSearch_SERPS!G2396)),ShareOfSearch_SERPS!G2396,\"\")","v":""},{"$f":"IF(NOT(ISBLANK(ShareOfSearch_SERPS!K2396)),ShareOfSearch_SERPS!K2396,\"\")","v":""},{"$f":"IFERROR(VLOOKUP(C2396,ShareOfSearch_CTR!$A$1:$B$100,2,FALSE)*VLOOKUP(A2396&B2396,ShareOfSearch_Volume!$C$1:$D$1000,2,FALSE),\"\")","v":""}]
[{"$f":"IF(ISTEXT(ShareOfSearch_SERPS!C2397),ShareOfSearch_SERPS!C2397,\"\")","v":""},{"$f":"IF(ISTEXT(ShareOfSearch_SERPS!D2397),ShareOfSearch_SERPS!D2397,\"\")","v":""},{"$f":"IF(NOT(ISBLANK(ShareOfSearch_SERPS!A2397)),ShareOfSearch_SERPS!A2397,\"\")","v":""},{"$f":"IF(NOT(ISBLANK(ShareOfSearch_SERPS!G2397)),ShareOfSearch_SERPS!G2397,\"\")","v":""},{"$f":"IF(NOT(ISBLANK(ShareOfSearch_SERPS!K2397)),ShareOfSearch_SERPS!K2397,\"\")","v":""},{"$f":"IFERROR(VLOOKUP(C2397,ShareOfSearch_CTR!$A$1:$B$100,2,FALSE)*VLOOKUP(A2397&B2397,ShareOfSearch_Volume!$C$1:$D$1000,2,FALSE),\"\")","v":""}]
[{"$f":"IF(ISTEXT(ShareOfSearch_SERPS!C2398),ShareOfSearch_SERPS!C2398,\"\")","v":""},{"$f":"IF(ISTEXT(ShareOfSearch_SERPS!D2398),ShareOfSearch_SERPS!D2398,\"\")","v":""},{"$f":"IF(NOT(ISBLANK(ShareOfSearch_SERPS!A2398)),ShareOfSearch_SERPS!A2398,\"\")","v":""},{"$f":"IF(NOT(ISBLANK(ShareOfSearch_SERPS!G2398)),ShareOfSearch_SERPS!G2398,\"\")","v":""},{"$f":"IF(NOT(ISBLANK(ShareOfSearch_SERPS!K2398)),ShareOfSearch_SERPS!K2398,\"\")","v":""},{"$f":"IFERROR(VLOOKUP(C2398,ShareOfSearch_CTR!$A$1:$B$100,2,FALSE)*VLOOKUP(A2398&B2398,ShareOfSearch_Volume!$C$1:$D$1000,2,FALSE),\"\")","v":""}]
[{"$f":"IF(ISTEXT(ShareOfSearch_SERPS!C2399),ShareOfSearch_SERPS!C2399,\"\")","v":""},{"$f":"IF(ISTEXT(ShareOfSearch_SERPS!D2399),ShareOfSearch_SERPS!D2399,\"\")","v":""},{"$f":"IF(NOT(ISBLANK(ShareOfSearch_SERPS!A2399)),ShareOfSearch_SERPS!A2399,\"\")","v":""},{"$f":"IF(NOT(ISBLANK(ShareOfSearch_SERPS!G2399)),ShareOfSearch_SERPS!G2399,\"\")","v":""},{"$f":"IF(NOT(ISBLANK(ShareOfSearch_SERPS!K2399)),ShareOfSearch_SERPS!K2399,\"\")","v":""},{"$f":"IFERROR(VLOOKUP(C2399,ShareOfSearch_CTR!$A$1:$B$100,2,FALSE)*VLOOKUP(A2399&B2399,ShareOfSearch_Volume!$C$1:$D$1000,2,FALSE),\"\")","v":""}]
[{"$f":"IF(ISTEXT(ShareOfSearch_SERPS!C2400),ShareOfSearch_SERPS!C2400,\"\")","v":""},{"$f":"IF(ISTEXT(ShareOfSearch_SERPS!D2400),ShareOfSearch_SERPS!D2400,\"\")","v":""},{"$f":"IF(NOT(ISBLANK(ShareOfSearch_SERPS!A2400)),ShareOfSearch_SERPS!A2400,\"\")","v":""},{"$f":"IF(NOT(ISBLANK(ShareOfSearch_SERPS!G2400)),ShareOfSearch_SERPS!G2400,\"\")","v":""},{"$f":"IF(NOT(ISBLANK(ShareOfSearch_SERPS!K2400)),ShareOfSearch_SERPS!K2400,\"\")","v":""},{"$f":"IFERROR(VLOOKUP(C2400,ShareOfSearch_CTR!$A$1:$B$100,2,FALSE)*VLOOKUP(A2400&B2400,ShareOfSearch_Volume!$C$1:$D$1000,2,FALSE),\"\")","v":""}]
[{"$f":"IF(ISTEXT(ShareOfSearch_SERPS!C2401),ShareOfSearch_SERPS!C2401,\"\")","v":""},{"$f":"IF(ISTEXT(ShareOfSearch_SERPS!D2401),ShareOfSearch_SERPS!D2401,\"\")","v":""},{"$f":"IF(NOT(ISBLANK(ShareOfSearch_SERPS!A2401)),ShareOfSearch_SERPS!A2401,\"\")","v":""},{"$f":"IF(NOT(ISBLANK(ShareOfSearch_SERPS!G2401)),ShareOfSearch_SERPS!G2401,\"\")","v":""},{"$f":"IF(NOT(ISBLANK(ShareOfSearch_SERPS!K2401)),ShareOfSearch_SERPS!K2401,\"\")","v":""},{"$f":"IFERROR(VLOOKUP(C2401,ShareOfSearch_CTR!$A$1:$B$100,2,FALSE)*VLOOKUP(A2401&B2401,ShareOfSearch_Volume!$C$1:$D$1000,2,FALSE),\"\")","v":""}]
[{"$f":"IF(ISTEXT(ShareOfSearch_SERPS!C2402),ShareOfSearch_SERPS!C2402,\"\")","v":""},{"$f":"IF(ISTEXT(ShareOfSearch_SERPS!D2402),ShareOfSearch_SERPS!D2402,\"\")","v":""},{"$f":"IF(NOT(ISBLANK(ShareOfSearch_SERPS!A2402)),ShareOfSearch_SERPS!A2402,\"\")","v":""},{"$f":"IF(NOT(ISBLANK(ShareOfSearch_SERPS!G2402)),ShareOfSearch_SERPS!G2402,\"\")","v":""},{"$f":"IF(NOT(ISBLANK(ShareOfSearch_SERPS!K2402)),ShareOfSearch_SERPS!K2402,\"\")","v":""},{"$f":"IFERROR(VLOOKUP(C2402,ShareOfSearch_CTR!$A$1:$B$100,2,FALSE)*VLOOKUP(A2402&B2402,ShareOfSearch_Volume!$C$1:$D$1000,2,FALSE),\"\")","v":""}]
[{"$f":"IF(ISTEXT(ShareOfSearch_SERPS!C2403),ShareOfSearch_SERPS!C2403,\"\")","v":""},{"$f":"IF(ISTEXT(ShareOfSearch_SERPS!D2403),ShareOfSearch_SERPS!D2403,\"\")","v":""},{"$f":"IF(NOT(ISBLANK(ShareOfSearch_SERPS!A2403)),ShareOfSearch_SERPS!A2403,\"\")","v":""},{"$f":"IF(NOT(ISBLANK(ShareOfSearch_SERPS!G2403)),ShareOfSearch_SERPS!G2403,\"\")","v":""},{"$f":"IF(NOT(ISBLANK(ShareOfSearch_SERPS!K2403)),ShareOfSearch_SERPS!K2403,\"\")","v":""},{"$f":"IFERROR(VLOOKUP(C2403,ShareOfSearch_CTR!$A$1:$B$100,2,FALSE)*VLOOKUP(A2403&B2403,ShareOfSearch_Volume!$C$1:$D$1000,2,FALSE),\"\")","v":""}]
[{"$f":"IF(ISTEXT(ShareOfSearch_SERPS!C2404),ShareOfSearch_SERPS!C2404,\"\")","v":""},{"$f":"IF(ISTEXT(ShareOfSearch_SERPS!D2404),ShareOfSearch_SERPS!D2404,\"\")","v":""},{"$f":"IF(NOT(ISBLANK(ShareOfSearch_SERPS!A2404)),ShareOfSearch_SERPS!A2404,\"\")","v":""},{"$f":"IF(NOT(ISBLANK(ShareOfSearch_SERPS!G2404)),ShareOfSearch_SERPS!G2404,\"\")","v":""},{"$f":"IF(NOT(ISBLANK(ShareOfSearch_SERPS!K2404)),ShareOfSearch_SERPS!K2404,\"\")","v":""},{"$f":"IFERROR(VLOOKUP(C2404,ShareOfSearch_CTR!$A$1:$B$100,2,FALSE)*VLOOKUP(A2404&B2404,ShareOfSearch_Volume!$C$1:$D$1000,2,FALSE),\"\")","v":""}]
[{"$f":"IF(ISTEXT(ShareOfSearch_SERPS!C2405),ShareOfSearch_SERPS!C2405,\"\")","v":""},{"$f":"IF(ISTEXT(ShareOfSearch_SERPS!D2405),ShareOfSearch_SERPS!D2405,\"\")","v":""},{"$f":"IF(NOT(ISBLANK(ShareOfSearch_SERPS!A2405)),ShareOfSearch_SERPS!A2405,\"\")","v":""},{"$f":"IF(NOT(ISBLANK(ShareOfSearch_SERPS!G2405)),ShareOfSearch_SERPS!G2405,\"\")","v":""},{"$f":"IF(NOT(ISBLANK(ShareOfSearch_SERPS!K2405)),ShareOfSearch_SERPS!K2405,\"\")","v":""},{"$f":"IFERROR(VLOOKUP(C2405,ShareOfSearch_CTR!$A$1:$B$100,2,FALSE)*VLOOKUP(A2405&B2405,ShareOfSearch_Volume!$C$1:$D$1000,2,FALSE),\"\")","v":""}]
[{"$f":"IF(ISTEXT(ShareOfSearch_SERPS!C2406),ShareOfSearch_SERPS!C2406,\"\")","v":""},{"$f":"IF(ISTEXT(ShareOfSearch_SERPS!D2406),ShareOfSearch_SERPS!D2406,\"\")","v":""},{"$f":"IF(NOT(ISBLANK(ShareOfSearch_SERPS!A2406)),ShareOfSearch_SERPS!A2406,\"\")","v":""},{"$f":"IF(NOT(ISBLANK(ShareOfSearch_SERPS!G2406)),ShareOfSearch_SERPS!G2406,\"\")","v":""},{"$f":"IF(NOT(ISBLANK(ShareOfSearch_SERPS!K2406)),ShareOfSearch_SERPS!K2406,\"\")","v":""},{"$f":"IFERROR(VLOOKUP(C2406,ShareOfSearch_CTR!$A$1:$B$100,2,FALSE)*VLOOKUP(A2406&B2406,ShareOfSearch_Volume!$C$1:$D$1000,2,FALSE),\"\")","v":""}]
[{"$f":"IF(ISTEXT(ShareOfSearch_SERPS!C2407),ShareOfSearch_SERPS!C2407,\"\")","v":""},{"$f":"IF(ISTEXT(ShareOfSearch_SERPS!D2407),ShareOfSearch_SERPS!D2407,\"\")","v":""},{"$f":"IF(NOT(ISBLANK(ShareOfSearch_SERPS!A2407)),ShareOfSearch_SERPS!A2407,\"\")","v":""},{"$f":"IF(NOT(ISBLANK(ShareOfSearch_SERPS!G2407)),ShareOfSearch_SERPS!G2407,\"\")","v":""},{"$f":"IF(NOT(ISBLANK(ShareOfSearch_SERPS!K2407)),ShareOfSearch_SERPS!K2407,\"\")","v":""},{"$f":"IFERROR(VLOOKUP(C2407,ShareOfSearch_CTR!$A$1:$B$100,2,FALSE)*VLOOKUP(A2407&B2407,ShareOfSearch_Volume!$C$1:$D$1000,2,FALSE),\"\")","v":""}]
[{"$f":"IF(ISTEXT(ShareOfSearch_SERPS!C2408),ShareOfSearch_SERPS!C2408,\"\")","v":""},{"$f":"IF(ISTEXT(ShareOfSearch_SERPS!D2408),ShareOfSearch_SERPS!D2408,\"\")","v":""},{"$f":"IF(NOT(ISBLANK(ShareOfSearch_SERPS!A2408)),ShareOfSearch_SERPS!A2408,\"\")","v":""},{"$f":"IF(NOT(ISBLANK(ShareOfSearch_SERPS!G2408)),ShareOfSearch_SERPS!G2408,\"\")","v":""},{"$f":"IF(NOT(ISBLANK(ShareOfSearch_SERPS!K2408)),ShareOfSearch_SERPS!K2408,\"\")","v":""},{"$f":"IFERROR(VLOOKUP(C2408,ShareOfSearch_CTR!$A$1:$B$100,2,FALSE)*VLOOKUP(A2408&B2408,ShareOfSearch_Volume!$C$1:$D$1000,2,FALSE),\"\")","v":""}]
[{"$f":"IF(ISTEXT(ShareOfSearch_SERPS!C2409),ShareOfSearch_SERPS!C2409,\"\")","v":""},{"$f":"IF(ISTEXT(ShareOfSearch_SERPS!D2409),ShareOfSearch_SERPS!D2409,\"\")","v":""},{"$f":"IF(NOT(ISBLANK(ShareOfSearch_SERPS!A2409)),ShareOfSearch_SERPS!A2409,\"\")","v":""},{"$f":"IF(NOT(ISBLANK(ShareOfSearch_SERPS!G2409)),ShareOfSearch_SERPS!G2409,\"\")","v":""},{"$f":"IF(NOT(ISBLANK(ShareOfSearch_SERPS!K2409)),ShareOfSearch_SERPS!K2409,\"\")","v":""},{"$f":"IFERROR(VLOOKUP(C2409,ShareOfSearch_CTR!$A$1:$B$100,2,FALSE)*VLOOKUP(A2409&B2409,ShareOfSearch_Volume!$C$1:$D$1000,2,FALSE),\"\")","v":""}]
[{"$f":"IF(ISTEXT(ShareOfSearch_SERPS!C2410),ShareOfSearch_SERPS!C2410,\"\")","v":""},{"$f":"IF(ISTEXT(ShareOfSearch_SERPS!D2410),ShareOfSearch_SERPS!D2410,\"\")","v":""},{"$f":"IF(NOT(ISBLANK(ShareOfSearch_SERPS!A2410)),ShareOfSearch_SERPS!A2410,\"\")","v":""},{"$f":"IF(NOT(ISBLANK(ShareOfSearch_SERPS!G2410)),ShareOfSearch_SERPS!G2410,\"\")","v":""},{"$f":"IF(NOT(ISBLANK(ShareOfSearch_SERPS!K2410)),ShareOfSearch_SERPS!K2410,\"\")","v":""},{"$f":"IFERROR(VLOOKUP(C2410,ShareOfSearch_CTR!$A$1:$B$100,2,FALSE)*VLOOKUP(A2410&B2410,ShareOfSearch_Volume!$C$1:$D$1000,2,FALSE),\"\")","v":""}]
[{"$f":"IF(ISTEXT(ShareOfSearch_SERPS!C2411),ShareOfSearch_SERPS!C2411,\"\")","v":""},{"$f":"IF(ISTEXT(ShareOfSearch_SERPS!D2411),ShareOfSearch_SERPS!D2411,\"\")","v":""},{"$f":"IF(NOT(ISBLANK(ShareOfSearch_SERPS!A2411)),ShareOfSearch_SERPS!A2411,\"\")","v":""},{"$f":"IF(NOT(ISBLANK(ShareOfSearch_SERPS!G2411)),ShareOfSearch_SERPS!G2411,\"\")","v":""},{"$f":"IF(NOT(ISBLANK(ShareOfSearch_SERPS!K2411)),ShareOfSearch_SERPS!K2411,\"\")","v":""},{"$f":"IFERROR(VLOOKUP(C2411,ShareOfSearch_CTR!$A$1:$B$100,2,FALSE)*VLOOKUP(A2411&B2411,ShareOfSearch_Volume!$C$1:$D$1000,2,FALSE),\"\")","v":""}]
[{"$f":"IF(ISTEXT(ShareOfSearch_SERPS!C2412),ShareOfSearch_SERPS!C2412,\"\")","v":""},{"$f":"IF(ISTEXT(ShareOfSearch_SERPS!D2412),ShareOfSearch_SERPS!D2412,\"\")","v":""},{"$f":"IF(NOT(ISBLANK(ShareOfSearch_SERPS!A2412)),ShareOfSearch_SERPS!A2412,\"\")","v":""},{"$f":"IF(NOT(ISBLANK(ShareOfSearch_SERPS!G2412)),ShareOfSearch_SERPS!G2412,\"\")","v":""},{"$f":"IF(NOT(ISBLANK(ShareOfSearch_SERPS!K2412)),ShareOfSearch_SERPS!K2412,\"\")","v":""},{"$f":"IFERROR(VLOOKUP(C2412,ShareOfSearch_CTR!$A$1:$B$100,2,FALSE)*VLOOKUP(A2412&B2412,ShareOfSearch_Volume!$C$1:$D$1000,2,FALSE),\"\")","v":""}]
[{"$f":"IF(ISTEXT(ShareOfSearch_SERPS!C2413),ShareOfSearch_SERPS!C2413,\"\")","v":""},{"$f":"IF(ISTEXT(ShareOfSearch_SERPS!D2413),ShareOfSearch_SERPS!D2413,\"\")","v":""},{"$f":"IF(NOT(ISBLANK(ShareOfSearch_SERPS!A2413)),ShareOfSearch_SERPS!A2413,\"\")","v":""},{"$f":"IF(NOT(ISBLANK(ShareOfSearch_SERPS!G2413)),ShareOfSearch_SERPS!G2413,\"\")","v":""},{"$f":"IF(NOT(ISBLANK(ShareOfSearch_SERPS!K2413)),ShareOfSearch_SERPS!K2413,\"\")","v":""},{"$f":"IFERROR(VLOOKUP(C2413,ShareOfSearch_CTR!$A$1:$B$100,2,FALSE)*VLOOKUP(A2413&B2413,ShareOfSearch_Volume!$C$1:$D$1000,2,FALSE),\"\")","v":""}]
[{"$f":"IF(ISTEXT(ShareOfSearch_SERPS!C2414),ShareOfSearch_SERPS!C2414,\"\")","v":""},{"$f":"IF(ISTEXT(ShareOfSearch_SERPS!D2414),ShareOfSearch_SERPS!D2414,\"\")","v":""},{"$f":"IF(NOT(ISBLANK(ShareOfSearch_SERPS!A2414)),ShareOfSearch_SERPS!A2414,\"\")","v":""},{"$f":"IF(NOT(ISBLANK(ShareOfSearch_SERPS!G2414)),ShareOfSearch_SERPS!G2414,\"\")","v":""},{"$f":"IF(NOT(ISBLANK(ShareOfSearch_SERPS!K2414)),ShareOfSearch_SERPS!K2414,\"\")","v":""},{"$f":"IFERROR(VLOOKUP(C2414,ShareOfSearch_CTR!$A$1:$B$100,2,FALSE)*VLOOKUP(A2414&B2414,ShareOfSearch_Volume!$C$1:$D$1000,2,FALSE),\"\")","v":""}]
[{"$f":"IF(ISTEXT(ShareOfSearch_SERPS!C2415),ShareOfSearch_SERPS!C2415,\"\")","v":""},{"$f":"IF(ISTEXT(ShareOfSearch_SERPS!D2415),ShareOfSearch_SERPS!D2415,\"\")","v":""},{"$f":"IF(NOT(ISBLANK(ShareOfSearch_SERPS!A2415)),ShareOfSearch_SERPS!A2415,\"\")","v":""},{"$f":"IF(NOT(ISBLANK(ShareOfSearch_SERPS!G2415)),ShareOfSearch_SERPS!G2415,\"\")","v":""},{"$f":"IF(NOT(ISBLANK(ShareOfSearch_SERPS!K2415)),ShareOfSearch_SERPS!K2415,\"\")","v":""},{"$f":"IFERROR(VLOOKUP(C2415,ShareOfSearch_CTR!$A$1:$B$100,2,FALSE)*VLOOKUP(A2415&B2415,ShareOfSearch_Volume!$C$1:$D$1000,2,FALSE),\"\")","v":""}]
[{"$f":"IF(ISTEXT(ShareOfSearch_SERPS!C2416),ShareOfSearch_SERPS!C2416,\"\")","v":""},{"$f":"IF(ISTEXT(ShareOfSearch_SERPS!D2416),ShareOfSearch_SERPS!D2416,\"\")","v":""},{"$f":"IF(NOT(ISBLANK(ShareOfSearch_SERPS!A2416)),ShareOfSearch_SERPS!A2416,\"\")","v":""},{"$f":"IF(NOT(ISBLANK(ShareOfSearch_SERPS!G2416)),ShareOfSearch_SERPS!G2416,\"\")","v":""},{"$f":"IF(NOT(ISBLANK(ShareOfSearch_SERPS!K2416)),ShareOfSearch_SERPS!K2416,\"\")","v":""},{"$f":"IFERROR(VLOOKUP(C2416,ShareOfSearch_CTR!$A$1:$B$100,2,FALSE)*VLOOKUP(A2416&B2416,ShareOfSearch_Volume!$C$1:$D$1000,2,FALSE),\"\")","v":""}]
[{"$f":"IF(ISTEXT(ShareOfSearch_SERPS!C2417),ShareOfSearch_SERPS!C2417,\"\")","v":""},{"$f":"IF(ISTEXT(ShareOfSearch_SERPS!D2417),ShareOfSearch_SERPS!D2417,\"\")","v":""},{"$f":"IF(NOT(ISBLANK(ShareOfSearch_SERPS!A2417)),ShareOfSearch_SERPS!A2417,\"\")","v":""},{"$f":"IF(NOT(ISBLANK(ShareOfSearch_SERPS!G2417)),ShareOfSearch_SERPS!G2417,\"\")","v":""},{"$f":"IF(NOT(ISBLANK(ShareOfSearch_SERPS!K2417)),ShareOfSearch_SERPS!K2417,\"\")","v":""},{"$f":"IFERROR(VLOOKUP(C2417,ShareOfSearch_CTR!$A$1:$B$100,2,FALSE)*VLOOKUP(A2417&B2417,ShareOfSearch_Volume!$C$1:$D$1000,2,FALSE),\"\")","v":""}]
[{"$f":"IF(ISTEXT(ShareOfSearch_SERPS!C2418),ShareOfSearch_SERPS!C2418,\"\")","v":""},{"$f":"IF(ISTEXT(ShareOfSearch_SERPS!D2418),ShareOfSearch_SERPS!D2418,\"\")","v":""},{"$f":"IF(NOT(ISBLANK(ShareOfSearch_SERPS!A2418)),ShareOfSearch_SERPS!A2418,\"\")","v":""},{"$f":"IF(NOT(ISBLANK(ShareOfSearch_SERPS!G2418)),ShareOfSearch_SERPS!G2418,\"\")","v":""},{"$f":"IF(NOT(ISBLANK(ShareOfSearch_SERPS!K2418)),ShareOfSearch_SERPS!K2418,\"\")","v":""},{"$f":"IFERROR(VLOOKUP(C2418,ShareOfSearch_CTR!$A$1:$B$100,2,FALSE)*VLOOKUP(A2418&B2418,ShareOfSearch_Volume!$C$1:$D$1000,2,FALSE),\"\")","v":""}]
[{"$f":"IF(ISTEXT(ShareOfSearch_SERPS!C2419),ShareOfSearch_SERPS!C2419,\"\")","v":""},{"$f":"IF(ISTEXT(ShareOfSearch_SERPS!D2419),ShareOfSearch_SERPS!D2419,\"\")","v":""},{"$f":"IF(NOT(ISBLANK(ShareOfSearch_SERPS!A2419)),ShareOfSearch_SERPS!A2419,\"\")","v":""},{"$f":"IF(NOT(ISBLANK(ShareOfSearch_SERPS!G2419)),ShareOfSearch_SERPS!G2419,\"\")","v":""},{"$f":"IF(NOT(ISBLANK(ShareOfSearch_SERPS!K2419)),ShareOfSearch_SERPS!K2419,\"\")","v":""},{"$f":"IFERROR(VLOOKUP(C2419,ShareOfSearch_CTR!$A$1:$B$100,2,FALSE)*VLOOKUP(A2419&B2419,ShareOfSearch_Volume!$C$1:$D$1000,2,FALSE),\"\")","v":""}]
[{"$f":"IF(ISTEXT(ShareOfSearch_SERPS!C2420),ShareOfSearch_SERPS!C2420,\"\")","v":""},{"$f":"IF(ISTEXT(ShareOfSearch_SERPS!D2420),ShareOfSearch_SERPS!D2420,\"\")","v":""},{"$f":"IF(NOT(ISBLANK(ShareOfSearch_SERPS!A2420)),ShareOfSearch_SERPS!A2420,\"\")","v":""},{"$f":"IF(NOT(ISBLANK(ShareOfSearch_SERPS!G2420)),ShareOfSearch_SERPS!G2420,\"\")","v":""},{"$f":"IF(NOT(ISBLANK(ShareOfSearch_SERPS!K2420)),ShareOfSearch_SERPS!K2420,\"\")","v":""},{"$f":"IFERROR(VLOOKUP(C2420,ShareOfSearch_CTR!$A$1:$B$100,2,FALSE)*VLOOKUP(A2420&B2420,ShareOfSearch_Volume!$C$1:$D$1000,2,FALSE),\"\")","v":""}]
[{"$f":"IF(ISTEXT(ShareOfSearch_SERPS!C2421),ShareOfSearch_SERPS!C2421,\"\")","v":""},{"$f":"IF(ISTEXT(ShareOfSearch_SERPS!D2421),ShareOfSearch_SERPS!D2421,\"\")","v":""},{"$f":"IF(NOT(ISBLANK(ShareOfSearch_SERPS!A2421)),ShareOfSearch_SERPS!A2421,\"\")","v":""},{"$f":"IF(NOT(ISBLANK(ShareOfSearch_SERPS!G2421)),ShareOfSearch_SERPS!G2421,\"\")","v":""},{"$f":"IF(NOT(ISBLANK(ShareOfSearch_SERPS!K2421)),ShareOfSearch_SERPS!K2421,\"\")","v":""},{"$f":"IFERROR(VLOOKUP(C2421,ShareOfSearch_CTR!$A$1:$B$100,2,FALSE)*VLOOKUP(A2421&B2421,ShareOfSearch_Volume!$C$1:$D$1000,2,FALSE),\"\")","v":""}]
[{"$f":"IF(ISTEXT(ShareOfSearch_SERPS!C2422),ShareOfSearch_SERPS!C2422,\"\")","v":""},{"$f":"IF(ISTEXT(ShareOfSearch_SERPS!D2422),ShareOfSearch_SERPS!D2422,\"\")","v":""},{"$f":"IF(NOT(ISBLANK(ShareOfSearch_SERPS!A2422)),ShareOfSearch_SERPS!A2422,\"\")","v":""},{"$f":"IF(NOT(ISBLANK(ShareOfSearch_SERPS!G2422)),ShareOfSearch_SERPS!G2422,\"\")","v":""},{"$f":"IF(NOT(ISBLANK(ShareOfSearch_SERPS!K2422)),ShareOfSearch_SERPS!K2422,\"\")","v":""},{"$f":"IFERROR(VLOOKUP(C2422,ShareOfSearch_CTR!$A$1:$B$100,2,FALSE)*VLOOKUP(A2422&B2422,ShareOfSearch_Volume!$C$1:$D$1000,2,FALSE),\"\")","v":""}]
[{"$f":"IF(ISTEXT(ShareOfSearch_SERPS!C2423),ShareOfSearch_SERPS!C2423,\"\")","v":""},{"$f":"IF(ISTEXT(ShareOfSearch_SERPS!D2423),ShareOfSearch_SERPS!D2423,\"\")","v":""},{"$f":"IF(NOT(ISBLANK(ShareOfSearch_SERPS!A2423)),ShareOfSearch_SERPS!A2423,\"\")","v":""},{"$f":"IF(NOT(ISBLANK(ShareOfSearch_SERPS!G2423)),ShareOfSearch_SERPS!G2423,\"\")","v":""},{"$f":"IF(NOT(ISBLANK(ShareOfSearch_SERPS!K2423)),ShareOfSearch_SERPS!K2423,\"\")","v":""},{"$f":"IFERROR(VLOOKUP(C2423,ShareOfSearch_CTR!$A$1:$B$100,2,FALSE)*VLOOKUP(A2423&B2423,ShareOfSearch_Volume!$C$1:$D$1000,2,FALSE),\"\")","v":""}]
[{"$f":"IF(ISTEXT(ShareOfSearch_SERPS!C2424),ShareOfSearch_SERPS!C2424,\"\")","v":""},{"$f":"IF(ISTEXT(ShareOfSearch_SERPS!D2424),ShareOfSearch_SERPS!D2424,\"\")","v":""},{"$f":"IF(NOT(ISBLANK(ShareOfSearch_SERPS!A2424)),ShareOfSearch_SERPS!A2424,\"\")","v":""},{"$f":"IF(NOT(ISBLANK(ShareOfSearch_SERPS!G2424)),ShareOfSearch_SERPS!G2424,\"\")","v":""},{"$f":"IF(NOT(ISBLANK(ShareOfSearch_SERPS!K2424)),ShareOfSearch_SERPS!K2424,\"\")","v":""},{"$f":"IFERROR(VLOOKUP(C2424,ShareOfSearch_CTR!$A$1:$B$100,2,FALSE)*VLOOKUP(A2424&B2424,ShareOfSearch_Volume!$C$1:$D$1000,2,FALSE),\"\")","v":""}]
[{"$f":"IF(ISTEXT(ShareOfSearch_SERPS!C2425),ShareOfSearch_SERPS!C2425,\"\")","v":""},{"$f":"IF(ISTEXT(ShareOfSearch_SERPS!D2425),ShareOfSearch_SERPS!D2425,\"\")","v":""},{"$f":"IF(NOT(ISBLANK(ShareOfSearch_SERPS!A2425)),ShareOfSearch_SERPS!A2425,\"\")","v":""},{"$f":"IF(NOT(ISBLANK(ShareOfSearch_SERPS!G2425)),ShareOfSearch_SERPS!G2425,\"\")","v":""},{"$f":"IF(NOT(ISBLANK(ShareOfSearch_SERPS!K2425)),ShareOfSearch_SERPS!K2425,\"\")","v":""},{"$f":"IFERROR(VLOOKUP(C2425,ShareOfSearch_CTR!$A$1:$B$100,2,FALSE)*VLOOKUP(A2425&B2425,ShareOfSearch_Volume!$C$1:$D$1000,2,FALSE),\"\")","v":""}]
[{"$f":"IF(ISTEXT(ShareOfSearch_SERPS!C2426),ShareOfSearch_SERPS!C2426,\"\")","v":""},{"$f":"IF(ISTEXT(ShareOfSearch_SERPS!D2426),ShareOfSearch_SERPS!D2426,\"\")","v":""},{"$f":"IF(NOT(ISBLANK(ShareOfSearch_SERPS!A2426)),ShareOfSearch_SERPS!A2426,\"\")","v":""},{"$f":"IF(NOT(ISBLANK(ShareOfSearch_SERPS!G2426)),ShareOfSearch_SERPS!G2426,\"\")","v":""},{"$f":"IF(NOT(ISBLANK(ShareOfSearch_SERPS!K2426)),ShareOfSearch_SERPS!K2426,\"\")","v":""},{"$f":"IFERROR(VLOOKUP(C2426,ShareOfSearch_CTR!$A$1:$B$100,2,FALSE)*VLOOKUP(A2426&B2426,ShareOfSearch_Volume!$C$1:$D$1000,2,FALSE),\"\")","v":""}]
[{"$f":"IF(ISTEXT(ShareOfSearch_SERPS!C2427),ShareOfSearch_SERPS!C2427,\"\")","v":""},{"$f":"IF(ISTEXT(ShareOfSearch_SERPS!D2427),ShareOfSearch_SERPS!D2427,\"\")","v":""},{"$f":"IF(NOT(ISBLANK(ShareOfSearch_SERPS!A2427)),ShareOfSearch_SERPS!A2427,\"\")","v":""},{"$f":"IF(NOT(ISBLANK(ShareOfSearch_SERPS!G2427)),ShareOfSearch_SERPS!G2427,\"\")","v":""},{"$f":"IF(NOT(ISBLANK(ShareOfSearch_SERPS!K2427)),ShareOfSearch_SERPS!K2427,\"\")","v":""},{"$f":"IFERROR(VLOOKUP(C2427,ShareOfSearch_CTR!$A$1:$B$100,2,FALSE)*VLOOKUP(A2427&B2427,ShareOfSearch_Volume!$C$1:$D$1000,2,FALSE),\"\")","v":""}]
[{"$f":"IF(ISTEXT(ShareOfSearch_SERPS!C2428),ShareOfSearch_SERPS!C2428,\"\")","v":""},{"$f":"IF(ISTEXT(ShareOfSearch_SERPS!D2428),ShareOfSearch_SERPS!D2428,\"\")","v":""},{"$f":"IF(NOT(ISBLANK(ShareOfSearch_SERPS!A2428)),ShareOfSearch_SERPS!A2428,\"\")","v":""},{"$f":"IF(NOT(ISBLANK(ShareOfSearch_SERPS!G2428)),ShareOfSearch_SERPS!G2428,\"\")","v":""},{"$f":"IF(NOT(ISBLANK(ShareOfSearch_SERPS!K2428)),ShareOfSearch_SERPS!K2428,\"\")","v":""},{"$f":"IFERROR(VLOOKUP(C2428,ShareOfSearch_CTR!$A$1:$B$100,2,FALSE)*VLOOKUP(A2428&B2428,ShareOfSearch_Volume!$C$1:$D$1000,2,FALSE),\"\")","v":""}]
[{"$f":"IF(ISTEXT(ShareOfSearch_SERPS!C2429),ShareOfSearch_SERPS!C2429,\"\")","v":""},{"$f":"IF(ISTEXT(ShareOfSearch_SERPS!D2429),ShareOfSearch_SERPS!D2429,\"\")","v":""},{"$f":"IF(NOT(ISBLANK(ShareOfSearch_SERPS!A2429)),ShareOfSearch_SERPS!A2429,\"\")","v":""},{"$f":"IF(NOT(ISBLANK(ShareOfSearch_SERPS!G2429)),ShareOfSearch_SERPS!G2429,\"\")","v":""},{"$f":"IF(NOT(ISBLANK(ShareOfSearch_SERPS!K2429)),ShareOfSearch_SERPS!K2429,\"\")","v":""},{"$f":"IFERROR(VLOOKUP(C2429,ShareOfSearch_CTR!$A$1:$B$100,2,FALSE)*VLOOKUP(A2429&B2429,ShareOfSearch_Volume!$C$1:$D$1000,2,FALSE),\"\")","v":""}]
[{"$f":"IF(ISTEXT(ShareOfSearch_SERPS!C2430),ShareOfSearch_SERPS!C2430,\"\")","v":""},{"$f":"IF(ISTEXT(ShareOfSearch_SERPS!D2430),ShareOfSearch_SERPS!D2430,\"\")","v":""},{"$f":"IF(NOT(ISBLANK(ShareOfSearch_SERPS!A2430)),ShareOfSearch_SERPS!A2430,\"\")","v":""},{"$f":"IF(NOT(ISBLANK(ShareOfSearch_SERPS!G2430)),ShareOfSearch_SERPS!G2430,\"\")","v":""},{"$f":"IF(NOT(ISBLANK(ShareOfSearch_SERPS!K2430)),ShareOfSearch_SERPS!K2430,\"\")","v":""},{"$f":"IFERROR(VLOOKUP(C2430,ShareOfSearch_CTR!$A$1:$B$100,2,FALSE)*VLOOKUP(A2430&B2430,ShareOfSearch_Volume!$C$1:$D$1000,2,FALSE),\"\")","v":""}]
[{"$f":"IF(ISTEXT(ShareOfSearch_SERPS!C2431),ShareOfSearch_SERPS!C2431,\"\")","v":""},{"$f":"IF(ISTEXT(ShareOfSearch_SERPS!D2431),ShareOfSearch_SERPS!D2431,\"\")","v":""},{"$f":"IF(NOT(ISBLANK(ShareOfSearch_SERPS!A2431)),ShareOfSearch_SERPS!A2431,\"\")","v":""},{"$f":"IF(NOT(ISBLANK(ShareOfSearch_SERPS!G2431)),ShareOfSearch_SERPS!G2431,\"\")","v":""},{"$f":"IF(NOT(ISBLANK(ShareOfSearch_SERPS!K2431)),ShareOfSearch_SERPS!K2431,\"\")","v":""},{"$f":"IFERROR(VLOOKUP(C2431,ShareOfSearch_CTR!$A$1:$B$100,2,FALSE)*VLOOKUP(A2431&B2431,ShareOfSearch_Volume!$C$1:$D$1000,2,FALSE),\"\")","v":""}]
[{"$f":"IF(ISTEXT(ShareOfSearch_SERPS!C2432),ShareOfSearch_SERPS!C2432,\"\")","v":""},{"$f":"IF(ISTEXT(ShareOfSearch_SERPS!D2432),ShareOfSearch_SERPS!D2432,\"\")","v":""},{"$f":"IF(NOT(ISBLANK(ShareOfSearch_SERPS!A2432)),ShareOfSearch_SERPS!A2432,\"\")","v":""},{"$f":"IF(NOT(ISBLANK(ShareOfSearch_SERPS!G2432)),ShareOfSearch_SERPS!G2432,\"\")","v":""},{"$f":"IF(NOT(ISBLANK(ShareOfSearch_SERPS!K2432)),ShareOfSearch_SERPS!K2432,\"\")","v":""},{"$f":"IFERROR(VLOOKUP(C2432,ShareOfSearch_CTR!$A$1:$B$100,2,FALSE)*VLOOKUP(A2432&B2432,ShareOfSearch_Volume!$C$1:$D$1000,2,FALSE),\"\")","v":""}]
[{"$f":"IF(ISTEXT(ShareOfSearch_SERPS!C2433),ShareOfSearch_SERPS!C2433,\"\")","v":""},{"$f":"IF(ISTEXT(ShareOfSearch_SERPS!D2433),ShareOfSearch_SERPS!D2433,\"\")","v":""},{"$f":"IF(NOT(ISBLANK(ShareOfSearch_SERPS!A2433)),ShareOfSearch_SERPS!A2433,\"\")","v":""},{"$f":"IF(NOT(ISBLANK(ShareOfSearch_SERPS!G2433)),ShareOfSearch_SERPS!G2433,\"\")","v":""},{"$f":"IF(NOT(ISBLANK(ShareOfSearch_SERPS!K2433)),ShareOfSearch_SERPS!K2433,\"\")","v":""},{"$f":"IFERROR(VLOOKUP(C2433,ShareOfSearch_CTR!$A$1:$B$100,2,FALSE)*VLOOKUP(A2433&B2433,ShareOfSearch_Volume!$C$1:$D$1000,2,FALSE),\"\")","v":""}]
[{"$f":"IF(ISTEXT(ShareOfSearch_SERPS!C2434),ShareOfSearch_SERPS!C2434,\"\")","v":""},{"$f":"IF(ISTEXT(ShareOfSearch_SERPS!D2434),ShareOfSearch_SERPS!D2434,\"\")","v":""},{"$f":"IF(NOT(ISBLANK(ShareOfSearch_SERPS!A2434)),ShareOfSearch_SERPS!A2434,\"\")","v":""},{"$f":"IF(NOT(ISBLANK(ShareOfSearch_SERPS!G2434)),ShareOfSearch_SERPS!G2434,\"\")","v":""},{"$f":"IF(NOT(ISBLANK(ShareOfSearch_SERPS!K2434)),ShareOfSearch_SERPS!K2434,\"\")","v":""},{"$f":"IFERROR(VLOOKUP(C2434,ShareOfSearch_CTR!$A$1:$B$100,2,FALSE)*VLOOKUP(A2434&B2434,ShareOfSearch_Volume!$C$1:$D$1000,2,FALSE),\"\")","v":""}]
[{"$f":"IF(ISTEXT(ShareOfSearch_SERPS!C2435),ShareOfSearch_SERPS!C2435,\"\")","v":""},{"$f":"IF(ISTEXT(ShareOfSearch_SERPS!D2435),ShareOfSearch_SERPS!D2435,\"\")","v":""},{"$f":"IF(NOT(ISBLANK(ShareOfSearch_SERPS!A2435)),ShareOfSearch_SERPS!A2435,\"\")","v":""},{"$f":"IF(NOT(ISBLANK(ShareOfSearch_SERPS!G2435)),ShareOfSearch_SERPS!G2435,\"\")","v":""},{"$f":"IF(NOT(ISBLANK(ShareOfSearch_SERPS!K2435)),ShareOfSearch_SERPS!K2435,\"\")","v":""},{"$f":"IFERROR(VLOOKUP(C2435,ShareOfSearch_CTR!$A$1:$B$100,2,FALSE)*VLOOKUP(A2435&B2435,ShareOfSearch_Volume!$C$1:$D$1000,2,FALSE),\"\")","v":""}]
[{"$f":"IF(ISTEXT(ShareOfSearch_SERPS!C2436),ShareOfSearch_SERPS!C2436,\"\")","v":""},{"$f":"IF(ISTEXT(ShareOfSearch_SERPS!D2436),ShareOfSearch_SERPS!D2436,\"\")","v":""},{"$f":"IF(NOT(ISBLANK(ShareOfSearch_SERPS!A2436)),ShareOfSearch_SERPS!A2436,\"\")","v":""},{"$f":"IF(NOT(ISBLANK(ShareOfSearch_SERPS!G2436)),ShareOfSearch_SERPS!G2436,\"\")","v":""},{"$f":"IF(NOT(ISBLANK(ShareOfSearch_SERPS!K2436)),ShareOfSearch_SERPS!K2436,\"\")","v":""},{"$f":"IFERROR(VLOOKUP(C2436,ShareOfSearch_CTR!$A$1:$B$100,2,FALSE)*VLOOKUP(A2436&B2436,ShareOfSearch_Volume!$C$1:$D$1000,2,FALSE),\"\")","v":""}]
[{"$f":"IF(ISTEXT(ShareOfSearch_SERPS!C2437),ShareOfSearch_SERPS!C2437,\"\")","v":""},{"$f":"IF(ISTEXT(ShareOfSearch_SERPS!D2437),ShareOfSearch_SERPS!D2437,\"\")","v":""},{"$f":"IF(NOT(ISBLANK(ShareOfSearch_SERPS!A2437)),ShareOfSearch_SERPS!A2437,\"\")","v":""},{"$f":"IF(NOT(ISBLANK(ShareOfSearch_SERPS!G2437)),ShareOfSearch_SERPS!G2437,\"\")","v":""},{"$f":"IF(NOT(ISBLANK(ShareOfSearch_SERPS!K2437)),ShareOfSearch_SERPS!K2437,\"\")","v":""},{"$f":"IFERROR(VLOOKUP(C2437,ShareOfSearch_CTR!$A$1:$B$100,2,FALSE)*VLOOKUP(A2437&B2437,ShareOfSearch_Volume!$C$1:$D$1000,2,FALSE),\"\")","v":""}]
[{"$f":"IF(ISTEXT(ShareOfSearch_SERPS!C2438),ShareOfSearch_SERPS!C2438,\"\")","v":""},{"$f":"IF(ISTEXT(ShareOfSearch_SERPS!D2438),ShareOfSearch_SERPS!D2438,\"\")","v":""},{"$f":"IF(NOT(ISBLANK(ShareOfSearch_SERPS!A2438)),ShareOfSearch_SERPS!A2438,\"\")","v":""},{"$f":"IF(NOT(ISBLANK(ShareOfSearch_SERPS!G2438)),ShareOfSearch_SERPS!G2438,\"\")","v":""},{"$f":"IF(NOT(ISBLANK(ShareOfSearch_SERPS!K2438)),ShareOfSearch_SERPS!K2438,\"\")","v":""},{"$f":"IFERROR(VLOOKUP(C2438,ShareOfSearch_CTR!$A$1:$B$100,2,FALSE)*VLOOKUP(A2438&B2438,ShareOfSearch_Volume!$C$1:$D$1000,2,FALSE),\"\")","v":""}]
[{"$f":"IF(ISTEXT(ShareOfSearch_SERPS!C2439),ShareOfSearch_SERPS!C2439,\"\")","v":""},{"$f":"IF(ISTEXT(ShareOfSearch_SERPS!D2439),ShareOfSearch_SERPS!D2439,\"\")","v":""},{"$f":"IF(NOT(ISBLANK(ShareOfSearch_SERPS!A2439)),ShareOfSearch_SERPS!A2439,\"\")","v":""},{"$f":"IF(NOT(ISBLANK(ShareOfSearch_SERPS!G2439)),ShareOfSearch_SERPS!G2439,\"\")","v":""},{"$f":"IF(NOT(ISBLANK(ShareOfSearch_SERPS!K2439)),ShareOfSearch_SERPS!K2439,\"\")","v":""},{"$f":"IFERROR(VLOOKUP(C2439,ShareOfSearch_CTR!$A$1:$B$100,2,FALSE)*VLOOKUP(A2439&B2439,ShareOfSearch_Volume!$C$1:$D$1000,2,FALSE),\"\")","v":""}]
[{"$f":"IF(ISTEXT(ShareOfSearch_SERPS!C2440),ShareOfSearch_SERPS!C2440,\"\")","v":""},{"$f":"IF(ISTEXT(ShareOfSearch_SERPS!D2440),ShareOfSearch_SERPS!D2440,\"\")","v":""},{"$f":"IF(NOT(ISBLANK(ShareOfSearch_SERPS!A2440)),ShareOfSearch_SERPS!A2440,\"\")","v":""},{"$f":"IF(NOT(ISBLANK(ShareOfSearch_SERPS!G2440)),ShareOfSearch_SERPS!G2440,\"\")","v":""},{"$f":"IF(NOT(ISBLANK(ShareOfSearch_SERPS!K2440)),ShareOfSearch_SERPS!K2440,\"\")","v":""},{"$f":"IFERROR(VLOOKUP(C2440,ShareOfSearch_CTR!$A$1:$B$100,2,FALSE)*VLOOKUP(A2440&B2440,ShareOfSearch_Volume!$C$1:$D$1000,2,FALSE),\"\")","v":""}]
[{"$f":"IF(ISTEXT(ShareOfSearch_SERPS!C2441),ShareOfSearch_SERPS!C2441,\"\")","v":""},{"$f":"IF(ISTEXT(ShareOfSearch_SERPS!D2441),ShareOfSearch_SERPS!D2441,\"\")","v":""},{"$f":"IF(NOT(ISBLANK(ShareOfSearch_SERPS!A2441)),ShareOfSearch_SERPS!A2441,\"\")","v":""},{"$f":"IF(NOT(ISBLANK(ShareOfSearch_SERPS!G2441)),ShareOfSearch_SERPS!G2441,\"\")","v":""},{"$f":"IF(NOT(ISBLANK(ShareOfSearch_SERPS!K2441)),ShareOfSearch_SERPS!K2441,\"\")","v":""},{"$f":"IFERROR(VLOOKUP(C2441,ShareOfSearch_CTR!$A$1:$B$100,2,FALSE)*VLOOKUP(A2441&B2441,ShareOfSearch_Volume!$C$1:$D$1000,2,FALSE),\"\")","v":""}]
[{"$f":"IF(ISTEXT(ShareOfSearch_SERPS!C2442),ShareOfSearch_SERPS!C2442,\"\")","v":""},{"$f":"IF(ISTEXT(ShareOfSearch_SERPS!D2442),ShareOfSearch_SERPS!D2442,\"\")","v":""},{"$f":"IF(NOT(ISBLANK(ShareOfSearch_SERPS!A2442)),ShareOfSearch_SERPS!A2442,\"\")","v":""},{"$f":"IF(NOT(ISBLANK(ShareOfSearch_SERPS!G2442)),ShareOfSearch_SERPS!G2442,\"\")","v":""},{"$f":"IF(NOT(ISBLANK(ShareOfSearch_SERPS!K2442)),ShareOfSearch_SERPS!K2442,\"\")","v":""},{"$f":"IFERROR(VLOOKUP(C2442,ShareOfSearch_CTR!$A$1:$B$100,2,FALSE)*VLOOKUP(A2442&B2442,ShareOfSearch_Volume!$C$1:$D$1000,2,FALSE),\"\")","v":""}]
[{"$f":"IF(ISTEXT(ShareOfSearch_SERPS!C2443),ShareOfSearch_SERPS!C2443,\"\")","v":""},{"$f":"IF(ISTEXT(ShareOfSearch_SERPS!D2443),ShareOfSearch_SERPS!D2443,\"\")","v":""},{"$f":"IF(NOT(ISBLANK(ShareOfSearch_SERPS!A2443)),ShareOfSearch_SERPS!A2443,\"\")","v":""},{"$f":"IF(NOT(ISBLANK(ShareOfSearch_SERPS!G2443)),ShareOfSearch_SERPS!G2443,\"\")","v":""},{"$f":"IF(NOT(ISBLANK(ShareOfSearch_SERPS!K2443)),ShareOfSearch_SERPS!K2443,\"\")","v":""},{"$f":"IFERROR(VLOOKUP(C2443,ShareOfSearch_CTR!$A$1:$B$100,2,FALSE)*VLOOKUP(A2443&B2443,ShareOfSearch_Volume!$C$1:$D$1000,2,FALSE),\"\")","v":""}]
[{"$f":"IF(ISTEXT(ShareOfSearch_SERPS!C2444),ShareOfSearch_SERPS!C2444,\"\")","v":""},{"$f":"IF(ISTEXT(ShareOfSearch_SERPS!D2444),ShareOfSearch_SERPS!D2444,\"\")","v":""},{"$f":"IF(NOT(ISBLANK(ShareOfSearch_SERPS!A2444)),ShareOfSearch_SERPS!A2444,\"\")","v":""},{"$f":"IF(NOT(ISBLANK(ShareOfSearch_SERPS!G2444)),ShareOfSearch_SERPS!G2444,\"\")","v":""},{"$f":"IF(NOT(ISBLANK(ShareOfSearch_SERPS!K2444)),ShareOfSearch_SERPS!K2444,\"\")","v":""},{"$f":"IFERROR(VLOOKUP(C2444,ShareOfSearch_CTR!$A$1:$B$100,2,FALSE)*VLOOKUP(A2444&B2444,ShareOfSearch_Volume!$C$1:$D$1000,2,FALSE),\"\")","v":""}]
[{"$f":"IF(ISTEXT(ShareOfSearch_SERPS!C2445),ShareOfSearch_SERPS!C2445,\"\")","v":""},{"$f":"IF(ISTEXT(ShareOfSearch_SERPS!D2445),ShareOfSearch_SERPS!D2445,\"\")","v":""},{"$f":"IF(NOT(ISBLANK(ShareOfSearch_SERPS!A2445)),ShareOfSearch_SERPS!A2445,\"\")","v":""},{"$f":"IF(NOT(ISBLANK(ShareOfSearch_SERPS!G2445)),ShareOfSearch_SERPS!G2445,\"\")","v":""},{"$f":"IF(NOT(ISBLANK(ShareOfSearch_SERPS!K2445)),ShareOfSearch_SERPS!K2445,\"\")","v":""},{"$f":"IFERROR(VLOOKUP(C2445,ShareOfSearch_CTR!$A$1:$B$100,2,FALSE)*VLOOKUP(A2445&B2445,ShareOfSearch_Volume!$C$1:$D$1000,2,FALSE),\"\")","v":""}]
[{"$f":"IF(ISTEXT(ShareOfSearch_SERPS!C2446),ShareOfSearch_SERPS!C2446,\"\")","v":""},{"$f":"IF(ISTEXT(ShareOfSearch_SERPS!D2446),ShareOfSearch_SERPS!D2446,\"\")","v":""},{"$f":"IF(NOT(ISBLANK(ShareOfSearch_SERPS!A2446)),ShareOfSearch_SERPS!A2446,\"\")","v":""},{"$f":"IF(NOT(ISBLANK(ShareOfSearch_SERPS!G2446)),ShareOfSearch_SERPS!G2446,\"\")","v":""},{"$f":"IF(NOT(ISBLANK(ShareOfSearch_SERPS!K2446)),ShareOfSearch_SERPS!K2446,\"\")","v":""},{"$f":"IFERROR(VLOOKUP(C2446,ShareOfSearch_CTR!$A$1:$B$100,2,FALSE)*VLOOKUP(A2446&B2446,ShareOfSearch_Volume!$C$1:$D$1000,2,FALSE),\"\")","v":""}]
[{"$f":"IF(ISTEXT(ShareOfSearch_SERPS!C2447),ShareOfSearch_SERPS!C2447,\"\")","v":""},{"$f":"IF(ISTEXT(ShareOfSearch_SERPS!D2447),ShareOfSearch_SERPS!D2447,\"\")","v":""},{"$f":"IF(NOT(ISBLANK(ShareOfSearch_SERPS!A2447)),ShareOfSearch_SERPS!A2447,\"\")","v":""},{"$f":"IF(NOT(ISBLANK(ShareOfSearch_SERPS!G2447)),ShareOfSearch_SERPS!G2447,\"\")","v":""},{"$f":"IF(NOT(ISBLANK(ShareOfSearch_SERPS!K2447)),ShareOfSearch_SERPS!K2447,\"\")","v":""},{"$f":"IFERROR(VLOOKUP(C2447,ShareOfSearch_CTR!$A$1:$B$100,2,FALSE)*VLOOKUP(A2447&B2447,ShareOfSearch_Volume!$C$1:$D$1000,2,FALSE),\"\")","v":""}]
[{"$f":"IF(ISTEXT(ShareOfSearch_SERPS!C2448),ShareOfSearch_SERPS!C2448,\"\")","v":""},{"$f":"IF(ISTEXT(ShareOfSearch_SERPS!D2448),ShareOfSearch_SERPS!D2448,\"\")","v":""},{"$f":"IF(NOT(ISBLANK(ShareOfSearch_SERPS!A2448)),ShareOfSearch_SERPS!A2448,\"\")","v":""},{"$f":"IF(NOT(ISBLANK(ShareOfSearch_SERPS!G2448)),ShareOfSearch_SERPS!G2448,\"\")","v":""},{"$f":"IF(NOT(ISBLANK(ShareOfSearch_SERPS!K2448)),ShareOfSearch_SERPS!K2448,\"\")","v":""},{"$f":"IFERROR(VLOOKUP(C2448,ShareOfSearch_CTR!$A$1:$B$100,2,FALSE)*VLOOKUP(A2448&B2448,ShareOfSearch_Volume!$C$1:$D$1000,2,FALSE),\"\")","v":""}]
[{"$f":"IF(ISTEXT(ShareOfSearch_SERPS!C2449),ShareOfSearch_SERPS!C2449,\"\")","v":""},{"$f":"IF(ISTEXT(ShareOfSearch_SERPS!D2449),ShareOfSearch_SERPS!D2449,\"\")","v":""},{"$f":"IF(NOT(ISBLANK(ShareOfSearch_SERPS!A2449)),ShareOfSearch_SERPS!A2449,\"\")","v":""},{"$f":"IF(NOT(ISBLANK(ShareOfSearch_SERPS!G2449)),ShareOfSearch_SERPS!G2449,\"\")","v":""},{"$f":"IF(NOT(ISBLANK(ShareOfSearch_SERPS!K2449)),ShareOfSearch_SERPS!K2449,\"\")","v":""},{"$f":"IFERROR(VLOOKUP(C2449,ShareOfSearch_CTR!$A$1:$B$100,2,FALSE)*VLOOKUP(A2449&B2449,ShareOfSearch_Volume!$C$1:$D$1000,2,FALSE),\"\")","v":""}]
[{"$f":"IF(ISTEXT(ShareOfSearch_SERPS!C2450),ShareOfSearch_SERPS!C2450,\"\")","v":""},{"$f":"IF(ISTEXT(ShareOfSearch_SERPS!D2450),ShareOfSearch_SERPS!D2450,\"\")","v":""},{"$f":"IF(NOT(ISBLANK(ShareOfSearch_SERPS!A2450)),ShareOfSearch_SERPS!A2450,\"\")","v":""},{"$f":"IF(NOT(ISBLANK(ShareOfSearch_SERPS!G2450)),ShareOfSearch_SERPS!G2450,\"\")","v":""},{"$f":"IF(NOT(ISBLANK(ShareOfSearch_SERPS!K2450)),ShareOfSearch_SERPS!K2450,\"\")","v":""},{"$f":"IFERROR(VLOOKUP(C2450,ShareOfSearch_CTR!$A$1:$B$100,2,FALSE)*VLOOKUP(A2450&B2450,ShareOfSearch_Volume!$C$1:$D$1000,2,FALSE),\"\")","v":""}]
[{"$f":"IF(ISTEXT(ShareOfSearch_SERPS!C2451),ShareOfSearch_SERPS!C2451,\"\")","v":""},{"$f":"IF(ISTEXT(ShareOfSearch_SERPS!D2451),ShareOfSearch_SERPS!D2451,\"\")","v":""},{"$f":"IF(NOT(ISBLANK(ShareOfSearch_SERPS!A2451)),ShareOfSearch_SERPS!A2451,\"\")","v":""},{"$f":"IF(NOT(ISBLANK(ShareOfSearch_SERPS!G2451)),ShareOfSearch_SERPS!G2451,\"\")","v":""},{"$f":"IF(NOT(ISBLANK(ShareOfSearch_SERPS!K2451)),ShareOfSearch_SERPS!K2451,\"\")","v":""},{"$f":"IFERROR(VLOOKUP(C2451,ShareOfSearch_CTR!$A$1:$B$100,2,FALSE)*VLOOKUP(A2451&B2451,ShareOfSearch_Volume!$C$1:$D$1000,2,FALSE),\"\")","v":""}]
[{"$f":"IF(ISTEXT(ShareOfSearch_SERPS!C2452),ShareOfSearch_SERPS!C2452,\"\")","v":""},{"$f":"IF(ISTEXT(ShareOfSearch_SERPS!D2452),ShareOfSearch_SERPS!D2452,\"\")","v":""},{"$f":"IF(NOT(ISBLANK(ShareOfSearch_SERPS!A2452)),ShareOfSearch_SERPS!A2452,\"\")","v":""},{"$f":"IF(NOT(ISBLANK(ShareOfSearch_SERPS!G2452)),ShareOfSearch_SERPS!G2452,\"\")","v":""},{"$f":"IF(NOT(ISBLANK(ShareOfSearch_SERPS!K2452)),ShareOfSearch_SERPS!K2452,\"\")","v":""},{"$f":"IFERROR(VLOOKUP(C2452,ShareOfSearch_CTR!$A$1:$B$100,2,FALSE)*VLOOKUP(A2452&B2452,ShareOfSearch_Volume!$C$1:$D$1000,2,FALSE),\"\")","v":""}]
[{"$f":"IF(ISTEXT(ShareOfSearch_SERPS!C2453),ShareOfSearch_SERPS!C2453,\"\")","v":""},{"$f":"IF(ISTEXT(ShareOfSearch_SERPS!D2453),ShareOfSearch_SERPS!D2453,\"\")","v":""},{"$f":"IF(NOT(ISBLANK(ShareOfSearch_SERPS!A2453)),ShareOfSearch_SERPS!A2453,\"\")","v":""},{"$f":"IF(NOT(ISBLANK(ShareOfSearch_SERPS!G2453)),ShareOfSearch_SERPS!G2453,\"\")","v":""},{"$f":"IF(NOT(ISBLANK(ShareOfSearch_SERPS!K2453)),ShareOfSearch_SERPS!K2453,\"\")","v":""},{"$f":"IFERROR(VLOOKUP(C2453,ShareOfSearch_CTR!$A$1:$B$100,2,FALSE)*VLOOKUP(A2453&B2453,ShareOfSearch_Volume!$C$1:$D$1000,2,FALSE),\"\")","v":""}]
[{"$f":"IF(ISTEXT(ShareOfSearch_SERPS!C2454),ShareOfSearch_SERPS!C2454,\"\")","v":""},{"$f":"IF(ISTEXT(ShareOfSearch_SERPS!D2454),ShareOfSearch_SERPS!D2454,\"\")","v":""},{"$f":"IF(NOT(ISBLANK(ShareOfSearch_SERPS!A2454)),ShareOfSearch_SERPS!A2454,\"\")","v":""},{"$f":"IF(NOT(ISBLANK(ShareOfSearch_SERPS!G2454)),ShareOfSearch_SERPS!G2454,\"\")","v":""},{"$f":"IF(NOT(ISBLANK(ShareOfSearch_SERPS!K2454)),ShareOfSearch_SERPS!K2454,\"\")","v":""},{"$f":"IFERROR(VLOOKUP(C2454,ShareOfSearch_CTR!$A$1:$B$100,2,FALSE)*VLOOKUP(A2454&B2454,ShareOfSearch_Volume!$C$1:$D$1000,2,FALSE),\"\")","v":""}]
[{"$f":"IF(ISTEXT(ShareOfSearch_SERPS!C2455),ShareOfSearch_SERPS!C2455,\"\")","v":""},{"$f":"IF(ISTEXT(ShareOfSearch_SERPS!D2455),ShareOfSearch_SERPS!D2455,\"\")","v":""},{"$f":"IF(NOT(ISBLANK(ShareOfSearch_SERPS!A2455)),ShareOfSearch_SERPS!A2455,\"\")","v":""},{"$f":"IF(NOT(ISBLANK(ShareOfSearch_SERPS!G2455)),ShareOfSearch_SERPS!G2455,\"\")","v":""},{"$f":"IF(NOT(ISBLANK(ShareOfSearch_SERPS!K2455)),ShareOfSearch_SERPS!K2455,\"\")","v":""},{"$f":"IFERROR(VLOOKUP(C2455,ShareOfSearch_CTR!$A$1:$B$100,2,FALSE)*VLOOKUP(A2455&B2455,ShareOfSearch_Volume!$C$1:$D$1000,2,FALSE),\"\")","v":""}]
[{"$f":"IF(ISTEXT(ShareOfSearch_SERPS!C2456),ShareOfSearch_SERPS!C2456,\"\")","v":""},{"$f":"IF(ISTEXT(ShareOfSearch_SERPS!D2456),ShareOfSearch_SERPS!D2456,\"\")","v":""},{"$f":"IF(NOT(ISBLANK(ShareOfSearch_SERPS!A2456)),ShareOfSearch_SERPS!A2456,\"\")","v":""},{"$f":"IF(NOT(ISBLANK(ShareOfSearch_SERPS!G2456)),ShareOfSearch_SERPS!G2456,\"\")","v":""},{"$f":"IF(NOT(ISBLANK(ShareOfSearch_SERPS!K2456)),ShareOfSearch_SERPS!K2456,\"\")","v":""},{"$f":"IFERROR(VLOOKUP(C2456,ShareOfSearch_CTR!$A$1:$B$100,2,FALSE)*VLOOKUP(A2456&B2456,ShareOfSearch_Volume!$C$1:$D$1000,2,FALSE),\"\")","v":""}]
[{"$f":"IF(ISTEXT(ShareOfSearch_SERPS!C2457),ShareOfSearch_SERPS!C2457,\"\")","v":""},{"$f":"IF(ISTEXT(ShareOfSearch_SERPS!D2457),ShareOfSearch_SERPS!D2457,\"\")","v":""},{"$f":"IF(NOT(ISBLANK(ShareOfSearch_SERPS!A2457)),ShareOfSearch_SERPS!A2457,\"\")","v":""},{"$f":"IF(NOT(ISBLANK(ShareOfSearch_SERPS!G2457)),ShareOfSearch_SERPS!G2457,\"\")","v":""},{"$f":"IF(NOT(ISBLANK(ShareOfSearch_SERPS!K2457)),ShareOfSearch_SERPS!K2457,\"\")","v":""},{"$f":"IFERROR(VLOOKUP(C2457,ShareOfSearch_CTR!$A$1:$B$100,2,FALSE)*VLOOKUP(A2457&B2457,ShareOfSearch_Volume!$C$1:$D$1000,2,FALSE),\"\")","v":""}]
[{"$f":"IF(ISTEXT(ShareOfSearch_SERPS!C2458),ShareOfSearch_SERPS!C2458,\"\")","v":""},{"$f":"IF(ISTEXT(ShareOfSearch_SERPS!D2458),ShareOfSearch_SERPS!D2458,\"\")","v":""},{"$f":"IF(NOT(ISBLANK(ShareOfSearch_SERPS!A2458)),ShareOfSearch_SERPS!A2458,\"\")","v":""},{"$f":"IF(NOT(ISBLANK(ShareOfSearch_SERPS!G2458)),ShareOfSearch_SERPS!G2458,\"\")","v":""},{"$f":"IF(NOT(ISBLANK(ShareOfSearch_SERPS!K2458)),ShareOfSearch_SERPS!K2458,\"\")","v":""},{"$f":"IFERROR(VLOOKUP(C2458,ShareOfSearch_CTR!$A$1:$B$100,2,FALSE)*VLOOKUP(A2458&B2458,ShareOfSearch_Volume!$C$1:$D$1000,2,FALSE),\"\")","v":""}]
[{"$f":"IF(ISTEXT(ShareOfSearch_SERPS!C2459),ShareOfSearch_SERPS!C2459,\"\")","v":""},{"$f":"IF(ISTEXT(ShareOfSearch_SERPS!D2459),ShareOfSearch_SERPS!D2459,\"\")","v":""},{"$f":"IF(NOT(ISBLANK(ShareOfSearch_SERPS!A2459)),ShareOfSearch_SERPS!A2459,\"\")","v":""},{"$f":"IF(NOT(ISBLANK(ShareOfSearch_SERPS!G2459)),ShareOfSearch_SERPS!G2459,\"\")","v":""},{"$f":"IF(NOT(ISBLANK(ShareOfSearch_SERPS!K2459)),ShareOfSearch_SERPS!K2459,\"\")","v":""},{"$f":"IFERROR(VLOOKUP(C2459,ShareOfSearch_CTR!$A$1:$B$100,2,FALSE)*VLOOKUP(A2459&B2459,ShareOfSearch_Volume!$C$1:$D$1000,2,FALSE),\"\")","v":""}]
[{"$f":"IF(ISTEXT(ShareOfSearch_SERPS!C2460),ShareOfSearch_SERPS!C2460,\"\")","v":""},{"$f":"IF(ISTEXT(ShareOfSearch_SERPS!D2460),ShareOfSearch_SERPS!D2460,\"\")","v":""},{"$f":"IF(NOT(ISBLANK(ShareOfSearch_SERPS!A2460)),ShareOfSearch_SERPS!A2460,\"\")","v":""},{"$f":"IF(NOT(ISBLANK(ShareOfSearch_SERPS!G2460)),ShareOfSearch_SERPS!G2460,\"\")","v":""},{"$f":"IF(NOT(ISBLANK(ShareOfSearch_SERPS!K2460)),ShareOfSearch_SERPS!K2460,\"\")","v":""},{"$f":"IFERROR(VLOOKUP(C2460,ShareOfSearch_CTR!$A$1:$B$100,2,FALSE)*VLOOKUP(A2460&B2460,ShareOfSearch_Volume!$C$1:$D$1000,2,FALSE),\"\")","v":""}]
[{"$f":"IF(ISTEXT(ShareOfSearch_SERPS!C2461),ShareOfSearch_SERPS!C2461,\"\")","v":""},{"$f":"IF(ISTEXT(ShareOfSearch_SERPS!D2461),ShareOfSearch_SERPS!D2461,\"\")","v":""},{"$f":"IF(NOT(ISBLANK(ShareOfSearch_SERPS!A2461)),ShareOfSearch_SERPS!A2461,\"\")","v":""},{"$f":"IF(NOT(ISBLANK(ShareOfSearch_SERPS!G2461)),ShareOfSearch_SERPS!G2461,\"\")","v":""},{"$f":"IF(NOT(ISBLANK(ShareOfSearch_SERPS!K2461)),ShareOfSearch_SERPS!K2461,\"\")","v":""},{"$f":"IFERROR(VLOOKUP(C2461,ShareOfSearch_CTR!$A$1:$B$100,2,FALSE)*VLOOKUP(A2461&B2461,ShareOfSearch_Volume!$C$1:$D$1000,2,FALSE),\"\")","v":""}]
[{"$f":"IF(ISTEXT(ShareOfSearch_SERPS!C2462),ShareOfSearch_SERPS!C2462,\"\")","v":""},{"$f":"IF(ISTEXT(ShareOfSearch_SERPS!D2462),ShareOfSearch_SERPS!D2462,\"\")","v":""},{"$f":"IF(NOT(ISBLANK(ShareOfSearch_SERPS!A2462)),ShareOfSearch_SERPS!A2462,\"\")","v":""},{"$f":"IF(NOT(ISBLANK(ShareOfSearch_SERPS!G2462)),ShareOfSearch_SERPS!G2462,\"\")","v":""},{"$f":"IF(NOT(ISBLANK(ShareOfSearch_SERPS!K2462)),ShareOfSearch_SERPS!K2462,\"\")","v":""},{"$f":"IFERROR(VLOOKUP(C2462,ShareOfSearch_CTR!$A$1:$B$100,2,FALSE)*VLOOKUP(A2462&B2462,ShareOfSearch_Volume!$C$1:$D$1000,2,FALSE),\"\")","v":""}]
[{"$f":"IF(ISTEXT(ShareOfSearch_SERPS!C2463),ShareOfSearch_SERPS!C2463,\"\")","v":""},{"$f":"IF(ISTEXT(ShareOfSearch_SERPS!D2463),ShareOfSearch_SERPS!D2463,\"\")","v":""},{"$f":"IF(NOT(ISBLANK(ShareOfSearch_SERPS!A2463)),ShareOfSearch_SERPS!A2463,\"\")","v":""},{"$f":"IF(NOT(ISBLANK(ShareOfSearch_SERPS!G2463)),ShareOfSearch_SERPS!G2463,\"\")","v":""},{"$f":"IF(NOT(ISBLANK(ShareOfSearch_SERPS!K2463)),ShareOfSearch_SERPS!K2463,\"\")","v":""},{"$f":"IFERROR(VLOOKUP(C2463,ShareOfSearch_CTR!$A$1:$B$100,2,FALSE)*VLOOKUP(A2463&B2463,ShareOfSearch_Volume!$C$1:$D$1000,2,FALSE),\"\")","v":""}]
[{"$f":"IF(ISTEXT(ShareOfSearch_SERPS!C2464),ShareOfSearch_SERPS!C2464,\"\")","v":""},{"$f":"IF(ISTEXT(ShareOfSearch_SERPS!D2464),ShareOfSearch_SERPS!D2464,\"\")","v":""},{"$f":"IF(NOT(ISBLANK(ShareOfSearch_SERPS!A2464)),ShareOfSearch_SERPS!A2464,\"\")","v":""},{"$f":"IF(NOT(ISBLANK(ShareOfSearch_SERPS!G2464)),ShareOfSearch_SERPS!G2464,\"\")","v":""},{"$f":"IF(NOT(ISBLANK(ShareOfSearch_SERPS!K2464)),ShareOfSearch_SERPS!K2464,\"\")","v":""},{"$f":"IFERROR(VLOOKUP(C2464,ShareOfSearch_CTR!$A$1:$B$100,2,FALSE)*VLOOKUP(A2464&B2464,ShareOfSearch_Volume!$C$1:$D$1000,2,FALSE),\"\")","v":""}]
[{"$f":"IF(ISTEXT(ShareOfSearch_SERPS!C2465),ShareOfSearch_SERPS!C2465,\"\")","v":""},{"$f":"IF(ISTEXT(ShareOfSearch_SERPS!D2465),ShareOfSearch_SERPS!D2465,\"\")","v":""},{"$f":"IF(NOT(ISBLANK(ShareOfSearch_SERPS!A2465)),ShareOfSearch_SERPS!A2465,\"\")","v":""},{"$f":"IF(NOT(ISBLANK(ShareOfSearch_SERPS!G2465)),ShareOfSearch_SERPS!G2465,\"\")","v":""},{"$f":"IF(NOT(ISBLANK(ShareOfSearch_SERPS!K2465)),ShareOfSearch_SERPS!K2465,\"\")","v":""},{"$f":"IFERROR(VLOOKUP(C2465,ShareOfSearch_CTR!$A$1:$B$100,2,FALSE)*VLOOKUP(A2465&B2465,ShareOfSearch_Volume!$C$1:$D$1000,2,FALSE),\"\")","v":""}]
[{"$f":"IF(ISTEXT(ShareOfSearch_SERPS!C2466),ShareOfSearch_SERPS!C2466,\"\")","v":""},{"$f":"IF(ISTEXT(ShareOfSearch_SERPS!D2466),ShareOfSearch_SERPS!D2466,\"\")","v":""},{"$f":"IF(NOT(ISBLANK(ShareOfSearch_SERPS!A2466)),ShareOfSearch_SERPS!A2466,\"\")","v":""},{"$f":"IF(NOT(ISBLANK(ShareOfSearch_SERPS!G2466)),ShareOfSearch_SERPS!G2466,\"\")","v":""},{"$f":"IF(NOT(ISBLANK(ShareOfSearch_SERPS!K2466)),ShareOfSearch_SERPS!K2466,\"\")","v":""},{"$f":"IFERROR(VLOOKUP(C2466,ShareOfSearch_CTR!$A$1:$B$100,2,FALSE)*VLOOKUP(A2466&B2466,ShareOfSearch_Volume!$C$1:$D$1000,2,FALSE),\"\")","v":""}]
[{"$f":"IF(ISTEXT(ShareOfSearch_SERPS!C2467),ShareOfSearch_SERPS!C2467,\"\")","v":""},{"$f":"IF(ISTEXT(ShareOfSearch_SERPS!D2467),ShareOfSearch_SERPS!D2467,\"\")","v":""},{"$f":"IF(NOT(ISBLANK(ShareOfSearch_SERPS!A2467)),ShareOfSearch_SERPS!A2467,\"\")","v":""},{"$f":"IF(NOT(ISBLANK(ShareOfSearch_SERPS!G2467)),ShareOfSearch_SERPS!G2467,\"\")","v":""},{"$f":"IF(NOT(ISBLANK(ShareOfSearch_SERPS!K2467)),ShareOfSearch_SERPS!K2467,\"\")","v":""},{"$f":"IFERROR(VLOOKUP(C2467,ShareOfSearch_CTR!$A$1:$B$100,2,FALSE)*VLOOKUP(A2467&B2467,ShareOfSearch_Volume!$C$1:$D$1000,2,FALSE),\"\")","v":""}]
[{"$f":"IF(ISTEXT(ShareOfSearch_SERPS!C2468),ShareOfSearch_SERPS!C2468,\"\")","v":""},{"$f":"IF(ISTEXT(ShareOfSearch_SERPS!D2468),ShareOfSearch_SERPS!D2468,\"\")","v":""},{"$f":"IF(NOT(ISBLANK(ShareOfSearch_SERPS!A2468)),ShareOfSearch_SERPS!A2468,\"\")","v":""},{"$f":"IF(NOT(ISBLANK(ShareOfSearch_SERPS!G2468)),ShareOfSearch_SERPS!G2468,\"\")","v":""},{"$f":"IF(NOT(ISBLANK(ShareOfSearch_SERPS!K2468)),ShareOfSearch_SERPS!K2468,\"\")","v":""},{"$f":"IFERROR(VLOOKUP(C2468,ShareOfSearch_CTR!$A$1:$B$100,2,FALSE)*VLOOKUP(A2468&B2468,ShareOfSearch_Volume!$C$1:$D$1000,2,FALSE),\"\")","v":""}]
[{"$f":"IF(ISTEXT(ShareOfSearch_SERPS!C2469),ShareOfSearch_SERPS!C2469,\"\")","v":""},{"$f":"IF(ISTEXT(ShareOfSearch_SERPS!D2469),ShareOfSearch_SERPS!D2469,\"\")","v":""},{"$f":"IF(NOT(ISBLANK(ShareOfSearch_SERPS!A2469)),ShareOfSearch_SERPS!A2469,\"\")","v":""},{"$f":"IF(NOT(ISBLANK(ShareOfSearch_SERPS!G2469)),ShareOfSearch_SERPS!G2469,\"\")","v":""},{"$f":"IF(NOT(ISBLANK(ShareOfSearch_SERPS!K2469)),ShareOfSearch_SERPS!K2469,\"\")","v":""},{"$f":"IFERROR(VLOOKUP(C2469,ShareOfSearch_CTR!$A$1:$B$100,2,FALSE)*VLOOKUP(A2469&B2469,ShareOfSearch_Volume!$C$1:$D$1000,2,FALSE),\"\")","v":""}]
[{"$f":"IF(ISTEXT(ShareOfSearch_SERPS!C2470),ShareOfSearch_SERPS!C2470,\"\")","v":""},{"$f":"IF(ISTEXT(ShareOfSearch_SERPS!D2470),ShareOfSearch_SERPS!D2470,\"\")","v":""},{"$f":"IF(NOT(ISBLANK(ShareOfSearch_SERPS!A2470)),ShareOfSearch_SERPS!A2470,\"\")","v":""},{"$f":"IF(NOT(ISBLANK(ShareOfSearch_SERPS!G2470)),ShareOfSearch_SERPS!G2470,\"\")","v":""},{"$f":"IF(NOT(ISBLANK(ShareOfSearch_SERPS!K2470)),ShareOfSearch_SERPS!K2470,\"\")","v":""},{"$f":"IFERROR(VLOOKUP(C2470,ShareOfSearch_CTR!$A$1:$B$100,2,FALSE)*VLOOKUP(A2470&B2470,ShareOfSearch_Volume!$C$1:$D$1000,2,FALSE),\"\")","v":""}]
[{"$f":"IF(ISTEXT(ShareOfSearch_SERPS!C2471),ShareOfSearch_SERPS!C2471,\"\")","v":""},{"$f":"IF(ISTEXT(ShareOfSearch_SERPS!D2471),ShareOfSearch_SERPS!D2471,\"\")","v":""},{"$f":"IF(NOT(ISBLANK(ShareOfSearch_SERPS!A2471)),ShareOfSearch_SERPS!A2471,\"\")","v":""},{"$f":"IF(NOT(ISBLANK(ShareOfSearch_SERPS!G2471)),ShareOfSearch_SERPS!G2471,\"\")","v":""},{"$f":"IF(NOT(ISBLANK(ShareOfSearch_SERPS!K2471)),ShareOfSearch_SERPS!K2471,\"\")","v":""},{"$f":"IFERROR(VLOOKUP(C2471,ShareOfSearch_CTR!$A$1:$B$100,2,FALSE)*VLOOKUP(A2471&B2471,ShareOfSearch_Volume!$C$1:$D$1000,2,FALSE),\"\")","v":""}]
[{"$f":"IF(ISTEXT(ShareOfSearch_SERPS!C2472),ShareOfSearch_SERPS!C2472,\"\")","v":""},{"$f":"IF(ISTEXT(ShareOfSearch_SERPS!D2472),ShareOfSearch_SERPS!D2472,\"\")","v":""},{"$f":"IF(NOT(ISBLANK(ShareOfSearch_SERPS!A2472)),ShareOfSearch_SERPS!A2472,\"\")","v":""},{"$f":"IF(NOT(ISBLANK(ShareOfSearch_SERPS!G2472)),ShareOfSearch_SERPS!G2472,\"\")","v":""},{"$f":"IF(NOT(ISBLANK(ShareOfSearch_SERPS!K2472)),ShareOfSearch_SERPS!K2472,\"\")","v":""},{"$f":"IFERROR(VLOOKUP(C2472,ShareOfSearch_CTR!$A$1:$B$100,2,FALSE)*VLOOKUP(A2472&B2472,ShareOfSearch_Volume!$C$1:$D$1000,2,FALSE),\"\")","v":""}]
[{"$f":"IF(ISTEXT(ShareOfSearch_SERPS!C2473),ShareOfSearch_SERPS!C2473,\"\")","v":""},{"$f":"IF(ISTEXT(ShareOfSearch_SERPS!D2473),ShareOfSearch_SERPS!D2473,\"\")","v":""},{"$f":"IF(NOT(ISBLANK(ShareOfSearch_SERPS!A2473)),ShareOfSearch_SERPS!A2473,\"\")","v":""},{"$f":"IF(NOT(ISBLANK(ShareOfSearch_SERPS!G2473)),ShareOfSearch_SERPS!G2473,\"\")","v":""},{"$f":"IF(NOT(ISBLANK(ShareOfSearch_SERPS!K2473)),ShareOfSearch_SERPS!K2473,\"\")","v":""},{"$f":"IFERROR(VLOOKUP(C2473,ShareOfSearch_CTR!$A$1:$B$100,2,FALSE)*VLOOKUP(A2473&B2473,ShareOfSearch_Volume!$C$1:$D$1000,2,FALSE),\"\")","v":""}]
[{"$f":"IF(ISTEXT(ShareOfSearch_SERPS!C2474),ShareOfSearch_SERPS!C2474,\"\")","v":""},{"$f":"IF(ISTEXT(ShareOfSearch_SERPS!D2474),ShareOfSearch_SERPS!D2474,\"\")","v":""},{"$f":"IF(NOT(ISBLANK(ShareOfSearch_SERPS!A2474)),ShareOfSearch_SERPS!A2474,\"\")","v":""},{"$f":"IF(NOT(ISBLANK(ShareOfSearch_SERPS!G2474)),ShareOfSearch_SERPS!G2474,\"\")","v":""},{"$f":"IF(NOT(ISBLANK(ShareOfSearch_SERPS!K2474)),ShareOfSearch_SERPS!K2474,\"\")","v":""},{"$f":"IFERROR(VLOOKUP(C2474,ShareOfSearch_CTR!$A$1:$B$100,2,FALSE)*VLOOKUP(A2474&B2474,ShareOfSearch_Volume!$C$1:$D$1000,2,FALSE),\"\")","v":""}]
[{"$f":"IF(ISTEXT(ShareOfSearch_SERPS!C2475),ShareOfSearch_SERPS!C2475,\"\")","v":""},{"$f":"IF(ISTEXT(ShareOfSearch_SERPS!D2475),ShareOfSearch_SERPS!D2475,\"\")","v":""},{"$f":"IF(NOT(ISBLANK(ShareOfSearch_SERPS!A2475)),ShareOfSearch_SERPS!A2475,\"\")","v":""},{"$f":"IF(NOT(ISBLANK(ShareOfSearch_SERPS!G2475)),ShareOfSearch_SERPS!G2475,\"\")","v":""},{"$f":"IF(NOT(ISBLANK(ShareOfSearch_SERPS!K2475)),ShareOfSearch_SERPS!K2475,\"\")","v":""},{"$f":"IFERROR(VLOOKUP(C2475,ShareOfSearch_CTR!$A$1:$B$100,2,FALSE)*VLOOKUP(A2475&B2475,ShareOfSearch_Volume!$C$1:$D$1000,2,FALSE),\"\")","v":""}]
[{"$f":"IF(ISTEXT(ShareOfSearch_SERPS!C2476),ShareOfSearch_SERPS!C2476,\"\")","v":""},{"$f":"IF(ISTEXT(ShareOfSearch_SERPS!D2476),ShareOfSearch_SERPS!D2476,\"\")","v":""},{"$f":"IF(NOT(ISBLANK(ShareOfSearch_SERPS!A2476)),ShareOfSearch_SERPS!A2476,\"\")","v":""},{"$f":"IF(NOT(ISBLANK(ShareOfSearch_SERPS!G2476)),ShareOfSearch_SERPS!G2476,\"\")","v":""},{"$f":"IF(NOT(ISBLANK(ShareOfSearch_SERPS!K2476)),ShareOfSearch_SERPS!K2476,\"\")","v":""},{"$f":"IFERROR(VLOOKUP(C2476,ShareOfSearch_CTR!$A$1:$B$100,2,FALSE)*VLOOKUP(A2476&B2476,ShareOfSearch_Volume!$C$1:$D$1000,2,FALSE),\"\")","v":""}]
[{"$f":"IF(ISTEXT(ShareOfSearch_SERPS!C2477),ShareOfSearch_SERPS!C2477,\"\")","v":""},{"$f":"IF(ISTEXT(ShareOfSearch_SERPS!D2477),ShareOfSearch_SERPS!D2477,\"\")","v":""},{"$f":"IF(NOT(ISBLANK(ShareOfSearch_SERPS!A2477)),ShareOfSearch_SERPS!A2477,\"\")","v":""},{"$f":"IF(NOT(ISBLANK(ShareOfSearch_SERPS!G2477)),ShareOfSearch_SERPS!G2477,\"\")","v":""},{"$f":"IF(NOT(ISBLANK(ShareOfSearch_SERPS!K2477)),ShareOfSearch_SERPS!K2477,\"\")","v":""},{"$f":"IFERROR(VLOOKUP(C2477,ShareOfSearch_CTR!$A$1:$B$100,2,FALSE)*VLOOKUP(A2477&B2477,ShareOfSearch_Volume!$C$1:$D$1000,2,FALSE),\"\")","v":""}]
[{"$f":"IF(ISTEXT(ShareOfSearch_SERPS!C2478),ShareOfSearch_SERPS!C2478,\"\")","v":""},{"$f":"IF(ISTEXT(ShareOfSearch_SERPS!D2478),ShareOfSearch_SERPS!D2478,\"\")","v":""},{"$f":"IF(NOT(ISBLANK(ShareOfSearch_SERPS!A2478)),ShareOfSearch_SERPS!A2478,\"\")","v":""},{"$f":"IF(NOT(ISBLANK(ShareOfSearch_SERPS!G2478)),ShareOfSearch_SERPS!G2478,\"\")","v":""},{"$f":"IF(NOT(ISBLANK(ShareOfSearch_SERPS!K2478)),ShareOfSearch_SERPS!K2478,\"\")","v":""},{"$f":"IFERROR(VLOOKUP(C2478,ShareOfSearch_CTR!$A$1:$B$100,2,FALSE)*VLOOKUP(A2478&B2478,ShareOfSearch_Volume!$C$1:$D$1000,2,FALSE),\"\")","v":""}]
[{"$f":"IF(ISTEXT(ShareOfSearch_SERPS!C2479),ShareOfSearch_SERPS!C2479,\"\")","v":""},{"$f":"IF(ISTEXT(ShareOfSearch_SERPS!D2479),ShareOfSearch_SERPS!D2479,\"\")","v":""},{"$f":"IF(NOT(ISBLANK(ShareOfSearch_SERPS!A2479)),ShareOfSearch_SERPS!A2479,\"\")","v":""},{"$f":"IF(NOT(ISBLANK(ShareOfSearch_SERPS!G2479)),ShareOfSearch_SERPS!G2479,\"\")","v":""},{"$f":"IF(NOT(ISBLANK(ShareOfSearch_SERPS!K2479)),ShareOfSearch_SERPS!K2479,\"\")","v":""},{"$f":"IFERROR(VLOOKUP(C2479,ShareOfSearch_CTR!$A$1:$B$100,2,FALSE)*VLOOKUP(A2479&B2479,ShareOfSearch_Volume!$C$1:$D$1000,2,FALSE),\"\")","v":""}]
[{"$f":"IF(ISTEXT(ShareOfSearch_SERPS!C2480),ShareOfSearch_SERPS!C2480,\"\")","v":""},{"$f":"IF(ISTEXT(ShareOfSearch_SERPS!D2480),ShareOfSearch_SERPS!D2480,\"\")","v":""},{"$f":"IF(NOT(ISBLANK(ShareOfSearch_SERPS!A2480)),ShareOfSearch_SERPS!A2480,\"\")","v":""},{"$f":"IF(NOT(ISBLANK(ShareOfSearch_SERPS!G2480)),ShareOfSearch_SERPS!G2480,\"\")","v":""},{"$f":"IF(NOT(ISBLANK(ShareOfSearch_SERPS!K2480)),ShareOfSearch_SERPS!K2480,\"\")","v":""},{"$f":"IFERROR(VLOOKUP(C2480,ShareOfSearch_CTR!$A$1:$B$100,2,FALSE)*VLOOKUP(A2480&B2480,ShareOfSearch_Volume!$C$1:$D$1000,2,FALSE),\"\")","v":""}]
[{"$f":"IF(ISTEXT(ShareOfSearch_SERPS!C2481),ShareOfSearch_SERPS!C2481,\"\")","v":""},{"$f":"IF(ISTEXT(ShareOfSearch_SERPS!D2481),ShareOfSearch_SERPS!D2481,\"\")","v":""},{"$f":"IF(NOT(ISBLANK(ShareOfSearch_SERPS!A2481)),ShareOfSearch_SERPS!A2481,\"\")","v":""},{"$f":"IF(NOT(ISBLANK(ShareOfSearch_SERPS!G2481)),ShareOfSearch_SERPS!G2481,\"\")","v":""},{"$f":"IF(NOT(ISBLANK(ShareOfSearch_SERPS!K2481)),ShareOfSearch_SERPS!K2481,\"\")","v":""},{"$f":"IFERROR(VLOOKUP(C2481,ShareOfSearch_CTR!$A$1:$B$100,2,FALSE)*VLOOKUP(A2481&B2481,ShareOfSearch_Volume!$C$1:$D$1000,2,FALSE),\"\")","v":""}]
[{"$f":"IF(ISTEXT(ShareOfSearch_SERPS!C2482),ShareOfSearch_SERPS!C2482,\"\")","v":""},{"$f":"IF(ISTEXT(ShareOfSearch_SERPS!D2482),ShareOfSearch_SERPS!D2482,\"\")","v":""},{"$f":"IF(NOT(ISBLANK(ShareOfSearch_SERPS!A2482)),ShareOfSearch_SERPS!A2482,\"\")","v":""},{"$f":"IF(NOT(ISBLANK(ShareOfSearch_SERPS!G2482)),ShareOfSearch_SERPS!G2482,\"\")","v":""},{"$f":"IF(NOT(ISBLANK(ShareOfSearch_SERPS!K2482)),ShareOfSearch_SERPS!K2482,\"\")","v":""},{"$f":"IFERROR(VLOOKUP(C2482,ShareOfSearch_CTR!$A$1:$B$100,2,FALSE)*VLOOKUP(A2482&B2482,ShareOfSearch_Volume!$C$1:$D$1000,2,FALSE),\"\")","v":""}]
[{"$f":"IF(ISTEXT(ShareOfSearch_SERPS!C2483),ShareOfSearch_SERPS!C2483,\"\")","v":""},{"$f":"IF(ISTEXT(ShareOfSearch_SERPS!D2483),ShareOfSearch_SERPS!D2483,\"\")","v":""},{"$f":"IF(NOT(ISBLANK(ShareOfSearch_SERPS!A2483)),ShareOfSearch_SERPS!A2483,\"\")","v":""},{"$f":"IF(NOT(ISBLANK(ShareOfSearch_SERPS!G2483)),ShareOfSearch_SERPS!G2483,\"\")","v":""},{"$f":"IF(NOT(ISBLANK(ShareOfSearch_SERPS!K2483)),ShareOfSearch_SERPS!K2483,\"\")","v":""},{"$f":"IFERROR(VLOOKUP(C2483,ShareOfSearch_CTR!$A$1:$B$100,2,FALSE)*VLOOKUP(A2483&B2483,ShareOfSearch_Volume!$C$1:$D$1000,2,FALSE),\"\")","v":""}]
[{"$f":"IF(ISTEXT(ShareOfSearch_SERPS!C2484),ShareOfSearch_SERPS!C2484,\"\")","v":""},{"$f":"IF(ISTEXT(ShareOfSearch_SERPS!D2484),ShareOfSearch_SERPS!D2484,\"\")","v":""},{"$f":"IF(NOT(ISBLANK(ShareOfSearch_SERPS!A2484)),ShareOfSearch_SERPS!A2484,\"\")","v":""},{"$f":"IF(NOT(ISBLANK(ShareOfSearch_SERPS!G2484)),ShareOfSearch_SERPS!G2484,\"\")","v":""},{"$f":"IF(NOT(ISBLANK(ShareOfSearch_SERPS!K2484)),ShareOfSearch_SERPS!K2484,\"\")","v":""},{"$f":"IFERROR(VLOOKUP(C2484,ShareOfSearch_CTR!$A$1:$B$100,2,FALSE)*VLOOKUP(A2484&B2484,ShareOfSearch_Volume!$C$1:$D$1000,2,FALSE),\"\")","v":""}]
[{"$f":"IF(ISTEXT(ShareOfSearch_SERPS!C2485),ShareOfSearch_SERPS!C2485,\"\")","v":""},{"$f":"IF(ISTEXT(ShareOfSearch_SERPS!D2485),ShareOfSearch_SERPS!D2485,\"\")","v":""},{"$f":"IF(NOT(ISBLANK(ShareOfSearch_SERPS!A2485)),ShareOfSearch_SERPS!A2485,\"\")","v":""},{"$f":"IF(NOT(ISBLANK(ShareOfSearch_SERPS!G2485)),ShareOfSearch_SERPS!G2485,\"\")","v":""},{"$f":"IF(NOT(ISBLANK(ShareOfSearch_SERPS!K2485)),ShareOfSearch_SERPS!K2485,\"\")","v":""},{"$f":"IFERROR(VLOOKUP(C2485,ShareOfSearch_CTR!$A$1:$B$100,2,FALSE)*VLOOKUP(A2485&B2485,ShareOfSearch_Volume!$C$1:$D$1000,2,FALSE),\"\")","v":""}]
[{"$f":"IF(ISTEXT(ShareOfSearch_SERPS!C2486),ShareOfSearch_SERPS!C2486,\"\")","v":""},{"$f":"IF(ISTEXT(ShareOfSearch_SERPS!D2486),ShareOfSearch_SERPS!D2486,\"\")","v":""},{"$f":"IF(NOT(ISBLANK(ShareOfSearch_SERPS!A2486)),ShareOfSearch_SERPS!A2486,\"\")","v":""},{"$f":"IF(NOT(ISBLANK(ShareOfSearch_SERPS!G2486)),ShareOfSearch_SERPS!G2486,\"\")","v":""},{"$f":"IF(NOT(ISBLANK(ShareOfSearch_SERPS!K2486)),ShareOfSearch_SERPS!K2486,\"\")","v":""},{"$f":"IFERROR(VLOOKUP(C2486,ShareOfSearch_CTR!$A$1:$B$100,2,FALSE)*VLOOKUP(A2486&B2486,ShareOfSearch_Volume!$C$1:$D$1000,2,FALSE),\"\")","v":""}]
[{"$f":"IF(ISTEXT(ShareOfSearch_SERPS!C2487),ShareOfSearch_SERPS!C2487,\"\")","v":""},{"$f":"IF(ISTEXT(ShareOfSearch_SERPS!D2487),ShareOfSearch_SERPS!D2487,\"\")","v":""},{"$f":"IF(NOT(ISBLANK(ShareOfSearch_SERPS!A2487)),ShareOfSearch_SERPS!A2487,\"\")","v":""},{"$f":"IF(NOT(ISBLANK(ShareOfSearch_SERPS!G2487)),ShareOfSearch_SERPS!G2487,\"\")","v":""},{"$f":"IF(NOT(ISBLANK(ShareOfSearch_SERPS!K2487)),ShareOfSearch_SERPS!K2487,\"\")","v":""},{"$f":"IFERROR(VLOOKUP(C2487,ShareOfSearch_CTR!$A$1:$B$100,2,FALSE)*VLOOKUP(A2487&B2487,ShareOfSearch_Volume!$C$1:$D$1000,2,FALSE),\"\")","v":""}]
[{"$f":"IF(ISTEXT(ShareOfSearch_SERPS!C2488),ShareOfSearch_SERPS!C2488,\"\")","v":""},{"$f":"IF(ISTEXT(ShareOfSearch_SERPS!D2488),ShareOfSearch_SERPS!D2488,\"\")","v":""},{"$f":"IF(NOT(ISBLANK(ShareOfSearch_SERPS!A2488)),ShareOfSearch_SERPS!A2488,\"\")","v":""},{"$f":"IF(NOT(ISBLANK(ShareOfSearch_SERPS!G2488)),ShareOfSearch_SERPS!G2488,\"\")","v":""},{"$f":"IF(NOT(ISBLANK(ShareOfSearch_SERPS!K2488)),ShareOfSearch_SERPS!K2488,\"\")","v":""},{"$f":"IFERROR(VLOOKUP(C2488,ShareOfSearch_CTR!$A$1:$B$100,2,FALSE)*VLOOKUP(A2488&B2488,ShareOfSearch_Volume!$C$1:$D$1000,2,FALSE),\"\")","v":""}]
[{"$f":"IF(ISTEXT(ShareOfSearch_SERPS!C2489),ShareOfSearch_SERPS!C2489,\"\")","v":""},{"$f":"IF(ISTEXT(ShareOfSearch_SERPS!D2489),ShareOfSearch_SERPS!D2489,\"\")","v":""},{"$f":"IF(NOT(ISBLANK(ShareOfSearch_SERPS!A2489)),ShareOfSearch_SERPS!A2489,\"\")","v":""},{"$f":"IF(NOT(ISBLANK(ShareOfSearch_SERPS!G2489)),ShareOfSearch_SERPS!G2489,\"\")","v":""},{"$f":"IF(NOT(ISBLANK(ShareOfSearch_SERPS!K2489)),ShareOfSearch_SERPS!K2489,\"\")","v":""},{"$f":"IFERROR(VLOOKUP(C2489,ShareOfSearch_CTR!$A$1:$B$100,2,FALSE)*VLOOKUP(A2489&B2489,ShareOfSearch_Volume!$C$1:$D$1000,2,FALSE),\"\")","v":""}]
[{"$f":"IF(ISTEXT(ShareOfSearch_SERPS!C2490),ShareOfSearch_SERPS!C2490,\"\")","v":""},{"$f":"IF(ISTEXT(ShareOfSearch_SERPS!D2490),ShareOfSearch_SERPS!D2490,\"\")","v":""},{"$f":"IF(NOT(ISBLANK(ShareOfSearch_SERPS!A2490)),ShareOfSearch_SERPS!A2490,\"\")","v":""},{"$f":"IF(NOT(ISBLANK(ShareOfSearch_SERPS!G2490)),ShareOfSearch_SERPS!G2490,\"\")","v":""},{"$f":"IF(NOT(ISBLANK(ShareOfSearch_SERPS!K2490)),ShareOfSearch_SERPS!K2490,\"\")","v":""},{"$f":"IFERROR(VLOOKUP(C2490,ShareOfSearch_CTR!$A$1:$B$100,2,FALSE)*VLOOKUP(A2490&B2490,ShareOfSearch_Volume!$C$1:$D$1000,2,FALSE),\"\")","v":""}]
[{"$f":"IF(ISTEXT(ShareOfSearch_SERPS!C2491),ShareOfSearch_SERPS!C2491,\"\")","v":""},{"$f":"IF(ISTEXT(ShareOfSearch_SERPS!D2491),ShareOfSearch_SERPS!D2491,\"\")","v":""},{"$f":"IF(NOT(ISBLANK(ShareOfSearch_SERPS!A2491)),ShareOfSearch_SERPS!A2491,\"\")","v":""},{"$f":"IF(NOT(ISBLANK(ShareOfSearch_SERPS!G2491)),ShareOfSearch_SERPS!G2491,\"\")","v":""},{"$f":"IF(NOT(ISBLANK(ShareOfSearch_SERPS!K2491)),ShareOfSearch_SERPS!K2491,\"\")","v":""},{"$f":"IFERROR(VLOOKUP(C2491,ShareOfSearch_CTR!$A$1:$B$100,2,FALSE)*VLOOKUP(A2491&B2491,ShareOfSearch_Volume!$C$1:$D$1000,2,FALSE),\"\")","v":""}]
[{"$f":"IF(ISTEXT(ShareOfSearch_SERPS!C2492),ShareOfSearch_SERPS!C2492,\"\")","v":""},{"$f":"IF(ISTEXT(ShareOfSearch_SERPS!D2492),ShareOfSearch_SERPS!D2492,\"\")","v":""},{"$f":"IF(NOT(ISBLANK(ShareOfSearch_SERPS!A2492)),ShareOfSearch_SERPS!A2492,\"\")","v":""},{"$f":"IF(NOT(ISBLANK(ShareOfSearch_SERPS!G2492)),ShareOfSearch_SERPS!G2492,\"\")","v":""},{"$f":"IF(NOT(ISBLANK(ShareOfSearch_SERPS!K2492)),ShareOfSearch_SERPS!K2492,\"\")","v":""},{"$f":"IFERROR(VLOOKUP(C2492,ShareOfSearch_CTR!$A$1:$B$100,2,FALSE)*VLOOKUP(A2492&B2492,ShareOfSearch_Volume!$C$1:$D$1000,2,FALSE),\"\")","v":""}]
[{"$f":"IF(ISTEXT(ShareOfSearch_SERPS!C2493),ShareOfSearch_SERPS!C2493,\"\")","v":""},{"$f":"IF(ISTEXT(ShareOfSearch_SERPS!D2493),ShareOfSearch_SERPS!D2493,\"\")","v":""},{"$f":"IF(NOT(ISBLANK(ShareOfSearch_SERPS!A2493)),ShareOfSearch_SERPS!A2493,\"\")","v":""},{"$f":"IF(NOT(ISBLANK(ShareOfSearch_SERPS!G2493)),ShareOfSearch_SERPS!G2493,\"\")","v":""},{"$f":"IF(NOT(ISBLANK(ShareOfSearch_SERPS!K2493)),ShareOfSearch_SERPS!K2493,\"\")","v":""},{"$f":"IFERROR(VLOOKUP(C2493,ShareOfSearch_CTR!$A$1:$B$100,2,FALSE)*VLOOKUP(A2493&B2493,ShareOfSearch_Volume!$C$1:$D$1000,2,FALSE),\"\")","v":""}]
[{"$f":"IF(ISTEXT(ShareOfSearch_SERPS!C2494),ShareOfSearch_SERPS!C2494,\"\")","v":""},{"$f":"IF(ISTEXT(ShareOfSearch_SERPS!D2494),ShareOfSearch_SERPS!D2494,\"\")","v":""},{"$f":"IF(NOT(ISBLANK(ShareOfSearch_SERPS!A2494)),ShareOfSearch_SERPS!A2494,\"\")","v":""},{"$f":"IF(NOT(ISBLANK(ShareOfSearch_SERPS!G2494)),ShareOfSearch_SERPS!G2494,\"\")","v":""},{"$f":"IF(NOT(ISBLANK(ShareOfSearch_SERPS!K2494)),ShareOfSearch_SERPS!K2494,\"\")","v":""},{"$f":"IFERROR(VLOOKUP(C2494,ShareOfSearch_CTR!$A$1:$B$100,2,FALSE)*VLOOKUP(A2494&B2494,ShareOfSearch_Volume!$C$1:$D$1000,2,FALSE),\"\")","v":""}]
[{"$f":"IF(ISTEXT(ShareOfSearch_SERPS!C2495),ShareOfSearch_SERPS!C2495,\"\")","v":""},{"$f":"IF(ISTEXT(ShareOfSearch_SERPS!D2495),ShareOfSearch_SERPS!D2495,\"\")","v":""},{"$f":"IF(NOT(ISBLANK(ShareOfSearch_SERPS!A2495)),ShareOfSearch_SERPS!A2495,\"\")","v":""},{"$f":"IF(NOT(ISBLANK(ShareOfSearch_SERPS!G2495)),ShareOfSearch_SERPS!G2495,\"\")","v":""},{"$f":"IF(NOT(ISBLANK(ShareOfSearch_SERPS!K2495)),ShareOfSearch_SERPS!K2495,\"\")","v":""},{"$f":"IFERROR(VLOOKUP(C2495,ShareOfSearch_CTR!$A$1:$B$100,2,FALSE)*VLOOKUP(A2495&B2495,ShareOfSearch_Volume!$C$1:$D$1000,2,FALSE),\"\")","v":""}]
[{"$f":"IF(ISTEXT(ShareOfSearch_SERPS!C2496),ShareOfSearch_SERPS!C2496,\"\")","v":""},{"$f":"IF(ISTEXT(ShareOfSearch_SERPS!D2496),ShareOfSearch_SERPS!D2496,\"\")","v":""},{"$f":"IF(NOT(ISBLANK(ShareOfSearch_SERPS!A2496)),ShareOfSearch_SERPS!A2496,\"\")","v":""},{"$f":"IF(NOT(ISBLANK(ShareOfSearch_SERPS!G2496)),ShareOfSearch_SERPS!G2496,\"\")","v":""},{"$f":"IF(NOT(ISBLANK(ShareOfSearch_SERPS!K2496)),ShareOfSearch_SERPS!K2496,\"\")","v":""},{"$f":"IFERROR(VLOOKUP(C2496,ShareOfSearch_CTR!$A$1:$B$100,2,FALSE)*VLOOKUP(A2496&B2496,ShareOfSearch_Volume!$C$1:$D$1000,2,FALSE),\"\")","v":""}]
[{"$f":"IF(ISTEXT(ShareOfSearch_SERPS!C2497),ShareOfSearch_SERPS!C2497,\"\")","v":""},{"$f":"IF(ISTEXT(ShareOfSearch_SERPS!D2497),ShareOfSearch_SERPS!D2497,\"\")","v":""},{"$f":"IF(NOT(ISBLANK(ShareOfSearch_SERPS!A2497)),ShareOfSearch_SERPS!A2497,\"\")","v":""},{"$f":"IF(NOT(ISBLANK(ShareOfSearch_SERPS!G2497)),ShareOfSearch_SERPS!G2497,\"\")","v":""},{"$f":"IF(NOT(ISBLANK(ShareOfSearch_SERPS!K2497)),ShareOfSearch_SERPS!K2497,\"\")","v":""},{"$f":"IFERROR(VLOOKUP(C2497,ShareOfSearch_CTR!$A$1:$B$100,2,FALSE)*VLOOKUP(A2497&B2497,ShareOfSearch_Volume!$C$1:$D$1000,2,FALSE),\"\")","v":""}]
[{"$f":"IF(ISTEXT(ShareOfSearch_SERPS!C2498),ShareOfSearch_SERPS!C2498,\"\")","v":""},{"$f":"IF(ISTEXT(ShareOfSearch_SERPS!D2498),ShareOfSearch_SERPS!D2498,\"\")","v":""},{"$f":"IF(NOT(ISBLANK(ShareOfSearch_SERPS!A2498)),ShareOfSearch_SERPS!A2498,\"\")","v":""},{"$f":"IF(NOT(ISBLANK(ShareOfSearch_SERPS!G2498)),ShareOfSearch_SERPS!G2498,\"\")","v":""},{"$f":"IF(NOT(ISBLANK(ShareOfSearch_SERPS!K2498)),ShareOfSearch_SERPS!K2498,\"\")","v":""},{"$f":"IFERROR(VLOOKUP(C2498,ShareOfSearch_CTR!$A$1:$B$100,2,FALSE)*VLOOKUP(A2498&B2498,ShareOfSearch_Volume!$C$1:$D$1000,2,FALSE),\"\")","v":""}]
[{"$f":"IF(ISTEXT(ShareOfSearch_SERPS!C2499),ShareOfSearch_SERPS!C2499,\"\")","v":""},{"$f":"IF(ISTEXT(ShareOfSearch_SERPS!D2499),ShareOfSearch_SERPS!D2499,\"\")","v":""},{"$f":"IF(NOT(ISBLANK(ShareOfSearch_SERPS!A2499)),ShareOfSearch_SERPS!A2499,\"\")","v":""},{"$f":"IF(NOT(ISBLANK(ShareOfSearch_SERPS!G2499)),ShareOfSearch_SERPS!G2499,\"\")","v":""},{"$f":"IF(NOT(ISBLANK(ShareOfSearch_SERPS!K2499)),ShareOfSearch_SERPS!K2499,\"\")","v":""},{"$f":"IFERROR(VLOOKUP(C2499,ShareOfSearch_CTR!$A$1:$B$100,2,FALSE)*VLOOKUP(A2499&B2499,ShareOfSearch_Volume!$C$1:$D$1000,2,FALSE),\"\")","v":""}]
[{"$f":"IF(ISTEXT(ShareOfSearch_SERPS!C2500),ShareOfSearch_SERPS!C2500,\"\")","v":""},{"$f":"IF(ISTEXT(ShareOfSearch_SERPS!D2500),ShareOfSearch_SERPS!D2500,\"\")","v":""},{"$f":"IF(NOT(ISBLANK(ShareOfSearch_SERPS!A2500)),ShareOfSearch_SERPS!A2500,\"\")","v":""},{"$f":"IF(NOT(ISBLANK(ShareOfSearch_SERPS!G2500)),ShareOfSearch_SERPS!G2500,\"\")","v":""},{"$f":"IF(NOT(ISBLANK(ShareOfSearch_SERPS!K2500)),ShareOfSearch_SERPS!K2500,\"\")","v":""},{"$f":"IFERROR(VLOOKUP(C2500,ShareOfSearch_CTR!$A$1:$B$100,2,FALSE)*VLOOKUP(A2500&B2500,ShareOfSearch_Volume!$C$1:$D$1000,2,FALSE),\"\")","v":""}]
[{"$f":"IF(ISTEXT(ShareOfSearch_SERPS!C2501),ShareOfSearch_SERPS!C2501,\"\")","v":""},{"$f":"IF(ISTEXT(ShareOfSearch_SERPS!D2501),ShareOfSearch_SERPS!D2501,\"\")","v":""},{"$f":"IF(NOT(ISBLANK(ShareOfSearch_SERPS!A2501)),ShareOfSearch_SERPS!A2501,\"\")","v":""},{"$f":"IF(NOT(ISBLANK(ShareOfSearch_SERPS!G2501)),ShareOfSearch_SERPS!G2501,\"\")","v":""},{"$f":"IF(NOT(ISBLANK(ShareOfSearch_SERPS!K2501)),ShareOfSearch_SERPS!K2501,\"\")","v":""},{"$f":"IFERROR(VLOOKUP(C2501,ShareOfSearch_CTR!$A$1:$B$100,2,FALSE)*VLOOKUP(A2501&B2501,ShareOfSearch_Volume!$C$1:$D$1000,2,FALSE),\"\")","v":""}]
[{"$f":"IF(ISTEXT(ShareOfSearch_SERPS!C2502),ShareOfSearch_SERPS!C2502,\"\")","v":""},{"$f":"IF(ISTEXT(ShareOfSearch_SERPS!D2502),ShareOfSearch_SERPS!D2502,\"\")","v":""},{"$f":"IF(NOT(ISBLANK(ShareOfSearch_SERPS!A2502)),ShareOfSearch_SERPS!A2502,\"\")","v":""},{"$f":"IF(NOT(ISBLANK(ShareOfSearch_SERPS!G2502)),ShareOfSearch_SERPS!G2502,\"\")","v":""},{"$f":"IF(NOT(ISBLANK(ShareOfSearch_SERPS!K2502)),ShareOfSearch_SERPS!K2502,\"\")","v":""},{"$f":"IFERROR(VLOOKUP(C2502,ShareOfSearch_CTR!$A$1:$B$100,2,FALSE)*VLOOKUP(A2502&B2502,ShareOfSearch_Volume!$C$1:$D$1000,2,FALSE),\"\")","v":""}]
[{"$f":"IF(ISTEXT(ShareOfSearch_SERPS!C2503),ShareOfSearch_SERPS!C2503,\"\")","v":""},{"$f":"IF(ISTEXT(ShareOfSearch_SERPS!D2503),ShareOfSearch_SERPS!D2503,\"\")","v":""},{"$f":"IF(NOT(ISBLANK(ShareOfSearch_SERPS!A2503)),ShareOfSearch_SERPS!A2503,\"\")","v":""},{"$f":"IF(NOT(ISBLANK(ShareOfSearch_SERPS!G2503)),ShareOfSearch_SERPS!G2503,\"\")","v":""},{"$f":"IF(NOT(ISBLANK(ShareOfSearch_SERPS!K2503)),ShareOfSearch_SERPS!K2503,\"\")","v":""},{"$f":"IFERROR(VLOOKUP(C2503,ShareOfSearch_CTR!$A$1:$B$100,2,FALSE)*VLOOKUP(A2503&B2503,ShareOfSearch_Volume!$C$1:$D$1000,2,FALSE),\"\")","v":""}]
[{"$f":"IF(ISTEXT(ShareOfSearch_SERPS!C2504),ShareOfSearch_SERPS!C2504,\"\")","v":""},{"$f":"IF(ISTEXT(ShareOfSearch_SERPS!D2504),ShareOfSearch_SERPS!D2504,\"\")","v":""},{"$f":"IF(NOT(ISBLANK(ShareOfSearch_SERPS!A2504)),ShareOfSearch_SERPS!A2504,\"\")","v":""},{"$f":"IF(NOT(ISBLANK(ShareOfSearch_SERPS!G2504)),ShareOfSearch_SERPS!G2504,\"\")","v":""},{"$f":"IF(NOT(ISBLANK(ShareOfSearch_SERPS!K2504)),ShareOfSearch_SERPS!K2504,\"\")","v":""},{"$f":"IFERROR(VLOOKUP(C2504,ShareOfSearch_CTR!$A$1:$B$100,2,FALSE)*VLOOKUP(A2504&B2504,ShareOfSearch_Volume!$C$1:$D$1000,2,FALSE),\"\")","v":""}]
[{"$f":"IF(ISTEXT(ShareOfSearch_SERPS!C2505),ShareOfSearch_SERPS!C2505,\"\")","v":""},{"$f":"IF(ISTEXT(ShareOfSearch_SERPS!D2505),ShareOfSearch_SERPS!D2505,\"\")","v":""},{"$f":"IF(NOT(ISBLANK(ShareOfSearch_SERPS!A2505)),ShareOfSearch_SERPS!A2505,\"\")","v":""},{"$f":"IF(NOT(ISBLANK(ShareOfSearch_SERPS!G2505)),ShareOfSearch_SERPS!G2505,\"\")","v":""},{"$f":"IF(NOT(ISBLANK(ShareOfSearch_SERPS!K2505)),ShareOfSearch_SERPS!K2505,\"\")","v":""},{"$f":"IFERROR(VLOOKUP(C2505,ShareOfSearch_CTR!$A$1:$B$100,2,FALSE)*VLOOKUP(A2505&B2505,ShareOfSearch_Volume!$C$1:$D$1000,2,FALSE),\"\")","v":""}]
[{"$f":"IF(ISTEXT(ShareOfSearch_SERPS!C2506),ShareOfSearch_SERPS!C2506,\"\")","v":""},{"$f":"IF(ISTEXT(ShareOfSearch_SERPS!D2506),ShareOfSearch_SERPS!D2506,\"\")","v":""},{"$f":"IF(NOT(ISBLANK(ShareOfSearch_SERPS!A2506)),ShareOfSearch_SERPS!A2506,\"\")","v":""},{"$f":"IF(NOT(ISBLANK(ShareOfSearch_SERPS!G2506)),ShareOfSearch_SERPS!G2506,\"\")","v":""},{"$f":"IF(NOT(ISBLANK(ShareOfSearch_SERPS!K2506)),ShareOfSearch_SERPS!K2506,\"\")","v":""},{"$f":"IFERROR(VLOOKUP(C2506,ShareOfSearch_CTR!$A$1:$B$100,2,FALSE)*VLOOKUP(A2506&B2506,ShareOfSearch_Volume!$C$1:$D$1000,2,FALSE),\"\")","v":""}]
[{"$f":"IF(ISTEXT(ShareOfSearch_SERPS!C2507),ShareOfSearch_SERPS!C2507,\"\")","v":""},{"$f":"IF(ISTEXT(ShareOfSearch_SERPS!D2507),ShareOfSearch_SERPS!D2507,\"\")","v":""},{"$f":"IF(NOT(ISBLANK(ShareOfSearch_SERPS!A2507)),ShareOfSearch_SERPS!A2507,\"\")","v":""},{"$f":"IF(NOT(ISBLANK(ShareOfSearch_SERPS!G2507)),ShareOfSearch_SERPS!G2507,\"\")","v":""},{"$f":"IF(NOT(ISBLANK(ShareOfSearch_SERPS!K2507)),ShareOfSearch_SERPS!K2507,\"\")","v":""},{"$f":"IFERROR(VLOOKUP(C2507,ShareOfSearch_CTR!$A$1:$B$100,2,FALSE)*VLOOKUP(A2507&B2507,ShareOfSearch_Volume!$C$1:$D$1000,2,FALSE),\"\")","v":""}]
[{"$f":"IF(ISTEXT(ShareOfSearch_SERPS!C2508),ShareOfSearch_SERPS!C2508,\"\")","v":""},{"$f":"IF(ISTEXT(ShareOfSearch_SERPS!D2508),ShareOfSearch_SERPS!D2508,\"\")","v":""},{"$f":"IF(NOT(ISBLANK(ShareOfSearch_SERPS!A2508)),ShareOfSearch_SERPS!A2508,\"\")","v":""},{"$f":"IF(NOT(ISBLANK(ShareOfSearch_SERPS!G2508)),ShareOfSearch_SERPS!G2508,\"\")","v":""},{"$f":"IF(NOT(ISBLANK(ShareOfSearch_SERPS!K2508)),ShareOfSearch_SERPS!K2508,\"\")","v":""},{"$f":"IFERROR(VLOOKUP(C2508,ShareOfSearch_CTR!$A$1:$B$100,2,FALSE)*VLOOKUP(A2508&B2508,ShareOfSearch_Volume!$C$1:$D$1000,2,FALSE),\"\")","v":""}]
[{"$f":"IF(ISTEXT(ShareOfSearch_SERPS!C2509),ShareOfSearch_SERPS!C2509,\"\")","v":""},{"$f":"IF(ISTEXT(ShareOfSearch_SERPS!D2509),ShareOfSearch_SERPS!D2509,\"\")","v":""},{"$f":"IF(NOT(ISBLANK(ShareOfSearch_SERPS!A2509)),ShareOfSearch_SERPS!A2509,\"\")","v":""},{"$f":"IF(NOT(ISBLANK(ShareOfSearch_SERPS!G2509)),ShareOfSearch_SERPS!G2509,\"\")","v":""},{"$f":"IF(NOT(ISBLANK(ShareOfSearch_SERPS!K2509)),ShareOfSearch_SERPS!K2509,\"\")","v":""},{"$f":"IFERROR(VLOOKUP(C2509,ShareOfSearch_CTR!$A$1:$B$100,2,FALSE)*VLOOKUP(A2509&B2509,ShareOfSearch_Volume!$C$1:$D$1000,2,FALSE),\"\")","v":""}]
[{"$f":"IF(ISTEXT(ShareOfSearch_SERPS!C2510),ShareOfSearch_SERPS!C2510,\"\")","v":""},{"$f":"IF(ISTEXT(ShareOfSearch_SERPS!D2510),ShareOfSearch_SERPS!D2510,\"\")","v":""},{"$f":"IF(NOT(ISBLANK(ShareOfSearch_SERPS!A2510)),ShareOfSearch_SERPS!A2510,\"\")","v":""},{"$f":"IF(NOT(ISBLANK(ShareOfSearch_SERPS!G2510)),ShareOfSearch_SERPS!G2510,\"\")","v":""},{"$f":"IF(NOT(ISBLANK(ShareOfSearch_SERPS!K2510)),ShareOfSearch_SERPS!K2510,\"\")","v":""},{"$f":"IFERROR(VLOOKUP(C2510,ShareOfSearch_CTR!$A$1:$B$100,2,FALSE)*VLOOKUP(A2510&B2510,ShareOfSearch_Volume!$C$1:$D$1000,2,FALSE),\"\")","v":""}]
[{"$f":"IF(ISTEXT(ShareOfSearch_SERPS!C2511),ShareOfSearch_SERPS!C2511,\"\")","v":""},{"$f":"IF(ISTEXT(ShareOfSearch_SERPS!D2511),ShareOfSearch_SERPS!D2511,\"\")","v":""},{"$f":"IF(NOT(ISBLANK(ShareOfSearch_SERPS!A2511)),ShareOfSearch_SERPS!A2511,\"\")","v":""},{"$f":"IF(NOT(ISBLANK(ShareOfSearch_SERPS!G2511)),ShareOfSearch_SERPS!G2511,\"\")","v":""},{"$f":"IF(NOT(ISBLANK(ShareOfSearch_SERPS!K2511)),ShareOfSearch_SERPS!K2511,\"\")","v":""},{"$f":"IFERROR(VLOOKUP(C2511,ShareOfSearch_CTR!$A$1:$B$100,2,FALSE)*VLOOKUP(A2511&B2511,ShareOfSearch_Volume!$C$1:$D$1000,2,FALSE),\"\")","v":""}]
[{"$f":"IF(ISTEXT(ShareOfSearch_SERPS!C2512),ShareOfSearch_SERPS!C2512,\"\")","v":""},{"$f":"IF(ISTEXT(ShareOfSearch_SERPS!D2512),ShareOfSearch_SERPS!D2512,\"\")","v":""},{"$f":"IF(NOT(ISBLANK(ShareOfSearch_SERPS!A2512)),ShareOfSearch_SERPS!A2512,\"\")","v":""},{"$f":"IF(NOT(ISBLANK(ShareOfSearch_SERPS!G2512)),ShareOfSearch_SERPS!G2512,\"\")","v":""},{"$f":"IF(NOT(ISBLANK(ShareOfSearch_SERPS!K2512)),ShareOfSearch_SERPS!K2512,\"\")","v":""},{"$f":"IFERROR(VLOOKUP(C2512,ShareOfSearch_CTR!$A$1:$B$100,2,FALSE)*VLOOKUP(A2512&B2512,ShareOfSearch_Volume!$C$1:$D$1000,2,FALSE),\"\")","v":""}]
[{"$f":"IF(ISTEXT(ShareOfSearch_SERPS!C2513),ShareOfSearch_SERPS!C2513,\"\")","v":""},{"$f":"IF(ISTEXT(ShareOfSearch_SERPS!D2513),ShareOfSearch_SERPS!D2513,\"\")","v":""},{"$f":"IF(NOT(ISBLANK(ShareOfSearch_SERPS!A2513)),ShareOfSearch_SERPS!A2513,\"\")","v":""},{"$f":"IF(NOT(ISBLANK(ShareOfSearch_SERPS!G2513)),ShareOfSearch_SERPS!G2513,\"\")","v":""},{"$f":"IF(NOT(ISBLANK(ShareOfSearch_SERPS!K2513)),ShareOfSearch_SERPS!K2513,\"\")","v":""},{"$f":"IFERROR(VLOOKUP(C2513,ShareOfSearch_CTR!$A$1:$B$100,2,FALSE)*VLOOKUP(A2513&B2513,ShareOfSearch_Volume!$C$1:$D$1000,2,FALSE),\"\")","v":""}]
[{"$f":"IF(ISTEXT(ShareOfSearch_SERPS!C2514),ShareOfSearch_SERPS!C2514,\"\")","v":""},{"$f":"IF(ISTEXT(ShareOfSearch_SERPS!D2514),ShareOfSearch_SERPS!D2514,\"\")","v":""},{"$f":"IF(NOT(ISBLANK(ShareOfSearch_SERPS!A2514)),ShareOfSearch_SERPS!A2514,\"\")","v":""},{"$f":"IF(NOT(ISBLANK(ShareOfSearch_SERPS!G2514)),ShareOfSearch_SERPS!G2514,\"\")","v":""},{"$f":"IF(NOT(ISBLANK(ShareOfSearch_SERPS!K2514)),ShareOfSearch_SERPS!K2514,\"\")","v":""},{"$f":"IFERROR(VLOOKUP(C2514,ShareOfSearch_CTR!$A$1:$B$100,2,FALSE)*VLOOKUP(A2514&B2514,ShareOfSearch_Volume!$C$1:$D$1000,2,FALSE),\"\")","v":""}]
[{"$f":"IF(ISTEXT(ShareOfSearch_SERPS!C2515),ShareOfSearch_SERPS!C2515,\"\")","v":""},{"$f":"IF(ISTEXT(ShareOfSearch_SERPS!D2515),ShareOfSearch_SERPS!D2515,\"\")","v":""},{"$f":"IF(NOT(ISBLANK(ShareOfSearch_SERPS!A2515)),ShareOfSearch_SERPS!A2515,\"\")","v":""},{"$f":"IF(NOT(ISBLANK(ShareOfSearch_SERPS!G2515)),ShareOfSearch_SERPS!G2515,\"\")","v":""},{"$f":"IF(NOT(ISBLANK(ShareOfSearch_SERPS!K2515)),ShareOfSearch_SERPS!K2515,\"\")","v":""},{"$f":"IFERROR(VLOOKUP(C2515,ShareOfSearch_CTR!$A$1:$B$100,2,FALSE)*VLOOKUP(A2515&B2515,ShareOfSearch_Volume!$C$1:$D$1000,2,FALSE),\"\")","v":""}]
[{"$f":"IF(ISTEXT(ShareOfSearch_SERPS!C2516),ShareOfSearch_SERPS!C2516,\"\")","v":""},{"$f":"IF(ISTEXT(ShareOfSearch_SERPS!D2516),ShareOfSearch_SERPS!D2516,\"\")","v":""},{"$f":"IF(NOT(ISBLANK(ShareOfSearch_SERPS!A2516)),ShareOfSearch_SERPS!A2516,\"\")","v":""},{"$f":"IF(NOT(ISBLANK(ShareOfSearch_SERPS!G2516)),ShareOfSearch_SERPS!G2516,\"\")","v":""},{"$f":"IF(NOT(ISBLANK(ShareOfSearch_SERPS!K2516)),ShareOfSearch_SERPS!K2516,\"\")","v":""},{"$f":"IFERROR(VLOOKUP(C2516,ShareOfSearch_CTR!$A$1:$B$100,2,FALSE)*VLOOKUP(A2516&B2516,ShareOfSearch_Volume!$C$1:$D$1000,2,FALSE),\"\")","v":""}]
[{"$f":"IF(ISTEXT(ShareOfSearch_SERPS!C2517),ShareOfSearch_SERPS!C2517,\"\")","v":""},{"$f":"IF(ISTEXT(ShareOfSearch_SERPS!D2517),ShareOfSearch_SERPS!D2517,\"\")","v":""},{"$f":"IF(NOT(ISBLANK(ShareOfSearch_SERPS!A2517)),ShareOfSearch_SERPS!A2517,\"\")","v":""},{"$f":"IF(NOT(ISBLANK(ShareOfSearch_SERPS!G2517)),ShareOfSearch_SERPS!G2517,\"\")","v":""},{"$f":"IF(NOT(ISBLANK(ShareOfSearch_SERPS!K2517)),ShareOfSearch_SERPS!K2517,\"\")","v":""},{"$f":"IFERROR(VLOOKUP(C2517,ShareOfSearch_CTR!$A$1:$B$100,2,FALSE)*VLOOKUP(A2517&B2517,ShareOfSearch_Volume!$C$1:$D$1000,2,FALSE),\"\")","v":""}]
[{"$f":"IF(ISTEXT(ShareOfSearch_SERPS!C2518),ShareOfSearch_SERPS!C2518,\"\")","v":""},{"$f":"IF(ISTEXT(ShareOfSearch_SERPS!D2518),ShareOfSearch_SERPS!D2518,\"\")","v":""},{"$f":"IF(NOT(ISBLANK(ShareOfSearch_SERPS!A2518)),ShareOfSearch_SERPS!A2518,\"\")","v":""},{"$f":"IF(NOT(ISBLANK(ShareOfSearch_SERPS!G2518)),ShareOfSearch_SERPS!G2518,\"\")","v":""},{"$f":"IF(NOT(ISBLANK(ShareOfSearch_SERPS!K2518)),ShareOfSearch_SERPS!K2518,\"\")","v":""},{"$f":"IFERROR(VLOOKUP(C2518,ShareOfSearch_CTR!$A$1:$B$100,2,FALSE)*VLOOKUP(A2518&B2518,ShareOfSearch_Volume!$C$1:$D$1000,2,FALSE),\"\")","v":""}]
[{"$f":"IF(ISTEXT(ShareOfSearch_SERPS!C2519),ShareOfSearch_SERPS!C2519,\"\")","v":""},{"$f":"IF(ISTEXT(ShareOfSearch_SERPS!D2519),ShareOfSearch_SERPS!D2519,\"\")","v":""},{"$f":"IF(NOT(ISBLANK(ShareOfSearch_SERPS!A2519)),ShareOfSearch_SERPS!A2519,\"\")","v":""},{"$f":"IF(NOT(ISBLANK(ShareOfSearch_SERPS!G2519)),ShareOfSearch_SERPS!G2519,\"\")","v":""},{"$f":"IF(NOT(ISBLANK(ShareOfSearch_SERPS!K2519)),ShareOfSearch_SERPS!K2519,\"\")","v":""},{"$f":"IFERROR(VLOOKUP(C2519,ShareOfSearch_CTR!$A$1:$B$100,2,FALSE)*VLOOKUP(A2519&B2519,ShareOfSearch_Volume!$C$1:$D$1000,2,FALSE),\"\")","v":""}]
[{"$f":"IF(ISTEXT(ShareOfSearch_SERPS!C2520),ShareOfSearch_SERPS!C2520,\"\")","v":""},{"$f":"IF(ISTEXT(ShareOfSearch_SERPS!D2520),ShareOfSearch_SERPS!D2520,\"\")","v":""},{"$f":"IF(NOT(ISBLANK(ShareOfSearch_SERPS!A2520)),ShareOfSearch_SERPS!A2520,\"\")","v":""},{"$f":"IF(NOT(ISBLANK(ShareOfSearch_SERPS!G2520)),ShareOfSearch_SERPS!G2520,\"\")","v":""},{"$f":"IF(NOT(ISBLANK(ShareOfSearch_SERPS!K2520)),ShareOfSearch_SERPS!K2520,\"\")","v":""},{"$f":"IFERROR(VLOOKUP(C2520,ShareOfSearch_CTR!$A$1:$B$100,2,FALSE)*VLOOKUP(A2520&B2520,ShareOfSearch_Volume!$C$1:$D$1000,2,FALSE),\"\")","v":""}]
[{"$f":"IF(ISTEXT(ShareOfSearch_SERPS!C2521),ShareOfSearch_SERPS!C2521,\"\")","v":""},{"$f":"IF(ISTEXT(ShareOfSearch_SERPS!D2521),ShareOfSearch_SERPS!D2521,\"\")","v":""},{"$f":"IF(NOT(ISBLANK(ShareOfSearch_SERPS!A2521)),ShareOfSearch_SERPS!A2521,\"\")","v":""},{"$f":"IF(NOT(ISBLANK(ShareOfSearch_SERPS!G2521)),ShareOfSearch_SERPS!G2521,\"\")","v":""},{"$f":"IF(NOT(ISBLANK(ShareOfSearch_SERPS!K2521)),ShareOfSearch_SERPS!K2521,\"\")","v":""},{"$f":"IFERROR(VLOOKUP(C2521,ShareOfSearch_CTR!$A$1:$B$100,2,FALSE)*VLOOKUP(A2521&B2521,ShareOfSearch_Volume!$C$1:$D$1000,2,FALSE),\"\")","v":""}]
[{"$f":"IF(ISTEXT(ShareOfSearch_SERPS!C2522),ShareOfSearch_SERPS!C2522,\"\")","v":""},{"$f":"IF(ISTEXT(ShareOfSearch_SERPS!D2522),ShareOfSearch_SERPS!D2522,\"\")","v":""},{"$f":"IF(NOT(ISBLANK(ShareOfSearch_SERPS!A2522)),ShareOfSearch_SERPS!A2522,\"\")","v":""},{"$f":"IF(NOT(ISBLANK(ShareOfSearch_SERPS!G2522)),ShareOfSearch_SERPS!G2522,\"\")","v":""},{"$f":"IF(NOT(ISBLANK(ShareOfSearch_SERPS!K2522)),ShareOfSearch_SERPS!K2522,\"\")","v":""},{"$f":"IFERROR(VLOOKUP(C2522,ShareOfSearch_CTR!$A$1:$B$100,2,FALSE)*VLOOKUP(A2522&B2522,ShareOfSearch_Volume!$C$1:$D$1000,2,FALSE),\"\")","v":""}]
[{"$f":"IF(ISTEXT(ShareOfSearch_SERPS!C2523),ShareOfSearch_SERPS!C2523,\"\")","v":""},{"$f":"IF(ISTEXT(ShareOfSearch_SERPS!D2523),ShareOfSearch_SERPS!D2523,\"\")","v":""},{"$f":"IF(NOT(ISBLANK(ShareOfSearch_SERPS!A2523)),ShareOfSearch_SERPS!A2523,\"\")","v":""},{"$f":"IF(NOT(ISBLANK(ShareOfSearch_SERPS!G2523)),ShareOfSearch_SERPS!G2523,\"\")","v":""},{"$f":"IF(NOT(ISBLANK(ShareOfSearch_SERPS!K2523)),ShareOfSearch_SERPS!K2523,\"\")","v":""},{"$f":"IFERROR(VLOOKUP(C2523,ShareOfSearch_CTR!$A$1:$B$100,2,FALSE)*VLOOKUP(A2523&B2523,ShareOfSearch_Volume!$C$1:$D$1000,2,FALSE),\"\")","v":""}]
[{"$f":"IF(ISTEXT(ShareOfSearch_SERPS!C2524),ShareOfSearch_SERPS!C2524,\"\")","v":""},{"$f":"IF(ISTEXT(ShareOfSearch_SERPS!D2524),ShareOfSearch_SERPS!D2524,\"\")","v":""},{"$f":"IF(NOT(ISBLANK(ShareOfSearch_SERPS!A2524)),ShareOfSearch_SERPS!A2524,\"\")","v":""},{"$f":"IF(NOT(ISBLANK(ShareOfSearch_SERPS!G2524)),ShareOfSearch_SERPS!G2524,\"\")","v":""},{"$f":"IF(NOT(ISBLANK(ShareOfSearch_SERPS!K2524)),ShareOfSearch_SERPS!K2524,\"\")","v":""},{"$f":"IFERROR(VLOOKUP(C2524,ShareOfSearch_CTR!$A$1:$B$100,2,FALSE)*VLOOKUP(A2524&B2524,ShareOfSearch_Volume!$C$1:$D$1000,2,FALSE),\"\")","v":""}]
[{"$f":"IF(ISTEXT(ShareOfSearch_SERPS!C2525),ShareOfSearch_SERPS!C2525,\"\")","v":""},{"$f":"IF(ISTEXT(ShareOfSearch_SERPS!D2525),ShareOfSearch_SERPS!D2525,\"\")","v":""},{"$f":"IF(NOT(ISBLANK(ShareOfSearch_SERPS!A2525)),ShareOfSearch_SERPS!A2525,\"\")","v":""},{"$f":"IF(NOT(ISBLANK(ShareOfSearch_SERPS!G2525)),ShareOfSearch_SERPS!G2525,\"\")","v":""},{"$f":"IF(NOT(ISBLANK(ShareOfSearch_SERPS!K2525)),ShareOfSearch_SERPS!K2525,\"\")","v":""},{"$f":"IFERROR(VLOOKUP(C2525,ShareOfSearch_CTR!$A$1:$B$100,2,FALSE)*VLOOKUP(A2525&B2525,ShareOfSearch_Volume!$C$1:$D$1000,2,FALSE),\"\")","v":""}]
[{"$f":"IF(ISTEXT(ShareOfSearch_SERPS!C2526),ShareOfSearch_SERPS!C2526,\"\")","v":""},{"$f":"IF(ISTEXT(ShareOfSearch_SERPS!D2526),ShareOfSearch_SERPS!D2526,\"\")","v":""},{"$f":"IF(NOT(ISBLANK(ShareOfSearch_SERPS!A2526)),ShareOfSearch_SERPS!A2526,\"\")","v":""},{"$f":"IF(NOT(ISBLANK(ShareOfSearch_SERPS!G2526)),ShareOfSearch_SERPS!G2526,\"\")","v":""},{"$f":"IF(NOT(ISBLANK(ShareOfSearch_SERPS!K2526)),ShareOfSearch_SERPS!K2526,\"\")","v":""},{"$f":"IFERROR(VLOOKUP(C2526,ShareOfSearch_CTR!$A$1:$B$100,2,FALSE)*VLOOKUP(A2526&B2526,ShareOfSearch_Volume!$C$1:$D$1000,2,FALSE),\"\")","v":""}]
[{"$f":"IF(ISTEXT(ShareOfSearch_SERPS!C2527),ShareOfSearch_SERPS!C2527,\"\")","v":""},{"$f":"IF(ISTEXT(ShareOfSearch_SERPS!D2527),ShareOfSearch_SERPS!D2527,\"\")","v":""},{"$f":"IF(NOT(ISBLANK(ShareOfSearch_SERPS!A2527)),ShareOfSearch_SERPS!A2527,\"\")","v":""},{"$f":"IF(NOT(ISBLANK(ShareOfSearch_SERPS!G2527)),ShareOfSearch_SERPS!G2527,\"\")","v":""},{"$f":"IF(NOT(ISBLANK(ShareOfSearch_SERPS!K2527)),ShareOfSearch_SERPS!K2527,\"\")","v":""},{"$f":"IFERROR(VLOOKUP(C2527,ShareOfSearch_CTR!$A$1:$B$100,2,FALSE)*VLOOKUP(A2527&B2527,ShareOfSearch_Volume!$C$1:$D$1000,2,FALSE),\"\")","v":""}]
[{"$f":"IF(ISTEXT(ShareOfSearch_SERPS!C2528),ShareOfSearch_SERPS!C2528,\"\")","v":""},{"$f":"IF(ISTEXT(ShareOfSearch_SERPS!D2528),ShareOfSearch_SERPS!D2528,\"\")","v":""},{"$f":"IF(NOT(ISBLANK(ShareOfSearch_SERPS!A2528)),ShareOfSearch_SERPS!A2528,\"\")","v":""},{"$f":"IF(NOT(ISBLANK(ShareOfSearch_SERPS!G2528)),ShareOfSearch_SERPS!G2528,\"\")","v":""},{"$f":"IF(NOT(ISBLANK(ShareOfSearch_SERPS!K2528)),ShareOfSearch_SERPS!K2528,\"\")","v":""},{"$f":"IFERROR(VLOOKUP(C2528,ShareOfSearch_CTR!$A$1:$B$100,2,FALSE)*VLOOKUP(A2528&B2528,ShareOfSearch_Volume!$C$1:$D$1000,2,FALSE),\"\")","v":""}]
[{"$f":"IF(ISTEXT(ShareOfSearch_SERPS!C2529),ShareOfSearch_SERPS!C2529,\"\")","v":""},{"$f":"IF(ISTEXT(ShareOfSearch_SERPS!D2529),ShareOfSearch_SERPS!D2529,\"\")","v":""},{"$f":"IF(NOT(ISBLANK(ShareOfSearch_SERPS!A2529)),ShareOfSearch_SERPS!A2529,\"\")","v":""},{"$f":"IF(NOT(ISBLANK(ShareOfSearch_SERPS!G2529)),ShareOfSearch_SERPS!G2529,\"\")","v":""},{"$f":"IF(NOT(ISBLANK(ShareOfSearch_SERPS!K2529)),ShareOfSearch_SERPS!K2529,\"\")","v":""},{"$f":"IFERROR(VLOOKUP(C2529,ShareOfSearch_CTR!$A$1:$B$100,2,FALSE)*VLOOKUP(A2529&B2529,ShareOfSearch_Volume!$C$1:$D$1000,2,FALSE),\"\")","v":""}]
[{"$f":"IF(ISTEXT(ShareOfSearch_SERPS!C2530),ShareOfSearch_SERPS!C2530,\"\")","v":""},{"$f":"IF(ISTEXT(ShareOfSearch_SERPS!D2530),ShareOfSearch_SERPS!D2530,\"\")","v":""},{"$f":"IF(NOT(ISBLANK(ShareOfSearch_SERPS!A2530)),ShareOfSearch_SERPS!A2530,\"\")","v":""},{"$f":"IF(NOT(ISBLANK(ShareOfSearch_SERPS!G2530)),ShareOfSearch_SERPS!G2530,\"\")","v":""},{"$f":"IF(NOT(ISBLANK(ShareOfSearch_SERPS!K2530)),ShareOfSearch_SERPS!K2530,\"\")","v":""},{"$f":"IFERROR(VLOOKUP(C2530,ShareOfSearch_CTR!$A$1:$B$100,2,FALSE)*VLOOKUP(A2530&B2530,ShareOfSearch_Volume!$C$1:$D$1000,2,FALSE),\"\")","v":""}]
[{"$f":"IF(ISTEXT(ShareOfSearch_SERPS!C2531),ShareOfSearch_SERPS!C2531,\"\")","v":""},{"$f":"IF(ISTEXT(ShareOfSearch_SERPS!D2531),ShareOfSearch_SERPS!D2531,\"\")","v":""},{"$f":"IF(NOT(ISBLANK(ShareOfSearch_SERPS!A2531)),ShareOfSearch_SERPS!A2531,\"\")","v":""},{"$f":"IF(NOT(ISBLANK(ShareOfSearch_SERPS!G2531)),ShareOfSearch_SERPS!G2531,\"\")","v":""},{"$f":"IF(NOT(ISBLANK(ShareOfSearch_SERPS!K2531)),ShareOfSearch_SERPS!K2531,\"\")","v":""},{"$f":"IFERROR(VLOOKUP(C2531,ShareOfSearch_CTR!$A$1:$B$100,2,FALSE)*VLOOKUP(A2531&B2531,ShareOfSearch_Volume!$C$1:$D$1000,2,FALSE),\"\")","v":""}]
[{"$f":"IF(ISTEXT(ShareOfSearch_SERPS!C2532),ShareOfSearch_SERPS!C2532,\"\")","v":""},{"$f":"IF(ISTEXT(ShareOfSearch_SERPS!D2532),ShareOfSearch_SERPS!D2532,\"\")","v":""},{"$f":"IF(NOT(ISBLANK(ShareOfSearch_SERPS!A2532)),ShareOfSearch_SERPS!A2532,\"\")","v":""},{"$f":"IF(NOT(ISBLANK(ShareOfSearch_SERPS!G2532)),ShareOfSearch_SERPS!G2532,\"\")","v":""},{"$f":"IF(NOT(ISBLANK(ShareOfSearch_SERPS!K2532)),ShareOfSearch_SERPS!K2532,\"\")","v":""},{"$f":"IFERROR(VLOOKUP(C2532,ShareOfSearch_CTR!$A$1:$B$100,2,FALSE)*VLOOKUP(A2532&B2532,ShareOfSearch_Volume!$C$1:$D$1000,2,FALSE),\"\")","v":""}]
[{"$f":"IF(ISTEXT(ShareOfSearch_SERPS!C2533),ShareOfSearch_SERPS!C2533,\"\")","v":""},{"$f":"IF(ISTEXT(ShareOfSearch_SERPS!D2533),ShareOfSearch_SERPS!D2533,\"\")","v":""},{"$f":"IF(NOT(ISBLANK(ShareOfSearch_SERPS!A2533)),ShareOfSearch_SERPS!A2533,\"\")","v":""},{"$f":"IF(NOT(ISBLANK(ShareOfSearch_SERPS!G2533)),ShareOfSearch_SERPS!G2533,\"\")","v":""},{"$f":"IF(NOT(ISBLANK(ShareOfSearch_SERPS!K2533)),ShareOfSearch_SERPS!K2533,\"\")","v":""},{"$f":"IFERROR(VLOOKUP(C2533,ShareOfSearch_CTR!$A$1:$B$100,2,FALSE)*VLOOKUP(A2533&B2533,ShareOfSearch_Volume!$C$1:$D$1000,2,FALSE),\"\")","v":""}]
[{"$f":"IF(ISTEXT(ShareOfSearch_SERPS!C2534),ShareOfSearch_SERPS!C2534,\"\")","v":""},{"$f":"IF(ISTEXT(ShareOfSearch_SERPS!D2534),ShareOfSearch_SERPS!D2534,\"\")","v":""},{"$f":"IF(NOT(ISBLANK(ShareOfSearch_SERPS!A2534)),ShareOfSearch_SERPS!A2534,\"\")","v":""},{"$f":"IF(NOT(ISBLANK(ShareOfSearch_SERPS!G2534)),ShareOfSearch_SERPS!G2534,\"\")","v":""},{"$f":"IF(NOT(ISBLANK(ShareOfSearch_SERPS!K2534)),ShareOfSearch_SERPS!K2534,\"\")","v":""},{"$f":"IFERROR(VLOOKUP(C2534,ShareOfSearch_CTR!$A$1:$B$100,2,FALSE)*VLOOKUP(A2534&B2534,ShareOfSearch_Volume!$C$1:$D$1000,2,FALSE),\"\")","v":""}]
[{"$f":"IF(ISTEXT(ShareOfSearch_SERPS!C2535),ShareOfSearch_SERPS!C2535,\"\")","v":""},{"$f":"IF(ISTEXT(ShareOfSearch_SERPS!D2535),ShareOfSearch_SERPS!D2535,\"\")","v":""},{"$f":"IF(NOT(ISBLANK(ShareOfSearch_SERPS!A2535)),ShareOfSearch_SERPS!A2535,\"\")","v":""},{"$f":"IF(NOT(ISBLANK(ShareOfSearch_SERPS!G2535)),ShareOfSearch_SERPS!G2535,\"\")","v":""},{"$f":"IF(NOT(ISBLANK(ShareOfSearch_SERPS!K2535)),ShareOfSearch_SERPS!K2535,\"\")","v":""},{"$f":"IFERROR(VLOOKUP(C2535,ShareOfSearch_CTR!$A$1:$B$100,2,FALSE)*VLOOKUP(A2535&B2535,ShareOfSearch_Volume!$C$1:$D$1000,2,FALSE),\"\")","v":""}]
[{"$f":"IF(ISTEXT(ShareOfSearch_SERPS!C2536),ShareOfSearch_SERPS!C2536,\"\")","v":""},{"$f":"IF(ISTEXT(ShareOfSearch_SERPS!D2536),ShareOfSearch_SERPS!D2536,\"\")","v":""},{"$f":"IF(NOT(ISBLANK(ShareOfSearch_SERPS!A2536)),ShareOfSearch_SERPS!A2536,\"\")","v":""},{"$f":"IF(NOT(ISBLANK(ShareOfSearch_SERPS!G2536)),ShareOfSearch_SERPS!G2536,\"\")","v":""},{"$f":"IF(NOT(ISBLANK(ShareOfSearch_SERPS!K2536)),ShareOfSearch_SERPS!K2536,\"\")","v":""},{"$f":"IFERROR(VLOOKUP(C2536,ShareOfSearch_CTR!$A$1:$B$100,2,FALSE)*VLOOKUP(A2536&B2536,ShareOfSearch_Volume!$C$1:$D$1000,2,FALSE),\"\")","v":""}]
[{"$f":"IF(ISTEXT(ShareOfSearch_SERPS!C2537),ShareOfSearch_SERPS!C2537,\"\")","v":""},{"$f":"IF(ISTEXT(ShareOfSearch_SERPS!D2537),ShareOfSearch_SERPS!D2537,\"\")","v":""},{"$f":"IF(NOT(ISBLANK(ShareOfSearch_SERPS!A2537)),ShareOfSearch_SERPS!A2537,\"\")","v":""},{"$f":"IF(NOT(ISBLANK(ShareOfSearch_SERPS!G2537)),ShareOfSearch_SERPS!G2537,\"\")","v":""},{"$f":"IF(NOT(ISBLANK(ShareOfSearch_SERPS!K2537)),ShareOfSearch_SERPS!K2537,\"\")","v":""},{"$f":"IFERROR(VLOOKUP(C2537,ShareOfSearch_CTR!$A$1:$B$100,2,FALSE)*VLOOKUP(A2537&B2537,ShareOfSearch_Volume!$C$1:$D$1000,2,FALSE),\"\")","v":""}]
[{"$f":"IF(ISTEXT(ShareOfSearch_SERPS!C2538),ShareOfSearch_SERPS!C2538,\"\")","v":""},{"$f":"IF(ISTEXT(ShareOfSearch_SERPS!D2538),ShareOfSearch_SERPS!D2538,\"\")","v":""},{"$f":"IF(NOT(ISBLANK(ShareOfSearch_SERPS!A2538)),ShareOfSearch_SERPS!A2538,\"\")","v":""},{"$f":"IF(NOT(ISBLANK(ShareOfSearch_SERPS!G2538)),ShareOfSearch_SERPS!G2538,\"\")","v":""},{"$f":"IF(NOT(ISBLANK(ShareOfSearch_SERPS!K2538)),ShareOfSearch_SERPS!K2538,\"\")","v":""},{"$f":"IFERROR(VLOOKUP(C2538,ShareOfSearch_CTR!$A$1:$B$100,2,FALSE)*VLOOKUP(A2538&B2538,ShareOfSearch_Volume!$C$1:$D$1000,2,FALSE),\"\")","v":""}]
[{"$f":"IF(ISTEXT(ShareOfSearch_SERPS!C2539),ShareOfSearch_SERPS!C2539,\"\")","v":""},{"$f":"IF(ISTEXT(ShareOfSearch_SERPS!D2539),ShareOfSearch_SERPS!D2539,\"\")","v":""},{"$f":"IF(NOT(ISBLANK(ShareOfSearch_SERPS!A2539)),ShareOfSearch_SERPS!A2539,\"\")","v":""},{"$f":"IF(NOT(ISBLANK(ShareOfSearch_SERPS!G2539)),ShareOfSearch_SERPS!G2539,\"\")","v":""},{"$f":"IF(NOT(ISBLANK(ShareOfSearch_SERPS!K2539)),ShareOfSearch_SERPS!K2539,\"\")","v":""},{"$f":"IFERROR(VLOOKUP(C2539,ShareOfSearch_CTR!$A$1:$B$100,2,FALSE)*VLOOKUP(A2539&B2539,ShareOfSearch_Volume!$C$1:$D$1000,2,FALSE),\"\")","v":""}]
[{"$f":"IF(ISTEXT(ShareOfSearch_SERPS!C2540),ShareOfSearch_SERPS!C2540,\"\")","v":""},{"$f":"IF(ISTEXT(ShareOfSearch_SERPS!D2540),ShareOfSearch_SERPS!D2540,\"\")","v":""},{"$f":"IF(NOT(ISBLANK(ShareOfSearch_SERPS!A2540)),ShareOfSearch_SERPS!A2540,\"\")","v":""},{"$f":"IF(NOT(ISBLANK(ShareOfSearch_SERPS!G2540)),ShareOfSearch_SERPS!G2540,\"\")","v":""},{"$f":"IF(NOT(ISBLANK(ShareOfSearch_SERPS!K2540)),ShareOfSearch_SERPS!K2540,\"\")","v":""},{"$f":"IFERROR(VLOOKUP(C2540,ShareOfSearch_CTR!$A$1:$B$100,2,FALSE)*VLOOKUP(A2540&B2540,ShareOfSearch_Volume!$C$1:$D$1000,2,FALSE),\"\")","v":""}]
[{"$f":"IF(ISTEXT(ShareOfSearch_SERPS!C2541),ShareOfSearch_SERPS!C2541,\"\")","v":""},{"$f":"IF(ISTEXT(ShareOfSearch_SERPS!D2541),ShareOfSearch_SERPS!D2541,\"\")","v":""},{"$f":"IF(NOT(ISBLANK(ShareOfSearch_SERPS!A2541)),ShareOfSearch_SERPS!A2541,\"\")","v":""},{"$f":"IF(NOT(ISBLANK(ShareOfSearch_SERPS!G2541)),ShareOfSearch_SERPS!G2541,\"\")","v":""},{"$f":"IF(NOT(ISBLANK(ShareOfSearch_SERPS!K2541)),ShareOfSearch_SERPS!K2541,\"\")","v":""},{"$f":"IFERROR(VLOOKUP(C2541,ShareOfSearch_CTR!$A$1:$B$100,2,FALSE)*VLOOKUP(A2541&B2541,ShareOfSearch_Volume!$C$1:$D$1000,2,FALSE),\"\")","v":""}]
[{"$f":"IF(ISTEXT(ShareOfSearch_SERPS!C2542),ShareOfSearch_SERPS!C2542,\"\")","v":""},{"$f":"IF(ISTEXT(ShareOfSearch_SERPS!D2542),ShareOfSearch_SERPS!D2542,\"\")","v":""},{"$f":"IF(NOT(ISBLANK(ShareOfSearch_SERPS!A2542)),ShareOfSearch_SERPS!A2542,\"\")","v":""},{"$f":"IF(NOT(ISBLANK(ShareOfSearch_SERPS!G2542)),ShareOfSearch_SERPS!G2542,\"\")","v":""},{"$f":"IF(NOT(ISBLANK(ShareOfSearch_SERPS!K2542)),ShareOfSearch_SERPS!K2542,\"\")","v":""},{"$f":"IFERROR(VLOOKUP(C2542,ShareOfSearch_CTR!$A$1:$B$100,2,FALSE)*VLOOKUP(A2542&B2542,ShareOfSearch_Volume!$C$1:$D$1000,2,FALSE),\"\")","v":""}]
[{"$f":"IF(ISTEXT(ShareOfSearch_SERPS!C2543),ShareOfSearch_SERPS!C2543,\"\")","v":""},{"$f":"IF(ISTEXT(ShareOfSearch_SERPS!D2543),ShareOfSearch_SERPS!D2543,\"\")","v":""},{"$f":"IF(NOT(ISBLANK(ShareOfSearch_SERPS!A2543)),ShareOfSearch_SERPS!A2543,\"\")","v":""},{"$f":"IF(NOT(ISBLANK(ShareOfSearch_SERPS!G2543)),ShareOfSearch_SERPS!G2543,\"\")","v":""},{"$f":"IF(NOT(ISBLANK(ShareOfSearch_SERPS!K2543)),ShareOfSearch_SERPS!K2543,\"\")","v":""},{"$f":"IFERROR(VLOOKUP(C2543,ShareOfSearch_CTR!$A$1:$B$100,2,FALSE)*VLOOKUP(A2543&B2543,ShareOfSearch_Volume!$C$1:$D$1000,2,FALSE),\"\")","v":""}]
[{"$f":"IF(ISTEXT(ShareOfSearch_SERPS!C2544),ShareOfSearch_SERPS!C2544,\"\")","v":""},{"$f":"IF(ISTEXT(ShareOfSearch_SERPS!D2544),ShareOfSearch_SERPS!D2544,\"\")","v":""},{"$f":"IF(NOT(ISBLANK(ShareOfSearch_SERPS!A2544)),ShareOfSearch_SERPS!A2544,\"\")","v":""},{"$f":"IF(NOT(ISBLANK(ShareOfSearch_SERPS!G2544)),ShareOfSearch_SERPS!G2544,\"\")","v":""},{"$f":"IF(NOT(ISBLANK(ShareOfSearch_SERPS!K2544)),ShareOfSearch_SERPS!K2544,\"\")","v":""},{"$f":"IFERROR(VLOOKUP(C2544,ShareOfSearch_CTR!$A$1:$B$100,2,FALSE)*VLOOKUP(A2544&B2544,ShareOfSearch_Volume!$C$1:$D$1000,2,FALSE),\"\")","v":""}]
[{"$f":"IF(ISTEXT(ShareOfSearch_SERPS!C2545),ShareOfSearch_SERPS!C2545,\"\")","v":""},{"$f":"IF(ISTEXT(ShareOfSearch_SERPS!D2545),ShareOfSearch_SERPS!D2545,\"\")","v":""},{"$f":"IF(NOT(ISBLANK(ShareOfSearch_SERPS!A2545)),ShareOfSearch_SERPS!A2545,\"\")","v":""},{"$f":"IF(NOT(ISBLANK(ShareOfSearch_SERPS!G2545)),ShareOfSearch_SERPS!G2545,\"\")","v":""},{"$f":"IF(NOT(ISBLANK(ShareOfSearch_SERPS!K2545)),ShareOfSearch_SERPS!K2545,\"\")","v":""},{"$f":"IFERROR(VLOOKUP(C2545,ShareOfSearch_CTR!$A$1:$B$100,2,FALSE)*VLOOKUP(A2545&B2545,ShareOfSearch_Volume!$C$1:$D$1000,2,FALSE),\"\")","v":""}]
[{"$f":"IF(ISTEXT(ShareOfSearch_SERPS!C2546),ShareOfSearch_SERPS!C2546,\"\")","v":""},{"$f":"IF(ISTEXT(ShareOfSearch_SERPS!D2546),ShareOfSearch_SERPS!D2546,\"\")","v":""},{"$f":"IF(NOT(ISBLANK(ShareOfSearch_SERPS!A2546)),ShareOfSearch_SERPS!A2546,\"\")","v":""},{"$f":"IF(NOT(ISBLANK(ShareOfSearch_SERPS!G2546)),ShareOfSearch_SERPS!G2546,\"\")","v":""},{"$f":"IF(NOT(ISBLANK(ShareOfSearch_SERPS!K2546)),ShareOfSearch_SERPS!K2546,\"\")","v":""},{"$f":"IFERROR(VLOOKUP(C2546,ShareOfSearch_CTR!$A$1:$B$100,2,FALSE)*VLOOKUP(A2546&B2546,ShareOfSearch_Volume!$C$1:$D$1000,2,FALSE),\"\")","v":""}]
[{"$f":"IF(ISTEXT(ShareOfSearch_SERPS!C2547),ShareOfSearch_SERPS!C2547,\"\")","v":""},{"$f":"IF(ISTEXT(ShareOfSearch_SERPS!D2547),ShareOfSearch_SERPS!D2547,\"\")","v":""},{"$f":"IF(NOT(ISBLANK(ShareOfSearch_SERPS!A2547)),ShareOfSearch_SERPS!A2547,\"\")","v":""},{"$f":"IF(NOT(ISBLANK(ShareOfSearch_SERPS!G2547)),ShareOfSearch_SERPS!G2547,\"\")","v":""},{"$f":"IF(NOT(ISBLANK(ShareOfSearch_SERPS!K2547)),ShareOfSearch_SERPS!K2547,\"\")","v":""},{"$f":"IFERROR(VLOOKUP(C2547,ShareOfSearch_CTR!$A$1:$B$100,2,FALSE)*VLOOKUP(A2547&B2547,ShareOfSearch_Volume!$C$1:$D$1000,2,FALSE),\"\")","v":""}]
[{"$f":"IF(ISTEXT(ShareOfSearch_SERPS!C2548),ShareOfSearch_SERPS!C2548,\"\")","v":""},{"$f":"IF(ISTEXT(ShareOfSearch_SERPS!D2548),ShareOfSearch_SERPS!D2548,\"\")","v":""},{"$f":"IF(NOT(ISBLANK(ShareOfSearch_SERPS!A2548)),ShareOfSearch_SERPS!A2548,\"\")","v":""},{"$f":"IF(NOT(ISBLANK(ShareOfSearch_SERPS!G2548)),ShareOfSearch_SERPS!G2548,\"\")","v":""},{"$f":"IF(NOT(ISBLANK(ShareOfSearch_SERPS!K2548)),ShareOfSearch_SERPS!K2548,\"\")","v":""},{"$f":"IFERROR(VLOOKUP(C2548,ShareOfSearch_CTR!$A$1:$B$100,2,FALSE)*VLOOKUP(A2548&B2548,ShareOfSearch_Volume!$C$1:$D$1000,2,FALSE),\"\")","v":""}]
[{"$f":"IF(ISTEXT(ShareOfSearch_SERPS!C2549),ShareOfSearch_SERPS!C2549,\"\")","v":""},{"$f":"IF(ISTEXT(ShareOfSearch_SERPS!D2549),ShareOfSearch_SERPS!D2549,\"\")","v":""},{"$f":"IF(NOT(ISBLANK(ShareOfSearch_SERPS!A2549)),ShareOfSearch_SERPS!A2549,\"\")","v":""},{"$f":"IF(NOT(ISBLANK(ShareOfSearch_SERPS!G2549)),ShareOfSearch_SERPS!G2549,\"\")","v":""},{"$f":"IF(NOT(ISBLANK(ShareOfSearch_SERPS!K2549)),ShareOfSearch_SERPS!K2549,\"\")","v":""},{"$f":"IFERROR(VLOOKUP(C2549,ShareOfSearch_CTR!$A$1:$B$100,2,FALSE)*VLOOKUP(A2549&B2549,ShareOfSearch_Volume!$C$1:$D$1000,2,FALSE),\"\")","v":""}]
[{"$f":"IF(ISTEXT(ShareOfSearch_SERPS!C2550),ShareOfSearch_SERPS!C2550,\"\")","v":""},{"$f":"IF(ISTEXT(ShareOfSearch_SERPS!D2550),ShareOfSearch_SERPS!D2550,\"\")","v":""},{"$f":"IF(NOT(ISBLANK(ShareOfSearch_SERPS!A2550)),ShareOfSearch_SERPS!A2550,\"\")","v":""},{"$f":"IF(NOT(ISBLANK(ShareOfSearch_SERPS!G2550)),ShareOfSearch_SERPS!G2550,\"\")","v":""},{"$f":"IF(NOT(ISBLANK(ShareOfSearch_SERPS!K2550)),ShareOfSearch_SERPS!K2550,\"\")","v":""},{"$f":"IFERROR(VLOOKUP(C2550,ShareOfSearch_CTR!$A$1:$B$100,2,FALSE)*VLOOKUP(A2550&B2550,ShareOfSearch_Volume!$C$1:$D$1000,2,FALSE),\"\")","v":""}]
[{"$f":"IF(ISTEXT(ShareOfSearch_SERPS!C2551),ShareOfSearch_SERPS!C2551,\"\")","v":""},{"$f":"IF(ISTEXT(ShareOfSearch_SERPS!D2551),ShareOfSearch_SERPS!D2551,\"\")","v":""},{"$f":"IF(NOT(ISBLANK(ShareOfSearch_SERPS!A2551)),ShareOfSearch_SERPS!A2551,\"\")","v":""},{"$f":"IF(NOT(ISBLANK(ShareOfSearch_SERPS!G2551)),ShareOfSearch_SERPS!G2551,\"\")","v":""},{"$f":"IF(NOT(ISBLANK(ShareOfSearch_SERPS!K2551)),ShareOfSearch_SERPS!K2551,\"\")","v":""},{"$f":"IFERROR(VLOOKUP(C2551,ShareOfSearch_CTR!$A$1:$B$100,2,FALSE)*VLOOKUP(A2551&B2551,ShareOfSearch_Volume!$C$1:$D$1000,2,FALSE),\"\")","v":""}]
[{"$f":"IF(ISTEXT(ShareOfSearch_SERPS!C2552),ShareOfSearch_SERPS!C2552,\"\")","v":""},{"$f":"IF(ISTEXT(ShareOfSearch_SERPS!D2552),ShareOfSearch_SERPS!D2552,\"\")","v":""},{"$f":"IF(NOT(ISBLANK(ShareOfSearch_SERPS!A2552)),ShareOfSearch_SERPS!A2552,\"\")","v":""},{"$f":"IF(NOT(ISBLANK(ShareOfSearch_SERPS!G2552)),ShareOfSearch_SERPS!G2552,\"\")","v":""},{"$f":"IF(NOT(ISBLANK(ShareOfSearch_SERPS!K2552)),ShareOfSearch_SERPS!K2552,\"\")","v":""},{"$f":"IFERROR(VLOOKUP(C2552,ShareOfSearch_CTR!$A$1:$B$100,2,FALSE)*VLOOKUP(A2552&B2552,ShareOfSearch_Volume!$C$1:$D$1000,2,FALSE),\"\")","v":""}]
[{"$f":"IF(ISTEXT(ShareOfSearch_SERPS!C2553),ShareOfSearch_SERPS!C2553,\"\")","v":""},{"$f":"IF(ISTEXT(ShareOfSearch_SERPS!D2553),ShareOfSearch_SERPS!D2553,\"\")","v":""},{"$f":"IF(NOT(ISBLANK(ShareOfSearch_SERPS!A2553)),ShareOfSearch_SERPS!A2553,\"\")","v":""},{"$f":"IF(NOT(ISBLANK(ShareOfSearch_SERPS!G2553)),ShareOfSearch_SERPS!G2553,\"\")","v":""},{"$f":"IF(NOT(ISBLANK(ShareOfSearch_SERPS!K2553)),ShareOfSearch_SERPS!K2553,\"\")","v":""},{"$f":"IFERROR(VLOOKUP(C2553,ShareOfSearch_CTR!$A$1:$B$100,2,FALSE)*VLOOKUP(A2553&B2553,ShareOfSearch_Volume!$C$1:$D$1000,2,FALSE),\"\")","v":""}]
[{"$f":"IF(ISTEXT(ShareOfSearch_SERPS!C2554),ShareOfSearch_SERPS!C2554,\"\")","v":""},{"$f":"IF(ISTEXT(ShareOfSearch_SERPS!D2554),ShareOfSearch_SERPS!D2554,\"\")","v":""},{"$f":"IF(NOT(ISBLANK(ShareOfSearch_SERPS!A2554)),ShareOfSearch_SERPS!A2554,\"\")","v":""},{"$f":"IF(NOT(ISBLANK(ShareOfSearch_SERPS!G2554)),ShareOfSearch_SERPS!G2554,\"\")","v":""},{"$f":"IF(NOT(ISBLANK(ShareOfSearch_SERPS!K2554)),ShareOfSearch_SERPS!K2554,\"\")","v":""},{"$f":"IFERROR(VLOOKUP(C2554,ShareOfSearch_CTR!$A$1:$B$100,2,FALSE)*VLOOKUP(A2554&B2554,ShareOfSearch_Volume!$C$1:$D$1000,2,FALSE),\"\")","v":""}]
[{"$f":"IF(ISTEXT(ShareOfSearch_SERPS!C2555),ShareOfSearch_SERPS!C2555,\"\")","v":""},{"$f":"IF(ISTEXT(ShareOfSearch_SERPS!D2555),ShareOfSearch_SERPS!D2555,\"\")","v":""},{"$f":"IF(NOT(ISBLANK(ShareOfSearch_SERPS!A2555)),ShareOfSearch_SERPS!A2555,\"\")","v":""},{"$f":"IF(NOT(ISBLANK(ShareOfSearch_SERPS!G2555)),ShareOfSearch_SERPS!G2555,\"\")","v":""},{"$f":"IF(NOT(ISBLANK(ShareOfSearch_SERPS!K2555)),ShareOfSearch_SERPS!K2555,\"\")","v":""},{"$f":"IFERROR(VLOOKUP(C2555,ShareOfSearch_CTR!$A$1:$B$100,2,FALSE)*VLOOKUP(A2555&B2555,ShareOfSearch_Volume!$C$1:$D$1000,2,FALSE),\"\")","v":""}]
[{"$f":"IF(ISTEXT(ShareOfSearch_SERPS!C2556),ShareOfSearch_SERPS!C2556,\"\")","v":""},{"$f":"IF(ISTEXT(ShareOfSearch_SERPS!D2556),ShareOfSearch_SERPS!D2556,\"\")","v":""},{"$f":"IF(NOT(ISBLANK(ShareOfSearch_SERPS!A2556)),ShareOfSearch_SERPS!A2556,\"\")","v":""},{"$f":"IF(NOT(ISBLANK(ShareOfSearch_SERPS!G2556)),ShareOfSearch_SERPS!G2556,\"\")","v":""},{"$f":"IF(NOT(ISBLANK(ShareOfSearch_SERPS!K2556)),ShareOfSearch_SERPS!K2556,\"\")","v":""},{"$f":"IFERROR(VLOOKUP(C2556,ShareOfSearch_CTR!$A$1:$B$100,2,FALSE)*VLOOKUP(A2556&B2556,ShareOfSearch_Volume!$C$1:$D$1000,2,FALSE),\"\")","v":""}]
[{"$f":"IF(ISTEXT(ShareOfSearch_SERPS!C2557),ShareOfSearch_SERPS!C2557,\"\")","v":""},{"$f":"IF(ISTEXT(ShareOfSearch_SERPS!D2557),ShareOfSearch_SERPS!D2557,\"\")","v":""},{"$f":"IF(NOT(ISBLANK(ShareOfSearch_SERPS!A2557)),ShareOfSearch_SERPS!A2557,\"\")","v":""},{"$f":"IF(NOT(ISBLANK(ShareOfSearch_SERPS!G2557)),ShareOfSearch_SERPS!G2557,\"\")","v":""},{"$f":"IF(NOT(ISBLANK(ShareOfSearch_SERPS!K2557)),ShareOfSearch_SERPS!K2557,\"\")","v":""},{"$f":"IFERROR(VLOOKUP(C2557,ShareOfSearch_CTR!$A$1:$B$100,2,FALSE)*VLOOKUP(A2557&B2557,ShareOfSearch_Volume!$C$1:$D$1000,2,FALSE),\"\")","v":""}]
[{"$f":"IF(ISTEXT(ShareOfSearch_SERPS!C2558),ShareOfSearch_SERPS!C2558,\"\")","v":""},{"$f":"IF(ISTEXT(ShareOfSearch_SERPS!D2558),ShareOfSearch_SERPS!D2558,\"\")","v":""},{"$f":"IF(NOT(ISBLANK(ShareOfSearch_SERPS!A2558)),ShareOfSearch_SERPS!A2558,\"\")","v":""},{"$f":"IF(NOT(ISBLANK(ShareOfSearch_SERPS!G2558)),ShareOfSearch_SERPS!G2558,\"\")","v":""},{"$f":"IF(NOT(ISBLANK(ShareOfSearch_SERPS!K2558)),ShareOfSearch_SERPS!K2558,\"\")","v":""},{"$f":"IFERROR(VLOOKUP(C2558,ShareOfSearch_CTR!$A$1:$B$100,2,FALSE)*VLOOKUP(A2558&B2558,ShareOfSearch_Volume!$C$1:$D$1000,2,FALSE),\"\")","v":""}]
[{"$f":"IF(ISTEXT(ShareOfSearch_SERPS!C2559),ShareOfSearch_SERPS!C2559,\"\")","v":""},{"$f":"IF(ISTEXT(ShareOfSearch_SERPS!D2559),ShareOfSearch_SERPS!D2559,\"\")","v":""},{"$f":"IF(NOT(ISBLANK(ShareOfSearch_SERPS!A2559)),ShareOfSearch_SERPS!A2559,\"\")","v":""},{"$f":"IF(NOT(ISBLANK(ShareOfSearch_SERPS!G2559)),ShareOfSearch_SERPS!G2559,\"\")","v":""},{"$f":"IF(NOT(ISBLANK(ShareOfSearch_SERPS!K2559)),ShareOfSearch_SERPS!K2559,\"\")","v":""},{"$f":"IFERROR(VLOOKUP(C2559,ShareOfSearch_CTR!$A$1:$B$100,2,FALSE)*VLOOKUP(A2559&B2559,ShareOfSearch_Volume!$C$1:$D$1000,2,FALSE),\"\")","v":""}]
[{"$f":"IF(ISTEXT(ShareOfSearch_SERPS!C2560),ShareOfSearch_SERPS!C2560,\"\")","v":""},{"$f":"IF(ISTEXT(ShareOfSearch_SERPS!D2560),ShareOfSearch_SERPS!D2560,\"\")","v":""},{"$f":"IF(NOT(ISBLANK(ShareOfSearch_SERPS!A2560)),ShareOfSearch_SERPS!A2560,\"\")","v":""},{"$f":"IF(NOT(ISBLANK(ShareOfSearch_SERPS!G2560)),ShareOfSearch_SERPS!G2560,\"\")","v":""},{"$f":"IF(NOT(ISBLANK(ShareOfSearch_SERPS!K2560)),ShareOfSearch_SERPS!K2560,\"\")","v":""},{"$f":"IFERROR(VLOOKUP(C2560,ShareOfSearch_CTR!$A$1:$B$100,2,FALSE)*VLOOKUP(A2560&B2560,ShareOfSearch_Volume!$C$1:$D$1000,2,FALSE),\"\")","v":""}]
[{"$f":"IF(ISTEXT(ShareOfSearch_SERPS!C2561),ShareOfSearch_SERPS!C2561,\"\")","v":""},{"$f":"IF(ISTEXT(ShareOfSearch_SERPS!D2561),ShareOfSearch_SERPS!D2561,\"\")","v":""},{"$f":"IF(NOT(ISBLANK(ShareOfSearch_SERPS!A2561)),ShareOfSearch_SERPS!A2561,\"\")","v":""},{"$f":"IF(NOT(ISBLANK(ShareOfSearch_SERPS!G2561)),ShareOfSearch_SERPS!G2561,\"\")","v":""},{"$f":"IF(NOT(ISBLANK(ShareOfSearch_SERPS!K2561)),ShareOfSearch_SERPS!K2561,\"\")","v":""},{"$f":"IFERROR(VLOOKUP(C2561,ShareOfSearch_CTR!$A$1:$B$100,2,FALSE)*VLOOKUP(A2561&B2561,ShareOfSearch_Volume!$C$1:$D$1000,2,FALSE),\"\")","v":""}]
[{"$f":"IF(ISTEXT(ShareOfSearch_SERPS!C2562),ShareOfSearch_SERPS!C2562,\"\")","v":""},{"$f":"IF(ISTEXT(ShareOfSearch_SERPS!D2562),ShareOfSearch_SERPS!D2562,\"\")","v":""},{"$f":"IF(NOT(ISBLANK(ShareOfSearch_SERPS!A2562)),ShareOfSearch_SERPS!A2562,\"\")","v":""},{"$f":"IF(NOT(ISBLANK(ShareOfSearch_SERPS!G2562)),ShareOfSearch_SERPS!G2562,\"\")","v":""},{"$f":"IF(NOT(ISBLANK(ShareOfSearch_SERPS!K2562)),ShareOfSearch_SERPS!K2562,\"\")","v":""},{"$f":"IFERROR(VLOOKUP(C2562,ShareOfSearch_CTR!$A$1:$B$100,2,FALSE)*VLOOKUP(A2562&B2562,ShareOfSearch_Volume!$C$1:$D$1000,2,FALSE),\"\")","v":""}]
[{"$f":"IF(ISTEXT(ShareOfSearch_SERPS!C2563),ShareOfSearch_SERPS!C2563,\"\")","v":""},{"$f":"IF(ISTEXT(ShareOfSearch_SERPS!D2563),ShareOfSearch_SERPS!D2563,\"\")","v":""},{"$f":"IF(NOT(ISBLANK(ShareOfSearch_SERPS!A2563)),ShareOfSearch_SERPS!A2563,\"\")","v":""},{"$f":"IF(NOT(ISBLANK(ShareOfSearch_SERPS!G2563)),ShareOfSearch_SERPS!G2563,\"\")","v":""},{"$f":"IF(NOT(ISBLANK(ShareOfSearch_SERPS!K2563)),ShareOfSearch_SERPS!K2563,\"\")","v":""},{"$f":"IFERROR(VLOOKUP(C2563,ShareOfSearch_CTR!$A$1:$B$100,2,FALSE)*VLOOKUP(A2563&B2563,ShareOfSearch_Volume!$C$1:$D$1000,2,FALSE),\"\")","v":""}]
[{"$f":"IF(ISTEXT(ShareOfSearch_SERPS!C2564),ShareOfSearch_SERPS!C2564,\"\")","v":""},{"$f":"IF(ISTEXT(ShareOfSearch_SERPS!D2564),ShareOfSearch_SERPS!D2564,\"\")","v":""},{"$f":"IF(NOT(ISBLANK(ShareOfSearch_SERPS!A2564)),ShareOfSearch_SERPS!A2564,\"\")","v":""},{"$f":"IF(NOT(ISBLANK(ShareOfSearch_SERPS!G2564)),ShareOfSearch_SERPS!G2564,\"\")","v":""},{"$f":"IF(NOT(ISBLANK(ShareOfSearch_SERPS!K2564)),ShareOfSearch_SERPS!K2564,\"\")","v":""},{"$f":"IFERROR(VLOOKUP(C2564,ShareOfSearch_CTR!$A$1:$B$100,2,FALSE)*VLOOKUP(A2564&B2564,ShareOfSearch_Volume!$C$1:$D$1000,2,FALSE),\"\")","v":""}]
[{"$f":"IF(ISTEXT(ShareOfSearch_SERPS!C2565),ShareOfSearch_SERPS!C2565,\"\")","v":""},{"$f":"IF(ISTEXT(ShareOfSearch_SERPS!D2565),ShareOfSearch_SERPS!D2565,\"\")","v":""},{"$f":"IF(NOT(ISBLANK(ShareOfSearch_SERPS!A2565)),ShareOfSearch_SERPS!A2565,\"\")","v":""},{"$f":"IF(NOT(ISBLANK(ShareOfSearch_SERPS!G2565)),ShareOfSearch_SERPS!G2565,\"\")","v":""},{"$f":"IF(NOT(ISBLANK(ShareOfSearch_SERPS!K2565)),ShareOfSearch_SERPS!K2565,\"\")","v":""},{"$f":"IFERROR(VLOOKUP(C2565,ShareOfSearch_CTR!$A$1:$B$100,2,FALSE)*VLOOKUP(A2565&B2565,ShareOfSearch_Volume!$C$1:$D$1000,2,FALSE),\"\")","v":""}]
[{"$f":"IF(ISTEXT(ShareOfSearch_SERPS!C2566),ShareOfSearch_SERPS!C2566,\"\")","v":""},{"$f":"IF(ISTEXT(ShareOfSearch_SERPS!D2566),ShareOfSearch_SERPS!D2566,\"\")","v":""},{"$f":"IF(NOT(ISBLANK(ShareOfSearch_SERPS!A2566)),ShareOfSearch_SERPS!A2566,\"\")","v":""},{"$f":"IF(NOT(ISBLANK(ShareOfSearch_SERPS!G2566)),ShareOfSearch_SERPS!G2566,\"\")","v":""},{"$f":"IF(NOT(ISBLANK(ShareOfSearch_SERPS!K2566)),ShareOfSearch_SERPS!K2566,\"\")","v":""},{"$f":"IFERROR(VLOOKUP(C2566,ShareOfSearch_CTR!$A$1:$B$100,2,FALSE)*VLOOKUP(A2566&B2566,ShareOfSearch_Volume!$C$1:$D$1000,2,FALSE),\"\")","v":""}]
[{"$f":"IF(ISTEXT(ShareOfSearch_SERPS!C2567),ShareOfSearch_SERPS!C2567,\"\")","v":""},{"$f":"IF(ISTEXT(ShareOfSearch_SERPS!D2567),ShareOfSearch_SERPS!D2567,\"\")","v":""},{"$f":"IF(NOT(ISBLANK(ShareOfSearch_SERPS!A2567)),ShareOfSearch_SERPS!A2567,\"\")","v":""},{"$f":"IF(NOT(ISBLANK(ShareOfSearch_SERPS!G2567)),ShareOfSearch_SERPS!G2567,\"\")","v":""},{"$f":"IF(NOT(ISBLANK(ShareOfSearch_SERPS!K2567)),ShareOfSearch_SERPS!K2567,\"\")","v":""},{"$f":"IFERROR(VLOOKUP(C2567,ShareOfSearch_CTR!$A$1:$B$100,2,FALSE)*VLOOKUP(A2567&B2567,ShareOfSearch_Volume!$C$1:$D$1000,2,FALSE),\"\")","v":""}]
[{"$f":"IF(ISTEXT(ShareOfSearch_SERPS!C2568),ShareOfSearch_SERPS!C2568,\"\")","v":""},{"$f":"IF(ISTEXT(ShareOfSearch_SERPS!D2568),ShareOfSearch_SERPS!D2568,\"\")","v":""},{"$f":"IF(NOT(ISBLANK(ShareOfSearch_SERPS!A2568)),ShareOfSearch_SERPS!A2568,\"\")","v":""},{"$f":"IF(NOT(ISBLANK(ShareOfSearch_SERPS!G2568)),ShareOfSearch_SERPS!G2568,\"\")","v":""},{"$f":"IF(NOT(ISBLANK(ShareOfSearch_SERPS!K2568)),ShareOfSearch_SERPS!K2568,\"\")","v":""},{"$f":"IFERROR(VLOOKUP(C2568,ShareOfSearch_CTR!$A$1:$B$100,2,FALSE)*VLOOKUP(A2568&B2568,ShareOfSearch_Volume!$C$1:$D$1000,2,FALSE),\"\")","v":""}]
[{"$f":"IF(ISTEXT(ShareOfSearch_SERPS!C2569),ShareOfSearch_SERPS!C2569,\"\")","v":""},{"$f":"IF(ISTEXT(ShareOfSearch_SERPS!D2569),ShareOfSearch_SERPS!D2569,\"\")","v":""},{"$f":"IF(NOT(ISBLANK(ShareOfSearch_SERPS!A2569)),ShareOfSearch_SERPS!A2569,\"\")","v":""},{"$f":"IF(NOT(ISBLANK(ShareOfSearch_SERPS!G2569)),ShareOfSearch_SERPS!G2569,\"\")","v":""},{"$f":"IF(NOT(ISBLANK(ShareOfSearch_SERPS!K2569)),ShareOfSearch_SERPS!K2569,\"\")","v":""},{"$f":"IFERROR(VLOOKUP(C2569,ShareOfSearch_CTR!$A$1:$B$100,2,FALSE)*VLOOKUP(A2569&B2569,ShareOfSearch_Volume!$C$1:$D$1000,2,FALSE),\"\")","v":""}]
[{"$f":"IF(ISTEXT(ShareOfSearch_SERPS!C2570),ShareOfSearch_SERPS!C2570,\"\")","v":""},{"$f":"IF(ISTEXT(ShareOfSearch_SERPS!D2570),ShareOfSearch_SERPS!D2570,\"\")","v":""},{"$f":"IF(NOT(ISBLANK(ShareOfSearch_SERPS!A2570)),ShareOfSearch_SERPS!A2570,\"\")","v":""},{"$f":"IF(NOT(ISBLANK(ShareOfSearch_SERPS!G2570)),ShareOfSearch_SERPS!G2570,\"\")","v":""},{"$f":"IF(NOT(ISBLANK(ShareOfSearch_SERPS!K2570)),ShareOfSearch_SERPS!K2570,\"\")","v":""},{"$f":"IFERROR(VLOOKUP(C2570,ShareOfSearch_CTR!$A$1:$B$100,2,FALSE)*VLOOKUP(A2570&B2570,ShareOfSearch_Volume!$C$1:$D$1000,2,FALSE),\"\")","v":""}]
[{"$f":"IF(ISTEXT(ShareOfSearch_SERPS!C2571),ShareOfSearch_SERPS!C2571,\"\")","v":""},{"$f":"IF(ISTEXT(ShareOfSearch_SERPS!D2571),ShareOfSearch_SERPS!D2571,\"\")","v":""},{"$f":"IF(NOT(ISBLANK(ShareOfSearch_SERPS!A2571)),ShareOfSearch_SERPS!A2571,\"\")","v":""},{"$f":"IF(NOT(ISBLANK(ShareOfSearch_SERPS!G2571)),ShareOfSearch_SERPS!G2571,\"\")","v":""},{"$f":"IF(NOT(ISBLANK(ShareOfSearch_SERPS!K2571)),ShareOfSearch_SERPS!K2571,\"\")","v":""},{"$f":"IFERROR(VLOOKUP(C2571,ShareOfSearch_CTR!$A$1:$B$100,2,FALSE)*VLOOKUP(A2571&B2571,ShareOfSearch_Volume!$C$1:$D$1000,2,FALSE),\"\")","v":""}]
[{"$f":"IF(ISTEXT(ShareOfSearch_SERPS!C2572),ShareOfSearch_SERPS!C2572,\"\")","v":""},{"$f":"IF(ISTEXT(ShareOfSearch_SERPS!D2572),ShareOfSearch_SERPS!D2572,\"\")","v":""},{"$f":"IF(NOT(ISBLANK(ShareOfSearch_SERPS!A2572)),ShareOfSearch_SERPS!A2572,\"\")","v":""},{"$f":"IF(NOT(ISBLANK(ShareOfSearch_SERPS!G2572)),ShareOfSearch_SERPS!G2572,\"\")","v":""},{"$f":"IF(NOT(ISBLANK(ShareOfSearch_SERPS!K2572)),ShareOfSearch_SERPS!K2572,\"\")","v":""},{"$f":"IFERROR(VLOOKUP(C2572,ShareOfSearch_CTR!$A$1:$B$100,2,FALSE)*VLOOKUP(A2572&B2572,ShareOfSearch_Volume!$C$1:$D$1000,2,FALSE),\"\")","v":""}]
[{"$f":"IF(ISTEXT(ShareOfSearch_SERPS!C2573),ShareOfSearch_SERPS!C2573,\"\")","v":""},{"$f":"IF(ISTEXT(ShareOfSearch_SERPS!D2573),ShareOfSearch_SERPS!D2573,\"\")","v":""},{"$f":"IF(NOT(ISBLANK(ShareOfSearch_SERPS!A2573)),ShareOfSearch_SERPS!A2573,\"\")","v":""},{"$f":"IF(NOT(ISBLANK(ShareOfSearch_SERPS!G2573)),ShareOfSearch_SERPS!G2573,\"\")","v":""},{"$f":"IF(NOT(ISBLANK(ShareOfSearch_SERPS!K2573)),ShareOfSearch_SERPS!K2573,\"\")","v":""},{"$f":"IFERROR(VLOOKUP(C2573,ShareOfSearch_CTR!$A$1:$B$100,2,FALSE)*VLOOKUP(A2573&B2573,ShareOfSearch_Volume!$C$1:$D$1000,2,FALSE),\"\")","v":""}]
[{"$f":"IF(ISTEXT(ShareOfSearch_SERPS!C2574),ShareOfSearch_SERPS!C2574,\"\")","v":""},{"$f":"IF(ISTEXT(ShareOfSearch_SERPS!D2574),ShareOfSearch_SERPS!D2574,\"\")","v":""},{"$f":"IF(NOT(ISBLANK(ShareOfSearch_SERPS!A2574)),ShareOfSearch_SERPS!A2574,\"\")","v":""},{"$f":"IF(NOT(ISBLANK(ShareOfSearch_SERPS!G2574)),ShareOfSearch_SERPS!G2574,\"\")","v":""},{"$f":"IF(NOT(ISBLANK(ShareOfSearch_SERPS!K2574)),ShareOfSearch_SERPS!K2574,\"\")","v":""},{"$f":"IFERROR(VLOOKUP(C2574,ShareOfSearch_CTR!$A$1:$B$100,2,FALSE)*VLOOKUP(A2574&B2574,ShareOfSearch_Volume!$C$1:$D$1000,2,FALSE),\"\")","v":""}]
[{"$f":"IF(ISTEXT(ShareOfSearch_SERPS!C2575),ShareOfSearch_SERPS!C2575,\"\")","v":""},{"$f":"IF(ISTEXT(ShareOfSearch_SERPS!D2575),ShareOfSearch_SERPS!D2575,\"\")","v":""},{"$f":"IF(NOT(ISBLANK(ShareOfSearch_SERPS!A2575)),ShareOfSearch_SERPS!A2575,\"\")","v":""},{"$f":"IF(NOT(ISBLANK(ShareOfSearch_SERPS!G2575)),ShareOfSearch_SERPS!G2575,\"\")","v":""},{"$f":"IF(NOT(ISBLANK(ShareOfSearch_SERPS!K2575)),ShareOfSearch_SERPS!K2575,\"\")","v":""},{"$f":"IFERROR(VLOOKUP(C2575,ShareOfSearch_CTR!$A$1:$B$100,2,FALSE)*VLOOKUP(A2575&B2575,ShareOfSearch_Volume!$C$1:$D$1000,2,FALSE),\"\")","v":""}]
[{"$f":"IF(ISTEXT(ShareOfSearch_SERPS!C2576),ShareOfSearch_SERPS!C2576,\"\")","v":""},{"$f":"IF(ISTEXT(ShareOfSearch_SERPS!D2576),ShareOfSearch_SERPS!D2576,\"\")","v":""},{"$f":"IF(NOT(ISBLANK(ShareOfSearch_SERPS!A2576)),ShareOfSearch_SERPS!A2576,\"\")","v":""},{"$f":"IF(NOT(ISBLANK(ShareOfSearch_SERPS!G2576)),ShareOfSearch_SERPS!G2576,\"\")","v":""},{"$f":"IF(NOT(ISBLANK(ShareOfSearch_SERPS!K2576)),ShareOfSearch_SERPS!K2576,\"\")","v":""},{"$f":"IFERROR(VLOOKUP(C2576,ShareOfSearch_CTR!$A$1:$B$100,2,FALSE)*VLOOKUP(A2576&B2576,ShareOfSearch_Volume!$C$1:$D$1000,2,FALSE),\"\")","v":""}]
[{"$f":"IF(ISTEXT(ShareOfSearch_SERPS!C2577),ShareOfSearch_SERPS!C2577,\"\")","v":""},{"$f":"IF(ISTEXT(ShareOfSearch_SERPS!D2577),ShareOfSearch_SERPS!D2577,\"\")","v":""},{"$f":"IF(NOT(ISBLANK(ShareOfSearch_SERPS!A2577)),ShareOfSearch_SERPS!A2577,\"\")","v":""},{"$f":"IF(NOT(ISBLANK(ShareOfSearch_SERPS!G2577)),ShareOfSearch_SERPS!G2577,\"\")","v":""},{"$f":"IF(NOT(ISBLANK(ShareOfSearch_SERPS!K2577)),ShareOfSearch_SERPS!K2577,\"\")","v":""},{"$f":"IFERROR(VLOOKUP(C2577,ShareOfSearch_CTR!$A$1:$B$100,2,FALSE)*VLOOKUP(A2577&B2577,ShareOfSearch_Volume!$C$1:$D$1000,2,FALSE),\"\")","v":""}]
[{"$f":"IF(ISTEXT(ShareOfSearch_SERPS!C2578),ShareOfSearch_SERPS!C2578,\"\")","v":""},{"$f":"IF(ISTEXT(ShareOfSearch_SERPS!D2578),ShareOfSearch_SERPS!D2578,\"\")","v":""},{"$f":"IF(NOT(ISBLANK(ShareOfSearch_SERPS!A2578)),ShareOfSearch_SERPS!A2578,\"\")","v":""},{"$f":"IF(NOT(ISBLANK(ShareOfSearch_SERPS!G2578)),ShareOfSearch_SERPS!G2578,\"\")","v":""},{"$f":"IF(NOT(ISBLANK(ShareOfSearch_SERPS!K2578)),ShareOfSearch_SERPS!K2578,\"\")","v":""},{"$f":"IFERROR(VLOOKUP(C2578,ShareOfSearch_CTR!$A$1:$B$100,2,FALSE)*VLOOKUP(A2578&B2578,ShareOfSearch_Volume!$C$1:$D$1000,2,FALSE),\"\")","v":""}]
[{"$f":"IF(ISTEXT(ShareOfSearch_SERPS!C2579),ShareOfSearch_SERPS!C2579,\"\")","v":""},{"$f":"IF(ISTEXT(ShareOfSearch_SERPS!D2579),ShareOfSearch_SERPS!D2579,\"\")","v":""},{"$f":"IF(NOT(ISBLANK(ShareOfSearch_SERPS!A2579)),ShareOfSearch_SERPS!A2579,\"\")","v":""},{"$f":"IF(NOT(ISBLANK(ShareOfSearch_SERPS!G2579)),ShareOfSearch_SERPS!G2579,\"\")","v":""},{"$f":"IF(NOT(ISBLANK(ShareOfSearch_SERPS!K2579)),ShareOfSearch_SERPS!K2579,\"\")","v":""},{"$f":"IFERROR(VLOOKUP(C2579,ShareOfSearch_CTR!$A$1:$B$100,2,FALSE)*VLOOKUP(A2579&B2579,ShareOfSearch_Volume!$C$1:$D$1000,2,FALSE),\"\")","v":""}]
[{"$f":"IF(ISTEXT(ShareOfSearch_SERPS!C2580),ShareOfSearch_SERPS!C2580,\"\")","v":""},{"$f":"IF(ISTEXT(ShareOfSearch_SERPS!D2580),ShareOfSearch_SERPS!D2580,\"\")","v":""},{"$f":"IF(NOT(ISBLANK(ShareOfSearch_SERPS!A2580)),ShareOfSearch_SERPS!A2580,\"\")","v":""},{"$f":"IF(NOT(ISBLANK(ShareOfSearch_SERPS!G2580)),ShareOfSearch_SERPS!G2580,\"\")","v":""},{"$f":"IF(NOT(ISBLANK(ShareOfSearch_SERPS!K2580)),ShareOfSearch_SERPS!K2580,\"\")","v":""},{"$f":"IFERROR(VLOOKUP(C2580,ShareOfSearch_CTR!$A$1:$B$100,2,FALSE)*VLOOKUP(A2580&B2580,ShareOfSearch_Volume!$C$1:$D$1000,2,FALSE),\"\")","v":""}]
[{"$f":"IF(ISTEXT(ShareOfSearch_SERPS!C2581),ShareOfSearch_SERPS!C2581,\"\")","v":""},{"$f":"IF(ISTEXT(ShareOfSearch_SERPS!D2581),ShareOfSearch_SERPS!D2581,\"\")","v":""},{"$f":"IF(NOT(ISBLANK(ShareOfSearch_SERPS!A2581)),ShareOfSearch_SERPS!A2581,\"\")","v":""},{"$f":"IF(NOT(ISBLANK(ShareOfSearch_SERPS!G2581)),ShareOfSearch_SERPS!G2581,\"\")","v":""},{"$f":"IF(NOT(ISBLANK(ShareOfSearch_SERPS!K2581)),ShareOfSearch_SERPS!K2581,\"\")","v":""},{"$f":"IFERROR(VLOOKUP(C2581,ShareOfSearch_CTR!$A$1:$B$100,2,FALSE)*VLOOKUP(A2581&B2581,ShareOfSearch_Volume!$C$1:$D$1000,2,FALSE),\"\")","v":""}]
[{"$f":"IF(ISTEXT(ShareOfSearch_SERPS!C2582),ShareOfSearch_SERPS!C2582,\"\")","v":""},{"$f":"IF(ISTEXT(ShareOfSearch_SERPS!D2582),ShareOfSearch_SERPS!D2582,\"\")","v":""},{"$f":"IF(NOT(ISBLANK(ShareOfSearch_SERPS!A2582)),ShareOfSearch_SERPS!A2582,\"\")","v":""},{"$f":"IF(NOT(ISBLANK(ShareOfSearch_SERPS!G2582)),ShareOfSearch_SERPS!G2582,\"\")","v":""},{"$f":"IF(NOT(ISBLANK(ShareOfSearch_SERPS!K2582)),ShareOfSearch_SERPS!K2582,\"\")","v":""},{"$f":"IFERROR(VLOOKUP(C2582,ShareOfSearch_CTR!$A$1:$B$100,2,FALSE)*VLOOKUP(A2582&B2582,ShareOfSearch_Volume!$C$1:$D$1000,2,FALSE),\"\")","v":""}]
[{"$f":"IF(ISTEXT(ShareOfSearch_SERPS!C2583),ShareOfSearch_SERPS!C2583,\"\")","v":""},{"$f":"IF(ISTEXT(ShareOfSearch_SERPS!D2583),ShareOfSearch_SERPS!D2583,\"\")","v":""},{"$f":"IF(NOT(ISBLANK(ShareOfSearch_SERPS!A2583)),ShareOfSearch_SERPS!A2583,\"\")","v":""},{"$f":"IF(NOT(ISBLANK(ShareOfSearch_SERPS!G2583)),ShareOfSearch_SERPS!G2583,\"\")","v":""},{"$f":"IF(NOT(ISBLANK(ShareOfSearch_SERPS!K2583)),ShareOfSearch_SERPS!K2583,\"\")","v":""},{"$f":"IFERROR(VLOOKUP(C2583,ShareOfSearch_CTR!$A$1:$B$100,2,FALSE)*VLOOKUP(A2583&B2583,ShareOfSearch_Volume!$C$1:$D$1000,2,FALSE),\"\")","v":""}]
[{"$f":"IF(ISTEXT(ShareOfSearch_SERPS!C2584),ShareOfSearch_SERPS!C2584,\"\")","v":""},{"$f":"IF(ISTEXT(ShareOfSearch_SERPS!D2584),ShareOfSearch_SERPS!D2584,\"\")","v":""},{"$f":"IF(NOT(ISBLANK(ShareOfSearch_SERPS!A2584)),ShareOfSearch_SERPS!A2584,\"\")","v":""},{"$f":"IF(NOT(ISBLANK(ShareOfSearch_SERPS!G2584)),ShareOfSearch_SERPS!G2584,\"\")","v":""},{"$f":"IF(NOT(ISBLANK(ShareOfSearch_SERPS!K2584)),ShareOfSearch_SERPS!K2584,\"\")","v":""},{"$f":"IFERROR(VLOOKUP(C2584,ShareOfSearch_CTR!$A$1:$B$100,2,FALSE)*VLOOKUP(A2584&B2584,ShareOfSearch_Volume!$C$1:$D$1000,2,FALSE),\"\")","v":""}]
[{"$f":"IF(ISTEXT(ShareOfSearch_SERPS!C2585),ShareOfSearch_SERPS!C2585,\"\")","v":""},{"$f":"IF(ISTEXT(ShareOfSearch_SERPS!D2585),ShareOfSearch_SERPS!D2585,\"\")","v":""},{"$f":"IF(NOT(ISBLANK(ShareOfSearch_SERPS!A2585)),ShareOfSearch_SERPS!A2585,\"\")","v":""},{"$f":"IF(NOT(ISBLANK(ShareOfSearch_SERPS!G2585)),ShareOfSearch_SERPS!G2585,\"\")","v":""},{"$f":"IF(NOT(ISBLANK(ShareOfSearch_SERPS!K2585)),ShareOfSearch_SERPS!K2585,\"\")","v":""},{"$f":"IFERROR(VLOOKUP(C2585,ShareOfSearch_CTR!$A$1:$B$100,2,FALSE)*VLOOKUP(A2585&B2585,ShareOfSearch_Volume!$C$1:$D$1000,2,FALSE),\"\")","v":""}]
[{"$f":"IF(ISTEXT(ShareOfSearch_SERPS!C2586),ShareOfSearch_SERPS!C2586,\"\")","v":""},{"$f":"IF(ISTEXT(ShareOfSearch_SERPS!D2586),ShareOfSearch_SERPS!D2586,\"\")","v":""},{"$f":"IF(NOT(ISBLANK(ShareOfSearch_SERPS!A2586)),ShareOfSearch_SERPS!A2586,\"\")","v":""},{"$f":"IF(NOT(ISBLANK(ShareOfSearch_SERPS!G2586)),ShareOfSearch_SERPS!G2586,\"\")","v":""},{"$f":"IF(NOT(ISBLANK(ShareOfSearch_SERPS!K2586)),ShareOfSearch_SERPS!K2586,\"\")","v":""},{"$f":"IFERROR(VLOOKUP(C2586,ShareOfSearch_CTR!$A$1:$B$100,2,FALSE)*VLOOKUP(A2586&B2586,ShareOfSearch_Volume!$C$1:$D$1000,2,FALSE),\"\")","v":""}]
[{"$f":"IF(ISTEXT(ShareOfSearch_SERPS!C2587),ShareOfSearch_SERPS!C2587,\"\")","v":""},{"$f":"IF(ISTEXT(ShareOfSearch_SERPS!D2587),ShareOfSearch_SERPS!D2587,\"\")","v":""},{"$f":"IF(NOT(ISBLANK(ShareOfSearch_SERPS!A2587)),ShareOfSearch_SERPS!A2587,\"\")","v":""},{"$f":"IF(NOT(ISBLANK(ShareOfSearch_SERPS!G2587)),ShareOfSearch_SERPS!G2587,\"\")","v":""},{"$f":"IF(NOT(ISBLANK(ShareOfSearch_SERPS!K2587)),ShareOfSearch_SERPS!K2587,\"\")","v":""},{"$f":"IFERROR(VLOOKUP(C2587,ShareOfSearch_CTR!$A$1:$B$100,2,FALSE)*VLOOKUP(A2587&B2587,ShareOfSearch_Volume!$C$1:$D$1000,2,FALSE),\"\")","v":""}]
[{"$f":"IF(ISTEXT(ShareOfSearch_SERPS!C2588),ShareOfSearch_SERPS!C2588,\"\")","v":""},{"$f":"IF(ISTEXT(ShareOfSearch_SERPS!D2588),ShareOfSearch_SERPS!D2588,\"\")","v":""},{"$f":"IF(NOT(ISBLANK(ShareOfSearch_SERPS!A2588)),ShareOfSearch_SERPS!A2588,\"\")","v":""},{"$f":"IF(NOT(ISBLANK(ShareOfSearch_SERPS!G2588)),ShareOfSearch_SERPS!G2588,\"\")","v":""},{"$f":"IF(NOT(ISBLANK(ShareOfSearch_SERPS!K2588)),ShareOfSearch_SERPS!K2588,\"\")","v":""},{"$f":"IFERROR(VLOOKUP(C2588,ShareOfSearch_CTR!$A$1:$B$100,2,FALSE)*VLOOKUP(A2588&B2588,ShareOfSearch_Volume!$C$1:$D$1000,2,FALSE),\"\")","v":""}]
[{"$f":"IF(ISTEXT(ShareOfSearch_SERPS!C2589),ShareOfSearch_SERPS!C2589,\"\")","v":""},{"$f":"IF(ISTEXT(ShareOfSearch_SERPS!D2589),ShareOfSearch_SERPS!D2589,\"\")","v":""},{"$f":"IF(NOT(ISBLANK(ShareOfSearch_SERPS!A2589)),ShareOfSearch_SERPS!A2589,\"\")","v":""},{"$f":"IF(NOT(ISBLANK(ShareOfSearch_SERPS!G2589)),ShareOfSearch_SERPS!G2589,\"\")","v":""},{"$f":"IF(NOT(ISBLANK(ShareOfSearch_SERPS!K2589)),ShareOfSearch_SERPS!K2589,\"\")","v":""},{"$f":"IFERROR(VLOOKUP(C2589,ShareOfSearch_CTR!$A$1:$B$100,2,FALSE)*VLOOKUP(A2589&B2589,ShareOfSearch_Volume!$C$1:$D$1000,2,FALSE),\"\")","v":""}]
[{"$f":"IF(ISTEXT(ShareOfSearch_SERPS!C2590),ShareOfSearch_SERPS!C2590,\"\")","v":""},{"$f":"IF(ISTEXT(ShareOfSearch_SERPS!D2590),ShareOfSearch_SERPS!D2590,\"\")","v":""},{"$f":"IF(NOT(ISBLANK(ShareOfSearch_SERPS!A2590)),ShareOfSearch_SERPS!A2590,\"\")","v":""},{"$f":"IF(NOT(ISBLANK(ShareOfSearch_SERPS!G2590)),ShareOfSearch_SERPS!G2590,\"\")","v":""},{"$f":"IF(NOT(ISBLANK(ShareOfSearch_SERPS!K2590)),ShareOfSearch_SERPS!K2590,\"\")","v":""},{"$f":"IFERROR(VLOOKUP(C2590,ShareOfSearch_CTR!$A$1:$B$100,2,FALSE)*VLOOKUP(A2590&B2590,ShareOfSearch_Volume!$C$1:$D$1000,2,FALSE),\"\")","v":""}]
[{"$f":"IF(ISTEXT(ShareOfSearch_SERPS!C2591),ShareOfSearch_SERPS!C2591,\"\")","v":""},{"$f":"IF(ISTEXT(ShareOfSearch_SERPS!D2591),ShareOfSearch_SERPS!D2591,\"\")","v":""},{"$f":"IF(NOT(ISBLANK(ShareOfSearch_SERPS!A2591)),ShareOfSearch_SERPS!A2591,\"\")","v":""},{"$f":"IF(NOT(ISBLANK(ShareOfSearch_SERPS!G2591)),ShareOfSearch_SERPS!G2591,\"\")","v":""},{"$f":"IF(NOT(ISBLANK(ShareOfSearch_SERPS!K2591)),ShareOfSearch_SERPS!K2591,\"\")","v":""},{"$f":"IFERROR(VLOOKUP(C2591,ShareOfSearch_CTR!$A$1:$B$100,2,FALSE)*VLOOKUP(A2591&B2591,ShareOfSearch_Volume!$C$1:$D$1000,2,FALSE),\"\")","v":""}]
[{"$f":"IF(ISTEXT(ShareOfSearch_SERPS!C2592),ShareOfSearch_SERPS!C2592,\"\")","v":""},{"$f":"IF(ISTEXT(ShareOfSearch_SERPS!D2592),ShareOfSearch_SERPS!D2592,\"\")","v":""},{"$f":"IF(NOT(ISBLANK(ShareOfSearch_SERPS!A2592)),ShareOfSearch_SERPS!A2592,\"\")","v":""},{"$f":"IF(NOT(ISBLANK(ShareOfSearch_SERPS!G2592)),ShareOfSearch_SERPS!G2592,\"\")","v":""},{"$f":"IF(NOT(ISBLANK(ShareOfSearch_SERPS!K2592)),ShareOfSearch_SERPS!K2592,\"\")","v":""},{"$f":"IFERROR(VLOOKUP(C2592,ShareOfSearch_CTR!$A$1:$B$100,2,FALSE)*VLOOKUP(A2592&B2592,ShareOfSearch_Volume!$C$1:$D$1000,2,FALSE),\"\")","v":""}]
[{"$f":"IF(ISTEXT(ShareOfSearch_SERPS!C2593),ShareOfSearch_SERPS!C2593,\"\")","v":""},{"$f":"IF(ISTEXT(ShareOfSearch_SERPS!D2593),ShareOfSearch_SERPS!D2593,\"\")","v":""},{"$f":"IF(NOT(ISBLANK(ShareOfSearch_SERPS!A2593)),ShareOfSearch_SERPS!A2593,\"\")","v":""},{"$f":"IF(NOT(ISBLANK(ShareOfSearch_SERPS!G2593)),ShareOfSearch_SERPS!G2593,\"\")","v":""},{"$f":"IF(NOT(ISBLANK(ShareOfSearch_SERPS!K2593)),ShareOfSearch_SERPS!K2593,\"\")","v":""},{"$f":"IFERROR(VLOOKUP(C2593,ShareOfSearch_CTR!$A$1:$B$100,2,FALSE)*VLOOKUP(A2593&B2593,ShareOfSearch_Volume!$C$1:$D$1000,2,FALSE),\"\")","v":""}]
[{"$f":"IF(ISTEXT(ShareOfSearch_SERPS!C2594),ShareOfSearch_SERPS!C2594,\"\")","v":""},{"$f":"IF(ISTEXT(ShareOfSearch_SERPS!D2594),ShareOfSearch_SERPS!D2594,\"\")","v":""},{"$f":"IF(NOT(ISBLANK(ShareOfSearch_SERPS!A2594)),ShareOfSearch_SERPS!A2594,\"\")","v":""},{"$f":"IF(NOT(ISBLANK(ShareOfSearch_SERPS!G2594)),ShareOfSearch_SERPS!G2594,\"\")","v":""},{"$f":"IF(NOT(ISBLANK(ShareOfSearch_SERPS!K2594)),ShareOfSearch_SERPS!K2594,\"\")","v":""},{"$f":"IFERROR(VLOOKUP(C2594,ShareOfSearch_CTR!$A$1:$B$100,2,FALSE)*VLOOKUP(A2594&B2594,ShareOfSearch_Volume!$C$1:$D$1000,2,FALSE),\"\")","v":""}]
[{"$f":"IF(ISTEXT(ShareOfSearch_SERPS!C2595),ShareOfSearch_SERPS!C2595,\"\")","v":""},{"$f":"IF(ISTEXT(ShareOfSearch_SERPS!D2595),ShareOfSearch_SERPS!D2595,\"\")","v":""},{"$f":"IF(NOT(ISBLANK(ShareOfSearch_SERPS!A2595)),ShareOfSearch_SERPS!A2595,\"\")","v":""},{"$f":"IF(NOT(ISBLANK(ShareOfSearch_SERPS!G2595)),ShareOfSearch_SERPS!G2595,\"\")","v":""},{"$f":"IF(NOT(ISBLANK(ShareOfSearch_SERPS!K2595)),ShareOfSearch_SERPS!K2595,\"\")","v":""},{"$f":"IFERROR(VLOOKUP(C2595,ShareOfSearch_CTR!$A$1:$B$100,2,FALSE)*VLOOKUP(A2595&B2595,ShareOfSearch_Volume!$C$1:$D$1000,2,FALSE),\"\")","v":""}]
[{"$f":"IF(ISTEXT(ShareOfSearch_SERPS!C2596),ShareOfSearch_SERPS!C2596,\"\")","v":""},{"$f":"IF(ISTEXT(ShareOfSearch_SERPS!D2596),ShareOfSearch_SERPS!D2596,\"\")","v":""},{"$f":"IF(NOT(ISBLANK(ShareOfSearch_SERPS!A2596)),ShareOfSearch_SERPS!A2596,\"\")","v":""},{"$f":"IF(NOT(ISBLANK(ShareOfSearch_SERPS!G2596)),ShareOfSearch_SERPS!G2596,\"\")","v":""},{"$f":"IF(NOT(ISBLANK(ShareOfSearch_SERPS!K2596)),ShareOfSearch_SERPS!K2596,\"\")","v":""},{"$f":"IFERROR(VLOOKUP(C2596,ShareOfSearch_CTR!$A$1:$B$100,2,FALSE)*VLOOKUP(A2596&B2596,ShareOfSearch_Volume!$C$1:$D$1000,2,FALSE),\"\")","v":""}]
[{"$f":"IF(ISTEXT(ShareOfSearch_SERPS!C2597),ShareOfSearch_SERPS!C2597,\"\")","v":""},{"$f":"IF(ISTEXT(ShareOfSearch_SERPS!D2597),ShareOfSearch_SERPS!D2597,\"\")","v":""},{"$f":"IF(NOT(ISBLANK(ShareOfSearch_SERPS!A2597)),ShareOfSearch_SERPS!A2597,\"\")","v":""},{"$f":"IF(NOT(ISBLANK(ShareOfSearch_SERPS!G2597)),ShareOfSearch_SERPS!G2597,\"\")","v":""},{"$f":"IF(NOT(ISBLANK(ShareOfSearch_SERPS!K2597)),ShareOfSearch_SERPS!K2597,\"\")","v":""},{"$f":"IFERROR(VLOOKUP(C2597,ShareOfSearch_CTR!$A$1:$B$100,2,FALSE)*VLOOKUP(A2597&B2597,ShareOfSearch_Volume!$C$1:$D$1000,2,FALSE),\"\")","v":""}]
[{"$f":"IF(ISTEXT(ShareOfSearch_SERPS!C2598),ShareOfSearch_SERPS!C2598,\"\")","v":""},{"$f":"IF(ISTEXT(ShareOfSearch_SERPS!D2598),ShareOfSearch_SERPS!D2598,\"\")","v":""},{"$f":"IF(NOT(ISBLANK(ShareOfSearch_SERPS!A2598)),ShareOfSearch_SERPS!A2598,\"\")","v":""},{"$f":"IF(NOT(ISBLANK(ShareOfSearch_SERPS!G2598)),ShareOfSearch_SERPS!G2598,\"\")","v":""},{"$f":"IF(NOT(ISBLANK(ShareOfSearch_SERPS!K2598)),ShareOfSearch_SERPS!K2598,\"\")","v":""},{"$f":"IFERROR(VLOOKUP(C2598,ShareOfSearch_CTR!$A$1:$B$100,2,FALSE)*VLOOKUP(A2598&B2598,ShareOfSearch_Volume!$C$1:$D$1000,2,FALSE),\"\")","v":""}]
[{"$f":"IF(ISTEXT(ShareOfSearch_SERPS!C2599),ShareOfSearch_SERPS!C2599,\"\")","v":""},{"$f":"IF(ISTEXT(ShareOfSearch_SERPS!D2599),ShareOfSearch_SERPS!D2599,\"\")","v":""},{"$f":"IF(NOT(ISBLANK(ShareOfSearch_SERPS!A2599)),ShareOfSearch_SERPS!A2599,\"\")","v":""},{"$f":"IF(NOT(ISBLANK(ShareOfSearch_SERPS!G2599)),ShareOfSearch_SERPS!G2599,\"\")","v":""},{"$f":"IF(NOT(ISBLANK(ShareOfSearch_SERPS!K2599)),ShareOfSearch_SERPS!K2599,\"\")","v":""},{"$f":"IFERROR(VLOOKUP(C2599,ShareOfSearch_CTR!$A$1:$B$100,2,FALSE)*VLOOKUP(A2599&B2599,ShareOfSearch_Volume!$C$1:$D$1000,2,FALSE),\"\")","v":""}]
[{"$f":"IF(ISTEXT(ShareOfSearch_SERPS!C2600),ShareOfSearch_SERPS!C2600,\"\")","v":""},{"$f":"IF(ISTEXT(ShareOfSearch_SERPS!D2600),ShareOfSearch_SERPS!D2600,\"\")","v":""},{"$f":"IF(NOT(ISBLANK(ShareOfSearch_SERPS!A2600)),ShareOfSearch_SERPS!A2600,\"\")","v":""},{"$f":"IF(NOT(ISBLANK(ShareOfSearch_SERPS!G2600)),ShareOfSearch_SERPS!G2600,\"\")","v":""},{"$f":"IF(NOT(ISBLANK(ShareOfSearch_SERPS!K2600)),ShareOfSearch_SERPS!K2600,\"\")","v":""},{"$f":"IFERROR(VLOOKUP(C2600,ShareOfSearch_CTR!$A$1:$B$100,2,FALSE)*VLOOKUP(A2600&B2600,ShareOfSearch_Volume!$C$1:$D$1000,2,FALSE),\"\")","v":""}]
[{"$f":"IF(ISTEXT(ShareOfSearch_SERPS!C2601),ShareOfSearch_SERPS!C2601,\"\")","v":""},{"$f":"IF(ISTEXT(ShareOfSearch_SERPS!D2601),ShareOfSearch_SERPS!D2601,\"\")","v":""},{"$f":"IF(NOT(ISBLANK(ShareOfSearch_SERPS!A2601)),ShareOfSearch_SERPS!A2601,\"\")","v":""},{"$f":"IF(NOT(ISBLANK(ShareOfSearch_SERPS!G2601)),ShareOfSearch_SERPS!G2601,\"\")","v":""},{"$f":"IF(NOT(ISBLANK(ShareOfSearch_SERPS!K2601)),ShareOfSearch_SERPS!K2601,\"\")","v":""},{"$f":"IFERROR(VLOOKUP(C2601,ShareOfSearch_CTR!$A$1:$B$100,2,FALSE)*VLOOKUP(A2601&B2601,ShareOfSearch_Volume!$C$1:$D$1000,2,FALSE),\"\")","v":""}]
[{"$f":"IF(ISTEXT(ShareOfSearch_SERPS!C2602),ShareOfSearch_SERPS!C2602,\"\")","v":""},{"$f":"IF(ISTEXT(ShareOfSearch_SERPS!D2602),ShareOfSearch_SERPS!D2602,\"\")","v":""},{"$f":"IF(NOT(ISBLANK(ShareOfSearch_SERPS!A2602)),ShareOfSearch_SERPS!A2602,\"\")","v":""},{"$f":"IF(NOT(ISBLANK(ShareOfSearch_SERPS!G2602)),ShareOfSearch_SERPS!G2602,\"\")","v":""},{"$f":"IF(NOT(ISBLANK(ShareOfSearch_SERPS!K2602)),ShareOfSearch_SERPS!K2602,\"\")","v":""},{"$f":"IFERROR(VLOOKUP(C2602,ShareOfSearch_CTR!$A$1:$B$100,2,FALSE)*VLOOKUP(A2602&B2602,ShareOfSearch_Volume!$C$1:$D$1000,2,FALSE),\"\")","v":""}]
[{"$f":"IF(ISTEXT(ShareOfSearch_SERPS!C2603),ShareOfSearch_SERPS!C2603,\"\")","v":""},{"$f":"IF(ISTEXT(ShareOfSearch_SERPS!D2603),ShareOfSearch_SERPS!D2603,\"\")","v":""},{"$f":"IF(NOT(ISBLANK(ShareOfSearch_SERPS!A2603)),ShareOfSearch_SERPS!A2603,\"\")","v":""},{"$f":"IF(NOT(ISBLANK(ShareOfSearch_SERPS!G2603)),ShareOfSearch_SERPS!G2603,\"\")","v":""},{"$f":"IF(NOT(ISBLANK(ShareOfSearch_SERPS!K2603)),ShareOfSearch_SERPS!K2603,\"\")","v":""},{"$f":"IFERROR(VLOOKUP(C2603,ShareOfSearch_CTR!$A$1:$B$100,2,FALSE)*VLOOKUP(A2603&B2603,ShareOfSearch_Volume!$C$1:$D$1000,2,FALSE),\"\")","v":""}]
[{"$f":"IF(ISTEXT(ShareOfSearch_SERPS!C2604),ShareOfSearch_SERPS!C2604,\"\")","v":""},{"$f":"IF(ISTEXT(ShareOfSearch_SERPS!D2604),ShareOfSearch_SERPS!D2604,\"\")","v":""},{"$f":"IF(NOT(ISBLANK(ShareOfSearch_SERPS!A2604)),ShareOfSearch_SERPS!A2604,\"\")","v":""},{"$f":"IF(NOT(ISBLANK(ShareOfSearch_SERPS!G2604)),ShareOfSearch_SERPS!G2604,\"\")","v":""},{"$f":"IF(NOT(ISBLANK(ShareOfSearch_SERPS!K2604)),ShareOfSearch_SERPS!K2604,\"\")","v":""},{"$f":"IFERROR(VLOOKUP(C2604,ShareOfSearch_CTR!$A$1:$B$100,2,FALSE)*VLOOKUP(A2604&B2604,ShareOfSearch_Volume!$C$1:$D$1000,2,FALSE),\"\")","v":""}]
[{"$f":"IF(ISTEXT(ShareOfSearch_SERPS!C2605),ShareOfSearch_SERPS!C2605,\"\")","v":""},{"$f":"IF(ISTEXT(ShareOfSearch_SERPS!D2605),ShareOfSearch_SERPS!D2605,\"\")","v":""},{"$f":"IF(NOT(ISBLANK(ShareOfSearch_SERPS!A2605)),ShareOfSearch_SERPS!A2605,\"\")","v":""},{"$f":"IF(NOT(ISBLANK(ShareOfSearch_SERPS!G2605)),ShareOfSearch_SERPS!G2605,\"\")","v":""},{"$f":"IF(NOT(ISBLANK(ShareOfSearch_SERPS!K2605)),ShareOfSearch_SERPS!K2605,\"\")","v":""},{"$f":"IFERROR(VLOOKUP(C2605,ShareOfSearch_CTR!$A$1:$B$100,2,FALSE)*VLOOKUP(A2605&B2605,ShareOfSearch_Volume!$C$1:$D$1000,2,FALSE),\"\")","v":""}]
[{"$f":"IF(ISTEXT(ShareOfSearch_SERPS!C2606),ShareOfSearch_SERPS!C2606,\"\")","v":""},{"$f":"IF(ISTEXT(ShareOfSearch_SERPS!D2606),ShareOfSearch_SERPS!D2606,\"\")","v":""},{"$f":"IF(NOT(ISBLANK(ShareOfSearch_SERPS!A2606)),ShareOfSearch_SERPS!A2606,\"\")","v":""},{"$f":"IF(NOT(ISBLANK(ShareOfSearch_SERPS!G2606)),ShareOfSearch_SERPS!G2606,\"\")","v":""},{"$f":"IF(NOT(ISBLANK(ShareOfSearch_SERPS!K2606)),ShareOfSearch_SERPS!K2606,\"\")","v":""},{"$f":"IFERROR(VLOOKUP(C2606,ShareOfSearch_CTR!$A$1:$B$100,2,FALSE)*VLOOKUP(A2606&B2606,ShareOfSearch_Volume!$C$1:$D$1000,2,FALSE),\"\")","v":""}]
[{"$f":"IF(ISTEXT(ShareOfSearch_SERPS!C2607),ShareOfSearch_SERPS!C2607,\"\")","v":""},{"$f":"IF(ISTEXT(ShareOfSearch_SERPS!D2607),ShareOfSearch_SERPS!D2607,\"\")","v":""},{"$f":"IF(NOT(ISBLANK(ShareOfSearch_SERPS!A2607)),ShareOfSearch_SERPS!A2607,\"\")","v":""},{"$f":"IF(NOT(ISBLANK(ShareOfSearch_SERPS!G2607)),ShareOfSearch_SERPS!G2607,\"\")","v":""},{"$f":"IF(NOT(ISBLANK(ShareOfSearch_SERPS!K2607)),ShareOfSearch_SERPS!K2607,\"\")","v":""},{"$f":"IFERROR(VLOOKUP(C2607,ShareOfSearch_CTR!$A$1:$B$100,2,FALSE)*VLOOKUP(A2607&B2607,ShareOfSearch_Volume!$C$1:$D$1000,2,FALSE),\"\")","v":""}]
[{"$f":"IF(ISTEXT(ShareOfSearch_SERPS!C2608),ShareOfSearch_SERPS!C2608,\"\")","v":""},{"$f":"IF(ISTEXT(ShareOfSearch_SERPS!D2608),ShareOfSearch_SERPS!D2608,\"\")","v":""},{"$f":"IF(NOT(ISBLANK(ShareOfSearch_SERPS!A2608)),ShareOfSearch_SERPS!A2608,\"\")","v":""},{"$f":"IF(NOT(ISBLANK(ShareOfSearch_SERPS!G2608)),ShareOfSearch_SERPS!G2608,\"\")","v":""},{"$f":"IF(NOT(ISBLANK(ShareOfSearch_SERPS!K2608)),ShareOfSearch_SERPS!K2608,\"\")","v":""},{"$f":"IFERROR(VLOOKUP(C2608,ShareOfSearch_CTR!$A$1:$B$100,2,FALSE)*VLOOKUP(A2608&B2608,ShareOfSearch_Volume!$C$1:$D$1000,2,FALSE),\"\")","v":""}]
[{"$f":"IF(ISTEXT(ShareOfSearch_SERPS!C2609),ShareOfSearch_SERPS!C2609,\"\")","v":""},{"$f":"IF(ISTEXT(ShareOfSearch_SERPS!D2609),ShareOfSearch_SERPS!D2609,\"\")","v":""},{"$f":"IF(NOT(ISBLANK(ShareOfSearch_SERPS!A2609)),ShareOfSearch_SERPS!A2609,\"\")","v":""},{"$f":"IF(NOT(ISBLANK(ShareOfSearch_SERPS!G2609)),ShareOfSearch_SERPS!G2609,\"\")","v":""},{"$f":"IF(NOT(ISBLANK(ShareOfSearch_SERPS!K2609)),ShareOfSearch_SERPS!K2609,\"\")","v":""},{"$f":"IFERROR(VLOOKUP(C2609,ShareOfSearch_CTR!$A$1:$B$100,2,FALSE)*VLOOKUP(A2609&B2609,ShareOfSearch_Volume!$C$1:$D$1000,2,FALSE),\"\")","v":""}]
[{"$f":"IF(ISTEXT(ShareOfSearch_SERPS!C2610),ShareOfSearch_SERPS!C2610,\"\")","v":""},{"$f":"IF(ISTEXT(ShareOfSearch_SERPS!D2610),ShareOfSearch_SERPS!D2610,\"\")","v":""},{"$f":"IF(NOT(ISBLANK(ShareOfSearch_SERPS!A2610)),ShareOfSearch_SERPS!A2610,\"\")","v":""},{"$f":"IF(NOT(ISBLANK(ShareOfSearch_SERPS!G2610)),ShareOfSearch_SERPS!G2610,\"\")","v":""},{"$f":"IF(NOT(ISBLANK(ShareOfSearch_SERPS!K2610)),ShareOfSearch_SERPS!K2610,\"\")","v":""},{"$f":"IFERROR(VLOOKUP(C2610,ShareOfSearch_CTR!$A$1:$B$100,2,FALSE)*VLOOKUP(A2610&B2610,ShareOfSearch_Volume!$C$1:$D$1000,2,FALSE),\"\")","v":""}]
[{"$f":"IF(ISTEXT(ShareOfSearch_SERPS!C2611),ShareOfSearch_SERPS!C2611,\"\")","v":""},{"$f":"IF(ISTEXT(ShareOfSearch_SERPS!D2611),ShareOfSearch_SERPS!D2611,\"\")","v":""},{"$f":"IF(NOT(ISBLANK(ShareOfSearch_SERPS!A2611)),ShareOfSearch_SERPS!A2611,\"\")","v":""},{"$f":"IF(NOT(ISBLANK(ShareOfSearch_SERPS!G2611)),ShareOfSearch_SERPS!G2611,\"\")","v":""},{"$f":"IF(NOT(ISBLANK(ShareOfSearch_SERPS!K2611)),ShareOfSearch_SERPS!K2611,\"\")","v":""},{"$f":"IFERROR(VLOOKUP(C2611,ShareOfSearch_CTR!$A$1:$B$100,2,FALSE)*VLOOKUP(A2611&B2611,ShareOfSearch_Volume!$C$1:$D$1000,2,FALSE),\"\")","v":""}]
[{"$f":"IF(ISTEXT(ShareOfSearch_SERPS!C2612),ShareOfSearch_SERPS!C2612,\"\")","v":""},{"$f":"IF(ISTEXT(ShareOfSearch_SERPS!D2612),ShareOfSearch_SERPS!D2612,\"\")","v":""},{"$f":"IF(NOT(ISBLANK(ShareOfSearch_SERPS!A2612)),ShareOfSearch_SERPS!A2612,\"\")","v":""},{"$f":"IF(NOT(ISBLANK(ShareOfSearch_SERPS!G2612)),ShareOfSearch_SERPS!G2612,\"\")","v":""},{"$f":"IF(NOT(ISBLANK(ShareOfSearch_SERPS!K2612)),ShareOfSearch_SERPS!K2612,\"\")","v":""},{"$f":"IFERROR(VLOOKUP(C2612,ShareOfSearch_CTR!$A$1:$B$100,2,FALSE)*VLOOKUP(A2612&B2612,ShareOfSearch_Volume!$C$1:$D$1000,2,FALSE),\"\")","v":""}]
[{"$f":"IF(ISTEXT(ShareOfSearch_SERPS!C2613),ShareOfSearch_SERPS!C2613,\"\")","v":""},{"$f":"IF(ISTEXT(ShareOfSearch_SERPS!D2613),ShareOfSearch_SERPS!D2613,\"\")","v":""},{"$f":"IF(NOT(ISBLANK(ShareOfSearch_SERPS!A2613)),ShareOfSearch_SERPS!A2613,\"\")","v":""},{"$f":"IF(NOT(ISBLANK(ShareOfSearch_SERPS!G2613)),ShareOfSearch_SERPS!G2613,\"\")","v":""},{"$f":"IF(NOT(ISBLANK(ShareOfSearch_SERPS!K2613)),ShareOfSearch_SERPS!K2613,\"\")","v":""},{"$f":"IFERROR(VLOOKUP(C2613,ShareOfSearch_CTR!$A$1:$B$100,2,FALSE)*VLOOKUP(A2613&B2613,ShareOfSearch_Volume!$C$1:$D$1000,2,FALSE),\"\")","v":""}]
[{"$f":"IF(ISTEXT(ShareOfSearch_SERPS!C2614),ShareOfSearch_SERPS!C2614,\"\")","v":""},{"$f":"IF(ISTEXT(ShareOfSearch_SERPS!D2614),ShareOfSearch_SERPS!D2614,\"\")","v":""},{"$f":"IF(NOT(ISBLANK(ShareOfSearch_SERPS!A2614)),ShareOfSearch_SERPS!A2614,\"\")","v":""},{"$f":"IF(NOT(ISBLANK(ShareOfSearch_SERPS!G2614)),ShareOfSearch_SERPS!G2614,\"\")","v":""},{"$f":"IF(NOT(ISBLANK(ShareOfSearch_SERPS!K2614)),ShareOfSearch_SERPS!K2614,\"\")","v":""},{"$f":"IFERROR(VLOOKUP(C2614,ShareOfSearch_CTR!$A$1:$B$100,2,FALSE)*VLOOKUP(A2614&B2614,ShareOfSearch_Volume!$C$1:$D$1000,2,FALSE),\"\")","v":""}]
[{"$f":"IF(ISTEXT(ShareOfSearch_SERPS!C2615),ShareOfSearch_SERPS!C2615,\"\")","v":""},{"$f":"IF(ISTEXT(ShareOfSearch_SERPS!D2615),ShareOfSearch_SERPS!D2615,\"\")","v":""},{"$f":"IF(NOT(ISBLANK(ShareOfSearch_SERPS!A2615)),ShareOfSearch_SERPS!A2615,\"\")","v":""},{"$f":"IF(NOT(ISBLANK(ShareOfSearch_SERPS!G2615)),ShareOfSearch_SERPS!G2615,\"\")","v":""},{"$f":"IF(NOT(ISBLANK(ShareOfSearch_SERPS!K2615)),ShareOfSearch_SERPS!K2615,\"\")","v":""},{"$f":"IFERROR(VLOOKUP(C2615,ShareOfSearch_CTR!$A$1:$B$100,2,FALSE)*VLOOKUP(A2615&B2615,ShareOfSearch_Volume!$C$1:$D$1000,2,FALSE),\"\")","v":""}]
[{"$f":"IF(ISTEXT(ShareOfSearch_SERPS!C2616),ShareOfSearch_SERPS!C2616,\"\")","v":""},{"$f":"IF(ISTEXT(ShareOfSearch_SERPS!D2616),ShareOfSearch_SERPS!D2616,\"\")","v":""},{"$f":"IF(NOT(ISBLANK(ShareOfSearch_SERPS!A2616)),ShareOfSearch_SERPS!A2616,\"\")","v":""},{"$f":"IF(NOT(ISBLANK(ShareOfSearch_SERPS!G2616)),ShareOfSearch_SERPS!G2616,\"\")","v":""},{"$f":"IF(NOT(ISBLANK(ShareOfSearch_SERPS!K2616)),ShareOfSearch_SERPS!K2616,\"\")","v":""},{"$f":"IFERROR(VLOOKUP(C2616,ShareOfSearch_CTR!$A$1:$B$100,2,FALSE)*VLOOKUP(A2616&B2616,ShareOfSearch_Volume!$C$1:$D$1000,2,FALSE),\"\")","v":""}]
[{"$f":"IF(ISTEXT(ShareOfSearch_SERPS!C2617),ShareOfSearch_SERPS!C2617,\"\")","v":""},{"$f":"IF(ISTEXT(ShareOfSearch_SERPS!D2617),ShareOfSearch_SERPS!D2617,\"\")","v":""},{"$f":"IF(NOT(ISBLANK(ShareOfSearch_SERPS!A2617)),ShareOfSearch_SERPS!A2617,\"\")","v":""},{"$f":"IF(NOT(ISBLANK(ShareOfSearch_SERPS!G2617)),ShareOfSearch_SERPS!G2617,\"\")","v":""},{"$f":"IF(NOT(ISBLANK(ShareOfSearch_SERPS!K2617)),ShareOfSearch_SERPS!K2617,\"\")","v":""},{"$f":"IFERROR(VLOOKUP(C2617,ShareOfSearch_CTR!$A$1:$B$100,2,FALSE)*VLOOKUP(A2617&B2617,ShareOfSearch_Volume!$C$1:$D$1000,2,FALSE),\"\")","v":""}]
[{"$f":"IF(ISTEXT(ShareOfSearch_SERPS!C2618),ShareOfSearch_SERPS!C2618,\"\")","v":""},{"$f":"IF(ISTEXT(ShareOfSearch_SERPS!D2618),ShareOfSearch_SERPS!D2618,\"\")","v":""},{"$f":"IF(NOT(ISBLANK(ShareOfSearch_SERPS!A2618)),ShareOfSearch_SERPS!A2618,\"\")","v":""},{"$f":"IF(NOT(ISBLANK(ShareOfSearch_SERPS!G2618)),ShareOfSearch_SERPS!G2618,\"\")","v":""},{"$f":"IF(NOT(ISBLANK(ShareOfSearch_SERPS!K2618)),ShareOfSearch_SERPS!K2618,\"\")","v":""},{"$f":"IFERROR(VLOOKUP(C2618,ShareOfSearch_CTR!$A$1:$B$100,2,FALSE)*VLOOKUP(A2618&B2618,ShareOfSearch_Volume!$C$1:$D$1000,2,FALSE),\"\")","v":""}]
[{"$f":"IF(ISTEXT(ShareOfSearch_SERPS!C2619),ShareOfSearch_SERPS!C2619,\"\")","v":""},{"$f":"IF(ISTEXT(ShareOfSearch_SERPS!D2619),ShareOfSearch_SERPS!D2619,\"\")","v":""},{"$f":"IF(NOT(ISBLANK(ShareOfSearch_SERPS!A2619)),ShareOfSearch_SERPS!A2619,\"\")","v":""},{"$f":"IF(NOT(ISBLANK(ShareOfSearch_SERPS!G2619)),ShareOfSearch_SERPS!G2619,\"\")","v":""},{"$f":"IF(NOT(ISBLANK(ShareOfSearch_SERPS!K2619)),ShareOfSearch_SERPS!K2619,\"\")","v":""},{"$f":"IFERROR(VLOOKUP(C2619,ShareOfSearch_CTR!$A$1:$B$100,2,FALSE)*VLOOKUP(A2619&B2619,ShareOfSearch_Volume!$C$1:$D$1000,2,FALSE),\"\")","v":""}]
[{"$f":"IF(ISTEXT(ShareOfSearch_SERPS!C2620),ShareOfSearch_SERPS!C2620,\"\")","v":""},{"$f":"IF(ISTEXT(ShareOfSearch_SERPS!D2620),ShareOfSearch_SERPS!D2620,\"\")","v":""},{"$f":"IF(NOT(ISBLANK(ShareOfSearch_SERPS!A2620)),ShareOfSearch_SERPS!A2620,\"\")","v":""},{"$f":"IF(NOT(ISBLANK(ShareOfSearch_SERPS!G2620)),ShareOfSearch_SERPS!G2620,\"\")","v":""},{"$f":"IF(NOT(ISBLANK(ShareOfSearch_SERPS!K2620)),ShareOfSearch_SERPS!K2620,\"\")","v":""},{"$f":"IFERROR(VLOOKUP(C2620,ShareOfSearch_CTR!$A$1:$B$100,2,FALSE)*VLOOKUP(A2620&B2620,ShareOfSearch_Volume!$C$1:$D$1000,2,FALSE),\"\")","v":""}]
[{"$f":"IF(ISTEXT(ShareOfSearch_SERPS!C2621),ShareOfSearch_SERPS!C2621,\"\")","v":""},{"$f":"IF(ISTEXT(ShareOfSearch_SERPS!D2621),ShareOfSearch_SERPS!D2621,\"\")","v":""},{"$f":"IF(NOT(ISBLANK(ShareOfSearch_SERPS!A2621)),ShareOfSearch_SERPS!A2621,\"\")","v":""},{"$f":"IF(NOT(ISBLANK(ShareOfSearch_SERPS!G2621)),ShareOfSearch_SERPS!G2621,\"\")","v":""},{"$f":"IF(NOT(ISBLANK(ShareOfSearch_SERPS!K2621)),ShareOfSearch_SERPS!K2621,\"\")","v":""},{"$f":"IFERROR(VLOOKUP(C2621,ShareOfSearch_CTR!$A$1:$B$100,2,FALSE)*VLOOKUP(A2621&B2621,ShareOfSearch_Volume!$C$1:$D$1000,2,FALSE),\"\")","v":""}]
[{"$f":"IF(ISTEXT(ShareOfSearch_SERPS!C2622),ShareOfSearch_SERPS!C2622,\"\")","v":""},{"$f":"IF(ISTEXT(ShareOfSearch_SERPS!D2622),ShareOfSearch_SERPS!D2622,\"\")","v":""},{"$f":"IF(NOT(ISBLANK(ShareOfSearch_SERPS!A2622)),ShareOfSearch_SERPS!A2622,\"\")","v":""},{"$f":"IF(NOT(ISBLANK(ShareOfSearch_SERPS!G2622)),ShareOfSearch_SERPS!G2622,\"\")","v":""},{"$f":"IF(NOT(ISBLANK(ShareOfSearch_SERPS!K2622)),ShareOfSearch_SERPS!K2622,\"\")","v":""},{"$f":"IFERROR(VLOOKUP(C2622,ShareOfSearch_CTR!$A$1:$B$100,2,FALSE)*VLOOKUP(A2622&B2622,ShareOfSearch_Volume!$C$1:$D$1000,2,FALSE),\"\")","v":""}]
[{"$f":"IF(ISTEXT(ShareOfSearch_SERPS!C2623),ShareOfSearch_SERPS!C2623,\"\")","v":""},{"$f":"IF(ISTEXT(ShareOfSearch_SERPS!D2623),ShareOfSearch_SERPS!D2623,\"\")","v":""},{"$f":"IF(NOT(ISBLANK(ShareOfSearch_SERPS!A2623)),ShareOfSearch_SERPS!A2623,\"\")","v":""},{"$f":"IF(NOT(ISBLANK(ShareOfSearch_SERPS!G2623)),ShareOfSearch_SERPS!G2623,\"\")","v":""},{"$f":"IF(NOT(ISBLANK(ShareOfSearch_SERPS!K2623)),ShareOfSearch_SERPS!K2623,\"\")","v":""},{"$f":"IFERROR(VLOOKUP(C2623,ShareOfSearch_CTR!$A$1:$B$100,2,FALSE)*VLOOKUP(A2623&B2623,ShareOfSearch_Volume!$C$1:$D$1000,2,FALSE),\"\")","v":""}]
[{"$f":"IF(ISTEXT(ShareOfSearch_SERPS!C2624),ShareOfSearch_SERPS!C2624,\"\")","v":""},{"$f":"IF(ISTEXT(ShareOfSearch_SERPS!D2624),ShareOfSearch_SERPS!D2624,\"\")","v":""},{"$f":"IF(NOT(ISBLANK(ShareOfSearch_SERPS!A2624)),ShareOfSearch_SERPS!A2624,\"\")","v":""},{"$f":"IF(NOT(ISBLANK(ShareOfSearch_SERPS!G2624)),ShareOfSearch_SERPS!G2624,\"\")","v":""},{"$f":"IF(NOT(ISBLANK(ShareOfSearch_SERPS!K2624)),ShareOfSearch_SERPS!K2624,\"\")","v":""},{"$f":"IFERROR(VLOOKUP(C2624,ShareOfSearch_CTR!$A$1:$B$100,2,FALSE)*VLOOKUP(A2624&B2624,ShareOfSearch_Volume!$C$1:$D$1000,2,FALSE),\"\")","v":""}]
[{"$f":"IF(ISTEXT(ShareOfSearch_SERPS!C2625),ShareOfSearch_SERPS!C2625,\"\")","v":""},{"$f":"IF(ISTEXT(ShareOfSearch_SERPS!D2625),ShareOfSearch_SERPS!D2625,\"\")","v":""},{"$f":"IF(NOT(ISBLANK(ShareOfSearch_SERPS!A2625)),ShareOfSearch_SERPS!A2625,\"\")","v":""},{"$f":"IF(NOT(ISBLANK(ShareOfSearch_SERPS!G2625)),ShareOfSearch_SERPS!G2625,\"\")","v":""},{"$f":"IF(NOT(ISBLANK(ShareOfSearch_SERPS!K2625)),ShareOfSearch_SERPS!K2625,\"\")","v":""},{"$f":"IFERROR(VLOOKUP(C2625,ShareOfSearch_CTR!$A$1:$B$100,2,FALSE)*VLOOKUP(A2625&B2625,ShareOfSearch_Volume!$C$1:$D$1000,2,FALSE),\"\")","v":""}]
[{"$f":"IF(ISTEXT(ShareOfSearch_SERPS!C2626),ShareOfSearch_SERPS!C2626,\"\")","v":""},{"$f":"IF(ISTEXT(ShareOfSearch_SERPS!D2626),ShareOfSearch_SERPS!D2626,\"\")","v":""},{"$f":"IF(NOT(ISBLANK(ShareOfSearch_SERPS!A2626)),ShareOfSearch_SERPS!A2626,\"\")","v":""},{"$f":"IF(NOT(ISBLANK(ShareOfSearch_SERPS!G2626)),ShareOfSearch_SERPS!G2626,\"\")","v":""},{"$f":"IF(NOT(ISBLANK(ShareOfSearch_SERPS!K2626)),ShareOfSearch_SERPS!K2626,\"\")","v":""},{"$f":"IFERROR(VLOOKUP(C2626,ShareOfSearch_CTR!$A$1:$B$100,2,FALSE)*VLOOKUP(A2626&B2626,ShareOfSearch_Volume!$C$1:$D$1000,2,FALSE),\"\")","v":""}]
[{"$f":"IF(ISTEXT(ShareOfSearch_SERPS!C2627),ShareOfSearch_SERPS!C2627,\"\")","v":""},{"$f":"IF(ISTEXT(ShareOfSearch_SERPS!D2627),ShareOfSearch_SERPS!D2627,\"\")","v":""},{"$f":"IF(NOT(ISBLANK(ShareOfSearch_SERPS!A2627)),ShareOfSearch_SERPS!A2627,\"\")","v":""},{"$f":"IF(NOT(ISBLANK(ShareOfSearch_SERPS!G2627)),ShareOfSearch_SERPS!G2627,\"\")","v":""},{"$f":"IF(NOT(ISBLANK(ShareOfSearch_SERPS!K2627)),ShareOfSearch_SERPS!K2627,\"\")","v":""},{"$f":"IFERROR(VLOOKUP(C2627,ShareOfSearch_CTR!$A$1:$B$100,2,FALSE)*VLOOKUP(A2627&B2627,ShareOfSearch_Volume!$C$1:$D$1000,2,FALSE),\"\")","v":""}]
[{"$f":"IF(ISTEXT(ShareOfSearch_SERPS!C2628),ShareOfSearch_SERPS!C2628,\"\")","v":""},{"$f":"IF(ISTEXT(ShareOfSearch_SERPS!D2628),ShareOfSearch_SERPS!D2628,\"\")","v":""},{"$f":"IF(NOT(ISBLANK(ShareOfSearch_SERPS!A2628)),ShareOfSearch_SERPS!A2628,\"\")","v":""},{"$f":"IF(NOT(ISBLANK(ShareOfSearch_SERPS!G2628)),ShareOfSearch_SERPS!G2628,\"\")","v":""},{"$f":"IF(NOT(ISBLANK(ShareOfSearch_SERPS!K2628)),ShareOfSearch_SERPS!K2628,\"\")","v":""},{"$f":"IFERROR(VLOOKUP(C2628,ShareOfSearch_CTR!$A$1:$B$100,2,FALSE)*VLOOKUP(A2628&B2628,ShareOfSearch_Volume!$C$1:$D$1000,2,FALSE),\"\")","v":""}]
[{"$f":"IF(ISTEXT(ShareOfSearch_SERPS!C2629),ShareOfSearch_SERPS!C2629,\"\")","v":""},{"$f":"IF(ISTEXT(ShareOfSearch_SERPS!D2629),ShareOfSearch_SERPS!D2629,\"\")","v":""},{"$f":"IF(NOT(ISBLANK(ShareOfSearch_SERPS!A2629)),ShareOfSearch_SERPS!A2629,\"\")","v":""},{"$f":"IF(NOT(ISBLANK(ShareOfSearch_SERPS!G2629)),ShareOfSearch_SERPS!G2629,\"\")","v":""},{"$f":"IF(NOT(ISBLANK(ShareOfSearch_SERPS!K2629)),ShareOfSearch_SERPS!K2629,\"\")","v":""},{"$f":"IFERROR(VLOOKUP(C2629,ShareOfSearch_CTR!$A$1:$B$100,2,FALSE)*VLOOKUP(A2629&B2629,ShareOfSearch_Volume!$C$1:$D$1000,2,FALSE),\"\")","v":""}]
[{"$f":"IF(ISTEXT(ShareOfSearch_SERPS!C2630),ShareOfSearch_SERPS!C2630,\"\")","v":""},{"$f":"IF(ISTEXT(ShareOfSearch_SERPS!D2630),ShareOfSearch_SERPS!D2630,\"\")","v":""},{"$f":"IF(NOT(ISBLANK(ShareOfSearch_SERPS!A2630)),ShareOfSearch_SERPS!A2630,\"\")","v":""},{"$f":"IF(NOT(ISBLANK(ShareOfSearch_SERPS!G2630)),ShareOfSearch_SERPS!G2630,\"\")","v":""},{"$f":"IF(NOT(ISBLANK(ShareOfSearch_SERPS!K2630)),ShareOfSearch_SERPS!K2630,\"\")","v":""},{"$f":"IFERROR(VLOOKUP(C2630,ShareOfSearch_CTR!$A$1:$B$100,2,FALSE)*VLOOKUP(A2630&B2630,ShareOfSearch_Volume!$C$1:$D$1000,2,FALSE),\"\")","v":""}]
[{"$f":"IF(ISTEXT(ShareOfSearch_SERPS!C2631),ShareOfSearch_SERPS!C2631,\"\")","v":""},{"$f":"IF(ISTEXT(ShareOfSearch_SERPS!D2631),ShareOfSearch_SERPS!D2631,\"\")","v":""},{"$f":"IF(NOT(ISBLANK(ShareOfSearch_SERPS!A2631)),ShareOfSearch_SERPS!A2631,\"\")","v":""},{"$f":"IF(NOT(ISBLANK(ShareOfSearch_SERPS!G2631)),ShareOfSearch_SERPS!G2631,\"\")","v":""},{"$f":"IF(NOT(ISBLANK(ShareOfSearch_SERPS!K2631)),ShareOfSearch_SERPS!K2631,\"\")","v":""},{"$f":"IFERROR(VLOOKUP(C2631,ShareOfSearch_CTR!$A$1:$B$100,2,FALSE)*VLOOKUP(A2631&B2631,ShareOfSearch_Volume!$C$1:$D$1000,2,FALSE),\"\")","v":""}]
[{"$f":"IF(ISTEXT(ShareOfSearch_SERPS!C2632),ShareOfSearch_SERPS!C2632,\"\")","v":""},{"$f":"IF(ISTEXT(ShareOfSearch_SERPS!D2632),ShareOfSearch_SERPS!D2632,\"\")","v":""},{"$f":"IF(NOT(ISBLANK(ShareOfSearch_SERPS!A2632)),ShareOfSearch_SERPS!A2632,\"\")","v":""},{"$f":"IF(NOT(ISBLANK(ShareOfSearch_SERPS!G2632)),ShareOfSearch_SERPS!G2632,\"\")","v":""},{"$f":"IF(NOT(ISBLANK(ShareOfSearch_SERPS!K2632)),ShareOfSearch_SERPS!K2632,\"\")","v":""},{"$f":"IFERROR(VLOOKUP(C2632,ShareOfSearch_CTR!$A$1:$B$100,2,FALSE)*VLOOKUP(A2632&B2632,ShareOfSearch_Volume!$C$1:$D$1000,2,FALSE),\"\")","v":""}]
[{"$f":"IF(ISTEXT(ShareOfSearch_SERPS!C2633),ShareOfSearch_SERPS!C2633,\"\")","v":""},{"$f":"IF(ISTEXT(ShareOfSearch_SERPS!D2633),ShareOfSearch_SERPS!D2633,\"\")","v":""},{"$f":"IF(NOT(ISBLANK(ShareOfSearch_SERPS!A2633)),ShareOfSearch_SERPS!A2633,\"\")","v":""},{"$f":"IF(NOT(ISBLANK(ShareOfSearch_SERPS!G2633)),ShareOfSearch_SERPS!G2633,\"\")","v":""},{"$f":"IF(NOT(ISBLANK(ShareOfSearch_SERPS!K2633)),ShareOfSearch_SERPS!K2633,\"\")","v":""},{"$f":"IFERROR(VLOOKUP(C2633,ShareOfSearch_CTR!$A$1:$B$100,2,FALSE)*VLOOKUP(A2633&B2633,ShareOfSearch_Volume!$C$1:$D$1000,2,FALSE),\"\")","v":""}]
[{"$f":"IF(ISTEXT(ShareOfSearch_SERPS!C2634),ShareOfSearch_SERPS!C2634,\"\")","v":""},{"$f":"IF(ISTEXT(ShareOfSearch_SERPS!D2634),ShareOfSearch_SERPS!D2634,\"\")","v":""},{"$f":"IF(NOT(ISBLANK(ShareOfSearch_SERPS!A2634)),ShareOfSearch_SERPS!A2634,\"\")","v":""},{"$f":"IF(NOT(ISBLANK(ShareOfSearch_SERPS!G2634)),ShareOfSearch_SERPS!G2634,\"\")","v":""},{"$f":"IF(NOT(ISBLANK(ShareOfSearch_SERPS!K2634)),ShareOfSearch_SERPS!K2634,\"\")","v":""},{"$f":"IFERROR(VLOOKUP(C2634,ShareOfSearch_CTR!$A$1:$B$100,2,FALSE)*VLOOKUP(A2634&B2634,ShareOfSearch_Volume!$C$1:$D$1000,2,FALSE),\"\")","v":""}]
[{"$f":"IF(ISTEXT(ShareOfSearch_SERPS!C2635),ShareOfSearch_SERPS!C2635,\"\")","v":""},{"$f":"IF(ISTEXT(ShareOfSearch_SERPS!D2635),ShareOfSearch_SERPS!D2635,\"\")","v":""},{"$f":"IF(NOT(ISBLANK(ShareOfSearch_SERPS!A2635)),ShareOfSearch_SERPS!A2635,\"\")","v":""},{"$f":"IF(NOT(ISBLANK(ShareOfSearch_SERPS!G2635)),ShareOfSearch_SERPS!G2635,\"\")","v":""},{"$f":"IF(NOT(ISBLANK(ShareOfSearch_SERPS!K2635)),ShareOfSearch_SERPS!K2635,\"\")","v":""},{"$f":"IFERROR(VLOOKUP(C2635,ShareOfSearch_CTR!$A$1:$B$100,2,FALSE)*VLOOKUP(A2635&B2635,ShareOfSearch_Volume!$C$1:$D$1000,2,FALSE),\"\")","v":""}]
[{"$f":"IF(ISTEXT(ShareOfSearch_SERPS!C2636),ShareOfSearch_SERPS!C2636,\"\")","v":""},{"$f":"IF(ISTEXT(ShareOfSearch_SERPS!D2636),ShareOfSearch_SERPS!D2636,\"\")","v":""},{"$f":"IF(NOT(ISBLANK(ShareOfSearch_SERPS!A2636)),ShareOfSearch_SERPS!A2636,\"\")","v":""},{"$f":"IF(NOT(ISBLANK(ShareOfSearch_SERPS!G2636)),ShareOfSearch_SERPS!G2636,\"\")","v":""},{"$f":"IF(NOT(ISBLANK(ShareOfSearch_SERPS!K2636)),ShareOfSearch_SERPS!K2636,\"\")","v":""},{"$f":"IFERROR(VLOOKUP(C2636,ShareOfSearch_CTR!$A$1:$B$100,2,FALSE)*VLOOKUP(A2636&B2636,ShareOfSearch_Volume!$C$1:$D$1000,2,FALSE),\"\")","v":""}]
[{"$f":"IF(ISTEXT(ShareOfSearch_SERPS!C2637),ShareOfSearch_SERPS!C2637,\"\")","v":""},{"$f":"IF(ISTEXT(ShareOfSearch_SERPS!D2637),ShareOfSearch_SERPS!D2637,\"\")","v":""},{"$f":"IF(NOT(ISBLANK(ShareOfSearch_SERPS!A2637)),ShareOfSearch_SERPS!A2637,\"\")","v":""},{"$f":"IF(NOT(ISBLANK(ShareOfSearch_SERPS!G2637)),ShareOfSearch_SERPS!G2637,\"\")","v":""},{"$f":"IF(NOT(ISBLANK(ShareOfSearch_SERPS!K2637)),ShareOfSearch_SERPS!K2637,\"\")","v":""},{"$f":"IFERROR(VLOOKUP(C2637,ShareOfSearch_CTR!$A$1:$B$100,2,FALSE)*VLOOKUP(A2637&B2637,ShareOfSearch_Volume!$C$1:$D$1000,2,FALSE),\"\")","v":""}]
[{"$f":"IF(ISTEXT(ShareOfSearch_SERPS!C2638),ShareOfSearch_SERPS!C2638,\"\")","v":""},{"$f":"IF(ISTEXT(ShareOfSearch_SERPS!D2638),ShareOfSearch_SERPS!D2638,\"\")","v":""},{"$f":"IF(NOT(ISBLANK(ShareOfSearch_SERPS!A2638)),ShareOfSearch_SERPS!A2638,\"\")","v":""},{"$f":"IF(NOT(ISBLANK(ShareOfSearch_SERPS!G2638)),ShareOfSearch_SERPS!G2638,\"\")","v":""},{"$f":"IF(NOT(ISBLANK(ShareOfSearch_SERPS!K2638)),ShareOfSearch_SERPS!K2638,\"\")","v":""},{"$f":"IFERROR(VLOOKUP(C2638,ShareOfSearch_CTR!$A$1:$B$100,2,FALSE)*VLOOKUP(A2638&B2638,ShareOfSearch_Volume!$C$1:$D$1000,2,FALSE),\"\")","v":""}]
[{"$f":"IF(ISTEXT(ShareOfSearch_SERPS!C2639),ShareOfSearch_SERPS!C2639,\"\")","v":""},{"$f":"IF(ISTEXT(ShareOfSearch_SERPS!D2639),ShareOfSearch_SERPS!D2639,\"\")","v":""},{"$f":"IF(NOT(ISBLANK(ShareOfSearch_SERPS!A2639)),ShareOfSearch_SERPS!A2639,\"\")","v":""},{"$f":"IF(NOT(ISBLANK(ShareOfSearch_SERPS!G2639)),ShareOfSearch_SERPS!G2639,\"\")","v":""},{"$f":"IF(NOT(ISBLANK(ShareOfSearch_SERPS!K2639)),ShareOfSearch_SERPS!K2639,\"\")","v":""},{"$f":"IFERROR(VLOOKUP(C2639,ShareOfSearch_CTR!$A$1:$B$100,2,FALSE)*VLOOKUP(A2639&B2639,ShareOfSearch_Volume!$C$1:$D$1000,2,FALSE),\"\")","v":""}]
[{"$f":"IF(ISTEXT(ShareOfSearch_SERPS!C2640),ShareOfSearch_SERPS!C2640,\"\")","v":""},{"$f":"IF(ISTEXT(ShareOfSearch_SERPS!D2640),ShareOfSearch_SERPS!D2640,\"\")","v":""},{"$f":"IF(NOT(ISBLANK(ShareOfSearch_SERPS!A2640)),ShareOfSearch_SERPS!A2640,\"\")","v":""},{"$f":"IF(NOT(ISBLANK(ShareOfSearch_SERPS!G2640)),ShareOfSearch_SERPS!G2640,\"\")","v":""},{"$f":"IF(NOT(ISBLANK(ShareOfSearch_SERPS!K2640)),ShareOfSearch_SERPS!K2640,\"\")","v":""},{"$f":"IFERROR(VLOOKUP(C2640,ShareOfSearch_CTR!$A$1:$B$100,2,FALSE)*VLOOKUP(A2640&B2640,ShareOfSearch_Volume!$C$1:$D$1000,2,FALSE),\"\")","v":""}]
[{"$f":"IF(ISTEXT(ShareOfSearch_SERPS!C2641),ShareOfSearch_SERPS!C2641,\"\")","v":""},{"$f":"IF(ISTEXT(ShareOfSearch_SERPS!D2641),ShareOfSearch_SERPS!D2641,\"\")","v":""},{"$f":"IF(NOT(ISBLANK(ShareOfSearch_SERPS!A2641)),ShareOfSearch_SERPS!A2641,\"\")","v":""},{"$f":"IF(NOT(ISBLANK(ShareOfSearch_SERPS!G2641)),ShareOfSearch_SERPS!G2641,\"\")","v":""},{"$f":"IF(NOT(ISBLANK(ShareOfSearch_SERPS!K2641)),ShareOfSearch_SERPS!K2641,\"\")","v":""},{"$f":"IFERROR(VLOOKUP(C2641,ShareOfSearch_CTR!$A$1:$B$100,2,FALSE)*VLOOKUP(A2641&B2641,ShareOfSearch_Volume!$C$1:$D$1000,2,FALSE),\"\")","v":""}]
[{"$f":"IF(ISTEXT(ShareOfSearch_SERPS!C2642),ShareOfSearch_SERPS!C2642,\"\")","v":""},{"$f":"IF(ISTEXT(ShareOfSearch_SERPS!D2642),ShareOfSearch_SERPS!D2642,\"\")","v":""},{"$f":"IF(NOT(ISBLANK(ShareOfSearch_SERPS!A2642)),ShareOfSearch_SERPS!A2642,\"\")","v":""},{"$f":"IF(NOT(ISBLANK(ShareOfSearch_SERPS!G2642)),ShareOfSearch_SERPS!G2642,\"\")","v":""},{"$f":"IF(NOT(ISBLANK(ShareOfSearch_SERPS!K2642)),ShareOfSearch_SERPS!K2642,\"\")","v":""},{"$f":"IFERROR(VLOOKUP(C2642,ShareOfSearch_CTR!$A$1:$B$100,2,FALSE)*VLOOKUP(A2642&B2642,ShareOfSearch_Volume!$C$1:$D$1000,2,FALSE),\"\")","v":""}]
[{"$f":"IF(ISTEXT(ShareOfSearch_SERPS!C2643),ShareOfSearch_SERPS!C2643,\"\")","v":""},{"$f":"IF(ISTEXT(ShareOfSearch_SERPS!D2643),ShareOfSearch_SERPS!D2643,\"\")","v":""},{"$f":"IF(NOT(ISBLANK(ShareOfSearch_SERPS!A2643)),ShareOfSearch_SERPS!A2643,\"\")","v":""},{"$f":"IF(NOT(ISBLANK(ShareOfSearch_SERPS!G2643)),ShareOfSearch_SERPS!G2643,\"\")","v":""},{"$f":"IF(NOT(ISBLANK(ShareOfSearch_SERPS!K2643)),ShareOfSearch_SERPS!K2643,\"\")","v":""},{"$f":"IFERROR(VLOOKUP(C2643,ShareOfSearch_CTR!$A$1:$B$100,2,FALSE)*VLOOKUP(A2643&B2643,ShareOfSearch_Volume!$C$1:$D$1000,2,FALSE),\"\")","v":""}]
[{"$f":"IF(ISTEXT(ShareOfSearch_SERPS!C2644),ShareOfSearch_SERPS!C2644,\"\")","v":""},{"$f":"IF(ISTEXT(ShareOfSearch_SERPS!D2644),ShareOfSearch_SERPS!D2644,\"\")","v":""},{"$f":"IF(NOT(ISBLANK(ShareOfSearch_SERPS!A2644)),ShareOfSearch_SERPS!A2644,\"\")","v":""},{"$f":"IF(NOT(ISBLANK(ShareOfSearch_SERPS!G2644)),ShareOfSearch_SERPS!G2644,\"\")","v":""},{"$f":"IF(NOT(ISBLANK(ShareOfSearch_SERPS!K2644)),ShareOfSearch_SERPS!K2644,\"\")","v":""},{"$f":"IFERROR(VLOOKUP(C2644,ShareOfSearch_CTR!$A$1:$B$100,2,FALSE)*VLOOKUP(A2644&B2644,ShareOfSearch_Volume!$C$1:$D$1000,2,FALSE),\"\")","v":""}]
[{"$f":"IF(ISTEXT(ShareOfSearch_SERPS!C2645),ShareOfSearch_SERPS!C2645,\"\")","v":""},{"$f":"IF(ISTEXT(ShareOfSearch_SERPS!D2645),ShareOfSearch_SERPS!D2645,\"\")","v":""},{"$f":"IF(NOT(ISBLANK(ShareOfSearch_SERPS!A2645)),ShareOfSearch_SERPS!A2645,\"\")","v":""},{"$f":"IF(NOT(ISBLANK(ShareOfSearch_SERPS!G2645)),ShareOfSearch_SERPS!G2645,\"\")","v":""},{"$f":"IF(NOT(ISBLANK(ShareOfSearch_SERPS!K2645)),ShareOfSearch_SERPS!K2645,\"\")","v":""},{"$f":"IFERROR(VLOOKUP(C2645,ShareOfSearch_CTR!$A$1:$B$100,2,FALSE)*VLOOKUP(A2645&B2645,ShareOfSearch_Volume!$C$1:$D$1000,2,FALSE),\"\")","v":""}]
[{"$f":"IF(ISTEXT(ShareOfSearch_SERPS!C2646),ShareOfSearch_SERPS!C2646,\"\")","v":""},{"$f":"IF(ISTEXT(ShareOfSearch_SERPS!D2646),ShareOfSearch_SERPS!D2646,\"\")","v":""},{"$f":"IF(NOT(ISBLANK(ShareOfSearch_SERPS!A2646)),ShareOfSearch_SERPS!A2646,\"\")","v":""},{"$f":"IF(NOT(ISBLANK(ShareOfSearch_SERPS!G2646)),ShareOfSearch_SERPS!G2646,\"\")","v":""},{"$f":"IF(NOT(ISBLANK(ShareOfSearch_SERPS!K2646)),ShareOfSearch_SERPS!K2646,\"\")","v":""},{"$f":"IFERROR(VLOOKUP(C2646,ShareOfSearch_CTR!$A$1:$B$100,2,FALSE)*VLOOKUP(A2646&B2646,ShareOfSearch_Volume!$C$1:$D$1000,2,FALSE),\"\")","v":""}]
[{"$f":"IF(ISTEXT(ShareOfSearch_SERPS!C2647),ShareOfSearch_SERPS!C2647,\"\")","v":""},{"$f":"IF(ISTEXT(ShareOfSearch_SERPS!D2647),ShareOfSearch_SERPS!D2647,\"\")","v":""},{"$f":"IF(NOT(ISBLANK(ShareOfSearch_SERPS!A2647)),ShareOfSearch_SERPS!A2647,\"\")","v":""},{"$f":"IF(NOT(ISBLANK(ShareOfSearch_SERPS!G2647)),ShareOfSearch_SERPS!G2647,\"\")","v":""},{"$f":"IF(NOT(ISBLANK(ShareOfSearch_SERPS!K2647)),ShareOfSearch_SERPS!K2647,\"\")","v":""},{"$f":"IFERROR(VLOOKUP(C2647,ShareOfSearch_CTR!$A$1:$B$100,2,FALSE)*VLOOKUP(A2647&B2647,ShareOfSearch_Volume!$C$1:$D$1000,2,FALSE),\"\")","v":""}]
[{"$f":"IF(ISTEXT(ShareOfSearch_SERPS!C2648),ShareOfSearch_SERPS!C2648,\"\")","v":""},{"$f":"IF(ISTEXT(ShareOfSearch_SERPS!D2648),ShareOfSearch_SERPS!D2648,\"\")","v":""},{"$f":"IF(NOT(ISBLANK(ShareOfSearch_SERPS!A2648)),ShareOfSearch_SERPS!A2648,\"\")","v":""},{"$f":"IF(NOT(ISBLANK(ShareOfSearch_SERPS!G2648)),ShareOfSearch_SERPS!G2648,\"\")","v":""},{"$f":"IF(NOT(ISBLANK(ShareOfSearch_SERPS!K2648)),ShareOfSearch_SERPS!K2648,\"\")","v":""},{"$f":"IFERROR(VLOOKUP(C2648,ShareOfSearch_CTR!$A$1:$B$100,2,FALSE)*VLOOKUP(A2648&B2648,ShareOfSearch_Volume!$C$1:$D$1000,2,FALSE),\"\")","v":""}]
[{"$f":"IF(ISTEXT(ShareOfSearch_SERPS!C2649),ShareOfSearch_SERPS!C2649,\"\")","v":""},{"$f":"IF(ISTEXT(ShareOfSearch_SERPS!D2649),ShareOfSearch_SERPS!D2649,\"\")","v":""},{"$f":"IF(NOT(ISBLANK(ShareOfSearch_SERPS!A2649)),ShareOfSearch_SERPS!A2649,\"\")","v":""},{"$f":"IF(NOT(ISBLANK(ShareOfSearch_SERPS!G2649)),ShareOfSearch_SERPS!G2649,\"\")","v":""},{"$f":"IF(NOT(ISBLANK(ShareOfSearch_SERPS!K2649)),ShareOfSearch_SERPS!K2649,\"\")","v":""},{"$f":"IFERROR(VLOOKUP(C2649,ShareOfSearch_CTR!$A$1:$B$100,2,FALSE)*VLOOKUP(A2649&B2649,ShareOfSearch_Volume!$C$1:$D$1000,2,FALSE),\"\")","v":""}]
[{"$f":"IF(ISTEXT(ShareOfSearch_SERPS!C2650),ShareOfSearch_SERPS!C2650,\"\")","v":""},{"$f":"IF(ISTEXT(ShareOfSearch_SERPS!D2650),ShareOfSearch_SERPS!D2650,\"\")","v":""},{"$f":"IF(NOT(ISBLANK(ShareOfSearch_SERPS!A2650)),ShareOfSearch_SERPS!A2650,\"\")","v":""},{"$f":"IF(NOT(ISBLANK(ShareOfSearch_SERPS!G2650)),ShareOfSearch_SERPS!G2650,\"\")","v":""},{"$f":"IF(NOT(ISBLANK(ShareOfSearch_SERPS!K2650)),ShareOfSearch_SERPS!K2650,\"\")","v":""},{"$f":"IFERROR(VLOOKUP(C2650,ShareOfSearch_CTR!$A$1:$B$100,2,FALSE)*VLOOKUP(A2650&B2650,ShareOfSearch_Volume!$C$1:$D$1000,2,FALSE),\"\")","v":""}]
[{"$f":"IF(ISTEXT(ShareOfSearch_SERPS!C2651),ShareOfSearch_SERPS!C2651,\"\")","v":""},{"$f":"IF(ISTEXT(ShareOfSearch_SERPS!D2651),ShareOfSearch_SERPS!D2651,\"\")","v":""},{"$f":"IF(NOT(ISBLANK(ShareOfSearch_SERPS!A2651)),ShareOfSearch_SERPS!A2651,\"\")","v":""},{"$f":"IF(NOT(ISBLANK(ShareOfSearch_SERPS!G2651)),ShareOfSearch_SERPS!G2651,\"\")","v":""},{"$f":"IF(NOT(ISBLANK(ShareOfSearch_SERPS!K2651)),ShareOfSearch_SERPS!K2651,\"\")","v":""},{"$f":"IFERROR(VLOOKUP(C2651,ShareOfSearch_CTR!$A$1:$B$100,2,FALSE)*VLOOKUP(A2651&B2651,ShareOfSearch_Volume!$C$1:$D$1000,2,FALSE),\"\")","v":""}]
[{"$f":"IF(ISTEXT(ShareOfSearch_SERPS!C2652),ShareOfSearch_SERPS!C2652,\"\")","v":""},{"$f":"IF(ISTEXT(ShareOfSearch_SERPS!D2652),ShareOfSearch_SERPS!D2652,\"\")","v":""},{"$f":"IF(NOT(ISBLANK(ShareOfSearch_SERPS!A2652)),ShareOfSearch_SERPS!A2652,\"\")","v":""},{"$f":"IF(NOT(ISBLANK(ShareOfSearch_SERPS!G2652)),ShareOfSearch_SERPS!G2652,\"\")","v":""},{"$f":"IF(NOT(ISBLANK(ShareOfSearch_SERPS!K2652)),ShareOfSearch_SERPS!K2652,\"\")","v":""},{"$f":"IFERROR(VLOOKUP(C2652,ShareOfSearch_CTR!$A$1:$B$100,2,FALSE)*VLOOKUP(A2652&B2652,ShareOfSearch_Volume!$C$1:$D$1000,2,FALSE),\"\")","v":""}]
[{"$f":"IF(ISTEXT(ShareOfSearch_SERPS!C2653),ShareOfSearch_SERPS!C2653,\"\")","v":""},{"$f":"IF(ISTEXT(ShareOfSearch_SERPS!D2653),ShareOfSearch_SERPS!D2653,\"\")","v":""},{"$f":"IF(NOT(ISBLANK(ShareOfSearch_SERPS!A2653)),ShareOfSearch_SERPS!A2653,\"\")","v":""},{"$f":"IF(NOT(ISBLANK(ShareOfSearch_SERPS!G2653)),ShareOfSearch_SERPS!G2653,\"\")","v":""},{"$f":"IF(NOT(ISBLANK(ShareOfSearch_SERPS!K2653)),ShareOfSearch_SERPS!K2653,\"\")","v":""},{"$f":"IFERROR(VLOOKUP(C2653,ShareOfSearch_CTR!$A$1:$B$100,2,FALSE)*VLOOKUP(A2653&B2653,ShareOfSearch_Volume!$C$1:$D$1000,2,FALSE),\"\")","v":""}]
[{"$f":"IF(ISTEXT(ShareOfSearch_SERPS!C2654),ShareOfSearch_SERPS!C2654,\"\")","v":""},{"$f":"IF(ISTEXT(ShareOfSearch_SERPS!D2654),ShareOfSearch_SERPS!D2654,\"\")","v":""},{"$f":"IF(NOT(ISBLANK(ShareOfSearch_SERPS!A2654)),ShareOfSearch_SERPS!A2654,\"\")","v":""},{"$f":"IF(NOT(ISBLANK(ShareOfSearch_SERPS!G2654)),ShareOfSearch_SERPS!G2654,\"\")","v":""},{"$f":"IF(NOT(ISBLANK(ShareOfSearch_SERPS!K2654)),ShareOfSearch_SERPS!K2654,\"\")","v":""},{"$f":"IFERROR(VLOOKUP(C2654,ShareOfSearch_CTR!$A$1:$B$100,2,FALSE)*VLOOKUP(A2654&B2654,ShareOfSearch_Volume!$C$1:$D$1000,2,FALSE),\"\")","v":""}]
[{"$f":"IF(ISTEXT(ShareOfSearch_SERPS!C2655),ShareOfSearch_SERPS!C2655,\"\")","v":""},{"$f":"IF(ISTEXT(ShareOfSearch_SERPS!D2655),ShareOfSearch_SERPS!D2655,\"\")","v":""},{"$f":"IF(NOT(ISBLANK(ShareOfSearch_SERPS!A2655)),ShareOfSearch_SERPS!A2655,\"\")","v":""},{"$f":"IF(NOT(ISBLANK(ShareOfSearch_SERPS!G2655)),ShareOfSearch_SERPS!G2655,\"\")","v":""},{"$f":"IF(NOT(ISBLANK(ShareOfSearch_SERPS!K2655)),ShareOfSearch_SERPS!K2655,\"\")","v":""},{"$f":"IFERROR(VLOOKUP(C2655,ShareOfSearch_CTR!$A$1:$B$100,2,FALSE)*VLOOKUP(A2655&B2655,ShareOfSearch_Volume!$C$1:$D$1000,2,FALSE),\"\")","v":""}]
[{"$f":"IF(ISTEXT(ShareOfSearch_SERPS!C2656),ShareOfSearch_SERPS!C2656,\"\")","v":""},{"$f":"IF(ISTEXT(ShareOfSearch_SERPS!D2656),ShareOfSearch_SERPS!D2656,\"\")","v":""},{"$f":"IF(NOT(ISBLANK(ShareOfSearch_SERPS!A2656)),ShareOfSearch_SERPS!A2656,\"\")","v":""},{"$f":"IF(NOT(ISBLANK(ShareOfSearch_SERPS!G2656)),ShareOfSearch_SERPS!G2656,\"\")","v":""},{"$f":"IF(NOT(ISBLANK(ShareOfSearch_SERPS!K2656)),ShareOfSearch_SERPS!K2656,\"\")","v":""},{"$f":"IFERROR(VLOOKUP(C2656,ShareOfSearch_CTR!$A$1:$B$100,2,FALSE)*VLOOKUP(A2656&B2656,ShareOfSearch_Volume!$C$1:$D$1000,2,FALSE),\"\")","v":""}]
[{"$f":"IF(ISTEXT(ShareOfSearch_SERPS!C2657),ShareOfSearch_SERPS!C2657,\"\")","v":""},{"$f":"IF(ISTEXT(ShareOfSearch_SERPS!D2657),ShareOfSearch_SERPS!D2657,\"\")","v":""},{"$f":"IF(NOT(ISBLANK(ShareOfSearch_SERPS!A2657)),ShareOfSearch_SERPS!A2657,\"\")","v":""},{"$f":"IF(NOT(ISBLANK(ShareOfSearch_SERPS!G2657)),ShareOfSearch_SERPS!G2657,\"\")","v":""},{"$f":"IF(NOT(ISBLANK(ShareOfSearch_SERPS!K2657)),ShareOfSearch_SERPS!K2657,\"\")","v":""},{"$f":"IFERROR(VLOOKUP(C2657,ShareOfSearch_CTR!$A$1:$B$100,2,FALSE)*VLOOKUP(A2657&B2657,ShareOfSearch_Volume!$C$1:$D$1000,2,FALSE),\"\")","v":""}]
[{"$f":"IF(ISTEXT(ShareOfSearch_SERPS!C2658),ShareOfSearch_SERPS!C2658,\"\")","v":""},{"$f":"IF(ISTEXT(ShareOfSearch_SERPS!D2658),ShareOfSearch_SERPS!D2658,\"\")","v":""},{"$f":"IF(NOT(ISBLANK(ShareOfSearch_SERPS!A2658)),ShareOfSearch_SERPS!A2658,\"\")","v":""},{"$f":"IF(NOT(ISBLANK(ShareOfSearch_SERPS!G2658)),ShareOfSearch_SERPS!G2658,\"\")","v":""},{"$f":"IF(NOT(ISBLANK(ShareOfSearch_SERPS!K2658)),ShareOfSearch_SERPS!K2658,\"\")","v":""},{"$f":"IFERROR(VLOOKUP(C2658,ShareOfSearch_CTR!$A$1:$B$100,2,FALSE)*VLOOKUP(A2658&B2658,ShareOfSearch_Volume!$C$1:$D$1000,2,FALSE),\"\")","v":""}]
[{"$f":"IF(ISTEXT(ShareOfSearch_SERPS!C2659),ShareOfSearch_SERPS!C2659,\"\")","v":""},{"$f":"IF(ISTEXT(ShareOfSearch_SERPS!D2659),ShareOfSearch_SERPS!D2659,\"\")","v":""},{"$f":"IF(NOT(ISBLANK(ShareOfSearch_SERPS!A2659)),ShareOfSearch_SERPS!A2659,\"\")","v":""},{"$f":"IF(NOT(ISBLANK(ShareOfSearch_SERPS!G2659)),ShareOfSearch_SERPS!G2659,\"\")","v":""},{"$f":"IF(NOT(ISBLANK(ShareOfSearch_SERPS!K2659)),ShareOfSearch_SERPS!K2659,\"\")","v":""},{"$f":"IFERROR(VLOOKUP(C2659,ShareOfSearch_CTR!$A$1:$B$100,2,FALSE)*VLOOKUP(A2659&B2659,ShareOfSearch_Volume!$C$1:$D$1000,2,FALSE),\"\")","v":""}]
[{"$f":"IF(ISTEXT(ShareOfSearch_SERPS!C2660),ShareOfSearch_SERPS!C2660,\"\")","v":""},{"$f":"IF(ISTEXT(ShareOfSearch_SERPS!D2660),ShareOfSearch_SERPS!D2660,\"\")","v":""},{"$f":"IF(NOT(ISBLANK(ShareOfSearch_SERPS!A2660)),ShareOfSearch_SERPS!A2660,\"\")","v":""},{"$f":"IF(NOT(ISBLANK(ShareOfSearch_SERPS!G2660)),ShareOfSearch_SERPS!G2660,\"\")","v":""},{"$f":"IF(NOT(ISBLANK(ShareOfSearch_SERPS!K2660)),ShareOfSearch_SERPS!K2660,\"\")","v":""},{"$f":"IFERROR(VLOOKUP(C2660,ShareOfSearch_CTR!$A$1:$B$100,2,FALSE)*VLOOKUP(A2660&B2660,ShareOfSearch_Volume!$C$1:$D$1000,2,FALSE),\"\")","v":""}]
[{"$f":"IF(ISTEXT(ShareOfSearch_SERPS!C2661),ShareOfSearch_SERPS!C2661,\"\")","v":""},{"$f":"IF(ISTEXT(ShareOfSearch_SERPS!D2661),ShareOfSearch_SERPS!D2661,\"\")","v":""},{"$f":"IF(NOT(ISBLANK(ShareOfSearch_SERPS!A2661)),ShareOfSearch_SERPS!A2661,\"\")","v":""},{"$f":"IF(NOT(ISBLANK(ShareOfSearch_SERPS!G2661)),ShareOfSearch_SERPS!G2661,\"\")","v":""},{"$f":"IF(NOT(ISBLANK(ShareOfSearch_SERPS!K2661)),ShareOfSearch_SERPS!K2661,\"\")","v":""},{"$f":"IFERROR(VLOOKUP(C2661,ShareOfSearch_CTR!$A$1:$B$100,2,FALSE)*VLOOKUP(A2661&B2661,ShareOfSearch_Volume!$C$1:$D$1000,2,FALSE),\"\")","v":""}]
[{"$f":"IF(ISTEXT(ShareOfSearch_SERPS!C2662),ShareOfSearch_SERPS!C2662,\"\")","v":""},{"$f":"IF(ISTEXT(ShareOfSearch_SERPS!D2662),ShareOfSearch_SERPS!D2662,\"\")","v":""},{"$f":"IF(NOT(ISBLANK(ShareOfSearch_SERPS!A2662)),ShareOfSearch_SERPS!A2662,\"\")","v":""},{"$f":"IF(NOT(ISBLANK(ShareOfSearch_SERPS!G2662)),ShareOfSearch_SERPS!G2662,\"\")","v":""},{"$f":"IF(NOT(ISBLANK(ShareOfSearch_SERPS!K2662)),ShareOfSearch_SERPS!K2662,\"\")","v":""},{"$f":"IFERROR(VLOOKUP(C2662,ShareOfSearch_CTR!$A$1:$B$100,2,FALSE)*VLOOKUP(A2662&B2662,ShareOfSearch_Volume!$C$1:$D$1000,2,FALSE),\"\")","v":""}]
[{"$f":"IF(ISTEXT(ShareOfSearch_SERPS!C2663),ShareOfSearch_SERPS!C2663,\"\")","v":""},{"$f":"IF(ISTEXT(ShareOfSearch_SERPS!D2663),ShareOfSearch_SERPS!D2663,\"\")","v":""},{"$f":"IF(NOT(ISBLANK(ShareOfSearch_SERPS!A2663)),ShareOfSearch_SERPS!A2663,\"\")","v":""},{"$f":"IF(NOT(ISBLANK(ShareOfSearch_SERPS!G2663)),ShareOfSearch_SERPS!G2663,\"\")","v":""},{"$f":"IF(NOT(ISBLANK(ShareOfSearch_SERPS!K2663)),ShareOfSearch_SERPS!K2663,\"\")","v":""},{"$f":"IFERROR(VLOOKUP(C2663,ShareOfSearch_CTR!$A$1:$B$100,2,FALSE)*VLOOKUP(A2663&B2663,ShareOfSearch_Volume!$C$1:$D$1000,2,FALSE),\"\")","v":""}]
[{"$f":"IF(ISTEXT(ShareOfSearch_SERPS!C2664),ShareOfSearch_SERPS!C2664,\"\")","v":""},{"$f":"IF(ISTEXT(ShareOfSearch_SERPS!D2664),ShareOfSearch_SERPS!D2664,\"\")","v":""},{"$f":"IF(NOT(ISBLANK(ShareOfSearch_SERPS!A2664)),ShareOfSearch_SERPS!A2664,\"\")","v":""},{"$f":"IF(NOT(ISBLANK(ShareOfSearch_SERPS!G2664)),ShareOfSearch_SERPS!G2664,\"\")","v":""},{"$f":"IF(NOT(ISBLANK(ShareOfSearch_SERPS!K2664)),ShareOfSearch_SERPS!K2664,\"\")","v":""},{"$f":"IFERROR(VLOOKUP(C2664,ShareOfSearch_CTR!$A$1:$B$100,2,FALSE)*VLOOKUP(A2664&B2664,ShareOfSearch_Volume!$C$1:$D$1000,2,FALSE),\"\")","v":""}]
[{"$f":"IF(ISTEXT(ShareOfSearch_SERPS!C2665),ShareOfSearch_SERPS!C2665,\"\")","v":""},{"$f":"IF(ISTEXT(ShareOfSearch_SERPS!D2665),ShareOfSearch_SERPS!D2665,\"\")","v":""},{"$f":"IF(NOT(ISBLANK(ShareOfSearch_SERPS!A2665)),ShareOfSearch_SERPS!A2665,\"\")","v":""},{"$f":"IF(NOT(ISBLANK(ShareOfSearch_SERPS!G2665)),ShareOfSearch_SERPS!G2665,\"\")","v":""},{"$f":"IF(NOT(ISBLANK(ShareOfSearch_SERPS!K2665)),ShareOfSearch_SERPS!K2665,\"\")","v":""},{"$f":"IFERROR(VLOOKUP(C2665,ShareOfSearch_CTR!$A$1:$B$100,2,FALSE)*VLOOKUP(A2665&B2665,ShareOfSearch_Volume!$C$1:$D$1000,2,FALSE),\"\")","v":""}]
[{"$f":"IF(ISTEXT(ShareOfSearch_SERPS!C2666),ShareOfSearch_SERPS!C2666,\"\")","v":""},{"$f":"IF(ISTEXT(ShareOfSearch_SERPS!D2666),ShareOfSearch_SERPS!D2666,\"\")","v":""},{"$f":"IF(NOT(ISBLANK(ShareOfSearch_SERPS!A2666)),ShareOfSearch_SERPS!A2666,\"\")","v":""},{"$f":"IF(NOT(ISBLANK(ShareOfSearch_SERPS!G2666)),ShareOfSearch_SERPS!G2666,\"\")","v":""},{"$f":"IF(NOT(ISBLANK(ShareOfSearch_SERPS!K2666)),ShareOfSearch_SERPS!K2666,\"\")","v":""},{"$f":"IFERROR(VLOOKUP(C2666,ShareOfSearch_CTR!$A$1:$B$100,2,FALSE)*VLOOKUP(A2666&B2666,ShareOfSearch_Volume!$C$1:$D$1000,2,FALSE),\"\")","v":""}]
[{"$f":"IF(ISTEXT(ShareOfSearch_SERPS!C2667),ShareOfSearch_SERPS!C2667,\"\")","v":""},{"$f":"IF(ISTEXT(ShareOfSearch_SERPS!D2667),ShareOfSearch_SERPS!D2667,\"\")","v":""},{"$f":"IF(NOT(ISBLANK(ShareOfSearch_SERPS!A2667)),ShareOfSearch_SERPS!A2667,\"\")","v":""},{"$f":"IF(NOT(ISBLANK(ShareOfSearch_SERPS!G2667)),ShareOfSearch_SERPS!G2667,\"\")","v":""},{"$f":"IF(NOT(ISBLANK(ShareOfSearch_SERPS!K2667)),ShareOfSearch_SERPS!K2667,\"\")","v":""},{"$f":"IFERROR(VLOOKUP(C2667,ShareOfSearch_CTR!$A$1:$B$100,2,FALSE)*VLOOKUP(A2667&B2667,ShareOfSearch_Volume!$C$1:$D$1000,2,FALSE),\"\")","v":""}]
[{"$f":"IF(ISTEXT(ShareOfSearch_SERPS!C2668),ShareOfSearch_SERPS!C2668,\"\")","v":""},{"$f":"IF(ISTEXT(ShareOfSearch_SERPS!D2668),ShareOfSearch_SERPS!D2668,\"\")","v":""},{"$f":"IF(NOT(ISBLANK(ShareOfSearch_SERPS!A2668)),ShareOfSearch_SERPS!A2668,\"\")","v":""},{"$f":"IF(NOT(ISBLANK(ShareOfSearch_SERPS!G2668)),ShareOfSearch_SERPS!G2668,\"\")","v":""},{"$f":"IF(NOT(ISBLANK(ShareOfSearch_SERPS!K2668)),ShareOfSearch_SERPS!K2668,\"\")","v":""},{"$f":"IFERROR(VLOOKUP(C2668,ShareOfSearch_CTR!$A$1:$B$100,2,FALSE)*VLOOKUP(A2668&B2668,ShareOfSearch_Volume!$C$1:$D$1000,2,FALSE),\"\")","v":""}]
[{"$f":"IF(ISTEXT(ShareOfSearch_SERPS!C2669),ShareOfSearch_SERPS!C2669,\"\")","v":""},{"$f":"IF(ISTEXT(ShareOfSearch_SERPS!D2669),ShareOfSearch_SERPS!D2669,\"\")","v":""},{"$f":"IF(NOT(ISBLANK(ShareOfSearch_SERPS!A2669)),ShareOfSearch_SERPS!A2669,\"\")","v":""},{"$f":"IF(NOT(ISBLANK(ShareOfSearch_SERPS!G2669)),ShareOfSearch_SERPS!G2669,\"\")","v":""},{"$f":"IF(NOT(ISBLANK(ShareOfSearch_SERPS!K2669)),ShareOfSearch_SERPS!K2669,\"\")","v":""},{"$f":"IFERROR(VLOOKUP(C2669,ShareOfSearch_CTR!$A$1:$B$100,2,FALSE)*VLOOKUP(A2669&B2669,ShareOfSearch_Volume!$C$1:$D$1000,2,FALSE),\"\")","v":""}]
[{"$f":"IF(ISTEXT(ShareOfSearch_SERPS!C2670),ShareOfSearch_SERPS!C2670,\"\")","v":""},{"$f":"IF(ISTEXT(ShareOfSearch_SERPS!D2670),ShareOfSearch_SERPS!D2670,\"\")","v":""},{"$f":"IF(NOT(ISBLANK(ShareOfSearch_SERPS!A2670)),ShareOfSearch_SERPS!A2670,\"\")","v":""},{"$f":"IF(NOT(ISBLANK(ShareOfSearch_SERPS!G2670)),ShareOfSearch_SERPS!G2670,\"\")","v":""},{"$f":"IF(NOT(ISBLANK(ShareOfSearch_SERPS!K2670)),ShareOfSearch_SERPS!K2670,\"\")","v":""},{"$f":"IFERROR(VLOOKUP(C2670,ShareOfSearch_CTR!$A$1:$B$100,2,FALSE)*VLOOKUP(A2670&B2670,ShareOfSearch_Volume!$C$1:$D$1000,2,FALSE),\"\")","v":""}]
[{"$f":"IF(ISTEXT(ShareOfSearch_SERPS!C2671),ShareOfSearch_SERPS!C2671,\"\")","v":""},{"$f":"IF(ISTEXT(ShareOfSearch_SERPS!D2671),ShareOfSearch_SERPS!D2671,\"\")","v":""},{"$f":"IF(NOT(ISBLANK(ShareOfSearch_SERPS!A2671)),ShareOfSearch_SERPS!A2671,\"\")","v":""},{"$f":"IF(NOT(ISBLANK(ShareOfSearch_SERPS!G2671)),ShareOfSearch_SERPS!G2671,\"\")","v":""},{"$f":"IF(NOT(ISBLANK(ShareOfSearch_SERPS!K2671)),ShareOfSearch_SERPS!K2671,\"\")","v":""},{"$f":"IFERROR(VLOOKUP(C2671,ShareOfSearch_CTR!$A$1:$B$100,2,FALSE)*VLOOKUP(A2671&B2671,ShareOfSearch_Volume!$C$1:$D$1000,2,FALSE),\"\")","v":""}]
[{"$f":"IF(ISTEXT(ShareOfSearch_SERPS!C2672),ShareOfSearch_SERPS!C2672,\"\")","v":""},{"$f":"IF(ISTEXT(ShareOfSearch_SERPS!D2672),ShareOfSearch_SERPS!D2672,\"\")","v":""},{"$f":"IF(NOT(ISBLANK(ShareOfSearch_SERPS!A2672)),ShareOfSearch_SERPS!A2672,\"\")","v":""},{"$f":"IF(NOT(ISBLANK(ShareOfSearch_SERPS!G2672)),ShareOfSearch_SERPS!G2672,\"\")","v":""},{"$f":"IF(NOT(ISBLANK(ShareOfSearch_SERPS!K2672)),ShareOfSearch_SERPS!K2672,\"\")","v":""},{"$f":"IFERROR(VLOOKUP(C2672,ShareOfSearch_CTR!$A$1:$B$100,2,FALSE)*VLOOKUP(A2672&B2672,ShareOfSearch_Volume!$C$1:$D$1000,2,FALSE),\"\")","v":""}]
[{"$f":"IF(ISTEXT(ShareOfSearch_SERPS!C2673),ShareOfSearch_SERPS!C2673,\"\")","v":""},{"$f":"IF(ISTEXT(ShareOfSearch_SERPS!D2673),ShareOfSearch_SERPS!D2673,\"\")","v":""},{"$f":"IF(NOT(ISBLANK(ShareOfSearch_SERPS!A2673)),ShareOfSearch_SERPS!A2673,\"\")","v":""},{"$f":"IF(NOT(ISBLANK(ShareOfSearch_SERPS!G2673)),ShareOfSearch_SERPS!G2673,\"\")","v":""},{"$f":"IF(NOT(ISBLANK(ShareOfSearch_SERPS!K2673)),ShareOfSearch_SERPS!K2673,\"\")","v":""},{"$f":"IFERROR(VLOOKUP(C2673,ShareOfSearch_CTR!$A$1:$B$100,2,FALSE)*VLOOKUP(A2673&B2673,ShareOfSearch_Volume!$C$1:$D$1000,2,FALSE),\"\")","v":""}]
[{"$f":"IF(ISTEXT(ShareOfSearch_SERPS!C2674),ShareOfSearch_SERPS!C2674,\"\")","v":""},{"$f":"IF(ISTEXT(ShareOfSearch_SERPS!D2674),ShareOfSearch_SERPS!D2674,\"\")","v":""},{"$f":"IF(NOT(ISBLANK(ShareOfSearch_SERPS!A2674)),ShareOfSearch_SERPS!A2674,\"\")","v":""},{"$f":"IF(NOT(ISBLANK(ShareOfSearch_SERPS!G2674)),ShareOfSearch_SERPS!G2674,\"\")","v":""},{"$f":"IF(NOT(ISBLANK(ShareOfSearch_SERPS!K2674)),ShareOfSearch_SERPS!K2674,\"\")","v":""},{"$f":"IFERROR(VLOOKUP(C2674,ShareOfSearch_CTR!$A$1:$B$100,2,FALSE)*VLOOKUP(A2674&B2674,ShareOfSearch_Volume!$C$1:$D$1000,2,FALSE),\"\")","v":""}]
[{"$f":"IF(ISTEXT(ShareOfSearch_SERPS!C2675),ShareOfSearch_SERPS!C2675,\"\")","v":""},{"$f":"IF(ISTEXT(ShareOfSearch_SERPS!D2675),ShareOfSearch_SERPS!D2675,\"\")","v":""},{"$f":"IF(NOT(ISBLANK(ShareOfSearch_SERPS!A2675)),ShareOfSearch_SERPS!A2675,\"\")","v":""},{"$f":"IF(NOT(ISBLANK(ShareOfSearch_SERPS!G2675)),ShareOfSearch_SERPS!G2675,\"\")","v":""},{"$f":"IF(NOT(ISBLANK(ShareOfSearch_SERPS!K2675)),ShareOfSearch_SERPS!K2675,\"\")","v":""},{"$f":"IFERROR(VLOOKUP(C2675,ShareOfSearch_CTR!$A$1:$B$100,2,FALSE)*VLOOKUP(A2675&B2675,ShareOfSearch_Volume!$C$1:$D$1000,2,FALSE),\"\")","v":""}]
[{"$f":"IF(ISTEXT(ShareOfSearch_SERPS!C2676),ShareOfSearch_SERPS!C2676,\"\")","v":""},{"$f":"IF(ISTEXT(ShareOfSearch_SERPS!D2676),ShareOfSearch_SERPS!D2676,\"\")","v":""},{"$f":"IF(NOT(ISBLANK(ShareOfSearch_SERPS!A2676)),ShareOfSearch_SERPS!A2676,\"\")","v":""},{"$f":"IF(NOT(ISBLANK(ShareOfSearch_SERPS!G2676)),ShareOfSearch_SERPS!G2676,\"\")","v":""},{"$f":"IF(NOT(ISBLANK(ShareOfSearch_SERPS!K2676)),ShareOfSearch_SERPS!K2676,\"\")","v":""},{"$f":"IFERROR(VLOOKUP(C2676,ShareOfSearch_CTR!$A$1:$B$100,2,FALSE)*VLOOKUP(A2676&B2676,ShareOfSearch_Volume!$C$1:$D$1000,2,FALSE),\"\")","v":""}]
[{"$f":"IF(ISTEXT(ShareOfSearch_SERPS!C2677),ShareOfSearch_SERPS!C2677,\"\")","v":""},{"$f":"IF(ISTEXT(ShareOfSearch_SERPS!D2677),ShareOfSearch_SERPS!D2677,\"\")","v":""},{"$f":"IF(NOT(ISBLANK(ShareOfSearch_SERPS!A2677)),ShareOfSearch_SERPS!A2677,\"\")","v":""},{"$f":"IF(NOT(ISBLANK(ShareOfSearch_SERPS!G2677)),ShareOfSearch_SERPS!G2677,\"\")","v":""},{"$f":"IF(NOT(ISBLANK(ShareOfSearch_SERPS!K2677)),ShareOfSearch_SERPS!K2677,\"\")","v":""},{"$f":"IFERROR(VLOOKUP(C2677,ShareOfSearch_CTR!$A$1:$B$100,2,FALSE)*VLOOKUP(A2677&B2677,ShareOfSearch_Volume!$C$1:$D$1000,2,FALSE),\"\")","v":""}]
[{"$f":"IF(ISTEXT(ShareOfSearch_SERPS!C2678),ShareOfSearch_SERPS!C2678,\"\")","v":""},{"$f":"IF(ISTEXT(ShareOfSearch_SERPS!D2678),ShareOfSearch_SERPS!D2678,\"\")","v":""},{"$f":"IF(NOT(ISBLANK(ShareOfSearch_SERPS!A2678)),ShareOfSearch_SERPS!A2678,\"\")","v":""},{"$f":"IF(NOT(ISBLANK(ShareOfSearch_SERPS!G2678)),ShareOfSearch_SERPS!G2678,\"\")","v":""},{"$f":"IF(NOT(ISBLANK(ShareOfSearch_SERPS!K2678)),ShareOfSearch_SERPS!K2678,\"\")","v":""},{"$f":"IFERROR(VLOOKUP(C2678,ShareOfSearch_CTR!$A$1:$B$100,2,FALSE)*VLOOKUP(A2678&B2678,ShareOfSearch_Volume!$C$1:$D$1000,2,FALSE),\"\")","v":""}]
[{"$f":"IF(ISTEXT(ShareOfSearch_SERPS!C2679),ShareOfSearch_SERPS!C2679,\"\")","v":""},{"$f":"IF(ISTEXT(ShareOfSearch_SERPS!D2679),ShareOfSearch_SERPS!D2679,\"\")","v":""},{"$f":"IF(NOT(ISBLANK(ShareOfSearch_SERPS!A2679)),ShareOfSearch_SERPS!A2679,\"\")","v":""},{"$f":"IF(NOT(ISBLANK(ShareOfSearch_SERPS!G2679)),ShareOfSearch_SERPS!G2679,\"\")","v":""},{"$f":"IF(NOT(ISBLANK(ShareOfSearch_SERPS!K2679)),ShareOfSearch_SERPS!K2679,\"\")","v":""},{"$f":"IFERROR(VLOOKUP(C2679,ShareOfSearch_CTR!$A$1:$B$100,2,FALSE)*VLOOKUP(A2679&B2679,ShareOfSearch_Volume!$C$1:$D$1000,2,FALSE),\"\")","v":""}]
[{"$f":"IF(ISTEXT(ShareOfSearch_SERPS!C2680),ShareOfSearch_SERPS!C2680,\"\")","v":""},{"$f":"IF(ISTEXT(ShareOfSearch_SERPS!D2680),ShareOfSearch_SERPS!D2680,\"\")","v":""},{"$f":"IF(NOT(ISBLANK(ShareOfSearch_SERPS!A2680)),ShareOfSearch_SERPS!A2680,\"\")","v":""},{"$f":"IF(NOT(ISBLANK(ShareOfSearch_SERPS!G2680)),ShareOfSearch_SERPS!G2680,\"\")","v":""},{"$f":"IF(NOT(ISBLANK(ShareOfSearch_SERPS!K2680)),ShareOfSearch_SERPS!K2680,\"\")","v":""},{"$f":"IFERROR(VLOOKUP(C2680,ShareOfSearch_CTR!$A$1:$B$100,2,FALSE)*VLOOKUP(A2680&B2680,ShareOfSearch_Volume!$C$1:$D$1000,2,FALSE),\"\")","v":""}]
[{"$f":"IF(ISTEXT(ShareOfSearch_SERPS!C2681),ShareOfSearch_SERPS!C2681,\"\")","v":""},{"$f":"IF(ISTEXT(ShareOfSearch_SERPS!D2681),ShareOfSearch_SERPS!D2681,\"\")","v":""},{"$f":"IF(NOT(ISBLANK(ShareOfSearch_SERPS!A2681)),ShareOfSearch_SERPS!A2681,\"\")","v":""},{"$f":"IF(NOT(ISBLANK(ShareOfSearch_SERPS!G2681)),ShareOfSearch_SERPS!G2681,\"\")","v":""},{"$f":"IF(NOT(ISBLANK(ShareOfSearch_SERPS!K2681)),ShareOfSearch_SERPS!K2681,\"\")","v":""},{"$f":"IFERROR(VLOOKUP(C2681,ShareOfSearch_CTR!$A$1:$B$100,2,FALSE)*VLOOKUP(A2681&B2681,ShareOfSearch_Volume!$C$1:$D$1000,2,FALSE),\"\")","v":""}]
[{"$f":"IF(ISTEXT(ShareOfSearch_SERPS!C2682),ShareOfSearch_SERPS!C2682,\"\")","v":""},{"$f":"IF(ISTEXT(ShareOfSearch_SERPS!D2682),ShareOfSearch_SERPS!D2682,\"\")","v":""},{"$f":"IF(NOT(ISBLANK(ShareOfSearch_SERPS!A2682)),ShareOfSearch_SERPS!A2682,\"\")","v":""},{"$f":"IF(NOT(ISBLANK(ShareOfSearch_SERPS!G2682)),ShareOfSearch_SERPS!G2682,\"\")","v":""},{"$f":"IF(NOT(ISBLANK(ShareOfSearch_SERPS!K2682)),ShareOfSearch_SERPS!K2682,\"\")","v":""},{"$f":"IFERROR(VLOOKUP(C2682,ShareOfSearch_CTR!$A$1:$B$100,2,FALSE)*VLOOKUP(A2682&B2682,ShareOfSearch_Volume!$C$1:$D$1000,2,FALSE),\"\")","v":""}]
[{"$f":"IF(ISTEXT(ShareOfSearch_SERPS!C2683),ShareOfSearch_SERPS!C2683,\"\")","v":""},{"$f":"IF(ISTEXT(ShareOfSearch_SERPS!D2683),ShareOfSearch_SERPS!D2683,\"\")","v":""},{"$f":"IF(NOT(ISBLANK(ShareOfSearch_SERPS!A2683)),ShareOfSearch_SERPS!A2683,\"\")","v":""},{"$f":"IF(NOT(ISBLANK(ShareOfSearch_SERPS!G2683)),ShareOfSearch_SERPS!G2683,\"\")","v":""},{"$f":"IF(NOT(ISBLANK(ShareOfSearch_SERPS!K2683)),ShareOfSearch_SERPS!K2683,\"\")","v":""},{"$f":"IFERROR(VLOOKUP(C2683,ShareOfSearch_CTR!$A$1:$B$100,2,FALSE)*VLOOKUP(A2683&B2683,ShareOfSearch_Volume!$C$1:$D$1000,2,FALSE),\"\")","v":""}]
[{"$f":"IF(ISTEXT(ShareOfSearch_SERPS!C2684),ShareOfSearch_SERPS!C2684,\"\")","v":""},{"$f":"IF(ISTEXT(ShareOfSearch_SERPS!D2684),ShareOfSearch_SERPS!D2684,\"\")","v":""},{"$f":"IF(NOT(ISBLANK(ShareOfSearch_SERPS!A2684)),ShareOfSearch_SERPS!A2684,\"\")","v":""},{"$f":"IF(NOT(ISBLANK(ShareOfSearch_SERPS!G2684)),ShareOfSearch_SERPS!G2684,\"\")","v":""},{"$f":"IF(NOT(ISBLANK(ShareOfSearch_SERPS!K2684)),ShareOfSearch_SERPS!K2684,\"\")","v":""},{"$f":"IFERROR(VLOOKUP(C2684,ShareOfSearch_CTR!$A$1:$B$100,2,FALSE)*VLOOKUP(A2684&B2684,ShareOfSearch_Volume!$C$1:$D$1000,2,FALSE),\"\")","v":""}]
[{"$f":"IF(ISTEXT(ShareOfSearch_SERPS!C2685),ShareOfSearch_SERPS!C2685,\"\")","v":""},{"$f":"IF(ISTEXT(ShareOfSearch_SERPS!D2685),ShareOfSearch_SERPS!D2685,\"\")","v":""},{"$f":"IF(NOT(ISBLANK(ShareOfSearch_SERPS!A2685)),ShareOfSearch_SERPS!A2685,\"\")","v":""},{"$f":"IF(NOT(ISBLANK(ShareOfSearch_SERPS!G2685)),ShareOfSearch_SERPS!G2685,\"\")","v":""},{"$f":"IF(NOT(ISBLANK(ShareOfSearch_SERPS!K2685)),ShareOfSearch_SERPS!K2685,\"\")","v":""},{"$f":"IFERROR(VLOOKUP(C2685,ShareOfSearch_CTR!$A$1:$B$100,2,FALSE)*VLOOKUP(A2685&B2685,ShareOfSearch_Volume!$C$1:$D$1000,2,FALSE),\"\")","v":""}]
[{"$f":"IF(ISTEXT(ShareOfSearch_SERPS!C2686),ShareOfSearch_SERPS!C2686,\"\")","v":""},{"$f":"IF(ISTEXT(ShareOfSearch_SERPS!D2686),ShareOfSearch_SERPS!D2686,\"\")","v":""},{"$f":"IF(NOT(ISBLANK(ShareOfSearch_SERPS!A2686)),ShareOfSearch_SERPS!A2686,\"\")","v":""},{"$f":"IF(NOT(ISBLANK(ShareOfSearch_SERPS!G2686)),ShareOfSearch_SERPS!G2686,\"\")","v":""},{"$f":"IF(NOT(ISBLANK(ShareOfSearch_SERPS!K2686)),ShareOfSearch_SERPS!K2686,\"\")","v":""},{"$f":"IFERROR(VLOOKUP(C2686,ShareOfSearch_CTR!$A$1:$B$100,2,FALSE)*VLOOKUP(A2686&B2686,ShareOfSearch_Volume!$C$1:$D$1000,2,FALSE),\"\")","v":""}]
[{"$f":"IF(ISTEXT(ShareOfSearch_SERPS!C2687),ShareOfSearch_SERPS!C2687,\"\")","v":""},{"$f":"IF(ISTEXT(ShareOfSearch_SERPS!D2687),ShareOfSearch_SERPS!D2687,\"\")","v":""},{"$f":"IF(NOT(ISBLANK(ShareOfSearch_SERPS!A2687)),ShareOfSearch_SERPS!A2687,\"\")","v":""},{"$f":"IF(NOT(ISBLANK(ShareOfSearch_SERPS!G2687)),ShareOfSearch_SERPS!G2687,\"\")","v":""},{"$f":"IF(NOT(ISBLANK(ShareOfSearch_SERPS!K2687)),ShareOfSearch_SERPS!K2687,\"\")","v":""},{"$f":"IFERROR(VLOOKUP(C2687,ShareOfSearch_CTR!$A$1:$B$100,2,FALSE)*VLOOKUP(A2687&B2687,ShareOfSearch_Volume!$C$1:$D$1000,2,FALSE),\"\")","v":""}]
[{"$f":"IF(ISTEXT(ShareOfSearch_SERPS!C2688),ShareOfSearch_SERPS!C2688,\"\")","v":""},{"$f":"IF(ISTEXT(ShareOfSearch_SERPS!D2688),ShareOfSearch_SERPS!D2688,\"\")","v":""},{"$f":"IF(NOT(ISBLANK(ShareOfSearch_SERPS!A2688)),ShareOfSearch_SERPS!A2688,\"\")","v":""},{"$f":"IF(NOT(ISBLANK(ShareOfSearch_SERPS!G2688)),ShareOfSearch_SERPS!G2688,\"\")","v":""},{"$f":"IF(NOT(ISBLANK(ShareOfSearch_SERPS!K2688)),ShareOfSearch_SERPS!K2688,\"\")","v":""},{"$f":"IFERROR(VLOOKUP(C2688,ShareOfSearch_CTR!$A$1:$B$100,2,FALSE)*VLOOKUP(A2688&B2688,ShareOfSearch_Volume!$C$1:$D$1000,2,FALSE),\"\")","v":""}]
[{"$f":"IF(ISTEXT(ShareOfSearch_SERPS!C2689),ShareOfSearch_SERPS!C2689,\"\")","v":""},{"$f":"IF(ISTEXT(ShareOfSearch_SERPS!D2689),ShareOfSearch_SERPS!D2689,\"\")","v":""},{"$f":"IF(NOT(ISBLANK(ShareOfSearch_SERPS!A2689)),ShareOfSearch_SERPS!A2689,\"\")","v":""},{"$f":"IF(NOT(ISBLANK(ShareOfSearch_SERPS!G2689)),ShareOfSearch_SERPS!G2689,\"\")","v":""},{"$f":"IF(NOT(ISBLANK(ShareOfSearch_SERPS!K2689)),ShareOfSearch_SERPS!K2689,\"\")","v":""},{"$f":"IFERROR(VLOOKUP(C2689,ShareOfSearch_CTR!$A$1:$B$100,2,FALSE)*VLOOKUP(A2689&B2689,ShareOfSearch_Volume!$C$1:$D$1000,2,FALSE),\"\")","v":""}]
[{"$f":"IF(ISTEXT(ShareOfSearch_SERPS!C2690),ShareOfSearch_SERPS!C2690,\"\")","v":""},{"$f":"IF(ISTEXT(ShareOfSearch_SERPS!D2690),ShareOfSearch_SERPS!D2690,\"\")","v":""},{"$f":"IF(NOT(ISBLANK(ShareOfSearch_SERPS!A2690)),ShareOfSearch_SERPS!A2690,\"\")","v":""},{"$f":"IF(NOT(ISBLANK(ShareOfSearch_SERPS!G2690)),ShareOfSearch_SERPS!G2690,\"\")","v":""},{"$f":"IF(NOT(ISBLANK(ShareOfSearch_SERPS!K2690)),ShareOfSearch_SERPS!K2690,\"\")","v":""},{"$f":"IFERROR(VLOOKUP(C2690,ShareOfSearch_CTR!$A$1:$B$100,2,FALSE)*VLOOKUP(A2690&B2690,ShareOfSearch_Volume!$C$1:$D$1000,2,FALSE),\"\")","v":""}]
[{"$f":"IF(ISTEXT(ShareOfSearch_SERPS!C2691),ShareOfSearch_SERPS!C2691,\"\")","v":""},{"$f":"IF(ISTEXT(ShareOfSearch_SERPS!D2691),ShareOfSearch_SERPS!D2691,\"\")","v":""},{"$f":"IF(NOT(ISBLANK(ShareOfSearch_SERPS!A2691)),ShareOfSearch_SERPS!A2691,\"\")","v":""},{"$f":"IF(NOT(ISBLANK(ShareOfSearch_SERPS!G2691)),ShareOfSearch_SERPS!G2691,\"\")","v":""},{"$f":"IF(NOT(ISBLANK(ShareOfSearch_SERPS!K2691)),ShareOfSearch_SERPS!K2691,\"\")","v":""},{"$f":"IFERROR(VLOOKUP(C2691,ShareOfSearch_CTR!$A$1:$B$100,2,FALSE)*VLOOKUP(A2691&B2691,ShareOfSearch_Volume!$C$1:$D$1000,2,FALSE),\"\")","v":""}]
[{"$f":"IF(ISTEXT(ShareOfSearch_SERPS!C2692),ShareOfSearch_SERPS!C2692,\"\")","v":""},{"$f":"IF(ISTEXT(ShareOfSearch_SERPS!D2692),ShareOfSearch_SERPS!D2692,\"\")","v":""},{"$f":"IF(NOT(ISBLANK(ShareOfSearch_SERPS!A2692)),ShareOfSearch_SERPS!A2692,\"\")","v":""},{"$f":"IF(NOT(ISBLANK(ShareOfSearch_SERPS!G2692)),ShareOfSearch_SERPS!G2692,\"\")","v":""},{"$f":"IF(NOT(ISBLANK(ShareOfSearch_SERPS!K2692)),ShareOfSearch_SERPS!K2692,\"\")","v":""},{"$f":"IFERROR(VLOOKUP(C2692,ShareOfSearch_CTR!$A$1:$B$100,2,FALSE)*VLOOKUP(A2692&B2692,ShareOfSearch_Volume!$C$1:$D$1000,2,FALSE),\"\")","v":""}]
[{"$f":"IF(ISTEXT(ShareOfSearch_SERPS!C2693),ShareOfSearch_SERPS!C2693,\"\")","v":""},{"$f":"IF(ISTEXT(ShareOfSearch_SERPS!D2693),ShareOfSearch_SERPS!D2693,\"\")","v":""},{"$f":"IF(NOT(ISBLANK(ShareOfSearch_SERPS!A2693)),ShareOfSearch_SERPS!A2693,\"\")","v":""},{"$f":"IF(NOT(ISBLANK(ShareOfSearch_SERPS!G2693)),ShareOfSearch_SERPS!G2693,\"\")","v":""},{"$f":"IF(NOT(ISBLANK(ShareOfSearch_SERPS!K2693)),ShareOfSearch_SERPS!K2693,\"\")","v":""},{"$f":"IFERROR(VLOOKUP(C2693,ShareOfSearch_CTR!$A$1:$B$100,2,FALSE)*VLOOKUP(A2693&B2693,ShareOfSearch_Volume!$C$1:$D$1000,2,FALSE),\"\")","v":""}]
[{"$f":"IF(ISTEXT(ShareOfSearch_SERPS!C2694),ShareOfSearch_SERPS!C2694,\"\")","v":""},{"$f":"IF(ISTEXT(ShareOfSearch_SERPS!D2694),ShareOfSearch_SERPS!D2694,\"\")","v":""},{"$f":"IF(NOT(ISBLANK(ShareOfSearch_SERPS!A2694)),ShareOfSearch_SERPS!A2694,\"\")","v":""},{"$f":"IF(NOT(ISBLANK(ShareOfSearch_SERPS!G2694)),ShareOfSearch_SERPS!G2694,\"\")","v":""},{"$f":"IF(NOT(ISBLANK(ShareOfSearch_SERPS!K2694)),ShareOfSearch_SERPS!K2694,\"\")","v":""},{"$f":"IFERROR(VLOOKUP(C2694,ShareOfSearch_CTR!$A$1:$B$100,2,FALSE)*VLOOKUP(A2694&B2694,ShareOfSearch_Volume!$C$1:$D$1000,2,FALSE),\"\")","v":""}]
[{"$f":"IF(ISTEXT(ShareOfSearch_SERPS!C2695),ShareOfSearch_SERPS!C2695,\"\")","v":""},{"$f":"IF(ISTEXT(ShareOfSearch_SERPS!D2695),ShareOfSearch_SERPS!D2695,\"\")","v":""},{"$f":"IF(NOT(ISBLANK(ShareOfSearch_SERPS!A2695)),ShareOfSearch_SERPS!A2695,\"\")","v":""},{"$f":"IF(NOT(ISBLANK(ShareOfSearch_SERPS!G2695)),ShareOfSearch_SERPS!G2695,\"\")","v":""},{"$f":"IF(NOT(ISBLANK(ShareOfSearch_SERPS!K2695)),ShareOfSearch_SERPS!K2695,\"\")","v":""},{"$f":"IFERROR(VLOOKUP(C2695,ShareOfSearch_CTR!$A$1:$B$100,2,FALSE)*VLOOKUP(A2695&B2695,ShareOfSearch_Volume!$C$1:$D$1000,2,FALSE),\"\")","v":""}]
[{"$f":"IF(ISTEXT(ShareOfSearch_SERPS!C2696),ShareOfSearch_SERPS!C2696,\"\")","v":""},{"$f":"IF(ISTEXT(ShareOfSearch_SERPS!D2696),ShareOfSearch_SERPS!D2696,\"\")","v":""},{"$f":"IF(NOT(ISBLANK(ShareOfSearch_SERPS!A2696)),ShareOfSearch_SERPS!A2696,\"\")","v":""},{"$f":"IF(NOT(ISBLANK(ShareOfSearch_SERPS!G2696)),ShareOfSearch_SERPS!G2696,\"\")","v":""},{"$f":"IF(NOT(ISBLANK(ShareOfSearch_SERPS!K2696)),ShareOfSearch_SERPS!K2696,\"\")","v":""},{"$f":"IFERROR(VLOOKUP(C2696,ShareOfSearch_CTR!$A$1:$B$100,2,FALSE)*VLOOKUP(A2696&B2696,ShareOfSearch_Volume!$C$1:$D$1000,2,FALSE),\"\")","v":""}]
[{"$f":"IF(ISTEXT(ShareOfSearch_SERPS!C2697),ShareOfSearch_SERPS!C2697,\"\")","v":""},{"$f":"IF(ISTEXT(ShareOfSearch_SERPS!D2697),ShareOfSearch_SERPS!D2697,\"\")","v":""},{"$f":"IF(NOT(ISBLANK(ShareOfSearch_SERPS!A2697)),ShareOfSearch_SERPS!A2697,\"\")","v":""},{"$f":"IF(NOT(ISBLANK(ShareOfSearch_SERPS!G2697)),ShareOfSearch_SERPS!G2697,\"\")","v":""},{"$f":"IF(NOT(ISBLANK(ShareOfSearch_SERPS!K2697)),ShareOfSearch_SERPS!K2697,\"\")","v":""},{"$f":"IFERROR(VLOOKUP(C2697,ShareOfSearch_CTR!$A$1:$B$100,2,FALSE)*VLOOKUP(A2697&B2697,ShareOfSearch_Volume!$C$1:$D$1000,2,FALSE),\"\")","v":""}]
[{"$f":"IF(ISTEXT(ShareOfSearch_SERPS!C2698),ShareOfSearch_SERPS!C2698,\"\")","v":""},{"$f":"IF(ISTEXT(ShareOfSearch_SERPS!D2698),ShareOfSearch_SERPS!D2698,\"\")","v":""},{"$f":"IF(NOT(ISBLANK(ShareOfSearch_SERPS!A2698)),ShareOfSearch_SERPS!A2698,\"\")","v":""},{"$f":"IF(NOT(ISBLANK(ShareOfSearch_SERPS!G2698)),ShareOfSearch_SERPS!G2698,\"\")","v":""},{"$f":"IF(NOT(ISBLANK(ShareOfSearch_SERPS!K2698)),ShareOfSearch_SERPS!K2698,\"\")","v":""},{"$f":"IFERROR(VLOOKUP(C2698,ShareOfSearch_CTR!$A$1:$B$100,2,FALSE)*VLOOKUP(A2698&B2698,ShareOfSearch_Volume!$C$1:$D$1000,2,FALSE),\"\")","v":""}]
[{"$f":"IF(ISTEXT(ShareOfSearch_SERPS!C2699),ShareOfSearch_SERPS!C2699,\"\")","v":""},{"$f":"IF(ISTEXT(ShareOfSearch_SERPS!D2699),ShareOfSearch_SERPS!D2699,\"\")","v":""},{"$f":"IF(NOT(ISBLANK(ShareOfSearch_SERPS!A2699)),ShareOfSearch_SERPS!A2699,\"\")","v":""},{"$f":"IF(NOT(ISBLANK(ShareOfSearch_SERPS!G2699)),ShareOfSearch_SERPS!G2699,\"\")","v":""},{"$f":"IF(NOT(ISBLANK(ShareOfSearch_SERPS!K2699)),ShareOfSearch_SERPS!K2699,\"\")","v":""},{"$f":"IFERROR(VLOOKUP(C2699,ShareOfSearch_CTR!$A$1:$B$100,2,FALSE)*VLOOKUP(A2699&B2699,ShareOfSearch_Volume!$C$1:$D$1000,2,FALSE),\"\")","v":""}]
[{"$f":"IF(ISTEXT(ShareOfSearch_SERPS!C2700),ShareOfSearch_SERPS!C2700,\"\")","v":""},{"$f":"IF(ISTEXT(ShareOfSearch_SERPS!D2700),ShareOfSearch_SERPS!D2700,\"\")","v":""},{"$f":"IF(NOT(ISBLANK(ShareOfSearch_SERPS!A2700)),ShareOfSearch_SERPS!A2700,\"\")","v":""},{"$f":"IF(NOT(ISBLANK(ShareOfSearch_SERPS!G2700)),ShareOfSearch_SERPS!G2700,\"\")","v":""},{"$f":"IF(NOT(ISBLANK(ShareOfSearch_SERPS!K2700)),ShareOfSearch_SERPS!K2700,\"\")","v":""},{"$f":"IFERROR(VLOOKUP(C2700,ShareOfSearch_CTR!$A$1:$B$100,2,FALSE)*VLOOKUP(A2700&B2700,ShareOfSearch_Volume!$C$1:$D$1000,2,FALSE),\"\")","v":""}]
[{"$f":"IF(ISTEXT(ShareOfSearch_SERPS!C2701),ShareOfSearch_SERPS!C2701,\"\")","v":""},{"$f":"IF(ISTEXT(ShareOfSearch_SERPS!D2701),ShareOfSearch_SERPS!D2701,\"\")","v":""},{"$f":"IF(NOT(ISBLANK(ShareOfSearch_SERPS!A2701)),ShareOfSearch_SERPS!A2701,\"\")","v":""},{"$f":"IF(NOT(ISBLANK(ShareOfSearch_SERPS!G2701)),ShareOfSearch_SERPS!G2701,\"\")","v":""},{"$f":"IF(NOT(ISBLANK(ShareOfSearch_SERPS!K2701)),ShareOfSearch_SERPS!K2701,\"\")","v":""},{"$f":"IFERROR(VLOOKUP(C2701,ShareOfSearch_CTR!$A$1:$B$100,2,FALSE)*VLOOKUP(A2701&B2701,ShareOfSearch_Volume!$C$1:$D$1000,2,FALSE),\"\")","v":""}]
[{"$f":"IF(ISTEXT(ShareOfSearch_SERPS!C2702),ShareOfSearch_SERPS!C2702,\"\")","v":""},{"$f":"IF(ISTEXT(ShareOfSearch_SERPS!D2702),ShareOfSearch_SERPS!D2702,\"\")","v":""},{"$f":"IF(NOT(ISBLANK(ShareOfSearch_SERPS!A2702)),ShareOfSearch_SERPS!A2702,\"\")","v":""},{"$f":"IF(NOT(ISBLANK(ShareOfSearch_SERPS!G2702)),ShareOfSearch_SERPS!G2702,\"\")","v":""},{"$f":"IF(NOT(ISBLANK(ShareOfSearch_SERPS!K2702)),ShareOfSearch_SERPS!K2702,\"\")","v":""},{"$f":"IFERROR(VLOOKUP(C2702,ShareOfSearch_CTR!$A$1:$B$100,2,FALSE)*VLOOKUP(A2702&B2702,ShareOfSearch_Volume!$C$1:$D$1000,2,FALSE),\"\")","v":""}]
[{"$f":"IF(ISTEXT(ShareOfSearch_SERPS!C2703),ShareOfSearch_SERPS!C2703,\"\")","v":""},{"$f":"IF(ISTEXT(ShareOfSearch_SERPS!D2703),ShareOfSearch_SERPS!D2703,\"\")","v":""},{"$f":"IF(NOT(ISBLANK(ShareOfSearch_SERPS!A2703)),ShareOfSearch_SERPS!A2703,\"\")","v":""},{"$f":"IF(NOT(ISBLANK(ShareOfSearch_SERPS!G2703)),ShareOfSearch_SERPS!G2703,\"\")","v":""},{"$f":"IF(NOT(ISBLANK(ShareOfSearch_SERPS!K2703)),ShareOfSearch_SERPS!K2703,\"\")","v":""},{"$f":"IFERROR(VLOOKUP(C2703,ShareOfSearch_CTR!$A$1:$B$100,2,FALSE)*VLOOKUP(A2703&B2703,ShareOfSearch_Volume!$C$1:$D$1000,2,FALSE),\"\")","v":""}]
[{"$f":"IF(ISTEXT(ShareOfSearch_SERPS!C2704),ShareOfSearch_SERPS!C2704,\"\")","v":""},{"$f":"IF(ISTEXT(ShareOfSearch_SERPS!D2704),ShareOfSearch_SERPS!D2704,\"\")","v":""},{"$f":"IF(NOT(ISBLANK(ShareOfSearch_SERPS!A2704)),ShareOfSearch_SERPS!A2704,\"\")","v":""},{"$f":"IF(NOT(ISBLANK(ShareOfSearch_SERPS!G2704)),ShareOfSearch_SERPS!G2704,\"\")","v":""},{"$f":"IF(NOT(ISBLANK(ShareOfSearch_SERPS!K2704)),ShareOfSearch_SERPS!K2704,\"\")","v":""},{"$f":"IFERROR(VLOOKUP(C2704,ShareOfSearch_CTR!$A$1:$B$100,2,FALSE)*VLOOKUP(A2704&B2704,ShareOfSearch_Volume!$C$1:$D$1000,2,FALSE),\"\")","v":""}]
[{"$f":"IF(ISTEXT(ShareOfSearch_SERPS!C2705),ShareOfSearch_SERPS!C2705,\"\")","v":""},{"$f":"IF(ISTEXT(ShareOfSearch_SERPS!D2705),ShareOfSearch_SERPS!D2705,\"\")","v":""},{"$f":"IF(NOT(ISBLANK(ShareOfSearch_SERPS!A2705)),ShareOfSearch_SERPS!A2705,\"\")","v":""},{"$f":"IF(NOT(ISBLANK(ShareOfSearch_SERPS!G2705)),ShareOfSearch_SERPS!G2705,\"\")","v":""},{"$f":"IF(NOT(ISBLANK(ShareOfSearch_SERPS!K2705)),ShareOfSearch_SERPS!K2705,\"\")","v":""},{"$f":"IFERROR(VLOOKUP(C2705,ShareOfSearch_CTR!$A$1:$B$100,2,FALSE)*VLOOKUP(A2705&B2705,ShareOfSearch_Volume!$C$1:$D$1000,2,FALSE),\"\")","v":""}]
[{"$f":"IF(ISTEXT(ShareOfSearch_SERPS!C2706),ShareOfSearch_SERPS!C2706,\"\")","v":""},{"$f":"IF(ISTEXT(ShareOfSearch_SERPS!D2706),ShareOfSearch_SERPS!D2706,\"\")","v":""},{"$f":"IF(NOT(ISBLANK(ShareOfSearch_SERPS!A2706)),ShareOfSearch_SERPS!A2706,\"\")","v":""},{"$f":"IF(NOT(ISBLANK(ShareOfSearch_SERPS!G2706)),ShareOfSearch_SERPS!G2706,\"\")","v":""},{"$f":"IF(NOT(ISBLANK(ShareOfSearch_SERPS!K2706)),ShareOfSearch_SERPS!K2706,\"\")","v":""},{"$f":"IFERROR(VLOOKUP(C2706,ShareOfSearch_CTR!$A$1:$B$100,2,FALSE)*VLOOKUP(A2706&B2706,ShareOfSearch_Volume!$C$1:$D$1000,2,FALSE),\"\")","v":""}]
[{"$f":"IF(ISTEXT(ShareOfSearch_SERPS!C2707),ShareOfSearch_SERPS!C2707,\"\")","v":""},{"$f":"IF(ISTEXT(ShareOfSearch_SERPS!D2707),ShareOfSearch_SERPS!D2707,\"\")","v":""},{"$f":"IF(NOT(ISBLANK(ShareOfSearch_SERPS!A2707)),ShareOfSearch_SERPS!A2707,\"\")","v":""},{"$f":"IF(NOT(ISBLANK(ShareOfSearch_SERPS!G2707)),ShareOfSearch_SERPS!G2707,\"\")","v":""},{"$f":"IF(NOT(ISBLANK(ShareOfSearch_SERPS!K2707)),ShareOfSearch_SERPS!K2707,\"\")","v":""},{"$f":"IFERROR(VLOOKUP(C2707,ShareOfSearch_CTR!$A$1:$B$100,2,FALSE)*VLOOKUP(A2707&B2707,ShareOfSearch_Volume!$C$1:$D$1000,2,FALSE),\"\")","v":""}]
[{"$f":"IF(ISTEXT(ShareOfSearch_SERPS!C2708),ShareOfSearch_SERPS!C2708,\"\")","v":""},{"$f":"IF(ISTEXT(ShareOfSearch_SERPS!D2708),ShareOfSearch_SERPS!D2708,\"\")","v":""},{"$f":"IF(NOT(ISBLANK(ShareOfSearch_SERPS!A2708)),ShareOfSearch_SERPS!A2708,\"\")","v":""},{"$f":"IF(NOT(ISBLANK(ShareOfSearch_SERPS!G2708)),ShareOfSearch_SERPS!G2708,\"\")","v":""},{"$f":"IF(NOT(ISBLANK(ShareOfSearch_SERPS!K2708)),ShareOfSearch_SERPS!K2708,\"\")","v":""},{"$f":"IFERROR(VLOOKUP(C2708,ShareOfSearch_CTR!$A$1:$B$100,2,FALSE)*VLOOKUP(A2708&B2708,ShareOfSearch_Volume!$C$1:$D$1000,2,FALSE),\"\")","v":""}]
[{"$f":"IF(ISTEXT(ShareOfSearch_SERPS!C2709),ShareOfSearch_SERPS!C2709,\"\")","v":""},{"$f":"IF(ISTEXT(ShareOfSearch_SERPS!D2709),ShareOfSearch_SERPS!D2709,\"\")","v":""},{"$f":"IF(NOT(ISBLANK(ShareOfSearch_SERPS!A2709)),ShareOfSearch_SERPS!A2709,\"\")","v":""},{"$f":"IF(NOT(ISBLANK(ShareOfSearch_SERPS!G2709)),ShareOfSearch_SERPS!G2709,\"\")","v":""},{"$f":"IF(NOT(ISBLANK(ShareOfSearch_SERPS!K2709)),ShareOfSearch_SERPS!K2709,\"\")","v":""},{"$f":"IFERROR(VLOOKUP(C2709,ShareOfSearch_CTR!$A$1:$B$100,2,FALSE)*VLOOKUP(A2709&B2709,ShareOfSearch_Volume!$C$1:$D$1000,2,FALSE),\"\")","v":""}]
[{"$f":"IF(ISTEXT(ShareOfSearch_SERPS!C2710),ShareOfSearch_SERPS!C2710,\"\")","v":""},{"$f":"IF(ISTEXT(ShareOfSearch_SERPS!D2710),ShareOfSearch_SERPS!D2710,\"\")","v":""},{"$f":"IF(NOT(ISBLANK(ShareOfSearch_SERPS!A2710)),ShareOfSearch_SERPS!A2710,\"\")","v":""},{"$f":"IF(NOT(ISBLANK(ShareOfSearch_SERPS!G2710)),ShareOfSearch_SERPS!G2710,\"\")","v":""},{"$f":"IF(NOT(ISBLANK(ShareOfSearch_SERPS!K2710)),ShareOfSearch_SERPS!K2710,\"\")","v":""},{"$f":"IFERROR(VLOOKUP(C2710,ShareOfSearch_CTR!$A$1:$B$100,2,FALSE)*VLOOKUP(A2710&B2710,ShareOfSearch_Volume!$C$1:$D$1000,2,FALSE),\"\")","v":""}]
[{"$f":"IF(ISTEXT(ShareOfSearch_SERPS!C2711),ShareOfSearch_SERPS!C2711,\"\")","v":""},{"$f":"IF(ISTEXT(ShareOfSearch_SERPS!D2711),ShareOfSearch_SERPS!D2711,\"\")","v":""},{"$f":"IF(NOT(ISBLANK(ShareOfSearch_SERPS!A2711)),ShareOfSearch_SERPS!A2711,\"\")","v":""},{"$f":"IF(NOT(ISBLANK(ShareOfSearch_SERPS!G2711)),ShareOfSearch_SERPS!G2711,\"\")","v":""},{"$f":"IF(NOT(ISBLANK(ShareOfSearch_SERPS!K2711)),ShareOfSearch_SERPS!K2711,\"\")","v":""},{"$f":"IFERROR(VLOOKUP(C2711,ShareOfSearch_CTR!$A$1:$B$100,2,FALSE)*VLOOKUP(A2711&B2711,ShareOfSearch_Volume!$C$1:$D$1000,2,FALSE),\"\")","v":""}]
[{"$f":"IF(ISTEXT(ShareOfSearch_SERPS!C2712),ShareOfSearch_SERPS!C2712,\"\")","v":""},{"$f":"IF(ISTEXT(ShareOfSearch_SERPS!D2712),ShareOfSearch_SERPS!D2712,\"\")","v":""},{"$f":"IF(NOT(ISBLANK(ShareOfSearch_SERPS!A2712)),ShareOfSearch_SERPS!A2712,\"\")","v":""},{"$f":"IF(NOT(ISBLANK(ShareOfSearch_SERPS!G2712)),ShareOfSearch_SERPS!G2712,\"\")","v":""},{"$f":"IF(NOT(ISBLANK(ShareOfSearch_SERPS!K2712)),ShareOfSearch_SERPS!K2712,\"\")","v":""},{"$f":"IFERROR(VLOOKUP(C2712,ShareOfSearch_CTR!$A$1:$B$100,2,FALSE)*VLOOKUP(A2712&B2712,ShareOfSearch_Volume!$C$1:$D$1000,2,FALSE),\"\")","v":""}]
[{"$f":"IF(ISTEXT(ShareOfSearch_SERPS!C2713),ShareOfSearch_SERPS!C2713,\"\")","v":""},{"$f":"IF(ISTEXT(ShareOfSearch_SERPS!D2713),ShareOfSearch_SERPS!D2713,\"\")","v":""},{"$f":"IF(NOT(ISBLANK(ShareOfSearch_SERPS!A2713)),ShareOfSearch_SERPS!A2713,\"\")","v":""},{"$f":"IF(NOT(ISBLANK(ShareOfSearch_SERPS!G2713)),ShareOfSearch_SERPS!G2713,\"\")","v":""},{"$f":"IF(NOT(ISBLANK(ShareOfSearch_SERPS!K2713)),ShareOfSearch_SERPS!K2713,\"\")","v":""},{"$f":"IFERROR(VLOOKUP(C2713,ShareOfSearch_CTR!$A$1:$B$100,2,FALSE)*VLOOKUP(A2713&B2713,ShareOfSearch_Volume!$C$1:$D$1000,2,FALSE),\"\")","v":""}]
[{"$f":"IF(ISTEXT(ShareOfSearch_SERPS!C2714),ShareOfSearch_SERPS!C2714,\"\")","v":""},{"$f":"IF(ISTEXT(ShareOfSearch_SERPS!D2714),ShareOfSearch_SERPS!D2714,\"\")","v":""},{"$f":"IF(NOT(ISBLANK(ShareOfSearch_SERPS!A2714)),ShareOfSearch_SERPS!A2714,\"\")","v":""},{"$f":"IF(NOT(ISBLANK(ShareOfSearch_SERPS!G2714)),ShareOfSearch_SERPS!G2714,\"\")","v":""},{"$f":"IF(NOT(ISBLANK(ShareOfSearch_SERPS!K2714)),ShareOfSearch_SERPS!K2714,\"\")","v":""},{"$f":"IFERROR(VLOOKUP(C2714,ShareOfSearch_CTR!$A$1:$B$100,2,FALSE)*VLOOKUP(A2714&B2714,ShareOfSearch_Volume!$C$1:$D$1000,2,FALSE),\"\")","v":""}]
[{"$f":"IF(ISTEXT(ShareOfSearch_SERPS!C2715),ShareOfSearch_SERPS!C2715,\"\")","v":""},{"$f":"IF(ISTEXT(ShareOfSearch_SERPS!D2715),ShareOfSearch_SERPS!D2715,\"\")","v":""},{"$f":"IF(NOT(ISBLANK(ShareOfSearch_SERPS!A2715)),ShareOfSearch_SERPS!A2715,\"\")","v":""},{"$f":"IF(NOT(ISBLANK(ShareOfSearch_SERPS!G2715)),ShareOfSearch_SERPS!G2715,\"\")","v":""},{"$f":"IF(NOT(ISBLANK(ShareOfSearch_SERPS!K2715)),ShareOfSearch_SERPS!K2715,\"\")","v":""},{"$f":"IFERROR(VLOOKUP(C2715,ShareOfSearch_CTR!$A$1:$B$100,2,FALSE)*VLOOKUP(A2715&B2715,ShareOfSearch_Volume!$C$1:$D$1000,2,FALSE),\"\")","v":""}]
[{"$f":"IF(ISTEXT(ShareOfSearch_SERPS!C2716),ShareOfSearch_SERPS!C2716,\"\")","v":""},{"$f":"IF(ISTEXT(ShareOfSearch_SERPS!D2716),ShareOfSearch_SERPS!D2716,\"\")","v":""},{"$f":"IF(NOT(ISBLANK(ShareOfSearch_SERPS!A2716)),ShareOfSearch_SERPS!A2716,\"\")","v":""},{"$f":"IF(NOT(ISBLANK(ShareOfSearch_SERPS!G2716)),ShareOfSearch_SERPS!G2716,\"\")","v":""},{"$f":"IF(NOT(ISBLANK(ShareOfSearch_SERPS!K2716)),ShareOfSearch_SERPS!K2716,\"\")","v":""},{"$f":"IFERROR(VLOOKUP(C2716,ShareOfSearch_CTR!$A$1:$B$100,2,FALSE)*VLOOKUP(A2716&B2716,ShareOfSearch_Volume!$C$1:$D$1000,2,FALSE),\"\")","v":""}]
[{"$f":"IF(ISTEXT(ShareOfSearch_SERPS!C2717),ShareOfSearch_SERPS!C2717,\"\")","v":""},{"$f":"IF(ISTEXT(ShareOfSearch_SERPS!D2717),ShareOfSearch_SERPS!D2717,\"\")","v":""},{"$f":"IF(NOT(ISBLANK(ShareOfSearch_SERPS!A2717)),ShareOfSearch_SERPS!A2717,\"\")","v":""},{"$f":"IF(NOT(ISBLANK(ShareOfSearch_SERPS!G2717)),ShareOfSearch_SERPS!G2717,\"\")","v":""},{"$f":"IF(NOT(ISBLANK(ShareOfSearch_SERPS!K2717)),ShareOfSearch_SERPS!K2717,\"\")","v":""},{"$f":"IFERROR(VLOOKUP(C2717,ShareOfSearch_CTR!$A$1:$B$100,2,FALSE)*VLOOKUP(A2717&B2717,ShareOfSearch_Volume!$C$1:$D$1000,2,FALSE),\"\")","v":""}]
[{"$f":"IF(ISTEXT(ShareOfSearch_SERPS!C2718),ShareOfSearch_SERPS!C2718,\"\")","v":""},{"$f":"IF(ISTEXT(ShareOfSearch_SERPS!D2718),ShareOfSearch_SERPS!D2718,\"\")","v":""},{"$f":"IF(NOT(ISBLANK(ShareOfSearch_SERPS!A2718)),ShareOfSearch_SERPS!A2718,\"\")","v":""},{"$f":"IF(NOT(ISBLANK(ShareOfSearch_SERPS!G2718)),ShareOfSearch_SERPS!G2718,\"\")","v":""},{"$f":"IF(NOT(ISBLANK(ShareOfSearch_SERPS!K2718)),ShareOfSearch_SERPS!K2718,\"\")","v":""},{"$f":"IFERROR(VLOOKUP(C2718,ShareOfSearch_CTR!$A$1:$B$100,2,FALSE)*VLOOKUP(A2718&B2718,ShareOfSearch_Volume!$C$1:$D$1000,2,FALSE),\"\")","v":""}]
[{"$f":"IF(ISTEXT(ShareOfSearch_SERPS!C2719),ShareOfSearch_SERPS!C2719,\"\")","v":""},{"$f":"IF(ISTEXT(ShareOfSearch_SERPS!D2719),ShareOfSearch_SERPS!D2719,\"\")","v":""},{"$f":"IF(NOT(ISBLANK(ShareOfSearch_SERPS!A2719)),ShareOfSearch_SERPS!A2719,\"\")","v":""},{"$f":"IF(NOT(ISBLANK(ShareOfSearch_SERPS!G2719)),ShareOfSearch_SERPS!G2719,\"\")","v":""},{"$f":"IF(NOT(ISBLANK(ShareOfSearch_SERPS!K2719)),ShareOfSearch_SERPS!K2719,\"\")","v":""},{"$f":"IFERROR(VLOOKUP(C2719,ShareOfSearch_CTR!$A$1:$B$100,2,FALSE)*VLOOKUP(A2719&B2719,ShareOfSearch_Volume!$C$1:$D$1000,2,FALSE),\"\")","v":""}]
[{"$f":"IF(ISTEXT(ShareOfSearch_SERPS!C2720),ShareOfSearch_SERPS!C2720,\"\")","v":""},{"$f":"IF(ISTEXT(ShareOfSearch_SERPS!D2720),ShareOfSearch_SERPS!D2720,\"\")","v":""},{"$f":"IF(NOT(ISBLANK(ShareOfSearch_SERPS!A2720)),ShareOfSearch_SERPS!A2720,\"\")","v":""},{"$f":"IF(NOT(ISBLANK(ShareOfSearch_SERPS!G2720)),ShareOfSearch_SERPS!G2720,\"\")","v":""},{"$f":"IF(NOT(ISBLANK(ShareOfSearch_SERPS!K2720)),ShareOfSearch_SERPS!K2720,\"\")","v":""},{"$f":"IFERROR(VLOOKUP(C2720,ShareOfSearch_CTR!$A$1:$B$100,2,FALSE)*VLOOKUP(A2720&B2720,ShareOfSearch_Volume!$C$1:$D$1000,2,FALSE),\"\")","v":""}]
[{"$f":"IF(ISTEXT(ShareOfSearch_SERPS!C2721),ShareOfSearch_SERPS!C2721,\"\")","v":""},{"$f":"IF(ISTEXT(ShareOfSearch_SERPS!D2721),ShareOfSearch_SERPS!D2721,\"\")","v":""},{"$f":"IF(NOT(ISBLANK(ShareOfSearch_SERPS!A2721)),ShareOfSearch_SERPS!A2721,\"\")","v":""},{"$f":"IF(NOT(ISBLANK(ShareOfSearch_SERPS!G2721)),ShareOfSearch_SERPS!G2721,\"\")","v":""},{"$f":"IF(NOT(ISBLANK(ShareOfSearch_SERPS!K2721)),ShareOfSearch_SERPS!K2721,\"\")","v":""},{"$f":"IFERROR(VLOOKUP(C2721,ShareOfSearch_CTR!$A$1:$B$100,2,FALSE)*VLOOKUP(A2721&B2721,ShareOfSearch_Volume!$C$1:$D$1000,2,FALSE),\"\")","v":""}]
[{"$f":"IF(ISTEXT(ShareOfSearch_SERPS!C2722),ShareOfSearch_SERPS!C2722,\"\")","v":""},{"$f":"IF(ISTEXT(ShareOfSearch_SERPS!D2722),ShareOfSearch_SERPS!D2722,\"\")","v":""},{"$f":"IF(NOT(ISBLANK(ShareOfSearch_SERPS!A2722)),ShareOfSearch_SERPS!A2722,\"\")","v":""},{"$f":"IF(NOT(ISBLANK(ShareOfSearch_SERPS!G2722)),ShareOfSearch_SERPS!G2722,\"\")","v":""},{"$f":"IF(NOT(ISBLANK(ShareOfSearch_SERPS!K2722)),ShareOfSearch_SERPS!K2722,\"\")","v":""},{"$f":"IFERROR(VLOOKUP(C2722,ShareOfSearch_CTR!$A$1:$B$100,2,FALSE)*VLOOKUP(A2722&B2722,ShareOfSearch_Volume!$C$1:$D$1000,2,FALSE),\"\")","v":""}]
[{"$f":"IF(ISTEXT(ShareOfSearch_SERPS!C2723),ShareOfSearch_SERPS!C2723,\"\")","v":""},{"$f":"IF(ISTEXT(ShareOfSearch_SERPS!D2723),ShareOfSearch_SERPS!D2723,\"\")","v":""},{"$f":"IF(NOT(ISBLANK(ShareOfSearch_SERPS!A2723)),ShareOfSearch_SERPS!A2723,\"\")","v":""},{"$f":"IF(NOT(ISBLANK(ShareOfSearch_SERPS!G2723)),ShareOfSearch_SERPS!G2723,\"\")","v":""},{"$f":"IF(NOT(ISBLANK(ShareOfSearch_SERPS!K2723)),ShareOfSearch_SERPS!K2723,\"\")","v":""},{"$f":"IFERROR(VLOOKUP(C2723,ShareOfSearch_CTR!$A$1:$B$100,2,FALSE)*VLOOKUP(A2723&B2723,ShareOfSearch_Volume!$C$1:$D$1000,2,FALSE),\"\")","v":""}]
[{"$f":"IF(ISTEXT(ShareOfSearch_SERPS!C2724),ShareOfSearch_SERPS!C2724,\"\")","v":""},{"$f":"IF(ISTEXT(ShareOfSearch_SERPS!D2724),ShareOfSearch_SERPS!D2724,\"\")","v":""},{"$f":"IF(NOT(ISBLANK(ShareOfSearch_SERPS!A2724)),ShareOfSearch_SERPS!A2724,\"\")","v":""},{"$f":"IF(NOT(ISBLANK(ShareOfSearch_SERPS!G2724)),ShareOfSearch_SERPS!G2724,\"\")","v":""},{"$f":"IF(NOT(ISBLANK(ShareOfSearch_SERPS!K2724)),ShareOfSearch_SERPS!K2724,\"\")","v":""},{"$f":"IFERROR(VLOOKUP(C2724,ShareOfSearch_CTR!$A$1:$B$100,2,FALSE)*VLOOKUP(A2724&B2724,ShareOfSearch_Volume!$C$1:$D$1000,2,FALSE),\"\")","v":""}]
[{"$f":"IF(ISTEXT(ShareOfSearch_SERPS!C2725),ShareOfSearch_SERPS!C2725,\"\")","v":""},{"$f":"IF(ISTEXT(ShareOfSearch_SERPS!D2725),ShareOfSearch_SERPS!D2725,\"\")","v":""},{"$f":"IF(NOT(ISBLANK(ShareOfSearch_SERPS!A2725)),ShareOfSearch_SERPS!A2725,\"\")","v":""},{"$f":"IF(NOT(ISBLANK(ShareOfSearch_SERPS!G2725)),ShareOfSearch_SERPS!G2725,\"\")","v":""},{"$f":"IF(NOT(ISBLANK(ShareOfSearch_SERPS!K2725)),ShareOfSearch_SERPS!K2725,\"\")","v":""},{"$f":"IFERROR(VLOOKUP(C2725,ShareOfSearch_CTR!$A$1:$B$100,2,FALSE)*VLOOKUP(A2725&B2725,ShareOfSearch_Volume!$C$1:$D$1000,2,FALSE),\"\")","v":""}]
[{"$f":"IF(ISTEXT(ShareOfSearch_SERPS!C2726),ShareOfSearch_SERPS!C2726,\"\")","v":""},{"$f":"IF(ISTEXT(ShareOfSearch_SERPS!D2726),ShareOfSearch_SERPS!D2726,\"\")","v":""},{"$f":"IF(NOT(ISBLANK(ShareOfSearch_SERPS!A2726)),ShareOfSearch_SERPS!A2726,\"\")","v":""},{"$f":"IF(NOT(ISBLANK(ShareOfSearch_SERPS!G2726)),ShareOfSearch_SERPS!G2726,\"\")","v":""},{"$f":"IF(NOT(ISBLANK(ShareOfSearch_SERPS!K2726)),ShareOfSearch_SERPS!K2726,\"\")","v":""},{"$f":"IFERROR(VLOOKUP(C2726,ShareOfSearch_CTR!$A$1:$B$100,2,FALSE)*VLOOKUP(A2726&B2726,ShareOfSearch_Volume!$C$1:$D$1000,2,FALSE),\"\")","v":""}]
[{"$f":"IF(ISTEXT(ShareOfSearch_SERPS!C2727),ShareOfSearch_SERPS!C2727,\"\")","v":""},{"$f":"IF(ISTEXT(ShareOfSearch_SERPS!D2727),ShareOfSearch_SERPS!D2727,\"\")","v":""},{"$f":"IF(NOT(ISBLANK(ShareOfSearch_SERPS!A2727)),ShareOfSearch_SERPS!A2727,\"\")","v":""},{"$f":"IF(NOT(ISBLANK(ShareOfSearch_SERPS!G2727)),ShareOfSearch_SERPS!G2727,\"\")","v":""},{"$f":"IF(NOT(ISBLANK(ShareOfSearch_SERPS!K2727)),ShareOfSearch_SERPS!K2727,\"\")","v":""},{"$f":"IFERROR(VLOOKUP(C2727,ShareOfSearch_CTR!$A$1:$B$100,2,FALSE)*VLOOKUP(A2727&B2727,ShareOfSearch_Volume!$C$1:$D$1000,2,FALSE),\"\")","v":""}]
[{"$f":"IF(ISTEXT(ShareOfSearch_SERPS!C2728),ShareOfSearch_SERPS!C2728,\"\")","v":""},{"$f":"IF(ISTEXT(ShareOfSearch_SERPS!D2728),ShareOfSearch_SERPS!D2728,\"\")","v":""},{"$f":"IF(NOT(ISBLANK(ShareOfSearch_SERPS!A2728)),ShareOfSearch_SERPS!A2728,\"\")","v":""},{"$f":"IF(NOT(ISBLANK(ShareOfSearch_SERPS!G2728)),ShareOfSearch_SERPS!G2728,\"\")","v":""},{"$f":"IF(NOT(ISBLANK(ShareOfSearch_SERPS!K2728)),ShareOfSearch_SERPS!K2728,\"\")","v":""},{"$f":"IFERROR(VLOOKUP(C2728,ShareOfSearch_CTR!$A$1:$B$100,2,FALSE)*VLOOKUP(A2728&B2728,ShareOfSearch_Volume!$C$1:$D$1000,2,FALSE),\"\")","v":""}]
[{"$f":"IF(ISTEXT(ShareOfSearch_SERPS!C2729),ShareOfSearch_SERPS!C2729,\"\")","v":""},{"$f":"IF(ISTEXT(ShareOfSearch_SERPS!D2729),ShareOfSearch_SERPS!D2729,\"\")","v":""},{"$f":"IF(NOT(ISBLANK(ShareOfSearch_SERPS!A2729)),ShareOfSearch_SERPS!A2729,\"\")","v":""},{"$f":"IF(NOT(ISBLANK(ShareOfSearch_SERPS!G2729)),ShareOfSearch_SERPS!G2729,\"\")","v":""},{"$f":"IF(NOT(ISBLANK(ShareOfSearch_SERPS!K2729)),ShareOfSearch_SERPS!K2729,\"\")","v":""},{"$f":"IFERROR(VLOOKUP(C2729,ShareOfSearch_CTR!$A$1:$B$100,2,FALSE)*VLOOKUP(A2729&B2729,ShareOfSearch_Volume!$C$1:$D$1000,2,FALSE),\"\")","v":""}]
[{"$f":"IF(ISTEXT(ShareOfSearch_SERPS!C2730),ShareOfSearch_SERPS!C2730,\"\")","v":""},{"$f":"IF(ISTEXT(ShareOfSearch_SERPS!D2730),ShareOfSearch_SERPS!D2730,\"\")","v":""},{"$f":"IF(NOT(ISBLANK(ShareOfSearch_SERPS!A2730)),ShareOfSearch_SERPS!A2730,\"\")","v":""},{"$f":"IF(NOT(ISBLANK(ShareOfSearch_SERPS!G2730)),ShareOfSearch_SERPS!G2730,\"\")","v":""},{"$f":"IF(NOT(ISBLANK(ShareOfSearch_SERPS!K2730)),ShareOfSearch_SERPS!K2730,\"\")","v":""},{"$f":"IFERROR(VLOOKUP(C2730,ShareOfSearch_CTR!$A$1:$B$100,2,FALSE)*VLOOKUP(A2730&B2730,ShareOfSearch_Volume!$C$1:$D$1000,2,FALSE),\"\")","v":""}]
[{"$f":"IF(ISTEXT(ShareOfSearch_SERPS!C2731),ShareOfSearch_SERPS!C2731,\"\")","v":""},{"$f":"IF(ISTEXT(ShareOfSearch_SERPS!D2731),ShareOfSearch_SERPS!D2731,\"\")","v":""},{"$f":"IF(NOT(ISBLANK(ShareOfSearch_SERPS!A2731)),ShareOfSearch_SERPS!A2731,\"\")","v":""},{"$f":"IF(NOT(ISBLANK(ShareOfSearch_SERPS!G2731)),ShareOfSearch_SERPS!G2731,\"\")","v":""},{"$f":"IF(NOT(ISBLANK(ShareOfSearch_SERPS!K2731)),ShareOfSearch_SERPS!K2731,\"\")","v":""},{"$f":"IFERROR(VLOOKUP(C2731,ShareOfSearch_CTR!$A$1:$B$100,2,FALSE)*VLOOKUP(A2731&B2731,ShareOfSearch_Volume!$C$1:$D$1000,2,FALSE),\"\")","v":""}]
[{"$f":"IF(ISTEXT(ShareOfSearch_SERPS!C2732),ShareOfSearch_SERPS!C2732,\"\")","v":""},{"$f":"IF(ISTEXT(ShareOfSearch_SERPS!D2732),ShareOfSearch_SERPS!D2732,\"\")","v":""},{"$f":"IF(NOT(ISBLANK(ShareOfSearch_SERPS!A2732)),ShareOfSearch_SERPS!A2732,\"\")","v":""},{"$f":"IF(NOT(ISBLANK(ShareOfSearch_SERPS!G2732)),ShareOfSearch_SERPS!G2732,\"\")","v":""},{"$f":"IF(NOT(ISBLANK(ShareOfSearch_SERPS!K2732)),ShareOfSearch_SERPS!K2732,\"\")","v":""},{"$f":"IFERROR(VLOOKUP(C2732,ShareOfSearch_CTR!$A$1:$B$100,2,FALSE)*VLOOKUP(A2732&B2732,ShareOfSearch_Volume!$C$1:$D$1000,2,FALSE),\"\")","v":""}]
[{"$f":"IF(ISTEXT(ShareOfSearch_SERPS!C2733),ShareOfSearch_SERPS!C2733,\"\")","v":""},{"$f":"IF(ISTEXT(ShareOfSearch_SERPS!D2733),ShareOfSearch_SERPS!D2733,\"\")","v":""},{"$f":"IF(NOT(ISBLANK(ShareOfSearch_SERPS!A2733)),ShareOfSearch_SERPS!A2733,\"\")","v":""},{"$f":"IF(NOT(ISBLANK(ShareOfSearch_SERPS!G2733)),ShareOfSearch_SERPS!G2733,\"\")","v":""},{"$f":"IF(NOT(ISBLANK(ShareOfSearch_SERPS!K2733)),ShareOfSearch_SERPS!K2733,\"\")","v":""},{"$f":"IFERROR(VLOOKUP(C2733,ShareOfSearch_CTR!$A$1:$B$100,2,FALSE)*VLOOKUP(A2733&B2733,ShareOfSearch_Volume!$C$1:$D$1000,2,FALSE),\"\")","v":""}]
[{"$f":"IF(ISTEXT(ShareOfSearch_SERPS!C2734),ShareOfSearch_SERPS!C2734,\"\")","v":""},{"$f":"IF(ISTEXT(ShareOfSearch_SERPS!D2734),ShareOfSearch_SERPS!D2734,\"\")","v":""},{"$f":"IF(NOT(ISBLANK(ShareOfSearch_SERPS!A2734)),ShareOfSearch_SERPS!A2734,\"\")","v":""},{"$f":"IF(NOT(ISBLANK(ShareOfSearch_SERPS!G2734)),ShareOfSearch_SERPS!G2734,\"\")","v":""},{"$f":"IF(NOT(ISBLANK(ShareOfSearch_SERPS!K2734)),ShareOfSearch_SERPS!K2734,\"\")","v":""},{"$f":"IFERROR(VLOOKUP(C2734,ShareOfSearch_CTR!$A$1:$B$100,2,FALSE)*VLOOKUP(A2734&B2734,ShareOfSearch_Volume!$C$1:$D$1000,2,FALSE),\"\")","v":""}]
[{"$f":"IF(ISTEXT(ShareOfSearch_SERPS!C2735),ShareOfSearch_SERPS!C2735,\"\")","v":""},{"$f":"IF(ISTEXT(ShareOfSearch_SERPS!D2735),ShareOfSearch_SERPS!D2735,\"\")","v":""},{"$f":"IF(NOT(ISBLANK(ShareOfSearch_SERPS!A2735)),ShareOfSearch_SERPS!A2735,\"\")","v":""},{"$f":"IF(NOT(ISBLANK(ShareOfSearch_SERPS!G2735)),ShareOfSearch_SERPS!G2735,\"\")","v":""},{"$f":"IF(NOT(ISBLANK(ShareOfSearch_SERPS!K2735)),ShareOfSearch_SERPS!K2735,\"\")","v":""},{"$f":"IFERROR(VLOOKUP(C2735,ShareOfSearch_CTR!$A$1:$B$100,2,FALSE)*VLOOKUP(A2735&B2735,ShareOfSearch_Volume!$C$1:$D$1000,2,FALSE),\"\")","v":""}]
[{"$f":"IF(ISTEXT(ShareOfSearch_SERPS!C2736),ShareOfSearch_SERPS!C2736,\"\")","v":""},{"$f":"IF(ISTEXT(ShareOfSearch_SERPS!D2736),ShareOfSearch_SERPS!D2736,\"\")","v":""},{"$f":"IF(NOT(ISBLANK(ShareOfSearch_SERPS!A2736)),ShareOfSearch_SERPS!A2736,\"\")","v":""},{"$f":"IF(NOT(ISBLANK(ShareOfSearch_SERPS!G2736)),ShareOfSearch_SERPS!G2736,\"\")","v":""},{"$f":"IF(NOT(ISBLANK(ShareOfSearch_SERPS!K2736)),ShareOfSearch_SERPS!K2736,\"\")","v":""},{"$f":"IFERROR(VLOOKUP(C2736,ShareOfSearch_CTR!$A$1:$B$100,2,FALSE)*VLOOKUP(A2736&B2736,ShareOfSearch_Volume!$C$1:$D$1000,2,FALSE),\"\")","v":""}]
[{"$f":"IF(ISTEXT(ShareOfSearch_SERPS!C2737),ShareOfSearch_SERPS!C2737,\"\")","v":""},{"$f":"IF(ISTEXT(ShareOfSearch_SERPS!D2737),ShareOfSearch_SERPS!D2737,\"\")","v":""},{"$f":"IF(NOT(ISBLANK(ShareOfSearch_SERPS!A2737)),ShareOfSearch_SERPS!A2737,\"\")","v":""},{"$f":"IF(NOT(ISBLANK(ShareOfSearch_SERPS!G2737)),ShareOfSearch_SERPS!G2737,\"\")","v":""},{"$f":"IF(NOT(ISBLANK(ShareOfSearch_SERPS!K2737)),ShareOfSearch_SERPS!K2737,\"\")","v":""},{"$f":"IFERROR(VLOOKUP(C2737,ShareOfSearch_CTR!$A$1:$B$100,2,FALSE)*VLOOKUP(A2737&B2737,ShareOfSearch_Volume!$C$1:$D$1000,2,FALSE),\"\")","v":""}]
[{"$f":"IF(ISTEXT(ShareOfSearch_SERPS!C2738),ShareOfSearch_SERPS!C2738,\"\")","v":""},{"$f":"IF(ISTEXT(ShareOfSearch_SERPS!D2738),ShareOfSearch_SERPS!D2738,\"\")","v":""},{"$f":"IF(NOT(ISBLANK(ShareOfSearch_SERPS!A2738)),ShareOfSearch_SERPS!A2738,\"\")","v":""},{"$f":"IF(NOT(ISBLANK(ShareOfSearch_SERPS!G2738)),ShareOfSearch_SERPS!G2738,\"\")","v":""},{"$f":"IF(NOT(ISBLANK(ShareOfSearch_SERPS!K2738)),ShareOfSearch_SERPS!K2738,\"\")","v":""},{"$f":"IFERROR(VLOOKUP(C2738,ShareOfSearch_CTR!$A$1:$B$100,2,FALSE)*VLOOKUP(A2738&B2738,ShareOfSearch_Volume!$C$1:$D$1000,2,FALSE),\"\")","v":""}]
[{"$f":"IF(ISTEXT(ShareOfSearch_SERPS!C2739),ShareOfSearch_SERPS!C2739,\"\")","v":""},{"$f":"IF(ISTEXT(ShareOfSearch_SERPS!D2739),ShareOfSearch_SERPS!D2739,\"\")","v":""},{"$f":"IF(NOT(ISBLANK(ShareOfSearch_SERPS!A2739)),ShareOfSearch_SERPS!A2739,\"\")","v":""},{"$f":"IF(NOT(ISBLANK(ShareOfSearch_SERPS!G2739)),ShareOfSearch_SERPS!G2739,\"\")","v":""},{"$f":"IF(NOT(ISBLANK(ShareOfSearch_SERPS!K2739)),ShareOfSearch_SERPS!K2739,\"\")","v":""},{"$f":"IFERROR(VLOOKUP(C2739,ShareOfSearch_CTR!$A$1:$B$100,2,FALSE)*VLOOKUP(A2739&B2739,ShareOfSearch_Volume!$C$1:$D$1000,2,FALSE),\"\")","v":""}]
[{"$f":"IF(ISTEXT(ShareOfSearch_SERPS!C2740),ShareOfSearch_SERPS!C2740,\"\")","v":""},{"$f":"IF(ISTEXT(ShareOfSearch_SERPS!D2740),ShareOfSearch_SERPS!D2740,\"\")","v":""},{"$f":"IF(NOT(ISBLANK(ShareOfSearch_SERPS!A2740)),ShareOfSearch_SERPS!A2740,\"\")","v":""},{"$f":"IF(NOT(ISBLANK(ShareOfSearch_SERPS!G2740)),ShareOfSearch_SERPS!G2740,\"\")","v":""},{"$f":"IF(NOT(ISBLANK(ShareOfSearch_SERPS!K2740)),ShareOfSearch_SERPS!K2740,\"\")","v":""},{"$f":"IFERROR(VLOOKUP(C2740,ShareOfSearch_CTR!$A$1:$B$100,2,FALSE)*VLOOKUP(A2740&B2740,ShareOfSearch_Volume!$C$1:$D$1000,2,FALSE),\"\")","v":""}]
[{"$f":"IF(ISTEXT(ShareOfSearch_SERPS!C2741),ShareOfSearch_SERPS!C2741,\"\")","v":""},{"$f":"IF(ISTEXT(ShareOfSearch_SERPS!D2741),ShareOfSearch_SERPS!D2741,\"\")","v":""},{"$f":"IF(NOT(ISBLANK(ShareOfSearch_SERPS!A2741)),ShareOfSearch_SERPS!A2741,\"\")","v":""},{"$f":"IF(NOT(ISBLANK(ShareOfSearch_SERPS!G2741)),ShareOfSearch_SERPS!G2741,\"\")","v":""},{"$f":"IF(NOT(ISBLANK(ShareOfSearch_SERPS!K2741)),ShareOfSearch_SERPS!K2741,\"\")","v":""},{"$f":"IFERROR(VLOOKUP(C2741,ShareOfSearch_CTR!$A$1:$B$100,2,FALSE)*VLOOKUP(A2741&B2741,ShareOfSearch_Volume!$C$1:$D$1000,2,FALSE),\"\")","v":""}]
[{"$f":"IF(ISTEXT(ShareOfSearch_SERPS!C2742),ShareOfSearch_SERPS!C2742,\"\")","v":""},{"$f":"IF(ISTEXT(ShareOfSearch_SERPS!D2742),ShareOfSearch_SERPS!D2742,\"\")","v":""},{"$f":"IF(NOT(ISBLANK(ShareOfSearch_SERPS!A2742)),ShareOfSearch_SERPS!A2742,\"\")","v":""},{"$f":"IF(NOT(ISBLANK(ShareOfSearch_SERPS!G2742)),ShareOfSearch_SERPS!G2742,\"\")","v":""},{"$f":"IF(NOT(ISBLANK(ShareOfSearch_SERPS!K2742)),ShareOfSearch_SERPS!K2742,\"\")","v":""},{"$f":"IFERROR(VLOOKUP(C2742,ShareOfSearch_CTR!$A$1:$B$100,2,FALSE)*VLOOKUP(A2742&B2742,ShareOfSearch_Volume!$C$1:$D$1000,2,FALSE),\"\")","v":""}]
[{"$f":"IF(ISTEXT(ShareOfSearch_SERPS!C2743),ShareOfSearch_SERPS!C2743,\"\")","v":""},{"$f":"IF(ISTEXT(ShareOfSearch_SERPS!D2743),ShareOfSearch_SERPS!D2743,\"\")","v":""},{"$f":"IF(NOT(ISBLANK(ShareOfSearch_SERPS!A2743)),ShareOfSearch_SERPS!A2743,\"\")","v":""},{"$f":"IF(NOT(ISBLANK(ShareOfSearch_SERPS!G2743)),ShareOfSearch_SERPS!G2743,\"\")","v":""},{"$f":"IF(NOT(ISBLANK(ShareOfSearch_SERPS!K2743)),ShareOfSearch_SERPS!K2743,\"\")","v":""},{"$f":"IFERROR(VLOOKUP(C2743,ShareOfSearch_CTR!$A$1:$B$100,2,FALSE)*VLOOKUP(A2743&B2743,ShareOfSearch_Volume!$C$1:$D$1000,2,FALSE),\"\")","v":""}]
[{"$f":"IF(ISTEXT(ShareOfSearch_SERPS!C2744),ShareOfSearch_SERPS!C2744,\"\")","v":""},{"$f":"IF(ISTEXT(ShareOfSearch_SERPS!D2744),ShareOfSearch_SERPS!D2744,\"\")","v":""},{"$f":"IF(NOT(ISBLANK(ShareOfSearch_SERPS!A2744)),ShareOfSearch_SERPS!A2744,\"\")","v":""},{"$f":"IF(NOT(ISBLANK(ShareOfSearch_SERPS!G2744)),ShareOfSearch_SERPS!G2744,\"\")","v":""},{"$f":"IF(NOT(ISBLANK(ShareOfSearch_SERPS!K2744)),ShareOfSearch_SERPS!K2744,\"\")","v":""},{"$f":"IFERROR(VLOOKUP(C2744,ShareOfSearch_CTR!$A$1:$B$100,2,FALSE)*VLOOKUP(A2744&B2744,ShareOfSearch_Volume!$C$1:$D$1000,2,FALSE),\"\")","v":""}]
[{"$f":"IF(ISTEXT(ShareOfSearch_SERPS!C2745),ShareOfSearch_SERPS!C2745,\"\")","v":""},{"$f":"IF(ISTEXT(ShareOfSearch_SERPS!D2745),ShareOfSearch_SERPS!D2745,\"\")","v":""},{"$f":"IF(NOT(ISBLANK(ShareOfSearch_SERPS!A2745)),ShareOfSearch_SERPS!A2745,\"\")","v":""},{"$f":"IF(NOT(ISBLANK(ShareOfSearch_SERPS!G2745)),ShareOfSearch_SERPS!G2745,\"\")","v":""},{"$f":"IF(NOT(ISBLANK(ShareOfSearch_SERPS!K2745)),ShareOfSearch_SERPS!K2745,\"\")","v":""},{"$f":"IFERROR(VLOOKUP(C2745,ShareOfSearch_CTR!$A$1:$B$100,2,FALSE)*VLOOKUP(A2745&B2745,ShareOfSearch_Volume!$C$1:$D$1000,2,FALSE),\"\")","v":""}]
[{"$f":"IF(ISTEXT(ShareOfSearch_SERPS!C2746),ShareOfSearch_SERPS!C2746,\"\")","v":""},{"$f":"IF(ISTEXT(ShareOfSearch_SERPS!D2746),ShareOfSearch_SERPS!D2746,\"\")","v":""},{"$f":"IF(NOT(ISBLANK(ShareOfSearch_SERPS!A2746)),ShareOfSearch_SERPS!A2746,\"\")","v":""},{"$f":"IF(NOT(ISBLANK(ShareOfSearch_SERPS!G2746)),ShareOfSearch_SERPS!G2746,\"\")","v":""},{"$f":"IF(NOT(ISBLANK(ShareOfSearch_SERPS!K2746)),ShareOfSearch_SERPS!K2746,\"\")","v":""},{"$f":"IFERROR(VLOOKUP(C2746,ShareOfSearch_CTR!$A$1:$B$100,2,FALSE)*VLOOKUP(A2746&B2746,ShareOfSearch_Volume!$C$1:$D$1000,2,FALSE),\"\")","v":""}]
[{"$f":"IF(ISTEXT(ShareOfSearch_SERPS!C2747),ShareOfSearch_SERPS!C2747,\"\")","v":""},{"$f":"IF(ISTEXT(ShareOfSearch_SERPS!D2747),ShareOfSearch_SERPS!D2747,\"\")","v":""},{"$f":"IF(NOT(ISBLANK(ShareOfSearch_SERPS!A2747)),ShareOfSearch_SERPS!A2747,\"\")","v":""},{"$f":"IF(NOT(ISBLANK(ShareOfSearch_SERPS!G2747)),ShareOfSearch_SERPS!G2747,\"\")","v":""},{"$f":"IF(NOT(ISBLANK(ShareOfSearch_SERPS!K2747)),ShareOfSearch_SERPS!K2747,\"\")","v":""},{"$f":"IFERROR(VLOOKUP(C2747,ShareOfSearch_CTR!$A$1:$B$100,2,FALSE)*VLOOKUP(A2747&B2747,ShareOfSearch_Volume!$C$1:$D$1000,2,FALSE),\"\")","v":""}]
[{"$f":"IF(ISTEXT(ShareOfSearch_SERPS!C2748),ShareOfSearch_SERPS!C2748,\"\")","v":""},{"$f":"IF(ISTEXT(ShareOfSearch_SERPS!D2748),ShareOfSearch_SERPS!D2748,\"\")","v":""},{"$f":"IF(NOT(ISBLANK(ShareOfSearch_SERPS!A2748)),ShareOfSearch_SERPS!A2748,\"\")","v":""},{"$f":"IF(NOT(ISBLANK(ShareOfSearch_SERPS!G2748)),ShareOfSearch_SERPS!G2748,\"\")","v":""},{"$f":"IF(NOT(ISBLANK(ShareOfSearch_SERPS!K2748)),ShareOfSearch_SERPS!K2748,\"\")","v":""},{"$f":"IFERROR(VLOOKUP(C2748,ShareOfSearch_CTR!$A$1:$B$100,2,FALSE)*VLOOKUP(A2748&B2748,ShareOfSearch_Volume!$C$1:$D$1000,2,FALSE),\"\")","v":""}]
[{"$f":"IF(ISTEXT(ShareOfSearch_SERPS!C2749),ShareOfSearch_SERPS!C2749,\"\")","v":""},{"$f":"IF(ISTEXT(ShareOfSearch_SERPS!D2749),ShareOfSearch_SERPS!D2749,\"\")","v":""},{"$f":"IF(NOT(ISBLANK(ShareOfSearch_SERPS!A2749)),ShareOfSearch_SERPS!A2749,\"\")","v":""},{"$f":"IF(NOT(ISBLANK(ShareOfSearch_SERPS!G2749)),ShareOfSearch_SERPS!G2749,\"\")","v":""},{"$f":"IF(NOT(ISBLANK(ShareOfSearch_SERPS!K2749)),ShareOfSearch_SERPS!K2749,\"\")","v":""},{"$f":"IFERROR(VLOOKUP(C2749,ShareOfSearch_CTR!$A$1:$B$100,2,FALSE)*VLOOKUP(A2749&B2749,ShareOfSearch_Volume!$C$1:$D$1000,2,FALSE),\"\")","v":""}]
[{"$f":"IF(ISTEXT(ShareOfSearch_SERPS!C2750),ShareOfSearch_SERPS!C2750,\"\")","v":""},{"$f":"IF(ISTEXT(ShareOfSearch_SERPS!D2750),ShareOfSearch_SERPS!D2750,\"\")","v":""},{"$f":"IF(NOT(ISBLANK(ShareOfSearch_SERPS!A2750)),ShareOfSearch_SERPS!A2750,\"\")","v":""},{"$f":"IF(NOT(ISBLANK(ShareOfSearch_SERPS!G2750)),ShareOfSearch_SERPS!G2750,\"\")","v":""},{"$f":"IF(NOT(ISBLANK(ShareOfSearch_SERPS!K2750)),ShareOfSearch_SERPS!K2750,\"\")","v":""},{"$f":"IFERROR(VLOOKUP(C2750,ShareOfSearch_CTR!$A$1:$B$100,2,FALSE)*VLOOKUP(A2750&B2750,ShareOfSearch_Volume!$C$1:$D$1000,2,FALSE),\"\")","v":""}]
[{"$f":"IF(ISTEXT(ShareOfSearch_SERPS!C2751),ShareOfSearch_SERPS!C2751,\"\")","v":""},{"$f":"IF(ISTEXT(ShareOfSearch_SERPS!D2751),ShareOfSearch_SERPS!D2751,\"\")","v":""},{"$f":"IF(NOT(ISBLANK(ShareOfSearch_SERPS!A2751)),ShareOfSearch_SERPS!A2751,\"\")","v":""},{"$f":"IF(NOT(ISBLANK(ShareOfSearch_SERPS!G2751)),ShareOfSearch_SERPS!G2751,\"\")","v":""},{"$f":"IF(NOT(ISBLANK(ShareOfSearch_SERPS!K2751)),ShareOfSearch_SERPS!K2751,\"\")","v":""},{"$f":"IFERROR(VLOOKUP(C2751,ShareOfSearch_CTR!$A$1:$B$100,2,FALSE)*VLOOKUP(A2751&B2751,ShareOfSearch_Volume!$C$1:$D$1000,2,FALSE),\"\")","v":""}]
[{"$f":"IF(ISTEXT(ShareOfSearch_SERPS!C2752),ShareOfSearch_SERPS!C2752,\"\")","v":""},{"$f":"IF(ISTEXT(ShareOfSearch_SERPS!D2752),ShareOfSearch_SERPS!D2752,\"\")","v":""},{"$f":"IF(NOT(ISBLANK(ShareOfSearch_SERPS!A2752)),ShareOfSearch_SERPS!A2752,\"\")","v":""},{"$f":"IF(NOT(ISBLANK(ShareOfSearch_SERPS!G2752)),ShareOfSearch_SERPS!G2752,\"\")","v":""},{"$f":"IF(NOT(ISBLANK(ShareOfSearch_SERPS!K2752)),ShareOfSearch_SERPS!K2752,\"\")","v":""},{"$f":"IFERROR(VLOOKUP(C2752,ShareOfSearch_CTR!$A$1:$B$100,2,FALSE)*VLOOKUP(A2752&B2752,ShareOfSearch_Volume!$C$1:$D$1000,2,FALSE),\"\")","v":""}]
[{"$f":"IF(ISTEXT(ShareOfSearch_SERPS!C2753),ShareOfSearch_SERPS!C2753,\"\")","v":""},{"$f":"IF(ISTEXT(ShareOfSearch_SERPS!D2753),ShareOfSearch_SERPS!D2753,\"\")","v":""},{"$f":"IF(NOT(ISBLANK(ShareOfSearch_SERPS!A2753)),ShareOfSearch_SERPS!A2753,\"\")","v":""},{"$f":"IF(NOT(ISBLANK(ShareOfSearch_SERPS!G2753)),ShareOfSearch_SERPS!G2753,\"\")","v":""},{"$f":"IF(NOT(ISBLANK(ShareOfSearch_SERPS!K2753)),ShareOfSearch_SERPS!K2753,\"\")","v":""},{"$f":"IFERROR(VLOOKUP(C2753,ShareOfSearch_CTR!$A$1:$B$100,2,FALSE)*VLOOKUP(A2753&B2753,ShareOfSearch_Volume!$C$1:$D$1000,2,FALSE),\"\")","v":""}]
[{"$f":"IF(ISTEXT(ShareOfSearch_SERPS!C2754),ShareOfSearch_SERPS!C2754,\"\")","v":""},{"$f":"IF(ISTEXT(ShareOfSearch_SERPS!D2754),ShareOfSearch_SERPS!D2754,\"\")","v":""},{"$f":"IF(NOT(ISBLANK(ShareOfSearch_SERPS!A2754)),ShareOfSearch_SERPS!A2754,\"\")","v":""},{"$f":"IF(NOT(ISBLANK(ShareOfSearch_SERPS!G2754)),ShareOfSearch_SERPS!G2754,\"\")","v":""},{"$f":"IF(NOT(ISBLANK(ShareOfSearch_SERPS!K2754)),ShareOfSearch_SERPS!K2754,\"\")","v":""},{"$f":"IFERROR(VLOOKUP(C2754,ShareOfSearch_CTR!$A$1:$B$100,2,FALSE)*VLOOKUP(A2754&B2754,ShareOfSearch_Volume!$C$1:$D$1000,2,FALSE),\"\")","v":""}]
[{"$f":"IF(ISTEXT(ShareOfSearch_SERPS!C2755),ShareOfSearch_SERPS!C2755,\"\")","v":""},{"$f":"IF(ISTEXT(ShareOfSearch_SERPS!D2755),ShareOfSearch_SERPS!D2755,\"\")","v":""},{"$f":"IF(NOT(ISBLANK(ShareOfSearch_SERPS!A2755)),ShareOfSearch_SERPS!A2755,\"\")","v":""},{"$f":"IF(NOT(ISBLANK(ShareOfSearch_SERPS!G2755)),ShareOfSearch_SERPS!G2755,\"\")","v":""},{"$f":"IF(NOT(ISBLANK(ShareOfSearch_SERPS!K2755)),ShareOfSearch_SERPS!K2755,\"\")","v":""},{"$f":"IFERROR(VLOOKUP(C2755,ShareOfSearch_CTR!$A$1:$B$100,2,FALSE)*VLOOKUP(A2755&B2755,ShareOfSearch_Volume!$C$1:$D$1000,2,FALSE),\"\")","v":""}]
[{"$f":"IF(ISTEXT(ShareOfSearch_SERPS!C2756),ShareOfSearch_SERPS!C2756,\"\")","v":""},{"$f":"IF(ISTEXT(ShareOfSearch_SERPS!D2756),ShareOfSearch_SERPS!D2756,\"\")","v":""},{"$f":"IF(NOT(ISBLANK(ShareOfSearch_SERPS!A2756)),ShareOfSearch_SERPS!A2756,\"\")","v":""},{"$f":"IF(NOT(ISBLANK(ShareOfSearch_SERPS!G2756)),ShareOfSearch_SERPS!G2756,\"\")","v":""},{"$f":"IF(NOT(ISBLANK(ShareOfSearch_SERPS!K2756)),ShareOfSearch_SERPS!K2756,\"\")","v":""},{"$f":"IFERROR(VLOOKUP(C2756,ShareOfSearch_CTR!$A$1:$B$100,2,FALSE)*VLOOKUP(A2756&B2756,ShareOfSearch_Volume!$C$1:$D$1000,2,FALSE),\"\")","v":""}]
[{"$f":"IF(ISTEXT(ShareOfSearch_SERPS!C2757),ShareOfSearch_SERPS!C2757,\"\")","v":""},{"$f":"IF(ISTEXT(ShareOfSearch_SERPS!D2757),ShareOfSearch_SERPS!D2757,\"\")","v":""},{"$f":"IF(NOT(ISBLANK(ShareOfSearch_SERPS!A2757)),ShareOfSearch_SERPS!A2757,\"\")","v":""},{"$f":"IF(NOT(ISBLANK(ShareOfSearch_SERPS!G2757)),ShareOfSearch_SERPS!G2757,\"\")","v":""},{"$f":"IF(NOT(ISBLANK(ShareOfSearch_SERPS!K2757)),ShareOfSearch_SERPS!K2757,\"\")","v":""},{"$f":"IFERROR(VLOOKUP(C2757,ShareOfSearch_CTR!$A$1:$B$100,2,FALSE)*VLOOKUP(A2757&B2757,ShareOfSearch_Volume!$C$1:$D$1000,2,FALSE),\"\")","v":""}]
[{"$f":"IF(ISTEXT(ShareOfSearch_SERPS!C2758),ShareOfSearch_SERPS!C2758,\"\")","v":""},{"$f":"IF(ISTEXT(ShareOfSearch_SERPS!D2758),ShareOfSearch_SERPS!D2758,\"\")","v":""},{"$f":"IF(NOT(ISBLANK(ShareOfSearch_SERPS!A2758)),ShareOfSearch_SERPS!A2758,\"\")","v":""},{"$f":"IF(NOT(ISBLANK(ShareOfSearch_SERPS!G2758)),ShareOfSearch_SERPS!G2758,\"\")","v":""},{"$f":"IF(NOT(ISBLANK(ShareOfSearch_SERPS!K2758)),ShareOfSearch_SERPS!K2758,\"\")","v":""},{"$f":"IFERROR(VLOOKUP(C2758,ShareOfSearch_CTR!$A$1:$B$100,2,FALSE)*VLOOKUP(A2758&B2758,ShareOfSearch_Volume!$C$1:$D$1000,2,FALSE),\"\")","v":""}]
[{"$f":"IF(ISTEXT(ShareOfSearch_SERPS!C2759),ShareOfSearch_SERPS!C2759,\"\")","v":""},{"$f":"IF(ISTEXT(ShareOfSearch_SERPS!D2759),ShareOfSearch_SERPS!D2759,\"\")","v":""},{"$f":"IF(NOT(ISBLANK(ShareOfSearch_SERPS!A2759)),ShareOfSearch_SERPS!A2759,\"\")","v":""},{"$f":"IF(NOT(ISBLANK(ShareOfSearch_SERPS!G2759)),ShareOfSearch_SERPS!G2759,\"\")","v":""},{"$f":"IF(NOT(ISBLANK(ShareOfSearch_SERPS!K2759)),ShareOfSearch_SERPS!K2759,\"\")","v":""},{"$f":"IFERROR(VLOOKUP(C2759,ShareOfSearch_CTR!$A$1:$B$100,2,FALSE)*VLOOKUP(A2759&B2759,ShareOfSearch_Volume!$C$1:$D$1000,2,FALSE),\"\")","v":""}]
[{"$f":"IF(ISTEXT(ShareOfSearch_SERPS!C2760),ShareOfSearch_SERPS!C2760,\"\")","v":""},{"$f":"IF(ISTEXT(ShareOfSearch_SERPS!D2760),ShareOfSearch_SERPS!D2760,\"\")","v":""},{"$f":"IF(NOT(ISBLANK(ShareOfSearch_SERPS!A2760)),ShareOfSearch_SERPS!A2760,\"\")","v":""},{"$f":"IF(NOT(ISBLANK(ShareOfSearch_SERPS!G2760)),ShareOfSearch_SERPS!G2760,\"\")","v":""},{"$f":"IF(NOT(ISBLANK(ShareOfSearch_SERPS!K2760)),ShareOfSearch_SERPS!K2760,\"\")","v":""},{"$f":"IFERROR(VLOOKUP(C2760,ShareOfSearch_CTR!$A$1:$B$100,2,FALSE)*VLOOKUP(A2760&B2760,ShareOfSearch_Volume!$C$1:$D$1000,2,FALSE),\"\")","v":""}]
[{"$f":"IF(ISTEXT(ShareOfSearch_SERPS!C2761),ShareOfSearch_SERPS!C2761,\"\")","v":""},{"$f":"IF(ISTEXT(ShareOfSearch_SERPS!D2761),ShareOfSearch_SERPS!D2761,\"\")","v":""},{"$f":"IF(NOT(ISBLANK(ShareOfSearch_SERPS!A2761)),ShareOfSearch_SERPS!A2761,\"\")","v":""},{"$f":"IF(NOT(ISBLANK(ShareOfSearch_SERPS!G2761)),ShareOfSearch_SERPS!G2761,\"\")","v":""},{"$f":"IF(NOT(ISBLANK(ShareOfSearch_SERPS!K2761)),ShareOfSearch_SERPS!K2761,\"\")","v":""},{"$f":"IFERROR(VLOOKUP(C2761,ShareOfSearch_CTR!$A$1:$B$100,2,FALSE)*VLOOKUP(A2761&B2761,ShareOfSearch_Volume!$C$1:$D$1000,2,FALSE),\"\")","v":""}]
[{"$f":"IF(ISTEXT(ShareOfSearch_SERPS!C2762),ShareOfSearch_SERPS!C2762,\"\")","v":""},{"$f":"IF(ISTEXT(ShareOfSearch_SERPS!D2762),ShareOfSearch_SERPS!D2762,\"\")","v":""},{"$f":"IF(NOT(ISBLANK(ShareOfSearch_SERPS!A2762)),ShareOfSearch_SERPS!A2762,\"\")","v":""},{"$f":"IF(NOT(ISBLANK(ShareOfSearch_SERPS!G2762)),ShareOfSearch_SERPS!G2762,\"\")","v":""},{"$f":"IF(NOT(ISBLANK(ShareOfSearch_SERPS!K2762)),ShareOfSearch_SERPS!K2762,\"\")","v":""},{"$f":"IFERROR(VLOOKUP(C2762,ShareOfSearch_CTR!$A$1:$B$100,2,FALSE)*VLOOKUP(A2762&B2762,ShareOfSearch_Volume!$C$1:$D$1000,2,FALSE),\"\")","v":""}]
[{"$f":"IF(ISTEXT(ShareOfSearch_SERPS!C2763),ShareOfSearch_SERPS!C2763,\"\")","v":""},{"$f":"IF(ISTEXT(ShareOfSearch_SERPS!D2763),ShareOfSearch_SERPS!D2763,\"\")","v":""},{"$f":"IF(NOT(ISBLANK(ShareOfSearch_SERPS!A2763)),ShareOfSearch_SERPS!A2763,\"\")","v":""},{"$f":"IF(NOT(ISBLANK(ShareOfSearch_SERPS!G2763)),ShareOfSearch_SERPS!G2763,\"\")","v":""},{"$f":"IF(NOT(ISBLANK(ShareOfSearch_SERPS!K2763)),ShareOfSearch_SERPS!K2763,\"\")","v":""},{"$f":"IFERROR(VLOOKUP(C2763,ShareOfSearch_CTR!$A$1:$B$100,2,FALSE)*VLOOKUP(A2763&B2763,ShareOfSearch_Volume!$C$1:$D$1000,2,FALSE),\"\")","v":""}]
[{"$f":"IF(ISTEXT(ShareOfSearch_SERPS!C2764),ShareOfSearch_SERPS!C2764,\"\")","v":""},{"$f":"IF(ISTEXT(ShareOfSearch_SERPS!D2764),ShareOfSearch_SERPS!D2764,\"\")","v":""},{"$f":"IF(NOT(ISBLANK(ShareOfSearch_SERPS!A2764)),ShareOfSearch_SERPS!A2764,\"\")","v":""},{"$f":"IF(NOT(ISBLANK(ShareOfSearch_SERPS!G2764)),ShareOfSearch_SERPS!G2764,\"\")","v":""},{"$f":"IF(NOT(ISBLANK(ShareOfSearch_SERPS!K2764)),ShareOfSearch_SERPS!K2764,\"\")","v":""},{"$f":"IFERROR(VLOOKUP(C2764,ShareOfSearch_CTR!$A$1:$B$100,2,FALSE)*VLOOKUP(A2764&B2764,ShareOfSearch_Volume!$C$1:$D$1000,2,FALSE),\"\")","v":""}]
[{"$f":"IF(ISTEXT(ShareOfSearch_SERPS!C2765),ShareOfSearch_SERPS!C2765,\"\")","v":""},{"$f":"IF(ISTEXT(ShareOfSearch_SERPS!D2765),ShareOfSearch_SERPS!D2765,\"\")","v":""},{"$f":"IF(NOT(ISBLANK(ShareOfSearch_SERPS!A2765)),ShareOfSearch_SERPS!A2765,\"\")","v":""},{"$f":"IF(NOT(ISBLANK(ShareOfSearch_SERPS!G2765)),ShareOfSearch_SERPS!G2765,\"\")","v":""},{"$f":"IF(NOT(ISBLANK(ShareOfSearch_SERPS!K2765)),ShareOfSearch_SERPS!K2765,\"\")","v":""},{"$f":"IFERROR(VLOOKUP(C2765,ShareOfSearch_CTR!$A$1:$B$100,2,FALSE)*VLOOKUP(A2765&B2765,ShareOfSearch_Volume!$C$1:$D$1000,2,FALSE),\"\")","v":""}]
[{"$f":"IF(ISTEXT(ShareOfSearch_SERPS!C2766),ShareOfSearch_SERPS!C2766,\"\")","v":""},{"$f":"IF(ISTEXT(ShareOfSearch_SERPS!D2766),ShareOfSearch_SERPS!D2766,\"\")","v":""},{"$f":"IF(NOT(ISBLANK(ShareOfSearch_SERPS!A2766)),ShareOfSearch_SERPS!A2766,\"\")","v":""},{"$f":"IF(NOT(ISBLANK(ShareOfSearch_SERPS!G2766)),ShareOfSearch_SERPS!G2766,\"\")","v":""},{"$f":"IF(NOT(ISBLANK(ShareOfSearch_SERPS!K2766)),ShareOfSearch_SERPS!K2766,\"\")","v":""},{"$f":"IFERROR(VLOOKUP(C2766,ShareOfSearch_CTR!$A$1:$B$100,2,FALSE)*VLOOKUP(A2766&B2766,ShareOfSearch_Volume!$C$1:$D$1000,2,FALSE),\"\")","v":""}]
[{"$f":"IF(ISTEXT(ShareOfSearch_SERPS!C2767),ShareOfSearch_SERPS!C2767,\"\")","v":""},{"$f":"IF(ISTEXT(ShareOfSearch_SERPS!D2767),ShareOfSearch_SERPS!D2767,\"\")","v":""},{"$f":"IF(NOT(ISBLANK(ShareOfSearch_SERPS!A2767)),ShareOfSearch_SERPS!A2767,\"\")","v":""},{"$f":"IF(NOT(ISBLANK(ShareOfSearch_SERPS!G2767)),ShareOfSearch_SERPS!G2767,\"\")","v":""},{"$f":"IF(NOT(ISBLANK(ShareOfSearch_SERPS!K2767)),ShareOfSearch_SERPS!K2767,\"\")","v":""},{"$f":"IFERROR(VLOOKUP(C2767,ShareOfSearch_CTR!$A$1:$B$100,2,FALSE)*VLOOKUP(A2767&B2767,ShareOfSearch_Volume!$C$1:$D$1000,2,FALSE),\"\")","v":""}]
[{"$f":"IF(ISTEXT(ShareOfSearch_SERPS!C2768),ShareOfSearch_SERPS!C2768,\"\")","v":""},{"$f":"IF(ISTEXT(ShareOfSearch_SERPS!D2768),ShareOfSearch_SERPS!D2768,\"\")","v":""},{"$f":"IF(NOT(ISBLANK(ShareOfSearch_SERPS!A2768)),ShareOfSearch_SERPS!A2768,\"\")","v":""},{"$f":"IF(NOT(ISBLANK(ShareOfSearch_SERPS!G2768)),ShareOfSearch_SERPS!G2768,\"\")","v":""},{"$f":"IF(NOT(ISBLANK(ShareOfSearch_SERPS!K2768)),ShareOfSearch_SERPS!K2768,\"\")","v":""},{"$f":"IFERROR(VLOOKUP(C2768,ShareOfSearch_CTR!$A$1:$B$100,2,FALSE)*VLOOKUP(A2768&B2768,ShareOfSearch_Volume!$C$1:$D$1000,2,FALSE),\"\")","v":""}]
[{"$f":"IF(ISTEXT(ShareOfSearch_SERPS!C2769),ShareOfSearch_SERPS!C2769,\"\")","v":""},{"$f":"IF(ISTEXT(ShareOfSearch_SERPS!D2769),ShareOfSearch_SERPS!D2769,\"\")","v":""},{"$f":"IF(NOT(ISBLANK(ShareOfSearch_SERPS!A2769)),ShareOfSearch_SERPS!A2769,\"\")","v":""},{"$f":"IF(NOT(ISBLANK(ShareOfSearch_SERPS!G2769)),ShareOfSearch_SERPS!G2769,\"\")","v":""},{"$f":"IF(NOT(ISBLANK(ShareOfSearch_SERPS!K2769)),ShareOfSearch_SERPS!K2769,\"\")","v":""},{"$f":"IFERROR(VLOOKUP(C2769,ShareOfSearch_CTR!$A$1:$B$100,2,FALSE)*VLOOKUP(A2769&B2769,ShareOfSearch_Volume!$C$1:$D$1000,2,FALSE),\"\")","v":""}]
[{"$f":"IF(ISTEXT(ShareOfSearch_SERPS!C2770),ShareOfSearch_SERPS!C2770,\"\")","v":""},{"$f":"IF(ISTEXT(ShareOfSearch_SERPS!D2770),ShareOfSearch_SERPS!D2770,\"\")","v":""},{"$f":"IF(NOT(ISBLANK(ShareOfSearch_SERPS!A2770)),ShareOfSearch_SERPS!A2770,\"\")","v":""},{"$f":"IF(NOT(ISBLANK(ShareOfSearch_SERPS!G2770)),ShareOfSearch_SERPS!G2770,\"\")","v":""},{"$f":"IF(NOT(ISBLANK(ShareOfSearch_SERPS!K2770)),ShareOfSearch_SERPS!K2770,\"\")","v":""},{"$f":"IFERROR(VLOOKUP(C2770,ShareOfSearch_CTR!$A$1:$B$100,2,FALSE)*VLOOKUP(A2770&B2770,ShareOfSearch_Volume!$C$1:$D$1000,2,FALSE),\"\")","v":""}]
[{"$f":"IF(ISTEXT(ShareOfSearch_SERPS!C2771),ShareOfSearch_SERPS!C2771,\"\")","v":""},{"$f":"IF(ISTEXT(ShareOfSearch_SERPS!D2771),ShareOfSearch_SERPS!D2771,\"\")","v":""},{"$f":"IF(NOT(ISBLANK(ShareOfSearch_SERPS!A2771)),ShareOfSearch_SERPS!A2771,\"\")","v":""},{"$f":"IF(NOT(ISBLANK(ShareOfSearch_SERPS!G2771)),ShareOfSearch_SERPS!G2771,\"\")","v":""},{"$f":"IF(NOT(ISBLANK(ShareOfSearch_SERPS!K2771)),ShareOfSearch_SERPS!K2771,\"\")","v":""},{"$f":"IFERROR(VLOOKUP(C2771,ShareOfSearch_CTR!$A$1:$B$100,2,FALSE)*VLOOKUP(A2771&B2771,ShareOfSearch_Volume!$C$1:$D$1000,2,FALSE),\"\")","v":""}]
[{"$f":"IF(ISTEXT(ShareOfSearch_SERPS!C2772),ShareOfSearch_SERPS!C2772,\"\")","v":""},{"$f":"IF(ISTEXT(ShareOfSearch_SERPS!D2772),ShareOfSearch_SERPS!D2772,\"\")","v":""},{"$f":"IF(NOT(ISBLANK(ShareOfSearch_SERPS!A2772)),ShareOfSearch_SERPS!A2772,\"\")","v":""},{"$f":"IF(NOT(ISBLANK(ShareOfSearch_SERPS!G2772)),ShareOfSearch_SERPS!G2772,\"\")","v":""},{"$f":"IF(NOT(ISBLANK(ShareOfSearch_SERPS!K2772)),ShareOfSearch_SERPS!K2772,\"\")","v":""},{"$f":"IFERROR(VLOOKUP(C2772,ShareOfSearch_CTR!$A$1:$B$100,2,FALSE)*VLOOKUP(A2772&B2772,ShareOfSearch_Volume!$C$1:$D$1000,2,FALSE),\"\")","v":""}]
[{"$f":"IF(ISTEXT(ShareOfSearch_SERPS!C2773),ShareOfSearch_SERPS!C2773,\"\")","v":""},{"$f":"IF(ISTEXT(ShareOfSearch_SERPS!D2773),ShareOfSearch_SERPS!D2773,\"\")","v":""},{"$f":"IF(NOT(ISBLANK(ShareOfSearch_SERPS!A2773)),ShareOfSearch_SERPS!A2773,\"\")","v":""},{"$f":"IF(NOT(ISBLANK(ShareOfSearch_SERPS!G2773)),ShareOfSearch_SERPS!G2773,\"\")","v":""},{"$f":"IF(NOT(ISBLANK(ShareOfSearch_SERPS!K2773)),ShareOfSearch_SERPS!K2773,\"\")","v":""},{"$f":"IFERROR(VLOOKUP(C2773,ShareOfSearch_CTR!$A$1:$B$100,2,FALSE)*VLOOKUP(A2773&B2773,ShareOfSearch_Volume!$C$1:$D$1000,2,FALSE),\"\")","v":""}]
[{"$f":"IF(ISTEXT(ShareOfSearch_SERPS!C2774),ShareOfSearch_SERPS!C2774,\"\")","v":""},{"$f":"IF(ISTEXT(ShareOfSearch_SERPS!D2774),ShareOfSearch_SERPS!D2774,\"\")","v":""},{"$f":"IF(NOT(ISBLANK(ShareOfSearch_SERPS!A2774)),ShareOfSearch_SERPS!A2774,\"\")","v":""},{"$f":"IF(NOT(ISBLANK(ShareOfSearch_SERPS!G2774)),ShareOfSearch_SERPS!G2774,\"\")","v":""},{"$f":"IF(NOT(ISBLANK(ShareOfSearch_SERPS!K2774)),ShareOfSearch_SERPS!K2774,\"\")","v":""},{"$f":"IFERROR(VLOOKUP(C2774,ShareOfSearch_CTR!$A$1:$B$100,2,FALSE)*VLOOKUP(A2774&B2774,ShareOfSearch_Volume!$C$1:$D$1000,2,FALSE),\"\")","v":""}]
[{"$f":"IF(ISTEXT(ShareOfSearch_SERPS!C2775),ShareOfSearch_SERPS!C2775,\"\")","v":""},{"$f":"IF(ISTEXT(ShareOfSearch_SERPS!D2775),ShareOfSearch_SERPS!D2775,\"\")","v":""},{"$f":"IF(NOT(ISBLANK(ShareOfSearch_SERPS!A2775)),ShareOfSearch_SERPS!A2775,\"\")","v":""},{"$f":"IF(NOT(ISBLANK(ShareOfSearch_SERPS!G2775)),ShareOfSearch_SERPS!G2775,\"\")","v":""},{"$f":"IF(NOT(ISBLANK(ShareOfSearch_SERPS!K2775)),ShareOfSearch_SERPS!K2775,\"\")","v":""},{"$f":"IFERROR(VLOOKUP(C2775,ShareOfSearch_CTR!$A$1:$B$100,2,FALSE)*VLOOKUP(A2775&B2775,ShareOfSearch_Volume!$C$1:$D$1000,2,FALSE),\"\")","v":""}]
[{"$f":"IF(ISTEXT(ShareOfSearch_SERPS!C2776),ShareOfSearch_SERPS!C2776,\"\")","v":""},{"$f":"IF(ISTEXT(ShareOfSearch_SERPS!D2776),ShareOfSearch_SERPS!D2776,\"\")","v":""},{"$f":"IF(NOT(ISBLANK(ShareOfSearch_SERPS!A2776)),ShareOfSearch_SERPS!A2776,\"\")","v":""},{"$f":"IF(NOT(ISBLANK(ShareOfSearch_SERPS!G2776)),ShareOfSearch_SERPS!G2776,\"\")","v":""},{"$f":"IF(NOT(ISBLANK(ShareOfSearch_SERPS!K2776)),ShareOfSearch_SERPS!K2776,\"\")","v":""},{"$f":"IFERROR(VLOOKUP(C2776,ShareOfSearch_CTR!$A$1:$B$100,2,FALSE)*VLOOKUP(A2776&B2776,ShareOfSearch_Volume!$C$1:$D$1000,2,FALSE),\"\")","v":""}]
[{"$f":"IF(ISTEXT(ShareOfSearch_SERPS!C2777),ShareOfSearch_SERPS!C2777,\"\")","v":""},{"$f":"IF(ISTEXT(ShareOfSearch_SERPS!D2777),ShareOfSearch_SERPS!D2777,\"\")","v":""},{"$f":"IF(NOT(ISBLANK(ShareOfSearch_SERPS!A2777)),ShareOfSearch_SERPS!A2777,\"\")","v":""},{"$f":"IF(NOT(ISBLANK(ShareOfSearch_SERPS!G2777)),ShareOfSearch_SERPS!G2777,\"\")","v":""},{"$f":"IF(NOT(ISBLANK(ShareOfSearch_SERPS!K2777)),ShareOfSearch_SERPS!K2777,\"\")","v":""},{"$f":"IFERROR(VLOOKUP(C2777,ShareOfSearch_CTR!$A$1:$B$100,2,FALSE)*VLOOKUP(A2777&B2777,ShareOfSearch_Volume!$C$1:$D$1000,2,FALSE),\"\")","v":""}]
[{"$f":"IF(ISTEXT(ShareOfSearch_SERPS!C2778),ShareOfSearch_SERPS!C2778,\"\")","v":""},{"$f":"IF(ISTEXT(ShareOfSearch_SERPS!D2778),ShareOfSearch_SERPS!D2778,\"\")","v":""},{"$f":"IF(NOT(ISBLANK(ShareOfSearch_SERPS!A2778)),ShareOfSearch_SERPS!A2778,\"\")","v":""},{"$f":"IF(NOT(ISBLANK(ShareOfSearch_SERPS!G2778)),ShareOfSearch_SERPS!G2778,\"\")","v":""},{"$f":"IF(NOT(ISBLANK(ShareOfSearch_SERPS!K2778)),ShareOfSearch_SERPS!K2778,\"\")","v":""},{"$f":"IFERROR(VLOOKUP(C2778,ShareOfSearch_CTR!$A$1:$B$100,2,FALSE)*VLOOKUP(A2778&B2778,ShareOfSearch_Volume!$C$1:$D$1000,2,FALSE),\"\")","v":""}]
[{"$f":"IF(ISTEXT(ShareOfSearch_SERPS!C2779),ShareOfSearch_SERPS!C2779,\"\")","v":""},{"$f":"IF(ISTEXT(ShareOfSearch_SERPS!D2779),ShareOfSearch_SERPS!D2779,\"\")","v":""},{"$f":"IF(NOT(ISBLANK(ShareOfSearch_SERPS!A2779)),ShareOfSearch_SERPS!A2779,\"\")","v":""},{"$f":"IF(NOT(ISBLANK(ShareOfSearch_SERPS!G2779)),ShareOfSearch_SERPS!G2779,\"\")","v":""},{"$f":"IF(NOT(ISBLANK(ShareOfSearch_SERPS!K2779)),ShareOfSearch_SERPS!K2779,\"\")","v":""},{"$f":"IFERROR(VLOOKUP(C2779,ShareOfSearch_CTR!$A$1:$B$100,2,FALSE)*VLOOKUP(A2779&B2779,ShareOfSearch_Volume!$C$1:$D$1000,2,FALSE),\"\")","v":""}]
[{"$f":"IF(ISTEXT(ShareOfSearch_SERPS!C2780),ShareOfSearch_SERPS!C2780,\"\")","v":""},{"$f":"IF(ISTEXT(ShareOfSearch_SERPS!D2780),ShareOfSearch_SERPS!D2780,\"\")","v":""},{"$f":"IF(NOT(ISBLANK(ShareOfSearch_SERPS!A2780)),ShareOfSearch_SERPS!A2780,\"\")","v":""},{"$f":"IF(NOT(ISBLANK(ShareOfSearch_SERPS!G2780)),ShareOfSearch_SERPS!G2780,\"\")","v":""},{"$f":"IF(NOT(ISBLANK(ShareOfSearch_SERPS!K2780)),ShareOfSearch_SERPS!K2780,\"\")","v":""},{"$f":"IFERROR(VLOOKUP(C2780,ShareOfSearch_CTR!$A$1:$B$100,2,FALSE)*VLOOKUP(A2780&B2780,ShareOfSearch_Volume!$C$1:$D$1000,2,FALSE),\"\")","v":""}]
[{"$f":"IF(ISTEXT(ShareOfSearch_SERPS!C2781),ShareOfSearch_SERPS!C2781,\"\")","v":""},{"$f":"IF(ISTEXT(ShareOfSearch_SERPS!D2781),ShareOfSearch_SERPS!D2781,\"\")","v":""},{"$f":"IF(NOT(ISBLANK(ShareOfSearch_SERPS!A2781)),ShareOfSearch_SERPS!A2781,\"\")","v":""},{"$f":"IF(NOT(ISBLANK(ShareOfSearch_SERPS!G2781)),ShareOfSearch_SERPS!G2781,\"\")","v":""},{"$f":"IF(NOT(ISBLANK(ShareOfSearch_SERPS!K2781)),ShareOfSearch_SERPS!K2781,\"\")","v":""},{"$f":"IFERROR(VLOOKUP(C2781,ShareOfSearch_CTR!$A$1:$B$100,2,FALSE)*VLOOKUP(A2781&B2781,ShareOfSearch_Volume!$C$1:$D$1000,2,FALSE),\"\")","v":""}]
[{"$f":"IF(ISTEXT(ShareOfSearch_SERPS!C2782),ShareOfSearch_SERPS!C2782,\"\")","v":""},{"$f":"IF(ISTEXT(ShareOfSearch_SERPS!D2782),ShareOfSearch_SERPS!D2782,\"\")","v":""},{"$f":"IF(NOT(ISBLANK(ShareOfSearch_SERPS!A2782)),ShareOfSearch_SERPS!A2782,\"\")","v":""},{"$f":"IF(NOT(ISBLANK(ShareOfSearch_SERPS!G2782)),ShareOfSearch_SERPS!G2782,\"\")","v":""},{"$f":"IF(NOT(ISBLANK(ShareOfSearch_SERPS!K2782)),ShareOfSearch_SERPS!K2782,\"\")","v":""},{"$f":"IFERROR(VLOOKUP(C2782,ShareOfSearch_CTR!$A$1:$B$100,2,FALSE)*VLOOKUP(A2782&B2782,ShareOfSearch_Volume!$C$1:$D$1000,2,FALSE),\"\")","v":""}]
[{"$f":"IF(ISTEXT(ShareOfSearch_SERPS!C2783),ShareOfSearch_SERPS!C2783,\"\")","v":""},{"$f":"IF(ISTEXT(ShareOfSearch_SERPS!D2783),ShareOfSearch_SERPS!D2783,\"\")","v":""},{"$f":"IF(NOT(ISBLANK(ShareOfSearch_SERPS!A2783)),ShareOfSearch_SERPS!A2783,\"\")","v":""},{"$f":"IF(NOT(ISBLANK(ShareOfSearch_SERPS!G2783)),ShareOfSearch_SERPS!G2783,\"\")","v":""},{"$f":"IF(NOT(ISBLANK(ShareOfSearch_SERPS!K2783)),ShareOfSearch_SERPS!K2783,\"\")","v":""},{"$f":"IFERROR(VLOOKUP(C2783,ShareOfSearch_CTR!$A$1:$B$100,2,FALSE)*VLOOKUP(A2783&B2783,ShareOfSearch_Volume!$C$1:$D$1000,2,FALSE),\"\")","v":""}]
[{"$f":"IF(ISTEXT(ShareOfSearch_SERPS!C2784),ShareOfSearch_SERPS!C2784,\"\")","v":""},{"$f":"IF(ISTEXT(ShareOfSearch_SERPS!D2784),ShareOfSearch_SERPS!D2784,\"\")","v":""},{"$f":"IF(NOT(ISBLANK(ShareOfSearch_SERPS!A2784)),ShareOfSearch_SERPS!A2784,\"\")","v":""},{"$f":"IF(NOT(ISBLANK(ShareOfSearch_SERPS!G2784)),ShareOfSearch_SERPS!G2784,\"\")","v":""},{"$f":"IF(NOT(ISBLANK(ShareOfSearch_SERPS!K2784)),ShareOfSearch_SERPS!K2784,\"\")","v":""},{"$f":"IFERROR(VLOOKUP(C2784,ShareOfSearch_CTR!$A$1:$B$100,2,FALSE)*VLOOKUP(A2784&B2784,ShareOfSearch_Volume!$C$1:$D$1000,2,FALSE),\"\")","v":""}]
[{"$f":"IF(ISTEXT(ShareOfSearch_SERPS!C2785),ShareOfSearch_SERPS!C2785,\"\")","v":""},{"$f":"IF(ISTEXT(ShareOfSearch_SERPS!D2785),ShareOfSearch_SERPS!D2785,\"\")","v":""},{"$f":"IF(NOT(ISBLANK(ShareOfSearch_SERPS!A2785)),ShareOfSearch_SERPS!A2785,\"\")","v":""},{"$f":"IF(NOT(ISBLANK(ShareOfSearch_SERPS!G2785)),ShareOfSearch_SERPS!G2785,\"\")","v":""},{"$f":"IF(NOT(ISBLANK(ShareOfSearch_SERPS!K2785)),ShareOfSearch_SERPS!K2785,\"\")","v":""},{"$f":"IFERROR(VLOOKUP(C2785,ShareOfSearch_CTR!$A$1:$B$100,2,FALSE)*VLOOKUP(A2785&B2785,ShareOfSearch_Volume!$C$1:$D$1000,2,FALSE),\"\")","v":""}]
[{"$f":"IF(ISTEXT(ShareOfSearch_SERPS!C2786),ShareOfSearch_SERPS!C2786,\"\")","v":""},{"$f":"IF(ISTEXT(ShareOfSearch_SERPS!D2786),ShareOfSearch_SERPS!D2786,\"\")","v":""},{"$f":"IF(NOT(ISBLANK(ShareOfSearch_SERPS!A2786)),ShareOfSearch_SERPS!A2786,\"\")","v":""},{"$f":"IF(NOT(ISBLANK(ShareOfSearch_SERPS!G2786)),ShareOfSearch_SERPS!G2786,\"\")","v":""},{"$f":"IF(NOT(ISBLANK(ShareOfSearch_SERPS!K2786)),ShareOfSearch_SERPS!K2786,\"\")","v":""},{"$f":"IFERROR(VLOOKUP(C2786,ShareOfSearch_CTR!$A$1:$B$100,2,FALSE)*VLOOKUP(A2786&B2786,ShareOfSearch_Volume!$C$1:$D$1000,2,FALSE),\"\")","v":""}]
[{"$f":"IF(ISTEXT(ShareOfSearch_SERPS!C2787),ShareOfSearch_SERPS!C2787,\"\")","v":""},{"$f":"IF(ISTEXT(ShareOfSearch_SERPS!D2787),ShareOfSearch_SERPS!D2787,\"\")","v":""},{"$f":"IF(NOT(ISBLANK(ShareOfSearch_SERPS!A2787)),ShareOfSearch_SERPS!A2787,\"\")","v":""},{"$f":"IF(NOT(ISBLANK(ShareOfSearch_SERPS!G2787)),ShareOfSearch_SERPS!G2787,\"\")","v":""},{"$f":"IF(NOT(ISBLANK(ShareOfSearch_SERPS!K2787)),ShareOfSearch_SERPS!K2787,\"\")","v":""},{"$f":"IFERROR(VLOOKUP(C2787,ShareOfSearch_CTR!$A$1:$B$100,2,FALSE)*VLOOKUP(A2787&B2787,ShareOfSearch_Volume!$C$1:$D$1000,2,FALSE),\"\")","v":""}]
[{"$f":"IF(ISTEXT(ShareOfSearch_SERPS!C2788),ShareOfSearch_SERPS!C2788,\"\")","v":""},{"$f":"IF(ISTEXT(ShareOfSearch_SERPS!D2788),ShareOfSearch_SERPS!D2788,\"\")","v":""},{"$f":"IF(NOT(ISBLANK(ShareOfSearch_SERPS!A2788)),ShareOfSearch_SERPS!A2788,\"\")","v":""},{"$f":"IF(NOT(ISBLANK(ShareOfSearch_SERPS!G2788)),ShareOfSearch_SERPS!G2788,\"\")","v":""},{"$f":"IF(NOT(ISBLANK(ShareOfSearch_SERPS!K2788)),ShareOfSearch_SERPS!K2788,\"\")","v":""},{"$f":"IFERROR(VLOOKUP(C2788,ShareOfSearch_CTR!$A$1:$B$100,2,FALSE)*VLOOKUP(A2788&B2788,ShareOfSearch_Volume!$C$1:$D$1000,2,FALSE),\"\")","v":""}]
[{"$f":"IF(ISTEXT(ShareOfSearch_SERPS!C2789),ShareOfSearch_SERPS!C2789,\"\")","v":""},{"$f":"IF(ISTEXT(ShareOfSearch_SERPS!D2789),ShareOfSearch_SERPS!D2789,\"\")","v":""},{"$f":"IF(NOT(ISBLANK(ShareOfSearch_SERPS!A2789)),ShareOfSearch_SERPS!A2789,\"\")","v":""},{"$f":"IF(NOT(ISBLANK(ShareOfSearch_SERPS!G2789)),ShareOfSearch_SERPS!G2789,\"\")","v":""},{"$f":"IF(NOT(ISBLANK(ShareOfSearch_SERPS!K2789)),ShareOfSearch_SERPS!K2789,\"\")","v":""},{"$f":"IFERROR(VLOOKUP(C2789,ShareOfSearch_CTR!$A$1:$B$100,2,FALSE)*VLOOKUP(A2789&B2789,ShareOfSearch_Volume!$C$1:$D$1000,2,FALSE),\"\")","v":""}]
[{"$f":"IF(ISTEXT(ShareOfSearch_SERPS!C2790),ShareOfSearch_SERPS!C2790,\"\")","v":""},{"$f":"IF(ISTEXT(ShareOfSearch_SERPS!D2790),ShareOfSearch_SERPS!D2790,\"\")","v":""},{"$f":"IF(NOT(ISBLANK(ShareOfSearch_SERPS!A2790)),ShareOfSearch_SERPS!A2790,\"\")","v":""},{"$f":"IF(NOT(ISBLANK(ShareOfSearch_SERPS!G2790)),ShareOfSearch_SERPS!G2790,\"\")","v":""},{"$f":"IF(NOT(ISBLANK(ShareOfSearch_SERPS!K2790)),ShareOfSearch_SERPS!K2790,\"\")","v":""},{"$f":"IFERROR(VLOOKUP(C2790,ShareOfSearch_CTR!$A$1:$B$100,2,FALSE)*VLOOKUP(A2790&B2790,ShareOfSearch_Volume!$C$1:$D$1000,2,FALSE),\"\")","v":""}]
[{"$f":"IF(ISTEXT(ShareOfSearch_SERPS!C2791),ShareOfSearch_SERPS!C2791,\"\")","v":""},{"$f":"IF(ISTEXT(ShareOfSearch_SERPS!D2791),ShareOfSearch_SERPS!D2791,\"\")","v":""},{"$f":"IF(NOT(ISBLANK(ShareOfSearch_SERPS!A2791)),ShareOfSearch_SERPS!A2791,\"\")","v":""},{"$f":"IF(NOT(ISBLANK(ShareOfSearch_SERPS!G2791)),ShareOfSearch_SERPS!G2791,\"\")","v":""},{"$f":"IF(NOT(ISBLANK(ShareOfSearch_SERPS!K2791)),ShareOfSearch_SERPS!K2791,\"\")","v":""},{"$f":"IFERROR(VLOOKUP(C2791,ShareOfSearch_CTR!$A$1:$B$100,2,FALSE)*VLOOKUP(A2791&B2791,ShareOfSearch_Volume!$C$1:$D$1000,2,FALSE),\"\")","v":""}]
[{"$f":"IF(ISTEXT(ShareOfSearch_SERPS!C2792),ShareOfSearch_SERPS!C2792,\"\")","v":""},{"$f":"IF(ISTEXT(ShareOfSearch_SERPS!D2792),ShareOfSearch_SERPS!D2792,\"\")","v":""},{"$f":"IF(NOT(ISBLANK(ShareOfSearch_SERPS!A2792)),ShareOfSearch_SERPS!A2792,\"\")","v":""},{"$f":"IF(NOT(ISBLANK(ShareOfSearch_SERPS!G2792)),ShareOfSearch_SERPS!G2792,\"\")","v":""},{"$f":"IF(NOT(ISBLANK(ShareOfSearch_SERPS!K2792)),ShareOfSearch_SERPS!K2792,\"\")","v":""},{"$f":"IFERROR(VLOOKUP(C2792,ShareOfSearch_CTR!$A$1:$B$100,2,FALSE)*VLOOKUP(A2792&B2792,ShareOfSearch_Volume!$C$1:$D$1000,2,FALSE),\"\")","v":""}]
[{"$f":"IF(ISTEXT(ShareOfSearch_SERPS!C2793),ShareOfSearch_SERPS!C2793,\"\")","v":""},{"$f":"IF(ISTEXT(ShareOfSearch_SERPS!D2793),ShareOfSearch_SERPS!D2793,\"\")","v":""},{"$f":"IF(NOT(ISBLANK(ShareOfSearch_SERPS!A2793)),ShareOfSearch_SERPS!A2793,\"\")","v":""},{"$f":"IF(NOT(ISBLANK(ShareOfSearch_SERPS!G2793)),ShareOfSearch_SERPS!G2793,\"\")","v":""},{"$f":"IF(NOT(ISBLANK(ShareOfSearch_SERPS!K2793)),ShareOfSearch_SERPS!K2793,\"\")","v":""},{"$f":"IFERROR(VLOOKUP(C2793,ShareOfSearch_CTR!$A$1:$B$100,2,FALSE)*VLOOKUP(A2793&B2793,ShareOfSearch_Volume!$C$1:$D$1000,2,FALSE),\"\")","v":""}]
[{"$f":"IF(ISTEXT(ShareOfSearch_SERPS!C2794),ShareOfSearch_SERPS!C2794,\"\")","v":""},{"$f":"IF(ISTEXT(ShareOfSearch_SERPS!D2794),ShareOfSearch_SERPS!D2794,\"\")","v":""},{"$f":"IF(NOT(ISBLANK(ShareOfSearch_SERPS!A2794)),ShareOfSearch_SERPS!A2794,\"\")","v":""},{"$f":"IF(NOT(ISBLANK(ShareOfSearch_SERPS!G2794)),ShareOfSearch_SERPS!G2794,\"\")","v":""},{"$f":"IF(NOT(ISBLANK(ShareOfSearch_SERPS!K2794)),ShareOfSearch_SERPS!K2794,\"\")","v":""},{"$f":"IFERROR(VLOOKUP(C2794,ShareOfSearch_CTR!$A$1:$B$100,2,FALSE)*VLOOKUP(A2794&B2794,ShareOfSearch_Volume!$C$1:$D$1000,2,FALSE),\"\")","v":""}]
[{"$f":"IF(ISTEXT(ShareOfSearch_SERPS!C2795),ShareOfSearch_SERPS!C2795,\"\")","v":""},{"$f":"IF(ISTEXT(ShareOfSearch_SERPS!D2795),ShareOfSearch_SERPS!D2795,\"\")","v":""},{"$f":"IF(NOT(ISBLANK(ShareOfSearch_SERPS!A2795)),ShareOfSearch_SERPS!A2795,\"\")","v":""},{"$f":"IF(NOT(ISBLANK(ShareOfSearch_SERPS!G2795)),ShareOfSearch_SERPS!G2795,\"\")","v":""},{"$f":"IF(NOT(ISBLANK(ShareOfSearch_SERPS!K2795)),ShareOfSearch_SERPS!K2795,\"\")","v":""},{"$f":"IFERROR(VLOOKUP(C2795,ShareOfSearch_CTR!$A$1:$B$100,2,FALSE)*VLOOKUP(A2795&B2795,ShareOfSearch_Volume!$C$1:$D$1000,2,FALSE),\"\")","v":""}]
[{"$f":"IF(ISTEXT(ShareOfSearch_SERPS!C2796),ShareOfSearch_SERPS!C2796,\"\")","v":""},{"$f":"IF(ISTEXT(ShareOfSearch_SERPS!D2796),ShareOfSearch_SERPS!D2796,\"\")","v":""},{"$f":"IF(NOT(ISBLANK(ShareOfSearch_SERPS!A2796)),ShareOfSearch_SERPS!A2796,\"\")","v":""},{"$f":"IF(NOT(ISBLANK(ShareOfSearch_SERPS!G2796)),ShareOfSearch_SERPS!G2796,\"\")","v":""},{"$f":"IF(NOT(ISBLANK(ShareOfSearch_SERPS!K2796)),ShareOfSearch_SERPS!K2796,\"\")","v":""},{"$f":"IFERROR(VLOOKUP(C2796,ShareOfSearch_CTR!$A$1:$B$100,2,FALSE)*VLOOKUP(A2796&B2796,ShareOfSearch_Volume!$C$1:$D$1000,2,FALSE),\"\")","v":""}]
[{"$f":"IF(ISTEXT(ShareOfSearch_SERPS!C2797),ShareOfSearch_SERPS!C2797,\"\")","v":""},{"$f":"IF(ISTEXT(ShareOfSearch_SERPS!D2797),ShareOfSearch_SERPS!D2797,\"\")","v":""},{"$f":"IF(NOT(ISBLANK(ShareOfSearch_SERPS!A2797)),ShareOfSearch_SERPS!A2797,\"\")","v":""},{"$f":"IF(NOT(ISBLANK(ShareOfSearch_SERPS!G2797)),ShareOfSearch_SERPS!G2797,\"\")","v":""},{"$f":"IF(NOT(ISBLANK(ShareOfSearch_SERPS!K2797)),ShareOfSearch_SERPS!K2797,\"\")","v":""},{"$f":"IFERROR(VLOOKUP(C2797,ShareOfSearch_CTR!$A$1:$B$100,2,FALSE)*VLOOKUP(A2797&B2797,ShareOfSearch_Volume!$C$1:$D$1000,2,FALSE),\"\")","v":""}]
[{"$f":"IF(ISTEXT(ShareOfSearch_SERPS!C2798),ShareOfSearch_SERPS!C2798,\"\")","v":""},{"$f":"IF(ISTEXT(ShareOfSearch_SERPS!D2798),ShareOfSearch_SERPS!D2798,\"\")","v":""},{"$f":"IF(NOT(ISBLANK(ShareOfSearch_SERPS!A2798)),ShareOfSearch_SERPS!A2798,\"\")","v":""},{"$f":"IF(NOT(ISBLANK(ShareOfSearch_SERPS!G2798)),ShareOfSearch_SERPS!G2798,\"\")","v":""},{"$f":"IF(NOT(ISBLANK(ShareOfSearch_SERPS!K2798)),ShareOfSearch_SERPS!K2798,\"\")","v":""},{"$f":"IFERROR(VLOOKUP(C2798,ShareOfSearch_CTR!$A$1:$B$100,2,FALSE)*VLOOKUP(A2798&B2798,ShareOfSearch_Volume!$C$1:$D$1000,2,FALSE),\"\")","v":""}]
[{"$f":"IF(ISTEXT(ShareOfSearch_SERPS!C2799),ShareOfSearch_SERPS!C2799,\"\")","v":""},{"$f":"IF(ISTEXT(ShareOfSearch_SERPS!D2799),ShareOfSearch_SERPS!D2799,\"\")","v":""},{"$f":"IF(NOT(ISBLANK(ShareOfSearch_SERPS!A2799)),ShareOfSearch_SERPS!A2799,\"\")","v":""},{"$f":"IF(NOT(ISBLANK(ShareOfSearch_SERPS!G2799)),ShareOfSearch_SERPS!G2799,\"\")","v":""},{"$f":"IF(NOT(ISBLANK(ShareOfSearch_SERPS!K2799)),ShareOfSearch_SERPS!K2799,\"\")","v":""},{"$f":"IFERROR(VLOOKUP(C2799,ShareOfSearch_CTR!$A$1:$B$100,2,FALSE)*VLOOKUP(A2799&B2799,ShareOfSearch_Volume!$C$1:$D$1000,2,FALSE),\"\")","v":""}]
[{"$f":"IF(ISTEXT(ShareOfSearch_SERPS!C2800),ShareOfSearch_SERPS!C2800,\"\")","v":""},{"$f":"IF(ISTEXT(ShareOfSearch_SERPS!D2800),ShareOfSearch_SERPS!D2800,\"\")","v":""},{"$f":"IF(NOT(ISBLANK(ShareOfSearch_SERPS!A2800)),ShareOfSearch_SERPS!A2800,\"\")","v":""},{"$f":"IF(NOT(ISBLANK(ShareOfSearch_SERPS!G2800)),ShareOfSearch_SERPS!G2800,\"\")","v":""},{"$f":"IF(NOT(ISBLANK(ShareOfSearch_SERPS!K2800)),ShareOfSearch_SERPS!K2800,\"\")","v":""},{"$f":"IFERROR(VLOOKUP(C2800,ShareOfSearch_CTR!$A$1:$B$100,2,FALSE)*VLOOKUP(A2800&B2800,ShareOfSearch_Volume!$C$1:$D$1000,2,FALSE),\"\")","v":""}]
[{"$f":"IF(ISTEXT(ShareOfSearch_SERPS!C2801),ShareOfSearch_SERPS!C2801,\"\")","v":""},{"$f":"IF(ISTEXT(ShareOfSearch_SERPS!D2801),ShareOfSearch_SERPS!D2801,\"\")","v":""},{"$f":"IF(NOT(ISBLANK(ShareOfSearch_SERPS!A2801)),ShareOfSearch_SERPS!A2801,\"\")","v":""},{"$f":"IF(NOT(ISBLANK(ShareOfSearch_SERPS!G2801)),ShareOfSearch_SERPS!G2801,\"\")","v":""},{"$f":"IF(NOT(ISBLANK(ShareOfSearch_SERPS!K2801)),ShareOfSearch_SERPS!K2801,\"\")","v":""},{"$f":"IFERROR(VLOOKUP(C2801,ShareOfSearch_CTR!$A$1:$B$100,2,FALSE)*VLOOKUP(A2801&B2801,ShareOfSearch_Volume!$C$1:$D$1000,2,FALSE),\"\")","v":""}]
[{"$f":"IF(ISTEXT(ShareOfSearch_SERPS!C2802),ShareOfSearch_SERPS!C2802,\"\")","v":""},{"$f":"IF(ISTEXT(ShareOfSearch_SERPS!D2802),ShareOfSearch_SERPS!D2802,\"\")","v":""},{"$f":"IF(NOT(ISBLANK(ShareOfSearch_SERPS!A2802)),ShareOfSearch_SERPS!A2802,\"\")","v":""},{"$f":"IF(NOT(ISBLANK(ShareOfSearch_SERPS!G2802)),ShareOfSearch_SERPS!G2802,\"\")","v":""},{"$f":"IF(NOT(ISBLANK(ShareOfSearch_SERPS!K2802)),ShareOfSearch_SERPS!K2802,\"\")","v":""},{"$f":"IFERROR(VLOOKUP(C2802,ShareOfSearch_CTR!$A$1:$B$100,2,FALSE)*VLOOKUP(A2802&B2802,ShareOfSearch_Volume!$C$1:$D$1000,2,FALSE),\"\")","v":""}]
[{"$f":"IF(ISTEXT(ShareOfSearch_SERPS!C2803),ShareOfSearch_SERPS!C2803,\"\")","v":""},{"$f":"IF(ISTEXT(ShareOfSearch_SERPS!D2803),ShareOfSearch_SERPS!D2803,\"\")","v":""},{"$f":"IF(NOT(ISBLANK(ShareOfSearch_SERPS!A2803)),ShareOfSearch_SERPS!A2803,\"\")","v":""},{"$f":"IF(NOT(ISBLANK(ShareOfSearch_SERPS!G2803)),ShareOfSearch_SERPS!G2803,\"\")","v":""},{"$f":"IF(NOT(ISBLANK(ShareOfSearch_SERPS!K2803)),ShareOfSearch_SERPS!K2803,\"\")","v":""},{"$f":"IFERROR(VLOOKUP(C2803,ShareOfSearch_CTR!$A$1:$B$100,2,FALSE)*VLOOKUP(A2803&B2803,ShareOfSearch_Volume!$C$1:$D$1000,2,FALSE),\"\")","v":""}]
[{"$f":"IF(ISTEXT(ShareOfSearch_SERPS!C2804),ShareOfSearch_SERPS!C2804,\"\")","v":""},{"$f":"IF(ISTEXT(ShareOfSearch_SERPS!D2804),ShareOfSearch_SERPS!D2804,\"\")","v":""},{"$f":"IF(NOT(ISBLANK(ShareOfSearch_SERPS!A2804)),ShareOfSearch_SERPS!A2804,\"\")","v":""},{"$f":"IF(NOT(ISBLANK(ShareOfSearch_SERPS!G2804)),ShareOfSearch_SERPS!G2804,\"\")","v":""},{"$f":"IF(NOT(ISBLANK(ShareOfSearch_SERPS!K2804)),ShareOfSearch_SERPS!K2804,\"\")","v":""},{"$f":"IFERROR(VLOOKUP(C2804,ShareOfSearch_CTR!$A$1:$B$100,2,FALSE)*VLOOKUP(A2804&B2804,ShareOfSearch_Volume!$C$1:$D$1000,2,FALSE),\"\")","v":""}]
[{"$f":"IF(ISTEXT(ShareOfSearch_SERPS!C2805),ShareOfSearch_SERPS!C2805,\"\")","v":""},{"$f":"IF(ISTEXT(ShareOfSearch_SERPS!D2805),ShareOfSearch_SERPS!D2805,\"\")","v":""},{"$f":"IF(NOT(ISBLANK(ShareOfSearch_SERPS!A2805)),ShareOfSearch_SERPS!A2805,\"\")","v":""},{"$f":"IF(NOT(ISBLANK(ShareOfSearch_SERPS!G2805)),ShareOfSearch_SERPS!G2805,\"\")","v":""},{"$f":"IF(NOT(ISBLANK(ShareOfSearch_SERPS!K2805)),ShareOfSearch_SERPS!K2805,\"\")","v":""},{"$f":"IFERROR(VLOOKUP(C2805,ShareOfSearch_CTR!$A$1:$B$100,2,FALSE)*VLOOKUP(A2805&B2805,ShareOfSearch_Volume!$C$1:$D$1000,2,FALSE),\"\")","v":""}]
[{"$f":"IF(ISTEXT(ShareOfSearch_SERPS!C2806),ShareOfSearch_SERPS!C2806,\"\")","v":""},{"$f":"IF(ISTEXT(ShareOfSearch_SERPS!D2806),ShareOfSearch_SERPS!D2806,\"\")","v":""},{"$f":"IF(NOT(ISBLANK(ShareOfSearch_SERPS!A2806)),ShareOfSearch_SERPS!A2806,\"\")","v":""},{"$f":"IF(NOT(ISBLANK(ShareOfSearch_SERPS!G2806)),ShareOfSearch_SERPS!G2806,\"\")","v":""},{"$f":"IF(NOT(ISBLANK(ShareOfSearch_SERPS!K2806)),ShareOfSearch_SERPS!K2806,\"\")","v":""},{"$f":"IFERROR(VLOOKUP(C2806,ShareOfSearch_CTR!$A$1:$B$100,2,FALSE)*VLOOKUP(A2806&B2806,ShareOfSearch_Volume!$C$1:$D$1000,2,FALSE),\"\")","v":""}]
[{"$f":"IF(ISTEXT(ShareOfSearch_SERPS!C2807),ShareOfSearch_SERPS!C2807,\"\")","v":""},{"$f":"IF(ISTEXT(ShareOfSearch_SERPS!D2807),ShareOfSearch_SERPS!D2807,\"\")","v":""},{"$f":"IF(NOT(ISBLANK(ShareOfSearch_SERPS!A2807)),ShareOfSearch_SERPS!A2807,\"\")","v":""},{"$f":"IF(NOT(ISBLANK(ShareOfSearch_SERPS!G2807)),ShareOfSearch_SERPS!G2807,\"\")","v":""},{"$f":"IF(NOT(ISBLANK(ShareOfSearch_SERPS!K2807)),ShareOfSearch_SERPS!K2807,\"\")","v":""},{"$f":"IFERROR(VLOOKUP(C2807,ShareOfSearch_CTR!$A$1:$B$100,2,FALSE)*VLOOKUP(A2807&B2807,ShareOfSearch_Volume!$C$1:$D$1000,2,FALSE),\"\")","v":""}]
[{"$f":"IF(ISTEXT(ShareOfSearch_SERPS!C2808),ShareOfSearch_SERPS!C2808,\"\")","v":""},{"$f":"IF(ISTEXT(ShareOfSearch_SERPS!D2808),ShareOfSearch_SERPS!D2808,\"\")","v":""},{"$f":"IF(NOT(ISBLANK(ShareOfSearch_SERPS!A2808)),ShareOfSearch_SERPS!A2808,\"\")","v":""},{"$f":"IF(NOT(ISBLANK(ShareOfSearch_SERPS!G2808)),ShareOfSearch_SERPS!G2808,\"\")","v":""},{"$f":"IF(NOT(ISBLANK(ShareOfSearch_SERPS!K2808)),ShareOfSearch_SERPS!K2808,\"\")","v":""},{"$f":"IFERROR(VLOOKUP(C2808,ShareOfSearch_CTR!$A$1:$B$100,2,FALSE)*VLOOKUP(A2808&B2808,ShareOfSearch_Volume!$C$1:$D$1000,2,FALSE),\"\")","v":""}]
[{"$f":"IF(ISTEXT(ShareOfSearch_SERPS!C2809),ShareOfSearch_SERPS!C2809,\"\")","v":""},{"$f":"IF(ISTEXT(ShareOfSearch_SERPS!D2809),ShareOfSearch_SERPS!D2809,\"\")","v":""},{"$f":"IF(NOT(ISBLANK(ShareOfSearch_SERPS!A2809)),ShareOfSearch_SERPS!A2809,\"\")","v":""},{"$f":"IF(NOT(ISBLANK(ShareOfSearch_SERPS!G2809)),ShareOfSearch_SERPS!G2809,\"\")","v":""},{"$f":"IF(NOT(ISBLANK(ShareOfSearch_SERPS!K2809)),ShareOfSearch_SERPS!K2809,\"\")","v":""},{"$f":"IFERROR(VLOOKUP(C2809,ShareOfSearch_CTR!$A$1:$B$100,2,FALSE)*VLOOKUP(A2809&B2809,ShareOfSearch_Volume!$C$1:$D$1000,2,FALSE),\"\")","v":""}]
[{"$f":"IF(ISTEXT(ShareOfSearch_SERPS!C2810),ShareOfSearch_SERPS!C2810,\"\")","v":""},{"$f":"IF(ISTEXT(ShareOfSearch_SERPS!D2810),ShareOfSearch_SERPS!D2810,\"\")","v":""},{"$f":"IF(NOT(ISBLANK(ShareOfSearch_SERPS!A2810)),ShareOfSearch_SERPS!A2810,\"\")","v":""},{"$f":"IF(NOT(ISBLANK(ShareOfSearch_SERPS!G2810)),ShareOfSearch_SERPS!G2810,\"\")","v":""},{"$f":"IF(NOT(ISBLANK(ShareOfSearch_SERPS!K2810)),ShareOfSearch_SERPS!K2810,\"\")","v":""},{"$f":"IFERROR(VLOOKUP(C2810,ShareOfSearch_CTR!$A$1:$B$100,2,FALSE)*VLOOKUP(A2810&B2810,ShareOfSearch_Volume!$C$1:$D$1000,2,FALSE),\"\")","v":""}]
[{"$f":"IF(ISTEXT(ShareOfSearch_SERPS!C2811),ShareOfSearch_SERPS!C2811,\"\")","v":""},{"$f":"IF(ISTEXT(ShareOfSearch_SERPS!D2811),ShareOfSearch_SERPS!D2811,\"\")","v":""},{"$f":"IF(NOT(ISBLANK(ShareOfSearch_SERPS!A2811)),ShareOfSearch_SERPS!A2811,\"\")","v":""},{"$f":"IF(NOT(ISBLANK(ShareOfSearch_SERPS!G2811)),ShareOfSearch_SERPS!G2811,\"\")","v":""},{"$f":"IF(NOT(ISBLANK(ShareOfSearch_SERPS!K2811)),ShareOfSearch_SERPS!K2811,\"\")","v":""},{"$f":"IFERROR(VLOOKUP(C2811,ShareOfSearch_CTR!$A$1:$B$100,2,FALSE)*VLOOKUP(A2811&B2811,ShareOfSearch_Volume!$C$1:$D$1000,2,FALSE),\"\")","v":""}]
[{"$f":"IF(ISTEXT(ShareOfSearch_SERPS!C2812),ShareOfSearch_SERPS!C2812,\"\")","v":""},{"$f":"IF(ISTEXT(ShareOfSearch_SERPS!D2812),ShareOfSearch_SERPS!D2812,\"\")","v":""},{"$f":"IF(NOT(ISBLANK(ShareOfSearch_SERPS!A2812)),ShareOfSearch_SERPS!A2812,\"\")","v":""},{"$f":"IF(NOT(ISBLANK(ShareOfSearch_SERPS!G2812)),ShareOfSearch_SERPS!G2812,\"\")","v":""},{"$f":"IF(NOT(ISBLANK(ShareOfSearch_SERPS!K2812)),ShareOfSearch_SERPS!K2812,\"\")","v":""},{"$f":"IFERROR(VLOOKUP(C2812,ShareOfSearch_CTR!$A$1:$B$100,2,FALSE)*VLOOKUP(A2812&B2812,ShareOfSearch_Volume!$C$1:$D$1000,2,FALSE),\"\")","v":""}]
[{"$f":"IF(ISTEXT(ShareOfSearch_SERPS!C2813),ShareOfSearch_SERPS!C2813,\"\")","v":""},{"$f":"IF(ISTEXT(ShareOfSearch_SERPS!D2813),ShareOfSearch_SERPS!D2813,\"\")","v":""},{"$f":"IF(NOT(ISBLANK(ShareOfSearch_SERPS!A2813)),ShareOfSearch_SERPS!A2813,\"\")","v":""},{"$f":"IF(NOT(ISBLANK(ShareOfSearch_SERPS!G2813)),ShareOfSearch_SERPS!G2813,\"\")","v":""},{"$f":"IF(NOT(ISBLANK(ShareOfSearch_SERPS!K2813)),ShareOfSearch_SERPS!K2813,\"\")","v":""},{"$f":"IFERROR(VLOOKUP(C2813,ShareOfSearch_CTR!$A$1:$B$100,2,FALSE)*VLOOKUP(A2813&B2813,ShareOfSearch_Volume!$C$1:$D$1000,2,FALSE),\"\")","v":""}]
[{"$f":"IF(ISTEXT(ShareOfSearch_SERPS!C2814),ShareOfSearch_SERPS!C2814,\"\")","v":""},{"$f":"IF(ISTEXT(ShareOfSearch_SERPS!D2814),ShareOfSearch_SERPS!D2814,\"\")","v":""},{"$f":"IF(NOT(ISBLANK(ShareOfSearch_SERPS!A2814)),ShareOfSearch_SERPS!A2814,\"\")","v":""},{"$f":"IF(NOT(ISBLANK(ShareOfSearch_SERPS!G2814)),ShareOfSearch_SERPS!G2814,\"\")","v":""},{"$f":"IF(NOT(ISBLANK(ShareOfSearch_SERPS!K2814)),ShareOfSearch_SERPS!K2814,\"\")","v":""},{"$f":"IFERROR(VLOOKUP(C2814,ShareOfSearch_CTR!$A$1:$B$100,2,FALSE)*VLOOKUP(A2814&B2814,ShareOfSearch_Volume!$C$1:$D$1000,2,FALSE),\"\")","v":""}]
[{"$f":"IF(ISTEXT(ShareOfSearch_SERPS!C2815),ShareOfSearch_SERPS!C2815,\"\")","v":""},{"$f":"IF(ISTEXT(ShareOfSearch_SERPS!D2815),ShareOfSearch_SERPS!D2815,\"\")","v":""},{"$f":"IF(NOT(ISBLANK(ShareOfSearch_SERPS!A2815)),ShareOfSearch_SERPS!A2815,\"\")","v":""},{"$f":"IF(NOT(ISBLANK(ShareOfSearch_SERPS!G2815)),ShareOfSearch_SERPS!G2815,\"\")","v":""},{"$f":"IF(NOT(ISBLANK(ShareOfSearch_SERPS!K2815)),ShareOfSearch_SERPS!K2815,\"\")","v":""},{"$f":"IFERROR(VLOOKUP(C2815,ShareOfSearch_CTR!$A$1:$B$100,2,FALSE)*VLOOKUP(A2815&B2815,ShareOfSearch_Volume!$C$1:$D$1000,2,FALSE),\"\")","v":""}]
[{"$f":"IF(ISTEXT(ShareOfSearch_SERPS!C2816),ShareOfSearch_SERPS!C2816,\"\")","v":""},{"$f":"IF(ISTEXT(ShareOfSearch_SERPS!D2816),ShareOfSearch_SERPS!D2816,\"\")","v":""},{"$f":"IF(NOT(ISBLANK(ShareOfSearch_SERPS!A2816)),ShareOfSearch_SERPS!A2816,\"\")","v":""},{"$f":"IF(NOT(ISBLANK(ShareOfSearch_SERPS!G2816)),ShareOfSearch_SERPS!G2816,\"\")","v":""},{"$f":"IF(NOT(ISBLANK(ShareOfSearch_SERPS!K2816)),ShareOfSearch_SERPS!K2816,\"\")","v":""},{"$f":"IFERROR(VLOOKUP(C2816,ShareOfSearch_CTR!$A$1:$B$100,2,FALSE)*VLOOKUP(A2816&B2816,ShareOfSearch_Volume!$C$1:$D$1000,2,FALSE),\"\")","v":""}]
[{"$f":"IF(ISTEXT(ShareOfSearch_SERPS!C2817),ShareOfSearch_SERPS!C2817,\"\")","v":""},{"$f":"IF(ISTEXT(ShareOfSearch_SERPS!D2817),ShareOfSearch_SERPS!D2817,\"\")","v":""},{"$f":"IF(NOT(ISBLANK(ShareOfSearch_SERPS!A2817)),ShareOfSearch_SERPS!A2817,\"\")","v":""},{"$f":"IF(NOT(ISBLANK(ShareOfSearch_SERPS!G2817)),ShareOfSearch_SERPS!G2817,\"\")","v":""},{"$f":"IF(NOT(ISBLANK(ShareOfSearch_SERPS!K2817)),ShareOfSearch_SERPS!K2817,\"\")","v":""},{"$f":"IFERROR(VLOOKUP(C2817,ShareOfSearch_CTR!$A$1:$B$100,2,FALSE)*VLOOKUP(A2817&B2817,ShareOfSearch_Volume!$C$1:$D$1000,2,FALSE),\"\")","v":""}]
[{"$f":"IF(ISTEXT(ShareOfSearch_SERPS!C2818),ShareOfSearch_SERPS!C2818,\"\")","v":""},{"$f":"IF(ISTEXT(ShareOfSearch_SERPS!D2818),ShareOfSearch_SERPS!D2818,\"\")","v":""},{"$f":"IF(NOT(ISBLANK(ShareOfSearch_SERPS!A2818)),ShareOfSearch_SERPS!A2818,\"\")","v":""},{"$f":"IF(NOT(ISBLANK(ShareOfSearch_SERPS!G2818)),ShareOfSearch_SERPS!G2818,\"\")","v":""},{"$f":"IF(NOT(ISBLANK(ShareOfSearch_SERPS!K2818)),ShareOfSearch_SERPS!K2818,\"\")","v":""},{"$f":"IFERROR(VLOOKUP(C2818,ShareOfSearch_CTR!$A$1:$B$100,2,FALSE)*VLOOKUP(A2818&B2818,ShareOfSearch_Volume!$C$1:$D$1000,2,FALSE),\"\")","v":""}]
[{"$f":"IF(ISTEXT(ShareOfSearch_SERPS!C2819),ShareOfSearch_SERPS!C2819,\"\")","v":""},{"$f":"IF(ISTEXT(ShareOfSearch_SERPS!D2819),ShareOfSearch_SERPS!D2819,\"\")","v":""},{"$f":"IF(NOT(ISBLANK(ShareOfSearch_SERPS!A2819)),ShareOfSearch_SERPS!A2819,\"\")","v":""},{"$f":"IF(NOT(ISBLANK(ShareOfSearch_SERPS!G2819)),ShareOfSearch_SERPS!G2819,\"\")","v":""},{"$f":"IF(NOT(ISBLANK(ShareOfSearch_SERPS!K2819)),ShareOfSearch_SERPS!K2819,\"\")","v":""},{"$f":"IFERROR(VLOOKUP(C2819,ShareOfSearch_CTR!$A$1:$B$100,2,FALSE)*VLOOKUP(A2819&B2819,ShareOfSearch_Volume!$C$1:$D$1000,2,FALSE),\"\")","v":""}]
[{"$f":"IF(ISTEXT(ShareOfSearch_SERPS!C2820),ShareOfSearch_SERPS!C2820,\"\")","v":""},{"$f":"IF(ISTEXT(ShareOfSearch_SERPS!D2820),ShareOfSearch_SERPS!D2820,\"\")","v":""},{"$f":"IF(NOT(ISBLANK(ShareOfSearch_SERPS!A2820)),ShareOfSearch_SERPS!A2820,\"\")","v":""},{"$f":"IF(NOT(ISBLANK(ShareOfSearch_SERPS!G2820)),ShareOfSearch_SERPS!G2820,\"\")","v":""},{"$f":"IF(NOT(ISBLANK(ShareOfSearch_SERPS!K2820)),ShareOfSearch_SERPS!K2820,\"\")","v":""},{"$f":"IFERROR(VLOOKUP(C2820,ShareOfSearch_CTR!$A$1:$B$100,2,FALSE)*VLOOKUP(A2820&B2820,ShareOfSearch_Volume!$C$1:$D$1000,2,FALSE),\"\")","v":""}]
[{"$f":"IF(ISTEXT(ShareOfSearch_SERPS!C2821),ShareOfSearch_SERPS!C2821,\"\")","v":""},{"$f":"IF(ISTEXT(ShareOfSearch_SERPS!D2821),ShareOfSearch_SERPS!D2821,\"\")","v":""},{"$f":"IF(NOT(ISBLANK(ShareOfSearch_SERPS!A2821)),ShareOfSearch_SERPS!A2821,\"\")","v":""},{"$f":"IF(NOT(ISBLANK(ShareOfSearch_SERPS!G2821)),ShareOfSearch_SERPS!G2821,\"\")","v":""},{"$f":"IF(NOT(ISBLANK(ShareOfSearch_SERPS!K2821)),ShareOfSearch_SERPS!K2821,\"\")","v":""},{"$f":"IFERROR(VLOOKUP(C2821,ShareOfSearch_CTR!$A$1:$B$100,2,FALSE)*VLOOKUP(A2821&B2821,ShareOfSearch_Volume!$C$1:$D$1000,2,FALSE),\"\")","v":""}]
[{"$f":"IF(ISTEXT(ShareOfSearch_SERPS!C2822),ShareOfSearch_SERPS!C2822,\"\")","v":""},{"$f":"IF(ISTEXT(ShareOfSearch_SERPS!D2822),ShareOfSearch_SERPS!D2822,\"\")","v":""},{"$f":"IF(NOT(ISBLANK(ShareOfSearch_SERPS!A2822)),ShareOfSearch_SERPS!A2822,\"\")","v":""},{"$f":"IF(NOT(ISBLANK(ShareOfSearch_SERPS!G2822)),ShareOfSearch_SERPS!G2822,\"\")","v":""},{"$f":"IF(NOT(ISBLANK(ShareOfSearch_SERPS!K2822)),ShareOfSearch_SERPS!K2822,\"\")","v":""},{"$f":"IFERROR(VLOOKUP(C2822,ShareOfSearch_CTR!$A$1:$B$100,2,FALSE)*VLOOKUP(A2822&B2822,ShareOfSearch_Volume!$C$1:$D$1000,2,FALSE),\"\")","v":""}]
[{"$f":"IF(ISTEXT(ShareOfSearch_SERPS!C2823),ShareOfSearch_SERPS!C2823,\"\")","v":""},{"$f":"IF(ISTEXT(ShareOfSearch_SERPS!D2823),ShareOfSearch_SERPS!D2823,\"\")","v":""},{"$f":"IF(NOT(ISBLANK(ShareOfSearch_SERPS!A2823)),ShareOfSearch_SERPS!A2823,\"\")","v":""},{"$f":"IF(NOT(ISBLANK(ShareOfSearch_SERPS!G2823)),ShareOfSearch_SERPS!G2823,\"\")","v":""},{"$f":"IF(NOT(ISBLANK(ShareOfSearch_SERPS!K2823)),ShareOfSearch_SERPS!K2823,\"\")","v":""},{"$f":"IFERROR(VLOOKUP(C2823,ShareOfSearch_CTR!$A$1:$B$100,2,FALSE)*VLOOKUP(A2823&B2823,ShareOfSearch_Volume!$C$1:$D$1000,2,FALSE),\"\")","v":""}]
[{"$f":"IF(ISTEXT(ShareOfSearch_SERPS!C2824),ShareOfSearch_SERPS!C2824,\"\")","v":""},{"$f":"IF(ISTEXT(ShareOfSearch_SERPS!D2824),ShareOfSearch_SERPS!D2824,\"\")","v":""},{"$f":"IF(NOT(ISBLANK(ShareOfSearch_SERPS!A2824)),ShareOfSearch_SERPS!A2824,\"\")","v":""},{"$f":"IF(NOT(ISBLANK(ShareOfSearch_SERPS!G2824)),ShareOfSearch_SERPS!G2824,\"\")","v":""},{"$f":"IF(NOT(ISBLANK(ShareOfSearch_SERPS!K2824)),ShareOfSearch_SERPS!K2824,\"\")","v":""},{"$f":"IFERROR(VLOOKUP(C2824,ShareOfSearch_CTR!$A$1:$B$100,2,FALSE)*VLOOKUP(A2824&B2824,ShareOfSearch_Volume!$C$1:$D$1000,2,FALSE),\"\")","v":""}]
[{"$f":"IF(ISTEXT(ShareOfSearch_SERPS!C2825),ShareOfSearch_SERPS!C2825,\"\")","v":""},{"$f":"IF(ISTEXT(ShareOfSearch_SERPS!D2825),ShareOfSearch_SERPS!D2825,\"\")","v":""},{"$f":"IF(NOT(ISBLANK(ShareOfSearch_SERPS!A2825)),ShareOfSearch_SERPS!A2825,\"\")","v":""},{"$f":"IF(NOT(ISBLANK(ShareOfSearch_SERPS!G2825)),ShareOfSearch_SERPS!G2825,\"\")","v":""},{"$f":"IF(NOT(ISBLANK(ShareOfSearch_SERPS!K2825)),ShareOfSearch_SERPS!K2825,\"\")","v":""},{"$f":"IFERROR(VLOOKUP(C2825,ShareOfSearch_CTR!$A$1:$B$100,2,FALSE)*VLOOKUP(A2825&B2825,ShareOfSearch_Volume!$C$1:$D$1000,2,FALSE),\"\")","v":""}]
[{"$f":"IF(ISTEXT(ShareOfSearch_SERPS!C2826),ShareOfSearch_SERPS!C2826,\"\")","v":""},{"$f":"IF(ISTEXT(ShareOfSearch_SERPS!D2826),ShareOfSearch_SERPS!D2826,\"\")","v":""},{"$f":"IF(NOT(ISBLANK(ShareOfSearch_SERPS!A2826)),ShareOfSearch_SERPS!A2826,\"\")","v":""},{"$f":"IF(NOT(ISBLANK(ShareOfSearch_SERPS!G2826)),ShareOfSearch_SERPS!G2826,\"\")","v":""},{"$f":"IF(NOT(ISBLANK(ShareOfSearch_SERPS!K2826)),ShareOfSearch_SERPS!K2826,\"\")","v":""},{"$f":"IFERROR(VLOOKUP(C2826,ShareOfSearch_CTR!$A$1:$B$100,2,FALSE)*VLOOKUP(A2826&B2826,ShareOfSearch_Volume!$C$1:$D$1000,2,FALSE),\"\")","v":""}]
[{"$f":"IF(ISTEXT(ShareOfSearch_SERPS!C2827),ShareOfSearch_SERPS!C2827,\"\")","v":""},{"$f":"IF(ISTEXT(ShareOfSearch_SERPS!D2827),ShareOfSearch_SERPS!D2827,\"\")","v":""},{"$f":"IF(NOT(ISBLANK(ShareOfSearch_SERPS!A2827)),ShareOfSearch_SERPS!A2827,\"\")","v":""},{"$f":"IF(NOT(ISBLANK(ShareOfSearch_SERPS!G2827)),ShareOfSearch_SERPS!G2827,\"\")","v":""},{"$f":"IF(NOT(ISBLANK(ShareOfSearch_SERPS!K2827)),ShareOfSearch_SERPS!K2827,\"\")","v":""},{"$f":"IFERROR(VLOOKUP(C2827,ShareOfSearch_CTR!$A$1:$B$100,2,FALSE)*VLOOKUP(A2827&B2827,ShareOfSearch_Volume!$C$1:$D$1000,2,FALSE),\"\")","v":""}]
[{"$f":"IF(ISTEXT(ShareOfSearch_SERPS!C2828),ShareOfSearch_SERPS!C2828,\"\")","v":""},{"$f":"IF(ISTEXT(ShareOfSearch_SERPS!D2828),ShareOfSearch_SERPS!D2828,\"\")","v":""},{"$f":"IF(NOT(ISBLANK(ShareOfSearch_SERPS!A2828)),ShareOfSearch_SERPS!A2828,\"\")","v":""},{"$f":"IF(NOT(ISBLANK(ShareOfSearch_SERPS!G2828)),ShareOfSearch_SERPS!G2828,\"\")","v":""},{"$f":"IF(NOT(ISBLANK(ShareOfSearch_SERPS!K2828)),ShareOfSearch_SERPS!K2828,\"\")","v":""},{"$f":"IFERROR(VLOOKUP(C2828,ShareOfSearch_CTR!$A$1:$B$100,2,FALSE)*VLOOKUP(A2828&B2828,ShareOfSearch_Volume!$C$1:$D$1000,2,FALSE),\"\")","v":""}]
[{"$f":"IF(ISTEXT(ShareOfSearch_SERPS!C2829),ShareOfSearch_SERPS!C2829,\"\")","v":""},{"$f":"IF(ISTEXT(ShareOfSearch_SERPS!D2829),ShareOfSearch_SERPS!D2829,\"\")","v":""},{"$f":"IF(NOT(ISBLANK(ShareOfSearch_SERPS!A2829)),ShareOfSearch_SERPS!A2829,\"\")","v":""},{"$f":"IF(NOT(ISBLANK(ShareOfSearch_SERPS!G2829)),ShareOfSearch_SERPS!G2829,\"\")","v":""},{"$f":"IF(NOT(ISBLANK(ShareOfSearch_SERPS!K2829)),ShareOfSearch_SERPS!K2829,\"\")","v":""},{"$f":"IFERROR(VLOOKUP(C2829,ShareOfSearch_CTR!$A$1:$B$100,2,FALSE)*VLOOKUP(A2829&B2829,ShareOfSearch_Volume!$C$1:$D$1000,2,FALSE),\"\")","v":""}]
[{"$f":"IF(ISTEXT(ShareOfSearch_SERPS!C2830),ShareOfSearch_SERPS!C2830,\"\")","v":""},{"$f":"IF(ISTEXT(ShareOfSearch_SERPS!D2830),ShareOfSearch_SERPS!D2830,\"\")","v":""},{"$f":"IF(NOT(ISBLANK(ShareOfSearch_SERPS!A2830)),ShareOfSearch_SERPS!A2830,\"\")","v":""},{"$f":"IF(NOT(ISBLANK(ShareOfSearch_SERPS!G2830)),ShareOfSearch_SERPS!G2830,\"\")","v":""},{"$f":"IF(NOT(ISBLANK(ShareOfSearch_SERPS!K2830)),ShareOfSearch_SERPS!K2830,\"\")","v":""},{"$f":"IFERROR(VLOOKUP(C2830,ShareOfSearch_CTR!$A$1:$B$100,2,FALSE)*VLOOKUP(A2830&B2830,ShareOfSearch_Volume!$C$1:$D$1000,2,FALSE),\"\")","v":""}]
[{"$f":"IF(ISTEXT(ShareOfSearch_SERPS!C2831),ShareOfSearch_SERPS!C2831,\"\")","v":""},{"$f":"IF(ISTEXT(ShareOfSearch_SERPS!D2831),ShareOfSearch_SERPS!D2831,\"\")","v":""},{"$f":"IF(NOT(ISBLANK(ShareOfSearch_SERPS!A2831)),ShareOfSearch_SERPS!A2831,\"\")","v":""},{"$f":"IF(NOT(ISBLANK(ShareOfSearch_SERPS!G2831)),ShareOfSearch_SERPS!G2831,\"\")","v":""},{"$f":"IF(NOT(ISBLANK(ShareOfSearch_SERPS!K2831)),ShareOfSearch_SERPS!K2831,\"\")","v":""},{"$f":"IFERROR(VLOOKUP(C2831,ShareOfSearch_CTR!$A$1:$B$100,2,FALSE)*VLOOKUP(A2831&B2831,ShareOfSearch_Volume!$C$1:$D$1000,2,FALSE),\"\")","v":""}]
[{"$f":"IF(ISTEXT(ShareOfSearch_SERPS!C2832),ShareOfSearch_SERPS!C2832,\"\")","v":""},{"$f":"IF(ISTEXT(ShareOfSearch_SERPS!D2832),ShareOfSearch_SERPS!D2832,\"\")","v":""},{"$f":"IF(NOT(ISBLANK(ShareOfSearch_SERPS!A2832)),ShareOfSearch_SERPS!A2832,\"\")","v":""},{"$f":"IF(NOT(ISBLANK(ShareOfSearch_SERPS!G2832)),ShareOfSearch_SERPS!G2832,\"\")","v":""},{"$f":"IF(NOT(ISBLANK(ShareOfSearch_SERPS!K2832)),ShareOfSearch_SERPS!K2832,\"\")","v":""},{"$f":"IFERROR(VLOOKUP(C2832,ShareOfSearch_CTR!$A$1:$B$100,2,FALSE)*VLOOKUP(A2832&B2832,ShareOfSearch_Volume!$C$1:$D$1000,2,FALSE),\"\")","v":""}]
[{"$f":"IF(ISTEXT(ShareOfSearch_SERPS!C2833),ShareOfSearch_SERPS!C2833,\"\")","v":""},{"$f":"IF(ISTEXT(ShareOfSearch_SERPS!D2833),ShareOfSearch_SERPS!D2833,\"\")","v":""},{"$f":"IF(NOT(ISBLANK(ShareOfSearch_SERPS!A2833)),ShareOfSearch_SERPS!A2833,\"\")","v":""},{"$f":"IF(NOT(ISBLANK(ShareOfSearch_SERPS!G2833)),ShareOfSearch_SERPS!G2833,\"\")","v":""},{"$f":"IF(NOT(ISBLANK(ShareOfSearch_SERPS!K2833)),ShareOfSearch_SERPS!K2833,\"\")","v":""},{"$f":"IFERROR(VLOOKUP(C2833,ShareOfSearch_CTR!$A$1:$B$100,2,FALSE)*VLOOKUP(A2833&B2833,ShareOfSearch_Volume!$C$1:$D$1000,2,FALSE),\"\")","v":""}]
[{"$f":"IF(ISTEXT(ShareOfSearch_SERPS!C2834),ShareOfSearch_SERPS!C2834,\"\")","v":""},{"$f":"IF(ISTEXT(ShareOfSearch_SERPS!D2834),ShareOfSearch_SERPS!D2834,\"\")","v":""},{"$f":"IF(NOT(ISBLANK(ShareOfSearch_SERPS!A2834)),ShareOfSearch_SERPS!A2834,\"\")","v":""},{"$f":"IF(NOT(ISBLANK(ShareOfSearch_SERPS!G2834)),ShareOfSearch_SERPS!G2834,\"\")","v":""},{"$f":"IF(NOT(ISBLANK(ShareOfSearch_SERPS!K2834)),ShareOfSearch_SERPS!K2834,\"\")","v":""},{"$f":"IFERROR(VLOOKUP(C2834,ShareOfSearch_CTR!$A$1:$B$100,2,FALSE)*VLOOKUP(A2834&B2834,ShareOfSearch_Volume!$C$1:$D$1000,2,FALSE),\"\")","v":""}]
[{"$f":"IF(ISTEXT(ShareOfSearch_SERPS!C2835),ShareOfSearch_SERPS!C2835,\"\")","v":""},{"$f":"IF(ISTEXT(ShareOfSearch_SERPS!D2835),ShareOfSearch_SERPS!D2835,\"\")","v":""},{"$f":"IF(NOT(ISBLANK(ShareOfSearch_SERPS!A2835)),ShareOfSearch_SERPS!A2835,\"\")","v":""},{"$f":"IF(NOT(ISBLANK(ShareOfSearch_SERPS!G2835)),ShareOfSearch_SERPS!G2835,\"\")","v":""},{"$f":"IF(NOT(ISBLANK(ShareOfSearch_SERPS!K2835)),ShareOfSearch_SERPS!K2835,\"\")","v":""},{"$f":"IFERROR(VLOOKUP(C2835,ShareOfSearch_CTR!$A$1:$B$100,2,FALSE)*VLOOKUP(A2835&B2835,ShareOfSearch_Volume!$C$1:$D$1000,2,FALSE),\"\")","v":""}]
[{"$f":"IF(ISTEXT(ShareOfSearch_SERPS!C2836),ShareOfSearch_SERPS!C2836,\"\")","v":""},{"$f":"IF(ISTEXT(ShareOfSearch_SERPS!D2836),ShareOfSearch_SERPS!D2836,\"\")","v":""},{"$f":"IF(NOT(ISBLANK(ShareOfSearch_SERPS!A2836)),ShareOfSearch_SERPS!A2836,\"\")","v":""},{"$f":"IF(NOT(ISBLANK(ShareOfSearch_SERPS!G2836)),ShareOfSearch_SERPS!G2836,\"\")","v":""},{"$f":"IF(NOT(ISBLANK(ShareOfSearch_SERPS!K2836)),ShareOfSearch_SERPS!K2836,\"\")","v":""},{"$f":"IFERROR(VLOOKUP(C2836,ShareOfSearch_CTR!$A$1:$B$100,2,FALSE)*VLOOKUP(A2836&B2836,ShareOfSearch_Volume!$C$1:$D$1000,2,FALSE),\"\")","v":""}]
[{"$f":"IF(ISTEXT(ShareOfSearch_SERPS!C2837),ShareOfSearch_SERPS!C2837,\"\")","v":""},{"$f":"IF(ISTEXT(ShareOfSearch_SERPS!D2837),ShareOfSearch_SERPS!D2837,\"\")","v":""},{"$f":"IF(NOT(ISBLANK(ShareOfSearch_SERPS!A2837)),ShareOfSearch_SERPS!A2837,\"\")","v":""},{"$f":"IF(NOT(ISBLANK(ShareOfSearch_SERPS!G2837)),ShareOfSearch_SERPS!G2837,\"\")","v":""},{"$f":"IF(NOT(ISBLANK(ShareOfSearch_SERPS!K2837)),ShareOfSearch_SERPS!K2837,\"\")","v":""},{"$f":"IFERROR(VLOOKUP(C2837,ShareOfSearch_CTR!$A$1:$B$100,2,FALSE)*VLOOKUP(A2837&B2837,ShareOfSearch_Volume!$C$1:$D$1000,2,FALSE),\"\")","v":""}]
[{"$f":"IF(ISTEXT(ShareOfSearch_SERPS!C2838),ShareOfSearch_SERPS!C2838,\"\")","v":""},{"$f":"IF(ISTEXT(ShareOfSearch_SERPS!D2838),ShareOfSearch_SERPS!D2838,\"\")","v":""},{"$f":"IF(NOT(ISBLANK(ShareOfSearch_SERPS!A2838)),ShareOfSearch_SERPS!A2838,\"\")","v":""},{"$f":"IF(NOT(ISBLANK(ShareOfSearch_SERPS!G2838)),ShareOfSearch_SERPS!G2838,\"\")","v":""},{"$f":"IF(NOT(ISBLANK(ShareOfSearch_SERPS!K2838)),ShareOfSearch_SERPS!K2838,\"\")","v":""},{"$f":"IFERROR(VLOOKUP(C2838,ShareOfSearch_CTR!$A$1:$B$100,2,FALSE)*VLOOKUP(A2838&B2838,ShareOfSearch_Volume!$C$1:$D$1000,2,FALSE),\"\")","v":""}]
[{"$f":"IF(ISTEXT(ShareOfSearch_SERPS!C2839),ShareOfSearch_SERPS!C2839,\"\")","v":""},{"$f":"IF(ISTEXT(ShareOfSearch_SERPS!D2839),ShareOfSearch_SERPS!D2839,\"\")","v":""},{"$f":"IF(NOT(ISBLANK(ShareOfSearch_SERPS!A2839)),ShareOfSearch_SERPS!A2839,\"\")","v":""},{"$f":"IF(NOT(ISBLANK(ShareOfSearch_SERPS!G2839)),ShareOfSearch_SERPS!G2839,\"\")","v":""},{"$f":"IF(NOT(ISBLANK(ShareOfSearch_SERPS!K2839)),ShareOfSearch_SERPS!K2839,\"\")","v":""},{"$f":"IFERROR(VLOOKUP(C2839,ShareOfSearch_CTR!$A$1:$B$100,2,FALSE)*VLOOKUP(A2839&B2839,ShareOfSearch_Volume!$C$1:$D$1000,2,FALSE),\"\")","v":""}]
[{"$f":"IF(ISTEXT(ShareOfSearch_SERPS!C2840),ShareOfSearch_SERPS!C2840,\"\")","v":""},{"$f":"IF(ISTEXT(ShareOfSearch_SERPS!D2840),ShareOfSearch_SERPS!D2840,\"\")","v":""},{"$f":"IF(NOT(ISBLANK(ShareOfSearch_SERPS!A2840)),ShareOfSearch_SERPS!A2840,\"\")","v":""},{"$f":"IF(NOT(ISBLANK(ShareOfSearch_SERPS!G2840)),ShareOfSearch_SERPS!G2840,\"\")","v":""},{"$f":"IF(NOT(ISBLANK(ShareOfSearch_SERPS!K2840)),ShareOfSearch_SERPS!K2840,\"\")","v":""},{"$f":"IFERROR(VLOOKUP(C2840,ShareOfSearch_CTR!$A$1:$B$100,2,FALSE)*VLOOKUP(A2840&B2840,ShareOfSearch_Volume!$C$1:$D$1000,2,FALSE),\"\")","v":""}]
[{"$f":"IF(ISTEXT(ShareOfSearch_SERPS!C2841),ShareOfSearch_SERPS!C2841,\"\")","v":""},{"$f":"IF(ISTEXT(ShareOfSearch_SERPS!D2841),ShareOfSearch_SERPS!D2841,\"\")","v":""},{"$f":"IF(NOT(ISBLANK(ShareOfSearch_SERPS!A2841)),ShareOfSearch_SERPS!A2841,\"\")","v":""},{"$f":"IF(NOT(ISBLANK(ShareOfSearch_SERPS!G2841)),ShareOfSearch_SERPS!G2841,\"\")","v":""},{"$f":"IF(NOT(ISBLANK(ShareOfSearch_SERPS!K2841)),ShareOfSearch_SERPS!K2841,\"\")","v":""},{"$f":"IFERROR(VLOOKUP(C2841,ShareOfSearch_CTR!$A$1:$B$100,2,FALSE)*VLOOKUP(A2841&B2841,ShareOfSearch_Volume!$C$1:$D$1000,2,FALSE),\"\")","v":""}]
[{"$f":"IF(ISTEXT(ShareOfSearch_SERPS!C2842),ShareOfSearch_SERPS!C2842,\"\")","v":""},{"$f":"IF(ISTEXT(ShareOfSearch_SERPS!D2842),ShareOfSearch_SERPS!D2842,\"\")","v":""},{"$f":"IF(NOT(ISBLANK(ShareOfSearch_SERPS!A2842)),ShareOfSearch_SERPS!A2842,\"\")","v":""},{"$f":"IF(NOT(ISBLANK(ShareOfSearch_SERPS!G2842)),ShareOfSearch_SERPS!G2842,\"\")","v":""},{"$f":"IF(NOT(ISBLANK(ShareOfSearch_SERPS!K2842)),ShareOfSearch_SERPS!K2842,\"\")","v":""},{"$f":"IFERROR(VLOOKUP(C2842,ShareOfSearch_CTR!$A$1:$B$100,2,FALSE)*VLOOKUP(A2842&B2842,ShareOfSearch_Volume!$C$1:$D$1000,2,FALSE),\"\")","v":""}]
[{"$f":"IF(ISTEXT(ShareOfSearch_SERPS!C2843),ShareOfSearch_SERPS!C2843,\"\")","v":""},{"$f":"IF(ISTEXT(ShareOfSearch_SERPS!D2843),ShareOfSearch_SERPS!D2843,\"\")","v":""},{"$f":"IF(NOT(ISBLANK(ShareOfSearch_SERPS!A2843)),ShareOfSearch_SERPS!A2843,\"\")","v":""},{"$f":"IF(NOT(ISBLANK(ShareOfSearch_SERPS!G2843)),ShareOfSearch_SERPS!G2843,\"\")","v":""},{"$f":"IF(NOT(ISBLANK(ShareOfSearch_SERPS!K2843)),ShareOfSearch_SERPS!K2843,\"\")","v":""},{"$f":"IFERROR(VLOOKUP(C2843,ShareOfSearch_CTR!$A$1:$B$100,2,FALSE)*VLOOKUP(A2843&B2843,ShareOfSearch_Volume!$C$1:$D$1000,2,FALSE),\"\")","v":""}]
[{"$f":"IF(ISTEXT(ShareOfSearch_SERPS!C2844),ShareOfSearch_SERPS!C2844,\"\")","v":""},{"$f":"IF(ISTEXT(ShareOfSearch_SERPS!D2844),ShareOfSearch_SERPS!D2844,\"\")","v":""},{"$f":"IF(NOT(ISBLANK(ShareOfSearch_SERPS!A2844)),ShareOfSearch_SERPS!A2844,\"\")","v":""},{"$f":"IF(NOT(ISBLANK(ShareOfSearch_SERPS!G2844)),ShareOfSearch_SERPS!G2844,\"\")","v":""},{"$f":"IF(NOT(ISBLANK(ShareOfSearch_SERPS!K2844)),ShareOfSearch_SERPS!K2844,\"\")","v":""},{"$f":"IFERROR(VLOOKUP(C2844,ShareOfSearch_CTR!$A$1:$B$100,2,FALSE)*VLOOKUP(A2844&B2844,ShareOfSearch_Volume!$C$1:$D$1000,2,FALSE),\"\")","v":""}]
[{"$f":"IF(ISTEXT(ShareOfSearch_SERPS!C2845),ShareOfSearch_SERPS!C2845,\"\")","v":""},{"$f":"IF(ISTEXT(ShareOfSearch_SERPS!D2845),ShareOfSearch_SERPS!D2845,\"\")","v":""},{"$f":"IF(NOT(ISBLANK(ShareOfSearch_SERPS!A2845)),ShareOfSearch_SERPS!A2845,\"\")","v":""},{"$f":"IF(NOT(ISBLANK(ShareOfSearch_SERPS!G2845)),ShareOfSearch_SERPS!G2845,\"\")","v":""},{"$f":"IF(NOT(ISBLANK(ShareOfSearch_SERPS!K2845)),ShareOfSearch_SERPS!K2845,\"\")","v":""},{"$f":"IFERROR(VLOOKUP(C2845,ShareOfSearch_CTR!$A$1:$B$100,2,FALSE)*VLOOKUP(A2845&B2845,ShareOfSearch_Volume!$C$1:$D$1000,2,FALSE),\"\")","v":""}]
[{"$f":"IF(ISTEXT(ShareOfSearch_SERPS!C2846),ShareOfSearch_SERPS!C2846,\"\")","v":""},{"$f":"IF(ISTEXT(ShareOfSearch_SERPS!D2846),ShareOfSearch_SERPS!D2846,\"\")","v":""},{"$f":"IF(NOT(ISBLANK(ShareOfSearch_SERPS!A2846)),ShareOfSearch_SERPS!A2846,\"\")","v":""},{"$f":"IF(NOT(ISBLANK(ShareOfSearch_SERPS!G2846)),ShareOfSearch_SERPS!G2846,\"\")","v":""},{"$f":"IF(NOT(ISBLANK(ShareOfSearch_SERPS!K2846)),ShareOfSearch_SERPS!K2846,\"\")","v":""},{"$f":"IFERROR(VLOOKUP(C2846,ShareOfSearch_CTR!$A$1:$B$100,2,FALSE)*VLOOKUP(A2846&B2846,ShareOfSearch_Volume!$C$1:$D$1000,2,FALSE),\"\")","v":""}]
[{"$f":"IF(ISTEXT(ShareOfSearch_SERPS!C2847),ShareOfSearch_SERPS!C2847,\"\")","v":""},{"$f":"IF(ISTEXT(ShareOfSearch_SERPS!D2847),ShareOfSearch_SERPS!D2847,\"\")","v":""},{"$f":"IF(NOT(ISBLANK(ShareOfSearch_SERPS!A2847)),ShareOfSearch_SERPS!A2847,\"\")","v":""},{"$f":"IF(NOT(ISBLANK(ShareOfSearch_SERPS!G2847)),ShareOfSearch_SERPS!G2847,\"\")","v":""},{"$f":"IF(NOT(ISBLANK(ShareOfSearch_SERPS!K2847)),ShareOfSearch_SERPS!K2847,\"\")","v":""},{"$f":"IFERROR(VLOOKUP(C2847,ShareOfSearch_CTR!$A$1:$B$100,2,FALSE)*VLOOKUP(A2847&B2847,ShareOfSearch_Volume!$C$1:$D$1000,2,FALSE),\"\")","v":""}]
[{"$f":"IF(ISTEXT(ShareOfSearch_SERPS!C2848),ShareOfSearch_SERPS!C2848,\"\")","v":""},{"$f":"IF(ISTEXT(ShareOfSearch_SERPS!D2848),ShareOfSearch_SERPS!D2848,\"\")","v":""},{"$f":"IF(NOT(ISBLANK(ShareOfSearch_SERPS!A2848)),ShareOfSearch_SERPS!A2848,\"\")","v":""},{"$f":"IF(NOT(ISBLANK(ShareOfSearch_SERPS!G2848)),ShareOfSearch_SERPS!G2848,\"\")","v":""},{"$f":"IF(NOT(ISBLANK(ShareOfSearch_SERPS!K2848)),ShareOfSearch_SERPS!K2848,\"\")","v":""},{"$f":"IFERROR(VLOOKUP(C2848,ShareOfSearch_CTR!$A$1:$B$100,2,FALSE)*VLOOKUP(A2848&B2848,ShareOfSearch_Volume!$C$1:$D$1000,2,FALSE),\"\")","v":""}]
[{"$f":"IF(ISTEXT(ShareOfSearch_SERPS!C2849),ShareOfSearch_SERPS!C2849,\"\")","v":""},{"$f":"IF(ISTEXT(ShareOfSearch_SERPS!D2849),ShareOfSearch_SERPS!D2849,\"\")","v":""},{"$f":"IF(NOT(ISBLANK(ShareOfSearch_SERPS!A2849)),ShareOfSearch_SERPS!A2849,\"\")","v":""},{"$f":"IF(NOT(ISBLANK(ShareOfSearch_SERPS!G2849)),ShareOfSearch_SERPS!G2849,\"\")","v":""},{"$f":"IF(NOT(ISBLANK(ShareOfSearch_SERPS!K2849)),ShareOfSearch_SERPS!K2849,\"\")","v":""},{"$f":"IFERROR(VLOOKUP(C2849,ShareOfSearch_CTR!$A$1:$B$100,2,FALSE)*VLOOKUP(A2849&B2849,ShareOfSearch_Volume!$C$1:$D$1000,2,FALSE),\"\")","v":""}]
[{"$f":"IF(ISTEXT(ShareOfSearch_SERPS!C2850),ShareOfSearch_SERPS!C2850,\"\")","v":""},{"$f":"IF(ISTEXT(ShareOfSearch_SERPS!D2850),ShareOfSearch_SERPS!D2850,\"\")","v":""},{"$f":"IF(NOT(ISBLANK(ShareOfSearch_SERPS!A2850)),ShareOfSearch_SERPS!A2850,\"\")","v":""},{"$f":"IF(NOT(ISBLANK(ShareOfSearch_SERPS!G2850)),ShareOfSearch_SERPS!G2850,\"\")","v":""},{"$f":"IF(NOT(ISBLANK(ShareOfSearch_SERPS!K2850)),ShareOfSearch_SERPS!K2850,\"\")","v":""},{"$f":"IFERROR(VLOOKUP(C2850,ShareOfSearch_CTR!$A$1:$B$100,2,FALSE)*VLOOKUP(A2850&B2850,ShareOfSearch_Volume!$C$1:$D$1000,2,FALSE),\"\")","v":""}]
[{"$f":"IF(ISTEXT(ShareOfSearch_SERPS!C2851),ShareOfSearch_SERPS!C2851,\"\")","v":""},{"$f":"IF(ISTEXT(ShareOfSearch_SERPS!D2851),ShareOfSearch_SERPS!D2851,\"\")","v":""},{"$f":"IF(NOT(ISBLANK(ShareOfSearch_SERPS!A2851)),ShareOfSearch_SERPS!A2851,\"\")","v":""},{"$f":"IF(NOT(ISBLANK(ShareOfSearch_SERPS!G2851)),ShareOfSearch_SERPS!G2851,\"\")","v":""},{"$f":"IF(NOT(ISBLANK(ShareOfSearch_SERPS!K2851)),ShareOfSearch_SERPS!K2851,\"\")","v":""},{"$f":"IFERROR(VLOOKUP(C2851,ShareOfSearch_CTR!$A$1:$B$100,2,FALSE)*VLOOKUP(A2851&B2851,ShareOfSearch_Volume!$C$1:$D$1000,2,FALSE),\"\")","v":""}]
[{"$f":"IF(ISTEXT(ShareOfSearch_SERPS!C2852),ShareOfSearch_SERPS!C2852,\"\")","v":""},{"$f":"IF(ISTEXT(ShareOfSearch_SERPS!D2852),ShareOfSearch_SERPS!D2852,\"\")","v":""},{"$f":"IF(NOT(ISBLANK(ShareOfSearch_SERPS!A2852)),ShareOfSearch_SERPS!A2852,\"\")","v":""},{"$f":"IF(NOT(ISBLANK(ShareOfSearch_SERPS!G2852)),ShareOfSearch_SERPS!G2852,\"\")","v":""},{"$f":"IF(NOT(ISBLANK(ShareOfSearch_SERPS!K2852)),ShareOfSearch_SERPS!K2852,\"\")","v":""},{"$f":"IFERROR(VLOOKUP(C2852,ShareOfSearch_CTR!$A$1:$B$100,2,FALSE)*VLOOKUP(A2852&B2852,ShareOfSearch_Volume!$C$1:$D$1000,2,FALSE),\"\")","v":""}]
[{"$f":"IF(ISTEXT(ShareOfSearch_SERPS!C2853),ShareOfSearch_SERPS!C2853,\"\")","v":""},{"$f":"IF(ISTEXT(ShareOfSearch_SERPS!D2853),ShareOfSearch_SERPS!D2853,\"\")","v":""},{"$f":"IF(NOT(ISBLANK(ShareOfSearch_SERPS!A2853)),ShareOfSearch_SERPS!A2853,\"\")","v":""},{"$f":"IF(NOT(ISBLANK(ShareOfSearch_SERPS!G2853)),ShareOfSearch_SERPS!G2853,\"\")","v":""},{"$f":"IF(NOT(ISBLANK(ShareOfSearch_SERPS!K2853)),ShareOfSearch_SERPS!K2853,\"\")","v":""},{"$f":"IFERROR(VLOOKUP(C2853,ShareOfSearch_CTR!$A$1:$B$100,2,FALSE)*VLOOKUP(A2853&B2853,ShareOfSearch_Volume!$C$1:$D$1000,2,FALSE),\"\")","v":""}]
[{"$f":"IF(ISTEXT(ShareOfSearch_SERPS!C2854),ShareOfSearch_SERPS!C2854,\"\")","v":""},{"$f":"IF(ISTEXT(ShareOfSearch_SERPS!D2854),ShareOfSearch_SERPS!D2854,\"\")","v":""},{"$f":"IF(NOT(ISBLANK(ShareOfSearch_SERPS!A2854)),ShareOfSearch_SERPS!A2854,\"\")","v":""},{"$f":"IF(NOT(ISBLANK(ShareOfSearch_SERPS!G2854)),ShareOfSearch_SERPS!G2854,\"\")","v":""},{"$f":"IF(NOT(ISBLANK(ShareOfSearch_SERPS!K2854)),ShareOfSearch_SERPS!K2854,\"\")","v":""},{"$f":"IFERROR(VLOOKUP(C2854,ShareOfSearch_CTR!$A$1:$B$100,2,FALSE)*VLOOKUP(A2854&B2854,ShareOfSearch_Volume!$C$1:$D$1000,2,FALSE),\"\")","v":""}]
[{"$f":"IF(ISTEXT(ShareOfSearch_SERPS!C2855),ShareOfSearch_SERPS!C2855,\"\")","v":""},{"$f":"IF(ISTEXT(ShareOfSearch_SERPS!D2855),ShareOfSearch_SERPS!D2855,\"\")","v":""},{"$f":"IF(NOT(ISBLANK(ShareOfSearch_SERPS!A2855)),ShareOfSearch_SERPS!A2855,\"\")","v":""},{"$f":"IF(NOT(ISBLANK(ShareOfSearch_SERPS!G2855)),ShareOfSearch_SERPS!G2855,\"\")","v":""},{"$f":"IF(NOT(ISBLANK(ShareOfSearch_SERPS!K2855)),ShareOfSearch_SERPS!K2855,\"\")","v":""},{"$f":"IFERROR(VLOOKUP(C2855,ShareOfSearch_CTR!$A$1:$B$100,2,FALSE)*VLOOKUP(A2855&B2855,ShareOfSearch_Volume!$C$1:$D$1000,2,FALSE),\"\")","v":""}]
[{"$f":"IF(ISTEXT(ShareOfSearch_SERPS!C2856),ShareOfSearch_SERPS!C2856,\"\")","v":""},{"$f":"IF(ISTEXT(ShareOfSearch_SERPS!D2856),ShareOfSearch_SERPS!D2856,\"\")","v":""},{"$f":"IF(NOT(ISBLANK(ShareOfSearch_SERPS!A2856)),ShareOfSearch_SERPS!A2856,\"\")","v":""},{"$f":"IF(NOT(ISBLANK(ShareOfSearch_SERPS!G2856)),ShareOfSearch_SERPS!G2856,\"\")","v":""},{"$f":"IF(NOT(ISBLANK(ShareOfSearch_SERPS!K2856)),ShareOfSearch_SERPS!K2856,\"\")","v":""},{"$f":"IFERROR(VLOOKUP(C2856,ShareOfSearch_CTR!$A$1:$B$100,2,FALSE)*VLOOKUP(A2856&B2856,ShareOfSearch_Volume!$C$1:$D$1000,2,FALSE),\"\")","v":""}]
[{"$f":"IF(ISTEXT(ShareOfSearch_SERPS!C2857),ShareOfSearch_SERPS!C2857,\"\")","v":""},{"$f":"IF(ISTEXT(ShareOfSearch_SERPS!D2857),ShareOfSearch_SERPS!D2857,\"\")","v":""},{"$f":"IF(NOT(ISBLANK(ShareOfSearch_SERPS!A2857)),ShareOfSearch_SERPS!A2857,\"\")","v":""},{"$f":"IF(NOT(ISBLANK(ShareOfSearch_SERPS!G2857)),ShareOfSearch_SERPS!G2857,\"\")","v":""},{"$f":"IF(NOT(ISBLANK(ShareOfSearch_SERPS!K2857)),ShareOfSearch_SERPS!K2857,\"\")","v":""},{"$f":"IFERROR(VLOOKUP(C2857,ShareOfSearch_CTR!$A$1:$B$100,2,FALSE)*VLOOKUP(A2857&B2857,ShareOfSearch_Volume!$C$1:$D$1000,2,FALSE),\"\")","v":""}]
[{"$f":"IF(ISTEXT(ShareOfSearch_SERPS!C2858),ShareOfSearch_SERPS!C2858,\"\")","v":""},{"$f":"IF(ISTEXT(ShareOfSearch_SERPS!D2858),ShareOfSearch_SERPS!D2858,\"\")","v":""},{"$f":"IF(NOT(ISBLANK(ShareOfSearch_SERPS!A2858)),ShareOfSearch_SERPS!A2858,\"\")","v":""},{"$f":"IF(NOT(ISBLANK(ShareOfSearch_SERPS!G2858)),ShareOfSearch_SERPS!G2858,\"\")","v":""},{"$f":"IF(NOT(ISBLANK(ShareOfSearch_SERPS!K2858)),ShareOfSearch_SERPS!K2858,\"\")","v":""},{"$f":"IFERROR(VLOOKUP(C2858,ShareOfSearch_CTR!$A$1:$B$100,2,FALSE)*VLOOKUP(A2858&B2858,ShareOfSearch_Volume!$C$1:$D$1000,2,FALSE),\"\")","v":""}]
[{"$f":"IF(ISTEXT(ShareOfSearch_SERPS!C2859),ShareOfSearch_SERPS!C2859,\"\")","v":""},{"$f":"IF(ISTEXT(ShareOfSearch_SERPS!D2859),ShareOfSearch_SERPS!D2859,\"\")","v":""},{"$f":"IF(NOT(ISBLANK(ShareOfSearch_SERPS!A2859)),ShareOfSearch_SERPS!A2859,\"\")","v":""},{"$f":"IF(NOT(ISBLANK(ShareOfSearch_SERPS!G2859)),ShareOfSearch_SERPS!G2859,\"\")","v":""},{"$f":"IF(NOT(ISBLANK(ShareOfSearch_SERPS!K2859)),ShareOfSearch_SERPS!K2859,\"\")","v":""},{"$f":"IFERROR(VLOOKUP(C2859,ShareOfSearch_CTR!$A$1:$B$100,2,FALSE)*VLOOKUP(A2859&B2859,ShareOfSearch_Volume!$C$1:$D$1000,2,FALSE),\"\")","v":""}]
[{"$f":"IF(ISTEXT(ShareOfSearch_SERPS!C2860),ShareOfSearch_SERPS!C2860,\"\")","v":""},{"$f":"IF(ISTEXT(ShareOfSearch_SERPS!D2860),ShareOfSearch_SERPS!D2860,\"\")","v":""},{"$f":"IF(NOT(ISBLANK(ShareOfSearch_SERPS!A2860)),ShareOfSearch_SERPS!A2860,\"\")","v":""},{"$f":"IF(NOT(ISBLANK(ShareOfSearch_SERPS!G2860)),ShareOfSearch_SERPS!G2860,\"\")","v":""},{"$f":"IF(NOT(ISBLANK(ShareOfSearch_SERPS!K2860)),ShareOfSearch_SERPS!K2860,\"\")","v":""},{"$f":"IFERROR(VLOOKUP(C2860,ShareOfSearch_CTR!$A$1:$B$100,2,FALSE)*VLOOKUP(A2860&B2860,ShareOfSearch_Volume!$C$1:$D$1000,2,FALSE),\"\")","v":""}]
[{"$f":"IF(ISTEXT(ShareOfSearch_SERPS!C2861),ShareOfSearch_SERPS!C2861,\"\")","v":""},{"$f":"IF(ISTEXT(ShareOfSearch_SERPS!D2861),ShareOfSearch_SERPS!D2861,\"\")","v":""},{"$f":"IF(NOT(ISBLANK(ShareOfSearch_SERPS!A2861)),ShareOfSearch_SERPS!A2861,\"\")","v":""},{"$f":"IF(NOT(ISBLANK(ShareOfSearch_SERPS!G2861)),ShareOfSearch_SERPS!G2861,\"\")","v":""},{"$f":"IF(NOT(ISBLANK(ShareOfSearch_SERPS!K2861)),ShareOfSearch_SERPS!K2861,\"\")","v":""},{"$f":"IFERROR(VLOOKUP(C2861,ShareOfSearch_CTR!$A$1:$B$100,2,FALSE)*VLOOKUP(A2861&B2861,ShareOfSearch_Volume!$C$1:$D$1000,2,FALSE),\"\")","v":""}]
[{"$f":"IF(ISTEXT(ShareOfSearch_SERPS!C2862),ShareOfSearch_SERPS!C2862,\"\")","v":""},{"$f":"IF(ISTEXT(ShareOfSearch_SERPS!D2862),ShareOfSearch_SERPS!D2862,\"\")","v":""},{"$f":"IF(NOT(ISBLANK(ShareOfSearch_SERPS!A2862)),ShareOfSearch_SERPS!A2862,\"\")","v":""},{"$f":"IF(NOT(ISBLANK(ShareOfSearch_SERPS!G2862)),ShareOfSearch_SERPS!G2862,\"\")","v":""},{"$f":"IF(NOT(ISBLANK(ShareOfSearch_SERPS!K2862)),ShareOfSearch_SERPS!K2862,\"\")","v":""},{"$f":"IFERROR(VLOOKUP(C2862,ShareOfSearch_CTR!$A$1:$B$100,2,FALSE)*VLOOKUP(A2862&B2862,ShareOfSearch_Volume!$C$1:$D$1000,2,FALSE),\"\")","v":""}]
[{"$f":"IF(ISTEXT(ShareOfSearch_SERPS!C2863),ShareOfSearch_SERPS!C2863,\"\")","v":""},{"$f":"IF(ISTEXT(ShareOfSearch_SERPS!D2863),ShareOfSearch_SERPS!D2863,\"\")","v":""},{"$f":"IF(NOT(ISBLANK(ShareOfSearch_SERPS!A2863)),ShareOfSearch_SERPS!A2863,\"\")","v":""},{"$f":"IF(NOT(ISBLANK(ShareOfSearch_SERPS!G2863)),ShareOfSearch_SERPS!G2863,\"\")","v":""},{"$f":"IF(NOT(ISBLANK(ShareOfSearch_SERPS!K2863)),ShareOfSearch_SERPS!K2863,\"\")","v":""},{"$f":"IFERROR(VLOOKUP(C2863,ShareOfSearch_CTR!$A$1:$B$100,2,FALSE)*VLOOKUP(A2863&B2863,ShareOfSearch_Volume!$C$1:$D$1000,2,FALSE),\"\")","v":""}]
[{"$f":"IF(ISTEXT(ShareOfSearch_SERPS!C2864),ShareOfSearch_SERPS!C2864,\"\")","v":""},{"$f":"IF(ISTEXT(ShareOfSearch_SERPS!D2864),ShareOfSearch_SERPS!D2864,\"\")","v":""},{"$f":"IF(NOT(ISBLANK(ShareOfSearch_SERPS!A2864)),ShareOfSearch_SERPS!A2864,\"\")","v":""},{"$f":"IF(NOT(ISBLANK(ShareOfSearch_SERPS!G2864)),ShareOfSearch_SERPS!G2864,\"\")","v":""},{"$f":"IF(NOT(ISBLANK(ShareOfSearch_SERPS!K2864)),ShareOfSearch_SERPS!K2864,\"\")","v":""},{"$f":"IFERROR(VLOOKUP(C2864,ShareOfSearch_CTR!$A$1:$B$100,2,FALSE)*VLOOKUP(A2864&B2864,ShareOfSearch_Volume!$C$1:$D$1000,2,FALSE),\"\")","v":""}]
[{"$f":"IF(ISTEXT(ShareOfSearch_SERPS!C2865),ShareOfSearch_SERPS!C2865,\"\")","v":""},{"$f":"IF(ISTEXT(ShareOfSearch_SERPS!D2865),ShareOfSearch_SERPS!D2865,\"\")","v":""},{"$f":"IF(NOT(ISBLANK(ShareOfSearch_SERPS!A2865)),ShareOfSearch_SERPS!A2865,\"\")","v":""},{"$f":"IF(NOT(ISBLANK(ShareOfSearch_SERPS!G2865)),ShareOfSearch_SERPS!G2865,\"\")","v":""},{"$f":"IF(NOT(ISBLANK(ShareOfSearch_SERPS!K2865)),ShareOfSearch_SERPS!K2865,\"\")","v":""},{"$f":"IFERROR(VLOOKUP(C2865,ShareOfSearch_CTR!$A$1:$B$100,2,FALSE)*VLOOKUP(A2865&B2865,ShareOfSearch_Volume!$C$1:$D$1000,2,FALSE),\"\")","v":""}]
[{"$f":"IF(ISTEXT(ShareOfSearch_SERPS!C2866),ShareOfSearch_SERPS!C2866,\"\")","v":""},{"$f":"IF(ISTEXT(ShareOfSearch_SERPS!D2866),ShareOfSearch_SERPS!D2866,\"\")","v":""},{"$f":"IF(NOT(ISBLANK(ShareOfSearch_SERPS!A2866)),ShareOfSearch_SERPS!A2866,\"\")","v":""},{"$f":"IF(NOT(ISBLANK(ShareOfSearch_SERPS!G2866)),ShareOfSearch_SERPS!G2866,\"\")","v":""},{"$f":"IF(NOT(ISBLANK(ShareOfSearch_SERPS!K2866)),ShareOfSearch_SERPS!K2866,\"\")","v":""},{"$f":"IFERROR(VLOOKUP(C2866,ShareOfSearch_CTR!$A$1:$B$100,2,FALSE)*VLOOKUP(A2866&B2866,ShareOfSearch_Volume!$C$1:$D$1000,2,FALSE),\"\")","v":""}]
[{"$f":"IF(ISTEXT(ShareOfSearch_SERPS!C2867),ShareOfSearch_SERPS!C2867,\"\")","v":""},{"$f":"IF(ISTEXT(ShareOfSearch_SERPS!D2867),ShareOfSearch_SERPS!D2867,\"\")","v":""},{"$f":"IF(NOT(ISBLANK(ShareOfSearch_SERPS!A2867)),ShareOfSearch_SERPS!A2867,\"\")","v":""},{"$f":"IF(NOT(ISBLANK(ShareOfSearch_SERPS!G2867)),ShareOfSearch_SERPS!G2867,\"\")","v":""},{"$f":"IF(NOT(ISBLANK(ShareOfSearch_SERPS!K2867)),ShareOfSearch_SERPS!K2867,\"\")","v":""},{"$f":"IFERROR(VLOOKUP(C2867,ShareOfSearch_CTR!$A$1:$B$100,2,FALSE)*VLOOKUP(A2867&B2867,ShareOfSearch_Volume!$C$1:$D$1000,2,FALSE),\"\")","v":""}]
[{"$f":"IF(ISTEXT(ShareOfSearch_SERPS!C2868),ShareOfSearch_SERPS!C2868,\"\")","v":""},{"$f":"IF(ISTEXT(ShareOfSearch_SERPS!D2868),ShareOfSearch_SERPS!D2868,\"\")","v":""},{"$f":"IF(NOT(ISBLANK(ShareOfSearch_SERPS!A2868)),ShareOfSearch_SERPS!A2868,\"\")","v":""},{"$f":"IF(NOT(ISBLANK(ShareOfSearch_SERPS!G2868)),ShareOfSearch_SERPS!G2868,\"\")","v":""},{"$f":"IF(NOT(ISBLANK(ShareOfSearch_SERPS!K2868)),ShareOfSearch_SERPS!K2868,\"\")","v":""},{"$f":"IFERROR(VLOOKUP(C2868,ShareOfSearch_CTR!$A$1:$B$100,2,FALSE)*VLOOKUP(A2868&B2868,ShareOfSearch_Volume!$C$1:$D$1000,2,FALSE),\"\")","v":""}]
[{"$f":"IF(ISTEXT(ShareOfSearch_SERPS!C2869),ShareOfSearch_SERPS!C2869,\"\")","v":""},{"$f":"IF(ISTEXT(ShareOfSearch_SERPS!D2869),ShareOfSearch_SERPS!D2869,\"\")","v":""},{"$f":"IF(NOT(ISBLANK(ShareOfSearch_SERPS!A2869)),ShareOfSearch_SERPS!A2869,\"\")","v":""},{"$f":"IF(NOT(ISBLANK(ShareOfSearch_SERPS!G2869)),ShareOfSearch_SERPS!G2869,\"\")","v":""},{"$f":"IF(NOT(ISBLANK(ShareOfSearch_SERPS!K2869)),ShareOfSearch_SERPS!K2869,\"\")","v":""},{"$f":"IFERROR(VLOOKUP(C2869,ShareOfSearch_CTR!$A$1:$B$100,2,FALSE)*VLOOKUP(A2869&B2869,ShareOfSearch_Volume!$C$1:$D$1000,2,FALSE),\"\")","v":""}]
[{"$f":"IF(ISTEXT(ShareOfSearch_SERPS!C2870),ShareOfSearch_SERPS!C2870,\"\")","v":""},{"$f":"IF(ISTEXT(ShareOfSearch_SERPS!D2870),ShareOfSearch_SERPS!D2870,\"\")","v":""},{"$f":"IF(NOT(ISBLANK(ShareOfSearch_SERPS!A2870)),ShareOfSearch_SERPS!A2870,\"\")","v":""},{"$f":"IF(NOT(ISBLANK(ShareOfSearch_SERPS!G2870)),ShareOfSearch_SERPS!G2870,\"\")","v":""},{"$f":"IF(NOT(ISBLANK(ShareOfSearch_SERPS!K2870)),ShareOfSearch_SERPS!K2870,\"\")","v":""},{"$f":"IFERROR(VLOOKUP(C2870,ShareOfSearch_CTR!$A$1:$B$100,2,FALSE)*VLOOKUP(A2870&B2870,ShareOfSearch_Volume!$C$1:$D$1000,2,FALSE),\"\")","v":""}]
[{"$f":"IF(ISTEXT(ShareOfSearch_SERPS!C2871),ShareOfSearch_SERPS!C2871,\"\")","v":""},{"$f":"IF(ISTEXT(ShareOfSearch_SERPS!D2871),ShareOfSearch_SERPS!D2871,\"\")","v":""},{"$f":"IF(NOT(ISBLANK(ShareOfSearch_SERPS!A2871)),ShareOfSearch_SERPS!A2871,\"\")","v":""},{"$f":"IF(NOT(ISBLANK(ShareOfSearch_SERPS!G2871)),ShareOfSearch_SERPS!G2871,\"\")","v":""},{"$f":"IF(NOT(ISBLANK(ShareOfSearch_SERPS!K2871)),ShareOfSearch_SERPS!K2871,\"\")","v":""},{"$f":"IFERROR(VLOOKUP(C2871,ShareOfSearch_CTR!$A$1:$B$100,2,FALSE)*VLOOKUP(A2871&B2871,ShareOfSearch_Volume!$C$1:$D$1000,2,FALSE),\"\")","v":""}]
[{"$f":"IF(ISTEXT(ShareOfSearch_SERPS!C2872),ShareOfSearch_SERPS!C2872,\"\")","v":""},{"$f":"IF(ISTEXT(ShareOfSearch_SERPS!D2872),ShareOfSearch_SERPS!D2872,\"\")","v":""},{"$f":"IF(NOT(ISBLANK(ShareOfSearch_SERPS!A2872)),ShareOfSearch_SERPS!A2872,\"\")","v":""},{"$f":"IF(NOT(ISBLANK(ShareOfSearch_SERPS!G2872)),ShareOfSearch_SERPS!G2872,\"\")","v":""},{"$f":"IF(NOT(ISBLANK(ShareOfSearch_SERPS!K2872)),ShareOfSearch_SERPS!K2872,\"\")","v":""},{"$f":"IFERROR(VLOOKUP(C2872,ShareOfSearch_CTR!$A$1:$B$100,2,FALSE)*VLOOKUP(A2872&B2872,ShareOfSearch_Volume!$C$1:$D$1000,2,FALSE),\"\")","v":""}]
[{"$f":"IF(ISTEXT(ShareOfSearch_SERPS!C2873),ShareOfSearch_SERPS!C2873,\"\")","v":""},{"$f":"IF(ISTEXT(ShareOfSearch_SERPS!D2873),ShareOfSearch_SERPS!D2873,\"\")","v":""},{"$f":"IF(NOT(ISBLANK(ShareOfSearch_SERPS!A2873)),ShareOfSearch_SERPS!A2873,\"\")","v":""},{"$f":"IF(NOT(ISBLANK(ShareOfSearch_SERPS!G2873)),ShareOfSearch_SERPS!G2873,\"\")","v":""},{"$f":"IF(NOT(ISBLANK(ShareOfSearch_SERPS!K2873)),ShareOfSearch_SERPS!K2873,\"\")","v":""},{"$f":"IFERROR(VLOOKUP(C2873,ShareOfSearch_CTR!$A$1:$B$100,2,FALSE)*VLOOKUP(A2873&B2873,ShareOfSearch_Volume!$C$1:$D$1000,2,FALSE),\"\")","v":""}]
[{"$f":"IF(ISTEXT(ShareOfSearch_SERPS!C2874),ShareOfSearch_SERPS!C2874,\"\")","v":""},{"$f":"IF(ISTEXT(ShareOfSearch_SERPS!D2874),ShareOfSearch_SERPS!D2874,\"\")","v":""},{"$f":"IF(NOT(ISBLANK(ShareOfSearch_SERPS!A2874)),ShareOfSearch_SERPS!A2874,\"\")","v":""},{"$f":"IF(NOT(ISBLANK(ShareOfSearch_SERPS!G2874)),ShareOfSearch_SERPS!G2874,\"\")","v":""},{"$f":"IF(NOT(ISBLANK(ShareOfSearch_SERPS!K2874)),ShareOfSearch_SERPS!K2874,\"\")","v":""},{"$f":"IFERROR(VLOOKUP(C2874,ShareOfSearch_CTR!$A$1:$B$100,2,FALSE)*VLOOKUP(A2874&B2874,ShareOfSearch_Volume!$C$1:$D$1000,2,FALSE),\"\")","v":""}]
[{"$f":"IF(ISTEXT(ShareOfSearch_SERPS!C2875),ShareOfSearch_SERPS!C2875,\"\")","v":""},{"$f":"IF(ISTEXT(ShareOfSearch_SERPS!D2875),ShareOfSearch_SERPS!D2875,\"\")","v":""},{"$f":"IF(NOT(ISBLANK(ShareOfSearch_SERPS!A2875)),ShareOfSearch_SERPS!A2875,\"\")","v":""},{"$f":"IF(NOT(ISBLANK(ShareOfSearch_SERPS!G2875)),ShareOfSearch_SERPS!G2875,\"\")","v":""},{"$f":"IF(NOT(ISBLANK(ShareOfSearch_SERPS!K2875)),ShareOfSearch_SERPS!K2875,\"\")","v":""},{"$f":"IFERROR(VLOOKUP(C2875,ShareOfSearch_CTR!$A$1:$B$100,2,FALSE)*VLOOKUP(A2875&B2875,ShareOfSearch_Volume!$C$1:$D$1000,2,FALSE),\"\")","v":""}]
[{"$f":"IF(ISTEXT(ShareOfSearch_SERPS!C2876),ShareOfSearch_SERPS!C2876,\"\")","v":""},{"$f":"IF(ISTEXT(ShareOfSearch_SERPS!D2876),ShareOfSearch_SERPS!D2876,\"\")","v":""},{"$f":"IF(NOT(ISBLANK(ShareOfSearch_SERPS!A2876)),ShareOfSearch_SERPS!A2876,\"\")","v":""},{"$f":"IF(NOT(ISBLANK(ShareOfSearch_SERPS!G2876)),ShareOfSearch_SERPS!G2876,\"\")","v":""},{"$f":"IF(NOT(ISBLANK(ShareOfSearch_SERPS!K2876)),ShareOfSearch_SERPS!K2876,\"\")","v":""},{"$f":"IFERROR(VLOOKUP(C2876,ShareOfSearch_CTR!$A$1:$B$100,2,FALSE)*VLOOKUP(A2876&B2876,ShareOfSearch_Volume!$C$1:$D$1000,2,FALSE),\"\")","v":""}]
[{"$f":"IF(ISTEXT(ShareOfSearch_SERPS!C2877),ShareOfSearch_SERPS!C2877,\"\")","v":""},{"$f":"IF(ISTEXT(ShareOfSearch_SERPS!D2877),ShareOfSearch_SERPS!D2877,\"\")","v":""},{"$f":"IF(NOT(ISBLANK(ShareOfSearch_SERPS!A2877)),ShareOfSearch_SERPS!A2877,\"\")","v":""},{"$f":"IF(NOT(ISBLANK(ShareOfSearch_SERPS!G2877)),ShareOfSearch_SERPS!G2877,\"\")","v":""},{"$f":"IF(NOT(ISBLANK(ShareOfSearch_SERPS!K2877)),ShareOfSearch_SERPS!K2877,\"\")","v":""},{"$f":"IFERROR(VLOOKUP(C2877,ShareOfSearch_CTR!$A$1:$B$100,2,FALSE)*VLOOKUP(A2877&B2877,ShareOfSearch_Volume!$C$1:$D$1000,2,FALSE),\"\")","v":""}]
[{"$f":"IF(ISTEXT(ShareOfSearch_SERPS!C2878),ShareOfSearch_SERPS!C2878,\"\")","v":""},{"$f":"IF(ISTEXT(ShareOfSearch_SERPS!D2878),ShareOfSearch_SERPS!D2878,\"\")","v":""},{"$f":"IF(NOT(ISBLANK(ShareOfSearch_SERPS!A2878)),ShareOfSearch_SERPS!A2878,\"\")","v":""},{"$f":"IF(NOT(ISBLANK(ShareOfSearch_SERPS!G2878)),ShareOfSearch_SERPS!G2878,\"\")","v":""},{"$f":"IF(NOT(ISBLANK(ShareOfSearch_SERPS!K2878)),ShareOfSearch_SERPS!K2878,\"\")","v":""},{"$f":"IFERROR(VLOOKUP(C2878,ShareOfSearch_CTR!$A$1:$B$100,2,FALSE)*VLOOKUP(A2878&B2878,ShareOfSearch_Volume!$C$1:$D$1000,2,FALSE),\"\")","v":""}]
[{"$f":"IF(ISTEXT(ShareOfSearch_SERPS!C2879),ShareOfSearch_SERPS!C2879,\"\")","v":""},{"$f":"IF(ISTEXT(ShareOfSearch_SERPS!D2879),ShareOfSearch_SERPS!D2879,\"\")","v":""},{"$f":"IF(NOT(ISBLANK(ShareOfSearch_SERPS!A2879)),ShareOfSearch_SERPS!A2879,\"\")","v":""},{"$f":"IF(NOT(ISBLANK(ShareOfSearch_SERPS!G2879)),ShareOfSearch_SERPS!G2879,\"\")","v":""},{"$f":"IF(NOT(ISBLANK(ShareOfSearch_SERPS!K2879)),ShareOfSearch_SERPS!K2879,\"\")","v":""},{"$f":"IFERROR(VLOOKUP(C2879,ShareOfSearch_CTR!$A$1:$B$100,2,FALSE)*VLOOKUP(A2879&B2879,ShareOfSearch_Volume!$C$1:$D$1000,2,FALSE),\"\")","v":""}]
[{"$f":"IF(ISTEXT(ShareOfSearch_SERPS!C2880),ShareOfSearch_SERPS!C2880,\"\")","v":""},{"$f":"IF(ISTEXT(ShareOfSearch_SERPS!D2880),ShareOfSearch_SERPS!D2880,\"\")","v":""},{"$f":"IF(NOT(ISBLANK(ShareOfSearch_SERPS!A2880)),ShareOfSearch_SERPS!A2880,\"\")","v":""},{"$f":"IF(NOT(ISBLANK(ShareOfSearch_SERPS!G2880)),ShareOfSearch_SERPS!G2880,\"\")","v":""},{"$f":"IF(NOT(ISBLANK(ShareOfSearch_SERPS!K2880)),ShareOfSearch_SERPS!K2880,\"\")","v":""},{"$f":"IFERROR(VLOOKUP(C2880,ShareOfSearch_CTR!$A$1:$B$100,2,FALSE)*VLOOKUP(A2880&B2880,ShareOfSearch_Volume!$C$1:$D$1000,2,FALSE),\"\")","v":""}]
[{"$f":"IF(ISTEXT(ShareOfSearch_SERPS!C2881),ShareOfSearch_SERPS!C2881,\"\")","v":""},{"$f":"IF(ISTEXT(ShareOfSearch_SERPS!D2881),ShareOfSearch_SERPS!D2881,\"\")","v":""},{"$f":"IF(NOT(ISBLANK(ShareOfSearch_SERPS!A2881)),ShareOfSearch_SERPS!A2881,\"\")","v":""},{"$f":"IF(NOT(ISBLANK(ShareOfSearch_SERPS!G2881)),ShareOfSearch_SERPS!G2881,\"\")","v":""},{"$f":"IF(NOT(ISBLANK(ShareOfSearch_SERPS!K2881)),ShareOfSearch_SERPS!K2881,\"\")","v":""},{"$f":"IFERROR(VLOOKUP(C2881,ShareOfSearch_CTR!$A$1:$B$100,2,FALSE)*VLOOKUP(A2881&B2881,ShareOfSearch_Volume!$C$1:$D$1000,2,FALSE),\"\")","v":""}]
[{"$f":"IF(ISTEXT(ShareOfSearch_SERPS!C2882),ShareOfSearch_SERPS!C2882,\"\")","v":""},{"$f":"IF(ISTEXT(ShareOfSearch_SERPS!D2882),ShareOfSearch_SERPS!D2882,\"\")","v":""},{"$f":"IF(NOT(ISBLANK(ShareOfSearch_SERPS!A2882)),ShareOfSearch_SERPS!A2882,\"\")","v":""},{"$f":"IF(NOT(ISBLANK(ShareOfSearch_SERPS!G2882)),ShareOfSearch_SERPS!G2882,\"\")","v":""},{"$f":"IF(NOT(ISBLANK(ShareOfSearch_SERPS!K2882)),ShareOfSearch_SERPS!K2882,\"\")","v":""},{"$f":"IFERROR(VLOOKUP(C2882,ShareOfSearch_CTR!$A$1:$B$100,2,FALSE)*VLOOKUP(A2882&B2882,ShareOfSearch_Volume!$C$1:$D$1000,2,FALSE),\"\")","v":""}]
[{"$f":"IF(ISTEXT(ShareOfSearch_SERPS!C2883),ShareOfSearch_SERPS!C2883,\"\")","v":""},{"$f":"IF(ISTEXT(ShareOfSearch_SERPS!D2883),ShareOfSearch_SERPS!D2883,\"\")","v":""},{"$f":"IF(NOT(ISBLANK(ShareOfSearch_SERPS!A2883)),ShareOfSearch_SERPS!A2883,\"\")","v":""},{"$f":"IF(NOT(ISBLANK(ShareOfSearch_SERPS!G2883)),ShareOfSearch_SERPS!G2883,\"\")","v":""},{"$f":"IF(NOT(ISBLANK(ShareOfSearch_SERPS!K2883)),ShareOfSearch_SERPS!K2883,\"\")","v":""},{"$f":"IFERROR(VLOOKUP(C2883,ShareOfSearch_CTR!$A$1:$B$100,2,FALSE)*VLOOKUP(A2883&B2883,ShareOfSearch_Volume!$C$1:$D$1000,2,FALSE),\"\")","v":""}]
[{"$f":"IF(ISTEXT(ShareOfSearch_SERPS!C2884),ShareOfSearch_SERPS!C2884,\"\")","v":""},{"$f":"IF(ISTEXT(ShareOfSearch_SERPS!D2884),ShareOfSearch_SERPS!D2884,\"\")","v":""},{"$f":"IF(NOT(ISBLANK(ShareOfSearch_SERPS!A2884)),ShareOfSearch_SERPS!A2884,\"\")","v":""},{"$f":"IF(NOT(ISBLANK(ShareOfSearch_SERPS!G2884)),ShareOfSearch_SERPS!G2884,\"\")","v":""},{"$f":"IF(NOT(ISBLANK(ShareOfSearch_SERPS!K2884)),ShareOfSearch_SERPS!K2884,\"\")","v":""},{"$f":"IFERROR(VLOOKUP(C2884,ShareOfSearch_CTR!$A$1:$B$100,2,FALSE)*VLOOKUP(A2884&B2884,ShareOfSearch_Volume!$C$1:$D$1000,2,FALSE),\"\")","v":""}]
[{"$f":"IF(ISTEXT(ShareOfSearch_SERPS!C2885),ShareOfSearch_SERPS!C2885,\"\")","v":""},{"$f":"IF(ISTEXT(ShareOfSearch_SERPS!D2885),ShareOfSearch_SERPS!D2885,\"\")","v":""},{"$f":"IF(NOT(ISBLANK(ShareOfSearch_SERPS!A2885)),ShareOfSearch_SERPS!A2885,\"\")","v":""},{"$f":"IF(NOT(ISBLANK(ShareOfSearch_SERPS!G2885)),ShareOfSearch_SERPS!G2885,\"\")","v":""},{"$f":"IF(NOT(ISBLANK(ShareOfSearch_SERPS!K2885)),ShareOfSearch_SERPS!K2885,\"\")","v":""},{"$f":"IFERROR(VLOOKUP(C2885,ShareOfSearch_CTR!$A$1:$B$100,2,FALSE)*VLOOKUP(A2885&B2885,ShareOfSearch_Volume!$C$1:$D$1000,2,FALSE),\"\")","v":""}]
[{"$f":"IF(ISTEXT(ShareOfSearch_SERPS!C2886),ShareOfSearch_SERPS!C2886,\"\")","v":""},{"$f":"IF(ISTEXT(ShareOfSearch_SERPS!D2886),ShareOfSearch_SERPS!D2886,\"\")","v":""},{"$f":"IF(NOT(ISBLANK(ShareOfSearch_SERPS!A2886)),ShareOfSearch_SERPS!A2886,\"\")","v":""},{"$f":"IF(NOT(ISBLANK(ShareOfSearch_SERPS!G2886)),ShareOfSearch_SERPS!G2886,\"\")","v":""},{"$f":"IF(NOT(ISBLANK(ShareOfSearch_SERPS!K2886)),ShareOfSearch_SERPS!K2886,\"\")","v":""},{"$f":"IFERROR(VLOOKUP(C2886,ShareOfSearch_CTR!$A$1:$B$100,2,FALSE)*VLOOKUP(A2886&B2886,ShareOfSearch_Volume!$C$1:$D$1000,2,FALSE),\"\")","v":""}]
[{"$f":"IF(ISTEXT(ShareOfSearch_SERPS!C2887),ShareOfSearch_SERPS!C2887,\"\")","v":""},{"$f":"IF(ISTEXT(ShareOfSearch_SERPS!D2887),ShareOfSearch_SERPS!D2887,\"\")","v":""},{"$f":"IF(NOT(ISBLANK(ShareOfSearch_SERPS!A2887)),ShareOfSearch_SERPS!A2887,\"\")","v":""},{"$f":"IF(NOT(ISBLANK(ShareOfSearch_SERPS!G2887)),ShareOfSearch_SERPS!G2887,\"\")","v":""},{"$f":"IF(NOT(ISBLANK(ShareOfSearch_SERPS!K2887)),ShareOfSearch_SERPS!K2887,\"\")","v":""},{"$f":"IFERROR(VLOOKUP(C2887,ShareOfSearch_CTR!$A$1:$B$100,2,FALSE)*VLOOKUP(A2887&B2887,ShareOfSearch_Volume!$C$1:$D$1000,2,FALSE),\"\")","v":""}]
[{"$f":"IF(ISTEXT(ShareOfSearch_SERPS!C2888),ShareOfSearch_SERPS!C2888,\"\")","v":""},{"$f":"IF(ISTEXT(ShareOfSearch_SERPS!D2888),ShareOfSearch_SERPS!D2888,\"\")","v":""},{"$f":"IF(NOT(ISBLANK(ShareOfSearch_SERPS!A2888)),ShareOfSearch_SERPS!A2888,\"\")","v":""},{"$f":"IF(NOT(ISBLANK(ShareOfSearch_SERPS!G2888)),ShareOfSearch_SERPS!G2888,\"\")","v":""},{"$f":"IF(NOT(ISBLANK(ShareOfSearch_SERPS!K2888)),ShareOfSearch_SERPS!K2888,\"\")","v":""},{"$f":"IFERROR(VLOOKUP(C2888,ShareOfSearch_CTR!$A$1:$B$100,2,FALSE)*VLOOKUP(A2888&B2888,ShareOfSearch_Volume!$C$1:$D$1000,2,FALSE),\"\")","v":""}]
[{"$f":"IF(ISTEXT(ShareOfSearch_SERPS!C2889),ShareOfSearch_SERPS!C2889,\"\")","v":""},{"$f":"IF(ISTEXT(ShareOfSearch_SERPS!D2889),ShareOfSearch_SERPS!D2889,\"\")","v":""},{"$f":"IF(NOT(ISBLANK(ShareOfSearch_SERPS!A2889)),ShareOfSearch_SERPS!A2889,\"\")","v":""},{"$f":"IF(NOT(ISBLANK(ShareOfSearch_SERPS!G2889)),ShareOfSearch_SERPS!G2889,\"\")","v":""},{"$f":"IF(NOT(ISBLANK(ShareOfSearch_SERPS!K2889)),ShareOfSearch_SERPS!K2889,\"\")","v":""},{"$f":"IFERROR(VLOOKUP(C2889,ShareOfSearch_CTR!$A$1:$B$100,2,FALSE)*VLOOKUP(A2889&B2889,ShareOfSearch_Volume!$C$1:$D$1000,2,FALSE),\"\")","v":""}]
[{"$f":"IF(ISTEXT(ShareOfSearch_SERPS!C2890),ShareOfSearch_SERPS!C2890,\"\")","v":""},{"$f":"IF(ISTEXT(ShareOfSearch_SERPS!D2890),ShareOfSearch_SERPS!D2890,\"\")","v":""},{"$f":"IF(NOT(ISBLANK(ShareOfSearch_SERPS!A2890)),ShareOfSearch_SERPS!A2890,\"\")","v":""},{"$f":"IF(NOT(ISBLANK(ShareOfSearch_SERPS!G2890)),ShareOfSearch_SERPS!G2890,\"\")","v":""},{"$f":"IF(NOT(ISBLANK(ShareOfSearch_SERPS!K2890)),ShareOfSearch_SERPS!K2890,\"\")","v":""},{"$f":"IFERROR(VLOOKUP(C2890,ShareOfSearch_CTR!$A$1:$B$100,2,FALSE)*VLOOKUP(A2890&B2890,ShareOfSearch_Volume!$C$1:$D$1000,2,FALSE),\"\")","v":""}]
[{"$f":"IF(ISTEXT(ShareOfSearch_SERPS!C2891),ShareOfSearch_SERPS!C2891,\"\")","v":""},{"$f":"IF(ISTEXT(ShareOfSearch_SERPS!D2891),ShareOfSearch_SERPS!D2891,\"\")","v":""},{"$f":"IF(NOT(ISBLANK(ShareOfSearch_SERPS!A2891)),ShareOfSearch_SERPS!A2891,\"\")","v":""},{"$f":"IF(NOT(ISBLANK(ShareOfSearch_SERPS!G2891)),ShareOfSearch_SERPS!G2891,\"\")","v":""},{"$f":"IF(NOT(ISBLANK(ShareOfSearch_SERPS!K2891)),ShareOfSearch_SERPS!K2891,\"\")","v":""},{"$f":"IFERROR(VLOOKUP(C2891,ShareOfSearch_CTR!$A$1:$B$100,2,FALSE)*VLOOKUP(A2891&B2891,ShareOfSearch_Volume!$C$1:$D$1000,2,FALSE),\"\")","v":""}]
[{"$f":"IF(ISTEXT(ShareOfSearch_SERPS!C2892),ShareOfSearch_SERPS!C2892,\"\")","v":""},{"$f":"IF(ISTEXT(ShareOfSearch_SERPS!D2892),ShareOfSearch_SERPS!D2892,\"\")","v":""},{"$f":"IF(NOT(ISBLANK(ShareOfSearch_SERPS!A2892)),ShareOfSearch_SERPS!A2892,\"\")","v":""},{"$f":"IF(NOT(ISBLANK(ShareOfSearch_SERPS!G2892)),ShareOfSearch_SERPS!G2892,\"\")","v":""},{"$f":"IF(NOT(ISBLANK(ShareOfSearch_SERPS!K2892)),ShareOfSearch_SERPS!K2892,\"\")","v":""},{"$f":"IFERROR(VLOOKUP(C2892,ShareOfSearch_CTR!$A$1:$B$100,2,FALSE)*VLOOKUP(A2892&B2892,ShareOfSearch_Volume!$C$1:$D$1000,2,FALSE),\"\")","v":""}]
[{"$f":"IF(ISTEXT(ShareOfSearch_SERPS!C2893),ShareOfSearch_SERPS!C2893,\"\")","v":""},{"$f":"IF(ISTEXT(ShareOfSearch_SERPS!D2893),ShareOfSearch_SERPS!D2893,\"\")","v":""},{"$f":"IF(NOT(ISBLANK(ShareOfSearch_SERPS!A2893)),ShareOfSearch_SERPS!A2893,\"\")","v":""},{"$f":"IF(NOT(ISBLANK(ShareOfSearch_SERPS!G2893)),ShareOfSearch_SERPS!G2893,\"\")","v":""},{"$f":"IF(NOT(ISBLANK(ShareOfSearch_SERPS!K2893)),ShareOfSearch_SERPS!K2893,\"\")","v":""},{"$f":"IFERROR(VLOOKUP(C2893,ShareOfSearch_CTR!$A$1:$B$100,2,FALSE)*VLOOKUP(A2893&B2893,ShareOfSearch_Volume!$C$1:$D$1000,2,FALSE),\"\")","v":""}]
[{"$f":"IF(ISTEXT(ShareOfSearch_SERPS!C2894),ShareOfSearch_SERPS!C2894,\"\")","v":""},{"$f":"IF(ISTEXT(ShareOfSearch_SERPS!D2894),ShareOfSearch_SERPS!D2894,\"\")","v":""},{"$f":"IF(NOT(ISBLANK(ShareOfSearch_SERPS!A2894)),ShareOfSearch_SERPS!A2894,\"\")","v":""},{"$f":"IF(NOT(ISBLANK(ShareOfSearch_SERPS!G2894)),ShareOfSearch_SERPS!G2894,\"\")","v":""},{"$f":"IF(NOT(ISBLANK(ShareOfSearch_SERPS!K2894)),ShareOfSearch_SERPS!K2894,\"\")","v":""},{"$f":"IFERROR(VLOOKUP(C2894,ShareOfSearch_CTR!$A$1:$B$100,2,FALSE)*VLOOKUP(A2894&B2894,ShareOfSearch_Volume!$C$1:$D$1000,2,FALSE),\"\")","v":""}]
[{"$f":"IF(ISTEXT(ShareOfSearch_SERPS!C2895),ShareOfSearch_SERPS!C2895,\"\")","v":""},{"$f":"IF(ISTEXT(ShareOfSearch_SERPS!D2895),ShareOfSearch_SERPS!D2895,\"\")","v":""},{"$f":"IF(NOT(ISBLANK(ShareOfSearch_SERPS!A2895)),ShareOfSearch_SERPS!A2895,\"\")","v":""},{"$f":"IF(NOT(ISBLANK(ShareOfSearch_SERPS!G2895)),ShareOfSearch_SERPS!G2895,\"\")","v":""},{"$f":"IF(NOT(ISBLANK(ShareOfSearch_SERPS!K2895)),ShareOfSearch_SERPS!K2895,\"\")","v":""},{"$f":"IFERROR(VLOOKUP(C2895,ShareOfSearch_CTR!$A$1:$B$100,2,FALSE)*VLOOKUP(A2895&B2895,ShareOfSearch_Volume!$C$1:$D$1000,2,FALSE),\"\")","v":""}]
[{"$f":"IF(ISTEXT(ShareOfSearch_SERPS!C2896),ShareOfSearch_SERPS!C2896,\"\")","v":""},{"$f":"IF(ISTEXT(ShareOfSearch_SERPS!D2896),ShareOfSearch_SERPS!D2896,\"\")","v":""},{"$f":"IF(NOT(ISBLANK(ShareOfSearch_SERPS!A2896)),ShareOfSearch_SERPS!A2896,\"\")","v":""},{"$f":"IF(NOT(ISBLANK(ShareOfSearch_SERPS!G2896)),ShareOfSearch_SERPS!G2896,\"\")","v":""},{"$f":"IF(NOT(ISBLANK(ShareOfSearch_SERPS!K2896)),ShareOfSearch_SERPS!K2896,\"\")","v":""},{"$f":"IFERROR(VLOOKUP(C2896,ShareOfSearch_CTR!$A$1:$B$100,2,FALSE)*VLOOKUP(A2896&B2896,ShareOfSearch_Volume!$C$1:$D$1000,2,FALSE),\"\")","v":""}]
[{"$f":"IF(ISTEXT(ShareOfSearch_SERPS!C2897),ShareOfSearch_SERPS!C2897,\"\")","v":""},{"$f":"IF(ISTEXT(ShareOfSearch_SERPS!D2897),ShareOfSearch_SERPS!D2897,\"\")","v":""},{"$f":"IF(NOT(ISBLANK(ShareOfSearch_SERPS!A2897)),ShareOfSearch_SERPS!A2897,\"\")","v":""},{"$f":"IF(NOT(ISBLANK(ShareOfSearch_SERPS!G2897)),ShareOfSearch_SERPS!G2897,\"\")","v":""},{"$f":"IF(NOT(ISBLANK(ShareOfSearch_SERPS!K2897)),ShareOfSearch_SERPS!K2897,\"\")","v":""},{"$f":"IFERROR(VLOOKUP(C2897,ShareOfSearch_CTR!$A$1:$B$100,2,FALSE)*VLOOKUP(A2897&B2897,ShareOfSearch_Volume!$C$1:$D$1000,2,FALSE),\"\")","v":""}]
[{"$f":"IF(ISTEXT(ShareOfSearch_SERPS!C2898),ShareOfSearch_SERPS!C2898,\"\")","v":""},{"$f":"IF(ISTEXT(ShareOfSearch_SERPS!D2898),ShareOfSearch_SERPS!D2898,\"\")","v":""},{"$f":"IF(NOT(ISBLANK(ShareOfSearch_SERPS!A2898)),ShareOfSearch_SERPS!A2898,\"\")","v":""},{"$f":"IF(NOT(ISBLANK(ShareOfSearch_SERPS!G2898)),ShareOfSearch_SERPS!G2898,\"\")","v":""},{"$f":"IF(NOT(ISBLANK(ShareOfSearch_SERPS!K2898)),ShareOfSearch_SERPS!K2898,\"\")","v":""},{"$f":"IFERROR(VLOOKUP(C2898,ShareOfSearch_CTR!$A$1:$B$100,2,FALSE)*VLOOKUP(A2898&B2898,ShareOfSearch_Volume!$C$1:$D$1000,2,FALSE),\"\")","v":""}]
[{"$f":"IF(ISTEXT(ShareOfSearch_SERPS!C2899),ShareOfSearch_SERPS!C2899,\"\")","v":""},{"$f":"IF(ISTEXT(ShareOfSearch_SERPS!D2899),ShareOfSearch_SERPS!D2899,\"\")","v":""},{"$f":"IF(NOT(ISBLANK(ShareOfSearch_SERPS!A2899)),ShareOfSearch_SERPS!A2899,\"\")","v":""},{"$f":"IF(NOT(ISBLANK(ShareOfSearch_SERPS!G2899)),ShareOfSearch_SERPS!G2899,\"\")","v":""},{"$f":"IF(NOT(ISBLANK(ShareOfSearch_SERPS!K2899)),ShareOfSearch_SERPS!K2899,\"\")","v":""},{"$f":"IFERROR(VLOOKUP(C2899,ShareOfSearch_CTR!$A$1:$B$100,2,FALSE)*VLOOKUP(A2899&B2899,ShareOfSearch_Volume!$C$1:$D$1000,2,FALSE),\"\")","v":""}]
[{"$f":"IF(ISTEXT(ShareOfSearch_SERPS!C2900),ShareOfSearch_SERPS!C2900,\"\")","v":""},{"$f":"IF(ISTEXT(ShareOfSearch_SERPS!D2900),ShareOfSearch_SERPS!D2900,\"\")","v":""},{"$f":"IF(NOT(ISBLANK(ShareOfSearch_SERPS!A2900)),ShareOfSearch_SERPS!A2900,\"\")","v":""},{"$f":"IF(NOT(ISBLANK(ShareOfSearch_SERPS!G2900)),ShareOfSearch_SERPS!G2900,\"\")","v":""},{"$f":"IF(NOT(ISBLANK(ShareOfSearch_SERPS!K2900)),ShareOfSearch_SERPS!K2900,\"\")","v":""},{"$f":"IFERROR(VLOOKUP(C2900,ShareOfSearch_CTR!$A$1:$B$100,2,FALSE)*VLOOKUP(A2900&B2900,ShareOfSearch_Volume!$C$1:$D$1000,2,FALSE),\"\")","v":""}]
[{"$f":"IF(ISTEXT(ShareOfSearch_SERPS!C2901),ShareOfSearch_SERPS!C2901,\"\")","v":""},{"$f":"IF(ISTEXT(ShareOfSearch_SERPS!D2901),ShareOfSearch_SERPS!D2901,\"\")","v":""},{"$f":"IF(NOT(ISBLANK(ShareOfSearch_SERPS!A2901)),ShareOfSearch_SERPS!A2901,\"\")","v":""},{"$f":"IF(NOT(ISBLANK(ShareOfSearch_SERPS!G2901)),ShareOfSearch_SERPS!G2901,\"\")","v":""},{"$f":"IF(NOT(ISBLANK(ShareOfSearch_SERPS!K2901)),ShareOfSearch_SERPS!K2901,\"\")","v":""},{"$f":"IFERROR(VLOOKUP(C2901,ShareOfSearch_CTR!$A$1:$B$100,2,FALSE)*VLOOKUP(A2901&B2901,ShareOfSearch_Volume!$C$1:$D$1000,2,FALSE),\"\")","v":""}]
[{"$f":"IF(ISTEXT(ShareOfSearch_SERPS!C2902),ShareOfSearch_SERPS!C2902,\"\")","v":""},{"$f":"IF(ISTEXT(ShareOfSearch_SERPS!D2902),ShareOfSearch_SERPS!D2902,\"\")","v":""},{"$f":"IF(NOT(ISBLANK(ShareOfSearch_SERPS!A2902)),ShareOfSearch_SERPS!A2902,\"\")","v":""},{"$f":"IF(NOT(ISBLANK(ShareOfSearch_SERPS!G2902)),ShareOfSearch_SERPS!G2902,\"\")","v":""},{"$f":"IF(NOT(ISBLANK(ShareOfSearch_SERPS!K2902)),ShareOfSearch_SERPS!K2902,\"\")","v":""},{"$f":"IFERROR(VLOOKUP(C2902,ShareOfSearch_CTR!$A$1:$B$100,2,FALSE)*VLOOKUP(A2902&B2902,ShareOfSearch_Volume!$C$1:$D$1000,2,FALSE),\"\")","v":""}]
[{"$f":"IF(ISTEXT(ShareOfSearch_SERPS!C2903),ShareOfSearch_SERPS!C2903,\"\")","v":""},{"$f":"IF(ISTEXT(ShareOfSearch_SERPS!D2903),ShareOfSearch_SERPS!D2903,\"\")","v":""},{"$f":"IF(NOT(ISBLANK(ShareOfSearch_SERPS!A2903)),ShareOfSearch_SERPS!A2903,\"\")","v":""},{"$f":"IF(NOT(ISBLANK(ShareOfSearch_SERPS!G2903)),ShareOfSearch_SERPS!G2903,\"\")","v":""},{"$f":"IF(NOT(ISBLANK(ShareOfSearch_SERPS!K2903)),ShareOfSearch_SERPS!K2903,\"\")","v":""},{"$f":"IFERROR(VLOOKUP(C2903,ShareOfSearch_CTR!$A$1:$B$100,2,FALSE)*VLOOKUP(A2903&B2903,ShareOfSearch_Volume!$C$1:$D$1000,2,FALSE),\"\")","v":""}]
[{"$f":"IF(ISTEXT(ShareOfSearch_SERPS!C2904),ShareOfSearch_SERPS!C2904,\"\")","v":""},{"$f":"IF(ISTEXT(ShareOfSearch_SERPS!D2904),ShareOfSearch_SERPS!D2904,\"\")","v":""},{"$f":"IF(NOT(ISBLANK(ShareOfSearch_SERPS!A2904)),ShareOfSearch_SERPS!A2904,\"\")","v":""},{"$f":"IF(NOT(ISBLANK(ShareOfSearch_SERPS!G2904)),ShareOfSearch_SERPS!G2904,\"\")","v":""},{"$f":"IF(NOT(ISBLANK(ShareOfSearch_SERPS!K2904)),ShareOfSearch_SERPS!K2904,\"\")","v":""},{"$f":"IFERROR(VLOOKUP(C2904,ShareOfSearch_CTR!$A$1:$B$100,2,FALSE)*VLOOKUP(A2904&B2904,ShareOfSearch_Volume!$C$1:$D$1000,2,FALSE),\"\")","v":""}]
[{"$f":"IF(ISTEXT(ShareOfSearch_SERPS!C2905),ShareOfSearch_SERPS!C2905,\"\")","v":""},{"$f":"IF(ISTEXT(ShareOfSearch_SERPS!D2905),ShareOfSearch_SERPS!D2905,\"\")","v":""},{"$f":"IF(NOT(ISBLANK(ShareOfSearch_SERPS!A2905)),ShareOfSearch_SERPS!A2905,\"\")","v":""},{"$f":"IF(NOT(ISBLANK(ShareOfSearch_SERPS!G2905)),ShareOfSearch_SERPS!G2905,\"\")","v":""},{"$f":"IF(NOT(ISBLANK(ShareOfSearch_SERPS!K2905)),ShareOfSearch_SERPS!K2905,\"\")","v":""},{"$f":"IFERROR(VLOOKUP(C2905,ShareOfSearch_CTR!$A$1:$B$100,2,FALSE)*VLOOKUP(A2905&B2905,ShareOfSearch_Volume!$C$1:$D$1000,2,FALSE),\"\")","v":""}]
[{"$f":"IF(ISTEXT(ShareOfSearch_SERPS!C2906),ShareOfSearch_SERPS!C2906,\"\")","v":""},{"$f":"IF(ISTEXT(ShareOfSearch_SERPS!D2906),ShareOfSearch_SERPS!D2906,\"\")","v":""},{"$f":"IF(NOT(ISBLANK(ShareOfSearch_SERPS!A2906)),ShareOfSearch_SERPS!A2906,\"\")","v":""},{"$f":"IF(NOT(ISBLANK(ShareOfSearch_SERPS!G2906)),ShareOfSearch_SERPS!G2906,\"\")","v":""},{"$f":"IF(NOT(ISBLANK(ShareOfSearch_SERPS!K2906)),ShareOfSearch_SERPS!K2906,\"\")","v":""},{"$f":"IFERROR(VLOOKUP(C2906,ShareOfSearch_CTR!$A$1:$B$100,2,FALSE)*VLOOKUP(A2906&B2906,ShareOfSearch_Volume!$C$1:$D$1000,2,FALSE),\"\")","v":""}]
[{"$f":"IF(ISTEXT(ShareOfSearch_SERPS!C2907),ShareOfSearch_SERPS!C2907,\"\")","v":""},{"$f":"IF(ISTEXT(ShareOfSearch_SERPS!D2907),ShareOfSearch_SERPS!D2907,\"\")","v":""},{"$f":"IF(NOT(ISBLANK(ShareOfSearch_SERPS!A2907)),ShareOfSearch_SERPS!A2907,\"\")","v":""},{"$f":"IF(NOT(ISBLANK(ShareOfSearch_SERPS!G2907)),ShareOfSearch_SERPS!G2907,\"\")","v":""},{"$f":"IF(NOT(ISBLANK(ShareOfSearch_SERPS!K2907)),ShareOfSearch_SERPS!K2907,\"\")","v":""},{"$f":"IFERROR(VLOOKUP(C2907,ShareOfSearch_CTR!$A$1:$B$100,2,FALSE)*VLOOKUP(A2907&B2907,ShareOfSearch_Volume!$C$1:$D$1000,2,FALSE),\"\")","v":""}]
[{"$f":"IF(ISTEXT(ShareOfSearch_SERPS!C2908),ShareOfSearch_SERPS!C2908,\"\")","v":""},{"$f":"IF(ISTEXT(ShareOfSearch_SERPS!D2908),ShareOfSearch_SERPS!D2908,\"\")","v":""},{"$f":"IF(NOT(ISBLANK(ShareOfSearch_SERPS!A2908)),ShareOfSearch_SERPS!A2908,\"\")","v":""},{"$f":"IF(NOT(ISBLANK(ShareOfSearch_SERPS!G2908)),ShareOfSearch_SERPS!G2908,\"\")","v":""},{"$f":"IF(NOT(ISBLANK(ShareOfSearch_SERPS!K2908)),ShareOfSearch_SERPS!K2908,\"\")","v":""},{"$f":"IFERROR(VLOOKUP(C2908,ShareOfSearch_CTR!$A$1:$B$100,2,FALSE)*VLOOKUP(A2908&B2908,ShareOfSearch_Volume!$C$1:$D$1000,2,FALSE),\"\")","v":""}]
[{"$f":"IF(ISTEXT(ShareOfSearch_SERPS!C2909),ShareOfSearch_SERPS!C2909,\"\")","v":""},{"$f":"IF(ISTEXT(ShareOfSearch_SERPS!D2909),ShareOfSearch_SERPS!D2909,\"\")","v":""},{"$f":"IF(NOT(ISBLANK(ShareOfSearch_SERPS!A2909)),ShareOfSearch_SERPS!A2909,\"\")","v":""},{"$f":"IF(NOT(ISBLANK(ShareOfSearch_SERPS!G2909)),ShareOfSearch_SERPS!G2909,\"\")","v":""},{"$f":"IF(NOT(ISBLANK(ShareOfSearch_SERPS!K2909)),ShareOfSearch_SERPS!K2909,\"\")","v":""},{"$f":"IFERROR(VLOOKUP(C2909,ShareOfSearch_CTR!$A$1:$B$100,2,FALSE)*VLOOKUP(A2909&B2909,ShareOfSearch_Volume!$C$1:$D$1000,2,FALSE),\"\")","v":""}]
[{"$f":"IF(ISTEXT(ShareOfSearch_SERPS!C2910),ShareOfSearch_SERPS!C2910,\"\")","v":""},{"$f":"IF(ISTEXT(ShareOfSearch_SERPS!D2910),ShareOfSearch_SERPS!D2910,\"\")","v":""},{"$f":"IF(NOT(ISBLANK(ShareOfSearch_SERPS!A2910)),ShareOfSearch_SERPS!A2910,\"\")","v":""},{"$f":"IF(NOT(ISBLANK(ShareOfSearch_SERPS!G2910)),ShareOfSearch_SERPS!G2910,\"\")","v":""},{"$f":"IF(NOT(ISBLANK(ShareOfSearch_SERPS!K2910)),ShareOfSearch_SERPS!K2910,\"\")","v":""},{"$f":"IFERROR(VLOOKUP(C2910,ShareOfSearch_CTR!$A$1:$B$100,2,FALSE)*VLOOKUP(A2910&B2910,ShareOfSearch_Volume!$C$1:$D$1000,2,FALSE),\"\")","v":""}]
[{"$f":"IF(ISTEXT(ShareOfSearch_SERPS!C2911),ShareOfSearch_SERPS!C2911,\"\")","v":""},{"$f":"IF(ISTEXT(ShareOfSearch_SERPS!D2911),ShareOfSearch_SERPS!D2911,\"\")","v":""},{"$f":"IF(NOT(ISBLANK(ShareOfSearch_SERPS!A2911)),ShareOfSearch_SERPS!A2911,\"\")","v":""},{"$f":"IF(NOT(ISBLANK(ShareOfSearch_SERPS!G2911)),ShareOfSearch_SERPS!G2911,\"\")","v":""},{"$f":"IF(NOT(ISBLANK(ShareOfSearch_SERPS!K2911)),ShareOfSearch_SERPS!K2911,\"\")","v":""},{"$f":"IFERROR(VLOOKUP(C2911,ShareOfSearch_CTR!$A$1:$B$100,2,FALSE)*VLOOKUP(A2911&B2911,ShareOfSearch_Volume!$C$1:$D$1000,2,FALSE),\"\")","v":""}]
[{"$f":"IF(ISTEXT(ShareOfSearch_SERPS!C2912),ShareOfSearch_SERPS!C2912,\"\")","v":""},{"$f":"IF(ISTEXT(ShareOfSearch_SERPS!D2912),ShareOfSearch_SERPS!D2912,\"\")","v":""},{"$f":"IF(NOT(ISBLANK(ShareOfSearch_SERPS!A2912)),ShareOfSearch_SERPS!A2912,\"\")","v":""},{"$f":"IF(NOT(ISBLANK(ShareOfSearch_SERPS!G2912)),ShareOfSearch_SERPS!G2912,\"\")","v":""},{"$f":"IF(NOT(ISBLANK(ShareOfSearch_SERPS!K2912)),ShareOfSearch_SERPS!K2912,\"\")","v":""},{"$f":"IFERROR(VLOOKUP(C2912,ShareOfSearch_CTR!$A$1:$B$100,2,FALSE)*VLOOKUP(A2912&B2912,ShareOfSearch_Volume!$C$1:$D$1000,2,FALSE),\"\")","v":""}]
[{"$f":"IF(ISTEXT(ShareOfSearch_SERPS!C2913),ShareOfSearch_SERPS!C2913,\"\")","v":""},{"$f":"IF(ISTEXT(ShareOfSearch_SERPS!D2913),ShareOfSearch_SERPS!D2913,\"\")","v":""},{"$f":"IF(NOT(ISBLANK(ShareOfSearch_SERPS!A2913)),ShareOfSearch_SERPS!A2913,\"\")","v":""},{"$f":"IF(NOT(ISBLANK(ShareOfSearch_SERPS!G2913)),ShareOfSearch_SERPS!G2913,\"\")","v":""},{"$f":"IF(NOT(ISBLANK(ShareOfSearch_SERPS!K2913)),ShareOfSearch_SERPS!K2913,\"\")","v":""},{"$f":"IFERROR(VLOOKUP(C2913,ShareOfSearch_CTR!$A$1:$B$100,2,FALSE)*VLOOKUP(A2913&B2913,ShareOfSearch_Volume!$C$1:$D$1000,2,FALSE),\"\")","v":""}]
[{"$f":"IF(ISTEXT(ShareOfSearch_SERPS!C2914),ShareOfSearch_SERPS!C2914,\"\")","v":""},{"$f":"IF(ISTEXT(ShareOfSearch_SERPS!D2914),ShareOfSearch_SERPS!D2914,\"\")","v":""},{"$f":"IF(NOT(ISBLANK(ShareOfSearch_SERPS!A2914)),ShareOfSearch_SERPS!A2914,\"\")","v":""},{"$f":"IF(NOT(ISBLANK(ShareOfSearch_SERPS!G2914)),ShareOfSearch_SERPS!G2914,\"\")","v":""},{"$f":"IF(NOT(ISBLANK(ShareOfSearch_SERPS!K2914)),ShareOfSearch_SERPS!K2914,\"\")","v":""},{"$f":"IFERROR(VLOOKUP(C2914,ShareOfSearch_CTR!$A$1:$B$100,2,FALSE)*VLOOKUP(A2914&B2914,ShareOfSearch_Volume!$C$1:$D$1000,2,FALSE),\"\")","v":""}]
[{"$f":"IF(ISTEXT(ShareOfSearch_SERPS!C2915),ShareOfSearch_SERPS!C2915,\"\")","v":""},{"$f":"IF(ISTEXT(ShareOfSearch_SERPS!D2915),ShareOfSearch_SERPS!D2915,\"\")","v":""},{"$f":"IF(NOT(ISBLANK(ShareOfSearch_SERPS!A2915)),ShareOfSearch_SERPS!A2915,\"\")","v":""},{"$f":"IF(NOT(ISBLANK(ShareOfSearch_SERPS!G2915)),ShareOfSearch_SERPS!G2915,\"\")","v":""},{"$f":"IF(NOT(ISBLANK(ShareOfSearch_SERPS!K2915)),ShareOfSearch_SERPS!K2915,\"\")","v":""},{"$f":"IFERROR(VLOOKUP(C2915,ShareOfSearch_CTR!$A$1:$B$100,2,FALSE)*VLOOKUP(A2915&B2915,ShareOfSearch_Volume!$C$1:$D$1000,2,FALSE),\"\")","v":""}]
[{"$f":"IF(ISTEXT(ShareOfSearch_SERPS!C2916),ShareOfSearch_SERPS!C2916,\"\")","v":""},{"$f":"IF(ISTEXT(ShareOfSearch_SERPS!D2916),ShareOfSearch_SERPS!D2916,\"\")","v":""},{"$f":"IF(NOT(ISBLANK(ShareOfSearch_SERPS!A2916)),ShareOfSearch_SERPS!A2916,\"\")","v":""},{"$f":"IF(NOT(ISBLANK(ShareOfSearch_SERPS!G2916)),ShareOfSearch_SERPS!G2916,\"\")","v":""},{"$f":"IF(NOT(ISBLANK(ShareOfSearch_SERPS!K2916)),ShareOfSearch_SERPS!K2916,\"\")","v":""},{"$f":"IFERROR(VLOOKUP(C2916,ShareOfSearch_CTR!$A$1:$B$100,2,FALSE)*VLOOKUP(A2916&B2916,ShareOfSearch_Volume!$C$1:$D$1000,2,FALSE),\"\")","v":""}]
[{"$f":"IF(ISTEXT(ShareOfSearch_SERPS!C2917),ShareOfSearch_SERPS!C2917,\"\")","v":""},{"$f":"IF(ISTEXT(ShareOfSearch_SERPS!D2917),ShareOfSearch_SERPS!D2917,\"\")","v":""},{"$f":"IF(NOT(ISBLANK(ShareOfSearch_SERPS!A2917)),ShareOfSearch_SERPS!A2917,\"\")","v":""},{"$f":"IF(NOT(ISBLANK(ShareOfSearch_SERPS!G2917)),ShareOfSearch_SERPS!G2917,\"\")","v":""},{"$f":"IF(NOT(ISBLANK(ShareOfSearch_SERPS!K2917)),ShareOfSearch_SERPS!K2917,\"\")","v":""},{"$f":"IFERROR(VLOOKUP(C2917,ShareOfSearch_CTR!$A$1:$B$100,2,FALSE)*VLOOKUP(A2917&B2917,ShareOfSearch_Volume!$C$1:$D$1000,2,FALSE),\"\")","v":""}]
[{"$f":"IF(ISTEXT(ShareOfSearch_SERPS!C2918),ShareOfSearch_SERPS!C2918,\"\")","v":""},{"$f":"IF(ISTEXT(ShareOfSearch_SERPS!D2918),ShareOfSearch_SERPS!D2918,\"\")","v":""},{"$f":"IF(NOT(ISBLANK(ShareOfSearch_SERPS!A2918)),ShareOfSearch_SERPS!A2918,\"\")","v":""},{"$f":"IF(NOT(ISBLANK(ShareOfSearch_SERPS!G2918)),ShareOfSearch_SERPS!G2918,\"\")","v":""},{"$f":"IF(NOT(ISBLANK(ShareOfSearch_SERPS!K2918)),ShareOfSearch_SERPS!K2918,\"\")","v":""},{"$f":"IFERROR(VLOOKUP(C2918,ShareOfSearch_CTR!$A$1:$B$100,2,FALSE)*VLOOKUP(A2918&B2918,ShareOfSearch_Volume!$C$1:$D$1000,2,FALSE),\"\")","v":""}]
[{"$f":"IF(ISTEXT(ShareOfSearch_SERPS!C2919),ShareOfSearch_SERPS!C2919,\"\")","v":""},{"$f":"IF(ISTEXT(ShareOfSearch_SERPS!D2919),ShareOfSearch_SERPS!D2919,\"\")","v":""},{"$f":"IF(NOT(ISBLANK(ShareOfSearch_SERPS!A2919)),ShareOfSearch_SERPS!A2919,\"\")","v":""},{"$f":"IF(NOT(ISBLANK(ShareOfSearch_SERPS!G2919)),ShareOfSearch_SERPS!G2919,\"\")","v":""},{"$f":"IF(NOT(ISBLANK(ShareOfSearch_SERPS!K2919)),ShareOfSearch_SERPS!K2919,\"\")","v":""},{"$f":"IFERROR(VLOOKUP(C2919,ShareOfSearch_CTR!$A$1:$B$100,2,FALSE)*VLOOKUP(A2919&B2919,ShareOfSearch_Volume!$C$1:$D$1000,2,FALSE),\"\")","v":""}]
[{"$f":"IF(ISTEXT(ShareOfSearch_SERPS!C2920),ShareOfSearch_SERPS!C2920,\"\")","v":""},{"$f":"IF(ISTEXT(ShareOfSearch_SERPS!D2920),ShareOfSearch_SERPS!D2920,\"\")","v":""},{"$f":"IF(NOT(ISBLANK(ShareOfSearch_SERPS!A2920)),ShareOfSearch_SERPS!A2920,\"\")","v":""},{"$f":"IF(NOT(ISBLANK(ShareOfSearch_SERPS!G2920)),ShareOfSearch_SERPS!G2920,\"\")","v":""},{"$f":"IF(NOT(ISBLANK(ShareOfSearch_SERPS!K2920)),ShareOfSearch_SERPS!K2920,\"\")","v":""},{"$f":"IFERROR(VLOOKUP(C2920,ShareOfSearch_CTR!$A$1:$B$100,2,FALSE)*VLOOKUP(A2920&B2920,ShareOfSearch_Volume!$C$1:$D$1000,2,FALSE),\"\")","v":""}]
[{"$f":"IF(ISTEXT(ShareOfSearch_SERPS!C2921),ShareOfSearch_SERPS!C2921,\"\")","v":""},{"$f":"IF(ISTEXT(ShareOfSearch_SERPS!D2921),ShareOfSearch_SERPS!D2921,\"\")","v":""},{"$f":"IF(NOT(ISBLANK(ShareOfSearch_SERPS!A2921)),ShareOfSearch_SERPS!A2921,\"\")","v":""},{"$f":"IF(NOT(ISBLANK(ShareOfSearch_SERPS!G2921)),ShareOfSearch_SERPS!G2921,\"\")","v":""},{"$f":"IF(NOT(ISBLANK(ShareOfSearch_SERPS!K2921)),ShareOfSearch_SERPS!K2921,\"\")","v":""},{"$f":"IFERROR(VLOOKUP(C2921,ShareOfSearch_CTR!$A$1:$B$100,2,FALSE)*VLOOKUP(A2921&B2921,ShareOfSearch_Volume!$C$1:$D$1000,2,FALSE),\"\")","v":""}]
[{"$f":"IF(ISTEXT(ShareOfSearch_SERPS!C2922),ShareOfSearch_SERPS!C2922,\"\")","v":""},{"$f":"IF(ISTEXT(ShareOfSearch_SERPS!D2922),ShareOfSearch_SERPS!D2922,\"\")","v":""},{"$f":"IF(NOT(ISBLANK(ShareOfSearch_SERPS!A2922)),ShareOfSearch_SERPS!A2922,\"\")","v":""},{"$f":"IF(NOT(ISBLANK(ShareOfSearch_SERPS!G2922)),ShareOfSearch_SERPS!G2922,\"\")","v":""},{"$f":"IF(NOT(ISBLANK(ShareOfSearch_SERPS!K2922)),ShareOfSearch_SERPS!K2922,\"\")","v":""},{"$f":"IFERROR(VLOOKUP(C2922,ShareOfSearch_CTR!$A$1:$B$100,2,FALSE)*VLOOKUP(A2922&B2922,ShareOfSearch_Volume!$C$1:$D$1000,2,FALSE),\"\")","v":""}]
[{"$f":"IF(ISTEXT(ShareOfSearch_SERPS!C2923),ShareOfSearch_SERPS!C2923,\"\")","v":""},{"$f":"IF(ISTEXT(ShareOfSearch_SERPS!D2923),ShareOfSearch_SERPS!D2923,\"\")","v":""},{"$f":"IF(NOT(ISBLANK(ShareOfSearch_SERPS!A2923)),ShareOfSearch_SERPS!A2923,\"\")","v":""},{"$f":"IF(NOT(ISBLANK(ShareOfSearch_SERPS!G2923)),ShareOfSearch_SERPS!G2923,\"\")","v":""},{"$f":"IF(NOT(ISBLANK(ShareOfSearch_SERPS!K2923)),ShareOfSearch_SERPS!K2923,\"\")","v":""},{"$f":"IFERROR(VLOOKUP(C2923,ShareOfSearch_CTR!$A$1:$B$100,2,FALSE)*VLOOKUP(A2923&B2923,ShareOfSearch_Volume!$C$1:$D$1000,2,FALSE),\"\")","v":""}]
[{"$f":"IF(ISTEXT(ShareOfSearch_SERPS!C2924),ShareOfSearch_SERPS!C2924,\"\")","v":""},{"$f":"IF(ISTEXT(ShareOfSearch_SERPS!D2924),ShareOfSearch_SERPS!D2924,\"\")","v":""},{"$f":"IF(NOT(ISBLANK(ShareOfSearch_SERPS!A2924)),ShareOfSearch_SERPS!A2924,\"\")","v":""},{"$f":"IF(NOT(ISBLANK(ShareOfSearch_SERPS!G2924)),ShareOfSearch_SERPS!G2924,\"\")","v":""},{"$f":"IF(NOT(ISBLANK(ShareOfSearch_SERPS!K2924)),ShareOfSearch_SERPS!K2924,\"\")","v":""},{"$f":"IFERROR(VLOOKUP(C2924,ShareOfSearch_CTR!$A$1:$B$100,2,FALSE)*VLOOKUP(A2924&B2924,ShareOfSearch_Volume!$C$1:$D$1000,2,FALSE),\"\")","v":""}]
[{"$f":"IF(ISTEXT(ShareOfSearch_SERPS!C2925),ShareOfSearch_SERPS!C2925,\"\")","v":""},{"$f":"IF(ISTEXT(ShareOfSearch_SERPS!D2925),ShareOfSearch_SERPS!D2925,\"\")","v":""},{"$f":"IF(NOT(ISBLANK(ShareOfSearch_SERPS!A2925)),ShareOfSearch_SERPS!A2925,\"\")","v":""},{"$f":"IF(NOT(ISBLANK(ShareOfSearch_SERPS!G2925)),ShareOfSearch_SERPS!G2925,\"\")","v":""},{"$f":"IF(NOT(ISBLANK(ShareOfSearch_SERPS!K2925)),ShareOfSearch_SERPS!K2925,\"\")","v":""},{"$f":"IFERROR(VLOOKUP(C2925,ShareOfSearch_CTR!$A$1:$B$100,2,FALSE)*VLOOKUP(A2925&B2925,ShareOfSearch_Volume!$C$1:$D$1000,2,FALSE),\"\")","v":""}]
[{"$f":"IF(ISTEXT(ShareOfSearch_SERPS!C2926),ShareOfSearch_SERPS!C2926,\"\")","v":""},{"$f":"IF(ISTEXT(ShareOfSearch_SERPS!D2926),ShareOfSearch_SERPS!D2926,\"\")","v":""},{"$f":"IF(NOT(ISBLANK(ShareOfSearch_SERPS!A2926)),ShareOfSearch_SERPS!A2926,\"\")","v":""},{"$f":"IF(NOT(ISBLANK(ShareOfSearch_SERPS!G2926)),ShareOfSearch_SERPS!G2926,\"\")","v":""},{"$f":"IF(NOT(ISBLANK(ShareOfSearch_SERPS!K2926)),ShareOfSearch_SERPS!K2926,\"\")","v":""},{"$f":"IFERROR(VLOOKUP(C2926,ShareOfSearch_CTR!$A$1:$B$100,2,FALSE)*VLOOKUP(A2926&B2926,ShareOfSearch_Volume!$C$1:$D$1000,2,FALSE),\"\")","v":""}]
[{"$f":"IF(ISTEXT(ShareOfSearch_SERPS!C2927),ShareOfSearch_SERPS!C2927,\"\")","v":""},{"$f":"IF(ISTEXT(ShareOfSearch_SERPS!D2927),ShareOfSearch_SERPS!D2927,\"\")","v":""},{"$f":"IF(NOT(ISBLANK(ShareOfSearch_SERPS!A2927)),ShareOfSearch_SERPS!A2927,\"\")","v":""},{"$f":"IF(NOT(ISBLANK(ShareOfSearch_SERPS!G2927)),ShareOfSearch_SERPS!G2927,\"\")","v":""},{"$f":"IF(NOT(ISBLANK(ShareOfSearch_SERPS!K2927)),ShareOfSearch_SERPS!K2927,\"\")","v":""},{"$f":"IFERROR(VLOOKUP(C2927,ShareOfSearch_CTR!$A$1:$B$100,2,FALSE)*VLOOKUP(A2927&B2927,ShareOfSearch_Volume!$C$1:$D$1000,2,FALSE),\"\")","v":""}]
[{"$f":"IF(ISTEXT(ShareOfSearch_SERPS!C2928),ShareOfSearch_SERPS!C2928,\"\")","v":""},{"$f":"IF(ISTEXT(ShareOfSearch_SERPS!D2928),ShareOfSearch_SERPS!D2928,\"\")","v":""},{"$f":"IF(NOT(ISBLANK(ShareOfSearch_SERPS!A2928)),ShareOfSearch_SERPS!A2928,\"\")","v":""},{"$f":"IF(NOT(ISBLANK(ShareOfSearch_SERPS!G2928)),ShareOfSearch_SERPS!G2928,\"\")","v":""},{"$f":"IF(NOT(ISBLANK(ShareOfSearch_SERPS!K2928)),ShareOfSearch_SERPS!K2928,\"\")","v":""},{"$f":"IFERROR(VLOOKUP(C2928,ShareOfSearch_CTR!$A$1:$B$100,2,FALSE)*VLOOKUP(A2928&B2928,ShareOfSearch_Volume!$C$1:$D$1000,2,FALSE),\"\")","v":""}]
[{"$f":"IF(ISTEXT(ShareOfSearch_SERPS!C2929),ShareOfSearch_SERPS!C2929,\"\")","v":""},{"$f":"IF(ISTEXT(ShareOfSearch_SERPS!D2929),ShareOfSearch_SERPS!D2929,\"\")","v":""},{"$f":"IF(NOT(ISBLANK(ShareOfSearch_SERPS!A2929)),ShareOfSearch_SERPS!A2929,\"\")","v":""},{"$f":"IF(NOT(ISBLANK(ShareOfSearch_SERPS!G2929)),ShareOfSearch_SERPS!G2929,\"\")","v":""},{"$f":"IF(NOT(ISBLANK(ShareOfSearch_SERPS!K2929)),ShareOfSearch_SERPS!K2929,\"\")","v":""},{"$f":"IFERROR(VLOOKUP(C2929,ShareOfSearch_CTR!$A$1:$B$100,2,FALSE)*VLOOKUP(A2929&B2929,ShareOfSearch_Volume!$C$1:$D$1000,2,FALSE),\"\")","v":""}]
[{"$f":"IF(ISTEXT(ShareOfSearch_SERPS!C2930),ShareOfSearch_SERPS!C2930,\"\")","v":""},{"$f":"IF(ISTEXT(ShareOfSearch_SERPS!D2930),ShareOfSearch_SERPS!D2930,\"\")","v":""},{"$f":"IF(NOT(ISBLANK(ShareOfSearch_SERPS!A2930)),ShareOfSearch_SERPS!A2930,\"\")","v":""},{"$f":"IF(NOT(ISBLANK(ShareOfSearch_SERPS!G2930)),ShareOfSearch_SERPS!G2930,\"\")","v":""},{"$f":"IF(NOT(ISBLANK(ShareOfSearch_SERPS!K2930)),ShareOfSearch_SERPS!K2930,\"\")","v":""},{"$f":"IFERROR(VLOOKUP(C2930,ShareOfSearch_CTR!$A$1:$B$100,2,FALSE)*VLOOKUP(A2930&B2930,ShareOfSearch_Volume!$C$1:$D$1000,2,FALSE),\"\")","v":""}]
[{"$f":"IF(ISTEXT(ShareOfSearch_SERPS!C2931),ShareOfSearch_SERPS!C2931,\"\")","v":""},{"$f":"IF(ISTEXT(ShareOfSearch_SERPS!D2931),ShareOfSearch_SERPS!D2931,\"\")","v":""},{"$f":"IF(NOT(ISBLANK(ShareOfSearch_SERPS!A2931)),ShareOfSearch_SERPS!A2931,\"\")","v":""},{"$f":"IF(NOT(ISBLANK(ShareOfSearch_SERPS!G2931)),ShareOfSearch_SERPS!G2931,\"\")","v":""},{"$f":"IF(NOT(ISBLANK(ShareOfSearch_SERPS!K2931)),ShareOfSearch_SERPS!K2931,\"\")","v":""},{"$f":"IFERROR(VLOOKUP(C2931,ShareOfSearch_CTR!$A$1:$B$100,2,FALSE)*VLOOKUP(A2931&B2931,ShareOfSearch_Volume!$C$1:$D$1000,2,FALSE),\"\")","v":""}]
[{"$f":"IF(ISTEXT(ShareOfSearch_SERPS!C2932),ShareOfSearch_SERPS!C2932,\"\")","v":""},{"$f":"IF(ISTEXT(ShareOfSearch_SERPS!D2932),ShareOfSearch_SERPS!D2932,\"\")","v":""},{"$f":"IF(NOT(ISBLANK(ShareOfSearch_SERPS!A2932)),ShareOfSearch_SERPS!A2932,\"\")","v":""},{"$f":"IF(NOT(ISBLANK(ShareOfSearch_SERPS!G2932)),ShareOfSearch_SERPS!G2932,\"\")","v":""},{"$f":"IF(NOT(ISBLANK(ShareOfSearch_SERPS!K2932)),ShareOfSearch_SERPS!K2932,\"\")","v":""},{"$f":"IFERROR(VLOOKUP(C2932,ShareOfSearch_CTR!$A$1:$B$100,2,FALSE)*VLOOKUP(A2932&B2932,ShareOfSearch_Volume!$C$1:$D$1000,2,FALSE),\"\")","v":""}]
[{"$f":"IF(ISTEXT(ShareOfSearch_SERPS!C2933),ShareOfSearch_SERPS!C2933,\"\")","v":""},{"$f":"IF(ISTEXT(ShareOfSearch_SERPS!D2933),ShareOfSearch_SERPS!D2933,\"\")","v":""},{"$f":"IF(NOT(ISBLANK(ShareOfSearch_SERPS!A2933)),ShareOfSearch_SERPS!A2933,\"\")","v":""},{"$f":"IF(NOT(ISBLANK(ShareOfSearch_SERPS!G2933)),ShareOfSearch_SERPS!G2933,\"\")","v":""},{"$f":"IF(NOT(ISBLANK(ShareOfSearch_SERPS!K2933)),ShareOfSearch_SERPS!K2933,\"\")","v":""},{"$f":"IFERROR(VLOOKUP(C2933,ShareOfSearch_CTR!$A$1:$B$100,2,FALSE)*VLOOKUP(A2933&B2933,ShareOfSearch_Volume!$C$1:$D$1000,2,FALSE),\"\")","v":""}]
[{"$f":"IF(ISTEXT(ShareOfSearch_SERPS!C2934),ShareOfSearch_SERPS!C2934,\"\")","v":""},{"$f":"IF(ISTEXT(ShareOfSearch_SERPS!D2934),ShareOfSearch_SERPS!D2934,\"\")","v":""},{"$f":"IF(NOT(ISBLANK(ShareOfSearch_SERPS!A2934)),ShareOfSearch_SERPS!A2934,\"\")","v":""},{"$f":"IF(NOT(ISBLANK(ShareOfSearch_SERPS!G2934)),ShareOfSearch_SERPS!G2934,\"\")","v":""},{"$f":"IF(NOT(ISBLANK(ShareOfSearch_SERPS!K2934)),ShareOfSearch_SERPS!K2934,\"\")","v":""},{"$f":"IFERROR(VLOOKUP(C2934,ShareOfSearch_CTR!$A$1:$B$100,2,FALSE)*VLOOKUP(A2934&B2934,ShareOfSearch_Volume!$C$1:$D$1000,2,FALSE),\"\")","v":""}]
[{"$f":"IF(ISTEXT(ShareOfSearch_SERPS!C2935),ShareOfSearch_SERPS!C2935,\"\")","v":""},{"$f":"IF(ISTEXT(ShareOfSearch_SERPS!D2935),ShareOfSearch_SERPS!D2935,\"\")","v":""},{"$f":"IF(NOT(ISBLANK(ShareOfSearch_SERPS!A2935)),ShareOfSearch_SERPS!A2935,\"\")","v":""},{"$f":"IF(NOT(ISBLANK(ShareOfSearch_SERPS!G2935)),ShareOfSearch_SERPS!G2935,\"\")","v":""},{"$f":"IF(NOT(ISBLANK(ShareOfSearch_SERPS!K2935)),ShareOfSearch_SERPS!K2935,\"\")","v":""},{"$f":"IFERROR(VLOOKUP(C2935,ShareOfSearch_CTR!$A$1:$B$100,2,FALSE)*VLOOKUP(A2935&B2935,ShareOfSearch_Volume!$C$1:$D$1000,2,FALSE),\"\")","v":""}]
[{"$f":"IF(ISTEXT(ShareOfSearch_SERPS!C2936),ShareOfSearch_SERPS!C2936,\"\")","v":""},{"$f":"IF(ISTEXT(ShareOfSearch_SERPS!D2936),ShareOfSearch_SERPS!D2936,\"\")","v":""},{"$f":"IF(NOT(ISBLANK(ShareOfSearch_SERPS!A2936)),ShareOfSearch_SERPS!A2936,\"\")","v":""},{"$f":"IF(NOT(ISBLANK(ShareOfSearch_SERPS!G2936)),ShareOfSearch_SERPS!G2936,\"\")","v":""},{"$f":"IF(NOT(ISBLANK(ShareOfSearch_SERPS!K2936)),ShareOfSearch_SERPS!K2936,\"\")","v":""},{"$f":"IFERROR(VLOOKUP(C2936,ShareOfSearch_CTR!$A$1:$B$100,2,FALSE)*VLOOKUP(A2936&B2936,ShareOfSearch_Volume!$C$1:$D$1000,2,FALSE),\"\")","v":""}]
[{"$f":"IF(ISTEXT(ShareOfSearch_SERPS!C2937),ShareOfSearch_SERPS!C2937,\"\")","v":""},{"$f":"IF(ISTEXT(ShareOfSearch_SERPS!D2937),ShareOfSearch_SERPS!D2937,\"\")","v":""},{"$f":"IF(NOT(ISBLANK(ShareOfSearch_SERPS!A2937)),ShareOfSearch_SERPS!A2937,\"\")","v":""},{"$f":"IF(NOT(ISBLANK(ShareOfSearch_SERPS!G2937)),ShareOfSearch_SERPS!G2937,\"\")","v":""},{"$f":"IF(NOT(ISBLANK(ShareOfSearch_SERPS!K2937)),ShareOfSearch_SERPS!K2937,\"\")","v":""},{"$f":"IFERROR(VLOOKUP(C2937,ShareOfSearch_CTR!$A$1:$B$100,2,FALSE)*VLOOKUP(A2937&B2937,ShareOfSearch_Volume!$C$1:$D$1000,2,FALSE),\"\")","v":""}]
[{"$f":"IF(ISTEXT(ShareOfSearch_SERPS!C2938),ShareOfSearch_SERPS!C2938,\"\")","v":""},{"$f":"IF(ISTEXT(ShareOfSearch_SERPS!D2938),ShareOfSearch_SERPS!D2938,\"\")","v":""},{"$f":"IF(NOT(ISBLANK(ShareOfSearch_SERPS!A2938)),ShareOfSearch_SERPS!A2938,\"\")","v":""},{"$f":"IF(NOT(ISBLANK(ShareOfSearch_SERPS!G2938)),ShareOfSearch_SERPS!G2938,\"\")","v":""},{"$f":"IF(NOT(ISBLANK(ShareOfSearch_SERPS!K2938)),ShareOfSearch_SERPS!K2938,\"\")","v":""},{"$f":"IFERROR(VLOOKUP(C2938,ShareOfSearch_CTR!$A$1:$B$100,2,FALSE)*VLOOKUP(A2938&B2938,ShareOfSearch_Volume!$C$1:$D$1000,2,FALSE),\"\")","v":""}]
[{"$f":"IF(ISTEXT(ShareOfSearch_SERPS!C2939),ShareOfSearch_SERPS!C2939,\"\")","v":""},{"$f":"IF(ISTEXT(ShareOfSearch_SERPS!D2939),ShareOfSearch_SERPS!D2939,\"\")","v":""},{"$f":"IF(NOT(ISBLANK(ShareOfSearch_SERPS!A2939)),ShareOfSearch_SERPS!A2939,\"\")","v":""},{"$f":"IF(NOT(ISBLANK(ShareOfSearch_SERPS!G2939)),ShareOfSearch_SERPS!G2939,\"\")","v":""},{"$f":"IF(NOT(ISBLANK(ShareOfSearch_SERPS!K2939)),ShareOfSearch_SERPS!K2939,\"\")","v":""},{"$f":"IFERROR(VLOOKUP(C2939,ShareOfSearch_CTR!$A$1:$B$100,2,FALSE)*VLOOKUP(A2939&B2939,ShareOfSearch_Volume!$C$1:$D$1000,2,FALSE),\"\")","v":""}]
[{"$f":"IF(ISTEXT(ShareOfSearch_SERPS!C2940),ShareOfSearch_SERPS!C2940,\"\")","v":""},{"$f":"IF(ISTEXT(ShareOfSearch_SERPS!D2940),ShareOfSearch_SERPS!D2940,\"\")","v":""},{"$f":"IF(NOT(ISBLANK(ShareOfSearch_SERPS!A2940)),ShareOfSearch_SERPS!A2940,\"\")","v":""},{"$f":"IF(NOT(ISBLANK(ShareOfSearch_SERPS!G2940)),ShareOfSearch_SERPS!G2940,\"\")","v":""},{"$f":"IF(NOT(ISBLANK(ShareOfSearch_SERPS!K2940)),ShareOfSearch_SERPS!K2940,\"\")","v":""},{"$f":"IFERROR(VLOOKUP(C2940,ShareOfSearch_CTR!$A$1:$B$100,2,FALSE)*VLOOKUP(A2940&B2940,ShareOfSearch_Volume!$C$1:$D$1000,2,FALSE),\"\")","v":""}]
[{"$f":"IF(ISTEXT(ShareOfSearch_SERPS!C2941),ShareOfSearch_SERPS!C2941,\"\")","v":""},{"$f":"IF(ISTEXT(ShareOfSearch_SERPS!D2941),ShareOfSearch_SERPS!D2941,\"\")","v":""},{"$f":"IF(NOT(ISBLANK(ShareOfSearch_SERPS!A2941)),ShareOfSearch_SERPS!A2941,\"\")","v":""},{"$f":"IF(NOT(ISBLANK(ShareOfSearch_SERPS!G2941)),ShareOfSearch_SERPS!G2941,\"\")","v":""},{"$f":"IF(NOT(ISBLANK(ShareOfSearch_SERPS!K2941)),ShareOfSearch_SERPS!K2941,\"\")","v":""},{"$f":"IFERROR(VLOOKUP(C2941,ShareOfSearch_CTR!$A$1:$B$100,2,FALSE)*VLOOKUP(A2941&B2941,ShareOfSearch_Volume!$C$1:$D$1000,2,FALSE),\"\")","v":""}]
[{"$f":"IF(ISTEXT(ShareOfSearch_SERPS!C2942),ShareOfSearch_SERPS!C2942,\"\")","v":""},{"$f":"IF(ISTEXT(ShareOfSearch_SERPS!D2942),ShareOfSearch_SERPS!D2942,\"\")","v":""},{"$f":"IF(NOT(ISBLANK(ShareOfSearch_SERPS!A2942)),ShareOfSearch_SERPS!A2942,\"\")","v":""},{"$f":"IF(NOT(ISBLANK(ShareOfSearch_SERPS!G2942)),ShareOfSearch_SERPS!G2942,\"\")","v":""},{"$f":"IF(NOT(ISBLANK(ShareOfSearch_SERPS!K2942)),ShareOfSearch_SERPS!K2942,\"\")","v":""},{"$f":"IFERROR(VLOOKUP(C2942,ShareOfSearch_CTR!$A$1:$B$100,2,FALSE)*VLOOKUP(A2942&B2942,ShareOfSearch_Volume!$C$1:$D$1000,2,FALSE),\"\")","v":""}]
[{"$f":"IF(ISTEXT(ShareOfSearch_SERPS!C2943),ShareOfSearch_SERPS!C2943,\"\")","v":""},{"$f":"IF(ISTEXT(ShareOfSearch_SERPS!D2943),ShareOfSearch_SERPS!D2943,\"\")","v":""},{"$f":"IF(NOT(ISBLANK(ShareOfSearch_SERPS!A2943)),ShareOfSearch_SERPS!A2943,\"\")","v":""},{"$f":"IF(NOT(ISBLANK(ShareOfSearch_SERPS!G2943)),ShareOfSearch_SERPS!G2943,\"\")","v":""},{"$f":"IF(NOT(ISBLANK(ShareOfSearch_SERPS!K2943)),ShareOfSearch_SERPS!K2943,\"\")","v":""},{"$f":"IFERROR(VLOOKUP(C2943,ShareOfSearch_CTR!$A$1:$B$100,2,FALSE)*VLOOKUP(A2943&B2943,ShareOfSearch_Volume!$C$1:$D$1000,2,FALSE),\"\")","v":""}]
[{"$f":"IF(ISTEXT(ShareOfSearch_SERPS!C2944),ShareOfSearch_SERPS!C2944,\"\")","v":""},{"$f":"IF(ISTEXT(ShareOfSearch_SERPS!D2944),ShareOfSearch_SERPS!D2944,\"\")","v":""},{"$f":"IF(NOT(ISBLANK(ShareOfSearch_SERPS!A2944)),ShareOfSearch_SERPS!A2944,\"\")","v":""},{"$f":"IF(NOT(ISBLANK(ShareOfSearch_SERPS!G2944)),ShareOfSearch_SERPS!G2944,\"\")","v":""},{"$f":"IF(NOT(ISBLANK(ShareOfSearch_SERPS!K2944)),ShareOfSearch_SERPS!K2944,\"\")","v":""},{"$f":"IFERROR(VLOOKUP(C2944,ShareOfSearch_CTR!$A$1:$B$100,2,FALSE)*VLOOKUP(A2944&B2944,ShareOfSearch_Volume!$C$1:$D$1000,2,FALSE),\"\")","v":""}]
[{"$f":"IF(ISTEXT(ShareOfSearch_SERPS!C2945),ShareOfSearch_SERPS!C2945,\"\")","v":""},{"$f":"IF(ISTEXT(ShareOfSearch_SERPS!D2945),ShareOfSearch_SERPS!D2945,\"\")","v":""},{"$f":"IF(NOT(ISBLANK(ShareOfSearch_SERPS!A2945)),ShareOfSearch_SERPS!A2945,\"\")","v":""},{"$f":"IF(NOT(ISBLANK(ShareOfSearch_SERPS!G2945)),ShareOfSearch_SERPS!G2945,\"\")","v":""},{"$f":"IF(NOT(ISBLANK(ShareOfSearch_SERPS!K2945)),ShareOfSearch_SERPS!K2945,\"\")","v":""},{"$f":"IFERROR(VLOOKUP(C2945,ShareOfSearch_CTR!$A$1:$B$100,2,FALSE)*VLOOKUP(A2945&B2945,ShareOfSearch_Volume!$C$1:$D$1000,2,FALSE),\"\")","v":""}]
[{"$f":"IF(ISTEXT(ShareOfSearch_SERPS!C2946),ShareOfSearch_SERPS!C2946,\"\")","v":""},{"$f":"IF(ISTEXT(ShareOfSearch_SERPS!D2946),ShareOfSearch_SERPS!D2946,\"\")","v":""},{"$f":"IF(NOT(ISBLANK(ShareOfSearch_SERPS!A2946)),ShareOfSearch_SERPS!A2946,\"\")","v":""},{"$f":"IF(NOT(ISBLANK(ShareOfSearch_SERPS!G2946)),ShareOfSearch_SERPS!G2946,\"\")","v":""},{"$f":"IF(NOT(ISBLANK(ShareOfSearch_SERPS!K2946)),ShareOfSearch_SERPS!K2946,\"\")","v":""},{"$f":"IFERROR(VLOOKUP(C2946,ShareOfSearch_CTR!$A$1:$B$100,2,FALSE)*VLOOKUP(A2946&B2946,ShareOfSearch_Volume!$C$1:$D$1000,2,FALSE),\"\")","v":""}]
[{"$f":"IF(ISTEXT(ShareOfSearch_SERPS!C2947),ShareOfSearch_SERPS!C2947,\"\")","v":""},{"$f":"IF(ISTEXT(ShareOfSearch_SERPS!D2947),ShareOfSearch_SERPS!D2947,\"\")","v":""},{"$f":"IF(NOT(ISBLANK(ShareOfSearch_SERPS!A2947)),ShareOfSearch_SERPS!A2947,\"\")","v":""},{"$f":"IF(NOT(ISBLANK(ShareOfSearch_SERPS!G2947)),ShareOfSearch_SERPS!G2947,\"\")","v":""},{"$f":"IF(NOT(ISBLANK(ShareOfSearch_SERPS!K2947)),ShareOfSearch_SERPS!K2947,\"\")","v":""},{"$f":"IFERROR(VLOOKUP(C2947,ShareOfSearch_CTR!$A$1:$B$100,2,FALSE)*VLOOKUP(A2947&B2947,ShareOfSearch_Volume!$C$1:$D$1000,2,FALSE),\"\")","v":""}]
[{"$f":"IF(ISTEXT(ShareOfSearch_SERPS!C2948),ShareOfSearch_SERPS!C2948,\"\")","v":""},{"$f":"IF(ISTEXT(ShareOfSearch_SERPS!D2948),ShareOfSearch_SERPS!D2948,\"\")","v":""},{"$f":"IF(NOT(ISBLANK(ShareOfSearch_SERPS!A2948)),ShareOfSearch_SERPS!A2948,\"\")","v":""},{"$f":"IF(NOT(ISBLANK(ShareOfSearch_SERPS!G2948)),ShareOfSearch_SERPS!G2948,\"\")","v":""},{"$f":"IF(NOT(ISBLANK(ShareOfSearch_SERPS!K2948)),ShareOfSearch_SERPS!K2948,\"\")","v":""},{"$f":"IFERROR(VLOOKUP(C2948,ShareOfSearch_CTR!$A$1:$B$100,2,FALSE)*VLOOKUP(A2948&B2948,ShareOfSearch_Volume!$C$1:$D$1000,2,FALSE),\"\")","v":""}]
[{"$f":"IF(ISTEXT(ShareOfSearch_SERPS!C2949),ShareOfSearch_SERPS!C2949,\"\")","v":""},{"$f":"IF(ISTEXT(ShareOfSearch_SERPS!D2949),ShareOfSearch_SERPS!D2949,\"\")","v":""},{"$f":"IF(NOT(ISBLANK(ShareOfSearch_SERPS!A2949)),ShareOfSearch_SERPS!A2949,\"\")","v":""},{"$f":"IF(NOT(ISBLANK(ShareOfSearch_SERPS!G2949)),ShareOfSearch_SERPS!G2949,\"\")","v":""},{"$f":"IF(NOT(ISBLANK(ShareOfSearch_SERPS!K2949)),ShareOfSearch_SERPS!K2949,\"\")","v":""},{"$f":"IFERROR(VLOOKUP(C2949,ShareOfSearch_CTR!$A$1:$B$100,2,FALSE)*VLOOKUP(A2949&B2949,ShareOfSearch_Volume!$C$1:$D$1000,2,FALSE),\"\")","v":""}]
[{"$f":"IF(ISTEXT(ShareOfSearch_SERPS!C2950),ShareOfSearch_SERPS!C2950,\"\")","v":""},{"$f":"IF(ISTEXT(ShareOfSearch_SERPS!D2950),ShareOfSearch_SERPS!D2950,\"\")","v":""},{"$f":"IF(NOT(ISBLANK(ShareOfSearch_SERPS!A2950)),ShareOfSearch_SERPS!A2950,\"\")","v":""},{"$f":"IF(NOT(ISBLANK(ShareOfSearch_SERPS!G2950)),ShareOfSearch_SERPS!G2950,\"\")","v":""},{"$f":"IF(NOT(ISBLANK(ShareOfSearch_SERPS!K2950)),ShareOfSearch_SERPS!K2950,\"\")","v":""},{"$f":"IFERROR(VLOOKUP(C2950,ShareOfSearch_CTR!$A$1:$B$100,2,FALSE)*VLOOKUP(A2950&B2950,ShareOfSearch_Volume!$C$1:$D$1000,2,FALSE),\"\")","v":""}]
[{"$f":"IF(ISTEXT(ShareOfSearch_SERPS!C2951),ShareOfSearch_SERPS!C2951,\"\")","v":""},{"$f":"IF(ISTEXT(ShareOfSearch_SERPS!D2951),ShareOfSearch_SERPS!D2951,\"\")","v":""},{"$f":"IF(NOT(ISBLANK(ShareOfSearch_SERPS!A2951)),ShareOfSearch_SERPS!A2951,\"\")","v":""},{"$f":"IF(NOT(ISBLANK(ShareOfSearch_SERPS!G2951)),ShareOfSearch_SERPS!G2951,\"\")","v":""},{"$f":"IF(NOT(ISBLANK(ShareOfSearch_SERPS!K2951)),ShareOfSearch_SERPS!K2951,\"\")","v":""},{"$f":"IFERROR(VLOOKUP(C2951,ShareOfSearch_CTR!$A$1:$B$100,2,FALSE)*VLOOKUP(A2951&B2951,ShareOfSearch_Volume!$C$1:$D$1000,2,FALSE),\"\")","v":""}]
[{"$f":"IF(ISTEXT(ShareOfSearch_SERPS!C2952),ShareOfSearch_SERPS!C2952,\"\")","v":""},{"$f":"IF(ISTEXT(ShareOfSearch_SERPS!D2952),ShareOfSearch_SERPS!D2952,\"\")","v":""},{"$f":"IF(NOT(ISBLANK(ShareOfSearch_SERPS!A2952)),ShareOfSearch_SERPS!A2952,\"\")","v":""},{"$f":"IF(NOT(ISBLANK(ShareOfSearch_SERPS!G2952)),ShareOfSearch_SERPS!G2952,\"\")","v":""},{"$f":"IF(NOT(ISBLANK(ShareOfSearch_SERPS!K2952)),ShareOfSearch_SERPS!K2952,\"\")","v":""},{"$f":"IFERROR(VLOOKUP(C2952,ShareOfSearch_CTR!$A$1:$B$100,2,FALSE)*VLOOKUP(A2952&B2952,ShareOfSearch_Volume!$C$1:$D$1000,2,FALSE),\"\")","v":""}]
[{"$f":"IF(ISTEXT(ShareOfSearch_SERPS!C2953),ShareOfSearch_SERPS!C2953,\"\")","v":""},{"$f":"IF(ISTEXT(ShareOfSearch_SERPS!D2953),ShareOfSearch_SERPS!D2953,\"\")","v":""},{"$f":"IF(NOT(ISBLANK(ShareOfSearch_SERPS!A2953)),ShareOfSearch_SERPS!A2953,\"\")","v":""},{"$f":"IF(NOT(ISBLANK(ShareOfSearch_SERPS!G2953)),ShareOfSearch_SERPS!G2953,\"\")","v":""},{"$f":"IF(NOT(ISBLANK(ShareOfSearch_SERPS!K2953)),ShareOfSearch_SERPS!K2953,\"\")","v":""},{"$f":"IFERROR(VLOOKUP(C2953,ShareOfSearch_CTR!$A$1:$B$100,2,FALSE)*VLOOKUP(A2953&B2953,ShareOfSearch_Volume!$C$1:$D$1000,2,FALSE),\"\")","v":""}]
[{"$f":"IF(ISTEXT(ShareOfSearch_SERPS!C2954),ShareOfSearch_SERPS!C2954,\"\")","v":""},{"$f":"IF(ISTEXT(ShareOfSearch_SERPS!D2954),ShareOfSearch_SERPS!D2954,\"\")","v":""},{"$f":"IF(NOT(ISBLANK(ShareOfSearch_SERPS!A2954)),ShareOfSearch_SERPS!A2954,\"\")","v":""},{"$f":"IF(NOT(ISBLANK(ShareOfSearch_SERPS!G2954)),ShareOfSearch_SERPS!G2954,\"\")","v":""},{"$f":"IF(NOT(ISBLANK(ShareOfSearch_SERPS!K2954)),ShareOfSearch_SERPS!K2954,\"\")","v":""},{"$f":"IFERROR(VLOOKUP(C2954,ShareOfSearch_CTR!$A$1:$B$100,2,FALSE)*VLOOKUP(A2954&B2954,ShareOfSearch_Volume!$C$1:$D$1000,2,FALSE),\"\")","v":""}]
[{"$f":"IF(ISTEXT(ShareOfSearch_SERPS!C2955),ShareOfSearch_SERPS!C2955,\"\")","v":""},{"$f":"IF(ISTEXT(ShareOfSearch_SERPS!D2955),ShareOfSearch_SERPS!D2955,\"\")","v":""},{"$f":"IF(NOT(ISBLANK(ShareOfSearch_SERPS!A2955)),ShareOfSearch_SERPS!A2955,\"\")","v":""},{"$f":"IF(NOT(ISBLANK(ShareOfSearch_SERPS!G2955)),ShareOfSearch_SERPS!G2955,\"\")","v":""},{"$f":"IF(NOT(ISBLANK(ShareOfSearch_SERPS!K2955)),ShareOfSearch_SERPS!K2955,\"\")","v":""},{"$f":"IFERROR(VLOOKUP(C2955,ShareOfSearch_CTR!$A$1:$B$100,2,FALSE)*VLOOKUP(A2955&B2955,ShareOfSearch_Volume!$C$1:$D$1000,2,FALSE),\"\")","v":""}]
[{"$f":"IF(ISTEXT(ShareOfSearch_SERPS!C2956),ShareOfSearch_SERPS!C2956,\"\")","v":""},{"$f":"IF(ISTEXT(ShareOfSearch_SERPS!D2956),ShareOfSearch_SERPS!D2956,\"\")","v":""},{"$f":"IF(NOT(ISBLANK(ShareOfSearch_SERPS!A2956)),ShareOfSearch_SERPS!A2956,\"\")","v":""},{"$f":"IF(NOT(ISBLANK(ShareOfSearch_SERPS!G2956)),ShareOfSearch_SERPS!G2956,\"\")","v":""},{"$f":"IF(NOT(ISBLANK(ShareOfSearch_SERPS!K2956)),ShareOfSearch_SERPS!K2956,\"\")","v":""},{"$f":"IFERROR(VLOOKUP(C2956,ShareOfSearch_CTR!$A$1:$B$100,2,FALSE)*VLOOKUP(A2956&B2956,ShareOfSearch_Volume!$C$1:$D$1000,2,FALSE),\"\")","v":""}]
[{"$f":"IF(ISTEXT(ShareOfSearch_SERPS!C2957),ShareOfSearch_SERPS!C2957,\"\")","v":""},{"$f":"IF(ISTEXT(ShareOfSearch_SERPS!D2957),ShareOfSearch_SERPS!D2957,\"\")","v":""},{"$f":"IF(NOT(ISBLANK(ShareOfSearch_SERPS!A2957)),ShareOfSearch_SERPS!A2957,\"\")","v":""},{"$f":"IF(NOT(ISBLANK(ShareOfSearch_SERPS!G2957)),ShareOfSearch_SERPS!G2957,\"\")","v":""},{"$f":"IF(NOT(ISBLANK(ShareOfSearch_SERPS!K2957)),ShareOfSearch_SERPS!K2957,\"\")","v":""},{"$f":"IFERROR(VLOOKUP(C2957,ShareOfSearch_CTR!$A$1:$B$100,2,FALSE)*VLOOKUP(A2957&B2957,ShareOfSearch_Volume!$C$1:$D$1000,2,FALSE),\"\")","v":""}]
[{"$f":"IF(ISTEXT(ShareOfSearch_SERPS!C2958),ShareOfSearch_SERPS!C2958,\"\")","v":""},{"$f":"IF(ISTEXT(ShareOfSearch_SERPS!D2958),ShareOfSearch_SERPS!D2958,\"\")","v":""},{"$f":"IF(NOT(ISBLANK(ShareOfSearch_SERPS!A2958)),ShareOfSearch_SERPS!A2958,\"\")","v":""},{"$f":"IF(NOT(ISBLANK(ShareOfSearch_SERPS!G2958)),ShareOfSearch_SERPS!G2958,\"\")","v":""},{"$f":"IF(NOT(ISBLANK(ShareOfSearch_SERPS!K2958)),ShareOfSearch_SERPS!K2958,\"\")","v":""},{"$f":"IFERROR(VLOOKUP(C2958,ShareOfSearch_CTR!$A$1:$B$100,2,FALSE)*VLOOKUP(A2958&B2958,ShareOfSearch_Volume!$C$1:$D$1000,2,FALSE),\"\")","v":""}]
[{"$f":"IF(ISTEXT(ShareOfSearch_SERPS!C2959),ShareOfSearch_SERPS!C2959,\"\")","v":""},{"$f":"IF(ISTEXT(ShareOfSearch_SERPS!D2959),ShareOfSearch_SERPS!D2959,\"\")","v":""},{"$f":"IF(NOT(ISBLANK(ShareOfSearch_SERPS!A2959)),ShareOfSearch_SERPS!A2959,\"\")","v":""},{"$f":"IF(NOT(ISBLANK(ShareOfSearch_SERPS!G2959)),ShareOfSearch_SERPS!G2959,\"\")","v":""},{"$f":"IF(NOT(ISBLANK(ShareOfSearch_SERPS!K2959)),ShareOfSearch_SERPS!K2959,\"\")","v":""},{"$f":"IFERROR(VLOOKUP(C2959,ShareOfSearch_CTR!$A$1:$B$100,2,FALSE)*VLOOKUP(A2959&B2959,ShareOfSearch_Volume!$C$1:$D$1000,2,FALSE),\"\")","v":""}]
[{"$f":"IF(ISTEXT(ShareOfSearch_SERPS!C2960),ShareOfSearch_SERPS!C2960,\"\")","v":""},{"$f":"IF(ISTEXT(ShareOfSearch_SERPS!D2960),ShareOfSearch_SERPS!D2960,\"\")","v":""},{"$f":"IF(NOT(ISBLANK(ShareOfSearch_SERPS!A2960)),ShareOfSearch_SERPS!A2960,\"\")","v":""},{"$f":"IF(NOT(ISBLANK(ShareOfSearch_SERPS!G2960)),ShareOfSearch_SERPS!G2960,\"\")","v":""},{"$f":"IF(NOT(ISBLANK(ShareOfSearch_SERPS!K2960)),ShareOfSearch_SERPS!K2960,\"\")","v":""},{"$f":"IFERROR(VLOOKUP(C2960,ShareOfSearch_CTR!$A$1:$B$100,2,FALSE)*VLOOKUP(A2960&B2960,ShareOfSearch_Volume!$C$1:$D$1000,2,FALSE),\"\")","v":""}]
[{"$f":"IF(ISTEXT(ShareOfSearch_SERPS!C2961),ShareOfSearch_SERPS!C2961,\"\")","v":""},{"$f":"IF(ISTEXT(ShareOfSearch_SERPS!D2961),ShareOfSearch_SERPS!D2961,\"\")","v":""},{"$f":"IF(NOT(ISBLANK(ShareOfSearch_SERPS!A2961)),ShareOfSearch_SERPS!A2961,\"\")","v":""},{"$f":"IF(NOT(ISBLANK(ShareOfSearch_SERPS!G2961)),ShareOfSearch_SERPS!G2961,\"\")","v":""},{"$f":"IF(NOT(ISBLANK(ShareOfSearch_SERPS!K2961)),ShareOfSearch_SERPS!K2961,\"\")","v":""},{"$f":"IFERROR(VLOOKUP(C2961,ShareOfSearch_CTR!$A$1:$B$100,2,FALSE)*VLOOKUP(A2961&B2961,ShareOfSearch_Volume!$C$1:$D$1000,2,FALSE),\"\")","v":""}]
[{"$f":"IF(ISTEXT(ShareOfSearch_SERPS!C2962),ShareOfSearch_SERPS!C2962,\"\")","v":""},{"$f":"IF(ISTEXT(ShareOfSearch_SERPS!D2962),ShareOfSearch_SERPS!D2962,\"\")","v":""},{"$f":"IF(NOT(ISBLANK(ShareOfSearch_SERPS!A2962)),ShareOfSearch_SERPS!A2962,\"\")","v":""},{"$f":"IF(NOT(ISBLANK(ShareOfSearch_SERPS!G2962)),ShareOfSearch_SERPS!G2962,\"\")","v":""},{"$f":"IF(NOT(ISBLANK(ShareOfSearch_SERPS!K2962)),ShareOfSearch_SERPS!K2962,\"\")","v":""},{"$f":"IFERROR(VLOOKUP(C2962,ShareOfSearch_CTR!$A$1:$B$100,2,FALSE)*VLOOKUP(A2962&B2962,ShareOfSearch_Volume!$C$1:$D$1000,2,FALSE),\"\")","v":""}]
[{"$f":"IF(ISTEXT(ShareOfSearch_SERPS!C2963),ShareOfSearch_SERPS!C2963,\"\")","v":""},{"$f":"IF(ISTEXT(ShareOfSearch_SERPS!D2963),ShareOfSearch_SERPS!D2963,\"\")","v":""},{"$f":"IF(NOT(ISBLANK(ShareOfSearch_SERPS!A2963)),ShareOfSearch_SERPS!A2963,\"\")","v":""},{"$f":"IF(NOT(ISBLANK(ShareOfSearch_SERPS!G2963)),ShareOfSearch_SERPS!G2963,\"\")","v":""},{"$f":"IF(NOT(ISBLANK(ShareOfSearch_SERPS!K2963)),ShareOfSearch_SERPS!K2963,\"\")","v":""},{"$f":"IFERROR(VLOOKUP(C2963,ShareOfSearch_CTR!$A$1:$B$100,2,FALSE)*VLOOKUP(A2963&B2963,ShareOfSearch_Volume!$C$1:$D$1000,2,FALSE),\"\")","v":""}]
[{"$f":"IF(ISTEXT(ShareOfSearch_SERPS!C2964),ShareOfSearch_SERPS!C2964,\"\")","v":""},{"$f":"IF(ISTEXT(ShareOfSearch_SERPS!D2964),ShareOfSearch_SERPS!D2964,\"\")","v":""},{"$f":"IF(NOT(ISBLANK(ShareOfSearch_SERPS!A2964)),ShareOfSearch_SERPS!A2964,\"\")","v":""},{"$f":"IF(NOT(ISBLANK(ShareOfSearch_SERPS!G2964)),ShareOfSearch_SERPS!G2964,\"\")","v":""},{"$f":"IF(NOT(ISBLANK(ShareOfSearch_SERPS!K2964)),ShareOfSearch_SERPS!K2964,\"\")","v":""},{"$f":"IFERROR(VLOOKUP(C2964,ShareOfSearch_CTR!$A$1:$B$100,2,FALSE)*VLOOKUP(A2964&B2964,ShareOfSearch_Volume!$C$1:$D$1000,2,FALSE),\"\")","v":""}]
[{"$f":"IF(ISTEXT(ShareOfSearch_SERPS!C2965),ShareOfSearch_SERPS!C2965,\"\")","v":""},{"$f":"IF(ISTEXT(ShareOfSearch_SERPS!D2965),ShareOfSearch_SERPS!D2965,\"\")","v":""},{"$f":"IF(NOT(ISBLANK(ShareOfSearch_SERPS!A2965)),ShareOfSearch_SERPS!A2965,\"\")","v":""},{"$f":"IF(NOT(ISBLANK(ShareOfSearch_SERPS!G2965)),ShareOfSearch_SERPS!G2965,\"\")","v":""},{"$f":"IF(NOT(ISBLANK(ShareOfSearch_SERPS!K2965)),ShareOfSearch_SERPS!K2965,\"\")","v":""},{"$f":"IFERROR(VLOOKUP(C2965,ShareOfSearch_CTR!$A$1:$B$100,2,FALSE)*VLOOKUP(A2965&B2965,ShareOfSearch_Volume!$C$1:$D$1000,2,FALSE),\"\")","v":""}]
[{"$f":"IF(ISTEXT(ShareOfSearch_SERPS!C2966),ShareOfSearch_SERPS!C2966,\"\")","v":""},{"$f":"IF(ISTEXT(ShareOfSearch_SERPS!D2966),ShareOfSearch_SERPS!D2966,\"\")","v":""},{"$f":"IF(NOT(ISBLANK(ShareOfSearch_SERPS!A2966)),ShareOfSearch_SERPS!A2966,\"\")","v":""},{"$f":"IF(NOT(ISBLANK(ShareOfSearch_SERPS!G2966)),ShareOfSearch_SERPS!G2966,\"\")","v":""},{"$f":"IF(NOT(ISBLANK(ShareOfSearch_SERPS!K2966)),ShareOfSearch_SERPS!K2966,\"\")","v":""},{"$f":"IFERROR(VLOOKUP(C2966,ShareOfSearch_CTR!$A$1:$B$100,2,FALSE)*VLOOKUP(A2966&B2966,ShareOfSearch_Volume!$C$1:$D$1000,2,FALSE),\"\")","v":""}]
[{"$f":"IF(ISTEXT(ShareOfSearch_SERPS!C2967),ShareOfSearch_SERPS!C2967,\"\")","v":""},{"$f":"IF(ISTEXT(ShareOfSearch_SERPS!D2967),ShareOfSearch_SERPS!D2967,\"\")","v":""},{"$f":"IF(NOT(ISBLANK(ShareOfSearch_SERPS!A2967)),ShareOfSearch_SERPS!A2967,\"\")","v":""},{"$f":"IF(NOT(ISBLANK(ShareOfSearch_SERPS!G2967)),ShareOfSearch_SERPS!G2967,\"\")","v":""},{"$f":"IF(NOT(ISBLANK(ShareOfSearch_SERPS!K2967)),ShareOfSearch_SERPS!K2967,\"\")","v":""},{"$f":"IFERROR(VLOOKUP(C2967,ShareOfSearch_CTR!$A$1:$B$100,2,FALSE)*VLOOKUP(A2967&B2967,ShareOfSearch_Volume!$C$1:$D$1000,2,FALSE),\"\")","v":""}]
[{"$f":"IF(ISTEXT(ShareOfSearch_SERPS!C2968),ShareOfSearch_SERPS!C2968,\"\")","v":""},{"$f":"IF(ISTEXT(ShareOfSearch_SERPS!D2968),ShareOfSearch_SERPS!D2968,\"\")","v":""},{"$f":"IF(NOT(ISBLANK(ShareOfSearch_SERPS!A2968)),ShareOfSearch_SERPS!A2968,\"\")","v":""},{"$f":"IF(NOT(ISBLANK(ShareOfSearch_SERPS!G2968)),ShareOfSearch_SERPS!G2968,\"\")","v":""},{"$f":"IF(NOT(ISBLANK(ShareOfSearch_SERPS!K2968)),ShareOfSearch_SERPS!K2968,\"\")","v":""},{"$f":"IFERROR(VLOOKUP(C2968,ShareOfSearch_CTR!$A$1:$B$100,2,FALSE)*VLOOKUP(A2968&B2968,ShareOfSearch_Volume!$C$1:$D$1000,2,FALSE),\"\")","v":""}]
[{"$f":"IF(ISTEXT(ShareOfSearch_SERPS!C2969),ShareOfSearch_SERPS!C2969,\"\")","v":""},{"$f":"IF(ISTEXT(ShareOfSearch_SERPS!D2969),ShareOfSearch_SERPS!D2969,\"\")","v":""},{"$f":"IF(NOT(ISBLANK(ShareOfSearch_SERPS!A2969)),ShareOfSearch_SERPS!A2969,\"\")","v":""},{"$f":"IF(NOT(ISBLANK(ShareOfSearch_SERPS!G2969)),ShareOfSearch_SERPS!G2969,\"\")","v":""},{"$f":"IF(NOT(ISBLANK(ShareOfSearch_SERPS!K2969)),ShareOfSearch_SERPS!K2969,\"\")","v":""},{"$f":"IFERROR(VLOOKUP(C2969,ShareOfSearch_CTR!$A$1:$B$100,2,FALSE)*VLOOKUP(A2969&B2969,ShareOfSearch_Volume!$C$1:$D$1000,2,FALSE),\"\")","v":""}]
[{"$f":"IF(ISTEXT(ShareOfSearch_SERPS!C2970),ShareOfSearch_SERPS!C2970,\"\")","v":""},{"$f":"IF(ISTEXT(ShareOfSearch_SERPS!D2970),ShareOfSearch_SERPS!D2970,\"\")","v":""},{"$f":"IF(NOT(ISBLANK(ShareOfSearch_SERPS!A2970)),ShareOfSearch_SERPS!A2970,\"\")","v":""},{"$f":"IF(NOT(ISBLANK(ShareOfSearch_SERPS!G2970)),ShareOfSearch_SERPS!G2970,\"\")","v":""},{"$f":"IF(NOT(ISBLANK(ShareOfSearch_SERPS!K2970)),ShareOfSearch_SERPS!K2970,\"\")","v":""},{"$f":"IFERROR(VLOOKUP(C2970,ShareOfSearch_CTR!$A$1:$B$100,2,FALSE)*VLOOKUP(A2970&B2970,ShareOfSearch_Volume!$C$1:$D$1000,2,FALSE),\"\")","v":""}]
[{"$f":"IF(ISTEXT(ShareOfSearch_SERPS!C2971),ShareOfSearch_SERPS!C2971,\"\")","v":""},{"$f":"IF(ISTEXT(ShareOfSearch_SERPS!D2971),ShareOfSearch_SERPS!D2971,\"\")","v":""},{"$f":"IF(NOT(ISBLANK(ShareOfSearch_SERPS!A2971)),ShareOfSearch_SERPS!A2971,\"\")","v":""},{"$f":"IF(NOT(ISBLANK(ShareOfSearch_SERPS!G2971)),ShareOfSearch_SERPS!G2971,\"\")","v":""},{"$f":"IF(NOT(ISBLANK(ShareOfSearch_SERPS!K2971)),ShareOfSearch_SERPS!K2971,\"\")","v":""},{"$f":"IFERROR(VLOOKUP(C2971,ShareOfSearch_CTR!$A$1:$B$100,2,FALSE)*VLOOKUP(A2971&B2971,ShareOfSearch_Volume!$C$1:$D$1000,2,FALSE),\"\")","v":""}]
[{"$f":"IF(ISTEXT(ShareOfSearch_SERPS!C2972),ShareOfSearch_SERPS!C2972,\"\")","v":""},{"$f":"IF(ISTEXT(ShareOfSearch_SERPS!D2972),ShareOfSearch_SERPS!D2972,\"\")","v":""},{"$f":"IF(NOT(ISBLANK(ShareOfSearch_SERPS!A2972)),ShareOfSearch_SERPS!A2972,\"\")","v":""},{"$f":"IF(NOT(ISBLANK(ShareOfSearch_SERPS!G2972)),ShareOfSearch_SERPS!G2972,\"\")","v":""},{"$f":"IF(NOT(ISBLANK(ShareOfSearch_SERPS!K2972)),ShareOfSearch_SERPS!K2972,\"\")","v":""},{"$f":"IFERROR(VLOOKUP(C2972,ShareOfSearch_CTR!$A$1:$B$100,2,FALSE)*VLOOKUP(A2972&B2972,ShareOfSearch_Volume!$C$1:$D$1000,2,FALSE),\"\")","v":""}]
[{"$f":"IF(ISTEXT(ShareOfSearch_SERPS!C2973),ShareOfSearch_SERPS!C2973,\"\")","v":""},{"$f":"IF(ISTEXT(ShareOfSearch_SERPS!D2973),ShareOfSearch_SERPS!D2973,\"\")","v":""},{"$f":"IF(NOT(ISBLANK(ShareOfSearch_SERPS!A2973)),ShareOfSearch_SERPS!A2973,\"\")","v":""},{"$f":"IF(NOT(ISBLANK(ShareOfSearch_SERPS!G2973)),ShareOfSearch_SERPS!G2973,\"\")","v":""},{"$f":"IF(NOT(ISBLANK(ShareOfSearch_SERPS!K2973)),ShareOfSearch_SERPS!K2973,\"\")","v":""},{"$f":"IFERROR(VLOOKUP(C2973,ShareOfSearch_CTR!$A$1:$B$100,2,FALSE)*VLOOKUP(A2973&B2973,ShareOfSearch_Volume!$C$1:$D$1000,2,FALSE),\"\")","v":""}]
[{"$f":"IF(ISTEXT(ShareOfSearch_SERPS!C2974),ShareOfSearch_SERPS!C2974,\"\")","v":""},{"$f":"IF(ISTEXT(ShareOfSearch_SERPS!D2974),ShareOfSearch_SERPS!D2974,\"\")","v":""},{"$f":"IF(NOT(ISBLANK(ShareOfSearch_SERPS!A2974)),ShareOfSearch_SERPS!A2974,\"\")","v":""},{"$f":"IF(NOT(ISBLANK(ShareOfSearch_SERPS!G2974)),ShareOfSearch_SERPS!G2974,\"\")","v":""},{"$f":"IF(NOT(ISBLANK(ShareOfSearch_SERPS!K2974)),ShareOfSearch_SERPS!K2974,\"\")","v":""},{"$f":"IFERROR(VLOOKUP(C2974,ShareOfSearch_CTR!$A$1:$B$100,2,FALSE)*VLOOKUP(A2974&B2974,ShareOfSearch_Volume!$C$1:$D$1000,2,FALSE),\"\")","v":""}]
[{"$f":"IF(ISTEXT(ShareOfSearch_SERPS!C2975),ShareOfSearch_SERPS!C2975,\"\")","v":""},{"$f":"IF(ISTEXT(ShareOfSearch_SERPS!D2975),ShareOfSearch_SERPS!D2975,\"\")","v":""},{"$f":"IF(NOT(ISBLANK(ShareOfSearch_SERPS!A2975)),ShareOfSearch_SERPS!A2975,\"\")","v":""},{"$f":"IF(NOT(ISBLANK(ShareOfSearch_SERPS!G2975)),ShareOfSearch_SERPS!G2975,\"\")","v":""},{"$f":"IF(NOT(ISBLANK(ShareOfSearch_SERPS!K2975)),ShareOfSearch_SERPS!K2975,\"\")","v":""},{"$f":"IFERROR(VLOOKUP(C2975,ShareOfSearch_CTR!$A$1:$B$100,2,FALSE)*VLOOKUP(A2975&B2975,ShareOfSearch_Volume!$C$1:$D$1000,2,FALSE),\"\")","v":""}]
[{"$f":"IF(ISTEXT(ShareOfSearch_SERPS!C2976),ShareOfSearch_SERPS!C2976,\"\")","v":""},{"$f":"IF(ISTEXT(ShareOfSearch_SERPS!D2976),ShareOfSearch_SERPS!D2976,\"\")","v":""},{"$f":"IF(NOT(ISBLANK(ShareOfSearch_SERPS!A2976)),ShareOfSearch_SERPS!A2976,\"\")","v":""},{"$f":"IF(NOT(ISBLANK(ShareOfSearch_SERPS!G2976)),ShareOfSearch_SERPS!G2976,\"\")","v":""},{"$f":"IF(NOT(ISBLANK(ShareOfSearch_SERPS!K2976)),ShareOfSearch_SERPS!K2976,\"\")","v":""},{"$f":"IFERROR(VLOOKUP(C2976,ShareOfSearch_CTR!$A$1:$B$100,2,FALSE)*VLOOKUP(A2976&B2976,ShareOfSearch_Volume!$C$1:$D$1000,2,FALSE),\"\")","v":""}]
[{"$f":"IF(ISTEXT(ShareOfSearch_SERPS!C2977),ShareOfSearch_SERPS!C2977,\"\")","v":""},{"$f":"IF(ISTEXT(ShareOfSearch_SERPS!D2977),ShareOfSearch_SERPS!D2977,\"\")","v":""},{"$f":"IF(NOT(ISBLANK(ShareOfSearch_SERPS!A2977)),ShareOfSearch_SERPS!A2977,\"\")","v":""},{"$f":"IF(NOT(ISBLANK(ShareOfSearch_SERPS!G2977)),ShareOfSearch_SERPS!G2977,\"\")","v":""},{"$f":"IF(NOT(ISBLANK(ShareOfSearch_SERPS!K2977)),ShareOfSearch_SERPS!K2977,\"\")","v":""},{"$f":"IFERROR(VLOOKUP(C2977,ShareOfSearch_CTR!$A$1:$B$100,2,FALSE)*VLOOKUP(A2977&B2977,ShareOfSearch_Volume!$C$1:$D$1000,2,FALSE),\"\")","v":""}]
[{"$f":"IF(ISTEXT(ShareOfSearch_SERPS!C2978),ShareOfSearch_SERPS!C2978,\"\")","v":""},{"$f":"IF(ISTEXT(ShareOfSearch_SERPS!D2978),ShareOfSearch_SERPS!D2978,\"\")","v":""},{"$f":"IF(NOT(ISBLANK(ShareOfSearch_SERPS!A2978)),ShareOfSearch_SERPS!A2978,\"\")","v":""},{"$f":"IF(NOT(ISBLANK(ShareOfSearch_SERPS!G2978)),ShareOfSearch_SERPS!G2978,\"\")","v":""},{"$f":"IF(NOT(ISBLANK(ShareOfSearch_SERPS!K2978)),ShareOfSearch_SERPS!K2978,\"\")","v":""},{"$f":"IFERROR(VLOOKUP(C2978,ShareOfSearch_CTR!$A$1:$B$100,2,FALSE)*VLOOKUP(A2978&B2978,ShareOfSearch_Volume!$C$1:$D$1000,2,FALSE),\"\")","v":""}]
[{"$f":"IF(ISTEXT(ShareOfSearch_SERPS!C2979),ShareOfSearch_SERPS!C2979,\"\")","v":""},{"$f":"IF(ISTEXT(ShareOfSearch_SERPS!D2979),ShareOfSearch_SERPS!D2979,\"\")","v":""},{"$f":"IF(NOT(ISBLANK(ShareOfSearch_SERPS!A2979)),ShareOfSearch_SERPS!A2979,\"\")","v":""},{"$f":"IF(NOT(ISBLANK(ShareOfSearch_SERPS!G2979)),ShareOfSearch_SERPS!G2979,\"\")","v":""},{"$f":"IF(NOT(ISBLANK(ShareOfSearch_SERPS!K2979)),ShareOfSearch_SERPS!K2979,\"\")","v":""},{"$f":"IFERROR(VLOOKUP(C2979,ShareOfSearch_CTR!$A$1:$B$100,2,FALSE)*VLOOKUP(A2979&B2979,ShareOfSearch_Volume!$C$1:$D$1000,2,FALSE),\"\")","v":""}]
[{"$f":"IF(ISTEXT(ShareOfSearch_SERPS!C2980),ShareOfSearch_SERPS!C2980,\"\")","v":""},{"$f":"IF(ISTEXT(ShareOfSearch_SERPS!D2980),ShareOfSearch_SERPS!D2980,\"\")","v":""},{"$f":"IF(NOT(ISBLANK(ShareOfSearch_SERPS!A2980)),ShareOfSearch_SERPS!A2980,\"\")","v":""},{"$f":"IF(NOT(ISBLANK(ShareOfSearch_SERPS!G2980)),ShareOfSearch_SERPS!G2980,\"\")","v":""},{"$f":"IF(NOT(ISBLANK(ShareOfSearch_SERPS!K2980)),ShareOfSearch_SERPS!K2980,\"\")","v":""},{"$f":"IFERROR(VLOOKUP(C2980,ShareOfSearch_CTR!$A$1:$B$100,2,FALSE)*VLOOKUP(A2980&B2980,ShareOfSearch_Volume!$C$1:$D$1000,2,FALSE),\"\")","v":""}]
[{"$f":"IF(ISTEXT(ShareOfSearch_SERPS!C2981),ShareOfSearch_SERPS!C2981,\"\")","v":""},{"$f":"IF(ISTEXT(ShareOfSearch_SERPS!D2981),ShareOfSearch_SERPS!D2981,\"\")","v":""},{"$f":"IF(NOT(ISBLANK(ShareOfSearch_SERPS!A2981)),ShareOfSearch_SERPS!A2981,\"\")","v":""},{"$f":"IF(NOT(ISBLANK(ShareOfSearch_SERPS!G2981)),ShareOfSearch_SERPS!G2981,\"\")","v":""},{"$f":"IF(NOT(ISBLANK(ShareOfSearch_SERPS!K2981)),ShareOfSearch_SERPS!K2981,\"\")","v":""},{"$f":"IFERROR(VLOOKUP(C2981,ShareOfSearch_CTR!$A$1:$B$100,2,FALSE)*VLOOKUP(A2981&B2981,ShareOfSearch_Volume!$C$1:$D$1000,2,FALSE),\"\")","v":""}]
[{"$f":"IF(ISTEXT(ShareOfSearch_SERPS!C2982),ShareOfSearch_SERPS!C2982,\"\")","v":""},{"$f":"IF(ISTEXT(ShareOfSearch_SERPS!D2982),ShareOfSearch_SERPS!D2982,\"\")","v":""},{"$f":"IF(NOT(ISBLANK(ShareOfSearch_SERPS!A2982)),ShareOfSearch_SERPS!A2982,\"\")","v":""},{"$f":"IF(NOT(ISBLANK(ShareOfSearch_SERPS!G2982)),ShareOfSearch_SERPS!G2982,\"\")","v":""},{"$f":"IF(NOT(ISBLANK(ShareOfSearch_SERPS!K2982)),ShareOfSearch_SERPS!K2982,\"\")","v":""},{"$f":"IFERROR(VLOOKUP(C2982,ShareOfSearch_CTR!$A$1:$B$100,2,FALSE)*VLOOKUP(A2982&B2982,ShareOfSearch_Volume!$C$1:$D$1000,2,FALSE),\"\")","v":""}]
[{"$f":"IF(ISTEXT(ShareOfSearch_SERPS!C2983),ShareOfSearch_SERPS!C2983,\"\")","v":""},{"$f":"IF(ISTEXT(ShareOfSearch_SERPS!D2983),ShareOfSearch_SERPS!D2983,\"\")","v":""},{"$f":"IF(NOT(ISBLANK(ShareOfSearch_SERPS!A2983)),ShareOfSearch_SERPS!A2983,\"\")","v":""},{"$f":"IF(NOT(ISBLANK(ShareOfSearch_SERPS!G2983)),ShareOfSearch_SERPS!G2983,\"\")","v":""},{"$f":"IF(NOT(ISBLANK(ShareOfSearch_SERPS!K2983)),ShareOfSearch_SERPS!K2983,\"\")","v":""},{"$f":"IFERROR(VLOOKUP(C2983,ShareOfSearch_CTR!$A$1:$B$100,2,FALSE)*VLOOKUP(A2983&B2983,ShareOfSearch_Volume!$C$1:$D$1000,2,FALSE),\"\")","v":""}]
[{"$f":"IF(ISTEXT(ShareOfSearch_SERPS!C2984),ShareOfSearch_SERPS!C2984,\"\")","v":""},{"$f":"IF(ISTEXT(ShareOfSearch_SERPS!D2984),ShareOfSearch_SERPS!D2984,\"\")","v":""},{"$f":"IF(NOT(ISBLANK(ShareOfSearch_SERPS!A2984)),ShareOfSearch_SERPS!A2984,\"\")","v":""},{"$f":"IF(NOT(ISBLANK(ShareOfSearch_SERPS!G2984)),ShareOfSearch_SERPS!G2984,\"\")","v":""},{"$f":"IF(NOT(ISBLANK(ShareOfSearch_SERPS!K2984)),ShareOfSearch_SERPS!K2984,\"\")","v":""},{"$f":"IFERROR(VLOOKUP(C2984,ShareOfSearch_CTR!$A$1:$B$100,2,FALSE)*VLOOKUP(A2984&B2984,ShareOfSearch_Volume!$C$1:$D$1000,2,FALSE),\"\")","v":""}]
[{"$f":"IF(ISTEXT(ShareOfSearch_SERPS!C2985),ShareOfSearch_SERPS!C2985,\"\")","v":""},{"$f":"IF(ISTEXT(ShareOfSearch_SERPS!D2985),ShareOfSearch_SERPS!D2985,\"\")","v":""},{"$f":"IF(NOT(ISBLANK(ShareOfSearch_SERPS!A2985)),ShareOfSearch_SERPS!A2985,\"\")","v":""},{"$f":"IF(NOT(ISBLANK(ShareOfSearch_SERPS!G2985)),ShareOfSearch_SERPS!G2985,\"\")","v":""},{"$f":"IF(NOT(ISBLANK(ShareOfSearch_SERPS!K2985)),ShareOfSearch_SERPS!K2985,\"\")","v":""},{"$f":"IFERROR(VLOOKUP(C2985,ShareOfSearch_CTR!$A$1:$B$100,2,FALSE)*VLOOKUP(A2985&B2985,ShareOfSearch_Volume!$C$1:$D$1000,2,FALSE),\"\")","v":""}]
[{"$f":"IF(ISTEXT(ShareOfSearch_SERPS!C2986),ShareOfSearch_SERPS!C2986,\"\")","v":""},{"$f":"IF(ISTEXT(ShareOfSearch_SERPS!D2986),ShareOfSearch_SERPS!D2986,\"\")","v":""},{"$f":"IF(NOT(ISBLANK(ShareOfSearch_SERPS!A2986)),ShareOfSearch_SERPS!A2986,\"\")","v":""},{"$f":"IF(NOT(ISBLANK(ShareOfSearch_SERPS!G2986)),ShareOfSearch_SERPS!G2986,\"\")","v":""},{"$f":"IF(NOT(ISBLANK(ShareOfSearch_SERPS!K2986)),ShareOfSearch_SERPS!K2986,\"\")","v":""},{"$f":"IFERROR(VLOOKUP(C2986,ShareOfSearch_CTR!$A$1:$B$100,2,FALSE)*VLOOKUP(A2986&B2986,ShareOfSearch_Volume!$C$1:$D$1000,2,FALSE),\"\")","v":""}]
[{"$f":"IF(ISTEXT(ShareOfSearch_SERPS!C2987),ShareOfSearch_SERPS!C2987,\"\")","v":""},{"$f":"IF(ISTEXT(ShareOfSearch_SERPS!D2987),ShareOfSearch_SERPS!D2987,\"\")","v":""},{"$f":"IF(NOT(ISBLANK(ShareOfSearch_SERPS!A2987)),ShareOfSearch_SERPS!A2987,\"\")","v":""},{"$f":"IF(NOT(ISBLANK(ShareOfSearch_SERPS!G2987)),ShareOfSearch_SERPS!G2987,\"\")","v":""},{"$f":"IF(NOT(ISBLANK(ShareOfSearch_SERPS!K2987)),ShareOfSearch_SERPS!K2987,\"\")","v":""},{"$f":"IFERROR(VLOOKUP(C2987,ShareOfSearch_CTR!$A$1:$B$100,2,FALSE)*VLOOKUP(A2987&B2987,ShareOfSearch_Volume!$C$1:$D$1000,2,FALSE),\"\")","v":""}]
[{"$f":"IF(ISTEXT(ShareOfSearch_SERPS!C2988),ShareOfSearch_SERPS!C2988,\"\")","v":""},{"$f":"IF(ISTEXT(ShareOfSearch_SERPS!D2988),ShareOfSearch_SERPS!D2988,\"\")","v":""},{"$f":"IF(NOT(ISBLANK(ShareOfSearch_SERPS!A2988)),ShareOfSearch_SERPS!A2988,\"\")","v":""},{"$f":"IF(NOT(ISBLANK(ShareOfSearch_SERPS!G2988)),ShareOfSearch_SERPS!G2988,\"\")","v":""},{"$f":"IF(NOT(ISBLANK(ShareOfSearch_SERPS!K2988)),ShareOfSearch_SERPS!K2988,\"\")","v":""},{"$f":"IFERROR(VLOOKUP(C2988,ShareOfSearch_CTR!$A$1:$B$100,2,FALSE)*VLOOKUP(A2988&B2988,ShareOfSearch_Volume!$C$1:$D$1000,2,FALSE),\"\")","v":""}]
[{"$f":"IF(ISTEXT(ShareOfSearch_SERPS!C2989),ShareOfSearch_SERPS!C2989,\"\")","v":""},{"$f":"IF(ISTEXT(ShareOfSearch_SERPS!D2989),ShareOfSearch_SERPS!D2989,\"\")","v":""},{"$f":"IF(NOT(ISBLANK(ShareOfSearch_SERPS!A2989)),ShareOfSearch_SERPS!A2989,\"\")","v":""},{"$f":"IF(NOT(ISBLANK(ShareOfSearch_SERPS!G2989)),ShareOfSearch_SERPS!G2989,\"\")","v":""},{"$f":"IF(NOT(ISBLANK(ShareOfSearch_SERPS!K2989)),ShareOfSearch_SERPS!K2989,\"\")","v":""},{"$f":"IFERROR(VLOOKUP(C2989,ShareOfSearch_CTR!$A$1:$B$100,2,FALSE)*VLOOKUP(A2989&B2989,ShareOfSearch_Volume!$C$1:$D$1000,2,FALSE),\"\")","v":""}]
[{"$f":"IF(ISTEXT(ShareOfSearch_SERPS!C2990),ShareOfSearch_SERPS!C2990,\"\")","v":""},{"$f":"IF(ISTEXT(ShareOfSearch_SERPS!D2990),ShareOfSearch_SERPS!D2990,\"\")","v":""},{"$f":"IF(NOT(ISBLANK(ShareOfSearch_SERPS!A2990)),ShareOfSearch_SERPS!A2990,\"\")","v":""},{"$f":"IF(NOT(ISBLANK(ShareOfSearch_SERPS!G2990)),ShareOfSearch_SERPS!G2990,\"\")","v":""},{"$f":"IF(NOT(ISBLANK(ShareOfSearch_SERPS!K2990)),ShareOfSearch_SERPS!K2990,\"\")","v":""},{"$f":"IFERROR(VLOOKUP(C2990,ShareOfSearch_CTR!$A$1:$B$100,2,FALSE)*VLOOKUP(A2990&B2990,ShareOfSearch_Volume!$C$1:$D$1000,2,FALSE),\"\")","v":""}]
[{"$f":"IF(ISTEXT(ShareOfSearch_SERPS!C2991),ShareOfSearch_SERPS!C2991,\"\")","v":""},{"$f":"IF(ISTEXT(ShareOfSearch_SERPS!D2991),ShareOfSearch_SERPS!D2991,\"\")","v":""},{"$f":"IF(NOT(ISBLANK(ShareOfSearch_SERPS!A2991)),ShareOfSearch_SERPS!A2991,\"\")","v":""},{"$f":"IF(NOT(ISBLANK(ShareOfSearch_SERPS!G2991)),ShareOfSearch_SERPS!G2991,\"\")","v":""},{"$f":"IF(NOT(ISBLANK(ShareOfSearch_SERPS!K2991)),ShareOfSearch_SERPS!K2991,\"\")","v":""},{"$f":"IFERROR(VLOOKUP(C2991,ShareOfSearch_CTR!$A$1:$B$100,2,FALSE)*VLOOKUP(A2991&B2991,ShareOfSearch_Volume!$C$1:$D$1000,2,FALSE),\"\")","v":""}]
[{"$f":"IF(ISTEXT(ShareOfSearch_SERPS!C2992),ShareOfSearch_SERPS!C2992,\"\")","v":""},{"$f":"IF(ISTEXT(ShareOfSearch_SERPS!D2992),ShareOfSearch_SERPS!D2992,\"\")","v":""},{"$f":"IF(NOT(ISBLANK(ShareOfSearch_SERPS!A2992)),ShareOfSearch_SERPS!A2992,\"\")","v":""},{"$f":"IF(NOT(ISBLANK(ShareOfSearch_SERPS!G2992)),ShareOfSearch_SERPS!G2992,\"\")","v":""},{"$f":"IF(NOT(ISBLANK(ShareOfSearch_SERPS!K2992)),ShareOfSearch_SERPS!K2992,\"\")","v":""},{"$f":"IFERROR(VLOOKUP(C2992,ShareOfSearch_CTR!$A$1:$B$100,2,FALSE)*VLOOKUP(A2992&B2992,ShareOfSearch_Volume!$C$1:$D$1000,2,FALSE),\"\")","v":""}]
[{"$f":"IF(ISTEXT(ShareOfSearch_SERPS!C2993),ShareOfSearch_SERPS!C2993,\"\")","v":""},{"$f":"IF(ISTEXT(ShareOfSearch_SERPS!D2993),ShareOfSearch_SERPS!D2993,\"\")","v":""},{"$f":"IF(NOT(ISBLANK(ShareOfSearch_SERPS!A2993)),ShareOfSearch_SERPS!A2993,\"\")","v":""},{"$f":"IF(NOT(ISBLANK(ShareOfSearch_SERPS!G2993)),ShareOfSearch_SERPS!G2993,\"\")","v":""},{"$f":"IF(NOT(ISBLANK(ShareOfSearch_SERPS!K2993)),ShareOfSearch_SERPS!K2993,\"\")","v":""},{"$f":"IFERROR(VLOOKUP(C2993,ShareOfSearch_CTR!$A$1:$B$100,2,FALSE)*VLOOKUP(A2993&B2993,ShareOfSearch_Volume!$C$1:$D$1000,2,FALSE),\"\")","v":""}]
[{"$f":"IF(ISTEXT(ShareOfSearch_SERPS!C2994),ShareOfSearch_SERPS!C2994,\"\")","v":""},{"$f":"IF(ISTEXT(ShareOfSearch_SERPS!D2994),ShareOfSearch_SERPS!D2994,\"\")","v":""},{"$f":"IF(NOT(ISBLANK(ShareOfSearch_SERPS!A2994)),ShareOfSearch_SERPS!A2994,\"\")","v":""},{"$f":"IF(NOT(ISBLANK(ShareOfSearch_SERPS!G2994)),ShareOfSearch_SERPS!G2994,\"\")","v":""},{"$f":"IF(NOT(ISBLANK(ShareOfSearch_SERPS!K2994)),ShareOfSearch_SERPS!K2994,\"\")","v":""},{"$f":"IFERROR(VLOOKUP(C2994,ShareOfSearch_CTR!$A$1:$B$100,2,FALSE)*VLOOKUP(A2994&B2994,ShareOfSearch_Volume!$C$1:$D$1000,2,FALSE),\"\")","v":""}]
[{"$f":"IF(ISTEXT(ShareOfSearch_SERPS!C2995),ShareOfSearch_SERPS!C2995,\"\")","v":""},{"$f":"IF(ISTEXT(ShareOfSearch_SERPS!D2995),ShareOfSearch_SERPS!D2995,\"\")","v":""},{"$f":"IF(NOT(ISBLANK(ShareOfSearch_SERPS!A2995)),ShareOfSearch_SERPS!A2995,\"\")","v":""},{"$f":"IF(NOT(ISBLANK(ShareOfSearch_SERPS!G2995)),ShareOfSearch_SERPS!G2995,\"\")","v":""},{"$f":"IF(NOT(ISBLANK(ShareOfSearch_SERPS!K2995)),ShareOfSearch_SERPS!K2995,\"\")","v":""},{"$f":"IFERROR(VLOOKUP(C2995,ShareOfSearch_CTR!$A$1:$B$100,2,FALSE)*VLOOKUP(A2995&B2995,ShareOfSearch_Volume!$C$1:$D$1000,2,FALSE),\"\")","v":""}]
[{"$f":"IF(ISTEXT(ShareOfSearch_SERPS!C2996),ShareOfSearch_SERPS!C2996,\"\")","v":""},{"$f":"IF(ISTEXT(ShareOfSearch_SERPS!D2996),ShareOfSearch_SERPS!D2996,\"\")","v":""},{"$f":"IF(NOT(ISBLANK(ShareOfSearch_SERPS!A2996)),ShareOfSearch_SERPS!A2996,\"\")","v":""},{"$f":"IF(NOT(ISBLANK(ShareOfSearch_SERPS!G2996)),ShareOfSearch_SERPS!G2996,\"\")","v":""},{"$f":"IF(NOT(ISBLANK(ShareOfSearch_SERPS!K2996)),ShareOfSearch_SERPS!K2996,\"\")","v":""},{"$f":"IFERROR(VLOOKUP(C2996,ShareOfSearch_CTR!$A$1:$B$100,2,FALSE)*VLOOKUP(A2996&B2996,ShareOfSearch_Volume!$C$1:$D$1000,2,FALSE),\"\")","v":""}]
[{"$f":"IF(ISTEXT(ShareOfSearch_SERPS!C2997),ShareOfSearch_SERPS!C2997,\"\")","v":""},{"$f":"IF(ISTEXT(ShareOfSearch_SERPS!D2997),ShareOfSearch_SERPS!D2997,\"\")","v":""},{"$f":"IF(NOT(ISBLANK(ShareOfSearch_SERPS!A2997)),ShareOfSearch_SERPS!A2997,\"\")","v":""},{"$f":"IF(NOT(ISBLANK(ShareOfSearch_SERPS!G2997)),ShareOfSearch_SERPS!G2997,\"\")","v":""},{"$f":"IF(NOT(ISBLANK(ShareOfSearch_SERPS!K2997)),ShareOfSearch_SERPS!K2997,\"\")","v":""},{"$f":"IFERROR(VLOOKUP(C2997,ShareOfSearch_CTR!$A$1:$B$100,2,FALSE)*VLOOKUP(A2997&B2997,ShareOfSearch_Volume!$C$1:$D$1000,2,FALSE),\"\")","v":""}]
[{"$f":"IF(ISTEXT(ShareOfSearch_SERPS!C2998),ShareOfSearch_SERPS!C2998,\"\")","v":""},{"$f":"IF(ISTEXT(ShareOfSearch_SERPS!D2998),ShareOfSearch_SERPS!D2998,\"\")","v":""},{"$f":"IF(NOT(ISBLANK(ShareOfSearch_SERPS!A2998)),ShareOfSearch_SERPS!A2998,\"\")","v":""},{"$f":"IF(NOT(ISBLANK(ShareOfSearch_SERPS!G2998)),ShareOfSearch_SERPS!G2998,\"\")","v":""},{"$f":"IF(NOT(ISBLANK(ShareOfSearch_SERPS!K2998)),ShareOfSearch_SERPS!K2998,\"\")","v":""},{"$f":"IFERROR(VLOOKUP(C2998,ShareOfSearch_CTR!$A$1:$B$100,2,FALSE)*VLOOKUP(A2998&B2998,ShareOfSearch_Volume!$C$1:$D$1000,2,FALSE),\"\")","v":""}]
[{"$f":"IF(ISTEXT(ShareOfSearch_SERPS!C2999),ShareOfSearch_SERPS!C2999,\"\")","v":""},{"$f":"IF(ISTEXT(ShareOfSearch_SERPS!D2999),ShareOfSearch_SERPS!D2999,\"\")","v":""},{"$f":"IF(NOT(ISBLANK(ShareOfSearch_SERPS!A2999)),ShareOfSearch_SERPS!A2999,\"\")","v":""},{"$f":"IF(NOT(ISBLANK(ShareOfSearch_SERPS!G2999)),ShareOfSearch_SERPS!G2999,\"\")","v":""},{"$f":"IF(NOT(ISBLANK(ShareOfSearch_SERPS!K2999)),ShareOfSearch_SERPS!K2999,\"\")","v":""},{"$f":"IFERROR(VLOOKUP(C2999,ShareOfSearch_CTR!$A$1:$B$100,2,FALSE)*VLOOKUP(A2999&B2999,ShareOfSearch_Volume!$C$1:$D$1000,2,FALSE),\"\")","v":""}]
[{"$f":"IF(ISTEXT(ShareOfSearch_SERPS!C3000),ShareOfSearch_SERPS!C3000,\"\")","v":""},{"$f":"IF(ISTEXT(ShareOfSearch_SERPS!D3000),ShareOfSearch_SERPS!D3000,\"\")","v":""},{"$f":"IF(NOT(ISBLANK(ShareOfSearch_SERPS!A3000)),ShareOfSearch_SERPS!A3000,\"\")","v":""},{"$f":"IF(NOT(ISBLANK(ShareOfSearch_SERPS!G3000)),ShareOfSearch_SERPS!G3000,\"\")","v":""},{"$f":"IF(NOT(ISBLANK(ShareOfSearch_SERPS!K3000)),ShareOfSearch_SERPS!K3000,\"\")","v":""},{"$f":"IFERROR(VLOOKUP(C3000,ShareOfSearch_CTR!$A$1:$B$100,2,FALSE)*VLOOKUP(A3000&B3000,ShareOfSearch_Volume!$C$1:$D$1000,2,FALSE),\"\")","v":""}]
[{"$f":"IF(ISTEXT(ShareOfSearch_SERPS!C3001),ShareOfSearch_SERPS!C3001,\"\")","v":""},{"$f":"IF(ISTEXT(ShareOfSearch_SERPS!D3001),ShareOfSearch_SERPS!D3001,\"\")","v":""},{"$f":"IF(NOT(ISBLANK(ShareOfSearch_SERPS!A3001)),ShareOfSearch_SERPS!A3001,\"\")","v":""},{"$f":"IF(NOT(ISBLANK(ShareOfSearch_SERPS!G3001)),ShareOfSearch_SERPS!G3001,\"\")","v":""},{"$f":"IF(NOT(ISBLANK(ShareOfSearch_SERPS!K3001)),ShareOfSearch_SERPS!K3001,\"\")","v":""},{"$f":"IFERROR(VLOOKUP(C3001,ShareOfSearch_CTR!$A$1:$B$100,2,FALSE)*VLOOKUP(A3001&B3001,ShareOfSearch_Volume!$C$1:$D$1000,2,FALSE),\"\")","v":""}]
[{"$f":"IF(ISTEXT(ShareOfSearch_SERPS!C3002),ShareOfSearch_SERPS!C3002,\"\")","v":""},{"$f":"IF(ISTEXT(ShareOfSearch_SERPS!D3002),ShareOfSearch_SERPS!D3002,\"\")","v":""},{"$f":"IF(NOT(ISBLANK(ShareOfSearch_SERPS!A3002)),ShareOfSearch_SERPS!A3002,\"\")","v":""},{"$f":"IF(NOT(ISBLANK(ShareOfSearch_SERPS!G3002)),ShareOfSearch_SERPS!G3002,\"\")","v":""},{"$f":"IF(NOT(ISBLANK(ShareOfSearch_SERPS!K3002)),ShareOfSearch_SERPS!K3002,\"\")","v":""},{"$f":"IFERROR(VLOOKUP(C3002,ShareOfSearch_CTR!$A$1:$B$100,2,FALSE)*VLOOKUP(A3002&B3002,ShareOfSearch_Volume!$C$1:$D$1000,2,FALSE),\"\")","v":""}]

{"sheet":"ShareOfSearch_CTR","index":11,"n_rows":100,"n_cols":2,"rows_kept":100,"cut":false,"hidden":true,"merged":[]}
[1,0.36399999999999999]
[2,0.125]
[3,9.5000000000000001E-2]
[4,7.9000000000000001E-2]
[5,6.0999999999999999E-2]
[6,4.1000000000000002E-2]
[7,3.7999999999999999E-2]
[8,3.5000000000000003E-2]
[9,0.03]
[10,2.1999999999999999E-2]
[11,2.5999999999999999E-2]
[12,1.4999999999999999E-2]
[13,1.2999999999999999E-2]
[14,1.0999999999999999E-2]
[15,1.2E-2]
[16,1.2E-2]
[17,1.4E-2]
[18,1.2999999999999999E-2]
[19,1.4E-2]
[20,1.4E-2]
[21,1E-3]
[22,1E-3]
[23,1E-3]
[24,1E-3]
[25,1E-3]
[26,1E-3]
[27,1E-3]
[28,1E-3]
[29,1E-3]
[30,1E-3]
[31,1E-3]
[32,1E-3]
[33,1E-3]
[34,1E-3]
[35,1E-3]
[36,1E-3]
[37,1E-3]
[38,1E-3]
[39,1E-3]
[40,1E-3]
[41,1E-3]
[42,1E-3]
[43,1E-3]
[44,1E-3]
[45,1E-3]
[46,1E-3]
[47,1E-3]
[48,1E-3]
[49,1E-3]
[50,1E-3]
[51,1E-3]
[52,1E-3]
[53,1E-3]
[54,1E-3]
[55,1E-3]
[56,1E-3]
[57,1E-3]
[58,1E-3]
[59,1E-3]
[60,1E-3]
[61,1E-3]
[62,1E-3]
[63,1E-3]
[64,1E-3]
[65,1E-3]
[66,1E-3]
[67,1E-3]
[68,1E-3]
[69,1E-3]
[70,1E-3]
[71,1E-3]
[72,1E-3]
[73,1E-3]
[74,1E-3]
[75,1E-3]
[76,1E-3]
[77,1E-3]
[78,1E-3]
[79,1E-3]
[80,1E-3]
[81,1E-3]
[82,1E-3]
[83,1E-3]
[84,1E-3]
[85,1E-3]
[86,1E-3]
[87,1E-3]
[88,1E-3]
[89,1E-3]
[90,1E-3]
[91,1E-3]
[92,1E-3]
[93,1E-3]
[94,1E-3]
[95,1E-3]
[96,1E-3]
[97,1E-3]
[98,1E-3]
[99,1E-3]
[100,1E-3]

{"sheet":"ShareOfSearch_Volume","index":12,"n_rows":263,"n_cols":10,"rows_kept":263,"cut":false,"hidden":true,"merged":[]}
[{"$f":"IF(ISTEXT('Share Of Search Input'!A1),'Share Of Search Input'!A1,\"\")","v":"Keyword"},{"$f":"IF(ISTEXT('Share Of Search Input'!B1),'Share Of Search Input'!B1,\"\")","v":"TLD"},"lookup",{"$f":"IF(ISTEXT('Share Of Search Input'!H1),'Share Of Search Input'!H1,\"\")","v":"Search volume"},null,null,null,null,null,{"$f":"IF(ISTEXT('Share Of Search Input'!I1),'Share Of Search Input'!I1,\"\")","v":""}]
[{"$f":"IF(ISTEXT('Share Of Search Input'!A2),'Share Of Search Input'!A2,\"\")","v":"seo"},{"$f":"IF(ISTEXT('Share Of Search Input'!B2),'Share Of Search Input'!B2,\"\")","v":"co.uk"},{"$f":"A2&B2","v":"seoco.uk"},{"$f":"IF(ISNUMBER('Share Of Search Input'!H2),'Share Of Search Input'!H2,\"\")","v":2210999.9999999995}]
[{"$f":"IF(ISTEXT('Share Of Search Input'!A3),'Share Of Search Input'!A3,\"\")","v":"search engine optimization"},{"$f":"IF(ISTEXT('Share Of Search Input'!B3),'Share Of Search Input'!B3,\"\")","v":"co.uk"},{"$f":"A3&B3","v":"search engine optimizationco.uk"},{"$f":"IF(ISNUMBER('Share Of Search Input'!H3),'Share Of Search Input'!H3,\"\")","v":447700}]
[{"$f":"IF(ISTEXT('Share Of Search Input'!A4),'Share Of Search Input'!A4,\"\")","v":"seo services"},{"$f":"IF(ISTEXT('Share Of Search Input'!B4),'Share Of Search Input'!B4,\"\")","v":"co.uk"},"seo servicesco.uk",{"$f":"IF(ISNUMBER('Share Of Search Input'!H4),'Share Of Search Input'!H4,\"\")","v":225743}]
[{"$f":"IF(ISTEXT('Share Of Search Input'!A5),'Share Of Search Input'!A5,\"\")","v":"seo company"},{"$f":"IF(ISTEXT('Share Of Search Input'!B5),'Share Of Search Input'!B5,\"\")","v":"co.uk"},"seo companyco.uk",{"$f":"IF(ISNUMBER('Share Of Search Input'!H5),'Share Of Search Input'!H5,\"\")","v":222219.99999999997}]
[{"$f":"IF(ISTEXT('Share Of Search Input'!A6),'Share Of Search Input'!A6,\"\")","v":"search optimization"},{"$f":"IF(ISTEXT('Share Of Search Input'!B6),'Share Of Search Input'!B6,\"\")","v":"co.uk"},"search optimizationco.uk",{"$f":"IF(ISNUMBER('Share Of Search Input'!H6),'Share Of Search Input'!H6,\"\")","v":216800}]
[{"$f":"IF(ISTEXT('Share Of Search Input'!A7),'Share Of Search Input'!A7,\"\")","v":"search engine optimization seo"},{"$f":"IF(ISTEXT('Share Of Search Input'!B7),'Share Of Search Input'!B7,\"\")","v":"co.uk"},"search engine optimization seoco.uk",{"$f":"IF(ISNUMBER('Share Of Search Input'!H7),'Share Of Search Input'!H7,\"\")","v":177505}]
[{"$f":"IF(ISTEXT('Share Of Search Input'!A8),'Share Of Search Input'!A8,\"\")","v":"seo tools"},{"$f":"IF(ISTEXT('Share Of Search Input'!B8),'Share Of Search Input'!B8,\"\")","v":"co.uk"},"seo toolsco.uk",{"$f":"IF(ISNUMBER('Share Of Search Input'!H8),'Share Of Search Input'!H8,\"\")","v":126773}]
[{"$f":"IF(ISTEXT('Share Of Search Input'!A9),'Share Of Search Input'!A9,\"\")","v":"search engine optimisation"},{"$f":"IF(ISTEXT('Share Of Search Input'!B9),'Share Of Search Input'!B9,\"\")","v":"co.uk"},"search engine optimisationco.uk",{"$f":"IF(ISNUMBER('Share Of Search Input'!H9),'Share Of Search Input'!H9,\"\")","v":101898}]
[{"$f":"IF(ISTEXT('Share Of Search Input'!A10),'Share Of Search Input'!A10,\"\")","v":"what is search engine optimization"},{"$f":"IF(ISTEXT('Share Of Search Input'!B10),'Share Of Search Input'!B10,\"\")","v":"co.uk"},"what is search engine optimizationco.uk",{"$f":"IF(ISNUMBER('Share Of Search Input'!H10),'Share Of Search Input'!H10,\"\")","v":98790}]
[{"$f":"IF(ISTEXT('Share Of Search Input'!A11),'Share Of Search Input'!A11,\"\")","v":"seo companies"},{"$f":"IF(ISTEXT('Share Of Search Input'!B11),'Share Of Search Input'!B11,\"\")","v":"co.uk"},"seo companiesco.uk",{"$f":"IF(ISNUMBER('Share Of Search Input'!H11),'Share Of Search Input'!H11,\"\")","v":71412}]
[{"$f":"IF(ISTEXT('Share Of Search Input'!A12),'Share Of Search Input'!A12,\"\")","v":"what is seo"},{"$f":"IF(ISTEXT('Share Of Search Input'!B12),'Share Of Search Input'!B12,\"\")","v":"co.uk"},"what is seoco.uk",{"$f":"IF(ISNUMBER('Share Of Search Input'!H12),'Share Of Search Input'!H12,\"\")","v":59052}]
[{"$f":"IF(ISTEXT('Share Of Search Input'!A13),'Share Of Search Input'!A13,\"\")","v":"best seo company"},{"$f":"IF(ISTEXT('Share Of Search Input'!B13),'Share Of Search Input'!B13,\"\")","v":"co.uk"},"best seo companyco.uk",{"$f":"IF(ISNUMBER('Share Of Search Input'!H13),'Share Of Search Input'!H13,\"\")","v":59022}]
[{"$f":"IF(ISTEXT('Share Of Search Input'!A14),'Share Of Search Input'!A14,\"\")","v":"seo marketing"},{"$f":"IF(ISTEXT('Share Of Search Input'!B14),'Share Of Search Input'!B14,\"\")","v":"co.uk"},"seo marketingco.uk",{"$f":"IF(ISNUMBER('Share Of Search Input'!H14),'Share Of Search Input'!H14,\"\")","v":53055}]
[{"$f":"IF(ISTEXT('Share Of Search Input'!A15),'Share Of Search Input'!A15,\"\")","v":"best seo"},{"$f":"IF(ISTEXT('Share Of Search Input'!B15),'Share Of Search Input'!B15,\"\")","v":"co.uk"},"best seoco.uk",{"$f":"IF(ISNUMBER('Share Of Search Input'!H15),'Share Of Search Input'!H15,\"\")","v":49032}]
[{"$f":"IF(ISTEXT('Share Of Search Input'!A16),'Share Of Search Input'!A16,\"\")","v":"seo optimization"},{"$f":"IF(ISTEXT('Share Of Search Input'!B16),'Share Of Search Input'!B16,\"\")","v":"co.uk"},"seo optimizationco.uk",{"$f":"IF(ISNUMBER('Share Of Search Input'!H16),'Share Of Search Input'!H16,\"\")","v":44946}]
[{"$f":"IF(ISTEXT('Share Of Search Input'!A17),'Share Of Search Input'!A17,\"\")","v":"seo search engine optimization"},{"$f":"IF(ISTEXT('Share Of Search Input'!B17),'Share Of Search Input'!B17,\"\")","v":"co.uk"},"seo search engine optimizationco.uk",{"$f":"IF(ISNUMBER('Share Of Search Input'!H17),'Share Of Search Input'!H17,\"\")","v":38232}]
[{"$f":"IF(ISTEXT('Share Of Search Input'!A18),'Share Of Search Input'!A18,\"\")","v":"seo check"},{"$f":"IF(ISTEXT('Share Of Search Input'!B18),'Share Of Search Input'!B18,\"\")","v":"co.uk"},"seo checkco.uk",{"$f":"IF(ISNUMBER('Share Of Search Input'!H18),'Share Of Search Input'!H18,\"\")","v":30789}]
[{"$f":"IF(ISTEXT('Share Of Search Input'!A19),'Share Of Search Input'!A19,\"\")","v":"seo sem"},{"$f":"IF(ISTEXT('Share Of Search Input'!B19),'Share Of Search Input'!B19,\"\")","v":"co.uk"},"seo semco.uk",{"$f":"IF(ISNUMBER('Share Of Search Input'!H19),'Share Of Search Input'!H19,\"\")","v":28908}]
[{"$f":"IF(ISTEXT('Share Of Search Input'!A20),'Share Of Search Input'!A20,\"\")","v":"website optimization"},{"$f":"IF(ISTEXT('Share Of Search Input'!B20),'Share Of Search Input'!B20,\"\")","v":"co.uk"},"website optimizationco.uk",{"$f":"IF(ISNUMBER('Share Of Search Input'!H20),'Share Of Search Input'!H20,\"\")","v":27956}]
[{"$f":"IF(ISTEXT('Share Of Search Input'!A21),'Share Of Search Input'!A21,\"\")","v":""},{"$f":"IF(ISTEXT('Share Of Search Input'!B21),'Share Of Search Input'!B21,\"\")","v":""},"",{"$f":"IF(ISNUMBER('Share Of Search Input'!H21),'Share Of Search Input'!H21,\"\")","v":""}]
[{"$f":"IF(ISTEXT('Share Of Search Input'!A22),'Share Of Search Input'!A22,\"\")","v":""},{"$f":"IF(ISTEXT('Share Of Search Input'!B22),'Share Of Search Input'!B22,\"\")","v":""},"",{"$f":"IF(ISNUMBER('Share Of Search Input'!H22),'Share Of Search Input'!H22,\"\")","v":""}]
[{"$f":"IF(ISTEXT('Share Of Search Input'!A23),'Share Of Search Input'!A23,\"\")","v":""},{"$f":"IF(ISTEXT('Share Of Search Input'!B23),'Share Of Search Input'!B23,\"\")","v":""},"",{"$f":"IF(ISNUMBER('Share Of Search Input'!H23),'Share Of Search Input'!H23,\"\")","v":""}]
[{"$f":"IF(ISTEXT('Share Of Search Input'!A24),'Share Of Search Input'!A24,\"\")","v":""},{"$f":"IF(ISTEXT('Share Of Search Input'!B24),'Share Of Search Input'!B24,\"\")","v":""},"",{"$f":"IF(ISNUMBER('Share Of Search Input'!H24),'Share Of Search Input'!H24,\"\")","v":""}]
[{"$f":"IF(ISTEXT('Share Of Search Input'!A25),'Share Of Search Input'!A25,\"\")","v":""},{"$f":"IF(ISTEXT('Share Of Search Input'!B25),'Share Of Search Input'!B25,\"\")","v":""},"",{"$f":"IF(ISNUMBER('Share Of Search Input'!H25),'Share Of Search Input'!H25,\"\")","v":""}]
[{"$f":"IF(ISTEXT('Share Of Search Input'!A26),'Share Of Search Input'!A26,\"\")","v":""},{"$f":"IF(ISTEXT('Share Of Search Input'!B26),'Share Of Search Input'!B26,\"\")","v":""},"",{"$f":"IF(ISNUMBER('Share Of Search Input'!H26),'Share Of Search Input'!H26,\"\")","v":""}]
[{"$f":"IF(ISTEXT('Share Of Search Input'!A27),'Share Of Search Input'!A27,\"\")","v":""},{"$f":"IF(ISTEXT('Share Of Search Input'!B27),'Share Of Search Input'!B27,\"\")","v":""},"",{"$f":"IF(ISNUMBER('Share Of Search Input'!H27),'Share Of Search Input'!H27,\"\")","v":""}]
[{"$f":"IF(ISTEXT('Share Of Search Input'!A28),'Share Of Search Input'!A28,\"\")","v":""},{"$f":"IF(ISTEXT('Share Of Search Input'!B28),'Share Of Search Input'!B28,\"\")","v":""},"",{"$f":"IF(ISNUMBER('Share Of Search Input'!H28),'Share Of Search Input'!H28,\"\")","v":""}]
[{"$f":"IF(ISTEXT('Share Of Search Input'!#REF!),'Share Of Search Input'!#REF!,\"\")","v":""},{"$f":"IF(ISTEXT('Share Of Search Input'!#REF!),'Share Of Search Input'!#REF!,\"\")","v":""},"",{"$f":"IF(ISNUMBER('Share Of Search Input'!#REF!),'Share Of Search Input'!#REF!,\"\")","v":""}]
[{"$f":"IF(ISTEXT('Share Of Search Input'!#REF!),'Share Of Search Input'!#REF!,\"\")","v":""},{"$f":"IF(ISTEXT('Share Of Search Input'!#REF!),'Share Of Search Input'!#REF!,\"\")","v":""},"",{"$f":"IF(ISNUMBER('Share Of Search Input'!#REF!),'Share Of Search Input'!#REF!,\"\")","v":""}]
[{"$f":"IF(ISTEXT('Share Of Search Input'!A29),'Share Of Search Input'!A29,\"\")","v":""},{"$f":"IF(ISTEXT('Share Of Search Input'!B29),'Share Of Search Input'!B29,\"\")","v":""},"",{"$f":"IF(ISNUMBER('Share Of Search Input'!H29),'Share Of Search Input'!H29,\"\")","v":""}]
[{"$f":"IF(ISTEXT('Share Of Search Input'!A30),'Share Of Search Input'!A30,\"\")","v":""},{"$f":"IF(ISTEXT('Share Of Search Input'!B30),'Share Of Search Input'!B30,\"\")","v":""},"",{"$f":"IF(ISNUMBER('Share Of Search Input'!H30),'Share Of Search Input'!H30,\"\")","v":""}]
[{"$f":"IF(ISTEXT('Share Of Search Input'!A31),'Share Of Search Input'!A31,\"\")","v":""},{"$f":"IF(ISTEXT('Share Of Search Input'!B31),'Share Of Search Input'!B31,\"\")","v":""},"",{"$f":"IF(ISNUMBER('Share Of Search Input'!H31),'Share Of Search Input'!H31,\"\")","v":""}]
[{"$f":"IF(ISTEXT('Share Of Search Input'!A32),'Share Of Search Input'!A32,\"\")","v":""},{"$f":"IF(ISTEXT('Share Of Search Input'!B32),'Share Of Search Input'!B32,\"\")","v":""},"",{"$f":"IF(ISNUMBER('Share Of Search Input'!H32),'Share Of Search Input'!H32,\"\")","v":""}]
[{"$f":"IF(ISTEXT('Share Of Search Input'!A33),'Share Of Search Input'!A33,\"\")","v":""},{"$f":"IF(ISTEXT('Share Of Search Input'!B33),'Share Of Search Input'!B33,\"\")","v":""},"",{"$f":"IF(ISNUMBER('Share Of Search Input'!H33),'Share Of Search Input'!H33,\"\")","v":""}]
[{"$f":"IF(ISTEXT('Share Of Search Input'!A34),'Share Of Search Input'!A34,\"\")","v":""},{"$f":"IF(ISTEXT('Share Of Search Input'!B34),'Share Of Search Input'!B34,\"\")","v":""},"",{"$f":"IF(ISNUMBER('Share Of Search Input'!H34),'Share Of Search Input'!H34,\"\")","v":""}]
[{"$f":"IF(ISTEXT('Share Of Search Input'!A35),'Share Of Search Input'!A35,\"\")","v":""},{"$f":"IF(ISTEXT('Share Of Search Input'!B35),'Share Of Search Input'!B35,\"\")","v":""},"",{"$f":"IF(ISNUMBER('Share Of Search Input'!H35),'Share Of Search Input'!H35,\"\")","v":""}]
[{"$f":"IF(ISTEXT('Share Of Search Input'!A36),'Share Of Search Input'!A36,\"\")","v":""},{"$f":"IF(ISTEXT('Share Of Search Input'!B36),'Share Of Search Input'!B36,\"\")","v":""},"",{"$f":"IF(ISNUMBER('Share Of Search Input'!H36),'Share Of Search Input'!H36,\"\")","v":""}]
[{"$f":"IF(ISTEXT('Share Of Search Input'!A37),'Share Of Search Input'!A37,\"\")","v":""},{"$f":"IF(ISTEXT('Share Of Search Input'!B37),'Share Of Search Input'!B37,\"\")","v":""},"",{"$f":"IF(ISNUMBER('Share Of Search Input'!H37),'Share Of Search Input'!H37,\"\")","v":""}]
[{"$f":"IF(ISTEXT('Share Of Search Input'!A38),'Share Of Search Input'!A38,\"\")","v":""},{"$f":"IF(ISTEXT('Share Of Search Input'!B38),'Share Of Search Input'!B38,\"\")","v":""},"",{"$f":"IF(ISNUMBER('Share Of Search Input'!H38),'Share Of Search Input'!H38,\"\")","v":""}]
[{"$f":"IF(ISTEXT('Share Of Search Input'!A39),'Share Of Search Input'!A39,\"\")","v":""},{"$f":"IF(ISTEXT('Share Of Search Input'!B39),'Share Of Search Input'!B39,\"\")","v":""},"",{"$f":"IF(ISNUMBER('Share Of Search Input'!H39),'Share Of Search Input'!H39,\"\")","v":""}]
[{"$f":"IF(ISTEXT('Share Of Search Input'!A40),'Share Of Search Input'!A40,\"\")","v":""},{"$f":"IF(ISTEXT('Share Of Search Input'!B40),'Share Of Search Input'!B40,\"\")","v":""},"",{"$f":"IF(ISNUMBER('Share Of Search Input'!H40),'Share Of Search Input'!H40,\"\")","v":""}]
[{"$f":"IF(ISTEXT('Share Of Search Input'!A41),'Share Of Search Input'!A41,\"\")","v":""},{"$f":"IF(ISTEXT('Share Of Search Input'!B41),'Share Of Search Input'!B41,\"\")","v":""},"",{"$f":"IF(ISNUMBER('Share Of Search Input'!H41),'Share Of Search Input'!H41,\"\")","v":""}]
[{"$f":"IF(ISTEXT('Share Of Search Input'!A42),'Share Of Search Input'!A42,\"\")","v":""},{"$f":"IF(ISTEXT('Share Of Search Input'!B42),'Share Of Search Input'!B42,\"\")","v":""},"",{"$f":"IF(ISNUMBER('Share Of Search Input'!H42),'Share Of Search Input'!H42,\"\")","v":""}]
[{"$f":"IF(ISTEXT('Share Of Search Input'!A43),'Share Of Search Input'!A43,\"\")","v":""},{"$f":"IF(ISTEXT('Share Of Search Input'!B43),'Share Of Search Input'!B43,\"\")","v":""},"",{"$f":"IF(ISNUMBER('Share Of Search Input'!H43),'Share Of Search Input'!H43,\"\")","v":""}]
[{"$f":"IF(ISTEXT('Share Of Search Input'!A44),'Share Of Search Input'!A44,\"\")","v":""},{"$f":"IF(ISTEXT('Share Of Search Input'!B44),'Share Of Search Input'!B44,\"\")","v":""},"",{"$f":"IF(ISNUMBER('Share Of Search Input'!H44),'Share Of Search Input'!H44,\"\")","v":""}]
[{"$f":"IF(ISTEXT('Share Of Search Input'!A45),'Share Of Search Input'!A45,\"\")","v":""},{"$f":"IF(ISTEXT('Share Of Search Input'!B45),'Share Of Search Input'!B45,\"\")","v":""},"",{"$f":"IF(ISNUMBER('Share Of Search Input'!H45),'Share Of Search Input'!H45,\"\")","v":""}]
[{"$f":"IF(ISTEXT('Share Of Search Input'!A46),'Share Of Search Input'!A46,\"\")","v":""},{"$f":"IF(ISTEXT('Share Of Search Input'!B46),'Share Of Search Input'!B46,\"\")","v":""},"",{"$f":"IF(ISNUMBER('Share Of Search Input'!H46),'Share Of Search Input'!H46,\"\")","v":""}]
[{"$f":"IF(ISTEXT('Share Of Search Input'!A47),'Share Of Search Input'!A47,\"\")","v":""},{"$f":"IF(ISTEXT('Share Of Search Input'!B47),'Share Of Search Input'!B47,\"\")","v":""},"",{"$f":"IF(ISNUMBER('Share Of Search Input'!H47),'Share Of Search Input'!H47,\"\")","v":""}]
[{"$f":"IF(ISTEXT('Share Of Search Input'!A48),'Share Of Search Input'!A48,\"\")","v":""},{"$f":"IF(ISTEXT('Share Of Search Input'!B48),'Share Of Search Input'!B48,\"\")","v":""},"",{"$f":"IF(ISNUMBER('Share Of Search Input'!H48),'Share Of Search Input'!H48,\"\")","v":""}]
[{"$f":"IF(ISTEXT('Share Of Search Input'!A49),'Share Of Search Input'!A49,\"\")","v":""},{"$f":"IF(ISTEXT('Share Of Search Input'!B49),'Share Of Search Input'!B49,\"\")","v":""},"",{"$f":"IF(ISNUMBER('Share Of Search Input'!H49),'Share Of Search Input'!H49,\"\")","v":""}]
[{"$f":"IF(ISTEXT('Share Of Search Input'!A50),'Share Of Search Input'!A50,\"\")","v":""},{"$f":"IF(ISTEXT('Share Of Search Input'!B50),'Share Of Search Input'!B50,\"\")","v":""},"",{"$f":"IF(ISNUMBER('Share Of Search Input'!H50),'Share Of Search Input'!H50,\"\")","v":""}]
[{"$f":"IF(ISTEXT('Share Of Search Input'!A51),'Share Of Search Input'!A51,\"\")","v":""},{"$f":"IF(ISTEXT('Share Of Search Input'!B51),'Share Of Search Input'!B51,\"\")","v":""},"",{"$f":"IF(ISNUMBER('Share Of Search Input'!H51),'Share Of Search Input'!H51,\"\")","v":""}]
[{"$f":"IF(ISTEXT('Share Of Search Input'!A52),'Share Of Search Input'!A52,\"\")","v":""},{"$f":"IF(ISTEXT('Share Of Search Input'!B52),'Share Of Search Input'!B52,\"\")","v":""},"",{"$f":"IF(ISNUMBER('Share Of Search Input'!H52),'Share Of Search Input'!H52,\"\")","v":""}]
[{"$f":"IF(ISTEXT('Share Of Search Input'!A53),'Share Of Search Input'!A53,\"\")","v":""},{"$f":"IF(ISTEXT('Share Of Search Input'!B53),'Share Of Search Input'!B53,\"\")","v":""},"",{"$f":"IF(ISNUMBER('Share Of Search Input'!H53),'Share Of Search Input'!H53,\"\")","v":""}]
[{"$f":"IF(ISTEXT('Share Of Search Input'!A54),'Share Of Search Input'!A54,\"\")","v":""},{"$f":"IF(ISTEXT('Share Of Search Input'!B54),'Share Of Search Input'!B54,\"\")","v":""},"",{"$f":"IF(ISNUMBER('Share Of Search Input'!H54),'Share Of Search Input'!H54,\"\")","v":""}]
[{"$f":"IF(ISTEXT('Share Of Search Input'!A55),'Share Of Search Input'!A55,\"\")","v":""},{"$f":"IF(ISTEXT('Share Of Search Input'!B55),'Share Of Search Input'!B55,\"\")","v":""},"",{"$f":"IF(ISNUMBER('Share Of Search Input'!H55),'Share Of Search Input'!H55,\"\")","v":""}]
[{"$f":"IF(ISTEXT('Share Of Search Input'!A56),'Share Of Search Input'!A56,\"\")","v":""},{"$f":"IF(ISTEXT('Share Of Search Input'!B56),'Share Of Search Input'!B56,\"\")","v":""},"",{"$f":"IF(ISNUMBER('Share Of Search Input'!H56),'Share Of Search Input'!H56,\"\")","v":""}]
[{"$f":"IF(ISTEXT('Share Of Search Input'!A57),'Share Of Search Input'!A57,\"\")","v":""},{"$f":"IF(ISTEXT('Share Of Search Input'!B57),'Share Of Search Input'!B57,\"\")","v":""},"",{"$f":"IF(ISNUMBER('Share Of Search Input'!H57),'Share Of Search Input'!H57,\"\")","v":""}]
[{"$f":"IF(ISTEXT('Share Of Search Input'!A58),'Share Of Search Input'!A58,\"\")","v":""},{"$f":"IF(ISTEXT('Share Of Search Input'!B58),'Share Of Search Input'!B58,\"\")","v":""},"",{"$f":"IF(ISNUMBER('Share Of Search Input'!H58),'Share Of Search Input'!H58,\"\")","v":""}]
[{"$f":"IF(ISTEXT('Share Of Search Input'!A59),'Share Of Search Input'!A59,\"\")","v":""},{"$f":"IF(ISTEXT('Share Of Search Input'!B59),'Share Of Search Input'!B59,\"\")","v":""},"",{"$f":"IF(ISNUMBER('Share Of Search Input'!H59),'Share Of Search Input'!H59,\"\")","v":""}]
[{"$f":"IF(ISTEXT('Share Of Search Input'!A60),'Share Of Search Input'!A60,\"\")","v":""},{"$f":"IF(ISTEXT('Share Of Search Input'!B60),'Share Of Search Input'!B60,\"\")","v":""},"",{"$f":"IF(ISNUMBER('Share Of Search Input'!H60),'Share Of Search Input'!H60,\"\")","v":""}]
[{"$f":"IF(ISTEXT('Share Of Search Input'!A61),'Share Of Search Input'!A61,\"\")","v":""},{"$f":"IF(ISTEXT('Share Of Search Input'!B61),'Share Of Search Input'!B61,\"\")","v":""},"",{"$f":"IF(ISNUMBER('Share Of Search Input'!H61),'Share Of Search Input'!H61,\"\")","v":""}]
[{"$f":"IF(ISTEXT('Share Of Search Input'!A62),'Share Of Search Input'!A62,\"\")","v":""},{"$f":"IF(ISTEXT('Share Of Search Input'!B62),'Share Of Search Input'!B62,\"\")","v":""},"",{"$f":"IF(ISNUMBER('Share Of Search Input'!H62),'Share Of Search Input'!H62,\"\")","v":""}]
[{"$f":"IF(ISTEXT('Share Of Search Input'!A63),'Share Of Search Input'!A63,\"\")","v":""},{"$f":"IF(ISTEXT('Share Of Search Input'!B63),'Share Of Search Input'!B63,\"\")","v":""},"",{"$f":"IF(ISNUMBER('Share Of Search Input'!H63),'Share Of Search Input'!H63,\"\")","v":""}]
[{"$f":"IF(ISTEXT('Share Of Search Input'!A64),'Share Of Search Input'!A64,\"\")","v":""},{"$f":"IF(ISTEXT('Share Of Search Input'!B64),'Share Of Search Input'!B64,\"\")","v":""},"",{"$f":"IF(ISNUMBER('Share Of Search Input'!H64),'Share Of Search Input'!H64,\"\")","v":""}]
[{"$f":"IF(ISTEXT('Share Of Search Input'!A65),'Share Of Search Input'!A65,\"\")","v":""},{"$f":"IF(ISTEXT('Share Of Search Input'!B65),'Share Of Search Input'!B65,\"\")","v":""},{"$f":"A67&B67","v":""},{"$f":"IF(ISNUMBER('Share Of Search Input'!H65),'Share Of Search Input'!H65,\"\")","v":""}]
[{"$f":"IF(ISTEXT('Share Of Search Input'!A66),'Share Of Search Input'!A66,\"\")","v":""},{"$f":"IF(ISTEXT('Share Of Search Input'!B66),'Share Of Search Input'!B66,\"\")","v":""},"",{"$f":"IF(ISNUMBER('Share Of Search Input'!H66),'Share Of Search Input'!H66,\"\")","v":""}]
[{"$f":"IF(ISTEXT('Share Of Search Input'!A67),'Share Of Search Input'!A67,\"\")","v":""},{"$f":"IF(ISTEXT('Share Of Search Input'!B67),'Share Of Search Input'!B67,\"\")","v":""},"",{"$f":"IF(ISNUMBER('Share Of Search Input'!H67),'Share Of Search Input'!H67,\"\")","v":""}]
[{"$f":"IF(ISTEXT('Share Of Search Input'!A68),'Share Of Search Input'!A68,\"\")","v":""},{"$f":"IF(ISTEXT('Share Of Search Input'!B68),'Share Of Search Input'!B68,\"\")","v":""},"",{"$f":"IF(ISNUMBER('Share Of Search Input'!H68),'Share Of Search Input'!H68,\"\")","v":""}]
[{"$f":"IF(ISTEXT('Share Of Search Input'!A69),'Share Of Search Input'!A69,\"\")","v":""},{"$f":"IF(ISTEXT('Share Of Search Input'!B69),'Share Of Search Input'!B69,\"\")","v":""},"",{"$f":"IF(ISNUMBER('Share Of Search Input'!H69),'Share Of Search Input'!H69,\"\")","v":""}]
[{"$f":"IF(ISTEXT('Share Of Search Input'!A70),'Share Of Search Input'!A70,\"\")","v":""},{"$f":"IF(ISTEXT('Share Of Search Input'!B70),'Share Of Search Input'!B70,\"\")","v":""},"",{"$f":"IF(ISNUMBER('Share Of Search Input'!H70),'Share Of Search Input'!H70,\"\")","v":""}]
[{"$f":"IF(ISTEXT('Share Of Search Input'!A71),'Share Of Search Input'!A71,\"\")","v":""},{"$f":"IF(ISTEXT('Share Of Search Input'!B71),'Share Of Search Input'!B71,\"\")","v":""},"",{"$f":"IF(ISNUMBER('Share Of Search Input'!H71),'Share Of Search Input'!H71,\"\")","v":""}]
[{"$f":"IF(ISTEXT('Share Of Search Input'!A72),'Share Of Search Input'!A72,\"\")","v":""},{"$f":"IF(ISTEXT('Share Of Search Input'!B72),'Share Of Search Input'!B72,\"\")","v":""},"",{"$f":"IF(ISNUMBER('Share Of Search Input'!H72),'Share Of Search Input'!H72,\"\")","v":""}]
[{"$f":"IF(ISTEXT('Share Of Search Input'!A73),'Share Of Search Input'!A73,\"\")","v":""},{"$f":"IF(ISTEXT('Share Of Search Input'!B73),'Share Of Search Input'!B73,\"\")","v":""},"",{"$f":"IF(ISNUMBER('Share Of Search Input'!H73),'Share Of Search Input'!H73,\"\")","v":""}]
[{"$f":"IF(ISTEXT('Share Of Search Input'!A74),'Share Of Search Input'!A74,\"\")","v":""},{"$f":"IF(ISTEXT('Share Of Search Input'!B74),'Share Of Search Input'!B74,\"\")","v":""},"",{"$f":"IF(ISNUMBER('Share Of Search Input'!H74),'Share Of Search Input'!H74,\"\")","v":""}]
[{"$f":"IF(ISTEXT('Share Of Search Input'!A75),'Share Of Search Input'!A75,\"\")","v":""},{"$f":"IF(ISTEXT('Share Of Search Input'!B75),'Share Of Search Input'!B75,\"\")","v":""},"",{"$f":"IF(ISNUMBER('Share Of Search Input'!H75),'Share Of Search Input'!H75,\"\")","v":""}]
[{"$f":"IF(ISTEXT('Share Of Search Input'!A76),'Share Of Search Input'!A76,\"\")","v":""},{"$f":"IF(ISTEXT('Share Of Search Input'!B76),'Share Of Search Input'!B76,\"\")","v":""},"",{"$f":"IF(ISNUMBER('Share Of Search Input'!H76),'Share Of Search Input'!H76,\"\")","v":""}]
[{"$f":"IF(ISTEXT('Share Of Search Input'!A77),'Share Of Search Input'!A77,\"\")","v":""},{"$f":"IF(ISTEXT('Share Of Search Input'!B77),'Share Of Search Input'!B77,\"\")","v":""},"",{"$f":"IF(ISNUMBER('Share Of Search Input'!H77),'Share Of Search Input'!H77,\"\")","v":""}]
[{"$f":"IF(ISTEXT('Share Of Search Input'!A78),'Share Of Search Input'!A78,\"\")","v":""},{"$f":"IF(ISTEXT('Share Of Search Input'!B78),'Share Of Search Input'!B78,\"\")","v":""},"",{"$f":"IF(ISNUMBER('Share Of Search Input'!H78),'Share Of Search Input'!H78,\"\")","v":""}]
[{"$f":"IF(ISTEXT('Share Of Search Input'!A79),'Share Of Search Input'!A79,\"\")","v":""},{"$f":"IF(ISTEXT('Share Of Search Input'!B79),'Share Of Search Input'!B79,\"\")","v":""},"",{"$f":"IF(ISNUMBER('Share Of Search Input'!H79),'Share Of Search Input'!H79,\"\")","v":""}]
[{"$f":"IF(ISTEXT('Share Of Search Input'!A80),'Share Of Search Input'!A80,\"\")","v":""},{"$f":"IF(ISTEXT('Share Of Search Input'!B80),'Share Of Search Input'!B80,\"\")","v":""},"",{"$f":"IF(ISNUMBER('Share Of Search Input'!H80),'Share Of Search Input'!H80,\"\")","v":""}]
[{"$f":"IF(ISTEXT('Share Of Search Input'!A81),'Share Of Search Input'!A81,\"\")","v":""},{"$f":"IF(ISTEXT('Share Of Search Input'!B81),'Share Of Search Input'!B81,\"\")","v":""},"",{"$f":"IF(ISNUMBER('Share Of Search Input'!H81),'Share Of Search Input'!H81,\"\")","v":""}]
[{"$f":"IF(ISTEXT('Share Of Search Input'!A82),'Share Of Search Input'!A82,\"\")","v":""},{"$f":"IF(ISTEXT('Share Of Search Input'!B82),'Share Of Search Input'!B82,\"\")","v":""},"",{"$f":"IF(ISNUMBER('Share Of Search Input'!H82),'Share Of Search Input'!H82,\"\")","v":""}]
[{"$f":"IF(ISTEXT('Share Of Search Input'!A83),'Share Of Search Input'!A83,\"\")","v":""},{"$f":"IF(ISTEXT('Share Of Search Input'!B83),'Share Of Search Input'!B83,\"\")","v":""},"",{"$f":"IF(ISNUMBER('Share Of Search Input'!H83),'Share Of Search Input'!H83,\"\")","v":""}]
[{"$f":"IF(ISTEXT('Share Of Search Input'!A84),'Share Of Search Input'!A84,\"\")","v":""},{"$f":"IF(ISTEXT('Share Of Search Input'!B84),'Share Of Search Input'!B84,\"\")","v":""},"",{"$f":"IF(ISNUMBER('Share Of Search Input'!H84),'Share Of Search Input'!H84,\"\")","v":""}]
[{"$f":"IF(ISTEXT('Share Of Search Input'!A85),'Share Of Search Input'!A85,\"\")","v":""},{"$f":"IF(ISTEXT('Share Of Search Input'!B85),'Share Of Search Input'!B85,\"\")","v":""},"",{"$f":"IF(ISNUMBER('Share Of Search Input'!H85),'Share Of Search Input'!H85,\"\")","v":""}]
[{"$f":"IF(ISTEXT('Share Of Search Input'!A86),'Share Of Search Input'!A86,\"\")","v":""},{"$f":"IF(ISTEXT('Share Of Search Input'!B86),'Share Of Search Input'!B86,\"\")","v":""},"",{"$f":"IF(ISNUMBER('Share Of Search Input'!H86),'Share Of Search Input'!H86,\"\")","v":""}]
[{"$f":"IF(ISTEXT('Share Of Search Input'!A87),'Share Of Search Input'!A87,\"\")","v":""},{"$f":"IF(ISTEXT('Share Of Search Input'!B87),'Share Of Search Input'!B87,\"\")","v":""},"",{"$f":"IF(ISNUMBER('Share Of Search Input'!H87),'Share Of Search Input'!H87,\"\")","v":""}]
[{"$f":"IF(ISTEXT('Share Of Search Input'!A88),'Share Of Search Input'!A88,\"\")","v":""},{"$f":"IF(ISTEXT('Share Of Search Input'!B88),'Share Of Search Input'!B88,\"\")","v":""},"",{"$f":"IF(ISNUMBER('Share Of Search Input'!H88),'Share Of Search Input'!H88,\"\")","v":""}]
[{"$f":"IF(ISTEXT('Share Of Search Input'!A89),'Share Of Search Input'!A89,\"\")","v":""},{"$f":"IF(ISTEXT('Share Of Search Input'!B89),'Share Of Search Input'!B89,\"\")","v":""},"",{"$f":"IF(ISNUMBER('Share Of Search Input'!H89),'Share Of Search Input'!H89,\"\")","v":""}]
[{"$f":"IF(ISTEXT('Share Of Search Input'!A90),'Share Of Search Input'!A90,\"\")","v":""},{"$f":"IF(ISTEXT('Share Of Search Input'!B90),'Share Of Search Input'!B90,\"\")","v":""},"",{"$f":"IF(ISNUMBER('Share Of Search Input'!H90),'Share Of Search Input'!H90,\"\")","v":""}]
[{"$f":"IF(ISTEXT('Share Of Search Input'!A91),'Share Of Search Input'!A91,\"\")","v":""},{"$f":"IF(ISTEXT('Share Of Search Input'!B91),'Share Of Search Input'!B91,\"\")","v":""},"",{"$f":"IF(ISNUMBER('Share Of Search Input'!H91),'Share Of Search Input'!H91,\"\")","v":""}]
[{"$f":"IF(ISTEXT('Share Of Search Input'!A92),'Share Of Search Input'!A92,\"\")","v":""},{"$f":"IF(ISTEXT('Share Of Search Input'!B92),'Share Of Search Input'!B92,\"\")","v":""},"",{"$f":"IF(ISNUMBER('Share Of Search Input'!H92),'Share Of Search Input'!H92,\"\")","v":""}]
[{"$f":"IF(ISTEXT('Share Of Search Input'!A93),'Share Of Search Input'!A93,\"\")","v":""},{"$f":"IF(ISTEXT('Share Of Search Input'!B93),'Share Of Search Input'!B93,\"\")","v":""},"",{"$f":"IF(ISNUMBER('Share Of Search Input'!H93),'Share Of Search Input'!H93,\"\")","v":""}]
[{"$f":"IF(ISTEXT('Share Of Search Input'!A94),'Share Of Search Input'!A94,\"\")","v":""},{"$f":"IF(ISTEXT('Share Of Search Input'!B94),'Share Of Search Input'!B94,\"\")","v":""},"",{"$f":"IF(ISNUMBER('Share Of Search Input'!H94),'Share Of Search Input'!H94,\"\")","v":""}]
[{"$f":"IF(ISTEXT('Share Of Search Input'!A95),'Share Of Search Input'!A95,\"\")","v":""},{"$f":"IF(ISTEXT('Share Of Search Input'!B95),'Share Of Search Input'!B95,\"\")","v":""},"",{"$f":"IF(ISNUMBER('Share Of Search Input'!H95),'Share Of Search Input'!H95,\"\")","v":""}]
[{"$f":"IF(ISTEXT('Share Of Search Input'!A96),'Share Of Search Input'!A96,\"\")","v":""},{"$f":"IF(ISTEXT('Share Of Search Input'!B96),'Share Of Search Input'!B96,\"\")","v":""},"",{"$f":"IF(ISNUMBER('Share Of Search Input'!H96),'Share Of Search Input'!H96,\"\")","v":""}]
[{"$f":"IF(ISTEXT('Share Of Search Input'!A97),'Share Of Search Input'!A97,\"\")","v":""},{"$f":"IF(ISTEXT('Share Of Search Input'!B97),'Share Of Search Input'!B97,\"\")","v":""},"",{"$f":"IF(ISNUMBER('Share Of Search Input'!H97),'Share Of Search Input'!H97,\"\")","v":""}]
[{"$f":"IF(ISTEXT('Share Of Search Input'!A98),'Share Of Search Input'!A98,\"\")","v":""},{"$f":"IF(ISTEXT('Share Of Search Input'!B98),'Share Of Search Input'!B98,\"\")","v":""},"",{"$f":"IF(ISNUMBER('Share Of Search Input'!H98),'Share Of Search Input'!H98,\"\")","v":""}]
[{"$f":"IF(ISTEXT('Share Of Search Input'!A99),'Share Of Search Input'!A99,\"\")","v":""},{"$f":"IF(ISTEXT('Share Of Search Input'!B99),'Share Of Search Input'!B99,\"\")","v":""},"",{"$f":"IF(ISNUMBER('Share Of Search Input'!H99),'Share Of Search Input'!H99,\"\")","v":""}]
[{"$f":"IF(ISTEXT('Share Of Search Input'!A100),'Share Of Search Input'!A100,\"\")","v":""},{"$f":"IF(ISTEXT('Share Of Search Input'!B100),'Share Of Search Input'!B100,\"\")","v":""},"",{"$f":"IF(ISNUMBER('Share Of Search Input'!H100),'Share Of Search Input'!H100,\"\")","v":""}]
[{"$f":"IF(ISTEXT('Share Of Search Input'!A101),'Share Of Search Input'!A101,\"\")","v":""},{"$f":"IF(ISTEXT('Share Of Search Input'!B101),'Share Of Search Input'!B101,\"\")","v":""},"",{"$f":"IF(ISNUMBER('Share Of Search Input'!H101),'Share Of Search Input'!H101,\"\")","v":""}]
[{"$f":"IF(ISTEXT('Share Of Search Input'!A102),'Share Of Search Input'!A102,\"\")","v":""},{"$f":"IF(ISTEXT('Share Of Search Input'!B102),'Share Of Search Input'!B102,\"\")","v":""},"",{"$f":"IF(ISNUMBER('Share Of Search Input'!H102),'Share Of Search Input'!H102,\"\")","v":""}]
[{"$f":"IF(ISTEXT('Share Of Search Input'!A103),'Share Of Search Input'!A103,\"\")","v":""},{"$f":"IF(ISTEXT('Share Of Search Input'!B103),'Share Of Search Input'!B103,\"\")","v":""},"",{"$f":"IF(ISNUMBER('Share Of Search Input'!H103),'Share Of Search Input'!H103,\"\")","v":""}]
[{"$f":"IF(ISTEXT('Share Of Search Input'!A104),'Share Of Search Input'!A104,\"\")","v":""},{"$f":"IF(ISTEXT('Share Of Search Input'!B104),'Share Of Search Input'!B104,\"\")","v":""},"",{"$f":"IF(ISNUMBER('Share Of Search Input'!H104),'Share Of Search Input'!H104,\"\")","v":""}]
[{"$f":"IF(ISTEXT('Share Of Search Input'!A105),'Share Of Search Input'!A105,\"\")","v":""},{"$f":"IF(ISTEXT('Share Of Search Input'!B105),'Share Of Search Input'!B105,\"\")","v":""},"",{"$f":"IF(ISNUMBER('Share Of Search Input'!H105),'Share Of Search Input'!H105,\"\")","v":""}]
[{"$f":"IF(ISTEXT('Share Of Search Input'!A106),'Share Of Search Input'!A106,\"\")","v":""},{"$f":"IF(ISTEXT('Share Of Search Input'!B106),'Share Of Search Input'!B106,\"\")","v":""},"",{"$f":"IF(ISNUMBER('Share Of Search Input'!H106),'Share Of Search Input'!H106,\"\")","v":""}]
[{"$f":"IF(ISTEXT('Share Of Search Input'!A107),'Share Of Search Input'!A107,\"\")","v":""},{"$f":"IF(ISTEXT('Share Of Search Input'!B107),'Share Of Search Input'!B107,\"\")","v":""},"",{"$f":"IF(ISNUMBER('Share Of Search Input'!H107),'Share Of Search Input'!H107,\"\")","v":""}]
[{"$f":"IF(ISTEXT('Share Of Search Input'!A108),'Share Of Search Input'!A108,\"\")","v":""},{"$f":"IF(ISTEXT('Share Of Search Input'!B108),'Share Of Search Input'!B108,\"\")","v":""},"",{"$f":"IF(ISNUMBER('Share Of Search Input'!H108),'Share Of Search Input'!H108,\"\")","v":""}]
[{"$f":"IF(ISTEXT('Share Of Search Input'!A109),'Share Of Search Input'!A109,\"\")","v":""},{"$f":"IF(ISTEXT('Share Of Search Input'!B109),'Share Of Search Input'!B109,\"\")","v":""},"",{"$f":"IF(ISNUMBER('Share Of Search Input'!H109),'Share Of Search Input'!H109,\"\")","v":""}]
[{"$f":"IF(ISTEXT('Share Of Search Input'!A110),'Share Of Search Input'!A110,\"\")","v":""},{"$f":"IF(ISTEXT('Share Of Search Input'!B110),'Share Of Search Input'!B110,\"\")","v":""},"",{"$f":"IF(ISNUMBER('Share Of Search Input'!H110),'Share Of Search Input'!H110,\"\")","v":""}]
[{"$f":"IF(ISTEXT('Share Of Search Input'!A111),'Share Of Search Input'!A111,\"\")","v":""},{"$f":"IF(ISTEXT('Share Of Search Input'!B111),'Share Of Search Input'!B111,\"\")","v":""},"",{"$f":"IF(ISNUMBER('Share Of Search Input'!H111),'Share Of Search Input'!H111,\"\")","v":""}]
[{"$f":"IF(ISTEXT('Share Of Search Input'!A112),'Share Of Search Input'!A112,\"\")","v":""},{"$f":"IF(ISTEXT('Share Of Search Input'!B112),'Share Of Search Input'!B112,\"\")","v":""},"",{"$f":"IF(ISNUMBER('Share Of Search Input'!H112),'Share Of Search Input'!H112,\"\")","v":""}]
[{"$f":"IF(ISTEXT('Share Of Search Input'!A113),'Share Of Search Input'!A113,\"\")","v":""},{"$f":"IF(ISTEXT('Share Of Search Input'!B113),'Share Of Search Input'!B113,\"\")","v":""},"",{"$f":"IF(ISNUMBER('Share Of Search Input'!H113),'Share Of Search Input'!H113,\"\")","v":""}]
[{"$f":"IF(ISTEXT('Share Of Search Input'!A114),'Share Of Search Input'!A114,\"\")","v":""},{"$f":"IF(ISTEXT('Share Of Search Input'!B114),'Share Of Search Input'!B114,\"\")","v":""},"",{"$f":"IF(ISNUMBER('Share Of Search Input'!H114),'Share Of Search Input'!H114,\"\")","v":""}]
[{"$f":"IF(ISTEXT('Share Of Search Input'!A115),'Share Of Search Input'!A115,\"\")","v":""},{"$f":"IF(ISTEXT('Share Of Search Input'!B115),'Share Of Search Input'!B115,\"\")","v":""},"",{"$f":"IF(ISNUMBER('Share Of Search Input'!H115),'Share Of Search Input'!H115,\"\")","v":""}]
[{"$f":"IF(ISTEXT('Share Of Search Input'!A116),'Share Of Search Input'!A116,\"\")","v":""},{"$f":"IF(ISTEXT('Share Of Search Input'!B116),'Share Of Search Input'!B116,\"\")","v":""},"",{"$f":"IF(ISNUMBER('Share Of Search Input'!H116),'Share Of Search Input'!H116,\"\")","v":""}]
[{"$f":"IF(ISTEXT('Share Of Search Input'!A117),'Share Of Search Input'!A117,\"\")","v":""},{"$f":"IF(ISTEXT('Share Of Search Input'!B117),'Share Of Search Input'!B117,\"\")","v":""},"",{"$f":"IF(ISNUMBER('Share Of Search Input'!H117),'Share Of Search Input'!H117,\"\")","v":""}]
[{"$f":"IF(ISTEXT('Share Of Search Input'!A118),'Share Of Search Input'!A118,\"\")","v":""},{"$f":"IF(ISTEXT('Share Of Search Input'!B118),'Share Of Search Input'!B118,\"\")","v":""},"",{"$f":"IF(ISNUMBER('Share Of Search Input'!H118),'Share Of Search Input'!H118,\"\")","v":""}]
[{"$f":"IF(ISTEXT('Share Of Search Input'!A119),'Share Of Search Input'!A119,\"\")","v":""},{"$f":"IF(ISTEXT('Share Of Search Input'!B119),'Share Of Search Input'!B119,\"\")","v":""},"",{"$f":"IF(ISNUMBER('Share Of Search Input'!H119),'Share Of Search Input'!H119,\"\")","v":""}]
[{"$f":"IF(ISTEXT('Share Of Search Input'!A120),'Share Of Search Input'!A120,\"\")","v":""},{"$f":"IF(ISTEXT('Share Of Search Input'!B120),'Share Of Search Input'!B120,\"\")","v":""},"",{"$f":"IF(ISNUMBER('Share Of Search Input'!H120),'Share Of Search Input'!H120,\"\")","v":""}]
[{"$f":"IF(ISTEXT('Share Of Search Input'!A121),'Share Of Search Input'!A121,\"\")","v":""},{"$f":"IF(ISTEXT('Share Of Search Input'!B121),'Share Of Search Input'!B121,\"\")","v":""},"",{"$f":"IF(ISNUMBER('Share Of Search Input'!H121),'Share Of Search Input'!H121,\"\")","v":""}]
[{"$f":"IF(ISTEXT('Share Of Search Input'!A122),'Share Of Search Input'!A122,\"\")","v":""},{"$f":"IF(ISTEXT('Share Of Search Input'!B122),'Share Of Search Input'!B122,\"\")","v":""},"",{"$f":"IF(ISNUMBER('Share Of Search Input'!H122),'Share Of Search Input'!H122,\"\")","v":""}]
[{"$f":"IF(ISTEXT('Share Of Search Input'!A123),'Share Of Search Input'!A123,\"\")","v":""},{"$f":"IF(ISTEXT('Share Of Search Input'!B123),'Share Of Search Input'!B123,\"\")","v":""},"",{"$f":"IF(ISNUMBER('Share Of Search Input'!H123),'Share Of Search Input'!H123,\"\")","v":""}]
[{"$f":"IF(ISTEXT('Share Of Search Input'!A124),'Share Of Search Input'!A124,\"\")","v":""},{"$f":"IF(ISTEXT('Share Of Search Input'!B124),'Share Of Search Input'!B124,\"\")","v":""},"",{"$f":"IF(ISNUMBER('Share Of Search Input'!H124),'Share Of Search Input'!H124,\"\")","v":""}]
[{"$f":"IF(ISTEXT('Share Of Search Input'!A125),'Share Of Search Input'!A125,\"\")","v":""},{"$f":"IF(ISTEXT('Share Of Search Input'!B125),'Share Of Search Input'!B125,\"\")","v":""},"",{"$f":"IF(ISNUMBER('Share Of Search Input'!H125),'Share Of Search Input'!H125,\"\")","v":""}]
[{"$f":"IF(ISTEXT('Share Of Search Input'!A126),'Share Of Search Input'!A126,\"\")","v":""},{"$f":"IF(ISTEXT('Share Of Search Input'!B126),'Share Of Search Input'!B126,\"\")","v":""},"",{"$f":"IF(ISNUMBER('Share Of Search Input'!H126),'Share Of Search Input'!H126,\"\")","v":""}]
[{"$f":"IF(ISTEXT('Share Of Search Input'!A127),'Share Of Search Input'!A127,\"\")","v":""},{"$f":"IF(ISTEXT('Share Of Search Input'!B127),'Share Of Search Input'!B127,\"\")","v":""},"",{"$f":"IF(ISNUMBER('Share Of Search Input'!H127),'Share Of Search Input'!H127,\"\")","v":""}]
[{"$f":"IF(ISTEXT('Share Of Search Input'!A128),'Share Of Search Input'!A128,\"\")","v":""},{"$f":"IF(ISTEXT('Share Of Search Input'!B128),'Share Of Search Input'!B128,\"\")","v":""},"",{"$f":"IF(ISNUMBER('Share Of Search Input'!H128),'Share Of Search Input'!H128,\"\")","v":""}]
[{"$f":"IF(ISTEXT('Share Of Search Input'!A129),'Share Of Search Input'!A129,\"\")","v":""},{"$f":"IF(ISTEXT('Share Of Search Input'!B129),'Share Of Search Input'!B129,\"\")","v":""},{"$f":"A131&B131","v":""},{"$f":"IF(ISNUMBER('Share Of Search Input'!H129),'Share Of Search Input'!H129,\"\")","v":""}]
[{"$f":"IF(ISTEXT('Share Of Search Input'!A130),'Share Of Search Input'!A130,\"\")","v":""},{"$f":"IF(ISTEXT('Share Of Search Input'!B130),'Share Of Search Input'!B130,\"\")","v":""},"",{"$f":"IF(ISNUMBER('Share Of Search Input'!H130),'Share Of Search Input'!H130,\"\")","v":""}]
[{"$f":"IF(ISTEXT('Share Of Search Input'!A131),'Share Of Search Input'!A131,\"\")","v":""},{"$f":"IF(ISTEXT('Share Of Search Input'!B131),'Share Of Search Input'!B131,\"\")","v":""},"",{"$f":"IF(ISNUMBER('Share Of Search Input'!H131),'Share Of Search Input'!H131,\"\")","v":""}]
[{"$f":"IF(ISTEXT('Share Of Search Input'!A132),'Share Of Search Input'!A132,\"\")","v":""},{"$f":"IF(ISTEXT('Share Of Search Input'!B132),'Share Of Search Input'!B132,\"\")","v":""},"",{"$f":"IF(ISNUMBER('Share Of Search Input'!H132),'Share Of Search Input'!H132,\"\")","v":""}]
[{"$f":"IF(ISTEXT('Share Of Search Input'!A133),'Share Of Search Input'!A133,\"\")","v":""},{"$f":"IF(ISTEXT('Share Of Search Input'!B133),'Share Of Search Input'!B133,\"\")","v":""},"",{"$f":"IF(ISNUMBER('Share Of Search Input'!H133),'Share Of Search Input'!H133,\"\")","v":""}]
[{"$f":"IF(ISTEXT('Share Of Search Input'!A134),'Share Of Search Input'!A134,\"\")","v":""},{"$f":"IF(ISTEXT('Share Of Search Input'!B134),'Share Of Search Input'!B134,\"\")","v":""},"",{"$f":"IF(ISNUMBER('Share Of Search Input'!H134),'Share Of Search Input'!H134,\"\")","v":""}]
[{"$f":"IF(ISTEXT('Share Of Search Input'!A135),'Share Of Search Input'!A135,\"\")","v":""},{"$f":"IF(ISTEXT('Share Of Search Input'!B135),'Share Of Search Input'!B135,\"\")","v":""},"",{"$f":"IF(ISNUMBER('Share Of Search Input'!H135),'Share Of Search Input'!H135,\"\")","v":""}]
[{"$f":"IF(ISTEXT('Share Of Search Input'!A136),'Share Of Search Input'!A136,\"\")","v":""},{"$f":"IF(ISTEXT('Share Of Search Input'!B136),'Share Of Search Input'!B136,\"\")","v":""},"",{"$f":"IF(ISNUMBER('Share Of Search Input'!H136),'Share Of Search Input'!H136,\"\")","v":""}]
[{"$f":"IF(ISTEXT('Share Of Search Input'!A137),'Share Of Search Input'!A137,\"\")","v":""},{"$f":"IF(ISTEXT('Share Of Search Input'!B137),'Share Of Search Input'!B137,\"\")","v":""},"",{"$f":"IF(ISNUMBER('Share Of Search Input'!H137),'Share Of Search Input'!H137,\"\")","v":""}]
[{"$f":"IF(ISTEXT('Share Of Search Input'!A138),'Share Of Search Input'!A138,\"\")","v":""},{"$f":"IF(ISTEXT('Share Of Search Input'!B138),'Share Of Search Input'!B138,\"\")","v":""},"",{"$f":"IF(ISNUMBER('Share Of Search Input'!H138),'Share Of Search Input'!H138,\"\")","v":""}]
[{"$f":"IF(ISTEXT('Share Of Search Input'!A139),'Share Of Search Input'!A139,\"\")","v":""},{"$f":"IF(ISTEXT('Share Of Search Input'!B139),'Share Of Search Input'!B139,\"\")","v":""},"",{"$f":"IF(ISNUMBER('Share Of Search Input'!H139),'Share Of Search Input'!H139,\"\")","v":""}]
[{"$f":"IF(ISTEXT('Share Of Search Input'!A140),'Share Of Search Input'!A140,\"\")","v":""},{"$f":"IF(ISTEXT('Share Of Search Input'!B140),'Share Of Search Input'!B140,\"\")","v":""},"",{"$f":"IF(ISNUMBER('Share Of Search Input'!H140),'Share Of Search Input'!H140,\"\")","v":""}]
[{"$f":"IF(ISTEXT('Share Of Search Input'!A141),'Share Of Search Input'!A141,\"\")","v":""},{"$f":"IF(ISTEXT('Share Of Search Input'!B141),'Share Of Search Input'!B141,\"\")","v":""},"",{"$f":"IF(ISNUMBER('Share Of Search Input'!H141),'Share Of Search Input'!H141,\"\")","v":""}]
[{"$f":"IF(ISTEXT('Share Of Search Input'!A142),'Share Of Search Input'!A142,\"\")","v":""},{"$f":"IF(ISTEXT('Share Of Search Input'!B142),'Share Of Search Input'!B142,\"\")","v":""},"",{"$f":"IF(ISNUMBER('Share Of Search Input'!H142),'Share Of Search Input'!H142,\"\")","v":""}]
[{"$f":"IF(ISTEXT('Share Of Search Input'!A143),'Share Of Search Input'!A143,\"\")","v":""},{"$f":"IF(ISTEXT('Share Of Search Input'!B143),'Share Of Search Input'!B143,\"\")","v":""},"",{"$f":"IF(ISNUMBER('Share Of Search Input'!H143),'Share Of Search Input'!H143,\"\")","v":""}]
[{"$f":"IF(ISTEXT('Share Of Search Input'!A144),'Share Of Search Input'!A144,\"\")","v":""},{"$f":"IF(ISTEXT('Share Of Search Input'!B144),'Share Of Search Input'!B144,\"\")","v":""},"",{"$f":"IF(ISNUMBER('Share Of Search Input'!H144),'Share Of Search Input'!H144,\"\")","v":""}]
[{"$f":"IF(ISTEXT('Share Of Search Input'!A145),'Share Of Search Input'!A145,\"\")","v":""},{"$f":"IF(ISTEXT('Share Of Search Input'!B145),'Share Of Search Input'!B145,\"\")","v":""},"",{"$f":"IF(ISNUMBER('Share Of Search Input'!H145),'Share Of Search Input'!H145,\"\")","v":""}]
[{"$f":"IF(ISTEXT('Share Of Search Input'!A146),'Share Of Search Input'!A146,\"\")","v":""},{"$f":"IF(ISTEXT('Share Of Search Input'!B146),'Share Of Search Input'!B146,\"\")","v":""},"",{"$f":"IF(ISNUMBER('Share Of Search Input'!H146),'Share Of Search Input'!H146,\"\")","v":""}]
[{"$f":"IF(ISTEXT('Share Of Search Input'!A147),'Share Of Search Input'!A147,\"\")","v":""},{"$f":"IF(ISTEXT('Share Of Search Input'!B147),'Share Of Search Input'!B147,\"\")","v":""},"",{"$f":"IF(ISNUMBER('Share Of Search Input'!H147),'Share Of Search Input'!H147,\"\")","v":""}]
[{"$f":"IF(ISTEXT('Share Of Search Input'!A148),'Share Of Search Input'!A148,\"\")","v":""},{"$f":"IF(ISTEXT('Share Of Search Input'!B148),'Share Of Search Input'!B148,\"\")","v":""},"",{"$f":"IF(ISNUMBER('Share Of Search Input'!H148),'Share Of Search Input'!H148,\"\")","v":""}]
[{"$f":"IF(ISTEXT('Share Of Search Input'!A149),'Share Of Search Input'!A149,\"\")","v":""},{"$f":"IF(ISTEXT('Share Of Search Input'!B149),'Share Of Search Input'!B149,\"\")","v":""},"",{"$f":"IF(ISNUMBER('Share Of Search Input'!H149),'Share Of Search Input'!H149,\"\")","v":""}]
[{"$f":"IF(ISTEXT('Share Of Search Input'!A150),'Share Of Search Input'!A150,\"\")","v":""},{"$f":"IF(ISTEXT('Share Of Search Input'!B150),'Share Of Search Input'!B150,\"\")","v":""},"",{"$f":"IF(ISNUMBER('Share Of Search Input'!H150),'Share Of Search Input'!H150,\"\")","v":""}]
[{"$f":"IF(ISTEXT('Share Of Search Input'!A151),'Share Of Search Input'!A151,\"\")","v":""},{"$f":"IF(ISTEXT('Share Of Search Input'!B151),'Share Of Search Input'!B151,\"\")","v":""},"",{"$f":"IF(ISNUMBER('Share Of Search Input'!H151),'Share Of Search Input'!H151,\"\")","v":""}]
[{"$f":"IF(ISTEXT('Share Of Search Input'!A152),'Share Of Search Input'!A152,\"\")","v":""},{"$f":"IF(ISTEXT('Share Of Search Input'!B152),'Share Of Search Input'!B152,\"\")","v":""},"",{"$f":"IF(ISNUMBER('Share Of Search Input'!H152),'Share Of Search Input'!H152,\"\")","v":""}]
[{"$f":"IF(ISTEXT('Share Of Search Input'!A153),'Share Of Search Input'!A153,\"\")","v":""},{"$f":"IF(ISTEXT('Share Of Search Input'!B153),'Share Of Search Input'!B153,\"\")","v":""},"",{"$f":"IF(ISNUMBER('Share Of Search Input'!H153),'Share Of Search Input'!H153,\"\")","v":""}]
[{"$f":"IF(ISTEXT('Share Of Search Input'!A154),'Share Of Search Input'!A154,\"\")","v":""},{"$f":"IF(ISTEXT('Share Of Search Input'!B154),'Share Of Search Input'!B154,\"\")","v":""},"",{"$f":"IF(ISNUMBER('Share Of Search Input'!H154),'Share Of Search Input'!H154,\"\")","v":""}]
[{"$f":"IF(ISTEXT('Share Of Search Input'!A155),'Share Of Search Input'!A155,\"\")","v":""},{"$f":"IF(ISTEXT('Share Of Search Input'!B155),'Share Of Search Input'!B155,\"\")","v":""},"",{"$f":"IF(ISNUMBER('Share Of Search Input'!H155),'Share Of Search Input'!H155,\"\")","v":""}]
[{"$f":"IF(ISTEXT('Share Of Search Input'!A156),'Share Of Search Input'!A156,\"\")","v":""},{"$f":"IF(ISTEXT('Share Of Search Input'!B156),'Share Of Search Input'!B156,\"\")","v":""},"",{"$f":"IF(ISNUMBER('Share Of Search Input'!H156),'Share Of Search Input'!H156,\"\")","v":""}]
[{"$f":"IF(ISTEXT('Share Of Search Input'!A157),'Share Of Search Input'!A157,\"\")","v":""},{"$f":"IF(ISTEXT('Share Of Search Input'!B157),'Share Of Search Input'!B157,\"\")","v":""},"",{"$f":"IF(ISNUMBER('Share Of Search Input'!H157),'Share Of Search Input'!H157,\"\")","v":""}]
[{"$f":"IF(ISTEXT('Share Of Search Input'!A158),'Share Of Search Input'!A158,\"\")","v":""},{"$f":"IF(ISTEXT('Share Of Search Input'!B158),'Share Of Search Input'!B158,\"\")","v":""},"",{"$f":"IF(ISNUMBER('Share Of Search Input'!H158),'Share Of Search Input'!H158,\"\")","v":""}]
[{"$f":"IF(ISTEXT('Share Of Search Input'!A159),'Share Of Search Input'!A159,\"\")","v":""},{"$f":"IF(ISTEXT('Share Of Search Input'!B159),'Share Of Search Input'!B159,\"\")","v":""},"",{"$f":"IF(ISNUMBER('Share Of Search Input'!H159),'Share Of Search Input'!H159,\"\")","v":""}]
[{"$f":"IF(ISTEXT('Share Of Search Input'!A160),'Share Of Search Input'!A160,\"\")","v":""},{"$f":"IF(ISTEXT('Share Of Search Input'!B160),'Share Of Search Input'!B160,\"\")","v":""},"",{"$f":"IF(ISNUMBER('Share Of Search Input'!H160),'Share Of Search Input'!H160,\"\")","v":""}]
[{"$f":"IF(ISTEXT('Share Of Search Input'!A161),'Share Of Search Input'!A161,\"\")","v":""},{"$f":"IF(ISTEXT('Share Of Search Input'!B161),'Share Of Search Input'!B161,\"\")","v":""},"",{"$f":"IF(ISNUMBER('Share Of Search Input'!H161),'Share Of Search Input'!H161,\"\")","v":""}]
[{"$f":"IF(ISTEXT('Share Of Search Input'!A162),'Share Of Search Input'!A162,\"\")","v":""},{"$f":"IF(ISTEXT('Share Of Search Input'!B162),'Share Of Search Input'!B162,\"\")","v":""},"",{"$f":"IF(ISNUMBER('Share Of Search Input'!H162),'Share Of Search Input'!H162,\"\")","v":""}]
[{"$f":"IF(ISTEXT('Share Of Search Input'!A163),'Share Of Search Input'!A163,\"\")","v":""},{"$f":"IF(ISTEXT('Share Of Search Input'!B163),'Share Of Search Input'!B163,\"\")","v":""},"",{"$f":"IF(ISNUMBER('Share Of Search Input'!H163),'Share Of Search Input'!H163,\"\")","v":""}]
[{"$f":"IF(ISTEXT('Share Of Search Input'!A164),'Share Of Search Input'!A164,\"\")","v":""},{"$f":"IF(ISTEXT('Share Of Search Input'!B164),'Share Of Search Input'!B164,\"\")","v":""},"",{"$f":"IF(ISNUMBER('Share Of Search Input'!H164),'Share Of Search Input'!H164,\"\")","v":""}]
[{"$f":"IF(ISTEXT('Share Of Search Input'!A165),'Share Of Search Input'!A165,\"\")","v":""},{"$f":"IF(ISTEXT('Share Of Search Input'!B165),'Share Of Search Input'!B165,\"\")","v":""},"",{"$f":"IF(ISNUMBER('Share Of Search Input'!H165),'Share Of Search Input'!H165,\"\")","v":""}]
[{"$f":"IF(ISTEXT('Share Of Search Input'!A166),'Share Of Search Input'!A166,\"\")","v":""},{"$f":"IF(ISTEXT('Share Of Search Input'!B166),'Share Of Search Input'!B166,\"\")","v":""},"",{"$f":"IF(ISNUMBER('Share Of Search Input'!H166),'Share Of Search Input'!H166,\"\")","v":""}]
[{"$f":"IF(ISTEXT('Share Of Search Input'!A167),'Share Of Search Input'!A167,\"\")","v":""},{"$f":"IF(ISTEXT('Share Of Search Input'!B167),'Share Of Search Input'!B167,\"\")","v":""},"",{"$f":"IF(ISNUMBER('Share Of Search Input'!H167),'Share Of Search Input'!H167,\"\")","v":""}]
[{"$f":"IF(ISTEXT('Share Of Search Input'!A168),'Share Of Search Input'!A168,\"\")","v":""},{"$f":"IF(ISTEXT('Share Of Search Input'!B168),'Share Of Search Input'!B168,\"\")","v":""},"",{"$f":"IF(ISNUMBER('Share Of Search Input'!H168),'Share Of Search Input'!H168,\"\")","v":""}]
[{"$f":"IF(ISTEXT('Share Of Search Input'!A169),'Share Of Search Input'!A169,\"\")","v":""},{"$f":"IF(ISTEXT('Share Of Search Input'!B169),'Share Of Search Input'!B169,\"\")","v":""},"",{"$f":"IF(ISNUMBER('Share Of Search Input'!H169),'Share Of Search Input'!H169,\"\")","v":""}]
[{"$f":"IF(ISTEXT('Share Of Search Input'!A170),'Share Of Search Input'!A170,\"\")","v":""},{"$f":"IF(ISTEXT('Share Of Search Input'!B170),'Share Of Search Input'!B170,\"\")","v":""},"",{"$f":"IF(ISNUMBER('Share Of Search Input'!H170),'Share Of Search Input'!H170,\"\")","v":""}]
[{"$f":"IF(ISTEXT('Share Of Search Input'!A171),'Share Of Search Input'!A171,\"\")","v":""},{"$f":"IF(ISTEXT('Share Of Search Input'!B171),'Share Of Search Input'!B171,\"\")","v":""},"",{"$f":"IF(ISNUMBER('Share Of Search Input'!H171),'Share Of Search Input'!H171,\"\")","v":""}]
[{"$f":"IF(ISTEXT('Share Of Search Input'!A172),'Share Of Search Input'!A172,\"\")","v":""},{"$f":"IF(ISTEXT('Share Of Search Input'!B172),'Share Of Search Input'!B172,\"\")","v":""},"",{"$f":"IF(ISNUMBER('Share Of Search Input'!H172),'Share Of Search Input'!H172,\"\")","v":""}]
[{"$f":"IF(ISTEXT('Share Of Search Input'!A173),'Share Of Search Input'!A173,\"\")","v":""},{"$f":"IF(ISTEXT('Share Of Search Input'!B173),'Share Of Search Input'!B173,\"\")","v":""},"",{"$f":"IF(ISNUMBER('Share Of Search Input'!H173),'Share Of Search Input'!H173,\"\")","v":""}]
[{"$f":"IF(ISTEXT('Share Of Search Input'!A174),'Share Of Search Input'!A174,\"\")","v":""},{"$f":"IF(ISTEXT('Share Of Search Input'!B174),'Share Of Search Input'!B174,\"\")","v":""},"",{"$f":"IF(ISNUMBER('Share Of Search Input'!H174),'Share Of Search Input'!H174,\"\")","v":""}]
[{"$f":"IF(ISTEXT('Share Of Search Input'!A175),'Share Of Search Input'!A175,\"\")","v":""},{"$f":"IF(ISTEXT('Share Of Search Input'!B175),'Share Of Search Input'!B175,\"\")","v":""},"",{"$f":"IF(ISNUMBER('Share Of Search Input'!H175),'Share Of Search Input'!H175,\"\")","v":""}]
[{"$f":"IF(ISTEXT('Share Of Search Input'!A176),'Share Of Search Input'!A176,\"\")","v":""},{"$f":"IF(ISTEXT('Share Of Search Input'!B176),'Share Of Search Input'!B176,\"\")","v":""},"",{"$f":"IF(ISNUMBER('Share Of Search Input'!H176),'Share Of Search Input'!H176,\"\")","v":""}]
[{"$f":"IF(ISTEXT('Share Of Search Input'!A177),'Share Of Search Input'!A177,\"\")","v":""},{"$f":"IF(ISTEXT('Share Of Search Input'!B177),'Share Of Search Input'!B177,\"\")","v":""},"",{"$f":"IF(ISNUMBER('Share Of Search Input'!H177),'Share Of Search Input'!H177,\"\")","v":""}]
[{"$f":"IF(ISTEXT('Share Of Search Input'!A178),'Share Of Search Input'!A178,\"\")","v":""},{"$f":"IF(ISTEXT('Share Of Search Input'!B178),'Share Of Search Input'!B178,\"\")","v":""},"",{"$f":"IF(ISNUMBER('Share Of Search Input'!H178),'Share Of Search Input'!H178,\"\")","v":""}]
[{"$f":"IF(ISTEXT('Share Of Search Input'!A179),'Share Of Search Input'!A179,\"\")","v":""},{"$f":"IF(ISTEXT('Share Of Search Input'!B179),'Share Of Search Input'!B179,\"\")","v":""},"",{"$f":"IF(ISNUMBER('Share Of Search Input'!H179),'Share Of Search Input'!H179,\"\")","v":""}]
[{"$f":"IF(ISTEXT('Share Of Search Input'!A180),'Share Of Search Input'!A180,\"\")","v":""},{"$f":"IF(ISTEXT('Share Of Search Input'!B180),'Share Of Search Input'!B180,\"\")","v":""},"",{"$f":"IF(ISNUMBER('Share Of Search Input'!H180),'Share Of Search Input'!H180,\"\")","v":""}]
[{"$f":"IF(ISTEXT('Share Of Search Input'!A181),'Share Of Search Input'!A181,\"\")","v":""},{"$f":"IF(ISTEXT('Share Of Search Input'!B181),'Share Of Search Input'!B181,\"\")","v":""},"",{"$f":"IF(ISNUMBER('Share Of Search Input'!H181),'Share Of Search Input'!H181,\"\")","v":""}]
[{"$f":"IF(ISTEXT('Share Of Search Input'!A182),'Share Of Search Input'!A182,\"\")","v":""},{"$f":"IF(ISTEXT('Share Of Search Input'!B182),'Share Of Search Input'!B182,\"\")","v":""},"",{"$f":"IF(ISNUMBER('Share Of Search Input'!H182),'Share Of Search Input'!H182,\"\")","v":""}]
[{"$f":"IF(ISTEXT('Share Of Search Input'!A183),'Share Of Search Input'!A183,\"\")","v":""},{"$f":"IF(ISTEXT('Share Of Search Input'!B183),'Share Of Search Input'!B183,\"\")","v":""},"",{"$f":"IF(ISNUMBER('Share Of Search Input'!H183),'Share Of Search Input'!H183,\"\")","v":""}]
[{"$f":"IF(ISTEXT('Share Of Search Input'!A184),'Share Of Search Input'!A184,\"\")","v":""},{"$f":"IF(ISTEXT('Share Of Search Input'!B184),'Share Of Search Input'!B184,\"\")","v":""},"",{"$f":"IF(ISNUMBER('Share Of Search Input'!H184),'Share Of Search Input'!H184,\"\")","v":""}]
[{"$f":"IF(ISTEXT('Share Of Search Input'!A185),'Share Of Search Input'!A185,\"\")","v":""},{"$f":"IF(ISTEXT('Share Of Search Input'!B185),'Share Of Search Input'!B185,\"\")","v":""},"",{"$f":"IF(ISNUMBER('Share Of Search Input'!H185),'Share Of Search Input'!H185,\"\")","v":""}]
[{"$f":"IF(ISTEXT('Share Of Search Input'!A186),'Share Of Search Input'!A186,\"\")","v":""},{"$f":"IF(ISTEXT('Share Of Search Input'!B186),'Share Of Search Input'!B186,\"\")","v":""},"",{"$f":"IF(ISNUMBER('Share Of Search Input'!H186),'Share Of Search Input'!H186,\"\")","v":""}]
[{"$f":"IF(ISTEXT('Share Of Search Input'!A187),'Share Of Search Input'!A187,\"\")","v":""},{"$f":"IF(ISTEXT('Share Of Search Input'!B187),'Share Of Search Input'!B187,\"\")","v":""},"",{"$f":"IF(ISNUMBER('Share Of Search Input'!H187),'Share Of Search Input'!H187,\"\")","v":""}]
[{"$f":"IF(ISTEXT('Share Of Search Input'!A188),'Share Of Search Input'!A188,\"\")","v":""},{"$f":"IF(ISTEXT('Share Of Search Input'!B188),'Share Of Search Input'!B188,\"\")","v":""},"",{"$f":"IF(ISNUMBER('Share Of Search Input'!H188),'Share Of Search Input'!H188,\"\")","v":""}]
[{"$f":"IF(ISTEXT('Share Of Search Input'!A189),'Share Of Search Input'!A189,\"\")","v":""},{"$f":"IF(ISTEXT('Share Of Search Input'!B189),'Share Of Search Input'!B189,\"\")","v":""},"",{"$f":"IF(ISNUMBER('Share Of Search Input'!H189),'Share Of Search Input'!H189,\"\")","v":""}]
[{"$f":"IF(ISTEXT('Share Of Search Input'!A190),'Share Of Search Input'!A190,\"\")","v":""},{"$f":"IF(ISTEXT('Share Of Search Input'!B190),'Share Of Search Input'!B190,\"\")","v":""},"",{"$f":"IF(ISNUMBER('Share Of Search Input'!H190),'Share Of Search Input'!H190,\"\")","v":""}]
[{"$f":"IF(ISTEXT('Share Of Search Input'!A191),'Share Of Search Input'!A191,\"\")","v":""},{"$f":"IF(ISTEXT('Share Of Search Input'!B191),'Share Of Search Input'!B191,\"\")","v":""},"",{"$f":"IF(ISNUMBER('Share Of Search Input'!H191),'Share Of Search Input'!H191,\"\")","v":""}]
[{"$f":"IF(ISTEXT('Share Of Search Input'!A192),'Share Of Search Input'!A192,\"\")","v":""},{"$f":"IF(ISTEXT('Share Of Search Input'!B192),'Share Of Search Input'!B192,\"\")","v":""},"",{"$f":"IF(ISNUMBER('Share Of Search Input'!H192),'Share Of Search Input'!H192,\"\")","v":""}]
[{"$f":"IF(ISTEXT('Share Of Search Input'!A193),'Share Of Search Input'!A193,\"\")","v":""},{"$f":"IF(ISTEXT('Share Of Search Input'!B193),'Share Of Search Input'!B193,\"\")","v":""},{"$f":"A195&B195","v":""},{"$f":"IF(ISNUMBER('Share Of Search Input'!H193),'Share Of Search Input'!H193,\"\")","v":""}]
[{"$f":"IF(ISTEXT('Share Of Search Input'!A194),'Share Of Search Input'!A194,\"\")","v":""},{"$f":"IF(ISTEXT('Share Of Search Input'!B194),'Share Of Search Input'!B194,\"\")","v":""},"",{"$f":"IF(ISNUMBER('Share Of Search Input'!H194),'Share Of Search Input'!H194,\"\")","v":""}]
[{"$f":"IF(ISTEXT('Share Of Search Input'!A195),'Share Of Search Input'!A195,\"\")","v":""},{"$f":"IF(ISTEXT('Share Of Search Input'!B195),'Share Of Search Input'!B195,\"\")","v":""},"",{"$f":"IF(ISNUMBER('Share Of Search Input'!H195),'Share Of Search Input'!H195,\"\")","v":""}]
[{"$f":"IF(ISTEXT('Share Of Search Input'!A196),'Share Of Search Input'!A196,\"\")","v":""},{"$f":"IF(ISTEXT('Share Of Search Input'!B196),'Share Of Search Input'!B196,\"\")","v":""},"",{"$f":"IF(ISNUMBER('Share Of Search Input'!H196),'Share Of Search Input'!H196,\"\")","v":""}]
[{"$f":"IF(ISTEXT('Share Of Search Input'!A197),'Share Of Search Input'!A197,\"\")","v":""},{"$f":"IF(ISTEXT('Share Of Search Input'!B197),'Share Of Search Input'!B197,\"\")","v":""},"",{"$f":"IF(ISNUMBER('Share Of Search Input'!H197),'Share Of Search Input'!H197,\"\")","v":""}]
[{"$f":"IF(ISTEXT('Share Of Search Input'!A198),'Share Of Search Input'!A198,\"\")","v":""},{"$f":"IF(ISTEXT('Share Of Search Input'!B198),'Share Of Search Input'!B198,\"\")","v":""},"",{"$f":"IF(ISNUMBER('Share Of Search Input'!H198),'Share Of Search Input'!H198,\"\")","v":""}]
[{"$f":"IF(ISTEXT('Share Of Search Input'!A199),'Share Of Search Input'!A199,\"\")","v":""},{"$f":"IF(ISTEXT('Share Of Search Input'!B199),'Share Of Search Input'!B199,\"\")","v":""},"",{"$f":"IF(ISNUMBER('Share Of Search Input'!H199),'Share Of Search Input'!H199,\"\")","v":""}]
[{"$f":"IF(ISTEXT('Share Of Search Input'!A200),'Share Of Search Input'!A200,\"\")","v":""},{"$f":"IF(ISTEXT('Share Of Search Input'!B200),'Share Of Search Input'!B200,\"\")","v":""},"",{"$f":"IF(ISNUMBER('Share Of Search Input'!H200),'Share Of Search Input'!H200,\"\")","v":""}]
[{"$f":"IF(ISTEXT('Share Of Search Input'!A201),'Share Of Search Input'!A201,\"\")","v":""},{"$f":"IF(ISTEXT('Share Of Search Input'!B201),'Share Of Search Input'!B201,\"\")","v":""},"",{"$f":"IF(ISNUMBER('Share Of Search Input'!H201),'Share Of Search Input'!H201,\"\")","v":""}]
[{"$f":"IF(ISTEXT('Share Of Search Input'!A202),'Share Of Search Input'!A202,\"\")","v":""},{"$f":"IF(ISTEXT('Share Of Search Input'!B202),'Share Of Search Input'!B202,\"\")","v":""},"",{"$f":"IF(ISNUMBER('Share Of Search Input'!H202),'Share Of Search Input'!H202,\"\")","v":""}]
[{"$f":"IF(ISTEXT('Share Of Search Input'!A203),'Share Of Search Input'!A203,\"\")","v":""},{"$f":"IF(ISTEXT('Share Of Search Input'!B203),'Share Of Search Input'!B203,\"\")","v":""},"",{"$f":"IF(ISNUMBER('Share Of Search Input'!H203),'Share Of Search Input'!H203,\"\")","v":""}]
[{"$f":"IF(ISTEXT('Share Of Search Input'!A204),'Share Of Search Input'!A204,\"\")","v":""},{"$f":"IF(ISTEXT('Share Of Search Input'!B204),'Share Of Search Input'!B204,\"\")","v":""},"",{"$f":"IF(ISNUMBER('Share Of Search Input'!H204),'Share Of Search Input'!H204,\"\")","v":""}]
[{"$f":"IF(ISTEXT('Share Of Search Input'!A205),'Share Of Search Input'!A205,\"\")","v":""},{"$f":"IF(ISTEXT('Share Of Search Input'!B205),'Share Of Search Input'!B205,\"\")","v":""},"",{"$f":"IF(ISNUMBER('Share Of Search Input'!H205),'Share Of Search Input'!H205,\"\")","v":""}]
[{"$f":"IF(ISTEXT('Share Of Search Input'!A206),'Share Of Search Input'!A206,\"\")","v":""},{"$f":"IF(ISTEXT('Share Of Search Input'!B206),'Share Of Search Input'!B206,\"\")","v":""},"",{"$f":"IF(ISNUMBER('Share Of Search Input'!H206),'Share Of Search Input'!H206,\"\")","v":""}]
[{"$f":"IF(ISTEXT('Share Of Search Input'!A207),'Share Of Search Input'!A207,\"\")","v":""},{"$f":"IF(ISTEXT('Share Of Search Input'!B207),'Share Of Search Input'!B207,\"\")","v":""},"",{"$f":"IF(ISNUMBER('Share Of Search Input'!H207),'Share Of Search Input'!H207,\"\")","v":""}]
[{"$f":"IF(ISTEXT('Share Of Search Input'!A208),'Share Of Search Input'!A208,\"\")","v":""},{"$f":"IF(ISTEXT('Share Of Search Input'!B208),'Share Of Search Input'!B208,\"\")","v":""},"",{"$f":"IF(ISNUMBER('Share Of Search Input'!H208),'Share Of Search Input'!H208,\"\")","v":""}]
[{"$f":"IF(ISTEXT('Share Of Search Input'!A209),'Share Of Search Input'!A209,\"\")","v":""},{"$f":"IF(ISTEXT('Share Of Search Input'!B209),'Share Of Search Input'!B209,\"\")","v":""},"",{"$f":"IF(ISNUMBER('Share Of Search Input'!H209),'Share Of Search Input'!H209,\"\")","v":""}]
[{"$f":"IF(ISTEXT('Share Of Search Input'!A210),'Share Of Search Input'!A210,\"\")","v":""},{"$f":"IF(ISTEXT('Share Of Search Input'!B210),'Share Of Search Input'!B210,\"\")","v":""},"",{"$f":"IF(ISNUMBER('Share Of Search Input'!H210),'Share Of Search Input'!H210,\"\")","v":""}]
[{"$f":"IF(ISTEXT('Share Of Search Input'!A211),'Share Of Search Input'!A211,\"\")","v":""},{"$f":"IF(ISTEXT('Share Of Search Input'!B211),'Share Of Search Input'!B211,\"\")","v":""},"",{"$f":"IF(ISNUMBER('Share Of Search Input'!H211),'Share Of Search Input'!H211,\"\")","v":""}]
[{"$f":"IF(ISTEXT('Share Of Search Input'!A212),'Share Of Search Input'!A212,\"\")","v":""},{"$f":"IF(ISTEXT('Share Of Search Input'!B212),'Share Of Search Input'!B212,\"\")","v":""},"",{"$f":"IF(ISNUMBER('Share Of Search Input'!H212),'Share Of Search Input'!H212,\"\")","v":""}]
[{"$f":"IF(ISTEXT('Share Of Search Input'!A213),'Share Of Search Input'!A213,\"\")","v":""},{"$f":"IF(ISTEXT('Share Of Search Input'!B213),'Share Of Search Input'!B213,\"\")","v":""},"",{"$f":"IF(ISNUMBER('Share Of Search Input'!H213),'Share Of Search Input'!H213,\"\")","v":""}]
[{"$f":"IF(ISTEXT('Share Of Search Input'!A214),'Share Of Search Input'!A214,\"\")","v":""},{"$f":"IF(ISTEXT('Share Of Search Input'!B214),'Share Of Search Input'!B214,\"\")","v":""},"",{"$f":"IF(ISNUMBER('Share Of Search Input'!H214),'Share Of Search Input'!H214,\"\")","v":""}]
[{"$f":"IF(ISTEXT('Share Of Search Input'!A215),'Share Of Search Input'!A215,\"\")","v":""},{"$f":"IF(ISTEXT('Share Of Search Input'!B215),'Share Of Search Input'!B215,\"\")","v":""},"",{"$f":"IF(ISNUMBER('Share Of Search Input'!H215),'Share Of Search Input'!H215,\"\")","v":""}]
[{"$f":"IF(ISTEXT('Share Of Search Input'!A216),'Share Of Search Input'!A216,\"\")","v":""},{"$f":"IF(ISTEXT('Share Of Search Input'!B216),'Share Of Search Input'!B216,\"\")","v":""},"",{"$f":"IF(ISNUMBER('Share Of Search Input'!H216),'Share Of Search Input'!H216,\"\")","v":""}]
[{"$f":"IF(ISTEXT('Share Of Search Input'!A217),'Share Of Search Input'!A217,\"\")","v":""},{"$f":"IF(ISTEXT('Share Of Search Input'!B217),'Share Of Search Input'!B217,\"\")","v":""},"",{"$f":"IF(ISNUMBER('Share Of Search Input'!H217),'Share Of Search Input'!H217,\"\")","v":""}]
[{"$f":"IF(ISTEXT('Share Of Search Input'!A218),'Share Of Search Input'!A218,\"\")","v":""},{"$f":"IF(ISTEXT('Share Of Search Input'!B218),'Share Of Search Input'!B218,\"\")","v":""},"",{"$f":"IF(ISNUMBER('Share Of Search Input'!H218),'Share Of Search Input'!H218,\"\")","v":""}]
[{"$f":"IF(ISTEXT('Share Of Search Input'!A219),'Share Of Search Input'!A219,\"\")","v":""},{"$f":"IF(ISTEXT('Share Of Search Input'!B219),'Share Of Search Input'!B219,\"\")","v":""},"",{"$f":"IF(ISNUMBER('Share Of Search Input'!H219),'Share Of Search Input'!H219,\"\")","v":""}]
[{"$f":"IF(ISTEXT('Share Of Search Input'!A220),'Share Of Search Input'!A220,\"\")","v":""},{"$f":"IF(ISTEXT('Share Of Search Input'!B220),'Share Of Search Input'!B220,\"\")","v":""},"",{"$f":"IF(ISNUMBER('Share Of Search Input'!H220),'Share Of Search Input'!H220,\"\")","v":""}]
[{"$f":"IF(ISTEXT('Share Of Search Input'!A221),'Share Of Search Input'!A221,\"\")","v":""},{"$f":"IF(ISTEXT('Share Of Search Input'!B221),'Share Of Search Input'!B221,\"\")","v":""},"",{"$f":"IF(ISNUMBER('Share Of Search Input'!H221),'Share Of Search Input'!H221,\"\")","v":""}]
[{"$f":"IF(ISTEXT('Share Of Search Input'!A222),'Share Of Search Input'!A222,\"\")","v":""},{"$f":"IF(ISTEXT('Share Of Search Input'!B222),'Share Of Search Input'!B222,\"\")","v":""},"",{"$f":"IF(ISNUMBER('Share Of Search Input'!H222),'Share Of Search Input'!H222,\"\")","v":""}]
[{"$f":"IF(ISTEXT('Share Of Search Input'!A223),'Share Of Search Input'!A223,\"\")","v":""},{"$f":"IF(ISTEXT('Share Of Search Input'!B223),'Share Of Search Input'!B223,\"\")","v":""},"",{"$f":"IF(ISNUMBER('Share Of Search Input'!H223),'Share Of Search Input'!H223,\"\")","v":""}]
[{"$f":"IF(ISTEXT('Share Of Search Input'!A224),'Share Of Search Input'!A224,\"\")","v":""},{"$f":"IF(ISTEXT('Share Of Search Input'!B224),'Share Of Search Input'!B224,\"\")","v":""},"",{"$f":"IF(ISNUMBER('Share Of Search Input'!H224),'Share Of Search Input'!H224,\"\")","v":""}]
[{"$f":"IF(ISTEXT('Share Of Search Input'!A225),'Share Of Search Input'!A225,\"\")","v":""},{"$f":"IF(ISTEXT('Share Of Search Input'!B225),'Share Of Search Input'!B225,\"\")","v":""},"",{"$f":"IF(ISNUMBER('Share Of Search Input'!H225),'Share Of Search Input'!H225,\"\")","v":""}]
[{"$f":"IF(ISTEXT('Share Of Search Input'!A226),'Share Of Search Input'!A226,\"\")","v":""},{"$f":"IF(ISTEXT('Share Of Search Input'!B226),'Share Of Search Input'!B226,\"\")","v":""},"",{"$f":"IF(ISNUMBER('Share Of Search Input'!H226),'Share Of Search Input'!H226,\"\")","v":""}]
[{"$f":"IF(ISTEXT('Share Of Search Input'!A227),'Share Of Search Input'!A227,\"\")","v":""},{"$f":"IF(ISTEXT('Share Of Search Input'!B227),'Share Of Search Input'!B227,\"\")","v":""},"",{"$f":"IF(ISNUMBER('Share Of Search Input'!H227),'Share Of Search Input'!H227,\"\")","v":""}]
[{"$f":"IF(ISTEXT('Share Of Search Input'!A228),'Share Of Search Input'!A228,\"\")","v":""},{"$f":"IF(ISTEXT('Share Of Search Input'!B228),'Share Of Search Input'!B228,\"\")","v":""},"",{"$f":"IF(ISNUMBER('Share Of Search Input'!H228),'Share Of Search Input'!H228,\"\")","v":""}]
[{"$f":"IF(ISTEXT('Share Of Search Input'!A229),'Share Of Search Input'!A229,\"\")","v":""},{"$f":"IF(ISTEXT('Share Of Search Input'!B229),'Share Of Search Input'!B229,\"\")","v":""},"",{"$f":"IF(ISNUMBER('Share Of Search Input'!H229),'Share Of Search Input'!H229,\"\")","v":""}]
[{"$f":"IF(ISTEXT('Share Of Search Input'!A230),'Share Of Search Input'!A230,\"\")","v":""},{"$f":"IF(ISTEXT('Share Of Search Input'!B230),'Share Of Search Input'!B230,\"\")","v":""},"",{"$f":"IF(ISNUMBER('Share Of Search Input'!H230),'Share Of Search Input'!H230,\"\")","v":""}]
[{"$f":"IF(ISTEXT('Share Of Search Input'!A231),'Share Of Search Input'!A231,\"\")","v":""},{"$f":"IF(ISTEXT('Share Of Search Input'!B231),'Share Of Search Input'!B231,\"\")","v":""},"",{"$f":"IF(ISNUMBER('Share Of Search Input'!H231),'Share Of Search Input'!H231,\"\")","v":""}]
[{"$f":"IF(ISTEXT('Share Of Search Input'!A232),'Share Of Search Input'!A232,\"\")","v":""},{"$f":"IF(ISTEXT('Share Of Search Input'!B232),'Share Of Search Input'!B232,\"\")","v":""},"",{"$f":"IF(ISNUMBER('Share Of Search Input'!H232),'Share Of Search Input'!H232,\"\")","v":""}]
[{"$f":"IF(ISTEXT('Share Of Search Input'!A233),'Share Of Search Input'!A233,\"\")","v":""},{"$f":"IF(ISTEXT('Share Of Search Input'!B233),'Share Of Search Input'!B233,\"\")","v":""},"",{"$f":"IF(ISNUMBER('Share Of Search Input'!H233),'Share Of Search Input'!H233,\"\")","v":""}]
[{"$f":"IF(ISTEXT('Share Of Search Input'!A234),'Share Of Search Input'!A234,\"\")","v":""},{"$f":"IF(ISTEXT('Share Of Search Input'!B234),'Share Of Search Input'!B234,\"\")","v":""},"",{"$f":"IF(ISNUMBER('Share Of Search Input'!H234),'Share Of Search Input'!H234,\"\")","v":""}]
[{"$f":"IF(ISTEXT('Share Of Search Input'!A235),'Share Of Search Input'!A235,\"\")","v":""},{"$f":"IF(ISTEXT('Share Of Search Input'!B235),'Share Of Search Input'!B235,\"\")","v":""},"",{"$f":"IF(ISNUMBER('Share Of Search Input'!H235),'Share Of Search Input'!H235,\"\")","v":""}]
[{"$f":"IF(ISTEXT('Share Of Search Input'!A236),'Share Of Search Input'!A236,\"\")","v":""},{"$f":"IF(ISTEXT('Share Of Search Input'!B236),'Share Of Search Input'!B236,\"\")","v":""},"",{"$f":"IF(ISNUMBER('Share Of Search Input'!H236),'Share Of Search Input'!H236,\"\")","v":""}]
[{"$f":"IF(ISTEXT('Share Of Search Input'!A237),'Share Of Search Input'!A237,\"\")","v":""},{"$f":"IF(ISTEXT('Share Of Search Input'!B237),'Share Of Search Input'!B237,\"\")","v":""},"",{"$f":"IF(ISNUMBER('Share Of Search Input'!H237),'Share Of Search Input'!H237,\"\")","v":""}]
[{"$f":"IF(ISTEXT('Share Of Search Input'!A238),'Share Of Search Input'!A238,\"\")","v":""},{"$f":"IF(ISTEXT('Share Of Search Input'!B238),'Share Of Search Input'!B238,\"\")","v":""},"",{"$f":"IF(ISNUMBER('Share Of Search Input'!H238),'Share Of Search Input'!H238,\"\")","v":""}]
[{"$f":"IF(ISTEXT('Share Of Search Input'!A239),'Share Of Search Input'!A239,\"\")","v":""},{"$f":"IF(ISTEXT('Share Of Search Input'!B239),'Share Of Search Input'!B239,\"\")","v":""},"",{"$f":"IF(ISNUMBER('Share Of Search Input'!H239),'Share Of Search Input'!H239,\"\")","v":""}]
[{"$f":"IF(ISTEXT('Share Of Search Input'!A240),'Share Of Search Input'!A240,\"\")","v":""},{"$f":"IF(ISTEXT('Share Of Search Input'!B240),'Share Of Search Input'!B240,\"\")","v":""},"",{"$f":"IF(ISNUMBER('Share Of Search Input'!H240),'Share Of Search Input'!H240,\"\")","v":""}]
[{"$f":"IF(ISTEXT('Share Of Search Input'!A241),'Share Of Search Input'!A241,\"\")","v":""},{"$f":"IF(ISTEXT('Share Of Search Input'!B241),'Share Of Search Input'!B241,\"\")","v":""},"",{"$f":"IF(ISNUMBER('Share Of Search Input'!H241),'Share Of Search Input'!H241,\"\")","v":""}]
[{"$f":"IF(ISTEXT('Share Of Search Input'!A242),'Share Of Search Input'!A242,\"\")","v":""},{"$f":"IF(ISTEXT('Share Of Search Input'!B242),'Share Of Search Input'!B242,\"\")","v":""},"",{"$f":"IF(ISNUMBER('Share Of Search Input'!H242),'Share Of Search Input'!H242,\"\")","v":""}]
[{"$f":"IF(ISTEXT('Share Of Search Input'!A243),'Share Of Search Input'!A243,\"\")","v":""},{"$f":"IF(ISTEXT('Share Of Search Input'!B243),'Share Of Search Input'!B243,\"\")","v":""},"",{"$f":"IF(ISNUMBER('Share Of Search Input'!H243),'Share Of Search Input'!H243,\"\")","v":""}]
[{"$f":"IF(ISTEXT('Share Of Search Input'!A244),'Share Of Search Input'!A244,\"\")","v":""},{"$f":"IF(ISTEXT('Share Of Search Input'!B244),'Share Of Search Input'!B244,\"\")","v":""},"",{"$f":"IF(ISNUMBER('Share Of Search Input'!H244),'Share Of Search Input'!H244,\"\")","v":""}]
[{"$f":"IF(ISTEXT('Share Of Search Input'!A245),'Share Of Search Input'!A245,\"\")","v":""},{"$f":"IF(ISTEXT('Share Of Search Input'!B245),'Share Of Search Input'!B245,\"\")","v":""},"",{"$f":"IF(ISNUMBER('Share Of Search Input'!H245),'Share Of Search Input'!H245,\"\")","v":""}]
[{"$f":"IF(ISTEXT('Share Of Search Input'!A246),'Share Of Search Input'!A246,\"\")","v":""},{"$f":"IF(ISTEXT('Share Of Search Input'!B246),'Share Of Search Input'!B246,\"\")","v":""},"",{"$f":"IF(ISNUMBER('Share Of Search Input'!H246),'Share Of Search Input'!H246,\"\")","v":""}]
[{"$f":"IF(ISTEXT('Share Of Search Input'!A247),'Share Of Search Input'!A247,\"\")","v":""},{"$f":"IF(ISTEXT('Share Of Search Input'!B247),'Share Of Search Input'!B247,\"\")","v":""},"",{"$f":"IF(ISNUMBER('Share Of Search Input'!H247),'Share Of Search Input'!H247,\"\")","v":""}]
[{"$f":"IF(ISTEXT('Share Of Search Input'!A248),'Share Of Search Input'!A248,\"\")","v":""},{"$f":"IF(ISTEXT('Share Of Search Input'!B248),'Share Of Search Input'!B248,\"\")","v":""},"",{"$f":"IF(ISNUMBER('Share Of Search Input'!H248),'Share Of Search Input'!H248,\"\")","v":""}]
[{"$f":"IF(ISTEXT('Share Of Search Input'!A249),'Share Of Search Input'!A249,\"\")","v":""},{"$f":"IF(ISTEXT('Share Of Search Input'!B249),'Share Of Search Input'!B249,\"\")","v":""},"",{"$f":"IF(ISNUMBER('Share Of Search Input'!H249),'Share Of Search Input'!H249,\"\")","v":""}]
[{"$f":"IF(ISTEXT('Share Of Search Input'!A250),'Share Of Search Input'!A250,\"\")","v":""},{"$f":"IF(ISTEXT('Share Of Search Input'!B250),'Share Of Search Input'!B250,\"\")","v":""},"",{"$f":"IF(ISNUMBER('Share Of Search Input'!H250),'Share Of Search Input'!H250,\"\")","v":""}]
[{"$f":"IF(ISTEXT('Share Of Search Input'!A251),'Share Of Search Input'!A251,\"\")","v":""},{"$f":"IF(ISTEXT('Share Of Search Input'!B251),'Share Of Search Input'!B251,\"\")","v":""},"",{"$f":"IF(ISNUMBER('Share Of Search Input'!H251),'Share Of Search Input'!H251,\"\")","v":""}]
[{"$f":"IF(ISTEXT('Share Of Search Input'!A252),'Share Of Search Input'!A252,\"\")","v":""},{"$f":"IF(ISTEXT('Share Of Search Input'!B252),'Share Of Search Input'!B252,\"\")","v":""},"",{"$f":"IF(ISNUMBER('Share Of Search Input'!H252),'Share Of Search Input'!H252,\"\")","v":""}]
[{"$f":"IF(ISTEXT('Share Of Search Input'!A253),'Share Of Search Input'!A253,\"\")","v":""},{"$f":"IF(ISTEXT('Share Of Search Input'!B253),'Share Of Search Input'!B253,\"\")","v":""},"",{"$f":"IF(ISNUMBER('Share Of Search Input'!H253),'Share Of Search Input'!H253,\"\")","v":""}]
[{"$f":"IF(ISTEXT('Share Of Search Input'!A254),'Share Of Search Input'!A254,\"\")","v":""},{"$f":"IF(ISTEXT('Share Of Search Input'!B254),'Share Of Search Input'!B254,\"\")","v":""},"",{"$f":"IF(ISNUMBER('Share Of Search Input'!H254),'Share Of Search Input'!H254,\"\")","v":""}]
[{"$f":"IF(ISTEXT('Share Of Search Input'!A255),'Share Of Search Input'!A255,\"\")","v":""},{"$f":"IF(ISTEXT('Share Of Search Input'!B255),'Share Of Search Input'!B255,\"\")","v":""},"",{"$f":"IF(ISNUMBER('Share Of Search Input'!H255),'Share Of Search Input'!H255,\"\")","v":""}]
[{"$f":"IF(ISTEXT('Share Of Search Input'!A256),'Share Of Search Input'!A256,\"\")","v":""},{"$f":"IF(ISTEXT('Share Of Search Input'!B256),'Share Of Search Input'!B256,\"\")","v":""},"",{"$f":"IF(ISNUMBER('Share Of Search Input'!H256),'Share Of Search Input'!H256,\"\")","v":""}]
[{"$f":"IF(ISTEXT('Share Of Search Input'!A257),'Share Of Search Input'!A257,\"\")","v":""},{"$f":"IF(ISTEXT('Share Of Search Input'!B257),'Share Of Search Input'!B257,\"\")","v":""},{"$f":"A259&B259","v":""},{"$f":"IF(ISNUMBER('Share Of Search Input'!H257),'Share Of Search Input'!H257,\"\")","v":""}]
[{"$f":"IF(ISTEXT('Share Of Search Input'!A258),'Share Of Search Input'!A258,\"\")","v":""},{"$f":"IF(ISTEXT('Share Of Search Input'!B258),'Share Of Search Input'!B258,\"\")","v":""},"",{"$f":"IF(ISNUMBER('Share Of Search Input'!H258),'Share Of Search Input'!H258,\"\")","v":""}]
[{"$f":"IF(ISTEXT('Share Of Search Input'!A259),'Share Of Search Input'!A259,\"\")","v":""},{"$f":"IF(ISTEXT('Share Of Search Input'!B259),'Share Of Search Input'!B259,\"\")","v":""},"",{"$f":"IF(ISNUMBER('Share Of Search Input'!H259),'Share Of Search Input'!H259,\"\")","v":""}]
[{"$f":"IF(ISTEXT('Share Of Search Input'!A260),'Share Of Search Input'!A260,\"\")","v":""},{"$f":"IF(ISTEXT('Share Of Search Input'!B260),'Share Of Search Input'!B260,\"\")","v":""},"",{"$f":"IF(ISNUMBER('Share Of Search Input'!H260),'Share Of Search Input'!H260,\"\")","v":""}]
[{"$f":"IF(ISTEXT('Share Of Search Input'!A261),'Share Of Search Input'!A261,\"\")","v":""},{"$f":"IF(ISTEXT('Share Of Search Input'!B261),'Share Of Search Input'!B261,\"\")","v":""},"",{"$f":"IF(ISNUMBER('Share Of Search Input'!H261),'Share Of Search Input'!H261,\"\")","v":""}]

{"sheet":"Data validation","index":13,"n_rows":13,"n_cols":10,"rows_kept":13,"cut":false,"hidden":true,"merged":[]}
["SEMrush markets","SEM domain Sortings","Majestic Database","Linkplanner datatype","yes/no","AnchortextMode","FilterAnchorTextMode","SEMrush compeitors sorts","ScrapeMethod","Display positions"]
["all","traffic ascending","Fresh","Links","Yes","Anchors","No","commom keywords","HTTP Request","new"]
["us","traffic descending","Historic","Domains","No","Refering domains","Exact","competitor relevance","Internet Explorer","lost"]
["uk","position ascending",null,null,null,"Backlinks","Phrase",null,"Internet Explorer Invisible","rise"]
["ca","position descending",null,null,null,null,null,null,null,"fall"]
["ru","traffic cost ascending",null,null,null,null,null,null,null,"current"]
["de","traffic cost descending"]
["fr"]
["es"]
["it"]
["br"]
["au"]
["us.bing"]

{"sheet":"tests","index":14,"n_rows":0,"n_cols":0,"rows_kept":0,"cut":false,"hidden":true,"merged":[]}